{"text_format":"1","workbook":"xlsx","n_sheets":19,"sheets":["抽選会資料","大会要項","記入用紙 (例)","記入用紙","MCM資料","累積警告・退場","組合せ抽選用","予選リーグ","予選リーグ (2)","予選リーグ公式記録(Bコート北)","予選リーグ公式記録(Bコート南)","予選リーグ公式記録(県協会人工芝北)","予選リーグ公式記録(県協会人工芝南)","決勝トーナメント","決勝T公式記録","決勝公式記録 No,33","項目","選手名簿","審判員"],"not_rendered":{"charts":0,"images":2,"macros":1,"external_links":0,"defined_names":12,"comments":0,"pivot_tables":0},"unopened":[],"bounds":{"document_bytes":16777216,"sheet_cells":100000,"rows_first":2000,"rows_last":500,"rows_between":2000,"halvings":0,"cell_chars":16384,"cell_head_chars":4096},"cells_cut":0,"cells_raw":0,"read":"whole","date_system":"1900"}

{"sheet":"抽選会資料","index":0,"n_rows":45,"n_cols":12,"rows_kept":45,"cut":false,"hidden":false,"merged":[[42,1,42,6],[43,1,43,6],[44,1,44,6],[42,7,42,11],[43,7,43,11],[44,7,44,11],[0,9,0,11],[0,0,0,8],[17,7,18,7],[10,0,20,0],[13,7,14,7],[10,7,12,7],[15,7,16,7]]}
[{"$f":"大会要項!B2","v":"第10回 全日本不動産協会杯争奪U-12サッカー大会【ラビットカップ】大分県大会"},null,null,null,null,null,null,null,null,"抽選会"]
[]
["１．",{"$f":"大会要項!D36","v":"日時:2021年6月20日（日）　18:00～"}]
[]
["２．",{"$f":"大会要項!D37","v":"場所:Web会議にて各地域委員長立ち合いの下行う。"}]
[]
["３．","参加チーム",24,"チーム"]
[]
["Aブロック（フリー）",null,null,null,null,null,null,"Bブロック（奇数）"]
["地　　区","チーム名","申込","参加料","出欠",null,null,"地　　区","チーム名","申込","参加料","出欠"]
["大分","明野西ＪＦＣ","○","○","-",null,null,"中津","Ｓｈｙｎｔ　ＦＣ","○","○","-"]
[null,"寒田少年サッカークラブ","○","○","-",null,null,null,"ＦＣ中津ジュニア","○","○","-"]
[null,"金池長浜サッカースポーツ少年団","○","○","-",null,null,null,"鶴居ＳＳＳ","○","○","-"]
[null,"リノスフットボールクラブ　Ｕ－１２","○","○","-",null,null,"速杵国東","八坂少年サッカークラブ","○","○","-"]
[null,"大分トリニータＵ－１２","○","○","-",null,null,null,"ＯＫＹ山香サッカークラブ","○","○","-"]
[null,"明治北ＳＳＣ","○","○","-",null,null,"別府","スマイス・セレソン","○","○","-"]
[null,"判田サッカースポーツ少年団","○","○","-",null,null,null,"朝日ＦＣ","○","○","-"]
[null,"カティオーラフットボールクラブＵ－１２","○","○","-",null,null,"日田/玖珠","ＦＣアリアーレ","○","○","-"]
[null,"荏隈サッカースポーツ少年団","○","○","-",null,null,null,"太陽スポーツクラブ大分西","○","○","-"]
[null,"北郡坂ノ市サッカースポーツ少年団","○","○","-",null,null,"宇佐高田","四日市南ＳＳＣ","○","○","-"]
[null,"ドリームキッズフットボールクラブエフシー","○","○","-",null,null,"佐伯","鶴岡Ｓ―ｐｌａｙ・ＭＩＮＡＭＩ","○","○","-"]
[null,null,null,null,null,null,null,"豊肥","ＦＣ大野","○","○","-"]
[null,null,null,null,null,null,null,"臼杵/津久見","市浜レッドソックス","○","○","-"]
[]
["４．会議次第"]
["　①ジュニア委員長あいさつ"]
["　②要項の確認"]
["　③審判部より"]
["　　・大会１日目（予選リーグ）は、帯同審判員を（３級以上）チームで帯同する。"]
["　　　※出場チームにて責任を持って準備する事。"]
["　④質問、諸注意"]
["　⑤抽選"]
[]
["５．その他"]
["　　①選手証/指導者資格証/審判資格証を、持参のこと。"]
["　　②領収証は、｢振込みの際の領収証」にかえさせていただきます。"]
["　　③大会期間中は、「駐車証」を」車内に表示すること。"]
["　　④各会場にて、各パートの第1試合開始70分前に、各パートのマッチコーディネーションミーティング(MCM)を、3チーム同時に行います。"]
["       チーム代表者は必ずユニホームを持参(FP/GKの正副全て現物を。写真等不可。)にて参加願います。"]
["　　⑤コロナウイルス感染防止のため、必要事項を記入した参加者名簿を大会当日に大会本部まで提出すること。"]
[]
["６．試合会場"]
[null,"会場",null,null,null,null,null,"住所"]
["県協会人工芝","大分県ｻｯｶｰ協会人工芝ｸﾞﾗｳﾝﾄﾞ",null,null,null,null,null,"大分市大字松岡6841番地"]
["サブB","大分ｽﾎﾟｰﾂ公園昭和電工ｻｯｶｰ･ﾗｸﾞﾋﾞｰ場　Bｺｰﾄ",null,null,null,null,null,"大分市大字松岡6841番地"]

{"sheet":"大会要項","index":1,"n_rows":69,"n_cols":9,"rows_kept":69,"cut":false,"hidden":false,"merged":[[56,2,56,9],[48,2,48,9],[49,2,49,9],[50,2,50,9],[53,2,53,9],[55,2,55,9],[51,2,51,9],[52,2,52,9],[54,2,54,9],[68,2,68,9],[62,2,62,9],[59,2,59,9],[60,2,60,9],[57,2,57,9],[58,2,58,9],[63,2,63,9],[64,2,64,9],[65,2,65,9],[66,2,66,9],[67,2,67,9],[0,8,0,9],[0,0,0,7],[61,2,61,9],[47,2,47,9],[38,2,38,9],[39,2,39,9],[40,2,40,9],[41,2,41,9],[42,2,42,9],[43,2,43,9],[44,2,44,9],[45,2,45,9],[46,2,46,9],[16,2,16,9],[17,2,17,9],[37,2,37,9],[1,1,1,9],[2,1,2,9],[3,1,3,9],[4,1,4,9],[18,2,18,9],[7,1,7,9],[8,1,8,9],[9,2,9,9],[10,2,10,9],[11,2,11,9],[12,2,12,9],[13,2,13,9],[14,2,14,9],[15,2,15,9],[34,4,34,9],[20,2,20,9],[6,1,6,9],[29,3,29,9],[25,2,25,9],[26,2,26,9],[27,2,27,9],[28,2,28,9],[30,3,30,9],[19,2,19,9],[21,2,21,9],[22,2,22,9],[23,2,23,9],[24,2,24,9]]}
[{"$f":"B2","v":"第10回 全日本不動産協会杯争奪U-12サッカー大会【ラビットカップ】大分県大会"},null,null,null,null,null,null,null,"実施要項（案）"]
["（１）名　　  称","第10回 全日本不動産協会杯争奪U-12サッカー大会【ラビットカップ】大分県大会"]
["（２）主　　  催","一般社団法人大分県サッカー協会"]
["（３）主　  　管","（一社）大分県サッカー協会ジュニア委員会　"]
["（４）特別協賛","公益社団法人全日本不動産協会大分県本部"]
["（５）協　　　賛","（株）モルテン"]
["（６）後　　  援","大分合同新聞社，OBS大分放送局，TOSテレビ大分，OAB大分朝日放送，NHK大分放送局，エフエム大分"]
["（７）期　　  日","2021年（令和3年）7月3日（土）・7月4日（日）"]
["（８）会　　  場","大分スポーツ公園 昭和電工サッカー・ラグビー場Bコート、\n大分県サッカー協会人工芝グラウンド"]
["（９）参加資格","①","2021年（令和3年）度大分県サッカー協会に加盟登録された各地区代表チームであること。"]
[null,"②","大会実施年度に大分県サッカー協会に加盟登録(第4種)されたチームであること。"]
[null,"③","参加の申し込みは，監督1名を含む引率指導者5名，選手16名までとする。\n引率指導者の中に，最低1名以上，日本サッカー協会公認D級以上の指導者資格を有する者が居ること。\n（大会には資格証を持参すること。）"]
[null,"④","複数チームの出場を認めるが、同じ選手が違うチームで出場できない。その際，それぞれのチームに別々の指導者が帯同すること。同じ指導者がチームにまたがって登録することはできない。"]
[null,"⑤","スポーツ傷害保険に必ず加入していること。"]
[null,"⑥","各チームの指導者は，できるだけ多くの選手の出場機会を確保するよう努めるものとする。"]
["（10）試合方法 ","①","各地区予選を勝ち上がった24チームを8パートに分け、予選リーグを行う。予選リーグ各パート1位の8チーム\nにより決勝トーナメントを行い、優勝・準優勝・3位チームを決定する。　"]
[null,null,"予選リーグは、その試合時間を40分（20-10-20）とし、その試合結果により、最上位のチームが\n決勝トーナメントへ出場する。"]
[null,"②","予選リーグの順位の決定は、Ⅰ勝点（勝3点　分け1点　負0点）　Ⅱ当該チームの戦績　Ⅲ得失点差　\nⅣ多得点　Ⅴ抽選の順とする。勝点が同点になった場合の順位決定方法は、\n［Ⅰ当該チームの戦績、Ⅱ得失点差、Ⅲ総得点、Ⅳ抽選 ］とする。"]
[null,"③","決勝トーナメントは、試合時間を30分（15-5-15）とし、勝敗の決しないときは3人制のPK戦を行う。\nただし、決勝戦のみ10分（5分-5分）の延長戦を行い、それでも勝敗が決しない場合3人制のPK戦を行う。"]
[null,"④","登録できる交代要員および交代の最大人数は8名とし，交代して退いた競技者は交代要員となり，再び出場することができる。交代の回数は制限されない。交代は，ボールがインプレー中，アウトオブプレー中にかかわらず行うことができ，チームの指導者，もしくは選手は「第4審」に交代選手の番号を口頭で報告し，用具チェックを受けた後，交代ゾーンから行う。ただし，交代で退く競技者が負傷している場合は，主審の承認を得た上でどこからフィールドを離れてもよい。また，GKが交代する場合はアウトプレー時に主審を通じ行う。\n※交代ゾーン＝ベンチ側のハーフウェイラインを挟んで3mずつ6mの範囲"]
[null,"⑤","ベンチスタッフは、大会申込のスタッフ情報に申請した1名以上3名以内とし、内1名は\nJFA公認指導者ライセンスを有する事。"]
["　　　　　　　　","⑥","審判は、主審1名、副審2名　第4審の4人制とし、予選リーグにおいては、相互審判割り当て制とする。\n決勝トーナメントにおいては、本部対応とする。各試合にマッチコミッショナーを置き，\n決勝トーナメントは、ウェルフェアオフィサーも置く。\n"]
[null,"⑦","審判員は、試合開始前にベンチの選手を含めた登録全選手の用具の確認を行う。"]
[null,"⑧","試合球は4号検定球とし、予選リーグにおいては、各チームの持ち寄りとする。決勝トーナメントにおいては、本部で準備する。"]
[null,"⑨","試合規則は、「2020‐21年度日本サッカー協会 8人制サッカー競技規則」に準じる。"]
[null,"⑩","競技場の大きさは，縦68m・横50mとする。センターサークル半径7m・ゴールエリア4m・ペナルティ\nエリア12m・ペナルティマーク8m・アーク7m とし、少年用ゴールを使用する。"]
[null,"⑪","大会期間中、累計2回の警告または、退場及び退席を宣告された選手等は次回戦1試合に出場できず、それ以降の処置については本大会の規律・フェアプレー委員会で決定する。\n（累積は、地区大会→予選リーグ→決勝トーナメントと持ち越す。）\n"]
[null,"⑫","大会中，天候によっては主審の判断で「飲水タイム」をとることもある。また、雷雨など，試合の続行が不可能だと判断される場合、中断他、大会本部にて協議・判断し、臨機応変な対応をとる。\n※ピッチサイドにスクイズボトル等は置かない。飲料のボトルは個人専用のものを使用し、共用しない。\n"]
[null,"⑬","大会期間中は、大分県協会所属有資格者（3級以上）の審判を必ず1名以上帯同させ、\n審判員（主審・副審）は、審判服を着用の上、必ず資格ワッペンを付けること。"]
["（11）参加方法","①","申込先 "," KICK OFF(JFA ID)の大会(大会への参加申込)より申込願います(地区大会兼用)。\n締め切り=4/18（日） 21:00（パンフレット作製用）\n選手変更期限=4/28（水） 21:00  ※以降の変更は認めない。"]
[null,null,null,"ジュニア委員会HPに掲載している【大会エントリーガイド】を必ず確認し、対応をお願いします。"]
["　　　　","②","参加料　","10，000円　","※県大会の参加費振り込み期限は6/30（水）15時までとする"]
[null,null,null,"【振込先】　","大分銀行　大分銀行　南支店　普通　7537028　※振込は必ずチーム名で行う　"]
[null,null,null,null,"一般社団法人　大分県サッカー協会　代表理事　大場俊二"]
[null,null,null,null,"[イッパンシャダンホウジン　オオイタケンサッカーキョウカイ　ダイヒョウリジ　オオバシュンジ]"]
[null,"③","抽選会","日時:2021年6月20日（日）　18:00～"]
[null,null,null,"場所:Web会議にて各地域委員長立ち合いの下行う。"]
[null,null,"※修正及び変更手続きについては、Web大会参加申込の問い合わせ先まで連絡の事。"]
[]
["（12）そ  の  他","①","同じ選手が、違うチームで登録及び出場はできない。\n移籍選手含め、4月28日までに選手登録及び移籍手続きが完了し、WEBエントリー申請ができることとする。\n加えて、年間を通じて同じチームで活動するチームであることとする。"]
[null,"②","大会期間中は、常に選手証及び指導者資格証、審判資格証、もしくはそれぞれの電子証/電子証の写しを携帯し、必要に応じて提示すること。指導者資格のない指導者は本人確認できる証書（運転免許証など）を提示すること。"]
[null,"③","マッチコーディネーションミーティング（MCM）は、予選リーグの各パート第1試合開始70分前(9:20 or 10:20)に、3チーム同時に行い、決勝トーナメントでは、各チーム第1試合の70分前に行うものとする。以降は、次回戦進出チームのみ試合終了後にMCMを行う。その際、チーム代表者は、必ず選手証・指導者資格証及びユニフォームを持参（FP/GKの正副全て現物で確認。写真等不可。）すること。また、大会参加申込書（エントリー表）を本部より受け取り、各試合毎に1部作成し、本部に提出すること。コロナウィルス感染防止のため、ユニフォームの決定等できるだけ簡素に行う。各チームの指導者は事前に配布する資料を確認し、本部の指示に従うこと。"]
[null,"④","試合開始10分前までに選手証・指導者証と本人の確認を本部にて完了しておくこと。"]
["　　　　　　　　","⑤","ユニフォーム（ソックスも含む）は、正・副ですべて異色のものを用意（厳守）し、どちらとも背・胸番号は選手本人と一致すること。"]
[null,null,"※番号は胸と背中に必ず明記する事とし、パンツの前面にもあるのが望ましい。"]
[null,null,"※番号は1～16までの通し番号とするのが望ましい。"]
[null,null,"※シャツの色彩は、審判員が通常着用する黒色と明確に判別し得るものでなければならない。"]
[null,null,"※ユニホームの下にアンダーシャツを着用する際は、チームで統一されたものである事。"]
[null,null,"※アンダーショーツおよびタイツは、同一チームの競技者が着用する場合、同色のものとする。"]
[null,null,"※広告表示については、ユニホーム規定により承認された場合のみ認める。"]
[null,null,"※JFA規約 ユニホームの既定 第5条（7）その他②に明記されているとおり、「チームは，各国代表チーム\n　及びプロクラブチームのレプリカを着用して公式競技会に出場することはできない」こととする。"]
[null,"⑥","出場選手の保護者の承諾は、必ず取り付けておくこと。"]
[null,"⑦","応援のマナーや会場の清掃については、各チームにおいて責任を持つこと。"]
[null,null,"○戦術的指示はテクニカルエリア内からその都度ただ1人の引率指導者が伝えることができる。"]
[null,null,"○特に、相手チーム・審判に対する誹謗・中傷は固く禁じる。"]
[null,null,"○チームは本部席側に椅子を置いてベンチを設定し、グラウンドを挟んで後援会等の応援席とすること。"]
[null,null,"○大会会場への入場は、指導者3名　選手16名、保護者8名までとし、観戦は自チームの試合のみとする。"]
[null,null,"○駐車場における椅子を置くなどの場所取りは絶対にしないこと。（撤去し本部で預かります）"]
[null,null,"○駐車証には必ずチーム名を明記し、駐車時はダッシュボード上などはっきりと見える場所に掲示すること。"]
[null,null,"○駐車場内外における駐車のトラブルについて、大会本部はその責任を一切負わない。"]
[null,"⑧","「個人情報保護法案」の趣旨に沿って、個人情報を取り扱う。\n大会登録書は、本大会においてプログラム及び事務局とチーム間の連絡手段、選手チェックに利用し、漏洩のないように万全の管理を行う。チーム代表者は以下の点を確認の上、申し込むこととし、名簿が提出された時点で選手及び保護者が同意されたものとして取り扱う。"]
[null,null,"（1）個人情報を大分県サッカー協会ジュニア委員会に提出し、標記大会に出場することに同意する。"]
[null,null,"（2）提出した名簿をジュニア委員会がチームとの連絡、及び選手チェックに利用することに同意する。"]
[null,null,"(3)提出した名簿をラビットカップの大会冊子に掲載すること、また試合中の写真を次回大会冊子に\n    掲載することに同意する。"]
[null,"⑨","本大会中、その他に記載されている事項を含め、大会規律違反と見なされる行為があった場合には、\n当該チームに厳重注意を行うとともに、その程度によっては大会本部にて規律委員会を開き、大会の\n出場取り消しを含め、ペナルティを科することもある。"]
[null,"⑩","開会式・閉会式は、行わない。　準決勝終了後、3位チームの表彰、決勝終了後、優勝・準優勝チームの表彰を対象チーム、関係者のみで行う。"]
[null,"⑪","流行性疾病、感染症等の事情により大会に出場できなくなった場合は速やかに大会事務局に連絡す\nる事。なお、チームが不参加の場合でも審判割当の責任は果たす事とする。"]
[null,"⑫","コロナウイルス感染防止のため、必要事項を記入した参加者名簿を大会当日に大会本部まで提出すること。\n大会参加に際し、大会開催時において感染者が出た場合は体調管理のためのチェックシートの提出を求め\nる場合があることを了承し、チーム責任者が速やかに対応できるように準備しておくこと。特に、換気の悪い場所に留まらない（密閉を避け）、多数の人が集まらない（密集を避け）、間近での会話・発声を行わない（密接を避け）を守り、会場での手洗い（消毒）、　うがいを選手に指示、励行すること。保護者等応援する方についてはマスクの着用をお願いいたします。各会場とも芝（ピッチ）の上からの応援はご遠慮ください。また、密にならないよう間隔を十分にとるなど感染対策にご協力ください。"]
[null,"⑬","事務手続き簡素化のため，大会組合せ・日程等の連絡は，大分県サッカー協会HPで行う。\n\n"]

{"sheet":"記入用紙 (例)","index":2,"n_rows":59,"n_cols":45,"rows_kept":59,"cut":false,"hidden":true,"merged":[[3,1,3,5],[3,6,3,15],[3,16,3,18],[3,19,3,20],[3,22,3,24],[3,26,3,28],[0,1,0,28],[1,1,1,5],[1,6,1,15],[1,16,1,18],[1,27,1,28],[2,1,2,5],[2,6,2,15],[2,16,2,18],[2,19,2,28],[7,2,7,12],[7,13,7,14],[7,15,7,16],[7,17,7,18],[7,19,7,20],[7,21,7,24],[5,1,6,12],[5,13,5,14],[5,15,5,20],[5,21,5,28],[6,13,6,14],[6,15,6,16],[6,17,6,18],[6,19,6,20],[6,21,6,25],[6,26,6,28],[9,2,9,12],[9,13,9,14],[9,15,9,16],[9,17,9,18],[9,19,9,20],[9,21,9,24],[8,2,8,12],[8,13,8,14],[8,15,8,16],[8,17,8,18],[8,19,8,20],[8,21,8,24],[11,2,11,12],[11,13,11,14],[11,15,11,16],[11,17,11,18],[11,19,11,20],[11,21,11,24],[10,2,10,12],[10,13,10,14],[10,15,10,16],[10,17,10,18],[10,19,10,20],[10,21,10,24],[13,2,13,12],[13,13,13,14],[13,15,13,16],[13,17,13,18],[13,19,13,20],[13,21,13,24],[12,2,12,12],[12,13,12,14],[12,15,12,16],[12,17,12,18],[12,19,12,20],[12,21,12,24],[15,2,15,12],[15,13,15,14],[15,15,15,16],[15,17,15,18],[15,19,15,20],[15,21,15,24],[14,2,14,12],[14,13,14,14],[14,15,14,16],[14,17,14,18],[14,19,14,20],[14,21,14,24],[17,2,17,12],[17,13,17,14],[17,15,17,16],[17,17,17,18],[17,19,17,20],[17,21,17,24],[16,2,16,12],[16,13,16,14],[16,15,16,16],[16,17,16,18],[16,19,16,20],[16,21,16,24],[19,2,19,12],[19,13,19,14],[19,15,19,16],[19,17,19,18],[19,19,19,20],[19,21,19,24],[18,2,18,12],[18,13,18,14],[18,15,18,16],[18,17,18,18],[18,19,18,20],[18,21,18,24],[21,2,21,12],[21,13,21,14],[21,15,21,16],[21,17,21,18],[21,19,21,20],[21,21,21,24],[20,2,20,12],[20,13,20,14],[20,15,20,16],[20,17,20,18],[20,19,20,20],[20,21,20,24],[23,2,23,12],[23,13,23,14],[23,15,23,16],[23,17,23,18],[23,19,23,20],[23,21,23,24],[22,2,22,12],[22,13,22,14],[22,15,22,16],[22,17,22,18],[22,19,22,20],[22,21,22,24],[25,2,25,12],[25,13,25,14],[25,15,25,16],[25,17,25,18],[25,19,25,20],[25,21,25,24],[24,2,24,12],[24,13,24,14],[24,15,24,16],[24,17,24,18],[24,19,24,20],[24,21,24,24],[27,2,27,12],[27,13,27,14],[27,15,27,16],[27,17,27,18],[27,19,27,20],[27,21,27,24],[26,2,26,12],[26,13,26,14],[26,15,26,16],[26,17,26,18],[26,19,26,20],[26,21,26,24],[29,2,29,12],[29,13,29,14],[29,15,29,16],[29,17,29,18],[29,19,29,20],[29,21,29,24],[28,2,28,12],[28,13,28,14],[28,15,28,16],[28,17,28,18],[28,19,28,20],[28,21,28,24],[31,2,31,12],[31,13,31,14],[31,15,31,16],[31,17,31,18],[31,19,31,20],[31,21,31,24],[30,2,30,12],[30,13,30,14],[30,15,30,16],[30,17,30,18],[30,19,30,20],[30,21,30,24],[33,2,33,12],[33,13,33,14],[33,15,33,16],[33,17,33,18],[33,19,33,20],[33,21,33,24],[32,2,32,12],[32,13,32,14],[32,15,32,16],[32,17,32,18],[32,19,32,20],[32,21,32,24],[35,2,35,12],[35,13,35,14],[35,15,35,16],[35,17,35,18],[35,19,35,20],[35,21,35,24],[34,2,34,12],[34,13,34,14],[34,15,34,16],[34,17,34,18],[34,19,34,20],[34,21,34,24],[37,2,37,12],[37,13,37,14],[37,15,37,16],[37,17,37,18],[37,19,37,20],[37,21,37,24],[36,2,36,12],[36,13,36,14],[36,15,36,16],[36,17,36,18],[36,19,36,20],[36,21,36,24],[39,2,39,12],[39,13,39,14],[39,15,39,16],[39,17,39,18],[39,19,39,20],[39,21,39,24],[38,2,38,12],[38,13,38,14],[38,15,38,16],[38,17,38,18],[38,19,38,20],[38,21,38,24],[41,2,41,12],[41,13,41,14],[41,15,41,16],[41,17,41,18],[41,19,41,20],[41,21,41,24],[40,2,40,12],[40,13,40,14],[40,15,40,16],[40,17,40,18],[40,19,40,20],[40,21,40,24],[43,2,43,12],[43,13,43,14],[43,15,43,16],[43,17,43,18],[43,19,43,20],[43,21,43,24],[42,2,42,12],[42,13,42,14],[42,15,42,16],[42,17,42,18],[42,19,42,20],[42,21,42,24],[45,2,45,12],[45,13,45,14],[45,15,45,16],[45,17,45,18],[45,19,45,20],[45,21,45,24],[44,2,44,12],[44,13,44,14],[44,15,44,16],[44,17,44,18],[44,19,44,20],[44,21,44,24],[47,1,47,3],[47,4,47,28],[48,1,48,28],[46,2,46,12],[46,13,46,14],[46,15,46,16],[46,17,46,18],[46,19,46,20],[46,21,46,24]]}
[null,"各種大会参加者名簿（※新型コロナウイルス感染予防対策のため、必ず本部へ提出願います。）",null,null,null,null,null,null,null,null,null,null,null,null,null,null,null,null,null,null,null,null,null,null,null,null,null,null,null,null,null,null,null,null,null,null,null,null,"チーム名＿漢字","大会","年","月","日","曜","会場"]
[null,"チーム名",null,null,null,null,"大分JFC",null,null,null,null,null,null,null,null,null,"期日",null,null,"R",2,"年",12,"月",5,"日","土","曜日",null,null,null,null,null,null,null,null,null,null,"明野北フットボールクラブ","OFA U10/11リーグ",1,1,1,"月","大在東グラウンド"]
[null,"大会名",null,null,null,null,"OFA U-11サッカー選手権県大会",null,null,null,null,null,null,null,null,null,"会場",null,null,"大分SP",null,null,null,null,null,null,null,null,null,null,null,null,null,null,null,null,null,null,"明野西ＪＦＣ","OFA U12リーグ",2,2,2,"火","西部グラウンド"]
[null,"感染対策責任者",null,null,null,null,"大分一郎",null,null,null,null,null,null,null,null,null,"電話番号",null,null,"090",null,"-","0123",null,null,"-","0123",null,null,null,null,null,null,null,null,null,null,null,"明野東サッカースポーツ少年団","キッズリーグ",3,3,3,"水","七瀬川グラウンド"]
[null,null,null,null,null,null,null,null,null,null,null,null,null,null,null,null,null,null,null,null,null,null,null,null,null,null,null,null,null,null,null,null,null,null,null,null,null,null,"アトレチコエラン横瀬","ラビットカップ地区大会",4,4,4,"木","南大分SP"]
[null,"氏　　名",null,null,null,null,null,null,null,null,null,null,null,"学年",null,"参加者種別　※○印チェック",null,null,null,null,null,"当日の健康状態確認　※○印チェック",null,null,null,null,null,null,null,null,null,null,null,null,null,null,null,null,"ａｎｉｍｏｓｅｌｅｃｔ　ｆｏｏｔｂａｌｌ　ｃｌｕｂ　Ｕ－１２","ラビットカップ県大会",5,5,5,"金","上原グラウンド"]
[null,null,null,null,null,null,null,null,null,null,null,null,null,"(選手のみ)",null,"指導者",null,"選手",null,"保護者",null,"検温結果",null,null,null,null,"体調",null,null,null,null,null,null,null,null,null,null,null,"ヴィンクラッソ大分ＦＣジュニア","バーモントカップ",6,6,6,"土","日岡グラウンド"]
[null,1,"大分一郎",null,null,null,null,null,null,null,null,null,null,null,null,"○",null,null,null,null,null,36.5,null,null,null,"℃","良好","／","不良",null,null,null,null,null,null,null,null,null,"ヴェルスパ大分　Ｕ－１２","OFA U-11サッカー選手権地区大会",7,7,7,"日","駄原球技場"]
[null,2,"福岡二郎",null,null,null,null,null,null,null,null,null,null,5,null,null,null,"○",null,null,null,36.200000000000003,null,null,null,"℃","良好","／","不良",null,null,null,null,null,null,null,null,null,"荏隈サッカースポーツ少年団","OFA U-11サッカー選手権県大会",8,8,8,null,"野津原天空広場グラウンド"]
[null,3,"宮崎三男",null,null,null,null,null,null,null,null,null,null,6,null,null,null,"○",null,null,null,36.5,null,null,null,"℃","良好","／","不良",null,null,null,null,null,null,null,null,null,"MSS","全日本 U-12サッカー選手権地区大会",9,9,9,null,"大分SP"]
[null,4,"長崎四男",null,null,null,null,null,null,null,null,null,null,6,null,null,null,null,null,null,null,null,null,null,null,"℃","良好","／","不良",null,null,null,null,null,null,null,null,null,"ＦＣ　ＲＥＧＡＴＥ","全日本 U-12サッカー選手権県大会",10,10,10,null,"〔　　　　　　　　　　　　　　〕小学校グラウンド"]
[null,5,"福岡五子",null,null,null,null,null,null,null,null,null,null,null,null,null,null,null,null,"○",null,36.200000000000003,null,null,null,"℃","良好","／","不良",null,null,null,null,null,null,null,null,null,"大分トリニータＵ－１２","忠文堂杯",11,11,11,null,"鶴崎河川敷"]
[null,6,null,null,null,null,null,null,null,null,null,null,null,null,null,null,null,null,null,null,null,null,null,null,null,"℃","良好","／","不良",null,null,null,null,null,null,null,null,null,"大分トリニータタートルズ","九州ジュニア地区大会",12,12,12,null,"その他〔　　　　　　　　　　　　　　　　　　　　　　　　〕"]
[null,7,null,null,null,null,null,null,null,null,null,null,null,null,null,null,null,null,null,null,null,null,null,null,null,"℃","良好","／","不良",null,null,null,null,null,null,null,null,null,"大在サッカースポーツ少年団","九州ジュニア県大会",13,null,13]
[null,8,null,null,null,null,null,null,null,null,null,null,null,null,null,null,null,null,null,null,null,null,null,null,null,"℃","良好","／","不良",null,null,null,null,null,null,null,null,null,"大道サッカースポーツ少年団","だいしんカップ",14,null,14]
[null,9,null,null,null,null,null,null,null,null,null,null,null,null,null,null,null,null,null,null,null,null,null,null,null,"℃","良好","／","不良",null,null,null,null,null,null,null,null,null,"鴛野サッカースポーツ少年団","トレセン大会〔　　　　　　　　　　　　　　　　　　　　　〕",15,null,15]
[null,10,null,null,null,null,null,null,null,null,null,null,null,null,null,null,null,null,null,null,null,null,null,null,null,"℃","良好","／","不良",null,null,null,null,null,null,null,null,null,"賀来ジュニアサッカークラブ","U9スポ少リーグ",null,null,16]
[null,11,null,null,null,null,null,null,null,null,null,null,null,null,null,null,null,null,null,null,null,null,null,null,null,"℃","良好","／","不良",null,null,null,null,null,null,null,null,null,"春日ＳＳＳ","U10スポ少リーグ",null,null,17]
[null,12,null,null,null,null,null,null,null,null,null,null,null,null,null,null,null,null,null,null,null,null,null,null,null,"℃","良好","／","不良",null,null,null,null,null,null,null,null,null,"カティオーラフットボールクラブＵ－１２","U11スポ少リーグ",null,null,18]
[null,13,null,null,null,null,null,null,null,null,null,null,null,null,null,null,null,null,null,null,null,null,null,null,null,"℃","良好","／","不良",null,null,null,null,null,null,null,null,null,"カティオーラフットボールクラブ（高城）","スポ少新人戦",null,null,19]
[null,14,null,null,null,null,null,null,null,null,null,null,null,null,null,null,null,null,null,null,null,null,null,null,null,"℃","良好","／","不良",null,null,null,null,null,null,null,null,null,"カティオーラフットボールクラブ（松岡）","その他〔　　　　　　　　　　　　　　　　　　　　　　　　〕",null,null,20]
[null,15,null,null,null,null,null,null,null,null,null,null,null,null,null,null,null,null,null,null,null,null,null,null,null,"℃","良好","／","不良",null,null,null,null,null,null,null,null,null,"カティオーラフットボールクラブ（大在）",null,null,null,21]
[null,16,null,null,null,null,null,null,null,null,null,null,null,null,null,null,null,null,null,null,null,null,null,null,null,"℃","良好","／","不良",null,null,null,null,null,null,null,null,null,"金池長浜サッカースポーツ少年団",null,null,null,22]
[null,17,null,null,null,null,null,null,null,null,null,null,null,null,null,null,null,null,null,null,null,null,null,null,null,"℃","良好","／","不良",null,null,null,null,null,null,null,null,null,"ＫＩＮＧＳ　ＦＯＯＴＢＡＬＬＣＬＵＢ　Ｕ－１２",null,null,null,23]
[null,18,null,null,null,null,null,null,null,null,null,null,null,null,null,null,null,null,null,null,null,null,null,null,null,"℃","良好","／","不良",null,null,null,null,null,null,null,null,null,"敷戸サッカースポーツ少年団",null,null,null,24]
[null,19,null,null,null,null,null,null,null,null,null,null,null,null,null,null,null,null,null,null,null,null,null,null,null,"℃","良好","／","不良",null,null,null,null,null,null,null,null,null,"城東サッカースポーツ少年団",null,null,null,25]
[null,20,null,null,null,null,null,null,null,null,null,null,null,null,null,null,null,null,null,null,null,null,null,null,null,"℃","良好","／","不良",null,null,null,null,null,null,null,null,null,"城南サッカースポーツ少年団",null,null,null,26]
[null,21,null,null,null,null,null,null,null,null,null,null,null,null,null,null,null,null,null,null,null,null,null,null,null,"℃","良好","／","不良",null,null,null,null,null,null,null,null,null,"スマイス　セレソン　スポーツクラブ",null,null,null,27]
[null,22,null,null,null,null,null,null,null,null,null,null,null,null,null,null,null,null,null,null,null,null,null,null,null,"℃","良好","／","不良",null,null,null,null,null,null,null,null,null,"碩田サッカースポーツ少年団",null,null,null,28]
[null,23,null,null,null,null,null,null,null,null,null,null,null,null,null,null,null,null,null,null,null,null,null,null,null,"℃","良好","／","不良",null,null,null,null,null,null,null,null,null,"寒田少年サッカークラブ",null,null,null,29]
[null,24,null,null,null,null,null,null,null,null,null,null,null,null,null,null,null,null,null,null,null,null,null,null,null,"℃","良好","／","不良",null,null,null,null,null,null,null,null,null,"滝尾下郡サッカースポーツ少年団",null,null,null,30]
[null,25,null,null,null,null,null,null,null,null,null,null,null,null,null,null,null,null,null,null,null,null,null,null,null,"℃","良好","／","不良",null,null,null,null,null,null,null,null,null,"田尻サッカースポーツ少年団",null,null,null,31]
[null,26,null,null,null,null,null,null,null,null,null,null,null,null,null,null,null,null,null,null,null,null,null,null,null,"℃","良好","／","不良",null,null,null,null,null,null,null,null,null,"鶴崎ＳＳＳ"]
[null,27,null,null,null,null,null,null,null,null,null,null,null,null,null,null,null,null,null,null,null,null,null,null,null,"℃","良好","／","不良",null,null,null,null,null,null,null,null,null,"東陽フットボールクラブ"]
[null,28,null,null,null,null,null,null,null,null,null,null,null,null,null,null,null,null,null,null,null,null,null,null,null,"℃","良好","／","不良",null,null,null,null,null,null,null,null,null,"ドリームキッズフットボールクラブ"]
[null,29,null,null,null,null,null,null,null,null,null,null,null,null,null,null,null,null,null,null,null,null,null,null,null,"℃","良好","／","不良",null,null,null,null,null,null,null,null,null,"西の台ＪＦＣ"]
[null,30,null,null,null,null,null,null,null,null,null,null,null,null,null,null,null,null,null,null,null,null,null,null,null,"℃","良好","／","不良",null,null,null,null,null,null,null,null,null,"挾間ＪＦＣ"]
[null,31,null,null,null,null,null,null,null,null,null,null,null,null,null,null,null,null,null,null,null,null,null,null,null,"℃","良好","／","不良",null,null,null,null,null,null,null,null,null,"判田サッカースポーツ少年団"]
[null,32,null,null,null,null,null,null,null,null,null,null,null,null,null,null,null,null,null,null,null,null,null,null,null,"℃","良好","／","不良",null,null,null,null,null,null,null,null,null,"日岡サッカースポーツ少年団"]
[null,33,null,null,null,null,null,null,null,null,null,null,null,null,null,null,null,null,null,null,null,null,null,null,null,"℃","良好","／","不良",null,null,null,null,null,null,null,null,null,"東大分サッカースポーツ少年団"]
[null,34,null,null,null,null,null,null,null,null,null,null,null,null,null,null,null,null,null,null,null,null,null,null,null,"℃","良好","／","不良",null,null,null,null,null,null,null,null,null,"東稙田サッカースポーツ少年団"]
[null,35,null,null,null,null,null,null,null,null,null,null,null,null,null,null,null,null,null,null,null,null,null,null,null,"℃","良好","／","不良",null,null,null,null,null,null,null,null,null,"ブルーウイングフットボールクラブ"]
[null,36,null,null,null,null,null,null,null,null,null,null,null,null,null,null,null,null,null,null,null,null,null,null,null,"℃","良好","／","不良",null,null,null,null,null,null,null,null,null,"戸次吉野ＳＳＳ"]
[null,37,null,null,null,null,null,null,null,null,null,null,null,null,null,null,null,null,null,null,null,null,null,null,null,"℃","良好","／","不良",null,null,null,null,null,null,null,null,null,"別保ＳＦＣ"]
[null,38,null,null,null,null,null,null,null,null,null,null,null,null,null,null,null,null,null,null,null,null,null,null,null,"℃","良好","／","不良",null,null,null,null,null,null,null,null,null,"豊府サッカースポーツ少年団"]
[null,39,null,null,null,null,null,null,null,null,null,null,null,null,null,null,null,null,null,null,null,null,null,null,null,"℃","良好","／","不良",null,null,null,null,null,null,null,null,null,"北郡坂ノ市サッカースポーツ少年団"]
[null,40,null,null,null,null,null,null,null,null,null,null,null,null,null,null,null,null,null,null,null,null,null,null,null,"℃","良好","／","不良",null,null,null,null,null,null,null,null,null,"三佐サッカースポーツ少年団"]
[null,"特記事項",null,null,null,null,null,null,null,null,null,null,null,null,null,null,null,null,null,null,null,null,null,null,null,null,null,null,null,null,null,null,null,null,null,null,null,null,"南大分サッカー少年団"]
[null,"一般社団法人大分県サッカー協会ジュニア委員会",null,null,null,null,null,null,null,null,null,null,null,null,null,null,null,null,null,null,null,null,null,null,null,null,null,null,null,null,null,null,null,null,null,null,null,null,"宗方サッカークラブ"]
[null,null,null,null,null,null,null,null,null,null,null,null,null,null,null,null,null,null,null,null,null,null,null,null,null,null,null,null,null,null,null,null,null,null,null,null,null,null,"明治北ＳＳＣ"]
[null,null,null,null,null,null,null,null,null,null,null,null,null,null,null,null,null,null,null,null,null,null,null,null,null,null,null,null,null,null,null,null,null,null,null,null,null,null,"明治サッカースポーツ少年団"]
[null,null,null,null,null,null,null,null,null,null,null,null,null,null,null,null,null,null,null,null,null,null,null,null,null,null,null,null,null,null,null,null,null,null,null,null,null,null,"桃園サッカースポーツ少年団"]
[null,null,null,null,null,null,null,null,null,null,null,null,null,null,null,null,null,null,null,null,null,null,null,null,null,null,null,null,null,null,null,null,null,null,null,null,null,null,"森岡サッカースポーツ少年団"]
[null,null,null,null,null,null,null,null,null,null,null,null,null,null,null,null,null,null,null,null,null,null,null,null,null,null,null,null,null,null,null,null,null,null,null,null,null,null,"八幡サッカースポーツ少年団"]
[null,null,null,null,null,null,null,null,null,null,null,null,null,null,null,null,null,null,null,null,null,null,null,null,null,null,null,null,null,null,null,null,null,null,null,null,null,null,"由布川サッカースポーツ少年団"]
[null,null,null,null,null,null,null,null,null,null,null,null,null,null,null,null,null,null,null,null,null,null,null,null,null,null,null,null,null,null,null,null,null,null,null,null,null,null,"横瀬西ＦＣ．ＲｏｓａＣｌａｒｏ"]
[null,null,null,null,null,null,null,null,null,null,null,null,null,null,null,null,null,null,null,null,null,null,null,null,null,null,null,null,null,null,null,null,null,null,null,null,null,null,"リノスフットボールクラブ　Ｕ－１２"]
[null,null,null,null,null,null,null,null,null,null,null,null,null,null,null,null,null,null,null,null,null,null,null,null,null,null,null,null,null,null,null,null,null,null,null,null,null,null,"稙田ＦＣサッカースポーツ少年団"]
[null,null,null,null,null,null,null,null,null,null,null,null,null,null,null,null,null,null,null,null,null,null,null,null,null,null,null,null,null,null,null,null,null,null,null,null,null,null,"その他〔　　　　　　　　　　　　　　　　　　　　　　　　〕"]

{"sheet":"記入用紙","index":3,"n_rows":49,"n_cols":45,"rows_kept":49,"cut":false,"hidden":true,"merged":[[3,1,3,5],[3,6,3,15],[3,16,3,18],[3,19,3,20],[3,22,3,24],[3,26,3,28],[0,1,0,28],[1,1,1,5],[1,6,1,15],[1,16,1,18],[1,27,1,28],[2,1,2,5],[2,6,2,15],[2,16,2,18],[2,19,2,28],[7,2,7,12],[7,13,7,14],[7,15,7,16],[7,17,7,18],[7,19,7,20],[7,21,7,24],[5,1,6,12],[5,13,5,14],[5,15,5,20],[5,21,5,28],[6,13,6,14],[6,15,6,16],[6,17,6,18],[6,19,6,20],[6,21,6,25],[6,26,6,28],[9,2,9,12],[9,13,9,14],[9,15,9,16],[9,17,9,18],[9,19,9,20],[9,21,9,24],[8,2,8,12],[8,13,8,14],[8,15,8,16],[8,17,8,18],[8,19,8,20],[8,21,8,24],[11,2,11,12],[11,13,11,14],[11,15,11,16],[11,17,11,18],[11,19,11,20],[11,21,11,24],[10,2,10,12],[10,13,10,14],[10,15,10,16],[10,17,10,18],[10,19,10,20],[10,21,10,24],[13,2,13,12],[13,13,13,14],[13,15,13,16],[13,17,13,18],[13,19,13,20],[13,21,13,24],[12,2,12,12],[12,13,12,14],[12,15,12,16],[12,17,12,18],[12,19,12,20],[12,21,12,24],[15,2,15,12],[15,13,15,14],[15,15,15,16],[15,17,15,18],[15,19,15,20],[15,21,15,24],[14,2,14,12],[14,13,14,14],[14,15,14,16],[14,17,14,18],[14,19,14,20],[14,21,14,24],[17,2,17,12],[17,13,17,14],[17,15,17,16],[17,17,17,18],[17,19,17,20],[17,21,17,24],[16,2,16,12],[16,13,16,14],[16,15,16,16],[16,17,16,18],[16,19,16,20],[16,21,16,24],[19,2,19,12],[19,13,19,14],[19,15,19,16],[19,17,19,18],[19,19,19,20],[19,21,19,24],[18,2,18,12],[18,13,18,14],[18,15,18,16],[18,17,18,18],[18,19,18,20],[18,21,18,24],[21,2,21,12],[21,13,21,14],[21,15,21,16],[21,17,21,18],[21,19,21,20],[21,21,21,24],[20,2,20,12],[20,13,20,14],[20,15,20,16],[20,17,20,18],[20,19,20,20],[20,21,20,24],[23,2,23,12],[23,13,23,14],[23,15,23,16],[23,17,23,18],[23,19,23,20],[23,21,23,24],[22,2,22,12],[22,13,22,14],[22,15,22,16],[22,17,22,18],[22,19,22,20],[22,21,22,24],[25,2,25,12],[25,13,25,14],[25,15,25,16],[25,17,25,18],[25,19,25,20],[25,21,25,24],[24,2,24,12],[24,13,24,14],[24,15,24,16],[24,17,24,18],[24,19,24,20],[24,21,24,24],[27,2,27,12],[27,13,27,14],[27,15,27,16],[27,17,27,18],[27,19,27,20],[27,21,27,24],[26,2,26,12],[26,13,26,14],[26,15,26,16],[26,17,26,18],[26,19,26,20],[26,21,26,24],[29,2,29,12],[29,13,29,14],[29,15,29,16],[29,17,29,18],[29,19,29,20],[29,21,29,24],[28,2,28,12],[28,13,28,14],[28,15,28,16],[28,17,28,18],[28,19,28,20],[28,21,28,24],[31,2,31,12],[31,13,31,14],[31,15,31,16],[31,17,31,18],[31,19,31,20],[31,21,31,24],[30,2,30,12],[30,13,30,14],[30,15,30,16],[30,17,30,18],[30,19,30,20],[30,21,30,24],[33,2,33,12],[33,13,33,14],[33,15,33,16],[33,17,33,18],[33,19,33,20],[33,21,33,24],[32,2,32,12],[32,13,32,14],[32,15,32,16],[32,17,32,18],[32,19,32,20],[32,21,32,24],[35,2,35,12],[35,13,35,14],[35,15,35,16],[35,17,35,18],[35,19,35,20],[35,21,35,24],[34,2,34,12],[34,13,34,14],[34,15,34,16],[34,17,34,18],[34,19,34,20],[34,21,34,24],[37,2,37,12],[37,13,37,14],[37,15,37,16],[37,17,37,18],[37,19,37,20],[37,21,37,24],[36,2,36,12],[36,13,36,14],[36,15,36,16],[36,17,36,18],[36,19,36,20],[36,21,36,24],[39,2,39,12],[39,13,39,14],[39,15,39,16],[39,17,39,18],[39,19,39,20],[39,21,39,24],[38,2,38,12],[38,13,38,14],[38,15,38,16],[38,17,38,18],[38,19,38,20],[38,21,38,24],[41,2,41,12],[41,13,41,14],[41,15,41,16],[41,17,41,18],[41,19,41,20],[41,21,41,24],[40,2,40,12],[40,13,40,14],[40,15,40,16],[40,17,40,18],[40,19,40,20],[40,21,40,24],[43,2,43,12],[43,13,43,14],[43,15,43,16],[43,17,43,18],[43,19,43,20],[43,21,43,24],[42,2,42,12],[42,13,42,14],[42,15,42,16],[42,17,42,18],[42,19,42,20],[42,21,42,24],[45,2,45,12],[45,13,45,14],[45,15,45,16],[45,17,45,18],[45,19,45,20],[45,21,45,24],[44,2,44,12],[44,13,44,14],[44,15,44,16],[44,17,44,18],[44,19,44,20],[44,21,44,24],[47,1,47,3],[47,4,47,28],[48,1,48,28],[46,2,46,12],[46,13,46,14],[46,15,46,16],[46,17,46,18],[46,19,46,20],[46,21,46,24]]}
[null,"各種大会参加者名簿（※新型コロナウイルス感染予防対策のため、必ず本部へ提出願います。）",null,null,null,null,null,null,null,null,null,null,null,null,null,null,null,null,null,null,null,null,null,null,null,null,null,null,null,null,null,null,null,null,null,null,null,null,"チーム名＿漢字","大会","年","月","日","曜","会場"]
[null,"チーム名",null,null,null,null,null,null,null,null,null,null,null,null,null,null,"期日",null,null,"R",3,"年",7,"月",null,"日",null,"曜日",null,null,null,null,null,null,null,null,null,null,null,"第10回 全日本不動産協会杯争奪U-12サッカー大会【ラビットカップ】大分県大会",1,1,1,"月","昭和電工サッカー・ラグビー場　A"]
[null,"大会名",null,null,null,null,"第10回 全日本不動産協会杯争奪U-12サッカー大会【ラビットカップ】大分県大会",null,null,null,null,null,null,null,null,null,"会場",null,null,null,null,null,null,null,null,null,null,null,null,null,null,null,null,null,null,null,null,null,null,null,2,2,2,"火","昭和電工サッカー・ラグビー場　B"]
[null,"感染対策責任者",null,null,null,null,null,null,null,null,null,null,null,null,null,null,"電話番号",null,null,null,null,"-",null,null,null,"-",null,null,null,null,null,null,null,null,null,null,null,null,null,null,3,3,3,"水","大分県サッカー協会人工芝グラウンド"]
[null,null,null,null,null,null,null,null,null,null,null,null,null,null,null,null,null,null,null,null,null,null,null,null,null,null,null,null,null,null,null,null,null,null,null,null,null,null,null,null,4,4,4,"木"]
[null,"氏　　名",null,null,null,null,null,null,null,null,null,null,null,"学年",null,"参加者種別　※○印チェック",null,null,null,null,null,"当日の健康状態確認　※○印チェック",null,null,null,null,null,null,null,null,null,null,null,null,null,null,null,null,null,null,5,5,5,"金"]
[null,null,null,null,null,null,null,null,null,null,null,null,null,"(選手のみ)",null,"指導者",null,"選手",null,"保護者",null,"検温結果",null,null,null,null,"体調",null,null,null,null,null,null,null,null,null,null,null,null,null,6,6,6,"土"]
[null,1,null,null,null,null,null,null,null,null,null,null,null,null,null,null,null,null,null,null,null,null,null,null,null,"℃","良好","／","不良",null,null,null,null,null,null,null,null,null,null,null,7,7,7,"日"]
[null,2,null,null,null,null,null,null,null,null,null,null,null,null,null,null,null,null,null,null,null,null,null,null,null,"℃","良好","／","不良",null,null,null,null,null,null,null,null,null,null,null,8,8,8]
[null,3,null,null,null,null,null,null,null,null,null,null,null,null,null,null,null,null,null,null,null,null,null,null,null,"℃","良好","／","不良",null,null,null,null,null,null,null,null,null,null,null,9,9,9]
[null,4,null,null,null,null,null,null,null,null,null,null,null,null,null,null,null,null,null,null,null,null,null,null,null,"℃","良好","／","不良",null,null,null,null,null,null,null,null,null,null,null,10,10,10]
[null,5,null,null,null,null,null,null,null,null,null,null,null,null,null,null,null,null,null,null,null,null,null,null,null,"℃","良好","／","不良",null,null,null,null,null,null,null,null,null,null,null,11,11,11]
[null,6,null,null,null,null,null,null,null,null,null,null,null,null,null,null,null,null,null,null,null,null,null,null,null,"℃","良好","／","不良",null,null,null,null,null,null,null,null,null,null,null,12,12,12]
[null,7,null,null,null,null,null,null,null,null,null,null,null,null,null,null,null,null,null,null,null,null,null,null,null,"℃","良好","／","不良",null,null,null,null,null,null,null,null,null,null,null,13,null,13]
[null,8,null,null,null,null,null,null,null,null,null,null,null,null,null,null,null,null,null,null,null,null,null,null,null,"℃","良好","／","不良",null,null,null,null,null,null,null,null,null,null,null,14,null,14]
[null,9,null,null,null,null,null,null,null,null,null,null,null,null,null,null,null,null,null,null,null,null,null,null,null,"℃","良好","／","不良",null,null,null,null,null,null,null,null,null,null,null,15,null,15]
[null,10,null,null,null,null,null,null,null,null,null,null,null,null,null,null,null,null,null,null,null,null,null,null,null,"℃","良好","／","不良",null,null,null,null,null,null,null,null,null,null,null,null,null,16]
[null,11,null,null,null,null,null,null,null,null,null,null,null,null,null,null,null,null,null,null,null,null,null,null,null,"℃","良好","／","不良",null,null,null,null,null,null,null,null,null,null,null,null,null,17]
[null,12,null,null,null,null,null,null,null,null,null,null,null,null,null,null,null,null,null,null,null,null,null,null,null,"℃","良好","／","不良",null,null,null,null,null,null,null,null,null,null,null,null,null,18]
[null,13,null,null,null,null,null,null,null,null,null,null,null,null,null,null,null,null,null,null,null,null,null,null,null,"℃","良好","／","不良",null,null,null,null,null,null,null,null,null,null,null,null,null,19]
[null,14,null,null,null,null,null,null,null,null,null,null,null,null,null,null,null,null,null,null,null,null,null,null,null,"℃","良好","／","不良",null,null,null,null,null,null,null,null,null,null,null,null,null,20]
[null,15,null,null,null,null,null,null,null,null,null,null,null,null,null,null,null,null,null,null,null,null,null,null,null,"℃","良好","／","不良",null,null,null,null,null,null,null,null,null,null,null,null,null,21]
[null,16,null,null,null,null,null,null,null,null,null,null,null,null,null,null,null,null,null,null,null,null,null,null,null,"℃","良好","／","不良",null,null,null,null,null,null,null,null,null,null,null,null,null,22]
[null,17,null,null,null,null,null,null,null,null,null,null,null,null,null,null,null,null,null,null,null,null,null,null,null,"℃","良好","／","不良",null,null,null,null,null,null,null,null,null,null,null,null,null,23]
[null,18,null,null,null,null,null,null,null,null,null,null,null,null,null,null,null,null,null,null,null,null,null,null,null,"℃","良好","／","不良",null,null,null,null,null,null,null,null,null,null,null,null,null,24]
[null,19,null,null,null,null,null,null,null,null,null,null,null,null,null,null,null,null,null,null,null,null,null,null,null,"℃","良好","／","不良",null,null,null,null,null,null,null,null,null,null,null,null,null,25]
[null,20,null,null,null,null,null,null,null,null,null,null,null,null,null,null,null,null,null,null,null,null,null,null,null,"℃","良好","／","不良",null,null,null,null,null,null,null,null,null,null,null,null,null,26]
[null,21,null,null,null,null,null,null,null,null,null,null,null,null,null,null,null,null,null,null,null,null,null,null,null,"℃","良好","／","不良",null,null,null,null,null,null,null,null,null,null,null,null,null,27]
[null,22,null,null,null,null,null,null,null,null,null,null,null,null,null,null,null,null,null,null,null,null,null,null,null,"℃","良好","／","不良",null,null,null,null,null,null,null,null,null,null,null,null,null,28]
[null,23,null,null,null,null,null,null,null,null,null,null,null,null,null,null,null,null,null,null,null,null,null,null,null,"℃","良好","／","不良",null,null,null,null,null,null,null,null,null,null,null,null,null,29]
[null,24,null,null,null,null,null,null,null,null,null,null,null,null,null,null,null,null,null,null,null,null,null,null,null,"℃","良好","／","不良",null,null,null,null,null,null,null,null,null,null,null,null,null,30]
[null,25,null,null,null,null,null,null,null,null,null,null,null,null,null,null,null,null,null,null,null,null,null,null,null,"℃","良好","／","不良",null,null,null,null,null,null,null,null,null,null,null,null,null,31]
[null,26,null,null,null,null,null,null,null,null,null,null,null,null,null,null,null,null,null,null,null,null,null,null,null,"℃","良好","／","不良"]
[null,27,null,null,null,null,null,null,null,null,null,null,null,null,null,null,null,null,null,null,null,null,null,null,null,"℃","良好","／","不良"]
[null,28,null,null,null,null,null,null,null,null,null,null,null,null,null,null,null,null,null,null,null,null,null,null,null,"℃","良好","／","不良"]
[null,29,null,null,null,null,null,null,null,null,null,null,null,null,null,null,null,null,null,null,null,null,null,null,null,"℃","良好","／","不良"]
[null,30,null,null,null,null,null,null,null,null,null,null,null,null,null,null,null,null,null,null,null,null,null,null,null,"℃","良好","／","不良"]
[null,31,null,null,null,null,null,null,null,null,null,null,null,null,null,null,null,null,null,null,null,null,null,null,null,"℃","良好","／","不良"]
[null,32,null,null,null,null,null,null,null,null,null,null,null,null,null,null,null,null,null,null,null,null,null,null,null,"℃","良好","／","不良"]
[null,33,null,null,null,null,null,null,null,null,null,null,null,null,null,null,null,null,null,null,null,null,null,null,null,"℃","良好","／","不良"]
[null,34,null,null,null,null,null,null,null,null,null,null,null,null,null,null,null,null,null,null,null,null,null,null,null,"℃","良好","／","不良"]
[null,35,null,null,null,null,null,null,null,null,null,null,null,null,null,null,null,null,null,null,null,null,null,null,null,"℃","良好","／","不良"]
[null,36,null,null,null,null,null,null,null,null,null,null,null,null,null,null,null,null,null,null,null,null,null,null,null,"℃","良好","／","不良"]
[null,37,null,null,null,null,null,null,null,null,null,null,null,null,null,null,null,null,null,null,null,null,null,null,null,"℃","良好","／","不良"]
[null,38,null,null,null,null,null,null,null,null,null,null,null,null,null,null,null,null,null,null,null,null,null,null,null,"℃","良好","／","不良"]
[null,39,null,null,null,null,null,null,null,null,null,null,null,null,null,null,null,null,null,null,null,null,null,null,null,"℃","良好","／","不良"]
[null,40,null,null,null,null,null,null,null,null,null,null,null,null,null,null,null,null,null,null,null,null,null,null,null,"℃","良好","／","不良"]
[null,"特記事項"]
[null,"一般社団法人大分県サッカー協会ジュニア委員会"]

{"sheet":"MCM資料","index":4,"n_rows":111,"n_cols":32,"rows_kept":111,"cut":false,"hidden":true,"merged":[[77,2,77,32],[78,2,79,32],[80,2,81,32],[64,9,64,14],[65,5,66,32],[67,1,67,2],[73,1,73,2],[68,3,69,35],[70,3,72,35],[36,2,37,34],[38,2,40,34],[41,2,41,34],[74,2,74,32],[75,2,76,32],[56,1,56,2],[59,5,59,32],[60,5,60,32],[61,9,61,14],[43,1,43,2],[44,1,46,32],[47,1,47,2],[48,1,52,32],[53,1,53,2],[54,2,55,33],[107,14,107,19],[110,1,111,33],[88,7,88,15],[89,7,89,15],[82,2,83,32],[84,1,84,2],[103,1,103,2],[106,4,106,12],[106,14,106,19],[106,21,106,29],[88,1,88,2],[90,1,90,2],[91,3,92,35],[93,3,94,35],[95,3,96,35],[97,3,98,35],[35,1,35,2],[26,1,26,2],[27,18,27,24],[28,1,28,2],[28,11,28,33],[29,2,29,9],[30,2,30,9],[25,1,25,2],[25,16,25,23],[25,24,25,25],[31,1,31,2],[33,1,33,2],[24,16,24,23],[24,24,24,25],[20,1,20,2],[20,16,20,23],[20,24,20,25],[21,16,21,23],[21,24,21,25],[22,16,22,23],[22,24,22,25],[23,16,23,23],[23,24,23,25],[21,1,21,2],[19,1,19,2],[20,3,20,11],[19,16,19,23],[19,24,19,25],[18,1,18,2],[19,3,19,11],[18,16,18,23],[18,24,18,25],[17,16,17,23],[17,24,17,25],[12,4,12,29],[13,0,13,2],[13,4,13,32],[17,1,17,2],[14,0,14,2],[14,4,14,32],[11,0,11,35],[9,0,10,35],[0,0,0,33],[1,0,3,33],[5,9,5,16],[5,17,5,19],[7,1,7,9],[7,11,7,13],[7,14,7,15],[7,16,7,17],[7,18,7,26],[7,28,7,30],[7,31,7,32]]}
["マッチコーディネーションミーティング"]
[{"$f":"大会要項!B2","v":"第10回 全日本不動産協会杯争奪U-12サッカー大会【ラビットカップ】大分県大会"}]
[]
[]
[]
[null,null,null,null,null,null,null,null,null,"マッチナンバー："]
[]
[null,"組み合わせ左側チーム",null,null,null,null,null,null,null,null,"（",null,null,null,"市）",null,"ｖｓ",null,"組み合わせ右側チーム",null,null,null,null,null,null,null,null,"（",null,null,null,"市）"]
[]
["　予選リーグ会場：大分県サッカー協会人工芝グラウンド【北】【南】\n　　　　　　　　　大分スポーツ公園 昭和電工サッカー・ラグビー場 B【北】【南】"]
[]
["　決勝トーナメント会場：大分スポーツ公園 昭和電工サッカー・ラグビー場 B【北】【南】"]
[null,null,null,null,"２０２１年（令和３年）７月３日（土）・７月４日(日）"]
["予選L",null,null,null,"①10:30　②11:30　③12:30　④13:30　⑤14:30　⑥15:30"]
["決勝T",null,null,null,"①  9:30　②10:20　③11:10　④12:00　⑤14:10"]
[]
[1," 挨拶および出席者の確認",null,null,null,null,null,null,null,null,null,null,"主管協会（　一般社団法人　大分県サッカー協会　）"]
[null,"a)",null,"マッチコミッショナー・・・・・・・・・・・",null,null,null,null,null,null,null,null,null,null,null,null,null,null,null,null,null,null,null,null,"氏"]
[null,"b)",null,"ウェルフェアオフィサー",null,null,null,null,null,null,null,null,"・・・・・・・・・・・・・・・・・",null,null,null,null,null,null,null,null,null,null,null,"氏"]
[null,"c)",null,"組み合わせ左側チーム",null,null,null,null,null,null,null,null,"・・・・・・・・・・・・・・・・・",null,null,null,null,null,null,null,null,null,null,null,"氏"]
[null,"d)",null,"組み合わせ右側チーム",null,null,null,null,null,null,null,null,"・・・・・・・・・・・・・・・・・",null,null,null,null,null,null,null,null,null,null,null,"氏"]
[null,"e)",null,"審判団",null,null,null,"主審・・・・・・・・・・・・・・",null,null,null,null,null,null,null,null,null,null,null,null,null,null,null,null,"氏"]
[null,null,null,null,null,null,null,"副審１・・・・・・・・・・・・・・",null,null,null,null,null,null,null,null,null,null,null,null,null,null,null,null,"氏"]
[null,null,null,null,null,null,null,"副審２・・・・・・・・・・・・・・・",null,null,null,null,null,null,null,null,null,null,null,null,null,null,null,null,"氏"]
[null,null,null,null,null,null,null,"第4の審判員・・・・・・・・・・・・",null,null,null,null,null,null,null,null,null,null,null,null,null,null,null,null,"氏"]
[null,"f)",null,"主管サッカー協会(司会進行）・・・・・・・・・・・・・・",null,null,null,null,null,null,null,null,null,null,null,null,null,null,null,null,null,null,null,null,"氏"]
[]
[2,"競技関連事項"]
[null,"（1）",null,"累積警告選手の確認",null,null,null,null,null,null,null,"（本大会要項　（10）試合方法 ⑪）"]
[null,null,{"$f":"+D20","v":"組み合わせ左側チーム"}]
[null,null,{"$f":"+D21","v":"組み合わせ右側チーム"}]
[null,"（2）",null,"ユニフォームの色の決定"]
[]
[null,"（3）",null,"試合登録メンバー（選手および役員）の確認"]
[]
[null,"（４）",null,"試合時間"]
[null,"○","予選リーグは４０分とし、ハーフタイムのインターバル（前半終了から後半開始まで）は原則として１０\n分とする。規定の競技時間内に勝敗の決しない場合は、引き分けとする。"]
[]
[null,"○","決勝トーナメントは３０分とし、ハーフタイムのインターバル（前半終了から後半開始まで）は原則\nとして５分とする。規定の競技時間内に勝敗の決しない場合、3人制のPK方式にて勝敗を決定する。\n但し、決勝戦のみ１０分の延長戦を行い、それでも勝敗が決しない場合３人制のPK戦を行う。\n＊インターバル＝延長戦に入る前：3分、ペナルティーキック方式に入る前：1分"]
[]
[]
[null,"○","飲水タイムをとる場合は、「その他の理由」により空費された時間として追加する。"]
[null,"○","アディッショナルタイムの標記:",null,null,null,null,null,null,null,null,null,null,null,"行う（表示用ボード）"]
[null,"（5）",null,"競技者の数"]
[null,"○ 試合開始時の人数は、8対8を原則とする。\n○ 競技中、怪我人が出た場合は、交代要員から補充すること。\n○ 退場者が出た場合は、交代要員から補充し、退場者のベンチ戻入は認めない。\n○ 競技者の数がアンバランスになるのは、該当チームに交代要員がいなくなった時に限る。"]
[]
[]
[null,"（6）",null,"選手の交代"]
[null,"○ 競技開始前に登録した最大8名の交代要員の中から、自由な交代が認められ、交代して退いた競技者は\n　交代要員となり、再び出場することができる。（交代の回数は制限されない。）\n○ 交代は、ボールがインプレー中、アウトオブプレー中にかかわらず行うことができ、チームの指導者、\n　もしくは選手は「第4審」に交代選手の番号を口頭で報告し、用具チェックを受けた後、交代ゾーンか\n　ら行う。ただし、交代で退く競技者が負傷している場合は、主審の承認を得た上でどこからフィールド\n　を離れてもよい。   また、ＧＫが交代する場合はアウトプレー時に主審を通じ行う。"]
[]
[]
[]
[]
[null,"（7）",null,"チームベンチへの人数"]
[null,null,"ベンチに入る指導者・選手は、あらかじめ明記した監督1名及びその他役職者２名の計３名（うち\n1名はJFA公認指導者ライセンスを有すること。）・交代要員となる選手８名を最大とする。\n※大会登録書（メンバー表）に記載された選手及び監督・役員以外のベンチ入りは認めない。"]
[]
[null,"（8）",null,"ウォーミングアップ"]
[null,"***試合前***"]
[null,"○","場所：",null,null,"各会場の指定された区域にて"]
[null,"○","時間：",null,null,"ピッチ外：指定された区域にて"]
[null,null,null,null,null,"ピッチ内：ゴール使用　前の試合のハーフタイムのみ"]
[null,"○","ボール使用の可否：",null,null,null,null,null,null,"可"]
[null,"***試合中***"]
[null,"○","場所：",null,null,"ベンチ横"]
[null,"○","ボール使用の可否：",null,null,null,null,null,null,"否"]
[null,"○","着衣：",null,null,"交代要員の選手は、両チームのユニフォームおよび審判のユニフォームと明確に異なる色の着衣（ビブス等）を身につけること。"]
[]
[null,"（9）",null,"テクニカルエリア"]
[null,null,"○","戦術的指示を与える際は、その都度ただ1名の役員(監督に限定されない)のみが、テクニカルエリア(ベンチの両端から１メ－トルとタッチラインから1メ－トル)内で行うこと。"]
[]
[null,null,"○","選手への厳しい叱責や体罰等があったと認められ，主審から一度注意を受けた後に再度同様な行為があった場合は，主審の判断により退席処分とし，それ以降はベンチからのコーチングを不可とする。それ以降の試合については，規律・フェアプレー委員会において協議し，処分することもある。\n"]
[]
[]
[null,"（10）",null,"選手のけがの治療"]
[null,"○","レフェリ－が認める特別な場合でないかぎり、フィ－ルド内での医療処置は一切認められない。"]
[null,"○","ケガをした選手が運び出されたり、主審の許可によりフィ－ルドを出ることが認められる場合、医療担当者は医療処置をフィ－ルドの外で行う。"]
[]
[null,"○","主審の指示を受けた場合にのみ、2名以内のチ－ム役員と担架がフィ－ルドに入ることができる。"]
[null,"○","ゴ－ルキ－パ－がケガをした場合は試合を中断し、フィ－ルド内で手当てを受けることが許される。手当てが終わってから試合は再開される。"]
[]
[null,"○","負傷により出血した選手は、出血が止まったことを審判が確認し、主審の合図を受けてからフィールドに復帰することができる。"]
[]
[null,"○","負傷した選手が交代ゾーン以外からピッチを離れ、交替する場合は交替ゾーンから交替する選手は入場する。負傷した選手が治療をおえ、再度交替し入場する場合も交替ゾーンから行う。"]
[]
[null,"（11）",null,"選手の品行"]
[null,"○","フェアプレー",null,null,null,null,null,null,null,"○","サッカーのイメージアップ"]
[null,"○","ソックスを引き上げる",null,null,null,null,null,null,null,null,null,"○","シャツをショーツの中に入れる"]
[null,"○","試合開始前および終了後のセレモニー"]
[null,"（12）",null,"試合球",null,null,"「","予選L：各チームにて準備",null,null,null,null,null,null,null,null,"」"]
[null,null,null,null,null,null,"「","決勝T：本部にて準備",null,null,null,null,null,null,null,null,"」"]
[null,"（13）",null,"選手の用具",null,null,null,null,"用具及びメンバーチェック　　キックオフ10分前　"]
[null,null,"○","シャツについては、胸番号/背番号必須で一致していることとし、色彩は、審判員が通常着用する黒色と明確に判別し得るものでなければならない。"]
[]
[null,null,"○","ユニフォームのデザイン、ロゴ等が異なっていても、本競技会主催者が認める場合、主たる色が同系色であれば着用することができる。"]
[]
[null,null,"○","ゴールキーパーのユニフォームについて、ショーツ、ソックスはフィールドプレーヤーと同色系でも良いものとする。"]
[]
[null,null,"○","ソックスにテープまたはその他の材質のものを貼り付ける、または外部に着用する場合、ソックスと同色でなくても良い。 "]
[]
[null,null,"○","アンダーシャツの色は問わない。ただし原則としてチーム内で同色のものを着用する。"]
[null,null,"○","アンダーショーツおよびタイツの色は問わない。ただし原則としてチーム内で同色のものを着用する。"]
[null,null,"○","すねあてを必ず着用"]
[null,null,"○","ゴ－ルキ－パ－は、フィ－ルドの状態、天候によってはトラックスーツを着用しても良い"]
[null,"（14）",null,"キックオフ前のセレモニー",null,null,null,null,null,null,null,null,null,"キックオフ5分前"]
[null,null,"○","以下のように整列し、本部側に礼をした後、プレーの開始方法を確認する。（握手は行わない）"]
[]
[null,null,null,"《",{"$f":"+D20","v":"組み合わせ左側チーム"},null,null,null,null,null,null,null,null,"》","＜審判団＞",null,null,null,null,null,"《",{"$f":"+D21","v":"組み合わせ右側チーム"},null,null,null,null,null,null,null,null,"》"]
[null,null,null,null,null,null,null,null,null,null,null,null,null,null,"本部"]
[]
[3,"その他"]
[null,"本大会要項（12）その他を、役員・保護者等に周知徹底願います。"]

{"sheet":"累積警告・退場","index":5,"n_rows":28,"n_cols":23,"rows_kept":28,"cut":false,"hidden":true,"merged":[[4,1,14,1],[15,1,17,1],[18,1,19,1],[20,1,21,1],[22,1,23,1]]}
["×","累積警告・退場",{"$f":"大会要項!B2","v":"第10回 全日本不動産協会杯争奪U-12サッカー大会【ラビットカップ】大分県大会"}]
[null,null,{"$f":"大会要項!B8","v":"2021年（令和3年）7月3日（土）・7月4日（日）"}]
[null,null,null,"地区予選",null,null,null,"予選リーグ　（１試合目）",null,null,null,"予選リーグ　（2試合目）",null,null,null,"1回戦",null,null,null,"準決勝"]
["敗戦","地区","チーム名","背番号","氏名","警告/退場","内容","背番号","氏名","警告/退場","内容","背番号","氏名","警告/退場","内容","背番号","氏名","警告/退場","内容","背番号","氏名","警告/退場","内容"]
[null,"大分",{"$f":"抽選会資料!B11","v":"明野西ＪＦＣ"},"-",null,null,null,"-",null,null,null,"-"]
[null,null,{"$f":"抽選会資料!B12","v":"寒田少年サッカークラブ"},"-",null,null,null,"-",null,null,null,"-"]
[null,null,{"$f":"抽選会資料!B13","v":"金池長浜サッカースポーツ少年団"},"-",null,null,null,"-",null,null,null,"-"]
[null,null,{"$f":"抽選会資料!B14","v":"リノスフットボールクラブ　Ｕ－１２"},"-",null,null,null,"-",null,null,null,"-"]
[null,null,{"$f":"抽選会資料!B15","v":"大分トリニータＵ－１２"},"-",null,null,null,"-",null,null,null,"-"]
[null,null,{"$f":"抽選会資料!B16","v":"明治北ＳＳＣ"},"-",null,null,null,"-",null,null,null,"-"]
[null,null,{"$f":"抽選会資料!B17","v":"判田サッカースポーツ少年団"},"-",null,null,null,"-",null,null,null,3,"小代　朔","警告","ラフ"]
[null,null,{"$f":"抽選会資料!B18","v":"カティオーラフットボールクラブＵ－１２"},"-",null,null,null,"-",null,null,null,"-"]
[null,null,{"$f":"抽選会資料!B19","v":"荏隈サッカースポーツ少年団"},"-",null,null,null,"-",null,null,null,"-"]
[null,null,{"$f":"抽選会資料!B20","v":"北郡坂ノ市サッカースポーツ少年団"},"-",null,null,null,"-",null,null,null,"-"]
[null,null,{"$f":"抽選会資料!B21","v":"ドリームキッズフットボールクラブエフシー"},"-",null,null,null,"-",null,null,null,11,"大久保　桧埜","警告","ラフ"]
[null,"中津",{"$f":"抽選会資料!I11","v":"Ｓｈｙｎｔ　ＦＣ"},"-",null,null,null,"-",null,null,null,"-"]
[null,null,{"$f":"抽選会資料!I12","v":"ＦＣ中津ジュニア"},"-",null,null,null,"-",null,null,null,"-"]
[null,null,{"$f":"抽選会資料!I13","v":"鶴居ＳＳＳ"},"-",null,null,null,"-",null,null,null,"-"]
[null,"速杵国東",{"$f":"抽選会資料!I14","v":"八坂少年サッカークラブ"},"-",null,null,null,"-",null,null,null,"-"]
[null,null,{"$f":"抽選会資料!I15","v":"ＯＫＹ山香サッカークラブ"},"-",null,null,null,"-",null,null,null,"-"]
[null,"別府",{"$f":"抽選会資料!I16","v":"スマイス・セレソン"},"-",null,null,null,"-",null,null,null,"-"]
[null,null,{"$f":"抽選会資料!I17","v":"朝日ＦＣ"},"-",null,null,null,"-",null,null,null,"-"]
[null,"日田/玖珠",{"$f":"抽選会資料!I18","v":"ＦＣアリアーレ"},"-",null,null,null,"-",null,null,null,"-"]
[null,null,{"$f":"抽選会資料!I19","v":"太陽スポーツクラブ大分西"},"-",null,null,null,"-",null,null,null,"-"]
[null,"宇佐高田",{"$f":"抽選会資料!I20","v":"四日市南ＳＳＣ"},"-",null,null,null,"-",null,null,null,"-"]
[null,"佐伯",{"$f":"抽選会資料!I21","v":"鶴岡Ｓ―ｐｌａｙ・ＭＩＮＡＭＩ"},9,"大室　匠","警告","ラフ","-",null,null,null,"-"]
[null,"豊肥",{"$f":"抽選会資料!I22","v":"ＦＣ大野"},"-",null,null,null,"-",null,null,null,"-"]
[null,"臼杵/津久見",{"$f":"抽選会資料!I23","v":"市浜レッドソックス"},"-",null,null,null,"-",null,null,null,"-"]

{"sheet":"組合せ抽選用","index":6,"n_rows":45,"n_cols":22,"rows_kept":45,"cut":false,"hidden":true,"merged":[[19,17,21,17],[22,17,23,17],[24,17,25,17],[26,17,27,17],[1,1,1,11],[1,12,1,14],[13,5,15,5],[5,5,7,5],[14,4,15,4],[5,3,7,3],[8,2,9,3],[8,5,9,6],[6,4,7,4],[4,4,5,4],[4,6,5,6],[3,17,13,17],[4,11,5,11],[4,13,5,13],[5,10,7,10],[12,6,13,6],[12,13,13,13],[12,11,13,11],[33,2,34,3],[33,5,34,6],[5,12,7,12],[8,12,9,13],[13,10,15,10],[13,12,15,12],[8,9,9,10],[6,11,7,11],[31,11,32,11],[29,11,30,11],[25,9,26,10],[22,10,24,10],[23,11,24,11],[21,11,22,11],[16,2,17,3],[16,5,17,6],[29,6,30,6],[25,2,26,3],[25,5,26,6],[30,3,32,3],[30,5,32,5],[31,4,32,4],[29,4,30,4],[22,3,24,3],[22,5,24,5],[21,13,22,13],[23,4,24,4],[14,11,15,11],[21,4,22,4],[16,9,17,10],[21,6,22,6],[13,3,15,3],[12,4,13,4],[22,12,24,12],[16,12,17,13],[25,12,26,13],[33,9,34,10],[30,10,32,10],[29,13,30,13],[33,12,34,13],[30,12,32,12]]}
[]
[null,{"$f":"大会要項!B2","v":"第10回 全日本不動産協会杯争奪U-12サッカー大会【ラビットカップ】大分県大会"},null,null,null,null,null,null,null,null,null,null,"組み合わせ",null,null,null,null,"Aブロック（フリー）"]
[null,null,null,null,null,null,null,null,null,null,null,null,null,null,null,null,null,"地　　区","チーム名"]
[null,null,null,null,"「Aパート」",null,null,null,null,null,null,"「Cパート」",null,null,null,null,"H2","大分","明野西",null,{"$f":"抽選会資料!B11","v":"明野西ＪＦＣ"},"大分"]
[null,null,null,"A1",{"$f":"IF(ISERROR(VLOOKUP(D5,$Q:$S,3,FALSE))=TRUE,\"\",VLOOKUP(D5,$Q:$S,3,FALSE))","v":"市浜"},null,null,null,null,null,"C1",{"$f":"IF(ISERROR(VLOOKUP(K5,$Q:$S,3,FALSE))=TRUE,\"\",VLOOKUP(K5,$Q:$S,3,FALSE))","v":"ドリームキッズ"},null,null,null,null,"A2",null,"寒田",null,{"$f":"抽選会資料!B12","v":"寒田少年サッカークラブ"},"大分"]
[null,null,null,null,null,null,null,null,null,null,null,null,null,null,null,null,"G2",null,"金池長浜",null,{"$f":"抽選会資料!B13","v":"金池長浜サッカースポーツ少年団"},"大分"]
[null,null,null,null,null,null,null,null,null,null,null,null,null,null,null,null,"F2",null,"リノス",null,{"$f":"抽選会資料!B14","v":"リノスフットボールクラブ　Ｕ－１２"},"大分"]
[null,null,null,null,null,null,null,null,null,null,null,null,null,null,null,null,"E2",null,"トリニータ",null,{"$f":"抽選会資料!B15","v":"大分トリニータＵ－１２"},"大分"]
[null,"A2",{"$f":"IF(ISERROR(VLOOKUP(B9,$Q:$S,3,FALSE))=TRUE,\"\",VLOOKUP(B9,$Q:$S,3,FALSE))","v":"寒田"},null,null,{"$f":"IF(ISERROR(VLOOKUP(H9,$Q:$S,3,FALSE))=TRUE,\"\",VLOOKUP(H9,$Q:$S,3,FALSE))","v":"カティオーラ"},null,"A3","C2",{"$f":"IF(ISERROR(VLOOKUP(I9,$Q:$S,3,FALSE))=TRUE,\"\",VLOOKUP(I9,$Q:$S,3,FALSE))","v":"明治北"},null,null,{"$f":"IF(ISERROR(VLOOKUP(O9,$Q:$S,3,FALSE))=TRUE,\"\",VLOOKUP(O9,$Q:$S,3,FALSE))","v":"大野"},null,"C3",null,"C2",null,"明治北",null,{"$f":"抽選会資料!B16","v":"明治北ＳＳＣ"},"大分"]
[null,null,null,null,null,null,null,null,null,null,null,null,null,null,null,null,"D2",null,"判田",null,{"$f":"抽選会資料!B17","v":"判田サッカースポーツ少年団"},"大分"]
[null,null,null,null,null,null,null,null,null,null,null,null,null,null,null,null,"A3",null,"カティオーラ",null,{"$f":"抽選会資料!B18","v":"カティオーラフットボールクラブＵ－１２"},"大分"]
[null,null,null,null,"「Eパート」",null,null,null,null,null,null,"「Gパート」",null,null,null,null,"H3",null,"荏隈",null,{"$f":"抽選会資料!B19","v":"荏隈サッカースポーツ少年団"},"大分"]
[null,null,null,"E1",{"$f":"IF(ISERROR(VLOOKUP(D13,$Q:$S,3,FALSE))=TRUE,\"\",VLOOKUP(D13,$Q:$S,3,FALSE))","v":"四日市南"},null,null,null,null,null,"G1",{"$f":"IF(ISERROR(VLOOKUP(K13,$Q:$S,3,FALSE))=TRUE,\"\",VLOOKUP(K13,$Q:$S,3,FALSE))","v":"ＦＣ中津"},null,null,null,null,"B2",null,"北郡坂ノ市",null,{"$f":"抽選会資料!B20","v":"北郡坂ノ市サッカースポーツ少年団"},"大分"]
[null,null,null,null,null,null,null,null,null,null,null,null,null,null,null,null,"C1",null,"ドリームキッズ",null,{"$f":"抽選会資料!B21","v":"ドリームキッズフットボールクラブエフシー"},"大分"]
[]
[]
[null,"E2",{"$f":"IF(ISERROR(VLOOKUP(B17,$Q:$S,3,FALSE))=TRUE,\"\",VLOOKUP(B17,$Q:$S,3,FALSE))","v":"トリニータ"},null,null,{"$f":"IF(ISERROR(VLOOKUP(H17,$Q:$S,3,FALSE))=TRUE,\"\",VLOOKUP(H17,$Q:$S,3,FALSE))","v":"鶴居"},null,"E3","G2",{"$f":"IF(ISERROR(VLOOKUP(I17,$Q:$S,3,FALSE))=TRUE,\"\",VLOOKUP(I17,$Q:$S,3,FALSE))","v":"金池長浜"},null,null,{"$f":"IF(ISERROR(VLOOKUP(O17,$Q:$S,3,FALSE))=TRUE,\"\",VLOOKUP(O17,$Q:$S,3,FALSE))","v":"朝日"},null,"G3"]
[null,null,null,null,null,null,null,null,null,null,null,null,null,null,null,null,null,"Bブロック（奇数）"]
[null,null,null,null,null,null,null,null,null,null,null,null,null,null,null,null,null,"地　　区"]
[null,null,null,null,null,null,null,null,null,null,null,null,null,null,null,null,"D1","中津","Ｓｈｙｎｔ",null,{"$f":"抽選会資料!I11","v":"Ｓｈｙｎｔ　ＦＣ"},"中津"]
[null,null,null,null,"「Bパート」",null,null,null,null,null,null,"「Dパート」",null,null,null,null,"G1",null,"ＦＣ中津",null,{"$f":"抽選会資料!I12","v":"ＦＣ中津ジュニア"},"中津"]
[null,null,null,"B1",{"$f":"IF(ISERROR(VLOOKUP(D22,$Q:$S,3,FALSE))=TRUE,\"\",VLOOKUP(D22,$Q:$S,3,FALSE))","v":"八坂"},null,null,null,null,null,"D1",{"$f":"IF(ISERROR(VLOOKUP(K22,$Q:$S,3,FALSE))=TRUE,\"\",VLOOKUP(K22,$Q:$S,3,FALSE))","v":"Ｓｈｙｎｔ"},null,null,null,null,"E3",null,"鶴居",null,{"$f":"抽選会資料!I13","v":"鶴居ＳＳＳ"},"中津"]
[null,null,null,null,null,null,null,null,null,null,null,null,null,null,null,null,"B1","速杵国東","八坂",null,{"$f":"抽選会資料!I14","v":"八坂少年サッカークラブ"},"速杵国東"]
[null,null,null,null,null,null,null,null,null,null,null,null,null,null,null,null,"H1",null,"山香",null,{"$f":"抽選会資料!I15","v":"ＯＫＹ山香サッカークラブ"},"速杵国東"]
[null,null,null,null,null,null,null,null,null,null,null,null,null,null,null,null,"F1","別府","スマイス",null,{"$f":"抽選会資料!I16","v":"スマイス・セレソン"},"別府"]
[null,"B2",{"$f":"IF(ISERROR(VLOOKUP(B26,$Q:$S,3,FALSE))=TRUE,\"\",VLOOKUP(B26,$Q:$S,3,FALSE))","v":"北郡坂ノ市"},null,null,{"$f":"IF(ISERROR(VLOOKUP(H26,$Q:$S,3,FALSE))=TRUE,\"\",VLOOKUP(H26,$Q:$S,3,FALSE))","v":"太陽大分西"},null,"B3","D2",{"$f":"IF(ISERROR(VLOOKUP(I26,$Q:$S,3,FALSE))=TRUE,\"\",VLOOKUP(I26,$Q:$S,3,FALSE))","v":"判田"},null,null,{"$f":"IF(ISERROR(VLOOKUP(O26,$Q:$S,3,FALSE))=TRUE,\"\",VLOOKUP(O26,$Q:$S,3,FALSE))","v":"アリアーレ"},null,"D3",null,"G3",null,"朝日",null,{"$f":"抽選会資料!I17","v":"朝日ＦＣ"},"別府"]
[null,null,null,null,null,null,null,null,null,null,null,null,null,null,null,null,"D3","日田/玖珠","アリアーレ",null,{"$f":"抽選会資料!I18","v":"ＦＣアリアーレ"},"日田/玖珠"]
[null,null,null,null,null,null,null,null,null,null,null,null,null,null,null,null,"B3",null,"太陽大分西",null,{"$f":"抽選会資料!I19","v":"太陽スポーツクラブ大分西"},"日田/玖珠"]
[null,null,null,null,"「Fパート」",null,null,null,null,null,null,"「Hパート」",null,null,null,null,"E1","宇佐高田","四日市南",null,{"$f":"抽選会資料!I20","v":"四日市南ＳＳＣ"},"宇佐高田"]
[null,null,null,"F1",{"$f":"IF(ISERROR(VLOOKUP(D30,$Q:$S,3,FALSE))=TRUE,\"\",VLOOKUP(D30,$Q:$S,3,FALSE))","v":"スマイス"},null,null,null,null,null,"H1",{"$f":"IF(ISERROR(VLOOKUP(K30,$Q:$S,3,FALSE))=TRUE,\"\",VLOOKUP(K30,$Q:$S,3,FALSE))","v":"山香"},null,null,null,null,"F3","佐伯","鶴岡",null,{"$f":"抽選会資料!I21","v":"鶴岡Ｓ―ｐｌａｙ・ＭＩＮＡＭＩ"},"佐伯"]
[null,null,null,null,null,null,null,null,null,null,null,null,null,null,null,null,"C3","豊肥","大野",null,{"$f":"抽選会資料!I22","v":"ＦＣ大野"},"豊肥"]
[null,null,null,null,null,null,null,null,null,null,null,null,null,null,null,null,"A1","臼杵/津久見","市浜",null,{"$f":"抽選会資料!I23","v":"市浜レッドソックス"},"臼杵/津久見"]
[]
[null,"F2",{"$f":"IF(ISERROR(VLOOKUP(B34,$Q:$S,3,FALSE))=TRUE,\"\",VLOOKUP(B34,$Q:$S,3,FALSE))","v":"リノス"},null,null,{"$f":"IF(ISERROR(VLOOKUP(H34,$Q:$S,3,FALSE))=TRUE,\"\",VLOOKUP(H34,$Q:$S,3,FALSE))","v":"鶴岡"},null,"F3","H2",{"$f":"IF(ISERROR(VLOOKUP(I34,$Q:$S,3,FALSE))=TRUE,\"\",VLOOKUP(I34,$Q:$S,3,FALSE))","v":"明野西"},null,null,{"$f":"IF(ISERROR(VLOOKUP(O34,$Q:$S,3,FALSE))=TRUE,\"\",VLOOKUP(O34,$Q:$S,3,FALSE))","v":"荏隈"},null,"H3"]
[]
[]
[]
[]
[]
[]
[null,null,null,null,null,null,null,null,null,null,null,null,null,null,null,null,null,"＜抽選方法＞"]
[null,null,null,null,null,null,null,null,null,null,null,null,null,null,null,null,null,"Bブロック 9地区の各第1代表が8パートに分かれるように抽選。"]
[null,null,null,null,null,null,null,null,null,null,null,null,null,null,null,null,null,"(まず、大分地区以外が全パートに入る事が前提で、開会式がある場合は、A1を選手宣誓とする。)"]
[null,null,null,null,null,null,null,null,null,null,null,null,null,null,null,null,null,"２チーム出場の地区が、第1代表と決勝戦まで対戦しないように、左右のパートに分かれるように抽選。"]
[null,null,null,null,null,null,null,null,null,null,null,null,null,null,null,null,null,"大分地区は、振込順にて抽選"]

{"sheet":"予選リーグ","index":7,"n_rows":32,"n_cols":14,"rows_kept":32,"cut":false,"hidden":true,"merged":[[1,10,1,13],[30,8,31,8],[28,13,29,13],[30,10,31,10],[24,10,25,10],[28,11,29,11],[26,2,27,13],[28,8,29,8],[30,4,31,4],[28,2,29,2],[24,8,25,8],[30,11,31,11],[30,13,31,13],[28,10,29,10],[24,13,25,13],[24,11,25,11],[30,2,31,2],[28,4,29,4],[20,5,21,5],[30,7,31,7],[28,5,29,5],[30,5,31,5],[28,7,29,7],[24,7,25,7],[22,5,23,5],[20,4,21,4],[28,0,29,0],[30,0,31,0],[28,1,29,1],[30,1,31,1],[26,0,27,0],[26,1,27,1],[0,1,0,4],[24,2,25,2],[18,2,19,2],[20,2,21,2],[22,2,23,2],[18,1,19,1],[20,1,21,1],[24,4,25,4],[22,1,23,1],[13,2,13,7],[22,7,23,7],[18,7,19,7],[20,7,21,7],[16,2,16,4],[16,5,16,7],[24,1,25,1],[24,0,25,0],[24,5,25,5],[20,0,21,0],[22,0,23,0],[22,4,23,4],[18,10,19,10],[18,5,19,5],[14,8,14,10],[18,8,19,8],[18,0,19,0],[18,4,19,4],[20,8,21,8],[22,8,23,8],[13,8,13,13],[20,11,21,11],[14,2,14,4],[20,10,21,10],[22,13,23,13],[22,11,23,11],[22,10,23,10],[20,13,21,13],[14,11,14,13],[14,5,14,7],[16,11,16,13],[16,8,16,10],[18,13,19,13],[18,11,19,11]]}
[null,"《予選リーグ日程》",null,null,null,"７月３日（土）"]
[null,null,"8:30","グラウンド設営"]
[null,null,"9:20","MCM(各会場第1試合ﾊﾟｰﾄ)\n",null,null,null,null,null,"10:20","MCM(各会場第2試合ﾊﾟｰﾄ)"]
[null,null,null,"「Aパート」",null,null,"「Bパート」",null,null,"「Eパート」",null,null,"「Fパート」"]
[null,null,null,{"$f":"組合せ抽選用!E5","v":"市浜"},null,null,{"$f":"組合せ抽選用!E22","v":"八坂"},null,null,{"$f":"組合せ抽選用!E13","v":"四日市南"},null,null,{"$f":"組合せ抽選用!E30","v":"スマイス"}]
[]
[null,null,{"$f":"組合せ抽選用!C9","v":"寒田"},null,{"$f":"組合せ抽選用!F9","v":"カティオーラ"},{"$f":"組合せ抽選用!C26","v":"北郡坂ノ市"},null,{"$f":"組合せ抽選用!F26","v":"太陽大分西"},{"$f":"組合せ抽選用!C17","v":"トリニータ"},null,{"$f":"組合せ抽選用!F17","v":"鶴居"},{"$f":"組合せ抽選用!C34","v":"リノス"},null,{"$f":"組合せ抽選用!F34","v":"鶴岡"}]
[]
[null,null,null,"「Cパート」",null,null,"「Dパート」",null,null,"「Gパート」",null,null,"「Hパート」"]
[null,null,null,{"$f":"組合せ抽選用!L5","v":"ドリームキッズ"},null,null,{"$f":"組合せ抽選用!L22","v":"Ｓｈｙｎｔ"},null,null,{"$f":"組合せ抽選用!L13","v":"ＦＣ中津"},null,null,{"$f":"組合せ抽選用!L30","v":"山香"}]
[]
[null,null,{"$f":"組合せ抽選用!J9","v":"明治北"},null,{"$f":"組合せ抽選用!M9","v":"大野"},{"$f":"組合せ抽選用!J26","v":"判田"},null,{"$f":"組合せ抽選用!M26","v":"アリアーレ"},{"$f":"組合せ抽選用!J17","v":"金池長浜"},null,{"$f":"組合せ抽選用!M17","v":"朝日"},{"$f":"組合せ抽選用!J34","v":"明野西"},null,{"$f":"組合せ抽選用!M34","v":"荏隈"}]
[]
[null,null,"昭和電工ｻｯｶｰ･ﾗｸﾞﾋﾞｰ場　Bｺｰﾄ",null,null,null,null,null,"大分県ｻｯｶｰ協会人工芝ｸﾞﾗｳﾝﾄﾞ"]
[null,"開始時刻","「北」コート",null,null,"「南」コート",null,null,"「北」コート",null,null,"「南」コート"]
[null,"会場設営","寒田","カティ","ドリキ","明治北","北坂","判田","トリニータ","金池長浜",null,"リノス","明野西","荏隈"]
[null,"ｺﾞｰﾙ運搬"]
[null,"審判",null,"副審",null,null,"副審",null,null,"副審",null,null,"副審"]
["①","10:30:00",{"$f":"D5","v":"市浜"},{"$f":"E12","v":"大野"},{"$f":"C7","v":"寒田"},{"$f":"G5","v":"八坂"},{"$f":"H12","v":"アリアーレ"},{"$f":"F7","v":"北郡坂ノ市"},{"$f":"J5","v":"四日市南"},{"$f":"K12","v":"朝日"},{"$f":"I7","v":"トリニータ"},{"$f":"M5","v":"スマイス"},{"$f":"N12","v":"荏隈"},{"$f":"L7","v":"リノス"}]
[null,null,null,{"$f":"D10","v":"ドリームキッズ"},null,null,{"$f":"G10","v":"Ｓｈｙｎｔ"},null,null,{"$f":"J10","v":"ＦＣ中津"},null,null,{"$f":"M10","v":"山香"}]
["②","11:30:00",{"$f":"D10","v":"ドリームキッズ"},{"$f":"D5","v":"市浜"},{"$f":"C12","v":"明治北"},{"$f":"G10","v":"Ｓｈｙｎｔ"},{"$f":"G5","v":"八坂"},{"$f":"F12","v":"判田"},{"$f":"J10","v":"ＦＣ中津"},{"$f":"J5","v":"四日市南"},{"$f":"I12","v":"金池長浜"},{"$f":"M10","v":"山香"},{"$f":"M5","v":"スマイス"},{"$f":"L12","v":"明野西"}]
[null,null,null,{"$f":"C7","v":"寒田"},null,null,{"$f":"F7","v":"北郡坂ノ市"},null,null,{"$f":"I7","v":"トリニータ"},null,null,{"$f":"L7","v":"リノス"}]
["③","12:30:00",{"$f":"C7","v":"寒田"},{"$f":"D10","v":"ドリームキッズ"},{"$f":"E7","v":"カティオーラ"},{"$f":"F7","v":"北郡坂ノ市"},{"$f":"G10","v":"Ｓｈｙｎｔ"},{"$f":"H7","v":"太陽大分西"},{"$f":"I7","v":"トリニータ"},{"$f":"J10","v":"ＦＣ中津"},{"$f":"K7","v":"鶴居"},{"$f":"L7","v":"リノス"},{"$f":"M10","v":"山香"},{"$f":"N7","v":"鶴岡"}]
[null,null,null,{"$f":"C12","v":"明治北"},null,null,{"$f":"F12","v":"判田"},null,null,{"$f":"I12","v":"金池長浜"},null,null,{"$f":"L12","v":"明野西"}]
["④","13:30:00",{"$f":"C12","v":"明治北"},{"$f":"C7","v":"寒田"},{"$f":"E12","v":"大野"},{"$f":"F12","v":"判田"},{"$f":"F7","v":"北郡坂ノ市"},{"$f":"H12","v":"アリアーレ"},{"$f":"I12","v":"金池長浜"},{"$f":"I7","v":"トリニータ"},{"$f":"K12","v":"朝日"},{"$f":"L12","v":"明野西"},{"$f":"L7","v":"リノス"},{"$f":"N12","v":"荏隈"}]
[null,null,null,{"$f":"E7","v":"カティオーラ"},null,null,{"$f":"H7","v":"太陽大分西"},null,null,{"$f":"K7","v":"鶴居"},null,null,{"$f":"N7","v":"鶴岡"}]
[null,null,"休　　　　　　憩"]
[]
["⑤","14:30:00",{"$f":"E7","v":"カティオーラ"},{"$f":"C12","v":"明治北"},{"$f":"D5","v":"市浜"},{"$f":"H7","v":"太陽大分西"},{"$f":"F12","v":"判田"},{"$f":"G5","v":"八坂"},{"$f":"K7","v":"鶴居"},{"$f":"I12","v":"金池長浜"},{"$f":"J5","v":"四日市南"},{"$f":"N7","v":"鶴岡"},{"$f":"L12","v":"明野西"},{"$f":"M5","v":"スマイス"}]
[null,null,null,{"$f":"E12","v":"大野"},null,null,{"$f":"H12","v":"アリアーレ"},null,null,{"$f":"K12","v":"朝日"},null,null,{"$f":"N12","v":"荏隈"}]
["⑥","15:30:00",{"$f":"E12","v":"大野"},{"$f":"E7","v":"カティオーラ"},{"$f":"D10","v":"ドリームキッズ"},{"$f":"H12","v":"アリアーレ"},{"$f":"H7","v":"太陽大分西"},{"$f":"G10","v":"Ｓｈｙｎｔ"},{"$f":"K12","v":"朝日"},{"$f":"K7","v":"鶴居"},{"$f":"J10","v":"ＦＣ中津"},{"$f":"N12","v":"荏隈"},{"$f":"N7","v":"鶴岡"},{"$f":"M10","v":"山香"}]
[null,null,null,{"$f":"D5","v":"市浜"},null,null,{"$f":"G5","v":"八坂"},null,null,{"$f":"J5","v":"四日市南"},null,null,{"$f":"M5","v":"スマイス"}]

{"sheet":"予選リーグ (2)","index":8,"n_rows":75,"n_cols":53,"rows_kept":75,"cut":false,"hidden":false,"merged":[[20,49,20,51],[20,45,20,47],[20,43,20,44],[16,52,16,54],[17,52,17,54],[22,52,22,54],[18,49,18,51],[19,37,19,39],[19,43,19,44],[19,45,19,47],[19,49,19,51],[18,40,18,42],[22,37,22,39],[18,45,18,47],[19,52,19,54],[20,52,20,54],[21,52,21,54],[19,40,19,42],[20,37,20,39],[18,43,18,44],[16,49,16,51],[16,45,16,47],[14,33,14,35],[15,21,15,23],[14,28,15,28],[14,29,15,30],[14,31,14,32],[15,17,15,19],[15,24,15,26],[23,52,23,54],[22,45,22,47],[21,40,21,42],[21,37,21,39],[20,40,20,42],[22,43,22,44],[17,49,17,51],[16,43,16,44],[16,17,16,19],[17,17,17,19],[17,21,17,23],[16,24,16,26],[17,24,17,26],[18,17,18,19],[18,52,18,54],[18,28,19,28],[18,37,18,39],[12,12,12,14],[13,12,13,14],[16,9,16,11],[45,17,46,17],[52,3,52,5],[47,20,48,21],[49,20,50,21],[47,17,48,17],[47,19,48,19],[49,19,50,19],[45,19,46,19],[45,18,46,18],[45,14,46,14],[45,13,46,13],[14,17,14,19],[19,3,19,4],[19,5,19,7],[20,15,20,16],[19,15,19,16],[49,13,50,13],[52,6,52,8],[52,18,52,19],[49,16,50,16],[49,15,50,15],[23,49,23,51],[23,40,23,42],[22,40,22,42],[21,49,21,51],[21,45,21,47],[21,43,21,44],[22,49,22,51],[18,15,18,16],[15,15,15,16],[16,15,16,16],[17,15,17,16],[15,31,15,32],[15,33,15,35],[16,31,16,32],[16,33,16,35],[17,31,17,32],[17,33,17,35],[16,29,17,30],[20,28,21,28],[20,24,20,26],[23,33,23,35],[23,31,23,32],[22,29,23,30],[22,33,22,35],[13,52,13,54],[13,43,13,44],[13,45,13,47],[13,49,13,51],[14,52,14,54],[15,52,15,54],[14,49,14,51],[15,43,15,44],[15,49,15,51],[47,16,48,16],[13,40,13,42],[14,45,14,47],[14,43,14,44],[13,33,13,35],[12,40,12,42],[13,37,13,39],[23,43,23,44],[12,37,12,39],[12,45,12,47],[17,37,17,39],[17,45,17,47],[17,43,17,44],[16,40,16,42],[16,37,16,39],[15,40,15,42],[15,37,15,39],[14,37,14,39],[18,33,18,35],[20,33,20,35],[19,33,19,35],[17,40,17,42],[15,45,15,47],[21,33,21,35],[22,24,22,26],[22,21,22,23],[47,23,48,23],[44,28,44,30],[45,22,46,22],[44,24,44,25],[45,23,46,23],[45,24,46,25],[44,22,44,23],[46,29,46,30],[45,0,46,0],[45,1,45,2],[46,1,46,2],[22,3,22,4],[22,5,22,7],[2,28,2,30],[3,28,3,30],[12,28,13,28],[12,29,13,30],[11,28,11,30],[44,18,44,19],[20,21,20,23],[19,21,19,23],[20,29,21,30],[22,28,23,28],[22,17,22,19],[12,24,12,26],[13,24,13,26],[14,21,14,23],[14,24,14,26],[12,21,12,23],[13,17,13,19],[12,17,12,19],[16,28,17,28],[22,15,22,16],[19,12,19,14],[18,12,18,14],[17,9,17,11],[44,0,44,2],[22,0,23,0],[22,1,23,2],[23,5,23,7],[23,3,23,4],[44,6,44,8],[20,0,21,0],[23,9,23,11],[23,15,23,16],[19,17,19,19],[18,24,18,26],[17,12,17,14],[18,0,19,0],[18,1,19,2],[18,3,18,4],[21,3,21,4],[21,5,21,7],[20,1,21,2],[20,3,20,4],[20,5,20,7],[21,12,21,14],[20,12,20,14],[15,12,15,14],[16,12,16,14],[18,5,18,7],[19,9,19,11],[18,9,18,11],[44,3,44,5],[15,9,15,11],[20,9,20,11],[44,9,44,11],[23,12,23,14],[15,3,15,4],[22,12,22,14],[49,23,50,23],[49,22,50,22],[49,17,50,17],[22,9,22,11],[4,28,6,30],[10,28,10,30],[47,22,48,22],[4,49,4,54],[5,49,5,54],[10,31,10,42],[5,43,5,48],[6,43,6,48],[10,43,10,54],[5,37,5,42],[6,37,6,42],[4,37,4,42],[5,15,5,20],[11,40,11,42],[6,15,6,20],[10,15,10,26],[11,24,11,26],[12,9,12,11],[21,9,21,11],[47,15,48,15],[55,19,56,19],[53,22,54,22],[53,23,54,23],[53,20,54,21],[53,19,54,19],[55,17,56,17],[55,18,56,18],[53,17,54,17],[53,18,54,18],[55,22,56,22],[55,15,56,15],[55,16,56,16],[55,0,56,0],[55,1,55,2],[55,12,56,12],[55,13,56,13],[56,1,56,2],[53,15,54,15],[53,16,54,16],[47,0,48,0],[47,1,47,2],[47,12,48,12],[49,0,50,0],[49,1,49,2],[53,0,54,0],[53,1,53,2],[53,14,54,14],[54,1,54,2],[50,1,50,2],[52,0,52,2],[49,14,50,14],[48,1,48,2],[52,9,52,11],[45,44,46,44],[45,46,46,46],[44,46,44,47],[23,45,23,47],[16,21,16,23],[18,21,18,23],[45,42,46,42],[45,16,46,16],[45,15,46,15],[18,31,18,32],[20,31,20,32],[18,29,19,30],[19,31,19,32],[19,24,19,26],[21,15,21,16],[23,21,23,23],[23,24,23,26],[45,41,46,41],[21,17,21,19],[21,24,21,26],[21,21,21,23],[23,17,23,19],[22,31,22,32],[21,31,21,32],[49,42,50,42],[53,12,54,12],[53,13,54,13],[44,34,44,36],[44,37,44,39],[44,20,44,21],[20,17,20,19],[45,12,46,12],[45,28,46,28],[45,29,45,30],[45,20,46,21],[49,18,50,18],[47,18,48,18],[23,37,23,39],[52,24,52,25],[52,20,52,21],[52,34,52,36],[47,14,48,14],[47,13,48,13],[47,40,48,40],[47,24,48,25],[49,28,50,28],[49,12,50,12],[52,22,52,23],[44,52,44,53],[44,50,44,51],[44,48,44,49],[49,29,49,30],[48,29,48,30],[50,29,50,30],[47,50,48,50],[47,43,48,43],[44,31,44,33],[49,41,50,41],[45,47,46,47],[45,52,46,53],[45,45,46,45],[45,43,46,43],[47,52,48,53],[47,48,48,49],[47,46,48,46],[47,47,48,47],[45,50,46,50],[45,48,46,49],[45,51,46,51],[49,48,50,49],[49,44,50,44],[47,51,48,51],[60,0,60,2],[60,3,60,5],[57,1,57,2],[55,14,56,14],[11,52,11,54],[12,52,12,54],[52,37,52,39],[47,28,48,28],[47,29,47,30],[12,49,12,51],[49,40,50,40],[13,31,13,32],[12,43,12,44],[14,40,14,42],[53,28,54,28],[53,29,53,30],[47,41,48,41],[47,42,48,42],[45,40,46,40],[55,23,56,23],[53,42,54,42],[54,29,54,30],[52,28,52,30],[49,24,50,25],[57,0,58,0],[57,12,58,12],[60,6,60,8],[60,9,60,11],[57,14,58,14],[61,14,62,14],[61,15,62,15],[61,22,62,22],[63,23,64,23],[63,18,64,18],[63,19,64,19],[63,20,64,21],[63,22,64,22],[60,22,60,23],[57,15,58,15],[57,16,58,16],[57,17,58,17],[57,20,58,21],[57,19,58,19],[57,18,58,18],[60,20,60,21],[57,22,58,22],[57,13,58,13],[58,1,58,2],[63,0,64,0],[63,1,63,2],[63,12,64,12],[63,13,64,13],[64,1,64,2],[61,16,62,16],[61,1,61,2],[61,12,62,12],[61,13,62,13],[62,1,62,2],[61,0,62,0],[65,13,66,13],[65,0,66,0],[65,18,66,18],[65,17,66,17],[65,1,65,2],[65,12,66,12],[66,1,66,2],[69,20,70,21],[69,18,70,18],[68,18,68,19],[69,19,70,19],[68,20,68,21],[65,19,66,19],[68,9,68,11],[68,0,68,2],[68,3,68,5],[68,6,68,8],[65,20,66,21],[73,19,74,19],[69,14,70,14],[71,14,72,14],[73,0,74,0],[73,1,73,2],[73,12,74,12],[73,13,74,13],[74,1,74,2],[71,19,72,19],[69,0,70,0],[71,0,72,0],[73,14,74,14],[73,17,74,17],[69,1,69,2],[71,13,72,13],[72,1,72,2],[70,1,70,2],[69,12,70,12],[69,13,70,13],[73,15,74,15],[73,16,74,16],[71,1,71,2],[71,12,72,12],[73,18,74,18],[61,17,62,17],[61,20,62,21],[63,14,64,14],[63,15,64,15],[63,16,64,16],[63,17,64,17],[61,18,62,18],[61,19,62,19],[71,16,72,16],[69,15,70,15],[71,17,72,17],[71,18,72,18],[71,15,72,15],[69,16,70,16],[69,17,70,17],[65,14,66,14],[65,15,66,15],[65,16,66,16],[53,40,54,40],[53,45,54,45],[65,24,66,25],[68,24,68,25],[73,20,74,21],[57,23,58,23],[71,22,72,22],[69,22,70,22],[69,23,70,23],[73,22,74,22],[71,23,72,23],[61,23,62,23],[61,24,62,25],[53,44,54,44],[53,43,54,43],[58,29,58,30],[55,28,56,28],[63,29,63,30],[63,40,64,40],[63,41,64,41],[64,29,64,30],[63,42,64,42],[63,43,64,43],[71,28,72,28],[60,18,60,19],[71,20,72,21],[55,24,56,25],[47,45,48,45],[57,24,58,25],[73,23,74,23],[73,24,74,25],[65,23,66,23],[71,24,72,25],[68,22,68,23],[69,24,70,25],[55,20,56,21],[47,44,48,44],[65,22,66,22],[63,24,64,25],[60,24,60,25],[53,24,54,25],[52,31,52,33],[49,45,50,45],[49,43,50,43],[53,41,54,41],[57,41,58,41],[56,29,56,30],[55,29,55,30],[53,52,54,53],[53,50,54,50],[49,46,50,46],[53,46,54,46],[52,52,52,53],[52,50,52,51],[53,51,54,51],[49,52,50,53],[49,50,50,50],[49,51,50,51],[53,48,54,49],[53,47,54,47],[52,48,52,49],[49,47,50,47],[52,46,52,47],[55,47,56,47],[55,48,56,49],[55,52,56,53],[55,40,56,40],[55,41,56,41],[57,42,58,42],[55,50,56,50],[55,51,56,51],[57,44,58,44],[55,44,56,44],[57,50,58,50],[57,45,58,45],[55,42,56,42],[55,43,56,43],[55,45,56,45],[57,43,58,43],[55,46,56,46],[57,52,58,53],[57,46,58,46],[57,47,58,47],[57,40,58,40],[61,50,62,50],[61,48,62,49],[57,51,58,51],[61,51,62,51],[60,28,60,30],[60,31,60,33],[60,34,60,36],[60,52,60,53],[60,50,60,51],[61,52,62,53],[61,29,61,30],[61,40,62,40],[62,29,62,30],[60,37,60,39],[61,45,62,45],[63,28,64,28],[60,48,60,49],[60,46,60,47],[61,44,62,44],[61,28,62,28],[61,42,62,42],[61,43,62,43],[61,41,62,41],[57,28,58,28],[57,29,57,30],[57,48,58,49],[61,47,62,47],[61,46,62,46],[65,42,66,42],[65,43,66,43],[65,44,66,44],[65,45,66,45],[65,46,66,46],[65,47,66,47],[68,37,68,39],[68,28,68,30],[65,41,66,41],[66,29,66,30],[65,28,66,28],[65,29,65,30],[65,40,66,40],[65,52,66,53],[63,44,64,44],[63,50,64,50],[63,51,64,51],[63,52,64,53],[65,51,66,51],[63,45,64,45],[63,46,64,46],[63,47,64,47],[63,48,64,49],[65,50,66,50],[65,48,66,49],[69,52,70,53],[69,50,70,50],[69,51,70,51],[69,28,70,28],[69,29,69,30],[69,40,70,40],[69,41,70,41],[70,29,70,30],[69,45,70,45],[69,42,70,42],[69,43,70,43],[69,44,70,44],[69,48,70,49],[69,46,70,46],[69,47,70,47],[68,52,68,53],[68,50,68,51],[68,46,68,47],[68,48,68,49],[68,31,68,33],[68,34,68,36],[73,42,74,42],[73,43,74,43],[73,44,74,44],[71,44,72,44],[73,51,74,51],[73,52,74,53],[73,50,74,50],[71,50,72,50],[71,51,72,51],[71,52,72,53],[73,45,74,45],[71,48,72,49],[73,46,74,46],[73,47,74,47],[73,48,74,49],[71,46,72,46],[71,45,72,45],[71,47,72,47],[73,28,74,28],[73,29,73,30],[73,40,74,40],[73,41,74,41],[74,29,74,30],[71,40,72,40],[72,29,72,30],[71,42,72,42],[71,43,72,43],[71,29,71,30],[71,41,72,41],[0,0,0,26],[0,28,0,54],[9,28,9,30],[9,0,9,2],[2,31,2,54],[3,49,3,54],[3,37,3,42],[3,43,3,48],[6,49,6,54],[4,43,4,48],[5,9,5,14],[5,3,5,8],[3,21,3,26],[4,21,4,26],[6,21,6,26],[5,21,5,26],[4,9,4,14],[6,9,6,14],[2,0,2,2],[3,0,3,2],[4,0,6,2],[2,3,2,26],[3,3,3,8],[4,3,4,8],[3,31,3,36],[4,31,4,36],[12,0,13,0],[12,1,13,2],[12,3,12,4],[13,3,13,4],[5,31,5,36],[6,31,6,36],[14,3,14,4],[12,31,12,32],[12,33,12,35],[13,21,13,23],[12,15,12,16],[14,15,14,16],[10,3,10,14],[6,3,6,8],[3,15,3,20],[4,15,4,20],[3,9,3,14],[13,15,13,16],[11,12,11,14],[14,12,14,14],[14,9,14,11],[13,9,13,11],[11,0,11,2],[10,0,10,2],[12,5,12,7],[13,5,13,7],[16,0,17,0],[16,1,17,2],[16,3,16,4],[17,3,17,4],[14,5,14,7],[14,0,15,0],[14,1,15,2],[16,5,16,7],[17,5,17,7],[15,5,15,7]]}
["＜予選リーグ組み合わせ・結果＞",null,null,null,null,null,null,null,null,null,null,null,null,null,null,null,null,null,null,null,null,null,null,null,null,null,null,null,"＜予選リーグ組み合わせ・結果＞"]
[]
["会場",null,null,{"$f":"予選リーグ!C14","v":"昭和電工ｻｯｶｰ･ﾗｸﾞﾋﾞｰ場　Bｺｰﾄ"},null,null,null,null,null,null,null,null,null,null,null,null,null,null,null,null,null,null,null,null,null,null,null,null,"会場",null,null,{"$f":"予選リーグ!I14","v":"大分県ｻｯｶｰ協会人工芝ｸﾞﾗｳﾝﾄﾞ"}]
["グループ",null,null,"【　A　】",null,null,null,null,null,"【　C　】",null,null,null,null,null,"【　B　】",null,null,null,null,null,"【　D　】",null,null,null,null,null,null,"グループ",null,null,"【　E　】",null,null,null,null,null,"【　G　】",null,null,null,null,null,"【　F　】",null,null,null,null,null,"【　H　】"]
["チーム",null,null,{"$f":"予選リーグ!D5","v":"市浜"},null,null,null,null,null,{"$f":"予選リーグ!D10","v":"ドリームキッズ"},null,null,null,null,null,{"$f":"予選リーグ!G5","v":"八坂"},null,null,null,null,null,{"$f":"予選リーグ!G10","v":"Ｓｈｙｎｔ"},null,null,null,null,null,null,"チーム",null,null,{"$f":"予選リーグ!J5","v":"四日市南"},null,null,null,null,null,{"$f":"予選リーグ!J10","v":"ＦＣ中津"},null,null,null,null,null,{"$f":"予選リーグ!M5","v":"スマイス"},null,null,null,null,null,{"$f":"予選リーグ!M10","v":"山香"}]
[null,null,null,{"$f":"予選リーグ!C7","v":"寒田"},null,null,null,null,null,{"$f":"予選リーグ!C12","v":"明治北"},null,null,null,null,null,{"$f":"予選リーグ!F7","v":"北郡坂ノ市"},null,null,null,null,null,{"$f":"予選リーグ!F12","v":"判田"},null,null,null,null,null,null,null,null,null,{"$f":"予選リーグ!I7","v":"トリニータ"},null,null,null,null,null,{"$f":"予選リーグ!I12","v":"金池長浜"},null,null,null,null,null,{"$f":"予選リーグ!L7","v":"リノス"},null,null,null,null,null,{"$f":"予選リーグ!L12","v":"明野西"}]
[null,null,null,{"$f":"予選リーグ!E7","v":"カティオーラ"},null,null,null,null,null,{"$f":"予選リーグ!E12","v":"大野"},null,null,null,null,null,{"$f":"予選リーグ!H7","v":"太陽大分西"},null,null,null,null,null,{"$f":"予選リーグ!H12","v":"アリアーレ"},null,null,null,null,null,null,null,null,null,{"$f":"予選リーグ!K7","v":"鶴居"},null,null,null,null,null,{"$f":"予選リーグ!K12","v":"朝日"},null,null,null,null,null,{"$f":"予選リーグ!N7","v":"鶴岡"},null,null,null,null,null,{"$f":"予選リーグ!N12","v":"荏隈"}]
[]
[]
["【組合せ・時間割】",null,null,null,null,null,null,null,null,null,null,null,null,null,null,null,null,null,null,null,null,null,null,null,null,null,null,null,"【組合せ・時間割】"]
["コート",null,null,{"$f":"予選リーグ!C15","v":"「北」コート"},null,null,null,null,null,null,null,null,null,null,null,{"$f":"予選リーグ!F15","v":"「南」コート"},null,null,null,null,null,null,null,null,null,null,null,null,"コート",null,null,{"$f":"予選リーグ!I15","v":"「北」コート"},null,null,null,null,null,null,null,null,null,null,null,{"$f":"予選リーグ!L15","v":"「南」コート"}]
["試合時間",null,null,null,null,null,null,null,"対戦相手",null,null,null,"副審",null,null,null,null,null,null,null,"対戦相手",null,null,null,"副審",null,null,null,"試合時間",null,null,null,null,null,null,null,"対戦相手",null,null,null,"副審",null,null,null,null,null,null,null,"対戦相手",null,null,null,"副審"]
["①",{"$f":"予選リーグ!B19","v":"10:30:00"},null,"チーム名",null,{"$f":"予選リーグ!C19","v":"市浜"},null,null,"-",{"$f":"予選リーグ!E19","v":"寒田"},null,null,{"$f":"予選リーグ!D19","v":"大野"},null,null,"チーム名",null,{"$f":"予選リーグ!F19","v":"八坂"},null,null,"-",{"$f":"予選リーグ!H19","v":"北郡坂ノ市"},null,null,{"$f":"予選リーグ!G19","v":"アリアーレ"},null,null,null,"①",{"$f":"予選リーグ!B19","v":"10:30:00"},null,"チーム名",null,{"$f":"予選リーグ!I19","v":"四日市南"},null,null,"-",{"$f":"予選リーグ!K19","v":"トリニータ"},null,null,{"$f":"予選リーグ!J19","v":"朝日"},null,null,"チーム名",null,{"$f":"予選リーグ!L19","v":"スマイス"},null,null,"-",{"$f":"予選リーグ!N19","v":"リノス"},null,null,{"$f":"予選リーグ!M19","v":"荏隈"}]
[null,null,null,"得失点",null,0,null,null,"-",0,null,null,{"$f":"予選リーグ!D20","v":"ドリームキッズ"},null,null,"得失点",null,0,null,null,"-",3,null,null,{"$f":"予選リーグ!G20","v":"Ｓｈｙｎｔ"},null,null,null,null,null,null,"得失点",null,0,null,null,"-",6,null,null,{"$f":"予選リーグ!J20","v":"ＦＣ中津"},null,null,"得失点",null,0,null,null,"-",3,null,null,{"$f":"予選リーグ!M20","v":"山香"}]
["②",{"$f":"予選リーグ!B21","v":"11:30:00"},null,"チーム名",null,{"$f":"予選リーグ!C21","v":"ドリームキッズ"},null,null,"-",{"$f":"予選リーグ!E21","v":"明治北"},null,null,{"$f":"予選リーグ!D21","v":"市浜"},null,null,"チーム名",null,{"$f":"予選リーグ!F21","v":"Ｓｈｙｎｔ"},null,null,"-",{"$f":"予選リーグ!H21","v":"判田"},null,null,{"$f":"予選リーグ!G21","v":"八坂"},null,null,null,"②",{"$f":"予選リーグ!B21","v":"11:30:00"},null,"チーム名",null,{"$f":"予選リーグ!I21","v":"ＦＣ中津"},null,null,"-",{"$f":"予選リーグ!K21","v":"金池長浜"},null,null,{"$f":"予選リーグ!J21","v":"四日市南"},null,null,"チーム名",null,{"$f":"予選リーグ!L21","v":"山香"},null,null,"-",{"$f":"予選リーグ!N21","v":"明野西"},null,null,{"$f":"予選リーグ!M21","v":"スマイス"}]
[null,null,null,"得失点",null,3,null,null,"-",0,null,null,{"$f":"予選リーグ!D22","v":"寒田"},null,null,"得失点",null,2,null,null,"-",2,null,null,{"$f":"予選リーグ!G22","v":"北郡坂ノ市"},null,null,null,null,null,null,"得失点",null,4,null,null,"-",1,null,null,{"$f":"予選リーグ!J22","v":"トリニータ"},null,null,"得失点",null,2,null,null,"-",1,null,null,{"$f":"予選リーグ!M22","v":"リノス"}]
["③",{"$f":"予選リーグ!B23","v":"12:30:00"},null,"チーム名",null,{"$f":"予選リーグ!C23","v":"寒田"},null,null,"-",{"$f":"予選リーグ!E23","v":"カティオーラ"},null,null,{"$f":"予選リーグ!D23","v":"ドリームキッズ"},null,null,"チーム名",null,{"$f":"予選リーグ!F23","v":"北郡坂ノ市"},null,null,"-",{"$f":"予選リーグ!H23","v":"太陽大分西"},null,null,{"$f":"予選リーグ!G23","v":"Ｓｈｙｎｔ"},null,null,null,"③",{"$f":"予選リーグ!B23","v":"12:30:00"},null,"チーム名",null,{"$f":"予選リーグ!I23","v":"トリニータ"},null,null,"-",{"$f":"予選リーグ!K23","v":"鶴居"},null,null,{"$f":"予選リーグ!J23","v":"ＦＣ中津"},null,null,"チーム名",null,{"$f":"予選リーグ!L23","v":"リノス"},null,null,"-",{"$f":"予選リーグ!N23","v":"鶴岡"},null,null,{"$f":"予選リーグ!M23","v":"山香"}]
[null,null,null,"得失点",null,1,null,null,"-",6,null,null,{"$f":"予選リーグ!D24","v":"明治北"},null,null,"得失点",null,0,null,null,"-",5,null,null,{"$f":"予選リーグ!G24","v":"判田"},null,null,null,null,null,null,"得失点",null,5,null,null,"-",1,null,null,{"$f":"予選リーグ!J24","v":"金池長浜"},null,null,"得失点",null,1,null,null,"-",1,null,null,{"$f":"予選リーグ!M24","v":"明野西"}]
["④",{"$f":"予選リーグ!B25","v":"13:30:00"},null,"チーム名",null,{"$f":"予選リーグ!C25","v":"明治北"},null,null,"-",{"$f":"予選リーグ!E25","v":"大野"},null,null,{"$f":"予選リーグ!D25","v":"寒田"},null,null,"チーム名",null,{"$f":"予選リーグ!F25","v":"判田"},null,null,"-",{"$f":"予選リーグ!H25","v":"アリアーレ"},null,null,{"$f":"予選リーグ!G25","v":"北郡坂ノ市"},null,null,null,"④",{"$f":"予選リーグ!B25","v":"13:30:00"},null,"チーム名",null,{"$f":"予選リーグ!I25","v":"金池長浜"},null,null,"-",{"$f":"予選リーグ!K25","v":"朝日"},null,null,{"$f":"予選リーグ!J25","v":"トリニータ"},null,null,"チーム名",null,{"$f":"予選リーグ!L25","v":"明野西"},null,null,"-",{"$f":"予選リーグ!N25","v":"荏隈"},null,null,{"$f":"予選リーグ!M25","v":"リノス"}]
[null,null,null,"得失点",null,0,null,null,"-",2,null,null,{"$f":"予選リーグ!D26","v":"カティオーラ"},null,null,"得失点",null,1,null,null,"-",2,null,null,{"$f":"予選リーグ!G26","v":"太陽大分西"},null,null,null,null,null,null,"得失点",null,3,null,null,"-",1,null,null,{"$f":"予選リーグ!J26","v":"鶴居"},null,null,"得失点",null,4,null,null,"-",3,null,null,{"$f":"予選リーグ!M26","v":"鶴岡"}]
["⑤",{"$f":"予選リーグ!B29","v":"14:30:00"},null,"チーム名",null,{"$f":"予選リーグ!C29","v":"カティオーラ"},null,null,"-",{"$f":"予選リーグ!E29","v":"市浜"},null,null,{"$f":"予選リーグ!D29","v":"明治北"},null,null,"チーム名",null,{"$f":"予選リーグ!F29","v":"太陽大分西"},null,null,"-",{"$f":"予選リーグ!H29","v":"八坂"},null,null,{"$f":"予選リーグ!G29","v":"判田"},null,null,null,"⑤",{"$f":"予選リーグ!B29","v":"14:30:00"},null,"チーム名",null,{"$f":"予選リーグ!I29","v":"鶴居"},null,null,"-",{"$f":"予選リーグ!K29","v":"四日市南"},null,null,{"$f":"予選リーグ!J29","v":"金池長浜"},null,null,"チーム名",null,{"$f":"予選リーグ!L29","v":"鶴岡"},null,null,"-",{"$f":"予選リーグ!N29","v":"スマイス"},null,null,{"$f":"予選リーグ!M29","v":"明野西"}]
[null,null,null,"得失点",null,8,null,null,"-",0,null,null,{"$f":"予選リーグ!D30","v":"大野"},null,null,"得失点",null,3,null,null,"-",0,null,null,{"$f":"予選リーグ!G30","v":"アリアーレ"},null,null,null,null,null,null,"得失点",null,2,null,null,"-",1,null,null,{"$f":"予選リーグ!J30","v":"朝日"},null,null,"得失点",null,1,null,null,"-",2,null,null,{"$f":"予選リーグ!M30","v":"荏隈"}]
["⑥",{"$f":"予選リーグ!B31","v":"15:30:00"},null,"チーム名",null,{"$f":"予選リーグ!C31","v":"大野"},null,null,"-",{"$f":"予選リーグ!E31","v":"ドリームキッズ"},null,null,{"$f":"予選リーグ!D31","v":"カティオーラ"},null,null,"チーム名",null,{"$f":"予選リーグ!F31","v":"アリアーレ"},null,null,"-",{"$f":"予選リーグ!H31","v":"Ｓｈｙｎｔ"},null,null,{"$f":"予選リーグ!G31","v":"太陽大分西"},null,null,null,"⑥",{"$f":"予選リーグ!B31","v":"15:30:00"},null,"チーム名",null,{"$f":"予選リーグ!I31","v":"朝日"},null,null,"-",{"$f":"予選リーグ!K31","v":"ＦＣ中津"},null,null,{"$f":"予選リーグ!J31","v":"鶴居"},null,null,"チーム名",null,{"$f":"予選リーグ!L31","v":"荏隈"},null,null,"-",{"$f":"予選リーグ!N31","v":"山香"},null,null,{"$f":"予選リーグ!M31","v":"鶴岡"}]
[null,null,null,"得失点",null,1,null,null,"-",4,null,null,{"$f":"予選リーグ!D32","v":"市浜"},null,null,"得失点",null,0,null,null,"-",4,null,null,{"$f":"予選リーグ!G32","v":"八坂"},null,null,null,null,null,null,"得失点",null,1,null,null,"-",4,null,null,{"$f":"予選リーグ!J32","v":"四日市南"},null,null,"得失点",null,1,null,null,"-",0,null,null,{"$f":"予選リーグ!M32","v":"スマイス"}]
[]
[]
[]
[]
[]
[]
[]
[]
[]
[]
[]
[]
[]
[]
[]
[]
[]
[]
[null,null,null,null,null,"勝点表","勝",3,null,"分",1,null,"負",0,null,null,null,null,null,null,null,null,null,null,null,null,null,null,null,null,null,null,null,"勝点表","勝",3,null,"分",1,null,"負",0]
[]
["Aパート",null,null,{"$f":"A46","v":"市浜"},null,null,{"$f":"A48","v":"寒田"},null,null,{"$f":"A50","v":"カティオーラ"},null,null,"勝","分","敗","得\n点","失\n点","勝\n点","勝点\n順位",null,"得失\n点差",null,"得失\n順位",null,"ﾄｰﾀﾙ\n順位",null,null,null,"Eパート",null,null,{"$f":"AC46","v":"四日市南"},null,null,{"$f":"AC48","v":"トリニータ"},null,null,{"$f":"AC50","v":"鶴居"},null,null,"勝","分","敗","得\n点","失\n点","勝\n点","勝点\n順位",null,"得失\n点差",null,"得失\n順位",null,"ﾄｰﾀﾙ\n順位"]
[{"$f":"予選リーグ!D5","v":"市浜"},"星取表",null,null,null,null,null,{"$f":"IF(G47=\"\",\"\",IF(G47>I47,\"○\",IF(G47<I47,\"●\",IF(G47=I47,\"△\"))))","v":"△"},null,null,{"$f":"IF(J47=\"\",\"\",IF(J47>L47,\"○\",IF(J47<L47,\"●\",IF(J47=L47,\"△\"))))","v":"●"},null,{"$f":"COUNTIF(D46:L46,\"○\")","v":0},{"$f":"COUNTIF(D46:L46,\"△\")","v":1},{"$f":"COUNTIF(D46:L46,\"●\")","v":1},{"$f":"SUM(D47,G47,J47)","v":0},{"$f":"SUM(F47,I47,L47)","v":8},{"$f":"(M46*4)+(N46*1)","v":1},{"$f":"RANK(R46,R$46:R$51)","v":2},"位",{"$f":"P46-Q46","v":-8},null,{"$f":"RANK(U46,U$46:U$51)","v":3},"位",3,null,null,null,{"$f":"予選リーグ!J5","v":"四日市南"},"星取表",null,null,null,null,null,{"$f":"IF(AI47=\"\",\"\",IF(AI47>AK47,\"○\",IF(AI47<AK47,\"●\",IF(AI47=AK47,\"△\"))))","v":"●"},null,null,{"$f":"IF(AL47=\"\",\"\",IF(AL47>AN47,\"○\",IF(AL47<AN47,\"●\",IF(AL47=AN47,\"△\"))))","v":"●"},null,{"$f":"COUNTIF(AF46:AN46,\"○\")","v":0},{"$f":"COUNTIF(AF46:AN46,\"△\")","v":0},{"$f":"COUNTIF(AF46:AN46,\"●\")","v":2},{"$f":"SUM(AF47,AI47,AL47)","v":1},{"$f":"SUM(AH47,AK47,AN47)","v":8},{"$f":"(AO46*4)+(AP46*1)","v":0},{"$f":"RANK(AT46,AT$46:AT$51)","v":3},"位",{"$f":"AR46-AS46","v":-7},null,{"$f":"RANK(AW46,AW$46:AW$51)","v":3},"位",3]
[null,"得失点",null,null,null,null,{"$f":"F14","v":0},"-",{"$f":"J14","v":0},{"$f":"J22","v":0},"-",{"$f":"F22","v":8},null,null,null,null,null,null,null,null,null,null,null,null,null,null,null,null,null,"得失点",null,null,null,null,{"$f":"AH14","v":0},"-",{"$f":"AL14","v":6},{"$f":"AL22","v":1},"-",{"$f":"AH22","v":2}]
[{"$f":"予選リーグ!C7","v":"寒田"},"星取表",null,null,{"$f":"IF(D49=\"\",\"\",IF(D49>F49,\"○\",IF(D49<F49,\"●\",IF(D49=F49,\"△\"))))","v":"△"},null,null,null,null,null,{"$f":"IF(J49=\"\",\"\",IF(J49>L49,\"○\",IF(J49<L49,\"●\",IF(J49=L49,\"△\"))))","v":"●"},null,{"$f":"COUNTIF(D48:L48,\"○\")","v":0},{"$f":"COUNTIF(D48:L48,\"△\")","v":1},{"$f":"COUNTIF(D48:L48,\"●\")","v":1},{"$f":"SUM(D49,G49,J49)","v":1},{"$f":"SUM(F49,I49,L49)","v":6},{"$f":"(M48*4)+(N48*1)","v":1},{"$f":"RANK(R48,R$46:R$51)","v":2},"位",{"$f":"P48-Q48","v":-5},null,{"$f":"RANK(U48,U$46:U$51)","v":2},"位",2,null,null,null,{"$f":"予選リーグ!I7","v":"トリニータ"},"星取表",null,null,{"$f":"IF(AF49=\"\",\"\",IF(AF49>AH49,\"○\",IF(AF49<AH49,\"●\",IF(AF49=AH49,\"△\"))))","v":"○"},null,null,null,null,null,{"$f":"IF(AL49=\"\",\"\",IF(AL49>AN49,\"○\",IF(AL49<AN49,\"●\",IF(AL49=AN49,\"△\"))))","v":"○"},null,{"$f":"COUNTIF(AF48:AN48,\"○\")","v":2},{"$f":"COUNTIF(AF48:AN48,\"△\")","v":0},{"$f":"COUNTIF(AF48:AN48,\"●\")","v":0},{"$f":"SUM(AF49,AI49,AL49)","v":11},{"$f":"SUM(AH49,AK49,AN49)","v":1},{"$f":"(AO48*4)+(AP48*1)","v":8},{"$f":"RANK(AT48,AT$46:AT$51)","v":1},"位",{"$f":"AR48-AS48","v":10},null,{"$f":"RANK(AW48,AW$46:AW$51)","v":1},"位",1]
[null,"得失点",null,{"$f":"I47","v":0},"-",{"$f":"G47","v":0},null,null,null,{"$f":"F18","v":1},"-",{"$f":"J18","v":6},null,null,null,null,null,null,null,null,null,null,null,null,null,null,null,null,null,"得失点",null,{"$f":"AK47","v":6},"-",{"$f":"AI47","v":0},null,null,null,{"$f":"AH18","v":5},"-",{"$f":"AL18","v":1}]
[{"$f":"予選リーグ!E7","v":"カティオーラ"},"星取表",null,null,{"$f":"IF(D51=\"\",\"\",IF(D51>F51,\"○\",IF(D51<F51,\"●\",IF(D51=F51,\"△\"))))","v":"○"},null,null,{"$f":"IF(G51=\"\",\"\",IF(G51>I51,\"○\",IF(G51<I51,\"●\",IF(G51=I51,\"△\"))))","v":"○"},null,null,null,null,{"$f":"COUNTIF(D50:L50,\"○\")","v":2},{"$f":"COUNTIF(D50:L50,\"△\")","v":0},{"$f":"COUNTIF(D50:L50,\"●\")","v":0},{"$f":"SUM(D51,G51,J51)","v":14},{"$f":"SUM(F51,I51,L51)","v":1},{"$f":"(M50*4)+(N50*1)","v":8},{"$f":"RANK(R50,R$46:R$51)","v":1},"位",{"$f":"P50-Q50","v":13},null,{"$f":"RANK(U50,U$46:U$51)","v":1},"位",1,null,null,null,{"$f":"予選リーグ!K7","v":"鶴居"},"星取表",null,null,{"$f":"IF(AF51=\"\",\"\",IF(AF51>AH51,\"○\",IF(AF51<AH51,\"●\",IF(AF51=AH51,\"△\"))))","v":"○"},null,null,{"$f":"IF(AI51=\"\",\"\",IF(AI51>AK51,\"○\",IF(AI51<AK51,\"●\",IF(AI51=AK51,\"△\"))))","v":"●"},null,null,null,null,{"$f":"COUNTIF(AF50:AN50,\"○\")","v":1},{"$f":"COUNTIF(AF50:AN50,\"△\")","v":0},{"$f":"COUNTIF(AF50:AN50,\"●\")","v":1},{"$f":"SUM(AF51,AI51,AL51)","v":3},{"$f":"SUM(AH51,AK51,AN51)","v":6},{"$f":"(AO50*4)+(AP50*1)","v":4},{"$f":"RANK(AT50,AT$46:AT$51)","v":2},"位",{"$f":"AR50-AS50","v":-3},null,{"$f":"RANK(AW50,AW$46:AW$51)","v":2},"位",2]
[null,"得失点",null,{"$f":"L47","v":8},"-",{"$f":"J47","v":0},{"$f":"L49","v":6},"-",{"$f":"J49","v":1},null,null,null,null,null,null,null,null,null,null,null,null,null,null,null,null,null,null,null,null,"得失点",null,{"$f":"AN47","v":2},"-",{"$f":"AL47","v":1},{"$f":"AN49","v":1},"-",{"$f":"AL49","v":5}]
[]
["Bパート",null,null,{"$f":"A54","v":"八坂"},null,null,{"$f":"A56","v":"北郡坂ノ市"},null,null,{"$f":"A58","v":"太陽大分西"},null,null,"勝","分","敗","得\n点","失\n点","勝\n点","勝点\n順位",null,"得失\n点差",null,"得失\n順位",null,"ﾄｰﾀﾙ\n順位",null,null,null,"Fパート",null,null,{"$f":"AC54","v":"スマイス"},null,null,{"$f":"AC56","v":"リノス"},null,null,{"$f":"AC58","v":"鶴岡"},null,null,"勝","分","敗","得\n点","失\n点","勝\n点","勝点\n順位",null,"得失\n点差",null,"得失\n順位",null,"ﾄｰﾀﾙ\n順位"]
[{"$f":"予選リーグ!G5","v":"八坂"},"星取表",null,null,null,null,null,{"$f":"IF(G55=\"\",\"\",IF(G55>I55,\"○\",IF(G55<I55,\"●\",IF(G55=I55,\"△\"))))","v":"●"},null,null,{"$f":"IF(J55=\"\",\"\",IF(J55>L55,\"○\",IF(J55<L55,\"●\",IF(J55=L55,\"△\"))))","v":"●"},null,{"$f":"COUNTIF(D54:L54,\"○\")","v":0},{"$f":"COUNTIF(D54:L54,\"△\")","v":0},{"$f":"COUNTIF(D54:L54,\"●\")","v":2},{"$f":"SUM(D55,G55,J55)","v":0},{"$f":"SUM(F55,I55,L55)","v":6},{"$f":"(M54*4)+(N54*1)","v":0},{"$f":"RANK(R54,$R$54:$R$59)","v":3},"位",{"$f":"P54-Q54","v":-6},null,{"$f":"RANK(U54,$U$54:$V$59)","v":3},"位",3,null,null,null,{"$f":"予選リーグ!M5","v":"スマイス"},"星取表",null,null,null,null,null,{"$f":"IF(AI55=\"\",\"\",IF(AI55>AK55,\"○\",IF(AI55<AK55,\"●\",IF(AI55=AK55,\"△\"))))","v":"●"},null,null,{"$f":"IF(AL55=\"\",\"\",IF(AL55>AN55,\"○\",IF(AL55<AN55,\"●\",IF(AL55=AN55,\"△\"))))","v":"○"},null,{"$f":"COUNTIF(AF54:AN54,\"○\")","v":1},{"$f":"COUNTIF(AF54:AN54,\"△\")","v":0},{"$f":"COUNTIF(AF54:AN54,\"●\")","v":1},{"$f":"SUM(AF55,AI55,AL55)","v":2},{"$f":"SUM(AH55,AK55,AN55)","v":4},{"$f":"(AO54*4)+(AP54*1)","v":4},{"$f":"RANK(AT54,$AT$54:$AT$59)","v":2},"位",{"$f":"AR54-AS54","v":-2},null,{"$f":"RANK(AW54,$AW$54:$AW$59)","v":3},"位",2]
[null,"得失点",null,null,null,null,{"$f":"R14","v":0},"-",{"$f":"V14","v":3},{"$f":"V22","v":0},"-",{"$f":"R22","v":3},null,null,null,null,null,null,null,null,null,null,null,null,null,null,null,null,null,"得失点",null,null,null,null,{"$f":"AT14","v":0},"-",{"$f":"AX14","v":3},{"$f":"AX22","v":2},"-",{"$f":"AT22","v":1}]
[{"$f":"予選リーグ!F7","v":"北郡坂ノ市"},"星取表",null,null,{"$f":"IF(D57=\"\",\"\",IF(D57>F57,\"○\",IF(D57<F57,\"●\",IF(D57=F57,\"△\"))))","v":"○"},null,null,null,null,null,{"$f":"IF(J57=\"\",\"\",IF(J57>L57,\"○\",IF(J57<L57,\"●\",IF(J57=L57,\"△\"))))","v":"●"},null,{"$f":"COUNTIF(D56:L56,\"○\")","v":1},{"$f":"COUNTIF(D56:L56,\"△\")","v":0},{"$f":"COUNTIF(D56:L56,\"●\")","v":1},{"$f":"SUM(D57,G57,J57)","v":3},{"$f":"SUM(F57,I57,L57)","v":5},{"$f":"(M56*4)+(N56*1)","v":4},{"$f":"RANK(R56,$R$54:$R$59)","v":2},"位",{"$f":"P56-Q56","v":-2},null,{"$f":"RANK(U56,$U$54:$V$59)","v":2},"位",2,null,null,null,{"$f":"予選リーグ!L7","v":"リノス"},"星取表",null,null,{"$f":"IF(AF57=\"\",\"\",IF(AF57>AH57,\"○\",IF(AF57<AH57,\"●\",IF(AF57=AH57,\"△\"))))","v":"○"},null,null,null,null,null,{"$f":"IF(AL57=\"\",\"\",IF(AL57>AN57,\"○\",IF(AL57<AN57,\"●\",IF(AL57=AN57,\"△\"))))","v":"△"},null,{"$f":"COUNTIF(AF56:AN56,\"○\")","v":1},{"$f":"COUNTIF(AF56:AN56,\"△\")","v":1},{"$f":"COUNTIF(AF56:AN56,\"●\")","v":0},{"$f":"SUM(AF57,AI57,AL57)","v":4},{"$f":"SUM(AH57,AK57,AN57)","v":1},{"$f":"(AO56*4)+(AP56*1)","v":5},{"$f":"RANK(AT56,$AT$54:$AT$59)","v":1},"位",{"$f":"AR56-AS56","v":3},null,{"$f":"RANK(AW56,$AW$54:$AW$59)","v":1},"位",1]
[null,"得失点",null,{"$f":"I55","v":3},"-",{"$f":"G55","v":0},null,null,null,{"$f":"R18","v":0},"-",{"$f":"V18","v":5},null,null,null,null,null,null,null,null,null,null,null,null,null,null,null,null,null,"得失点",null,{"$f":"AK55","v":3},"-",{"$f":"AI55","v":0},null,null,null,{"$f":"AT18","v":1},"-",{"$f":"AX18","v":1}]
[{"$f":"予選リーグ!H7","v":"太陽大分西"},"星取表",null,null,{"$f":"IF(D59=\"\",\"\",IF(D59>F59,\"○\",IF(D59<F59,\"●\",IF(D59=F59,\"△\"))))","v":"○"},null,null,{"$f":"IF(G59=\"\",\"\",IF(G59>I59,\"○\",IF(G59<I59,\"●\",IF(G59=I59,\"△\"))))","v":"○"},null,null,null,null,{"$f":"COUNTIF(D58:L58,\"○\")","v":2},{"$f":"COUNTIF(D58:L58,\"△\")","v":0},{"$f":"COUNTIF(D58:L58,\"●\")","v":0},{"$f":"SUM(D59,G59,J59)","v":8},{"$f":"SUM(F59,I59,L59)","v":0},{"$f":"(M58*4)+(N58*1)","v":8},{"$f":"RANK(R58,$R$54:$R$59)","v":1},"位",{"$f":"P58-Q58","v":8},null,{"$f":"RANK(U58,$U$54:$V$59)","v":1},"位",1,null,null,null,{"$f":"予選リーグ!N7","v":"鶴岡"},"星取表",null,null,{"$f":"IF(AF59=\"\",\"\",IF(AF59>AH59,\"○\",IF(AF59<AH59,\"●\",IF(AF59=AH59,\"△\"))))","v":"●"},null,null,{"$f":"IF(AI59=\"\",\"\",IF(AI59>AK59,\"○\",IF(AI59<AK59,\"●\",IF(AI59=AK59,\"△\"))))","v":"△"},null,null,null,null,{"$f":"COUNTIF(AF58:AN58,\"○\")","v":0},{"$f":"COUNTIF(AF58:AN58,\"△\")","v":1},{"$f":"COUNTIF(AF58:AN58,\"●\")","v":1},{"$f":"SUM(AF59,AI59,AL59)","v":2},{"$f":"SUM(AH59,AK59,AN59)","v":3},{"$f":"(AO58*4)+(AP58*1)","v":1},{"$f":"RANK(AT58,$AT$54:$AT$59)","v":3},"位",{"$f":"AR58-AS58","v":-1},null,{"$f":"RANK(AW58,$AW$54:$AW$59)","v":2},"位",3]
[null,"得失点",null,{"$f":"L55","v":3},"-",{"$f":"J55","v":0},{"$f":"L57","v":5},"-",{"$f":"J57","v":0},null,null,null,null,null,null,null,null,null,null,null,null,null,null,null,null,null,null,null,null,"得失点",null,{"$f":"AN55","v":1},"-",{"$f":"AL55","v":2},{"$f":"AN57","v":1},"-",{"$f":"AL57","v":1}]
[]
["Cパート",null,null,{"$f":"A62","v":"ドリームキッズ"},null,null,{"$f":"A64","v":"明治北"},null,null,{"$f":"A66","v":"大野"},null,null,"勝","分","敗","得\n点","失\n点","勝\n点","勝点\n順位",null,"得失\n点差",null,"得失\n順位",null,"ﾄｰﾀﾙ\n順位",null,null,null,"Gパート",null,null,{"$f":"AC62","v":"ＦＣ中津"},null,null,{"$f":"AC64","v":"金池長浜"},null,null,{"$f":"AC66","v":"朝日"},null,null,"勝","分","敗","得\n点","失\n点","勝\n点","勝点\n順位",null,"得失\n点差",null,"得失\n順位",null,"ﾄｰﾀﾙ\n順位"]
[{"$f":"予選リーグ!D10","v":"ドリームキッズ"},"星取表",null,null,null,null,null,{"$f":"IF(G63=\"\",\"\",IF(G63>I63,\"○\",IF(G63<I63,\"●\",IF(G63=I63,\"△\"))))","v":"○"},null,null,{"$f":"IF(J63=\"\",\"\",IF(J63>L63,\"○\",IF(J63<L63,\"●\",IF(J63=L63,\"△\"))))","v":"○"},null,{"$f":"COUNTIF(D62:L62,\"○\")","v":2},{"$f":"COUNTIF(D62:L62,\"△\")","v":0},{"$f":"COUNTIF(D62:L62,\"●\")","v":0},{"$f":"SUM(D63,G63,J63)","v":7},{"$f":"SUM(F63,I63,L63)","v":1},{"$f":"(M62*4)+(N62*1)","v":8},{"$f":"RANK(R62,$R$62:$R$67)","v":1},"位",{"$f":"P62-Q62","v":6},null,{"$f":"RANK(U62,$U$62:$V$67)","v":1},"位",1,null,null,null,{"$f":"予選リーグ!J10","v":"ＦＣ中津"},"星取表",null,null,null,null,null,{"$f":"IF(AI63=\"\",\"\",IF(AI63>AK63,\"○\",IF(AI63<AK63,\"●\",IF(AI63=AK63,\"△\"))))","v":"○"},null,null,{"$f":"IF(AL63=\"\",\"\",IF(AL63>AN63,\"○\",IF(AL63<AN63,\"●\",IF(AL63=AN63,\"△\"))))","v":"○"},null,{"$f":"COUNTIF(AF62:AN62,\"○\")","v":2},{"$f":"COUNTIF(AF62:AN62,\"△\")","v":0},{"$f":"COUNTIF(AF62:AN62,\"●\")","v":0},{"$f":"SUM(AF63,AI63,AL63)","v":8},{"$f":"SUM(AH63,AK63,AN63)","v":2},{"$f":"(AO62*4)+(AP62*1)","v":8},{"$f":"RANK(AT62,$AT$62:$AT$67)","v":1},"位",{"$f":"AR62-AS62","v":6},null,{"$f":"RANK(AW62,$AW$62:$AW$67)","v":1},"位",1]
[null,"得失点",null,null,null,null,{"$f":"F16","v":3},"-",{"$f":"J16","v":0},{"$f":"J24","v":4},"-",{"$f":"F24","v":1},null,null,null,null,null,null,null,null,null,null,null,null,null,null,null,null,null,"得失点",null,null,null,null,{"$f":"AH16","v":4},"-",{"$f":"AL16","v":1},{"$f":"AL24","v":4},"-",{"$f":"AH24","v":1}]
[{"$f":"予選リーグ!C12","v":"明治北"},"星取表",null,null,{"$f":"IF(D65=\"\",\"\",IF(D65>F65,\"○\",IF(D65<F65,\"●\",IF(D65=F65,\"△\"))))","v":"●"},null,null,null,null,null,{"$f":"IF(J65=\"\",\"\",IF(J65>L65,\"○\",IF(J65<L65,\"●\",IF(J65=L65,\"△\"))))","v":"●"},null,{"$f":"COUNTIF(D64:L64,\"○\")","v":0},{"$f":"COUNTIF(D64:L64,\"△\")","v":0},{"$f":"COUNTIF(D64:L64,\"●\")","v":2},{"$f":"SUM(D65,G65,J65)","v":0},{"$f":"SUM(F65,I65,L65)","v":5},{"$f":"(M64*4)+(N64*1)","v":0},{"$f":"RANK(R64,$R$62:$R$67)","v":3},"位",{"$f":"P64-Q64","v":-5},null,{"$f":"RANK(U64,$U$62:$V$67)","v":3},"位",3,null,null,null,{"$f":"予選リーグ!I12","v":"金池長浜"},"星取表",null,null,{"$f":"IF(AF65=\"\",\"\",IF(AF65>AH65,\"○\",IF(AF65<AH65,\"●\",IF(AF65=AH65,\"△\"))))","v":"●"},null,null,null,null,null,{"$f":"IF(AL65=\"\",\"\",IF(AL65>AN65,\"○\",IF(AL65<AN65,\"●\",IF(AL65=AN65,\"△\"))))","v":"○"},null,{"$f":"COUNTIF(AF64:AN64,\"○\")","v":1},{"$f":"COUNTIF(AF64:AN64,\"△\")","v":0},{"$f":"COUNTIF(AF64:AN64,\"●\")","v":1},{"$f":"SUM(AF65,AI65,AL65)","v":4},{"$f":"SUM(AH65,AK65,AN65)","v":5},{"$f":"(AO64*4)+(AP64*1)","v":4},{"$f":"RANK(AT64,$AT$62:$AT$67)","v":2},"位",{"$f":"AR64-AS64","v":-1},null,{"$f":"RANK(AW64,$AW$62:$AW$67)","v":2},"位",2]
[null,"得失点",null,{"$f":"I63","v":0},"-",{"$f":"G63","v":3},null,null,null,{"$f":"F20","v":0},"-",{"$f":"J20","v":2},null,null,null,null,null,null,null,null,null,null,null,null,null,null,null,null,null,"得失点",null,{"$f":"AK63","v":1},"-",{"$f":"AI63","v":4},null,null,null,{"$f":"AH20","v":3},"-",{"$f":"AL20","v":1}]
[{"$f":"予選リーグ!E12","v":"大野"},"星取表",null,null,{"$f":"IF(D67=\"\",\"\",IF(D67>F67,\"○\",IF(D67<F67,\"●\",IF(D67=F67,\"△\"))))","v":"●"},null,null,{"$f":"IF(G67=\"\",\"\",IF(G67>I67,\"○\",IF(G67<I67,\"●\",IF(G67=I67,\"△\"))))","v":"○"},null,null,null,null,{"$f":"COUNTIF(D66:L66,\"○\")","v":1},{"$f":"COUNTIF(D66:L66,\"△\")","v":0},{"$f":"COUNTIF(D66:L66,\"●\")","v":1},{"$f":"SUM(D67,G67,J67)","v":3},{"$f":"SUM(F67,I67,L67)","v":4},{"$f":"(M66*4)+(N66*1)","v":4},{"$f":"RANK(R66,$R$62:$R$67)","v":2},"位",{"$f":"P66-Q66","v":-1},null,{"$f":"RANK(U66,$U$62:$V$67)","v":2},"位",2,null,null,null,{"$f":"予選リーグ!K12","v":"朝日"},"星取表",null,null,{"$f":"IF(AF67=\"\",\"\",IF(AF67>AH67,\"○\",IF(AF67<AH67,\"●\",IF(AF67=AH67,\"△\"))))","v":"●"},null,null,{"$f":"IF(AI67=\"\",\"\",IF(AI67>AK67,\"○\",IF(AI67<AK67,\"●\",IF(AI67=AK67,\"△\"))))","v":"●"},null,null,null,null,{"$f":"COUNTIF(AF66:AN66,\"○\")","v":0},{"$f":"COUNTIF(AF66:AN66,\"△\")","v":0},{"$f":"COUNTIF(AF66:AN66,\"●\")","v":2},{"$f":"SUM(AF67,AI67,AL67)","v":2},{"$f":"SUM(AH67,AK67,AN67)","v":7},{"$f":"(AO66*4)+(AP66*1)","v":0},{"$f":"RANK(AT66,$AT$62:$AT$67)","v":3},"位",{"$f":"AR66-AS66","v":-5},null,{"$f":"RANK(AW66,$AW$62:$AW$67)","v":3},"位",3]
[null,"得失点",null,{"$f":"L63","v":1},"-",{"$f":"J63","v":4},{"$f":"L65","v":2},"-",{"$f":"J65","v":0},null,null,null,null,null,null,null,null,null,null,null,null,null,null,null,null,null,null,null,null,"得失点",null,{"$f":"AN63","v":1},"-",{"$f":"AL63","v":4},{"$f":"AN65","v":1},"-",{"$f":"AL65","v":3}]
[]
["Dパート",null,null,{"$f":"A70","v":"Ｓｈｙｎｔ"},null,null,{"$f":"A72","v":"判田"},null,null,{"$f":"A74","v":"アリアーレ"},null,null,"勝","分","敗","得\n点","失\n点","勝\n点","勝点\n順位",null,"得失\n点差",null,"得失\n順位",null,"ﾄｰﾀﾙ\n順位",null,null,null,"Hパート",null,null,{"$f":"AC70","v":"山香"},null,null,{"$f":"AC72","v":"明野西"},null,null,{"$f":"AC74","v":"荏隈"},null,null,"勝","分","敗","得\n点","失\n点","勝\n点","勝点\n順位",null,"得失\n点差",null,"得失\n順位",null,"ﾄｰﾀﾙ\n順位"]
[{"$f":"予選リーグ!G10","v":"Ｓｈｙｎｔ"},"星取表",null,null,null,null,null,{"$f":"IF(G71=\"\",\"\",IF(G71>I71,\"○\",IF(G71<I71,\"●\",IF(G71=I71,\"△\"))))","v":"△"},null,null,{"$f":"IF(J71=\"\",\"\",IF(J71>L71,\"○\",IF(J71<L71,\"●\",IF(J71=L71,\"△\"))))","v":"○"},null,{"$f":"COUNTIF(D70:L70,\"○\")","v":1},{"$f":"COUNTIF(D70:L70,\"△\")","v":1},{"$f":"COUNTIF(D70:L70,\"●\")","v":0},{"$f":"SUM(D71,G71,J71)","v":6},{"$f":"SUM(F71,I71,L71)","v":2},{"$f":"(M70*4)+(N70*1)","v":5},{"$f":"RANK(R70,$R$70:$R$75)","v":1},"位",{"$f":"P70-Q70","v":4},null,{"$f":"RANK(U70,$U$70:$V$75)","v":1},"位",1,null,null,null,{"$f":"予選リーグ!M10","v":"山香"},"星取表",null,null,null,null,null,{"$f":"IF(AI71=\"\",\"\",IF(AI71>AK71,\"○\",IF(AI71<AK71,\"●\",IF(AI71=AK71,\"△\"))))","v":"○"},null,null,{"$f":"IF(AL71=\"\",\"\",IF(AL71>AN71,\"○\",IF(AL71<AN71,\"●\",IF(AL71=AN71,\"△\"))))","v":"●"},null,{"$f":"COUNTIF(AF70:AN70,\"○\")","v":1},{"$f":"COUNTIF(AF70:AN70,\"△\")","v":0},{"$f":"COUNTIF(AF70:AN70,\"●\")","v":1},{"$f":"SUM(AF71,AI71,AL71)","v":2},{"$f":"SUM(AH71,AK71,AN71)","v":2},{"$f":"(AO70*4)+(AP70*1)","v":4},{"$f":"RANK(AT70,$AT$70:$AT$75)","v":1},"位",{"$f":"AR70-AS70","v":0},null,{"$f":"RANK(AW70,$AW$70:$AW$75)","v":1},"位",3]
[null,"得失点",null,null,null,null,{"$f":"R16","v":2},"-",{"$f":"V16","v":2},{"$f":"V24","v":4},"-",{"$f":"R24","v":0},null,null,null,null,null,null,null,null,null,null,null,null,null,null,null,null,null,"得失点",null,null,null,null,{"$f":"AT16","v":2},"-",{"$f":"AX16","v":1},{"$f":"AX24","v":0},"-",{"$f":"AT24","v":1}]
[{"$f":"予選リーグ!F12","v":"判田"},"星取表",null,null,{"$f":"IF(D73=\"\",\"\",IF(D73>F73,\"○\",IF(D73<F73,\"●\",IF(D73=F73,\"△\"))))","v":"△"},null,null,null,null,null,{"$f":"IF(J73=\"\",\"\",IF(J73>L73,\"○\",IF(J73<L73,\"●\",IF(J73=L73,\"△\"))))","v":"●"},null,{"$f":"COUNTIF(D72:L72,\"○\")","v":0},{"$f":"COUNTIF(D72:L72,\"△\")","v":1},{"$f":"COUNTIF(D72:L72,\"●\")","v":1},{"$f":"SUM(D73,G73,J73)","v":3},{"$f":"SUM(F73,I73,L73)","v":4},{"$f":"(M72*4)+(N72*1)","v":1},{"$f":"RANK(R72,$R$70:$R$75)","v":3},"位",{"$f":"P72-Q72","v":-1},null,{"$f":"RANK(U72,$U$70:$V$75)","v":2},"位",3,null,null,null,{"$f":"予選リーグ!L12","v":"明野西"},"星取表",null,null,{"$f":"IF(AF73=\"\",\"\",IF(AF73>AH73,\"○\",IF(AF73<AH73,\"●\",IF(AF73=AH73,\"△\"))))","v":"●"},null,null,null,null,null,{"$f":"IF(AL73=\"\",\"\",IF(AL73>AN73,\"○\",IF(AL73<AN73,\"●\",IF(AL73=AN73,\"△\"))))","v":"○"},null,{"$f":"COUNTIF(AF72:AN72,\"○\")","v":1},{"$f":"COUNTIF(AF72:AN72,\"△\")","v":0},{"$f":"COUNTIF(AF72:AN72,\"●\")","v":1},{"$f":"SUM(AF73,AI73,AL73)","v":5},{"$f":"SUM(AH73,AK73,AN73)","v":5},{"$f":"(AO72*4)+(AP72*1)","v":4},{"$f":"RANK(AT72,$AT$70:$AT$75)","v":1},"位",{"$f":"AR72-AS72","v":0},null,{"$f":"RANK(AW72,$AW$70:$AW$75)","v":1},"位",1]
[null,"得失点",null,{"$f":"I71","v":2},"-",{"$f":"G71","v":2},null,null,null,{"$f":"R20","v":1},"-",{"$f":"V20","v":2},null,null,null,null,null,null,null,null,null,null,null,null,null,null,null,null,null,"得失点",null,{"$f":"AK71","v":1},"-",{"$f":"AI71","v":2},null,null,null,{"$f":"AT20","v":4},"-",{"$f":"AX20","v":3}]
[{"$f":"予選リーグ!H12","v":"アリアーレ"},"星取表",null,null,{"$f":"IF(D75=\"\",\"\",IF(D75>F75,\"○\",IF(D75<F75,\"●\",IF(D75=F75,\"△\"))))","v":"●"},null,null,{"$f":"IF(G75=\"\",\"\",IF(G75>I75,\"○\",IF(G75<I75,\"●\",IF(G75=I75,\"△\"))))","v":"○"},null,null,null,null,{"$f":"COUNTIF(D74:L74,\"○\")","v":1},{"$f":"COUNTIF(D74:L74,\"△\")","v":0},{"$f":"COUNTIF(D74:L74,\"●\")","v":1},{"$f":"SUM(D75,G75,J75)","v":2},{"$f":"SUM(F75,I75,L75)","v":5},{"$f":"(M74*4)+(N74*1)","v":4},{"$f":"RANK(R74,$R$70:$R$75)","v":2},"位",{"$f":"P74-Q74","v":-3},null,{"$f":"RANK(U74,$U$70:$V$75)","v":3},"位",2,null,null,null,{"$f":"予選リーグ!N12","v":"荏隈"},"星取表",null,null,{"$f":"IF(AF75=\"\",\"\",IF(AF75>AH75,\"○\",IF(AF75<AH75,\"●\",IF(AF75=AH75,\"△\"))))","v":"○"},null,null,{"$f":"IF(AI75=\"\",\"\",IF(AI75>AK75,\"○\",IF(AI75<AK75,\"●\",IF(AI75=AK75,\"△\"))))","v":"●"},null,null,null,null,{"$f":"COUNTIF(AF74:AN74,\"○\")","v":1},{"$f":"COUNTIF(AF74:AN74,\"△\")","v":0},{"$f":"COUNTIF(AF74:AN74,\"●\")","v":1},{"$f":"SUM(AF75,AI75,AL75)","v":4},{"$f":"SUM(AH75,AK75,AN75)","v":4},{"$f":"(AO74*4)+(AP74*1)","v":4},{"$f":"RANK(AT74,$AT$70:$AT$75)","v":1},"位",{"$f":"AR74-AS74","v":0},null,{"$f":"RANK(AW74,$AW$70:$AW$75)","v":1},"位",2]
[null,"得失点",null,{"$f":"L71","v":0},"-",{"$f":"J71","v":4},{"$f":"L73","v":2},"-",{"$f":"J73","v":1},null,null,null,null,null,null,null,null,null,null,null,null,null,null,null,null,null,null,null,null,"得失点",null,{"$f":"AN71","v":1},"-",{"$f":"AL71","v":0},{"$f":"AN73","v":3},"-",{"$f":"AL73","v":4}]

{"sheet":"予選リーグ公式記録(Bコート北)","index":9,"n_rows":89,"n_cols":29,"rows_kept":89,"cut":false,"hidden":true,"merged":[[84,1,84,2],[84,16,84,17],[85,1,85,3],[85,16,85,18],[86,1,86,2],[86,16,86,17],[87,1,87,3],[87,16,87,18],[88,1,88,2],[88,16,88,17],[81,1,81,3],[81,16,81,18],[82,1,82,2],[82,16,82,17],[67,13,69,13],[67,19,69,19],[67,20,69,20],[67,21,69,21],[83,1,83,3],[83,16,83,18],[70,0,70,3],[70,15,70,18],[67,1,67,3],[68,1,68,3],[69,1,69,3],[67,16,67,18],[68,16,68,18],[69,16,69,18],[67,26,69,26],[67,4,69,4],[67,5,69,5],[67,6,69,6],[67,7,69,7],[67,11,69,11],[67,12,69,12],[67,27,69,27],[67,28,69,28],[59,1,59,2],[59,16,59,17],[54,1,54,3],[54,16,54,18],[55,1,55,2],[55,16,55,17],[56,1,56,3],[56,16,56,18],[67,22,69,22],[57,1,57,2],[57,16,57,17],[58,1,58,3],[58,16,58,18],[38,11,40,11],[38,12,40,12],[38,27,40,27],[38,28,40,28],[52,1,52,3],[52,16,52,18],[53,1,53,2],[53,16,53,17],[38,13,40,13],[38,19,40,19],[38,20,40,20],[38,21,40,21],[41,0,41,3],[41,15,41,18],[38,26,40,26],[38,16,38,18],[39,16,39,18],[40,16,40,18],[38,1,38,3],[39,1,39,3],[40,1,40,3],[26,1,26,2],[26,16,26,17],[27,1,27,3],[27,16,27,18],[28,1,28,2],[28,16,28,17],[38,22,40,22],[4,12,4,13],[4,5,4,11],[5,5,5,11],[5,12,5,13],[9,6,11,6],[9,7,11,7],[9,11,11,11],[9,12,11,12],[9,19,11,19],[29,1,29,3],[29,16,29,18],[30,1,30,2],[30,16,30,17],[38,4,40,4],[38,5,40,5],[38,6,40,6],[38,7,40,7],[0,10,0,13],[0,0,0,9],[9,13,11,13],[23,1,23,3],[24,1,24,2],[25,1,25,3],[6,5,6,11],[23,16,23,18],[24,16,24,17],[25,16,25,18],[9,4,11,4],[9,5,11,5],[6,12,6,13],[12,0,12,3],[12,15,12,18],[0,15,0,24],[9,1,9,3],[10,1,10,3],[11,1,11,3],[9,16,9,18],[10,16,10,18],[11,16,11,18],[2,1,2,4],[2,16,2,19],[0,25,0,28],[9,26,11,26],[9,27,11,27],[9,28,11,28],[9,21,11,21],[6,20,6,26],[4,27,4,28],[5,27,5,28],[4,20,4,26],[5,20,5,26],[6,27,6,28],[9,20,11,20],[9,22,11,22]]}
[{"$f":"大会要項!$B$2","v":"第10回 全日本不動産協会杯争奪U-12サッカー大会【ラビットカップ】大分県大会"},null,null,null,null,null,null,null,null,null,"予選リーグ結果　報告用紙",null,null,null,null,{"$f":"大会要項!$B$2","v":"第10回 全日本不動産協会杯争奪U-12サッカー大会【ラビットカップ】大分県大会"},null,null,null,null,null,null,null,null,null,"予選リーグ結果　報告用紙"]
[]
["会場",{"$f":"予選リーグ!C14","v":"昭和電工ｻｯｶｰ･ﾗｸﾞﾋﾞｰ場　Bｺｰﾄ"},null,null,null,{"$f":"予選リーグ!C15","v":"「北」コート"},null,null,null,null,null,null,null,null,null,"会場",{"$f":"予選リーグ!C14","v":"昭和電工ｻｯｶｰ･ﾗｸﾞﾋﾞｰ場　Bｺｰﾄ"},null,null,null,{"$f":"予選リーグ!C15","v":"「北」コート"}]
[]
[null,null,null,null,"A1",{"$f":"VLOOKUP(E5,組合せ抽選用!$Q:$U,5,FALSE)","v":"市浜レッドソックス"},null,null,null,null,null,null,{"$f":"VLOOKUP(E5,組合せ抽選用!$Q:$V,6,FALSE)","v":"臼杵/津久見"},null,null,null,null,null,null,"C1",{"$f":"VLOOKUP(T5,組合せ抽選用!$Q:$U,5,FALSE)","v":"ドリームキッズフットボールクラブエフシー"},null,null,null,null,null,null,{"$f":"VLOOKUP(T5,組合せ抽選用!$Q:$V,6,FALSE)","v":"大分"}]
[null,null,null,null,"A2",{"$f":"VLOOKUP(E6,組合せ抽選用!$Q:$U,5,FALSE)","v":"寒田少年サッカークラブ"},null,null,null,null,null,null,{"$f":"VLOOKUP(E6,組合せ抽選用!$Q:$V,6,FALSE)","v":"大分"},null,null,null,null,null,null,"C2",{"$f":"VLOOKUP(T6,組合せ抽選用!$Q:$U,5,FALSE)","v":"明治北ＳＳＣ"},null,null,null,null,null,null,{"$f":"VLOOKUP(T6,組合せ抽選用!$Q:$V,6,FALSE)","v":"大分"}]
[null,null,null,null,"A3",{"$f":"VLOOKUP(E7,組合せ抽選用!$Q:$U,5,FALSE)","v":"カティオーラフットボールクラブＵ－１２"},null,null,null,null,null,null,{"$f":"VLOOKUP(E7,組合せ抽選用!$Q:$V,6,FALSE)","v":"大分"},null,null,null,null,null,null,"C3",{"$f":"VLOOKUP(T7,組合せ抽選用!$Q:$U,5,FALSE)","v":"ＦＣ大野"},null,null,null,null,null,null,{"$f":"VLOOKUP(T7,組合せ抽選用!$Q:$V,6,FALSE)","v":"豊肥"}]
[]
[]
["MC","中原　圭介",null,null,"10:30:00",{"$f":"F5","v":"市浜レッドソックス"},{"$f":"SUM(I10:I11)","v":0},"（",0,"前半",0,"）",{"$f":"SUM(K10:K11)","v":0},{"$f":"F6","v":"寒田少年サッカークラブ"},null,"MC","廣田　寧孝",null,null,"11:30:00",{"$f":"U5","v":"ドリームキッズフットボールクラブエフシー"},{"$f":"SUM(X10:X11)","v":3},"（",1,"前半",0,"）",{"$f":"SUM(Z10:Z11)","v":0},{"$f":"U6","v":"明治北ＳＳＣ"}]
["Welfare\nOfficer","-",null,null,null,null,null,null,0,"後半",0,null,null,null,null,"Welfare\nOfficer","-",null,null,null,null,null,null,2,"後半",0]
["記録","磯村　信一",null,null,null,null,null,null,null,"PK",null,null,null,null,null,"記録","中原　圭介",null,null,null,null,null,null,null,"PK"]
["＜Referee＞",null,null,null,null,"氏名","番号","分",null,null,null,"分","番号","氏名",null,"＜Referee＞",null,null,null,null,"氏名","番号","分",null,null,null,"分","番号","氏名"]
[null,null,null,null,"得点者",{"$f":"IF(ISERROR(VLOOKUP(CONCATENATE($F$10,\"_\",G14),選手名簿!$A:$E,5,FALSE))=TRUE,\"\",VLOOKUP(CONCATENATE($F$10,\"_\",G14),選手名簿!$A:$E,5,FALSE))","v":""},null,null,null,null,null,null,null,{"$f":"IF(ISERROR(VLOOKUP(CONCATENATE($N$10,\"_\",M14),選手名簿!$A:$E,5,FALSE))=TRUE,\"\",VLOOKUP(CONCATENATE($N$10,\"_\",M14),選手名簿!$A:$E,5,FALSE))","v":""},null,null,null,null,null,"得点者",{"$f":"IF(ISERROR(VLOOKUP(CONCATENATE($U$10,\"_\",V14),選手名簿!$A:$E,5,FALSE))=TRUE,\"\",VLOOKUP(CONCATENATE($U$10,\"_\",V14),選手名簿!$A:$E,5,FALSE))","v":""},null,null,null,null,null,null,null,{"$f":"IF(ISERROR(VLOOKUP(CONCATENATE($AC$10,\"_\",AB14),選手名簿!$A:$E,5,FALSE))=TRUE,\"\",VLOOKUP(CONCATENATE($AC$10,\"_\",AB14),選手名簿!$A:$E,5,FALSE))","v":""}]
[null,null,null,null,"得点者",{"$f":"IF(ISERROR(VLOOKUP(CONCATENATE($F$10,\"_\",G15),選手名簿!$A:$E,5,FALSE))=TRUE,\"\",VLOOKUP(CONCATENATE($F$10,\"_\",G15),選手名簿!$A:$E,5,FALSE))","v":""},null,null,null,null,null,null,null,{"$f":"IF(ISERROR(VLOOKUP(CONCATENATE($N$10,\"_\",M15),選手名簿!$A:$E,5,FALSE))=TRUE,\"\",VLOOKUP(CONCATENATE($N$10,\"_\",M15),選手名簿!$A:$E,5,FALSE))","v":""},null,null,null,null,null,"得点者",{"$f":"IF(ISERROR(VLOOKUP(CONCATENATE($U$10,\"_\",V15),選手名簿!$A:$E,5,FALSE))=TRUE,\"\",VLOOKUP(CONCATENATE($U$10,\"_\",V15),選手名簿!$A:$E,5,FALSE))","v":""},null,null,null,null,null,null,null,{"$f":"IF(ISERROR(VLOOKUP(CONCATENATE($AC$10,\"_\",AB15),選手名簿!$A:$E,5,FALSE))=TRUE,\"\",VLOOKUP(CONCATENATE($AC$10,\"_\",AB15),選手名簿!$A:$E,5,FALSE))","v":""}]
[null,null,null,null,"得点者",{"$f":"IF(ISERROR(VLOOKUP(CONCATENATE($F$10,\"_\",G16),選手名簿!$A:$E,5,FALSE))=TRUE,\"\",VLOOKUP(CONCATENATE($F$10,\"_\",G16),選手名簿!$A:$E,5,FALSE))","v":""},null,null,null,null,null,null,null,{"$f":"IF(ISERROR(VLOOKUP(CONCATENATE($N$10,\"_\",M16),選手名簿!$A:$E,5,FALSE))=TRUE,\"\",VLOOKUP(CONCATENATE($N$10,\"_\",M16),選手名簿!$A:$E,5,FALSE))","v":""},null,null,null,null,null,"得点者",{"$f":"IF(ISERROR(VLOOKUP(CONCATENATE($U$10,\"_\",V16),選手名簿!$A:$E,5,FALSE))=TRUE,\"\",VLOOKUP(CONCATENATE($U$10,\"_\",V16),選手名簿!$A:$E,5,FALSE))","v":""},null,null,null,null,null,null,null,{"$f":"IF(ISERROR(VLOOKUP(CONCATENATE($AC$10,\"_\",AB16),選手名簿!$A:$E,5,FALSE))=TRUE,\"\",VLOOKUP(CONCATENATE($AC$10,\"_\",AB16),選手名簿!$A:$E,5,FALSE))","v":""}]
[null,null,null,null,"得点者",{"$f":"IF(ISERROR(VLOOKUP(CONCATENATE($F$10,\"_\",G17),選手名簿!$A:$E,5,FALSE))=TRUE,\"\",VLOOKUP(CONCATENATE($F$10,\"_\",G17),選手名簿!$A:$E,5,FALSE))","v":""},null,null,null,null,null,null,null,{"$f":"IF(ISERROR(VLOOKUP(CONCATENATE($N$10,\"_\",M17),選手名簿!$A:$E,5,FALSE))=TRUE,\"\",VLOOKUP(CONCATENATE($N$10,\"_\",M17),選手名簿!$A:$E,5,FALSE))","v":""},null,null,null,null,null,"得点者",{"$f":"IF(ISERROR(VLOOKUP(CONCATENATE($U$10,\"_\",V17),選手名簿!$A:$E,5,FALSE))=TRUE,\"\",VLOOKUP(CONCATENATE($U$10,\"_\",V17),選手名簿!$A:$E,5,FALSE))","v":""},null,null,null,null,null,null,null,{"$f":"IF(ISERROR(VLOOKUP(CONCATENATE($AC$10,\"_\",AB17),選手名簿!$A:$E,5,FALSE))=TRUE,\"\",VLOOKUP(CONCATENATE($AC$10,\"_\",AB17),選手名簿!$A:$E,5,FALSE))","v":""}]
[null,null,null,null,"得点者",{"$f":"IF(ISERROR(VLOOKUP(CONCATENATE($F$10,\"_\",G18),選手名簿!$A:$E,5,FALSE))=TRUE,\"\",VLOOKUP(CONCATENATE($F$10,\"_\",G18),選手名簿!$A:$E,5,FALSE))","v":""},null,null,null,null,null,null,null,{"$f":"IF(ISERROR(VLOOKUP(CONCATENATE($N$10,\"_\",M18),選手名簿!$A:$E,5,FALSE))=TRUE,\"\",VLOOKUP(CONCATENATE($N$10,\"_\",M18),選手名簿!$A:$E,5,FALSE))","v":""},null,null,null,null,null,"得点者",{"$f":"IF(ISERROR(VLOOKUP(CONCATENATE($U$10,\"_\",V18),選手名簿!$A:$E,5,FALSE))=TRUE,\"\",VLOOKUP(CONCATENATE($U$10,\"_\",V18),選手名簿!$A:$E,5,FALSE))","v":""},null,null,null,null,null,null,null,{"$f":"IF(ISERROR(VLOOKUP(CONCATENATE($AC$10,\"_\",AB18),選手名簿!$A:$E,5,FALSE))=TRUE,\"\",VLOOKUP(CONCATENATE($AC$10,\"_\",AB18),選手名簿!$A:$E,5,FALSE))","v":""}]
[null,null,null,null,"得点者",{"$f":"IF(ISERROR(VLOOKUP(CONCATENATE($F$10,\"_\",G19),選手名簿!$A:$E,5,FALSE))=TRUE,\"\",VLOOKUP(CONCATENATE($F$10,\"_\",G19),選手名簿!$A:$E,5,FALSE))","v":""},null,null,null,null,null,null,null,{"$f":"IF(ISERROR(VLOOKUP(CONCATENATE($N$10,\"_\",M19),選手名簿!$A:$E,5,FALSE))=TRUE,\"\",VLOOKUP(CONCATENATE($N$10,\"_\",M19),選手名簿!$A:$E,5,FALSE))","v":""},null,null,null,null,null,"得点者",{"$f":"IF(ISERROR(VLOOKUP(CONCATENATE($U$10,\"_\",V19),選手名簿!$A:$E,5,FALSE))=TRUE,\"\",VLOOKUP(CONCATENATE($U$10,\"_\",V19),選手名簿!$A:$E,5,FALSE))","v":""},null,null,null,null,null,null,null,{"$f":"IF(ISERROR(VLOOKUP(CONCATENATE($AC$10,\"_\",AB19),選手名簿!$A:$E,5,FALSE))=TRUE,\"\",VLOOKUP(CONCATENATE($AC$10,\"_\",AB19),選手名簿!$A:$E,5,FALSE))","v":""}]
[null,null,null,null,"得点者",{"$f":"IF(ISERROR(VLOOKUP(CONCATENATE($F$10,\"_\",G20),選手名簿!$A:$E,5,FALSE))=TRUE,\"\",VLOOKUP(CONCATENATE($F$10,\"_\",G20),選手名簿!$A:$E,5,FALSE))","v":""},null,null,null,null,null,null,null,{"$f":"IF(ISERROR(VLOOKUP(CONCATENATE($N$10,\"_\",M20),選手名簿!$A:$E,5,FALSE))=TRUE,\"\",VLOOKUP(CONCATENATE($N$10,\"_\",M20),選手名簿!$A:$E,5,FALSE))","v":""},null,null,null,null,null,"得点者",{"$f":"IF(ISERROR(VLOOKUP(CONCATENATE($U$10,\"_\",V20),選手名簿!$A:$E,5,FALSE))=TRUE,\"\",VLOOKUP(CONCATENATE($U$10,\"_\",V20),選手名簿!$A:$E,5,FALSE))","v":""},null,null,null,null,null,null,null,{"$f":"IF(ISERROR(VLOOKUP(CONCATENATE($AC$10,\"_\",AB20),選手名簿!$A:$E,5,FALSE))=TRUE,\"\",VLOOKUP(CONCATENATE($AC$10,\"_\",AB20),選手名簿!$A:$E,5,FALSE))","v":""}]
[null,null,null,null,"得点者",{"$f":"IF(ISERROR(VLOOKUP(CONCATENATE($F$10,\"_\",G21),選手名簿!$A:$E,5,FALSE))=TRUE,\"\",VLOOKUP(CONCATENATE($F$10,\"_\",G21),選手名簿!$A:$E,5,FALSE))","v":""},null,null,null,null,null,null,null,{"$f":"IF(ISERROR(VLOOKUP(CONCATENATE($N$10,\"_\",M21),選手名簿!$A:$E,5,FALSE))=TRUE,\"\",VLOOKUP(CONCATENATE($N$10,\"_\",M21),選手名簿!$A:$E,5,FALSE))","v":""},null,null,null,null,null,"得点者",{"$f":"IF(ISERROR(VLOOKUP(CONCATENATE($U$10,\"_\",V21),選手名簿!$A:$E,5,FALSE))=TRUE,\"\",VLOOKUP(CONCATENATE($U$10,\"_\",V21),選手名簿!$A:$E,5,FALSE))","v":""},null,null,null,null,null,null,null,{"$f":"IF(ISERROR(VLOOKUP(CONCATENATE($AC$10,\"_\",AB21),選手名簿!$A:$E,5,FALSE))=TRUE,\"\",VLOOKUP(CONCATENATE($AC$10,\"_\",AB21),選手名簿!$A:$E,5,FALSE))","v":""}]
[null,null,null,null,"得点者",{"$f":"IF(ISERROR(VLOOKUP(CONCATENATE($F$10,\"_\",G22),選手名簿!$A:$E,5,FALSE))=TRUE,\"\",VLOOKUP(CONCATENATE($F$10,\"_\",G22),選手名簿!$A:$E,5,FALSE))","v":""},null,null,null,null,null,null,null,{"$f":"IF(ISERROR(VLOOKUP(CONCATENATE($N$10,\"_\",M22),選手名簿!$A:$E,5,FALSE))=TRUE,\"\",VLOOKUP(CONCATENATE($N$10,\"_\",M22),選手名簿!$A:$E,5,FALSE))","v":""},null,null,null,null,null,"得点者",{"$f":"IF(ISERROR(VLOOKUP(CONCATENATE($U$10,\"_\",V22),選手名簿!$A:$E,5,FALSE))=TRUE,\"\",VLOOKUP(CONCATENATE($U$10,\"_\",V22),選手名簿!$A:$E,5,FALSE))","v":""},null,null,null,null,null,null,null,{"$f":"IF(ISERROR(VLOOKUP(CONCATENATE($AC$10,\"_\",AB22),選手名簿!$A:$E,5,FALSE))=TRUE,\"\",VLOOKUP(CONCATENATE($AC$10,\"_\",AB22),選手名簿!$A:$E,5,FALSE))","v":""}]
[null,null,null,null,"得点者",{"$f":"IF(ISERROR(VLOOKUP(CONCATENATE($F$10,\"_\",G23),選手名簿!$A:$E,5,FALSE))=TRUE,\"\",VLOOKUP(CONCATENATE($F$10,\"_\",G23),選手名簿!$A:$E,5,FALSE))","v":""},null,null,null,null,null,null,null,{"$f":"IF(ISERROR(VLOOKUP(CONCATENATE($N$10,\"_\",M23),選手名簿!$A:$E,5,FALSE))=TRUE,\"\",VLOOKUP(CONCATENATE($N$10,\"_\",M23),選手名簿!$A:$E,5,FALSE))","v":""},null,null,null,null,null,"得点者",{"$f":"IF(ISERROR(VLOOKUP(CONCATENATE($U$10,\"_\",V23),選手名簿!$A:$E,5,FALSE))=TRUE,\"\",VLOOKUP(CONCATENATE($U$10,\"_\",V23),選手名簿!$A:$E,5,FALSE))","v":""},null,null,null,null,null,null,null,{"$f":"IF(ISERROR(VLOOKUP(CONCATENATE($AC$10,\"_\",AB23),選手名簿!$A:$E,5,FALSE))=TRUE,\"\",VLOOKUP(CONCATENATE($AC$10,\"_\",AB23),選手名簿!$A:$E,5,FALSE))","v":""}]
["番号","R010090347",null,null,"警告/退場",{"$f":"IF(ISERROR(VLOOKUP(CONCATENATE($F$10,\"_\",G24),選手名簿!$A:$E,5,FALSE))=TRUE,\"\",VLOOKUP(CONCATENATE($F$10,\"_\",G24),選手名簿!$A:$E,5,FALSE))","v":""},null,null,null,null,null,null,null,{"$f":"IF(ISERROR(VLOOKUP(CONCATENATE($N$10,\"_\",M24),選手名簿!$A:$E,5,FALSE))=TRUE,\"\",VLOOKUP(CONCATENATE($N$10,\"_\",M24),選手名簿!$A:$E,5,FALSE))","v":""},null,"番号","R001255616",null,null,"警告/退場",{"$f":"IF(ISERROR(VLOOKUP(CONCATENATE($U$10,\"_\",V24),選手名簿!$A:$E,5,FALSE))=TRUE,\"\",VLOOKUP(CONCATENATE($U$10,\"_\",V24),選手名簿!$A:$E,5,FALSE))","v":""},null,null,null,null,null,null,null,{"$f":"IF(ISERROR(VLOOKUP(CONCATENATE($AC$10,\"_\",AB24),選手名簿!$A:$E,5,FALSE))=TRUE,\"\",VLOOKUP(CONCATENATE($AC$10,\"_\",AB24),選手名簿!$A:$E,5,FALSE))","v":""}]
["R",{"$f":"IF(ISERROR(VLOOKUP(B24,審判員!$A:$C,2,FALSE))=TRUE,\"\",VLOOKUP(B24,審判員!$A:$C,2,FALSE))","v":"和田　行祐"},null,{"$f":"IF(ISERROR(VLOOKUP(B24,審判員!$A:$C,3,FALSE))=TRUE,\"\",VLOOKUP(B24,審判員!$A:$C,3,FALSE))","v":"３級"},"警告/退場",{"$f":"IF(ISERROR(VLOOKUP(CONCATENATE($F$10,\"_\",G25),選手名簿!$A:$E,5,FALSE))=TRUE,\"\",VLOOKUP(CONCATENATE($F$10,\"_\",G25),選手名簿!$A:$E,5,FALSE))","v":""},null,null,null,null,null,null,null,{"$f":"IF(ISERROR(VLOOKUP(CONCATENATE($N$10,\"_\",M25),選手名簿!$A:$E,5,FALSE))=TRUE,\"\",VLOOKUP(CONCATENATE($N$10,\"_\",M25),選手名簿!$A:$E,5,FALSE))","v":""},null,"R",{"$f":"IF(ISERROR(VLOOKUP(Q24,審判員!$A:$C,2,FALSE))=TRUE,\"\",VLOOKUP(Q24,審判員!$A:$C,2,FALSE))","v":"川井　勇介"},null,{"$f":"IF(ISERROR(VLOOKUP(Q24,審判員!$A:$C,3,FALSE))=TRUE,\"\",VLOOKUP(Q24,審判員!$A:$C,3,FALSE))","v":"３級"},"警告/退場",{"$f":"IF(ISERROR(VLOOKUP(CONCATENATE($U$10,\"_\",V25),選手名簿!$A:$E,5,FALSE))=TRUE,\"\",VLOOKUP(CONCATENATE($U$10,\"_\",V25),選手名簿!$A:$E,5,FALSE))","v":""},null,null,null,null,null,null,null,{"$f":"IF(ISERROR(VLOOKUP(CONCATENATE($AC$10,\"_\",AB25),選手名簿!$A:$E,5,FALSE))=TRUE,\"\",VLOOKUP(CONCATENATE($AC$10,\"_\",AB25),選手名簿!$A:$E,5,FALSE))","v":""}]
["番号","R010027819",null,null,"警告/退場",{"$f":"IF(ISERROR(VLOOKUP(CONCATENATE($F$10,\"_\",G26),選手名簿!$A:$E,5,FALSE))=TRUE,\"\",VLOOKUP(CONCATENATE($F$10,\"_\",G26),選手名簿!$A:$E,5,FALSE))","v":""},null,null,null,null,null,null,null,{"$f":"IF(ISERROR(VLOOKUP(CONCATENATE($N$10,\"_\",M26),選手名簿!$A:$E,5,FALSE))=TRUE,\"\",VLOOKUP(CONCATENATE($N$10,\"_\",M26),選手名簿!$A:$E,5,FALSE))","v":""},null,"番号","R001257322",null,null,"警告/退場",{"$f":"IF(ISERROR(VLOOKUP(CONCATENATE($U$10,\"_\",V26),選手名簿!$A:$E,5,FALSE))=TRUE,\"\",VLOOKUP(CONCATENATE($U$10,\"_\",V26),選手名簿!$A:$E,5,FALSE))","v":""},null,null,null,null,null,null,null,{"$f":"IF(ISERROR(VLOOKUP(CONCATENATE($AC$10,\"_\",AB26),選手名簿!$A:$E,5,FALSE))=TRUE,\"\",VLOOKUP(CONCATENATE($AC$10,\"_\",AB26),選手名簿!$A:$E,5,FALSE))","v":""}]
["AR1:",{"$f":"IF(ISERROR(VLOOKUP(B26,審判員!$A:$C,2,FALSE))=TRUE,\"\",VLOOKUP(B26,審判員!$A:$C,2,FALSE))","v":"狭間　照央"},null,{"$f":"IF(ISERROR(VLOOKUP(B26,審判員!$A:$C,3,FALSE))=TRUE,\"\",VLOOKUP(B26,審判員!$A:$C,3,FALSE))","v":"３級"},"警告/退場",{"$f":"IF(ISERROR(VLOOKUP(CONCATENATE($F$10,\"_\",G27),選手名簿!$A:$E,5,FALSE))=TRUE,\"\",VLOOKUP(CONCATENATE($F$10,\"_\",G27),選手名簿!$A:$E,5,FALSE))","v":""},null,null,null,null,null,null,null,{"$f":"IF(ISERROR(VLOOKUP(CONCATENATE($N$10,\"_\",M27),選手名簿!$A:$E,5,FALSE))=TRUE,\"\",VLOOKUP(CONCATENATE($N$10,\"_\",M27),選手名簿!$A:$E,5,FALSE))","v":""},null,"AR1:",{"$f":"IF(ISERROR(VLOOKUP(Q26,審判員!$A:$C,2,FALSE))=TRUE,\"\",VLOOKUP(Q26,審判員!$A:$C,2,FALSE))","v":"師藤　一也"},null,{"$f":"IF(ISERROR(VLOOKUP(Q26,審判員!$A:$C,3,FALSE))=TRUE,\"\",VLOOKUP(Q26,審判員!$A:$C,3,FALSE))","v":"３級"},"警告/退場",{"$f":"IF(ISERROR(VLOOKUP(CONCATENATE($U$10,\"_\",V27),選手名簿!$A:$E,5,FALSE))=TRUE,\"\",VLOOKUP(CONCATENATE($U$10,\"_\",V27),選手名簿!$A:$E,5,FALSE))","v":""},null,null,null,null,null,null,null,{"$f":"IF(ISERROR(VLOOKUP(CONCATENATE($AC$10,\"_\",AB27),選手名簿!$A:$E,5,FALSE))=TRUE,\"\",VLOOKUP(CONCATENATE($AC$10,\"_\",AB27),選手名簿!$A:$E,5,FALSE))","v":""}]
["番号","R001263350",null,null,"警告/退場",{"$f":"IF(ISERROR(VLOOKUP(CONCATENATE($F$10,\"_\",G28),選手名簿!$A:$E,5,FALSE))=TRUE,\"\",VLOOKUP(CONCATENATE($F$10,\"_\",G28),選手名簿!$A:$E,5,FALSE))","v":""},null,null,null,null,null,null,null,{"$f":"IF(ISERROR(VLOOKUP(CONCATENATE($N$10,\"_\",M28),選手名簿!$A:$E,5,FALSE))=TRUE,\"\",VLOOKUP(CONCATENATE($N$10,\"_\",M28),選手名簿!$A:$E,5,FALSE))","v":""},null,"番号","R010027876",null,null,"警告/退場",{"$f":"IF(ISERROR(VLOOKUP(CONCATENATE($U$10,\"_\",V28),選手名簿!$A:$E,5,FALSE))=TRUE,\"\",VLOOKUP(CONCATENATE($U$10,\"_\",V28),選手名簿!$A:$E,5,FALSE))","v":""},null,null,null,null,null,null,null,{"$f":"IF(ISERROR(VLOOKUP(CONCATENATE($AC$10,\"_\",AB28),選手名簿!$A:$E,5,FALSE))=TRUE,\"\",VLOOKUP(CONCATENATE($AC$10,\"_\",AB28),選手名簿!$A:$E,5,FALSE))","v":""}]
["AR2:",{"$f":"IF(ISERROR(VLOOKUP(B28,審判員!$A:$C,2,FALSE))=TRUE,\"\",VLOOKUP(B28,審判員!$A:$C,2,FALSE))","v":"酒井　祐三"},null,{"$f":"IF(ISERROR(VLOOKUP(B28,審判員!$A:$C,3,FALSE))=TRUE,\"\",VLOOKUP(B28,審判員!$A:$C,3,FALSE))","v":"３級"},"警告/退場",{"$f":"IF(ISERROR(VLOOKUP(CONCATENATE($F$10,\"_\",G29),選手名簿!$A:$E,5,FALSE))=TRUE,\"\",VLOOKUP(CONCATENATE($F$10,\"_\",G29),選手名簿!$A:$E,5,FALSE))","v":""},null,null,null,null,null,null,null,{"$f":"IF(ISERROR(VLOOKUP(CONCATENATE($N$10,\"_\",M29),選手名簿!$A:$E,5,FALSE))=TRUE,\"\",VLOOKUP(CONCATENATE($N$10,\"_\",M29),選手名簿!$A:$E,5,FALSE))","v":""},null,"AR2:",{"$f":"IF(ISERROR(VLOOKUP(Q28,審判員!$A:$C,2,FALSE))=TRUE,\"\",VLOOKUP(Q28,審判員!$A:$C,2,FALSE))","v":"森　隆嗣"},null,{"$f":"IF(ISERROR(VLOOKUP(Q28,審判員!$A:$C,3,FALSE))=TRUE,\"\",VLOOKUP(Q28,審判員!$A:$C,3,FALSE))","v":"３級"},"警告/退場",{"$f":"IF(ISERROR(VLOOKUP(CONCATENATE($U$10,\"_\",V29),選手名簿!$A:$E,5,FALSE))=TRUE,\"\",VLOOKUP(CONCATENATE($U$10,\"_\",V29),選手名簿!$A:$E,5,FALSE))","v":""},null,null,null,null,null,null,null,{"$f":"IF(ISERROR(VLOOKUP(CONCATENATE($AC$10,\"_\",AB29),選手名簿!$A:$E,5,FALSE))=TRUE,\"\",VLOOKUP(CONCATENATE($AC$10,\"_\",AB29),選手名簿!$A:$E,5,FALSE))","v":""}]
["番号","R001255616",null,null,"警告/退場",{"$f":"IF(ISERROR(VLOOKUP(CONCATENATE($F$10,\"_\",G30),選手名簿!$A:$E,5,FALSE))=TRUE,\"\",VLOOKUP(CONCATENATE($F$10,\"_\",G30),選手名簿!$A:$E,5,FALSE))","v":""},null,null,null,null,null,null,null,{"$f":"IF(ISERROR(VLOOKUP(CONCATENATE($N$10,\"_\",M30),選手名簿!$A:$E,5,FALSE))=TRUE,\"\",VLOOKUP(CONCATENATE($N$10,\"_\",M30),選手名簿!$A:$E,5,FALSE))","v":""},null,"番号","R009554780",null,null,"警告/退場",{"$f":"IF(ISERROR(VLOOKUP(CONCATENATE($U$10,\"_\",V30),選手名簿!$A:$E,5,FALSE))=TRUE,\"\",VLOOKUP(CONCATENATE($U$10,\"_\",V30),選手名簿!$A:$E,5,FALSE))","v":""},null,null,null,null,null,null,null,{"$f":"IF(ISERROR(VLOOKUP(CONCATENATE($AC$10,\"_\",AB30),選手名簿!$A:$E,5,FALSE))=TRUE,\"\",VLOOKUP(CONCATENATE($AC$10,\"_\",AB30),選手名簿!$A:$E,5,FALSE))","v":""}]
["4th:",{"$f":"IF(ISERROR(VLOOKUP(B30,審判員!$A:$C,2,FALSE))=TRUE,\"\",VLOOKUP(B30,審判員!$A:$C,2,FALSE))","v":"川井　勇介"},null,{"$f":"IF(ISERROR(VLOOKUP(B30,審判員!$A:$C,3,FALSE))=TRUE,\"\",VLOOKUP(B30,審判員!$A:$C,3,FALSE))","v":"３級"},"警告/退場",{"$f":"IF(ISERROR(VLOOKUP(CONCATENATE($F$10,\"_\",G31),選手名簿!$A:$E,5,FALSE))=TRUE,\"\",VLOOKUP(CONCATENATE($F$10,\"_\",G31),選手名簿!$A:$E,5,FALSE))","v":""},null,null,null,null,null,null,null,{"$f":"IF(ISERROR(VLOOKUP(CONCATENATE($N$10,\"_\",M31),選手名簿!$A:$E,5,FALSE))=TRUE,\"\",VLOOKUP(CONCATENATE($N$10,\"_\",M31),選手名簿!$A:$E,5,FALSE))","v":""},null,"4th:",{"$f":"IF(ISERROR(VLOOKUP(Q30,審判員!$A:$C,2,FALSE))=TRUE,\"\",VLOOKUP(Q30,審判員!$A:$C,2,FALSE))","v":"白江　直樹"},null,{"$f":"IF(ISERROR(VLOOKUP(Q30,審判員!$A:$C,3,FALSE))=TRUE,\"\",VLOOKUP(Q30,審判員!$A:$C,3,FALSE))","v":"３級"},"警告/退場",{"$f":"IF(ISERROR(VLOOKUP(CONCATENATE($U$10,\"_\",V31),選手名簿!$A:$E,5,FALSE))=TRUE,\"\",VLOOKUP(CONCATENATE($U$10,\"_\",V31),選手名簿!$A:$E,5,FALSE))","v":""},null,null,null,null,null,null,null,{"$f":"IF(ISERROR(VLOOKUP(CONCATENATE($AC$10,\"_\",AB31),選手名簿!$A:$E,5,FALSE))=TRUE,\"\",VLOOKUP(CONCATENATE($AC$10,\"_\",AB31),選手名簿!$A:$E,5,FALSE))","v":""}]
[]
[]
[]
[]
[]
[]
[]
["MC","森山　信浩",null,null,"12:30:00",{"$f":"F6","v":"寒田少年サッカークラブ"},{"$f":"SUM(I39:I40)","v":1},"（",1,"前半",3,"）",{"$f":"SUM(K39:K40)","v":6},{"$f":"F7","v":"カティオーラフットボールクラブＵ－１２"},null,"MC","諌本　秀樹",null,null,"13:30:00",{"$f":"U6","v":"明治北ＳＳＣ"},{"$f":"SUM(X39:X40)","v":0},"（",0,"前半",1,"）",{"$f":"SUM(Z39:Z40)","v":2},{"$f":"U7","v":"ＦＣ大野"}]
["Welfare\nOfficer","-",null,null,null,null,null,null,0,"後半",3,null,null,null,null,"Welfare\nOfficer","-",null,null,null,null,null,null,0,"後半",1]
["記録","廣田　寧孝",null,null,null,null,null,null,null,"PK",null,null,null,null,null,"記録","森山　信浩",null,null,null,null,null,null,null,"PK"]
["＜Referee＞",null,null,null,null,"氏名","番号","分",null,null,null,"分","番号","氏名",null,"＜Referee＞",null,null,null,null,"氏名","番号","分",null,null,null,"分","番号","氏名"]
[null,null,null,null,"得点者",{"$f":"IF(ISERROR(VLOOKUP(CONCATENATE($F$39,\"_\",G43),選手名簿!$A:$E,5,FALSE))=TRUE,\"\",VLOOKUP(CONCATENATE($F$39,\"_\",G43),選手名簿!$A:$E,5,FALSE))","v":""},null,null,null,null,null,null,null,{"$f":"IF(ISERROR(VLOOKUP(CONCATENATE($N$39,\"_\",M43),選手名簿!$A:$E,5,FALSE))=TRUE,\"\",VLOOKUP(CONCATENATE($N$39,\"_\",M43),選手名簿!$A:$E,5,FALSE))","v":""},null,null,null,null,null,"得点者",{"$f":"IF(ISERROR(VLOOKUP(CONCATENATE($U$39,\"_\",V43),選手名簿!$A:$E,5,FALSE))=TRUE,\"\",VLOOKUP(CONCATENATE($U$39,\"_\",V43),選手名簿!$A:$E,5,FALSE))","v":""},null,null,null,null,null,null,null,{"$f":"IF(ISERROR(VLOOKUP(CONCATENATE($AC$39,\"_\",AB43),選手名簿!$A:$E,5,FALSE))=TRUE,\"\",VLOOKUP(CONCATENATE($AC$39,\"_\",AB43),選手名簿!$A:$E,5,FALSE))","v":""}]
[null,null,null,null,"得点者",{"$f":"IF(ISERROR(VLOOKUP(CONCATENATE($F$39,\"_\",G44),選手名簿!$A:$E,5,FALSE))=TRUE,\"\",VLOOKUP(CONCATENATE($F$39,\"_\",G44),選手名簿!$A:$E,5,FALSE))","v":""},null,null,null,null,null,null,null,{"$f":"IF(ISERROR(VLOOKUP(CONCATENATE($N$39,\"_\",M44),選手名簿!$A:$E,5,FALSE))=TRUE,\"\",VLOOKUP(CONCATENATE($N$39,\"_\",M44),選手名簿!$A:$E,5,FALSE))","v":""},null,null,null,null,null,"得点者",{"$f":"IF(ISERROR(VLOOKUP(CONCATENATE($U$39,\"_\",V44),選手名簿!$A:$E,5,FALSE))=TRUE,\"\",VLOOKUP(CONCATENATE($U$39,\"_\",V44),選手名簿!$A:$E,5,FALSE))","v":""},null,null,null,null,null,null,null,{"$f":"IF(ISERROR(VLOOKUP(CONCATENATE($AC$39,\"_\",AB44),選手名簿!$A:$E,5,FALSE))=TRUE,\"\",VLOOKUP(CONCATENATE($AC$39,\"_\",AB44),選手名簿!$A:$E,5,FALSE))","v":""}]
[null,null,null,null,"得点者",{"$f":"IF(ISERROR(VLOOKUP(CONCATENATE($F$39,\"_\",G45),選手名簿!$A:$E,5,FALSE))=TRUE,\"\",VLOOKUP(CONCATENATE($F$39,\"_\",G45),選手名簿!$A:$E,5,FALSE))","v":""},null,null,null,null,null,null,null,{"$f":"IF(ISERROR(VLOOKUP(CONCATENATE($N$39,\"_\",M45),選手名簿!$A:$E,5,FALSE))=TRUE,\"\",VLOOKUP(CONCATENATE($N$39,\"_\",M45),選手名簿!$A:$E,5,FALSE))","v":""},null,null,null,null,null,"得点者",{"$f":"IF(ISERROR(VLOOKUP(CONCATENATE($U$39,\"_\",V45),選手名簿!$A:$E,5,FALSE))=TRUE,\"\",VLOOKUP(CONCATENATE($U$39,\"_\",V45),選手名簿!$A:$E,5,FALSE))","v":""},null,null,null,null,null,null,null,{"$f":"IF(ISERROR(VLOOKUP(CONCATENATE($AC$39,\"_\",AB45),選手名簿!$A:$E,5,FALSE))=TRUE,\"\",VLOOKUP(CONCATENATE($AC$39,\"_\",AB45),選手名簿!$A:$E,5,FALSE))","v":""}]
[null,null,null,null,"得点者",{"$f":"IF(ISERROR(VLOOKUP(CONCATENATE($F$39,\"_\",G46),選手名簿!$A:$E,5,FALSE))=TRUE,\"\",VLOOKUP(CONCATENATE($F$39,\"_\",G46),選手名簿!$A:$E,5,FALSE))","v":""},null,null,null,null,null,null,null,{"$f":"IF(ISERROR(VLOOKUP(CONCATENATE($N$39,\"_\",M46),選手名簿!$A:$E,5,FALSE))=TRUE,\"\",VLOOKUP(CONCATENATE($N$39,\"_\",M46),選手名簿!$A:$E,5,FALSE))","v":""},null,null,null,null,null,"得点者",{"$f":"IF(ISERROR(VLOOKUP(CONCATENATE($U$39,\"_\",V46),選手名簿!$A:$E,5,FALSE))=TRUE,\"\",VLOOKUP(CONCATENATE($U$39,\"_\",V46),選手名簿!$A:$E,5,FALSE))","v":""},null,null,null,null,null,null,null,{"$f":"IF(ISERROR(VLOOKUP(CONCATENATE($AC$39,\"_\",AB46),選手名簿!$A:$E,5,FALSE))=TRUE,\"\",VLOOKUP(CONCATENATE($AC$39,\"_\",AB46),選手名簿!$A:$E,5,FALSE))","v":""}]
[null,null,null,null,"得点者",{"$f":"IF(ISERROR(VLOOKUP(CONCATENATE($F$39,\"_\",G47),選手名簿!$A:$E,5,FALSE))=TRUE,\"\",VLOOKUP(CONCATENATE($F$39,\"_\",G47),選手名簿!$A:$E,5,FALSE))","v":""},null,null,null,null,null,null,null,{"$f":"IF(ISERROR(VLOOKUP(CONCATENATE($N$39,\"_\",M47),選手名簿!$A:$E,5,FALSE))=TRUE,\"\",VLOOKUP(CONCATENATE($N$39,\"_\",M47),選手名簿!$A:$E,5,FALSE))","v":""},null,null,null,null,null,"得点者",{"$f":"IF(ISERROR(VLOOKUP(CONCATENATE($U$39,\"_\",V47),選手名簿!$A:$E,5,FALSE))=TRUE,\"\",VLOOKUP(CONCATENATE($U$39,\"_\",V47),選手名簿!$A:$E,5,FALSE))","v":""},null,null,null,null,null,null,null,{"$f":"IF(ISERROR(VLOOKUP(CONCATENATE($AC$39,\"_\",AB47),選手名簿!$A:$E,5,FALSE))=TRUE,\"\",VLOOKUP(CONCATENATE($AC$39,\"_\",AB47),選手名簿!$A:$E,5,FALSE))","v":""}]
[null,null,null,null,"得点者",{"$f":"IF(ISERROR(VLOOKUP(CONCATENATE($F$39,\"_\",G48),選手名簿!$A:$E,5,FALSE))=TRUE,\"\",VLOOKUP(CONCATENATE($F$39,\"_\",G48),選手名簿!$A:$E,5,FALSE))","v":""},null,null,null,null,null,null,null,{"$f":"IF(ISERROR(VLOOKUP(CONCATENATE($N$39,\"_\",M48),選手名簿!$A:$E,5,FALSE))=TRUE,\"\",VLOOKUP(CONCATENATE($N$39,\"_\",M48),選手名簿!$A:$E,5,FALSE))","v":""},null,null,null,null,null,"得点者",{"$f":"IF(ISERROR(VLOOKUP(CONCATENATE($U$39,\"_\",V48),選手名簿!$A:$E,5,FALSE))=TRUE,\"\",VLOOKUP(CONCATENATE($U$39,\"_\",V48),選手名簿!$A:$E,5,FALSE))","v":""},null,null,null,null,null,null,null,{"$f":"IF(ISERROR(VLOOKUP(CONCATENATE($AC$39,\"_\",AB48),選手名簿!$A:$E,5,FALSE))=TRUE,\"\",VLOOKUP(CONCATENATE($AC$39,\"_\",AB48),選手名簿!$A:$E,5,FALSE))","v":""}]
[null,null,null,null,"得点者",{"$f":"IF(ISERROR(VLOOKUP(CONCATENATE($F$39,\"_\",G49),選手名簿!$A:$E,5,FALSE))=TRUE,\"\",VLOOKUP(CONCATENATE($F$39,\"_\",G49),選手名簿!$A:$E,5,FALSE))","v":""},null,null,null,null,null,null,null,{"$f":"IF(ISERROR(VLOOKUP(CONCATENATE($N$39,\"_\",M49),選手名簿!$A:$E,5,FALSE))=TRUE,\"\",VLOOKUP(CONCATENATE($N$39,\"_\",M49),選手名簿!$A:$E,5,FALSE))","v":""},null,null,null,null,null,"得点者",{"$f":"IF(ISERROR(VLOOKUP(CONCATENATE($U$39,\"_\",V49),選手名簿!$A:$E,5,FALSE))=TRUE,\"\",VLOOKUP(CONCATENATE($U$39,\"_\",V49),選手名簿!$A:$E,5,FALSE))","v":""},null,null,null,null,null,null,null,{"$f":"IF(ISERROR(VLOOKUP(CONCATENATE($AC$39,\"_\",AB49),選手名簿!$A:$E,5,FALSE))=TRUE,\"\",VLOOKUP(CONCATENATE($AC$39,\"_\",AB49),選手名簿!$A:$E,5,FALSE))","v":""}]
[null,null,null,null,"得点者",{"$f":"IF(ISERROR(VLOOKUP(CONCATENATE($F$39,\"_\",G50),選手名簿!$A:$E,5,FALSE))=TRUE,\"\",VLOOKUP(CONCATENATE($F$39,\"_\",G50),選手名簿!$A:$E,5,FALSE))","v":""},null,null,null,null,null,null,null,{"$f":"IF(ISERROR(VLOOKUP(CONCATENATE($N$39,\"_\",M50),選手名簿!$A:$E,5,FALSE))=TRUE,\"\",VLOOKUP(CONCATENATE($N$39,\"_\",M50),選手名簿!$A:$E,5,FALSE))","v":""},null,null,null,null,null,"得点者",{"$f":"IF(ISERROR(VLOOKUP(CONCATENATE($U$39,\"_\",V50),選手名簿!$A:$E,5,FALSE))=TRUE,\"\",VLOOKUP(CONCATENATE($U$39,\"_\",V50),選手名簿!$A:$E,5,FALSE))","v":""},null,null,null,null,null,null,null,{"$f":"IF(ISERROR(VLOOKUP(CONCATENATE($AC$39,\"_\",AB50),選手名簿!$A:$E,5,FALSE))=TRUE,\"\",VLOOKUP(CONCATENATE($AC$39,\"_\",AB50),選手名簿!$A:$E,5,FALSE))","v":""}]
[null,null,null,null,"得点者",{"$f":"IF(ISERROR(VLOOKUP(CONCATENATE($F$39,\"_\",G51),選手名簿!$A:$E,5,FALSE))=TRUE,\"\",VLOOKUP(CONCATENATE($F$39,\"_\",G51),選手名簿!$A:$E,5,FALSE))","v":""},null,null,null,null,null,null,null,{"$f":"IF(ISERROR(VLOOKUP(CONCATENATE($N$39,\"_\",M51),選手名簿!$A:$E,5,FALSE))=TRUE,\"\",VLOOKUP(CONCATENATE($N$39,\"_\",M51),選手名簿!$A:$E,5,FALSE))","v":""},null,null,null,null,null,"得点者",{"$f":"IF(ISERROR(VLOOKUP(CONCATENATE($U$39,\"_\",V51),選手名簿!$A:$E,5,FALSE))=TRUE,\"\",VLOOKUP(CONCATENATE($U$39,\"_\",V51),選手名簿!$A:$E,5,FALSE))","v":""},null,null,null,null,null,null,null,{"$f":"IF(ISERROR(VLOOKUP(CONCATENATE($AC$39,\"_\",AB51),選手名簿!$A:$E,5,FALSE))=TRUE,\"\",VLOOKUP(CONCATENATE($AC$39,\"_\",AB51),選手名簿!$A:$E,5,FALSE))","v":""}]
[null,null,null,null,"得点者",{"$f":"IF(ISERROR(VLOOKUP(CONCATENATE($F$39,\"_\",G52),選手名簿!$A:$E,5,FALSE))=TRUE,\"\",VLOOKUP(CONCATENATE($F$39,\"_\",G52),選手名簿!$A:$E,5,FALSE))","v":""},null,null,null,null,null,null,null,{"$f":"IF(ISERROR(VLOOKUP(CONCATENATE($N$39,\"_\",M52),選手名簿!$A:$E,5,FALSE))=TRUE,\"\",VLOOKUP(CONCATENATE($N$39,\"_\",M52),選手名簿!$A:$E,5,FALSE))","v":""},null,null,null,null,null,"得点者",{"$f":"IF(ISERROR(VLOOKUP(CONCATENATE($U$39,\"_\",V52),選手名簿!$A:$E,5,FALSE))=TRUE,\"\",VLOOKUP(CONCATENATE($U$39,\"_\",V52),選手名簿!$A:$E,5,FALSE))","v":""},null,null,null,null,null,null,null,{"$f":"IF(ISERROR(VLOOKUP(CONCATENATE($AC$39,\"_\",AB52),選手名簿!$A:$E,5,FALSE))=TRUE,\"\",VLOOKUP(CONCATENATE($AC$39,\"_\",AB52),選手名簿!$A:$E,5,FALSE))","v":""}]
["番号","R009554780",null,null,"警告/退場",{"$f":"IF(ISERROR(VLOOKUP(CONCATENATE($F$39,\"_\",G53),選手名簿!$A:$E,5,FALSE))=TRUE,\"\",VLOOKUP(CONCATENATE($F$39,\"_\",G53),選手名簿!$A:$E,5,FALSE))","v":""},null,null,null,null,null,null,null,{"$f":"IF(ISERROR(VLOOKUP(CONCATENATE($N$39,\"_\",M53),選手名簿!$A:$E,5,FALSE))=TRUE,\"\",VLOOKUP(CONCATENATE($N$39,\"_\",M53),選手名簿!$A:$E,5,FALSE))","v":""},null,"番号","R010090347",null,null,"警告/退場",{"$f":"IF(ISERROR(VLOOKUP(CONCATENATE($U$39,\"_\",V53),選手名簿!$A:$E,5,FALSE))=TRUE,\"\",VLOOKUP(CONCATENATE($U$39,\"_\",V53),選手名簿!$A:$E,5,FALSE))","v":""},null,null,null,null,null,null,null,{"$f":"IF(ISERROR(VLOOKUP(CONCATENATE($AC$39,\"_\",AB53),選手名簿!$A:$E,5,FALSE))=TRUE,\"\",VLOOKUP(CONCATENATE($AC$39,\"_\",AB53),選手名簿!$A:$E,5,FALSE))","v":""}]
["R",{"$f":"IF(ISERROR(VLOOKUP(B53,審判員!$A:$C,2,FALSE))=TRUE,\"\",VLOOKUP(B53,審判員!$A:$C,2,FALSE))","v":"白江　直樹"},null,{"$f":"IF(ISERROR(VLOOKUP(B53,審判員!$A:$C,3,FALSE))=TRUE,\"\",VLOOKUP(B53,審判員!$A:$C,3,FALSE))","v":"３級"},"警告/退場",{"$f":"IF(ISERROR(VLOOKUP(CONCATENATE($F$39,\"_\",G54),選手名簿!$A:$E,5,FALSE))=TRUE,\"\",VLOOKUP(CONCATENATE($F$39,\"_\",G54),選手名簿!$A:$E,5,FALSE))","v":""},null,null,null,null,null,null,null,{"$f":"IF(ISERROR(VLOOKUP(CONCATENATE($N$39,\"_\",M54),選手名簿!$A:$E,5,FALSE))=TRUE,\"\",VLOOKUP(CONCATENATE($N$39,\"_\",M54),選手名簿!$A:$E,5,FALSE))","v":""},null,"R",{"$f":"IF(ISERROR(VLOOKUP(Q53,審判員!$A:$C,2,FALSE))=TRUE,\"\",VLOOKUP(Q53,審判員!$A:$C,2,FALSE))","v":"和田　行祐"},null,{"$f":"IF(ISERROR(VLOOKUP(Q53,審判員!$A:$C,3,FALSE))=TRUE,\"\",VLOOKUP(Q53,審判員!$A:$C,3,FALSE))","v":"３級"},"警告/退場",{"$f":"IF(ISERROR(VLOOKUP(CONCATENATE($U$39,\"_\",V54),選手名簿!$A:$E,5,FALSE))=TRUE,\"\",VLOOKUP(CONCATENATE($U$39,\"_\",V54),選手名簿!$A:$E,5,FALSE))","v":""},null,null,null,null,null,null,null,{"$f":"IF(ISERROR(VLOOKUP(CONCATENATE($AC$39,\"_\",AB54),選手名簿!$A:$E,5,FALSE))=TRUE,\"\",VLOOKUP(CONCATENATE($AC$39,\"_\",AB54),選手名簿!$A:$E,5,FALSE))","v":""}]
["番号","R001263350",null,null,"警告/退場",{"$f":"IF(ISERROR(VLOOKUP(CONCATENATE($F$39,\"_\",G55),選手名簿!$A:$E,5,FALSE))=TRUE,\"\",VLOOKUP(CONCATENATE($F$39,\"_\",G55),選手名簿!$A:$E,5,FALSE))","v":""},null,null,null,null,null,null,null,{"$f":"IF(ISERROR(VLOOKUP(CONCATENATE($N$39,\"_\",M55),選手名簿!$A:$E,5,FALSE))=TRUE,\"\",VLOOKUP(CONCATENATE($N$39,\"_\",M55),選手名簿!$A:$E,5,FALSE))","v":""},null,"番号","R010189301",null,null,"警告/退場",{"$f":"IF(ISERROR(VLOOKUP(CONCATENATE($U$39,\"_\",V55),選手名簿!$A:$E,5,FALSE))=TRUE,\"\",VLOOKUP(CONCATENATE($U$39,\"_\",V55),選手名簿!$A:$E,5,FALSE))","v":""},null,null,null,null,null,null,null,{"$f":"IF(ISERROR(VLOOKUP(CONCATENATE($AC$39,\"_\",AB55),選手名簿!$A:$E,5,FALSE))=TRUE,\"\",VLOOKUP(CONCATENATE($AC$39,\"_\",AB55),選手名簿!$A:$E,5,FALSE))","v":""}]
["AR1:",{"$f":"IF(ISERROR(VLOOKUP(B55,審判員!$A:$C,2,FALSE))=TRUE,\"\",VLOOKUP(B55,審判員!$A:$C,2,FALSE))","v":"酒井　祐三"},null,{"$f":"IF(ISERROR(VLOOKUP(B55,審判員!$A:$C,3,FALSE))=TRUE,\"\",VLOOKUP(B55,審判員!$A:$C,3,FALSE))","v":"３級"},"警告/退場",{"$f":"IF(ISERROR(VLOOKUP(CONCATENATE($F$39,\"_\",G56),選手名簿!$A:$E,5,FALSE))=TRUE,\"\",VLOOKUP(CONCATENATE($F$39,\"_\",G56),選手名簿!$A:$E,5,FALSE))","v":""},null,null,null,null,null,null,null,{"$f":"IF(ISERROR(VLOOKUP(CONCATENATE($N$39,\"_\",M56),選手名簿!$A:$E,5,FALSE))=TRUE,\"\",VLOOKUP(CONCATENATE($N$39,\"_\",M56),選手名簿!$A:$E,5,FALSE))","v":""},null,"AR1:",{"$f":"IF(ISERROR(VLOOKUP(Q55,審判員!$A:$C,2,FALSE))=TRUE,\"\",VLOOKUP(Q55,審判員!$A:$C,2,FALSE))","v":"工藤　拓海"},null,{"$f":"IF(ISERROR(VLOOKUP(Q55,審判員!$A:$C,3,FALSE))=TRUE,\"\",VLOOKUP(Q55,審判員!$A:$C,3,FALSE))","v":"３級"},"警告/退場",{"$f":"IF(ISERROR(VLOOKUP(CONCATENATE($U$39,\"_\",V56),選手名簿!$A:$E,5,FALSE))=TRUE,\"\",VLOOKUP(CONCATENATE($U$39,\"_\",V56),選手名簿!$A:$E,5,FALSE))","v":""},null,null,null,null,null,null,null,{"$f":"IF(ISERROR(VLOOKUP(CONCATENATE($AC$39,\"_\",AB56),選手名簿!$A:$E,5,FALSE))=TRUE,\"\",VLOOKUP(CONCATENATE($AC$39,\"_\",AB56),選手名簿!$A:$E,5,FALSE))","v":""}]
["番号","R001260070",null,null,"警告/退場",{"$f":"IF(ISERROR(VLOOKUP(CONCATENATE($F$39,\"_\",G57),選手名簿!$A:$E,5,FALSE))=TRUE,\"\",VLOOKUP(CONCATENATE($F$39,\"_\",G57),選手名簿!$A:$E,5,FALSE))","v":""},null,null,null,null,null,null,null,{"$f":"IF(ISERROR(VLOOKUP(CONCATENATE($N$39,\"_\",M57),選手名簿!$A:$E,5,FALSE))=TRUE,\"\",VLOOKUP(CONCATENATE($N$39,\"_\",M57),選手名簿!$A:$E,5,FALSE))","v":""},null,"番号","R010027876",null,null,"警告/退場",{"$f":"IF(ISERROR(VLOOKUP(CONCATENATE($U$39,\"_\",V57),選手名簿!$A:$E,5,FALSE))=TRUE,\"\",VLOOKUP(CONCATENATE($U$39,\"_\",V57),選手名簿!$A:$E,5,FALSE))","v":""},null,null,null,null,null,null,null,{"$f":"IF(ISERROR(VLOOKUP(CONCATENATE($AC$39,\"_\",AB57),選手名簿!$A:$E,5,FALSE))=TRUE,\"\",VLOOKUP(CONCATENATE($AC$39,\"_\",AB57),選手名簿!$A:$E,5,FALSE))","v":""}]
["AR2:",{"$f":"IF(ISERROR(VLOOKUP(B57,審判員!$A:$C,2,FALSE))=TRUE,\"\",VLOOKUP(B57,審判員!$A:$C,2,FALSE))","v":"廣戸　誠一"},null,{"$f":"IF(ISERROR(VLOOKUP(B57,審判員!$A:$C,3,FALSE))=TRUE,\"\",VLOOKUP(B57,審判員!$A:$C,3,FALSE))","v":"３級"},"警告/退場",{"$f":"IF(ISERROR(VLOOKUP(CONCATENATE($F$39,\"_\",G58),選手名簿!$A:$E,5,FALSE))=TRUE,\"\",VLOOKUP(CONCATENATE($F$39,\"_\",G58),選手名簿!$A:$E,5,FALSE))","v":""},null,null,null,null,null,null,null,{"$f":"IF(ISERROR(VLOOKUP(CONCATENATE($N$39,\"_\",M58),選手名簿!$A:$E,5,FALSE))=TRUE,\"\",VLOOKUP(CONCATENATE($N$39,\"_\",M58),選手名簿!$A:$E,5,FALSE))","v":""},null,"AR2:",{"$f":"IF(ISERROR(VLOOKUP(Q57,審判員!$A:$C,2,FALSE))=TRUE,\"\",VLOOKUP(Q57,審判員!$A:$C,2,FALSE))","v":"森　隆嗣"},null,{"$f":"IF(ISERROR(VLOOKUP(Q57,審判員!$A:$C,3,FALSE))=TRUE,\"\",VLOOKUP(Q57,審判員!$A:$C,3,FALSE))","v":"３級"},"警告/退場",{"$f":"IF(ISERROR(VLOOKUP(CONCATENATE($U$39,\"_\",V58),選手名簿!$A:$E,5,FALSE))=TRUE,\"\",VLOOKUP(CONCATENATE($U$39,\"_\",V58),選手名簿!$A:$E,5,FALSE))","v":""},null,null,null,null,null,null,null,{"$f":"IF(ISERROR(VLOOKUP(CONCATENATE($AC$39,\"_\",AB58),選手名簿!$A:$E,5,FALSE))=TRUE,\"\",VLOOKUP(CONCATENATE($AC$39,\"_\",AB58),選手名簿!$A:$E,5,FALSE))","v":""}]
["番号","R010090347",null,null,"警告/退場",{"$f":"IF(ISERROR(VLOOKUP(CONCATENATE($F$39,\"_\",G59),選手名簿!$A:$E,5,FALSE))=TRUE,\"\",VLOOKUP(CONCATENATE($F$39,\"_\",G59),選手名簿!$A:$E,5,FALSE))","v":""},null,null,null,null,null,null,null,{"$f":"IF(ISERROR(VLOOKUP(CONCATENATE($N$39,\"_\",M59),選手名簿!$A:$E,5,FALSE))=TRUE,\"\",VLOOKUP(CONCATENATE($N$39,\"_\",M59),選手名簿!$A:$E,5,FALSE))","v":""},null,"番号","R001255616",null,null,"警告/退場",{"$f":"IF(ISERROR(VLOOKUP(CONCATENATE($U$39,\"_\",V59),選手名簿!$A:$E,5,FALSE))=TRUE,\"\",VLOOKUP(CONCATENATE($U$39,\"_\",V59),選手名簿!$A:$E,5,FALSE))","v":""},null,null,null,null,null,null,null,{"$f":"IF(ISERROR(VLOOKUP(CONCATENATE($AC$39,\"_\",AB59),選手名簿!$A:$E,5,FALSE))=TRUE,\"\",VLOOKUP(CONCATENATE($AC$39,\"_\",AB59),選手名簿!$A:$E,5,FALSE))","v":""}]
["4th:",{"$f":"IF(ISERROR(VLOOKUP(B59,審判員!$A:$C,2,FALSE))=TRUE,\"\",VLOOKUP(B59,審判員!$A:$C,2,FALSE))","v":"和田　行祐"},null,{"$f":"IF(ISERROR(VLOOKUP(B59,審判員!$A:$C,3,FALSE))=TRUE,\"\",VLOOKUP(B59,審判員!$A:$C,3,FALSE))","v":"３級"},"警告/退場",{"$f":"IF(ISERROR(VLOOKUP(CONCATENATE($F$39,\"_\",G60),選手名簿!$A:$E,5,FALSE))=TRUE,\"\",VLOOKUP(CONCATENATE($F$39,\"_\",G60),選手名簿!$A:$E,5,FALSE))","v":""},null,null,null,null,null,null,null,{"$f":"IF(ISERROR(VLOOKUP(CONCATENATE($N$39,\"_\",M60),選手名簿!$A:$E,5,FALSE))=TRUE,\"\",VLOOKUP(CONCATENATE($N$39,\"_\",M60),選手名簿!$A:$E,5,FALSE))","v":""},null,"4th:",{"$f":"IF(ISERROR(VLOOKUP(Q59,審判員!$A:$C,2,FALSE))=TRUE,\"\",VLOOKUP(Q59,審判員!$A:$C,2,FALSE))","v":"川井　勇介"},null,{"$f":"IF(ISERROR(VLOOKUP(Q59,審判員!$A:$C,3,FALSE))=TRUE,\"\",VLOOKUP(Q59,審判員!$A:$C,3,FALSE))","v":"３級"},"警告/退場",{"$f":"IF(ISERROR(VLOOKUP(CONCATENATE($U$39,\"_\",V60),選手名簿!$A:$E,5,FALSE))=TRUE,\"\",VLOOKUP(CONCATENATE($U$39,\"_\",V60),選手名簿!$A:$E,5,FALSE))","v":""},null,null,null,null,null,null,null,{"$f":"IF(ISERROR(VLOOKUP(CONCATENATE($AC$39,\"_\",AB60),選手名簿!$A:$E,5,FALSE))=TRUE,\"\",VLOOKUP(CONCATENATE($AC$39,\"_\",AB60),選手名簿!$A:$E,5,FALSE))","v":""}]
[]
[]
[]
[]
[]
[]
[]
["MC","磯村　信一",null,null,"14:30:00",{"$f":"F7","v":"カティオーラフットボールクラブＵ－１２"},{"$f":"SUM(I68:I69)","v":8},"（",5,"前半",0,"）",{"$f":"SUM(K68:K69)","v":0},{"$f":"F5","v":"市浜レッドソックス"},null,"MC","中原　圭介",null,null,"15:30:00",{"$f":"U7","v":"ＦＣ大野"},{"$f":"SUM(X68:X69)","v":1},"（",0,"前半",2,"）",{"$f":"SUM(Z68:Z69)","v":4},{"$f":"U5","v":"ドリームキッズフットボールクラブエフシー"}]
["Welfare\nOfficer","-",null,null,null,null,null,null,3,"後半",0,null,null,null,null,"Welfare\nOfficer","-",null,null,null,null,null,null,1,"後半",2]
["記録","諌本　秀樹",null,null,null,null,null,null,null,"PK",null,null,null,null,null,"記録","磯村　信一",null,null,null,null,null,null,null,"PK"]
["＜Referee＞",null,null,null,null,"氏名","番号","分",null,null,null,"分","番号","氏名",null,"＜Referee＞",null,null,null,null,"氏名","番号","分",null,null,null,"分","番号","氏名"]
[null,null,null,null,"得点者",{"$f":"IF(ISERROR(VLOOKUP(CONCATENATE($F$68,\"_\",G72),選手名簿!$A:$E,5,FALSE))=TRUE,\"\",VLOOKUP(CONCATENATE($F$68,\"_\",G72),選手名簿!$A:$E,5,FALSE))","v":""},null,null,null,null,null,null,null,{"$f":"IF(ISERROR(VLOOKUP(CONCATENATE($N$68,\"_\",M72),選手名簿!$A:$E,5,FALSE))=TRUE,\"\",VLOOKUP(CONCATENATE($N$68,\"_\",M72),選手名簿!$A:$E,5,FALSE))","v":""},null,null,null,null,null,"得点者",{"$f":"IF(ISERROR(VLOOKUP(CONCATENATE($U$68,\"_\",V72),選手名簿!$A:$E,5,FALSE))=TRUE,\"\",VLOOKUP(CONCATENATE($U$68,\"_\",V72),選手名簿!$A:$E,5,FALSE))","v":""},null,null,null,null,null,null,null,{"$f":"IF(ISERROR(VLOOKUP(CONCATENATE($AC$68,\"_\",AB72),選手名簿!$A:$E,5,FALSE))=TRUE,\"\",VLOOKUP(CONCATENATE($AC$68,\"_\",AB72),選手名簿!$A:$E,5,FALSE))","v":""}]
[null,null,null,null,"得点者",{"$f":"IF(ISERROR(VLOOKUP(CONCATENATE($F$68,\"_\",G73),選手名簿!$A:$E,5,FALSE))=TRUE,\"\",VLOOKUP(CONCATENATE($F$68,\"_\",G73),選手名簿!$A:$E,5,FALSE))","v":""},null,null,null,null,null,null,null,{"$f":"IF(ISERROR(VLOOKUP(CONCATENATE($N$68,\"_\",M73),選手名簿!$A:$E,5,FALSE))=TRUE,\"\",VLOOKUP(CONCATENATE($N$68,\"_\",M73),選手名簿!$A:$E,5,FALSE))","v":""},null,null,null,null,null,"得点者",{"$f":"IF(ISERROR(VLOOKUP(CONCATENATE($U$68,\"_\",V73),選手名簿!$A:$E,5,FALSE))=TRUE,\"\",VLOOKUP(CONCATENATE($U$68,\"_\",V73),選手名簿!$A:$E,5,FALSE))","v":""},null,null,null,null,null,null,null,{"$f":"IF(ISERROR(VLOOKUP(CONCATENATE($AC$68,\"_\",AB73),選手名簿!$A:$E,5,FALSE))=TRUE,\"\",VLOOKUP(CONCATENATE($AC$68,\"_\",AB73),選手名簿!$A:$E,5,FALSE))","v":""}]
[null,null,null,null,"得点者",{"$f":"IF(ISERROR(VLOOKUP(CONCATENATE($F$68,\"_\",G74),選手名簿!$A:$E,5,FALSE))=TRUE,\"\",VLOOKUP(CONCATENATE($F$68,\"_\",G74),選手名簿!$A:$E,5,FALSE))","v":""},null,null,null,null,null,null,null,{"$f":"IF(ISERROR(VLOOKUP(CONCATENATE($N$68,\"_\",M74),選手名簿!$A:$E,5,FALSE))=TRUE,\"\",VLOOKUP(CONCATENATE($N$68,\"_\",M74),選手名簿!$A:$E,5,FALSE))","v":""},null,null,null,null,null,"得点者",{"$f":"IF(ISERROR(VLOOKUP(CONCATENATE($U$68,\"_\",V74),選手名簿!$A:$E,5,FALSE))=TRUE,\"\",VLOOKUP(CONCATENATE($U$68,\"_\",V74),選手名簿!$A:$E,5,FALSE))","v":""},null,null,null,null,null,null,null,{"$f":"IF(ISERROR(VLOOKUP(CONCATENATE($AC$68,\"_\",AB74),選手名簿!$A:$E,5,FALSE))=TRUE,\"\",VLOOKUP(CONCATENATE($AC$68,\"_\",AB74),選手名簿!$A:$E,5,FALSE))","v":""}]
[null,null,null,null,"得点者",{"$f":"IF(ISERROR(VLOOKUP(CONCATENATE($F$68,\"_\",G75),選手名簿!$A:$E,5,FALSE))=TRUE,\"\",VLOOKUP(CONCATENATE($F$68,\"_\",G75),選手名簿!$A:$E,5,FALSE))","v":""},null,null,null,null,null,null,null,{"$f":"IF(ISERROR(VLOOKUP(CONCATENATE($N$68,\"_\",M75),選手名簿!$A:$E,5,FALSE))=TRUE,\"\",VLOOKUP(CONCATENATE($N$68,\"_\",M75),選手名簿!$A:$E,5,FALSE))","v":""},null,null,null,null,null,"得点者",{"$f":"IF(ISERROR(VLOOKUP(CONCATENATE($U$68,\"_\",V75),選手名簿!$A:$E,5,FALSE))=TRUE,\"\",VLOOKUP(CONCATENATE($U$68,\"_\",V75),選手名簿!$A:$E,5,FALSE))","v":""},null,null,null,null,null,null,null,{"$f":"IF(ISERROR(VLOOKUP(CONCATENATE($AC$68,\"_\",AB75),選手名簿!$A:$E,5,FALSE))=TRUE,\"\",VLOOKUP(CONCATENATE($AC$68,\"_\",AB75),選手名簿!$A:$E,5,FALSE))","v":""}]
[null,null,null,null,"得点者",{"$f":"IF(ISERROR(VLOOKUP(CONCATENATE($F$68,\"_\",G76),選手名簿!$A:$E,5,FALSE))=TRUE,\"\",VLOOKUP(CONCATENATE($F$68,\"_\",G76),選手名簿!$A:$E,5,FALSE))","v":""},null,null,null,null,null,null,null,{"$f":"IF(ISERROR(VLOOKUP(CONCATENATE($N$68,\"_\",M76),選手名簿!$A:$E,5,FALSE))=TRUE,\"\",VLOOKUP(CONCATENATE($N$68,\"_\",M76),選手名簿!$A:$E,5,FALSE))","v":""},null,null,null,null,null,"得点者",{"$f":"IF(ISERROR(VLOOKUP(CONCATENATE($U$68,\"_\",V76),選手名簿!$A:$E,5,FALSE))=TRUE,\"\",VLOOKUP(CONCATENATE($U$68,\"_\",V76),選手名簿!$A:$E,5,FALSE))","v":""},null,null,null,null,null,null,null,{"$f":"IF(ISERROR(VLOOKUP(CONCATENATE($AC$68,\"_\",AB76),選手名簿!$A:$E,5,FALSE))=TRUE,\"\",VLOOKUP(CONCATENATE($AC$68,\"_\",AB76),選手名簿!$A:$E,5,FALSE))","v":""}]
[null,null,null,null,"得点者",{"$f":"IF(ISERROR(VLOOKUP(CONCATENATE($F$68,\"_\",G77),選手名簿!$A:$E,5,FALSE))=TRUE,\"\",VLOOKUP(CONCATENATE($F$68,\"_\",G77),選手名簿!$A:$E,5,FALSE))","v":""},null,null,null,null,null,null,null,{"$f":"IF(ISERROR(VLOOKUP(CONCATENATE($N$68,\"_\",M77),選手名簿!$A:$E,5,FALSE))=TRUE,\"\",VLOOKUP(CONCATENATE($N$68,\"_\",M77),選手名簿!$A:$E,5,FALSE))","v":""},null,null,null,null,null,"得点者",{"$f":"IF(ISERROR(VLOOKUP(CONCATENATE($U$68,\"_\",V77),選手名簿!$A:$E,5,FALSE))=TRUE,\"\",VLOOKUP(CONCATENATE($U$68,\"_\",V77),選手名簿!$A:$E,5,FALSE))","v":""},null,null,null,null,null,null,null,{"$f":"IF(ISERROR(VLOOKUP(CONCATENATE($AC$68,\"_\",AB77),選手名簿!$A:$E,5,FALSE))=TRUE,\"\",VLOOKUP(CONCATENATE($AC$68,\"_\",AB77),選手名簿!$A:$E,5,FALSE))","v":""}]
[null,null,null,null,"得点者",{"$f":"IF(ISERROR(VLOOKUP(CONCATENATE($F$68,\"_\",G78),選手名簿!$A:$E,5,FALSE))=TRUE,\"\",VLOOKUP(CONCATENATE($F$68,\"_\",G78),選手名簿!$A:$E,5,FALSE))","v":""},null,null,null,null,null,null,null,{"$f":"IF(ISERROR(VLOOKUP(CONCATENATE($N$68,\"_\",M78),選手名簿!$A:$E,5,FALSE))=TRUE,\"\",VLOOKUP(CONCATENATE($N$68,\"_\",M78),選手名簿!$A:$E,5,FALSE))","v":""},null,null,null,null,null,"得点者",{"$f":"IF(ISERROR(VLOOKUP(CONCATENATE($U$68,\"_\",V78),選手名簿!$A:$E,5,FALSE))=TRUE,\"\",VLOOKUP(CONCATENATE($U$68,\"_\",V78),選手名簿!$A:$E,5,FALSE))","v":""},null,null,null,null,null,null,null,{"$f":"IF(ISERROR(VLOOKUP(CONCATENATE($AC$68,\"_\",AB78),選手名簿!$A:$E,5,FALSE))=TRUE,\"\",VLOOKUP(CONCATENATE($AC$68,\"_\",AB78),選手名簿!$A:$E,5,FALSE))","v":""}]
[null,null,null,null,"得点者",{"$f":"IF(ISERROR(VLOOKUP(CONCATENATE($F$68,\"_\",G79),選手名簿!$A:$E,5,FALSE))=TRUE,\"\",VLOOKUP(CONCATENATE($F$68,\"_\",G79),選手名簿!$A:$E,5,FALSE))","v":""},null,null,null,null,null,null,null,{"$f":"IF(ISERROR(VLOOKUP(CONCATENATE($N$68,\"_\",M79),選手名簿!$A:$E,5,FALSE))=TRUE,\"\",VLOOKUP(CONCATENATE($N$68,\"_\",M79),選手名簿!$A:$E,5,FALSE))","v":""},null,null,null,null,null,"得点者",{"$f":"IF(ISERROR(VLOOKUP(CONCATENATE($U$68,\"_\",V79),選手名簿!$A:$E,5,FALSE))=TRUE,\"\",VLOOKUP(CONCATENATE($U$68,\"_\",V79),選手名簿!$A:$E,5,FALSE))","v":""},null,null,null,null,null,null,null,{"$f":"IF(ISERROR(VLOOKUP(CONCATENATE($AC$68,\"_\",AB79),選手名簿!$A:$E,5,FALSE))=TRUE,\"\",VLOOKUP(CONCATENATE($AC$68,\"_\",AB79),選手名簿!$A:$E,5,FALSE))","v":""}]
[null,null,null,null,"得点者",{"$f":"IF(ISERROR(VLOOKUP(CONCATENATE($F$68,\"_\",G80),選手名簿!$A:$E,5,FALSE))=TRUE,\"\",VLOOKUP(CONCATENATE($F$68,\"_\",G80),選手名簿!$A:$E,5,FALSE))","v":""},null,null,null,null,null,null,null,{"$f":"IF(ISERROR(VLOOKUP(CONCATENATE($N$68,\"_\",M80),選手名簿!$A:$E,5,FALSE))=TRUE,\"\",VLOOKUP(CONCATENATE($N$68,\"_\",M80),選手名簿!$A:$E,5,FALSE))","v":""},null,null,null,null,null,"得点者",{"$f":"IF(ISERROR(VLOOKUP(CONCATENATE($U$68,\"_\",V80),選手名簿!$A:$E,5,FALSE))=TRUE,\"\",VLOOKUP(CONCATENATE($U$68,\"_\",V80),選手名簿!$A:$E,5,FALSE))","v":""},null,null,null,null,null,null,null,{"$f":"IF(ISERROR(VLOOKUP(CONCATENATE($AC$68,\"_\",AB80),選手名簿!$A:$E,5,FALSE))=TRUE,\"\",VLOOKUP(CONCATENATE($AC$68,\"_\",AB80),選手名簿!$A:$E,5,FALSE))","v":""}]
[null,null,null,null,"得点者",{"$f":"IF(ISERROR(VLOOKUP(CONCATENATE($F$68,\"_\",G81),選手名簿!$A:$E,5,FALSE))=TRUE,\"\",VLOOKUP(CONCATENATE($F$68,\"_\",G81),選手名簿!$A:$E,5,FALSE))","v":""},null,null,null,null,null,null,null,{"$f":"IF(ISERROR(VLOOKUP(CONCATENATE($N$68,\"_\",M81),選手名簿!$A:$E,5,FALSE))=TRUE,\"\",VLOOKUP(CONCATENATE($N$68,\"_\",M81),選手名簿!$A:$E,5,FALSE))","v":""},null,null,null,null,null,"得点者",{"$f":"IF(ISERROR(VLOOKUP(CONCATENATE($U$68,\"_\",V81),選手名簿!$A:$E,5,FALSE))=TRUE,\"\",VLOOKUP(CONCATENATE($U$68,\"_\",V81),選手名簿!$A:$E,5,FALSE))","v":""},null,null,null,null,null,null,null,{"$f":"IF(ISERROR(VLOOKUP(CONCATENATE($AC$68,\"_\",AB81),選手名簿!$A:$E,5,FALSE))=TRUE,\"\",VLOOKUP(CONCATENATE($AC$68,\"_\",AB81),選手名簿!$A:$E,5,FALSE))","v":""}]
["番号","R001255616",null,null,"警告/退場",{"$f":"IF(ISERROR(VLOOKUP(CONCATENATE($F$68,\"_\",G82),選手名簿!$A:$E,5,FALSE))=TRUE,\"\",VLOOKUP(CONCATENATE($F$68,\"_\",G82),選手名簿!$A:$E,5,FALSE))","v":""},null,null,null,null,null,null,null,{"$f":"IF(ISERROR(VLOOKUP(CONCATENATE($N$68,\"_\",M82),選手名簿!$A:$E,5,FALSE))=TRUE,\"\",VLOOKUP(CONCATENATE($N$68,\"_\",M82),選手名簿!$A:$E,5,FALSE))","v":""},null,"番号","R009554780",null,null,"警告/退場",{"$f":"IF(ISERROR(VLOOKUP(CONCATENATE($U$68,\"_\",V82),選手名簿!$A:$E,5,FALSE))=TRUE,\"\",VLOOKUP(CONCATENATE($U$68,\"_\",V82),選手名簿!$A:$E,5,FALSE))","v":""},null,null,null,null,"ラフ",36,11,{"$f":"IF(ISERROR(VLOOKUP(CONCATENATE($AC$68,\"_\",AB82),選手名簿!$A:$E,5,FALSE))=TRUE,\"\",VLOOKUP(CONCATENATE($AC$68,\"_\",AB82),選手名簿!$A:$E,5,FALSE))","v":"大久保　桧埜"}]
["R",{"$f":"IF(ISERROR(VLOOKUP(B82,審判員!$A:$C,2,FALSE))=TRUE,\"\",VLOOKUP(B82,審判員!$A:$C,2,FALSE))","v":"川井　勇介"},null,{"$f":"IF(ISERROR(VLOOKUP(B82,審判員!$A:$C,3,FALSE))=TRUE,\"\",VLOOKUP(B82,審判員!$A:$C,3,FALSE))","v":"３級"},"警告/退場",{"$f":"IF(ISERROR(VLOOKUP(CONCATENATE($F$68,\"_\",G83),選手名簿!$A:$E,5,FALSE))=TRUE,\"\",VLOOKUP(CONCATENATE($F$68,\"_\",G83),選手名簿!$A:$E,5,FALSE))","v":""},null,null,null,null,null,null,null,{"$f":"IF(ISERROR(VLOOKUP(CONCATENATE($N$68,\"_\",M83),選手名簿!$A:$E,5,FALSE))=TRUE,\"\",VLOOKUP(CONCATENATE($N$68,\"_\",M83),選手名簿!$A:$E,5,FALSE))","v":""},null,"R",{"$f":"IF(ISERROR(VLOOKUP(Q82,審判員!$A:$C,2,FALSE))=TRUE,\"\",VLOOKUP(Q82,審判員!$A:$C,2,FALSE))","v":"白江　直樹"},null,{"$f":"IF(ISERROR(VLOOKUP(Q82,審判員!$A:$C,3,FALSE))=TRUE,\"\",VLOOKUP(Q82,審判員!$A:$C,3,FALSE))","v":"３級"},"警告/退場",{"$f":"IF(ISERROR(VLOOKUP(CONCATENATE($U$68,\"_\",V83),選手名簿!$A:$E,5,FALSE))=TRUE,\"\",VLOOKUP(CONCATENATE($U$68,\"_\",V83),選手名簿!$A:$E,5,FALSE))","v":""},null,null,null,null,null,null,null,{"$f":"IF(ISERROR(VLOOKUP(CONCATENATE($AC$68,\"_\",AB83),選手名簿!$A:$E,5,FALSE))=TRUE,\"\",VLOOKUP(CONCATENATE($AC$68,\"_\",AB83),選手名簿!$A:$E,5,FALSE))","v":""}]
["番号","R001260070",null,null,"警告/退場",{"$f":"IF(ISERROR(VLOOKUP(CONCATENATE($F$68,\"_\",G84),選手名簿!$A:$E,5,FALSE))=TRUE,\"\",VLOOKUP(CONCATENATE($F$68,\"_\",G84),選手名簿!$A:$E,5,FALSE))","v":""},null,null,null,null,null,null,null,{"$f":"IF(ISERROR(VLOOKUP(CONCATENATE($N$68,\"_\",M84),選手名簿!$A:$E,5,FALSE))=TRUE,\"\",VLOOKUP(CONCATENATE($N$68,\"_\",M84),選手名簿!$A:$E,5,FALSE))","v":""},null,"番号","R010189301",null,null,"警告/退場",{"$f":"IF(ISERROR(VLOOKUP(CONCATENATE($U$68,\"_\",V84),選手名簿!$A:$E,5,FALSE))=TRUE,\"\",VLOOKUP(CONCATENATE($U$68,\"_\",V84),選手名簿!$A:$E,5,FALSE))","v":""},null,null,null,null,null,null,null,{"$f":"IF(ISERROR(VLOOKUP(CONCATENATE($AC$68,\"_\",AB84),選手名簿!$A:$E,5,FALSE))=TRUE,\"\",VLOOKUP(CONCATENATE($AC$68,\"_\",AB84),選手名簿!$A:$E,5,FALSE))","v":""}]
["AR1:",{"$f":"IF(ISERROR(VLOOKUP(B84,審判員!$A:$C,2,FALSE))=TRUE,\"\",VLOOKUP(B84,審判員!$A:$C,2,FALSE))","v":"廣戸　誠一"},null,{"$f":"IF(ISERROR(VLOOKUP(B84,審判員!$A:$C,3,FALSE))=TRUE,\"\",VLOOKUP(B84,審判員!$A:$C,3,FALSE))","v":"３級"},"警告/退場",{"$f":"IF(ISERROR(VLOOKUP(CONCATENATE($F$68,\"_\",G85),選手名簿!$A:$E,5,FALSE))=TRUE,\"\",VLOOKUP(CONCATENATE($F$68,\"_\",G85),選手名簿!$A:$E,5,FALSE))","v":""},null,null,null,null,null,null,null,{"$f":"IF(ISERROR(VLOOKUP(CONCATENATE($N$68,\"_\",M85),選手名簿!$A:$E,5,FALSE))=TRUE,\"\",VLOOKUP(CONCATENATE($N$68,\"_\",M85),選手名簿!$A:$E,5,FALSE))","v":""},null,"AR1:",{"$f":"IF(ISERROR(VLOOKUP(Q84,審判員!$A:$C,2,FALSE))=TRUE,\"\",VLOOKUP(Q84,審判員!$A:$C,2,FALSE))","v":"工藤　拓海"},null,{"$f":"IF(ISERROR(VLOOKUP(Q84,審判員!$A:$C,3,FALSE))=TRUE,\"\",VLOOKUP(Q84,審判員!$A:$C,3,FALSE))","v":"３級"},"警告/退場",{"$f":"IF(ISERROR(VLOOKUP(CONCATENATE($U$68,\"_\",V85),選手名簿!$A:$E,5,FALSE))=TRUE,\"\",VLOOKUP(CONCATENATE($U$68,\"_\",V85),選手名簿!$A:$E,5,FALSE))","v":""},null,null,null,null,null,null,null,{"$f":"IF(ISERROR(VLOOKUP(CONCATENATE($AC$68,\"_\",AB85),選手名簿!$A:$E,5,FALSE))=TRUE,\"\",VLOOKUP(CONCATENATE($AC$68,\"_\",AB85),選手名簿!$A:$E,5,FALSE))","v":""}]
["番号","R010027819",null,null,"警告/退場",{"$f":"IF(ISERROR(VLOOKUP(CONCATENATE($F$68,\"_\",G86),選手名簿!$A:$E,5,FALSE))=TRUE,\"\",VLOOKUP(CONCATENATE($F$68,\"_\",G86),選手名簿!$A:$E,5,FALSE))","v":""},null,null,null,null,null,null,null,{"$f":"IF(ISERROR(VLOOKUP(CONCATENATE($N$68,\"_\",M86),選手名簿!$A:$E,5,FALSE))=TRUE,\"\",VLOOKUP(CONCATENATE($N$68,\"_\",M86),選手名簿!$A:$E,5,FALSE))","v":""},null,"番号","R001257322",null,null,"警告/退場",{"$f":"IF(ISERROR(VLOOKUP(CONCATENATE($U$68,\"_\",V86),選手名簿!$A:$E,5,FALSE))=TRUE,\"\",VLOOKUP(CONCATENATE($U$68,\"_\",V86),選手名簿!$A:$E,5,FALSE))","v":""},null,null,null,null,null,null,null,{"$f":"IF(ISERROR(VLOOKUP(CONCATENATE($AC$68,\"_\",AB86),選手名簿!$A:$E,5,FALSE))=TRUE,\"\",VLOOKUP(CONCATENATE($AC$68,\"_\",AB86),選手名簿!$A:$E,5,FALSE))","v":""}]
["AR2:",{"$f":"IF(ISERROR(VLOOKUP(B86,審判員!$A:$C,2,FALSE))=TRUE,\"\",VLOOKUP(B86,審判員!$A:$C,2,FALSE))","v":"狭間　照央"},null,{"$f":"IF(ISERROR(VLOOKUP(B86,審判員!$A:$C,3,FALSE))=TRUE,\"\",VLOOKUP(B86,審判員!$A:$C,3,FALSE))","v":"３級"},"警告/退場",{"$f":"IF(ISERROR(VLOOKUP(CONCATENATE($F$68,\"_\",G87),選手名簿!$A:$E,5,FALSE))=TRUE,\"\",VLOOKUP(CONCATENATE($F$68,\"_\",G87),選手名簿!$A:$E,5,FALSE))","v":""},null,null,null,null,null,null,null,{"$f":"IF(ISERROR(VLOOKUP(CONCATENATE($N$68,\"_\",M87),選手名簿!$A:$E,5,FALSE))=TRUE,\"\",VLOOKUP(CONCATENATE($N$68,\"_\",M87),選手名簿!$A:$E,5,FALSE))","v":""},null,"AR2:",{"$f":"IF(ISERROR(VLOOKUP(Q86,審判員!$A:$C,2,FALSE))=TRUE,\"\",VLOOKUP(Q86,審判員!$A:$C,2,FALSE))","v":"師藤　一也"},null,{"$f":"IF(ISERROR(VLOOKUP(Q86,審判員!$A:$C,3,FALSE))=TRUE,\"\",VLOOKUP(Q86,審判員!$A:$C,3,FALSE))","v":"３級"},"警告/退場",{"$f":"IF(ISERROR(VLOOKUP(CONCATENATE($U$68,\"_\",V87),選手名簿!$A:$E,5,FALSE))=TRUE,\"\",VLOOKUP(CONCATENATE($U$68,\"_\",V87),選手名簿!$A:$E,5,FALSE))","v":""},null,null,null,null,null,null,null,{"$f":"IF(ISERROR(VLOOKUP(CONCATENATE($AC$68,\"_\",AB87),選手名簿!$A:$E,5,FALSE))=TRUE,\"\",VLOOKUP(CONCATENATE($AC$68,\"_\",AB87),選手名簿!$A:$E,5,FALSE))","v":""}]
["番号","R009554780",null,null,"警告/退場",{"$f":"IF(ISERROR(VLOOKUP(CONCATENATE($F$68,\"_\",G88),選手名簿!$A:$E,5,FALSE))=TRUE,\"\",VLOOKUP(CONCATENATE($F$68,\"_\",G88),選手名簿!$A:$E,5,FALSE))","v":""},null,null,null,null,null,null,null,{"$f":"IF(ISERROR(VLOOKUP(CONCATENATE($N$68,\"_\",M88),選手名簿!$A:$E,5,FALSE))=TRUE,\"\",VLOOKUP(CONCATENATE($N$68,\"_\",M88),選手名簿!$A:$E,5,FALSE))","v":""},null,"番号","R010090347",null,null,"警告/退場",{"$f":"IF(ISERROR(VLOOKUP(CONCATENATE($U$68,\"_\",V88),選手名簿!$A:$E,5,FALSE))=TRUE,\"\",VLOOKUP(CONCATENATE($U$68,\"_\",V88),選手名簿!$A:$E,5,FALSE))","v":""},null,null,null,null,null,null,null,{"$f":"IF(ISERROR(VLOOKUP(CONCATENATE($AC$68,\"_\",AB88),選手名簿!$A:$E,5,FALSE))=TRUE,\"\",VLOOKUP(CONCATENATE($AC$68,\"_\",AB88),選手名簿!$A:$E,5,FALSE))","v":""}]
["4th:",{"$f":"IF(ISERROR(VLOOKUP(B88,審判員!$A:$C,2,FALSE))=TRUE,\"\",VLOOKUP(B88,審判員!$A:$C,2,FALSE))","v":"白江　直樹"},null,{"$f":"IF(ISERROR(VLOOKUP(B88,審判員!$A:$C,3,FALSE))=TRUE,\"\",VLOOKUP(B88,審判員!$A:$C,3,FALSE))","v":"３級"},"警告/退場",{"$f":"IF(ISERROR(VLOOKUP(CONCATENATE($F$68,\"_\",G89),選手名簿!$A:$E,5,FALSE))=TRUE,\"\",VLOOKUP(CONCATENATE($F$68,\"_\",G89),選手名簿!$A:$E,5,FALSE))","v":""},null,null,null,null,null,null,null,{"$f":"IF(ISERROR(VLOOKUP(CONCATENATE($N$68,\"_\",M89),選手名簿!$A:$E,5,FALSE))=TRUE,\"\",VLOOKUP(CONCATENATE($N$68,\"_\",M89),選手名簿!$A:$E,5,FALSE))","v":""},null,"4th:",{"$f":"IF(ISERROR(VLOOKUP(Q88,審判員!$A:$C,2,FALSE))=TRUE,\"\",VLOOKUP(Q88,審判員!$A:$C,2,FALSE))","v":"和田　行祐"},null,{"$f":"IF(ISERROR(VLOOKUP(Q88,審判員!$A:$C,3,FALSE))=TRUE,\"\",VLOOKUP(Q88,審判員!$A:$C,3,FALSE))","v":"３級"},"警告/退場",{"$f":"IF(ISERROR(VLOOKUP(CONCATENATE($U$68,\"_\",V89),選手名簿!$A:$E,5,FALSE))=TRUE,\"\",VLOOKUP(CONCATENATE($U$68,\"_\",V89),選手名簿!$A:$E,5,FALSE))","v":""},null,null,null,null,null,null,null,{"$f":"IF(ISERROR(VLOOKUP(CONCATENATE($AC$68,\"_\",AB89),選手名簿!$A:$E,5,FALSE))=TRUE,\"\",VLOOKUP(CONCATENATE($AC$68,\"_\",AB89),選手名簿!$A:$E,5,FALSE))","v":""}]

{"sheet":"予選リーグ公式記録(Bコート南)","index":10,"n_rows":89,"n_cols":29,"rows_kept":89,"cut":false,"hidden":true,"merged":[[2,1,2,4],[2,16,2,19],[9,1,9,3],[10,1,10,3],[11,1,11,3],[87,1,87,3],[87,16,87,18],[88,1,88,2],[88,16,88,17],[84,1,84,2],[84,16,84,17],[85,1,85,3],[85,16,85,18],[86,1,86,2],[86,16,86,17],[59,1,59,2],[59,16,59,17],[67,5,69,5],[67,6,69,6],[67,7,69,7],[67,11,69,11],[52,1,52,3],[52,16,52,18],[38,7,40,7],[67,28,69,28],[81,1,81,3],[81,16,81,18],[82,1,82,2],[82,16,82,17],[83,1,83,3],[83,16,83,18],[67,19,69,19],[67,20,69,20],[67,21,69,21],[70,0,70,3],[70,15,70,18],[67,12,69,12],[67,13,69,13],[67,22,69,22],[67,26,69,26],[67,27,69,27],[67,16,67,18],[68,16,68,18],[69,16,69,18],[67,1,67,3],[68,1,68,3],[69,1,69,3],[67,4,69,4],[57,16,57,17],[58,1,58,3],[58,16,58,18],[53,1,53,2],[53,16,53,17],[54,1,54,3],[54,16,54,18],[55,1,55,2],[55,16,55,17],[57,1,57,2],[41,0,41,3],[41,15,41,18],[56,1,56,3],[56,16,56,18],[38,1,38,3],[39,1,39,3],[40,1,40,3],[38,16,38,18],[39,16,39,18],[40,16,40,18],[38,11,40,11],[5,5,5,11],[5,12,5,13],[4,20,4,26],[24,16,24,17],[9,26,11,26],[9,27,11,27],[9,28,11,28],[9,21,11,21],[5,20,5,26],[6,20,6,26],[4,27,4,28],[5,27,5,28],[9,16,9,18],[10,16,10,18],[11,16,11,18],[0,0,0,9],[0,10,0,13],[0,15,0,24],[0,25,0,28],[23,1,23,3],[24,1,24,2],[38,19,40,19],[38,20,40,20],[9,7,11,7],[9,11,11,11],[9,4,11,4],[9,5,11,5],[23,16,23,18],[25,1,25,3],[25,16,25,18],[26,1,26,2],[26,16,26,17],[27,1,27,3],[27,16,27,18],[38,12,40,12],[38,13,40,13],[28,1,28,2],[4,12,4,13],[4,5,4,11],[28,16,28,17],[29,1,29,3],[29,16,29,18],[30,1,30,2],[30,16,30,17],[9,6,11,6],[38,4,40,4],[38,21,40,21],[6,27,6,28],[9,19,11,19],[9,20,11,20],[9,22,11,22],[6,12,6,13],[9,12,11,12],[9,13,11,13],[6,5,6,11],[38,22,40,22],[38,26,40,26],[38,27,40,27],[38,28,40,28],[12,0,12,3],[12,15,12,18],[38,5,40,5],[38,6,40,6]]}
[{"$f":"大会要項!$B$2","v":"第10回 全日本不動産協会杯争奪U-12サッカー大会【ラビットカップ】大分県大会"},null,null,null,null,null,null,null,null,null,"予選リーグ結果　報告用紙",null,null,null,null,{"$f":"大会要項!$B$2","v":"第10回 全日本不動産協会杯争奪U-12サッカー大会【ラビットカップ】大分県大会"},null,null,null,null,null,null,null,null,null,"予選リーグ結果　報告用紙"]
[]
["会場",{"$f":"予選リーグ!C14","v":"昭和電工ｻｯｶｰ･ﾗｸﾞﾋﾞｰ場　Bｺｰﾄ"},null,null,null,{"$f":"予選リーグ!F15","v":"「南」コート"},null,null,null,null,null,null,null,null,null,"会場",{"$f":"予選リーグ!C14","v":"昭和電工ｻｯｶｰ･ﾗｸﾞﾋﾞｰ場　Bｺｰﾄ"},null,null,null,{"$f":"予選リーグ!F15","v":"「南」コート"}]
[]
[null,null,null,null,"B1",{"$f":"VLOOKUP(E5,組合せ抽選用!$Q:$U,5,FALSE)","v":"八坂少年サッカークラブ"},null,null,null,null,null,null,{"$f":"VLOOKUP(E5,組合せ抽選用!$Q:$V,6,FALSE)","v":"速杵国東"},null,null,null,null,null,null,"D1",{"$f":"VLOOKUP(T5,組合せ抽選用!$Q:$U,5,FALSE)","v":"Ｓｈｙｎｔ　ＦＣ"},null,null,null,null,null,null,{"$f":"VLOOKUP(T5,組合せ抽選用!$Q:$V,6,FALSE)","v":"中津"}]
[null,null,null,null,"B2",{"$f":"VLOOKUP(E6,組合せ抽選用!$Q:$U,5,FALSE)","v":"北郡坂ノ市サッカースポーツ少年団"},null,null,null,null,null,null,{"$f":"VLOOKUP(E6,組合せ抽選用!$Q:$V,6,FALSE)","v":"大分"},null,null,null,null,null,null,"D2",{"$f":"VLOOKUP(T6,組合せ抽選用!$Q:$U,5,FALSE)","v":"判田サッカースポーツ少年団"},null,null,null,null,null,null,{"$f":"VLOOKUP(T6,組合せ抽選用!$Q:$V,6,FALSE)","v":"大分"}]
[null,null,null,null,"B3",{"$f":"VLOOKUP(E7,組合せ抽選用!$Q:$U,5,FALSE)","v":"太陽スポーツクラブ大分西"},null,null,null,null,null,null,{"$f":"VLOOKUP(E7,組合せ抽選用!$Q:$V,6,FALSE)","v":"日田/玖珠"},null,null,null,null,null,null,"D3",{"$f":"VLOOKUP(T7,組合せ抽選用!$Q:$U,5,FALSE)","v":"ＦＣアリアーレ"},null,null,null,null,null,null,{"$f":"VLOOKUP(T7,組合せ抽選用!$Q:$V,6,FALSE)","v":"日田/玖珠"}]
[]
[]
["MC","諌本　秀樹",null,null,"10:30:00",{"$f":"F5","v":"八坂少年サッカークラブ"},{"$f":"SUM(I10:I11)","v":0},"（",0,"前半",1,"）",{"$f":"SUM(K10:K11)","v":3},{"$f":"F6","v":"北郡坂ノ市サッカースポーツ少年団"},null,"MC","磯村　信一",null,null,"11:30:00",{"$f":"U5","v":"Ｓｈｙｎｔ　ＦＣ"},{"$f":"SUM(X10:X11)","v":2},"（",1,"前半",0,"）",{"$f":"SUM(Z10:Z11)","v":2},{"$f":"U6","v":"判田サッカースポーツ少年団"}]
["Welfare\nOfficer","-",null,null,null,null,null,null,0,"後半",2,null,null,null,null,"Welfare\nOfficer","-",null,null,null,null,null,null,1,"後半",2]
["記録","森山　信浩",null,null,null,null,null,null,null,"PK",null,null,null,null,null,"記録","諌本　秀樹",null,null,null,null,null,null,null,"PK"]
["＜Referee＞",null,null,null,null,"氏名","番号","分",null,null,null,"分","番号","氏名",null,"＜Referee＞",null,null,null,null,"氏名","番号","分",null,null,null,"分","番号","氏名"]
[null,null,null,null,"得点者",{"$f":"IF(ISERROR(VLOOKUP(CONCATENATE($F$10,\"_\",G14),選手名簿!$A:$E,5,FALSE))=TRUE,\"\",VLOOKUP(CONCATENATE($F$10,\"_\",G14),選手名簿!$A:$E,5,FALSE))","v":""},null,null,null,null,null,null,null,{"$f":"IF(ISERROR(VLOOKUP(CONCATENATE($N$10,\"_\",M14),選手名簿!$A:$E,5,FALSE))=TRUE,\"\",VLOOKUP(CONCATENATE($N$10,\"_\",M14),選手名簿!$A:$E,5,FALSE))","v":""},null,null,null,null,null,"得点者",{"$f":"IF(ISERROR(VLOOKUP(CONCATENATE($U$10,\"_\",V14),選手名簿!$A:$E,5,FALSE))=TRUE,\"\",VLOOKUP(CONCATENATE($U$10,\"_\",V14),選手名簿!$A:$E,5,FALSE))","v":""},null,null,null,null,null,null,null,{"$f":"IF(ISERROR(VLOOKUP(CONCATENATE($AC$10,\"_\",AB14),選手名簿!$A:$E,5,FALSE))=TRUE,\"\",VLOOKUP(CONCATENATE($AC$10,\"_\",AB14),選手名簿!$A:$E,5,FALSE))","v":""}]
[null,null,null,null,"得点者",{"$f":"IF(ISERROR(VLOOKUP(CONCATENATE($F$10,\"_\",G15),選手名簿!$A:$E,5,FALSE))=TRUE,\"\",VLOOKUP(CONCATENATE($F$10,\"_\",G15),選手名簿!$A:$E,5,FALSE))","v":""},null,null,null,null,null,null,null,{"$f":"IF(ISERROR(VLOOKUP(CONCATENATE($N$10,\"_\",M15),選手名簿!$A:$E,5,FALSE))=TRUE,\"\",VLOOKUP(CONCATENATE($N$10,\"_\",M15),選手名簿!$A:$E,5,FALSE))","v":""},null,null,null,null,null,"得点者",{"$f":"IF(ISERROR(VLOOKUP(CONCATENATE($U$10,\"_\",V15),選手名簿!$A:$E,5,FALSE))=TRUE,\"\",VLOOKUP(CONCATENATE($U$10,\"_\",V15),選手名簿!$A:$E,5,FALSE))","v":""},null,null,null,null,null,null,null,{"$f":"IF(ISERROR(VLOOKUP(CONCATENATE($AC$10,\"_\",AB15),選手名簿!$A:$E,5,FALSE))=TRUE,\"\",VLOOKUP(CONCATENATE($AC$10,\"_\",AB15),選手名簿!$A:$E,5,FALSE))","v":""}]
[null,null,null,null,"得点者",{"$f":"IF(ISERROR(VLOOKUP(CONCATENATE($F$10,\"_\",G16),選手名簿!$A:$E,5,FALSE))=TRUE,\"\",VLOOKUP(CONCATENATE($F$10,\"_\",G16),選手名簿!$A:$E,5,FALSE))","v":""},null,null,null,null,null,null,null,{"$f":"IF(ISERROR(VLOOKUP(CONCATENATE($N$10,\"_\",M16),選手名簿!$A:$E,5,FALSE))=TRUE,\"\",VLOOKUP(CONCATENATE($N$10,\"_\",M16),選手名簿!$A:$E,5,FALSE))","v":""},null,null,null,null,null,"得点者",{"$f":"IF(ISERROR(VLOOKUP(CONCATENATE($U$10,\"_\",V16),選手名簿!$A:$E,5,FALSE))=TRUE,\"\",VLOOKUP(CONCATENATE($U$10,\"_\",V16),選手名簿!$A:$E,5,FALSE))","v":""},null,null,null,null,null,null,null,{"$f":"IF(ISERROR(VLOOKUP(CONCATENATE($AC$10,\"_\",AB16),選手名簿!$A:$E,5,FALSE))=TRUE,\"\",VLOOKUP(CONCATENATE($AC$10,\"_\",AB16),選手名簿!$A:$E,5,FALSE))","v":""}]
[null,null,null,null,"得点者",{"$f":"IF(ISERROR(VLOOKUP(CONCATENATE($F$10,\"_\",G17),選手名簿!$A:$E,5,FALSE))=TRUE,\"\",VLOOKUP(CONCATENATE($F$10,\"_\",G17),選手名簿!$A:$E,5,FALSE))","v":""},null,null,null,null,null,null,null,{"$f":"IF(ISERROR(VLOOKUP(CONCATENATE($N$10,\"_\",M17),選手名簿!$A:$E,5,FALSE))=TRUE,\"\",VLOOKUP(CONCATENATE($N$10,\"_\",M17),選手名簿!$A:$E,5,FALSE))","v":""},null,null,null,null,null,"得点者",{"$f":"IF(ISERROR(VLOOKUP(CONCATENATE($U$10,\"_\",V17),選手名簿!$A:$E,5,FALSE))=TRUE,\"\",VLOOKUP(CONCATENATE($U$10,\"_\",V17),選手名簿!$A:$E,5,FALSE))","v":""},null,null,null,null,null,null,null,{"$f":"IF(ISERROR(VLOOKUP(CONCATENATE($AC$10,\"_\",AB17),選手名簿!$A:$E,5,FALSE))=TRUE,\"\",VLOOKUP(CONCATENATE($AC$10,\"_\",AB17),選手名簿!$A:$E,5,FALSE))","v":""}]
[null,null,null,null,"得点者",{"$f":"IF(ISERROR(VLOOKUP(CONCATENATE($F$10,\"_\",G18),選手名簿!$A:$E,5,FALSE))=TRUE,\"\",VLOOKUP(CONCATENATE($F$10,\"_\",G18),選手名簿!$A:$E,5,FALSE))","v":""},null,null,null,null,null,null,null,{"$f":"IF(ISERROR(VLOOKUP(CONCATENATE($N$10,\"_\",M18),選手名簿!$A:$E,5,FALSE))=TRUE,\"\",VLOOKUP(CONCATENATE($N$10,\"_\",M18),選手名簿!$A:$E,5,FALSE))","v":""},null,null,null,null,null,"得点者",{"$f":"IF(ISERROR(VLOOKUP(CONCATENATE($U$10,\"_\",V18),選手名簿!$A:$E,5,FALSE))=TRUE,\"\",VLOOKUP(CONCATENATE($U$10,\"_\",V18),選手名簿!$A:$E,5,FALSE))","v":""},null,null,null,null,null,null,null,{"$f":"IF(ISERROR(VLOOKUP(CONCATENATE($AC$10,\"_\",AB18),選手名簿!$A:$E,5,FALSE))=TRUE,\"\",VLOOKUP(CONCATENATE($AC$10,\"_\",AB18),選手名簿!$A:$E,5,FALSE))","v":""}]
[null,null,null,null,"得点者",{"$f":"IF(ISERROR(VLOOKUP(CONCATENATE($F$10,\"_\",G19),選手名簿!$A:$E,5,FALSE))=TRUE,\"\",VLOOKUP(CONCATENATE($F$10,\"_\",G19),選手名簿!$A:$E,5,FALSE))","v":""},null,null,null,null,null,null,null,{"$f":"IF(ISERROR(VLOOKUP(CONCATENATE($N$10,\"_\",M19),選手名簿!$A:$E,5,FALSE))=TRUE,\"\",VLOOKUP(CONCATENATE($N$10,\"_\",M19),選手名簿!$A:$E,5,FALSE))","v":""},null,null,null,null,null,"得点者",{"$f":"IF(ISERROR(VLOOKUP(CONCATENATE($U$10,\"_\",V19),選手名簿!$A:$E,5,FALSE))=TRUE,\"\",VLOOKUP(CONCATENATE($U$10,\"_\",V19),選手名簿!$A:$E,5,FALSE))","v":""},null,null,null,null,null,null,null,{"$f":"IF(ISERROR(VLOOKUP(CONCATENATE($AC$10,\"_\",AB19),選手名簿!$A:$E,5,FALSE))=TRUE,\"\",VLOOKUP(CONCATENATE($AC$10,\"_\",AB19),選手名簿!$A:$E,5,FALSE))","v":""}]
[null,null,null,null,"得点者",{"$f":"IF(ISERROR(VLOOKUP(CONCATENATE($F$10,\"_\",G20),選手名簿!$A:$E,5,FALSE))=TRUE,\"\",VLOOKUP(CONCATENATE($F$10,\"_\",G20),選手名簿!$A:$E,5,FALSE))","v":""},null,null,null,null,null,null,null,{"$f":"IF(ISERROR(VLOOKUP(CONCATENATE($N$10,\"_\",M20),選手名簿!$A:$E,5,FALSE))=TRUE,\"\",VLOOKUP(CONCATENATE($N$10,\"_\",M20),選手名簿!$A:$E,5,FALSE))","v":""},null,null,null,null,null,"得点者",{"$f":"IF(ISERROR(VLOOKUP(CONCATENATE($U$10,\"_\",V20),選手名簿!$A:$E,5,FALSE))=TRUE,\"\",VLOOKUP(CONCATENATE($U$10,\"_\",V20),選手名簿!$A:$E,5,FALSE))","v":""},null,null,null,null,null,null,null,{"$f":"IF(ISERROR(VLOOKUP(CONCATENATE($AC$10,\"_\",AB20),選手名簿!$A:$E,5,FALSE))=TRUE,\"\",VLOOKUP(CONCATENATE($AC$10,\"_\",AB20),選手名簿!$A:$E,5,FALSE))","v":""}]
[null,null,null,null,"得点者",{"$f":"IF(ISERROR(VLOOKUP(CONCATENATE($F$10,\"_\",G21),選手名簿!$A:$E,5,FALSE))=TRUE,\"\",VLOOKUP(CONCATENATE($F$10,\"_\",G21),選手名簿!$A:$E,5,FALSE))","v":""},null,null,null,null,null,null,null,{"$f":"IF(ISERROR(VLOOKUP(CONCATENATE($N$10,\"_\",M21),選手名簿!$A:$E,5,FALSE))=TRUE,\"\",VLOOKUP(CONCATENATE($N$10,\"_\",M21),選手名簿!$A:$E,5,FALSE))","v":""},null,null,null,null,null,"得点者",{"$f":"IF(ISERROR(VLOOKUP(CONCATENATE($U$10,\"_\",V21),選手名簿!$A:$E,5,FALSE))=TRUE,\"\",VLOOKUP(CONCATENATE($U$10,\"_\",V21),選手名簿!$A:$E,5,FALSE))","v":""},null,null,null,null,null,null,null,{"$f":"IF(ISERROR(VLOOKUP(CONCATENATE($AC$10,\"_\",AB21),選手名簿!$A:$E,5,FALSE))=TRUE,\"\",VLOOKUP(CONCATENATE($AC$10,\"_\",AB21),選手名簿!$A:$E,5,FALSE))","v":""}]
[null,null,null,null,"得点者",{"$f":"IF(ISERROR(VLOOKUP(CONCATENATE($F$10,\"_\",G22),選手名簿!$A:$E,5,FALSE))=TRUE,\"\",VLOOKUP(CONCATENATE($F$10,\"_\",G22),選手名簿!$A:$E,5,FALSE))","v":""},null,null,null,null,null,null,null,{"$f":"IF(ISERROR(VLOOKUP(CONCATENATE($N$10,\"_\",M22),選手名簿!$A:$E,5,FALSE))=TRUE,\"\",VLOOKUP(CONCATENATE($N$10,\"_\",M22),選手名簿!$A:$E,5,FALSE))","v":""},null,null,null,null,null,"得点者",{"$f":"IF(ISERROR(VLOOKUP(CONCATENATE($U$10,\"_\",V22),選手名簿!$A:$E,5,FALSE))=TRUE,\"\",VLOOKUP(CONCATENATE($U$10,\"_\",V22),選手名簿!$A:$E,5,FALSE))","v":""},null,null,null,null,null,null,null,{"$f":"IF(ISERROR(VLOOKUP(CONCATENATE($AC$10,\"_\",AB22),選手名簿!$A:$E,5,FALSE))=TRUE,\"\",VLOOKUP(CONCATENATE($AC$10,\"_\",AB22),選手名簿!$A:$E,5,FALSE))","v":""}]
[null,null,null,null,"得点者",{"$f":"IF(ISERROR(VLOOKUP(CONCATENATE($F$10,\"_\",G23),選手名簿!$A:$E,5,FALSE))=TRUE,\"\",VLOOKUP(CONCATENATE($F$10,\"_\",G23),選手名簿!$A:$E,5,FALSE))","v":""},null,null,null,null,null,null,null,{"$f":"IF(ISERROR(VLOOKUP(CONCATENATE($N$10,\"_\",M23),選手名簿!$A:$E,5,FALSE))=TRUE,\"\",VLOOKUP(CONCATENATE($N$10,\"_\",M23),選手名簿!$A:$E,5,FALSE))","v":""},null,null,null,null,null,"得点者",{"$f":"IF(ISERROR(VLOOKUP(CONCATENATE($U$10,\"_\",V23),選手名簿!$A:$E,5,FALSE))=TRUE,\"\",VLOOKUP(CONCATENATE($U$10,\"_\",V23),選手名簿!$A:$E,5,FALSE))","v":""},null,null,null,null,null,null,null,{"$f":"IF(ISERROR(VLOOKUP(CONCATENATE($AC$10,\"_\",AB23),選手名簿!$A:$E,5,FALSE))=TRUE,\"\",VLOOKUP(CONCATENATE($AC$10,\"_\",AB23),選手名簿!$A:$E,5,FALSE))","v":""}]
["番号","R009546055",null,null,"警告/退場",{"$f":"IF(ISERROR(VLOOKUP(CONCATENATE($F$10,\"_\",G24),選手名簿!$A:$E,5,FALSE))=TRUE,\"\",VLOOKUP(CONCATENATE($F$10,\"_\",G24),選手名簿!$A:$E,5,FALSE))","v":""},null,null,null,null,null,null,null,{"$f":"IF(ISERROR(VLOOKUP(CONCATENATE($N$10,\"_\",M24),選手名簿!$A:$E,5,FALSE))=TRUE,\"\",VLOOKUP(CONCATENATE($N$10,\"_\",M24),選手名簿!$A:$E,5,FALSE))","v":""},null,"番号","R005527609",null,null,"警告/退場",{"$f":"IF(ISERROR(VLOOKUP(CONCATENATE($U$10,\"_\",V24),選手名簿!$A:$E,5,FALSE))=TRUE,\"\",VLOOKUP(CONCATENATE($U$10,\"_\",V24),選手名簿!$A:$E,5,FALSE))","v":""},null,null,null,null,null,null,null,{"$f":"IF(ISERROR(VLOOKUP(CONCATENATE($AC$10,\"_\",AB24),選手名簿!$A:$E,5,FALSE))=TRUE,\"\",VLOOKUP(CONCATENATE($AC$10,\"_\",AB24),選手名簿!$A:$E,5,FALSE))","v":""}]
["R",{"$f":"IF(ISERROR(VLOOKUP(B24,審判員!$A:$C,2,FALSE))=TRUE,\"\",VLOOKUP(B24,審判員!$A:$C,2,FALSE))","v":"吐合　直樹"},null,{"$f":"IF(ISERROR(VLOOKUP(B24,審判員!$A:$C,3,FALSE))=TRUE,\"\",VLOOKUP(B24,審判員!$A:$C,3,FALSE))","v":"３級"},"警告/退場",{"$f":"IF(ISERROR(VLOOKUP(CONCATENATE($F$10,\"_\",G25),選手名簿!$A:$E,5,FALSE))=TRUE,\"\",VLOOKUP(CONCATENATE($F$10,\"_\",G25),選手名簿!$A:$E,5,FALSE))","v":""},null,null,null,null,null,null,null,{"$f":"IF(ISERROR(VLOOKUP(CONCATENATE($N$10,\"_\",M25),選手名簿!$A:$E,5,FALSE))=TRUE,\"\",VLOOKUP(CONCATENATE($N$10,\"_\",M25),選手名簿!$A:$E,5,FALSE))","v":""},null,"R",{"$f":"IF(ISERROR(VLOOKUP(Q24,審判員!$A:$C,2,FALSE))=TRUE,\"\",VLOOKUP(Q24,審判員!$A:$C,2,FALSE))","v":"宇都宮　貴之"},null,{"$f":"IF(ISERROR(VLOOKUP(Q24,審判員!$A:$C,3,FALSE))=TRUE,\"\",VLOOKUP(Q24,審判員!$A:$C,3,FALSE))","v":"３級"},"警告/退場",{"$f":"IF(ISERROR(VLOOKUP(CONCATENATE($U$10,\"_\",V25),選手名簿!$A:$E,5,FALSE))=TRUE,\"\",VLOOKUP(CONCATENATE($U$10,\"_\",V25),選手名簿!$A:$E,5,FALSE))","v":""},null,null,null,null,null,null,null,{"$f":"IF(ISERROR(VLOOKUP(CONCATENATE($AC$10,\"_\",AB25),選手名簿!$A:$E,5,FALSE))=TRUE,\"\",VLOOKUP(CONCATENATE($AC$10,\"_\",AB25),選手名簿!$A:$E,5,FALSE))","v":""}]
["番号","R003350863",null,null,"警告/退場",{"$f":"IF(ISERROR(VLOOKUP(CONCATENATE($F$10,\"_\",G26),選手名簿!$A:$E,5,FALSE))=TRUE,\"\",VLOOKUP(CONCATENATE($F$10,\"_\",G26),選手名簿!$A:$E,5,FALSE))","v":""},null,null,null,null,null,null,null,{"$f":"IF(ISERROR(VLOOKUP(CONCATENATE($N$10,\"_\",M26),選手名簿!$A:$E,5,FALSE))=TRUE,\"\",VLOOKUP(CONCATENATE($N$10,\"_\",M26),選手名簿!$A:$E,5,FALSE))","v":""},null,"番号","R010027860",null,null,"警告/退場",{"$f":"IF(ISERROR(VLOOKUP(CONCATENATE($U$10,\"_\",V26),選手名簿!$A:$E,5,FALSE))=TRUE,\"\",VLOOKUP(CONCATENATE($U$10,\"_\",V26),選手名簿!$A:$E,5,FALSE))","v":""},null,null,null,null,null,null,null,{"$f":"IF(ISERROR(VLOOKUP(CONCATENATE($AC$10,\"_\",AB26),選手名簿!$A:$E,5,FALSE))=TRUE,\"\",VLOOKUP(CONCATENATE($AC$10,\"_\",AB26),選手名簿!$A:$E,5,FALSE))","v":""}]
["AR1:",{"$f":"IF(ISERROR(VLOOKUP(B26,審判員!$A:$C,2,FALSE))=TRUE,\"\",VLOOKUP(B26,審判員!$A:$C,2,FALSE))","v":"坂本　圭"},null,{"$f":"IF(ISERROR(VLOOKUP(B26,審判員!$A:$C,3,FALSE))=TRUE,\"\",VLOOKUP(B26,審判員!$A:$C,3,FALSE))","v":"３級"},"警告/退場",{"$f":"IF(ISERROR(VLOOKUP(CONCATENATE($F$10,\"_\",G27),選手名簿!$A:$E,5,FALSE))=TRUE,\"\",VLOOKUP(CONCATENATE($F$10,\"_\",G27),選手名簿!$A:$E,5,FALSE))","v":""},null,null,null,null,null,null,null,{"$f":"IF(ISERROR(VLOOKUP(CONCATENATE($N$10,\"_\",M27),選手名簿!$A:$E,5,FALSE))=TRUE,\"\",VLOOKUP(CONCATENATE($N$10,\"_\",M27),選手名簿!$A:$E,5,FALSE))","v":""},null,"AR1:",{"$f":"IF(ISERROR(VLOOKUP(Q26,審判員!$A:$C,2,FALSE))=TRUE,\"\",VLOOKUP(Q26,審判員!$A:$C,2,FALSE))","v":"藤原　佑史朗"},null,{"$f":"IF(ISERROR(VLOOKUP(Q26,審判員!$A:$C,3,FALSE))=TRUE,\"\",VLOOKUP(Q26,審判員!$A:$C,3,FALSE))","v":"３級"},"警告/退場",{"$f":"IF(ISERROR(VLOOKUP(CONCATENATE($U$10,\"_\",V27),選手名簿!$A:$E,5,FALSE))=TRUE,\"\",VLOOKUP(CONCATENATE($U$10,\"_\",V27),選手名簿!$A:$E,5,FALSE))","v":""},null,null,null,null,null,null,null,{"$f":"IF(ISERROR(VLOOKUP(CONCATENATE($AC$10,\"_\",AB27),選手名簿!$A:$E,5,FALSE))=TRUE,\"\",VLOOKUP(CONCATENATE($AC$10,\"_\",AB27),選手名簿!$A:$E,5,FALSE))","v":""}]
["番号","R008515553",null,null,"警告/退場",{"$f":"IF(ISERROR(VLOOKUP(CONCATENATE($F$10,\"_\",G28),選手名簿!$A:$E,5,FALSE))=TRUE,\"\",VLOOKUP(CONCATENATE($F$10,\"_\",G28),選手名簿!$A:$E,5,FALSE))","v":""},null,null,null,null,null,null,null,{"$f":"IF(ISERROR(VLOOKUP(CONCATENATE($N$10,\"_\",M28),選手名簿!$A:$E,5,FALSE))=TRUE,\"\",VLOOKUP(CONCATENATE($N$10,\"_\",M28),選手名簿!$A:$E,5,FALSE))","v":""},null,"番号","R001252196",null,null,"警告/退場",{"$f":"IF(ISERROR(VLOOKUP(CONCATENATE($U$10,\"_\",V28),選手名簿!$A:$E,5,FALSE))=TRUE,\"\",VLOOKUP(CONCATENATE($U$10,\"_\",V28),選手名簿!$A:$E,5,FALSE))","v":""},null,null,null,null,null,null,null,{"$f":"IF(ISERROR(VLOOKUP(CONCATENATE($AC$10,\"_\",AB28),選手名簿!$A:$E,5,FALSE))=TRUE,\"\",VLOOKUP(CONCATENATE($AC$10,\"_\",AB28),選手名簿!$A:$E,5,FALSE))","v":""}]
["AR2:",{"$f":"IF(ISERROR(VLOOKUP(B28,審判員!$A:$C,2,FALSE))=TRUE,\"\",VLOOKUP(B28,審判員!$A:$C,2,FALSE))","v":"柚木　徹也"},null,{"$f":"IF(ISERROR(VLOOKUP(B28,審判員!$A:$C,3,FALSE))=TRUE,\"\",VLOOKUP(B28,審判員!$A:$C,3,FALSE))","v":"３級"},"警告/退場",{"$f":"IF(ISERROR(VLOOKUP(CONCATENATE($F$10,\"_\",G29),選手名簿!$A:$E,5,FALSE))=TRUE,\"\",VLOOKUP(CONCATENATE($F$10,\"_\",G29),選手名簿!$A:$E,5,FALSE))","v":""},null,null,null,null,null,null,null,{"$f":"IF(ISERROR(VLOOKUP(CONCATENATE($N$10,\"_\",M29),選手名簿!$A:$E,5,FALSE))=TRUE,\"\",VLOOKUP(CONCATENATE($N$10,\"_\",M29),選手名簿!$A:$E,5,FALSE))","v":""},null,"AR2:",{"$f":"IF(ISERROR(VLOOKUP(Q28,審判員!$A:$C,2,FALSE))=TRUE,\"\",VLOOKUP(Q28,審判員!$A:$C,2,FALSE))","v":"三好　美輝"},null,{"$f":"IF(ISERROR(VLOOKUP(Q28,審判員!$A:$C,3,FALSE))=TRUE,\"\",VLOOKUP(Q28,審判員!$A:$C,3,FALSE))","v":"３級"},"警告/退場",{"$f":"IF(ISERROR(VLOOKUP(CONCATENATE($U$10,\"_\",V29),選手名簿!$A:$E,5,FALSE))=TRUE,\"\",VLOOKUP(CONCATENATE($U$10,\"_\",V29),選手名簿!$A:$E,5,FALSE))","v":""},null,null,null,null,null,null,null,{"$f":"IF(ISERROR(VLOOKUP(CONCATENATE($AC$10,\"_\",AB29),選手名簿!$A:$E,5,FALSE))=TRUE,\"\",VLOOKUP(CONCATENATE($AC$10,\"_\",AB29),選手名簿!$A:$E,5,FALSE))","v":""}]
["番号","R005527609",null,null,"警告/退場",{"$f":"IF(ISERROR(VLOOKUP(CONCATENATE($F$10,\"_\",G30),選手名簿!$A:$E,5,FALSE))=TRUE,\"\",VLOOKUP(CONCATENATE($F$10,\"_\",G30),選手名簿!$A:$E,5,FALSE))","v":""},null,null,null,null,null,null,null,{"$f":"IF(ISERROR(VLOOKUP(CONCATENATE($N$10,\"_\",M30),選手名簿!$A:$E,5,FALSE))=TRUE,\"\",VLOOKUP(CONCATENATE($N$10,\"_\",M30),選手名簿!$A:$E,5,FALSE))","v":""},null,"番号","R007003431",null,null,"警告/退場",{"$f":"IF(ISERROR(VLOOKUP(CONCATENATE($U$10,\"_\",V30),選手名簿!$A:$E,5,FALSE))=TRUE,\"\",VLOOKUP(CONCATENATE($U$10,\"_\",V30),選手名簿!$A:$E,5,FALSE))","v":""},null,null,null,null,null,null,null,{"$f":"IF(ISERROR(VLOOKUP(CONCATENATE($AC$10,\"_\",AB30),選手名簿!$A:$E,5,FALSE))=TRUE,\"\",VLOOKUP(CONCATENATE($AC$10,\"_\",AB30),選手名簿!$A:$E,5,FALSE))","v":""}]
["4th:",{"$f":"IF(ISERROR(VLOOKUP(B30,審判員!$A:$C,2,FALSE))=TRUE,\"\",VLOOKUP(B30,審判員!$A:$C,2,FALSE))","v":"宇都宮　貴之"},null,{"$f":"IF(ISERROR(VLOOKUP(B30,審判員!$A:$C,3,FALSE))=TRUE,\"\",VLOOKUP(B30,審判員!$A:$C,3,FALSE))","v":"３級"},"警告/退場",{"$f":"IF(ISERROR(VLOOKUP(CONCATENATE($F$10,\"_\",G31),選手名簿!$A:$E,5,FALSE))=TRUE,\"\",VLOOKUP(CONCATENATE($F$10,\"_\",G31),選手名簿!$A:$E,5,FALSE))","v":""},null,null,null,null,null,null,null,{"$f":"IF(ISERROR(VLOOKUP(CONCATENATE($N$10,\"_\",M31),選手名簿!$A:$E,5,FALSE))=TRUE,\"\",VLOOKUP(CONCATENATE($N$10,\"_\",M31),選手名簿!$A:$E,5,FALSE))","v":""},null,"4th:",{"$f":"IF(ISERROR(VLOOKUP(Q30,審判員!$A:$C,2,FALSE))=TRUE,\"\",VLOOKUP(Q30,審判員!$A:$C,2,FALSE))","v":"宇髙　篤史"},null,{"$f":"IF(ISERROR(VLOOKUP(Q30,審判員!$A:$C,3,FALSE))=TRUE,\"\",VLOOKUP(Q30,審判員!$A:$C,3,FALSE))","v":"３級"},"警告/退場",{"$f":"IF(ISERROR(VLOOKUP(CONCATENATE($U$10,\"_\",V31),選手名簿!$A:$E,5,FALSE))=TRUE,\"\",VLOOKUP(CONCATENATE($U$10,\"_\",V31),選手名簿!$A:$E,5,FALSE))","v":""},null,null,null,null,null,null,null,{"$f":"IF(ISERROR(VLOOKUP(CONCATENATE($AC$10,\"_\",AB31),選手名簿!$A:$E,5,FALSE))=TRUE,\"\",VLOOKUP(CONCATENATE($AC$10,\"_\",AB31),選手名簿!$A:$E,5,FALSE))","v":""}]
[]
[]
[]
[]
[]
[]
[]
["MC","中原　圭介",null,null,"12:30:00",{"$f":"F6","v":"北郡坂ノ市サッカースポーツ少年団"},{"$f":"SUM(I39:I40)","v":0},"（",0,"前半",0,"）",{"$f":"SUM(K39:K40)","v":5},{"$f":"F7","v":"太陽スポーツクラブ大分西"},null,"MC","廣田　寧孝",null,null,"13:30:00",{"$f":"U6","v":"判田サッカースポーツ少年団"},{"$f":"SUM(X39:X40)","v":1},"（",0,"前半",2,"）",{"$f":"SUM(Z39:Z40)","v":2},{"$f":"U7","v":"ＦＣアリアーレ"}]
["Welfare\nOfficer","-",null,null,null,null,null,null,0,"後半",5,null,null,null,null,"Welfare\nOfficer","-",null,null,null,null,null,null,1,"後半",0]
["記録","磯村　信一",null,null,null,null,null,null,null,"PK",null,null,null,null,null,"記録","中原　圭介",null,null,null,null,null,null,null,"PK"]
["＜Referee＞",null,null,null,null,"氏名","番号","分",null,null,null,"分","番号","氏名",null,"＜Referee＞",null,null,null,null,"氏名","番号","分",null,null,null,"分","番号","氏名"]
[null,null,null,null,"得点者",{"$f":"IF(ISERROR(VLOOKUP(CONCATENATE($F$39,\"_\",G43),選手名簿!$A:$E,5,FALSE))=TRUE,\"\",VLOOKUP(CONCATENATE($F$39,\"_\",G43),選手名簿!$A:$E,5,FALSE))","v":""},null,null,null,null,null,null,null,{"$f":"IF(ISERROR(VLOOKUP(CONCATENATE($N$39,\"_\",M43),選手名簿!$A:$E,5,FALSE))=TRUE,\"\",VLOOKUP(CONCATENATE($N$39,\"_\",M43),選手名簿!$A:$E,5,FALSE))","v":""},null,null,null,null,null,"得点者",{"$f":"IF(ISERROR(VLOOKUP(CONCATENATE($U$39,\"_\",V43),選手名簿!$A:$E,5,FALSE))=TRUE,\"\",VLOOKUP(CONCATENATE($U$39,\"_\",V43),選手名簿!$A:$E,5,FALSE))","v":""},null,null,null,null,null,null,null,{"$f":"IF(ISERROR(VLOOKUP(CONCATENATE($AC$39,\"_\",AB43),選手名簿!$A:$E,5,FALSE))=TRUE,\"\",VLOOKUP(CONCATENATE($AC$39,\"_\",AB43),選手名簿!$A:$E,5,FALSE))","v":""}]
[null,null,null,null,"得点者",{"$f":"IF(ISERROR(VLOOKUP(CONCATENATE($F$39,\"_\",G44),選手名簿!$A:$E,5,FALSE))=TRUE,\"\",VLOOKUP(CONCATENATE($F$39,\"_\",G44),選手名簿!$A:$E,5,FALSE))","v":""},null,null,null,null,null,null,null,{"$f":"IF(ISERROR(VLOOKUP(CONCATENATE($N$39,\"_\",M44),選手名簿!$A:$E,5,FALSE))=TRUE,\"\",VLOOKUP(CONCATENATE($N$39,\"_\",M44),選手名簿!$A:$E,5,FALSE))","v":""},null,null,null,null,null,"得点者",{"$f":"IF(ISERROR(VLOOKUP(CONCATENATE($U$39,\"_\",V44),選手名簿!$A:$E,5,FALSE))=TRUE,\"\",VLOOKUP(CONCATENATE($U$39,\"_\",V44),選手名簿!$A:$E,5,FALSE))","v":""},null,null,null,null,null,null,null,{"$f":"IF(ISERROR(VLOOKUP(CONCATENATE($AC$39,\"_\",AB44),選手名簿!$A:$E,5,FALSE))=TRUE,\"\",VLOOKUP(CONCATENATE($AC$39,\"_\",AB44),選手名簿!$A:$E,5,FALSE))","v":""}]
[null,null,null,null,"得点者",{"$f":"IF(ISERROR(VLOOKUP(CONCATENATE($F$39,\"_\",G45),選手名簿!$A:$E,5,FALSE))=TRUE,\"\",VLOOKUP(CONCATENATE($F$39,\"_\",G45),選手名簿!$A:$E,5,FALSE))","v":""},null,null,null,null,null,null,null,{"$f":"IF(ISERROR(VLOOKUP(CONCATENATE($N$39,\"_\",M45),選手名簿!$A:$E,5,FALSE))=TRUE,\"\",VLOOKUP(CONCATENATE($N$39,\"_\",M45),選手名簿!$A:$E,5,FALSE))","v":""},null,null,null,null,null,"得点者",{"$f":"IF(ISERROR(VLOOKUP(CONCATENATE($U$39,\"_\",V45),選手名簿!$A:$E,5,FALSE))=TRUE,\"\",VLOOKUP(CONCATENATE($U$39,\"_\",V45),選手名簿!$A:$E,5,FALSE))","v":""},null,null,null,null,null,null,null,{"$f":"IF(ISERROR(VLOOKUP(CONCATENATE($AC$39,\"_\",AB45),選手名簿!$A:$E,5,FALSE))=TRUE,\"\",VLOOKUP(CONCATENATE($AC$39,\"_\",AB45),選手名簿!$A:$E,5,FALSE))","v":""}]
[null,null,null,null,"得点者",{"$f":"IF(ISERROR(VLOOKUP(CONCATENATE($F$39,\"_\",G46),選手名簿!$A:$E,5,FALSE))=TRUE,\"\",VLOOKUP(CONCATENATE($F$39,\"_\",G46),選手名簿!$A:$E,5,FALSE))","v":""},null,null,null,null,null,null,null,{"$f":"IF(ISERROR(VLOOKUP(CONCATENATE($N$39,\"_\",M46),選手名簿!$A:$E,5,FALSE))=TRUE,\"\",VLOOKUP(CONCATENATE($N$39,\"_\",M46),選手名簿!$A:$E,5,FALSE))","v":""},null,null,null,null,null,"得点者",{"$f":"IF(ISERROR(VLOOKUP(CONCATENATE($U$39,\"_\",V46),選手名簿!$A:$E,5,FALSE))=TRUE,\"\",VLOOKUP(CONCATENATE($U$39,\"_\",V46),選手名簿!$A:$E,5,FALSE))","v":""},null,null,null,null,null,null,null,{"$f":"IF(ISERROR(VLOOKUP(CONCATENATE($AC$39,\"_\",AB46),選手名簿!$A:$E,5,FALSE))=TRUE,\"\",VLOOKUP(CONCATENATE($AC$39,\"_\",AB46),選手名簿!$A:$E,5,FALSE))","v":""}]
[null,null,null,null,"得点者",{"$f":"IF(ISERROR(VLOOKUP(CONCATENATE($F$39,\"_\",G47),選手名簿!$A:$E,5,FALSE))=TRUE,\"\",VLOOKUP(CONCATENATE($F$39,\"_\",G47),選手名簿!$A:$E,5,FALSE))","v":""},null,null,null,null,null,null,null,{"$f":"IF(ISERROR(VLOOKUP(CONCATENATE($N$39,\"_\",M47),選手名簿!$A:$E,5,FALSE))=TRUE,\"\",VLOOKUP(CONCATENATE($N$39,\"_\",M47),選手名簿!$A:$E,5,FALSE))","v":""},null,null,null,null,null,"得点者",{"$f":"IF(ISERROR(VLOOKUP(CONCATENATE($U$39,\"_\",V47),選手名簿!$A:$E,5,FALSE))=TRUE,\"\",VLOOKUP(CONCATENATE($U$39,\"_\",V47),選手名簿!$A:$E,5,FALSE))","v":""},null,null,null,null,null,null,null,{"$f":"IF(ISERROR(VLOOKUP(CONCATENATE($AC$39,\"_\",AB47),選手名簿!$A:$E,5,FALSE))=TRUE,\"\",VLOOKUP(CONCATENATE($AC$39,\"_\",AB47),選手名簿!$A:$E,5,FALSE))","v":""}]
[null,null,null,null,"得点者",{"$f":"IF(ISERROR(VLOOKUP(CONCATENATE($F$39,\"_\",G48),選手名簿!$A:$E,5,FALSE))=TRUE,\"\",VLOOKUP(CONCATENATE($F$39,\"_\",G48),選手名簿!$A:$E,5,FALSE))","v":""},null,null,null,null,null,null,null,{"$f":"IF(ISERROR(VLOOKUP(CONCATENATE($N$39,\"_\",M48),選手名簿!$A:$E,5,FALSE))=TRUE,\"\",VLOOKUP(CONCATENATE($N$39,\"_\",M48),選手名簿!$A:$E,5,FALSE))","v":""},null,null,null,null,null,"得点者",{"$f":"IF(ISERROR(VLOOKUP(CONCATENATE($U$39,\"_\",V48),選手名簿!$A:$E,5,FALSE))=TRUE,\"\",VLOOKUP(CONCATENATE($U$39,\"_\",V48),選手名簿!$A:$E,5,FALSE))","v":""},null,null,null,null,null,null,null,{"$f":"IF(ISERROR(VLOOKUP(CONCATENATE($AC$39,\"_\",AB48),選手名簿!$A:$E,5,FALSE))=TRUE,\"\",VLOOKUP(CONCATENATE($AC$39,\"_\",AB48),選手名簿!$A:$E,5,FALSE))","v":""}]
[null,null,null,null,"得点者",{"$f":"IF(ISERROR(VLOOKUP(CONCATENATE($F$39,\"_\",G49),選手名簿!$A:$E,5,FALSE))=TRUE,\"\",VLOOKUP(CONCATENATE($F$39,\"_\",G49),選手名簿!$A:$E,5,FALSE))","v":""},null,null,null,null,null,null,null,{"$f":"IF(ISERROR(VLOOKUP(CONCATENATE($N$39,\"_\",M49),選手名簿!$A:$E,5,FALSE))=TRUE,\"\",VLOOKUP(CONCATENATE($N$39,\"_\",M49),選手名簿!$A:$E,5,FALSE))","v":""},null,null,null,null,null,"得点者",{"$f":"IF(ISERROR(VLOOKUP(CONCATENATE($U$39,\"_\",V49),選手名簿!$A:$E,5,FALSE))=TRUE,\"\",VLOOKUP(CONCATENATE($U$39,\"_\",V49),選手名簿!$A:$E,5,FALSE))","v":""},null,null,null,null,null,null,null,{"$f":"IF(ISERROR(VLOOKUP(CONCATENATE($AC$39,\"_\",AB49),選手名簿!$A:$E,5,FALSE))=TRUE,\"\",VLOOKUP(CONCATENATE($AC$39,\"_\",AB49),選手名簿!$A:$E,5,FALSE))","v":""}]
[null,null,null,null,"得点者",{"$f":"IF(ISERROR(VLOOKUP(CONCATENATE($F$39,\"_\",G50),選手名簿!$A:$E,5,FALSE))=TRUE,\"\",VLOOKUP(CONCATENATE($F$39,\"_\",G50),選手名簿!$A:$E,5,FALSE))","v":""},null,null,null,null,null,null,null,{"$f":"IF(ISERROR(VLOOKUP(CONCATENATE($N$39,\"_\",M50),選手名簿!$A:$E,5,FALSE))=TRUE,\"\",VLOOKUP(CONCATENATE($N$39,\"_\",M50),選手名簿!$A:$E,5,FALSE))","v":""},null,null,null,null,null,"得点者",{"$f":"IF(ISERROR(VLOOKUP(CONCATENATE($U$39,\"_\",V50),選手名簿!$A:$E,5,FALSE))=TRUE,\"\",VLOOKUP(CONCATENATE($U$39,\"_\",V50),選手名簿!$A:$E,5,FALSE))","v":""},null,null,null,null,null,null,null,{"$f":"IF(ISERROR(VLOOKUP(CONCATENATE($AC$39,\"_\",AB50),選手名簿!$A:$E,5,FALSE))=TRUE,\"\",VLOOKUP(CONCATENATE($AC$39,\"_\",AB50),選手名簿!$A:$E,5,FALSE))","v":""}]
[null,null,null,null,"得点者",{"$f":"IF(ISERROR(VLOOKUP(CONCATENATE($F$39,\"_\",G51),選手名簿!$A:$E,5,FALSE))=TRUE,\"\",VLOOKUP(CONCATENATE($F$39,\"_\",G51),選手名簿!$A:$E,5,FALSE))","v":""},null,null,null,null,null,null,null,{"$f":"IF(ISERROR(VLOOKUP(CONCATENATE($N$39,\"_\",M51),選手名簿!$A:$E,5,FALSE))=TRUE,\"\",VLOOKUP(CONCATENATE($N$39,\"_\",M51),選手名簿!$A:$E,5,FALSE))","v":""},null,null,null,null,null,"得点者",{"$f":"IF(ISERROR(VLOOKUP(CONCATENATE($U$39,\"_\",V51),選手名簿!$A:$E,5,FALSE))=TRUE,\"\",VLOOKUP(CONCATENATE($U$39,\"_\",V51),選手名簿!$A:$E,5,FALSE))","v":""},null,null,null,null,null,null,null,{"$f":"IF(ISERROR(VLOOKUP(CONCATENATE($AC$39,\"_\",AB51),選手名簿!$A:$E,5,FALSE))=TRUE,\"\",VLOOKUP(CONCATENATE($AC$39,\"_\",AB51),選手名簿!$A:$E,5,FALSE))","v":""}]
[null,null,null,null,"得点者",{"$f":"IF(ISERROR(VLOOKUP(CONCATENATE($F$39,\"_\",G52),選手名簿!$A:$E,5,FALSE))=TRUE,\"\",VLOOKUP(CONCATENATE($F$39,\"_\",G52),選手名簿!$A:$E,5,FALSE))","v":""},null,null,null,null,null,null,null,{"$f":"IF(ISERROR(VLOOKUP(CONCATENATE($N$39,\"_\",M52),選手名簿!$A:$E,5,FALSE))=TRUE,\"\",VLOOKUP(CONCATENATE($N$39,\"_\",M52),選手名簿!$A:$E,5,FALSE))","v":""},null,null,null,null,null,"得点者",{"$f":"IF(ISERROR(VLOOKUP(CONCATENATE($U$39,\"_\",V52),選手名簿!$A:$E,5,FALSE))=TRUE,\"\",VLOOKUP(CONCATENATE($U$39,\"_\",V52),選手名簿!$A:$E,5,FALSE))","v":""},null,null,null,null,null,null,null,{"$f":"IF(ISERROR(VLOOKUP(CONCATENATE($AC$39,\"_\",AB52),選手名簿!$A:$E,5,FALSE))=TRUE,\"\",VLOOKUP(CONCATENATE($AC$39,\"_\",AB52),選手名簿!$A:$E,5,FALSE))","v":""}]
["番号","R007003431",null,null,"警告/退場",{"$f":"IF(ISERROR(VLOOKUP(CONCATENATE($F$39,\"_\",G53),選手名簿!$A:$E,5,FALSE))=TRUE,\"\",VLOOKUP(CONCATENATE($F$39,\"_\",G53),選手名簿!$A:$E,5,FALSE))","v":""},null,null,null,null,null,null,null,{"$f":"IF(ISERROR(VLOOKUP(CONCATENATE($N$39,\"_\",M53),選手名簿!$A:$E,5,FALSE))=TRUE,\"\",VLOOKUP(CONCATENATE($N$39,\"_\",M53),選手名簿!$A:$E,5,FALSE))","v":""},null,"番号","R009546055",null,null,"警告/退場",{"$f":"IF(ISERROR(VLOOKUP(CONCATENATE($U$39,\"_\",V53),選手名簿!$A:$E,5,FALSE))=TRUE,\"\",VLOOKUP(CONCATENATE($U$39,\"_\",V53),選手名簿!$A:$E,5,FALSE))","v":"小代　朔"},3,37,"ラフ",null,null,null,null,{"$f":"IF(ISERROR(VLOOKUP(CONCATENATE($AC$39,\"_\",AB53),選手名簿!$A:$E,5,FALSE))=TRUE,\"\",VLOOKUP(CONCATENATE($AC$39,\"_\",AB53),選手名簿!$A:$E,5,FALSE))","v":""}]
["R",{"$f":"IF(ISERROR(VLOOKUP(B53,審判員!$A:$C,2,FALSE))=TRUE,\"\",VLOOKUP(B53,審判員!$A:$C,2,FALSE))","v":"宇髙　篤史"},null,{"$f":"IF(ISERROR(VLOOKUP(B53,審判員!$A:$C,3,FALSE))=TRUE,\"\",VLOOKUP(B53,審判員!$A:$C,3,FALSE))","v":"３級"},"警告/退場",{"$f":"IF(ISERROR(VLOOKUP(CONCATENATE($F$39,\"_\",G54),選手名簿!$A:$E,5,FALSE))=TRUE,\"\",VLOOKUP(CONCATENATE($F$39,\"_\",G54),選手名簿!$A:$E,5,FALSE))","v":""},null,null,null,null,null,null,null,{"$f":"IF(ISERROR(VLOOKUP(CONCATENATE($N$39,\"_\",M54),選手名簿!$A:$E,5,FALSE))=TRUE,\"\",VLOOKUP(CONCATENATE($N$39,\"_\",M54),選手名簿!$A:$E,5,FALSE))","v":""},null,"R",{"$f":"IF(ISERROR(VLOOKUP(Q53,審判員!$A:$C,2,FALSE))=TRUE,\"\",VLOOKUP(Q53,審判員!$A:$C,2,FALSE))","v":"吐合　直樹"},null,{"$f":"IF(ISERROR(VLOOKUP(Q53,審判員!$A:$C,3,FALSE))=TRUE,\"\",VLOOKUP(Q53,審判員!$A:$C,3,FALSE))","v":"３級"},"警告/退場",{"$f":"IF(ISERROR(VLOOKUP(CONCATENATE($U$39,\"_\",V54),選手名簿!$A:$E,5,FALSE))=TRUE,\"\",VLOOKUP(CONCATENATE($U$39,\"_\",V54),選手名簿!$A:$E,5,FALSE))","v":""},null,null,null,null,null,null,null,{"$f":"IF(ISERROR(VLOOKUP(CONCATENATE($AC$39,\"_\",AB54),選手名簿!$A:$E,5,FALSE))=TRUE,\"\",VLOOKUP(CONCATENATE($AC$39,\"_\",AB54),選手名簿!$A:$E,5,FALSE))","v":""}]
["番号","R008515553",null,null,"警告/退場",{"$f":"IF(ISERROR(VLOOKUP(CONCATENATE($F$39,\"_\",G55),選手名簿!$A:$E,5,FALSE))=TRUE,\"\",VLOOKUP(CONCATENATE($F$39,\"_\",G55),選手名簿!$A:$E,5,FALSE))","v":""},null,null,null,null,null,null,null,{"$f":"IF(ISERROR(VLOOKUP(CONCATENATE($N$39,\"_\",M55),選手名簿!$A:$E,5,FALSE))=TRUE,\"\",VLOOKUP(CONCATENATE($N$39,\"_\",M55),選手名簿!$A:$E,5,FALSE))","v":""},null,"番号","R001252196",null,null,"警告/退場",{"$f":"IF(ISERROR(VLOOKUP(CONCATENATE($U$39,\"_\",V55),選手名簿!$A:$E,5,FALSE))=TRUE,\"\",VLOOKUP(CONCATENATE($U$39,\"_\",V55),選手名簿!$A:$E,5,FALSE))","v":""},null,null,null,null,null,null,null,{"$f":"IF(ISERROR(VLOOKUP(CONCATENATE($AC$39,\"_\",AB55),選手名簿!$A:$E,5,FALSE))=TRUE,\"\",VLOOKUP(CONCATENATE($AC$39,\"_\",AB55),選手名簿!$A:$E,5,FALSE))","v":""}]
["AR1:",{"$f":"IF(ISERROR(VLOOKUP(B55,審判員!$A:$C,2,FALSE))=TRUE,\"\",VLOOKUP(B55,審判員!$A:$C,2,FALSE))","v":"柚木　徹也"},null,{"$f":"IF(ISERROR(VLOOKUP(B55,審判員!$A:$C,3,FALSE))=TRUE,\"\",VLOOKUP(B55,審判員!$A:$C,3,FALSE))","v":"３級"},"警告/退場",{"$f":"IF(ISERROR(VLOOKUP(CONCATENATE($F$39,\"_\",G56),選手名簿!$A:$E,5,FALSE))=TRUE,\"\",VLOOKUP(CONCATENATE($F$39,\"_\",G56),選手名簿!$A:$E,5,FALSE))","v":""},null,null,null,null,null,null,null,{"$f":"IF(ISERROR(VLOOKUP(CONCATENATE($N$39,\"_\",M56),選手名簿!$A:$E,5,FALSE))=TRUE,\"\",VLOOKUP(CONCATENATE($N$39,\"_\",M56),選手名簿!$A:$E,5,FALSE))","v":""},null,"AR1:",{"$f":"IF(ISERROR(VLOOKUP(Q55,審判員!$A:$C,2,FALSE))=TRUE,\"\",VLOOKUP(Q55,審判員!$A:$C,2,FALSE))","v":"三好　美輝"},null,{"$f":"IF(ISERROR(VLOOKUP(Q55,審判員!$A:$C,3,FALSE))=TRUE,\"\",VLOOKUP(Q55,審判員!$A:$C,3,FALSE))","v":"３級"},"警告/退場",{"$f":"IF(ISERROR(VLOOKUP(CONCATENATE($U$39,\"_\",V56),選手名簿!$A:$E,5,FALSE))=TRUE,\"\",VLOOKUP(CONCATENATE($U$39,\"_\",V56),選手名簿!$A:$E,5,FALSE))","v":""},null,null,null,null,null,null,null,{"$f":"IF(ISERROR(VLOOKUP(CONCATENATE($AC$39,\"_\",AB56),選手名簿!$A:$E,5,FALSE))=TRUE,\"\",VLOOKUP(CONCATENATE($AC$39,\"_\",AB56),選手名簿!$A:$E,5,FALSE))","v":""}]
["番号","R001264359",null,null,"警告/退場",{"$f":"IF(ISERROR(VLOOKUP(CONCATENATE($F$39,\"_\",G57),選手名簿!$A:$E,5,FALSE))=TRUE,\"\",VLOOKUP(CONCATENATE($F$39,\"_\",G57),選手名簿!$A:$E,5,FALSE))","v":""},null,null,null,null,null,null,null,{"$f":"IF(ISERROR(VLOOKUP(CONCATENATE($N$39,\"_\",M57),選手名簿!$A:$E,5,FALSE))=TRUE,\"\",VLOOKUP(CONCATENATE($N$39,\"_\",M57),選手名簿!$A:$E,5,FALSE))","v":""},null,"番号","R010301990",null,null,"警告/退場",{"$f":"IF(ISERROR(VLOOKUP(CONCATENATE($U$39,\"_\",V57),選手名簿!$A:$E,5,FALSE))=TRUE,\"\",VLOOKUP(CONCATENATE($U$39,\"_\",V57),選手名簿!$A:$E,5,FALSE))","v":""},null,null,null,null,null,null,null,{"$f":"IF(ISERROR(VLOOKUP(CONCATENATE($AC$39,\"_\",AB57),選手名簿!$A:$E,5,FALSE))=TRUE,\"\",VLOOKUP(CONCATENATE($AC$39,\"_\",AB57),選手名簿!$A:$E,5,FALSE))","v":""}]
["AR2:",{"$f":"IF(ISERROR(VLOOKUP(B57,審判員!$A:$C,2,FALSE))=TRUE,\"\",VLOOKUP(B57,審判員!$A:$C,2,FALSE))","v":"東　和弘"},null,{"$f":"IF(ISERROR(VLOOKUP(B57,審判員!$A:$C,3,FALSE))=TRUE,\"\",VLOOKUP(B57,審判員!$A:$C,3,FALSE))","v":"３級"},"警告/退場",{"$f":"IF(ISERROR(VLOOKUP(CONCATENATE($F$39,\"_\",G58),選手名簿!$A:$E,5,FALSE))=TRUE,\"\",VLOOKUP(CONCATENATE($F$39,\"_\",G58),選手名簿!$A:$E,5,FALSE))","v":""},null,null,null,null,null,null,null,{"$f":"IF(ISERROR(VLOOKUP(CONCATENATE($N$39,\"_\",M58),選手名簿!$A:$E,5,FALSE))=TRUE,\"\",VLOOKUP(CONCATENATE($N$39,\"_\",M58),選手名簿!$A:$E,5,FALSE))","v":""},null,"AR2:",{"$f":"IF(ISERROR(VLOOKUP(Q57,審判員!$A:$C,2,FALSE))=TRUE,\"\",VLOOKUP(Q57,審判員!$A:$C,2,FALSE))","v":"池本　岬"},null,{"$f":"IF(ISERROR(VLOOKUP(Q57,審判員!$A:$C,3,FALSE))=TRUE,\"\",VLOOKUP(Q57,審判員!$A:$C,3,FALSE))","v":"３級"},"警告/退場",{"$f":"IF(ISERROR(VLOOKUP(CONCATENATE($U$39,\"_\",V58),選手名簿!$A:$E,5,FALSE))=TRUE,\"\",VLOOKUP(CONCATENATE($U$39,\"_\",V58),選手名簿!$A:$E,5,FALSE))","v":""},null,null,null,null,null,null,null,{"$f":"IF(ISERROR(VLOOKUP(CONCATENATE($AC$39,\"_\",AB58),選手名簿!$A:$E,5,FALSE))=TRUE,\"\",VLOOKUP(CONCATENATE($AC$39,\"_\",AB58),選手名簿!$A:$E,5,FALSE))","v":""}]
["番号","R009546055",null,null,"警告/退場",{"$f":"IF(ISERROR(VLOOKUP(CONCATENATE($F$39,\"_\",G59),選手名簿!$A:$E,5,FALSE))=TRUE,\"\",VLOOKUP(CONCATENATE($F$39,\"_\",G59),選手名簿!$A:$E,5,FALSE))","v":""},null,null,null,null,null,null,null,{"$f":"IF(ISERROR(VLOOKUP(CONCATENATE($N$39,\"_\",M59),選手名簿!$A:$E,5,FALSE))=TRUE,\"\",VLOOKUP(CONCATENATE($N$39,\"_\",M59),選手名簿!$A:$E,5,FALSE))","v":""},null,"番号","R005527609",null,null,"警告/退場",{"$f":"IF(ISERROR(VLOOKUP(CONCATENATE($U$39,\"_\",V59),選手名簿!$A:$E,5,FALSE))=TRUE,\"\",VLOOKUP(CONCATENATE($U$39,\"_\",V59),選手名簿!$A:$E,5,FALSE))","v":""},null,null,null,null,null,null,null,{"$f":"IF(ISERROR(VLOOKUP(CONCATENATE($AC$39,\"_\",AB59),選手名簿!$A:$E,5,FALSE))=TRUE,\"\",VLOOKUP(CONCATENATE($AC$39,\"_\",AB59),選手名簿!$A:$E,5,FALSE))","v":""}]
["4th:",{"$f":"IF(ISERROR(VLOOKUP(B59,審判員!$A:$C,2,FALSE))=TRUE,\"\",VLOOKUP(B59,審判員!$A:$C,2,FALSE))","v":"吐合　直樹"},null,{"$f":"IF(ISERROR(VLOOKUP(B59,審判員!$A:$C,3,FALSE))=TRUE,\"\",VLOOKUP(B59,審判員!$A:$C,3,FALSE))","v":"３級"},"警告/退場",{"$f":"IF(ISERROR(VLOOKUP(CONCATENATE($F$39,\"_\",G60),選手名簿!$A:$E,5,FALSE))=TRUE,\"\",VLOOKUP(CONCATENATE($F$39,\"_\",G60),選手名簿!$A:$E,5,FALSE))","v":""},null,null,null,null,null,null,null,{"$f":"IF(ISERROR(VLOOKUP(CONCATENATE($N$39,\"_\",M60),選手名簿!$A:$E,5,FALSE))=TRUE,\"\",VLOOKUP(CONCATENATE($N$39,\"_\",M60),選手名簿!$A:$E,5,FALSE))","v":""},null,"4th:",{"$f":"IF(ISERROR(VLOOKUP(Q59,審判員!$A:$C,2,FALSE))=TRUE,\"\",VLOOKUP(Q59,審判員!$A:$C,2,FALSE))","v":"宇都宮　貴之"},null,{"$f":"IF(ISERROR(VLOOKUP(Q59,審判員!$A:$C,3,FALSE))=TRUE,\"\",VLOOKUP(Q59,審判員!$A:$C,3,FALSE))","v":"３級"},"警告/退場",{"$f":"IF(ISERROR(VLOOKUP(CONCATENATE($U$39,\"_\",V60),選手名簿!$A:$E,5,FALSE))=TRUE,\"\",VLOOKUP(CONCATENATE($U$39,\"_\",V60),選手名簿!$A:$E,5,FALSE))","v":""},null,null,null,null,null,null,null,{"$f":"IF(ISERROR(VLOOKUP(CONCATENATE($AC$39,\"_\",AB60),選手名簿!$A:$E,5,FALSE))=TRUE,\"\",VLOOKUP(CONCATENATE($AC$39,\"_\",AB60),選手名簿!$A:$E,5,FALSE))","v":""}]
[]
[]
[]
[]
[]
[]
[]
["MC","森山　信浩",null,null,"14:30:00",{"$f":"F7","v":"太陽スポーツクラブ大分西"},{"$f":"SUM(I68:I69)","v":3},"（",3,"前半",0,"）",{"$f":"SUM(K68:K69)","v":0},{"$f":"F5","v":"八坂少年サッカークラブ"},null,"MC","諌本　秀樹",null,null,"15:30:00",{"$f":"U7","v":"ＦＣアリアーレ"},{"$f":"SUM(X68:X69)","v":0},"（",0,"前半",3,"）",{"$f":"SUM(Z68:Z69)","v":4},{"$f":"U5","v":"Ｓｈｙｎｔ　ＦＣ"}]
["Welfare\nOfficer","-",null,null,null,null,null,null,0,"後半",0,null,null,null,null,"Welfare\nOfficer","-",null,null,null,null,null,null,0,"後半",1]
["記録","廣田　寧孝",null,null,null,null,null,null,null,"PK",null,null,null,null,null,"記録","森山　信浩",null,null,null,null,null,null,null,"PK"]
["＜Referee＞",null,null,null,null,"氏名","番号","分",null,null,null,"分","番号","氏名",null,"＜Referee＞",null,null,null,null,"氏名","番号","分",null,null,null,"分","番号","氏名"]
[null,null,null,null,"得点者",{"$f":"IF(ISERROR(VLOOKUP(CONCATENATE($F$68,\"_\",G72),選手名簿!$A:$E,5,FALSE))=TRUE,\"\",VLOOKUP(CONCATENATE($F$68,\"_\",G72),選手名簿!$A:$E,5,FALSE))","v":""},null,null,null,null,null,null,null,{"$f":"IF(ISERROR(VLOOKUP(CONCATENATE($N$68,\"_\",M72),選手名簿!$A:$E,5,FALSE))=TRUE,\"\",VLOOKUP(CONCATENATE($N$68,\"_\",M72),選手名簿!$A:$E,5,FALSE))","v":""},null,null,null,null,null,"得点者",{"$f":"IF(ISERROR(VLOOKUP(CONCATENATE($U$68,\"_\",V72),選手名簿!$A:$E,5,FALSE))=TRUE,\"\",VLOOKUP(CONCATENATE($U$68,\"_\",V72),選手名簿!$A:$E,5,FALSE))","v":""},null,null,null,null,null,null,null,{"$f":"IF(ISERROR(VLOOKUP(CONCATENATE($AC$68,\"_\",AB72),選手名簿!$A:$E,5,FALSE))=TRUE,\"\",VLOOKUP(CONCATENATE($AC$68,\"_\",AB72),選手名簿!$A:$E,5,FALSE))","v":""}]
[null,null,null,null,"得点者",{"$f":"IF(ISERROR(VLOOKUP(CONCATENATE($F$68,\"_\",G73),選手名簿!$A:$E,5,FALSE))=TRUE,\"\",VLOOKUP(CONCATENATE($F$68,\"_\",G73),選手名簿!$A:$E,5,FALSE))","v":""},null,null,null,null,null,null,null,{"$f":"IF(ISERROR(VLOOKUP(CONCATENATE($N$68,\"_\",M73),選手名簿!$A:$E,5,FALSE))=TRUE,\"\",VLOOKUP(CONCATENATE($N$68,\"_\",M73),選手名簿!$A:$E,5,FALSE))","v":""},null,null,null,null,null,"得点者",{"$f":"IF(ISERROR(VLOOKUP(CONCATENATE($U$68,\"_\",V73),選手名簿!$A:$E,5,FALSE))=TRUE,\"\",VLOOKUP(CONCATENATE($U$68,\"_\",V73),選手名簿!$A:$E,5,FALSE))","v":""},null,null,null,null,null,null,null,{"$f":"IF(ISERROR(VLOOKUP(CONCATENATE($AC$68,\"_\",AB73),選手名簿!$A:$E,5,FALSE))=TRUE,\"\",VLOOKUP(CONCATENATE($AC$68,\"_\",AB73),選手名簿!$A:$E,5,FALSE))","v":""}]
[null,null,null,null,"得点者",{"$f":"IF(ISERROR(VLOOKUP(CONCATENATE($F$68,\"_\",G74),選手名簿!$A:$E,5,FALSE))=TRUE,\"\",VLOOKUP(CONCATENATE($F$68,\"_\",G74),選手名簿!$A:$E,5,FALSE))","v":""},null,null,null,null,null,null,null,{"$f":"IF(ISERROR(VLOOKUP(CONCATENATE($N$68,\"_\",M74),選手名簿!$A:$E,5,FALSE))=TRUE,\"\",VLOOKUP(CONCATENATE($N$68,\"_\",M74),選手名簿!$A:$E,5,FALSE))","v":""},null,null,null,null,null,"得点者",{"$f":"IF(ISERROR(VLOOKUP(CONCATENATE($U$68,\"_\",V74),選手名簿!$A:$E,5,FALSE))=TRUE,\"\",VLOOKUP(CONCATENATE($U$68,\"_\",V74),選手名簿!$A:$E,5,FALSE))","v":""},null,null,null,null,null,null,null,{"$f":"IF(ISERROR(VLOOKUP(CONCATENATE($AC$68,\"_\",AB74),選手名簿!$A:$E,5,FALSE))=TRUE,\"\",VLOOKUP(CONCATENATE($AC$68,\"_\",AB74),選手名簿!$A:$E,5,FALSE))","v":""}]
[null,null,null,null,"得点者",{"$f":"IF(ISERROR(VLOOKUP(CONCATENATE($F$68,\"_\",G75),選手名簿!$A:$E,5,FALSE))=TRUE,\"\",VLOOKUP(CONCATENATE($F$68,\"_\",G75),選手名簿!$A:$E,5,FALSE))","v":""},null,null,null,null,null,null,null,{"$f":"IF(ISERROR(VLOOKUP(CONCATENATE($N$68,\"_\",M75),選手名簿!$A:$E,5,FALSE))=TRUE,\"\",VLOOKUP(CONCATENATE($N$68,\"_\",M75),選手名簿!$A:$E,5,FALSE))","v":""},null,null,null,null,null,"得点者",{"$f":"IF(ISERROR(VLOOKUP(CONCATENATE($U$68,\"_\",V75),選手名簿!$A:$E,5,FALSE))=TRUE,\"\",VLOOKUP(CONCATENATE($U$68,\"_\",V75),選手名簿!$A:$E,5,FALSE))","v":""},null,null,null,null,null,null,null,{"$f":"IF(ISERROR(VLOOKUP(CONCATENATE($AC$68,\"_\",AB75),選手名簿!$A:$E,5,FALSE))=TRUE,\"\",VLOOKUP(CONCATENATE($AC$68,\"_\",AB75),選手名簿!$A:$E,5,FALSE))","v":""}]
[null,null,null,null,"得点者",{"$f":"IF(ISERROR(VLOOKUP(CONCATENATE($F$68,\"_\",G76),選手名簿!$A:$E,5,FALSE))=TRUE,\"\",VLOOKUP(CONCATENATE($F$68,\"_\",G76),選手名簿!$A:$E,5,FALSE))","v":""},null,null,null,null,null,null,null,{"$f":"IF(ISERROR(VLOOKUP(CONCATENATE($N$68,\"_\",M76),選手名簿!$A:$E,5,FALSE))=TRUE,\"\",VLOOKUP(CONCATENATE($N$68,\"_\",M76),選手名簿!$A:$E,5,FALSE))","v":""},null,null,null,null,null,"得点者",{"$f":"IF(ISERROR(VLOOKUP(CONCATENATE($U$68,\"_\",V76),選手名簿!$A:$E,5,FALSE))=TRUE,\"\",VLOOKUP(CONCATENATE($U$68,\"_\",V76),選手名簿!$A:$E,5,FALSE))","v":""},null,null,null,null,null,null,null,{"$f":"IF(ISERROR(VLOOKUP(CONCATENATE($AC$68,\"_\",AB76),選手名簿!$A:$E,5,FALSE))=TRUE,\"\",VLOOKUP(CONCATENATE($AC$68,\"_\",AB76),選手名簿!$A:$E,5,FALSE))","v":""}]
[null,null,null,null,"得点者",{"$f":"IF(ISERROR(VLOOKUP(CONCATENATE($F$68,\"_\",G77),選手名簿!$A:$E,5,FALSE))=TRUE,\"\",VLOOKUP(CONCATENATE($F$68,\"_\",G77),選手名簿!$A:$E,5,FALSE))","v":""},null,null,null,null,null,null,null,{"$f":"IF(ISERROR(VLOOKUP(CONCATENATE($N$68,\"_\",M77),選手名簿!$A:$E,5,FALSE))=TRUE,\"\",VLOOKUP(CONCATENATE($N$68,\"_\",M77),選手名簿!$A:$E,5,FALSE))","v":""},null,null,null,null,null,"得点者",{"$f":"IF(ISERROR(VLOOKUP(CONCATENATE($U$68,\"_\",V77),選手名簿!$A:$E,5,FALSE))=TRUE,\"\",VLOOKUP(CONCATENATE($U$68,\"_\",V77),選手名簿!$A:$E,5,FALSE))","v":""},null,null,null,null,null,null,null,{"$f":"IF(ISERROR(VLOOKUP(CONCATENATE($AC$68,\"_\",AB77),選手名簿!$A:$E,5,FALSE))=TRUE,\"\",VLOOKUP(CONCATENATE($AC$68,\"_\",AB77),選手名簿!$A:$E,5,FALSE))","v":""}]
[null,null,null,null,"得点者",{"$f":"IF(ISERROR(VLOOKUP(CONCATENATE($F$68,\"_\",G78),選手名簿!$A:$E,5,FALSE))=TRUE,\"\",VLOOKUP(CONCATENATE($F$68,\"_\",G78),選手名簿!$A:$E,5,FALSE))","v":""},null,null,null,null,null,null,null,{"$f":"IF(ISERROR(VLOOKUP(CONCATENATE($N$68,\"_\",M78),選手名簿!$A:$E,5,FALSE))=TRUE,\"\",VLOOKUP(CONCATENATE($N$68,\"_\",M78),選手名簿!$A:$E,5,FALSE))","v":""},null,null,null,null,null,"得点者",{"$f":"IF(ISERROR(VLOOKUP(CONCATENATE($U$68,\"_\",V78),選手名簿!$A:$E,5,FALSE))=TRUE,\"\",VLOOKUP(CONCATENATE($U$68,\"_\",V78),選手名簿!$A:$E,5,FALSE))","v":""},null,null,null,null,null,null,null,{"$f":"IF(ISERROR(VLOOKUP(CONCATENATE($AC$68,\"_\",AB78),選手名簿!$A:$E,5,FALSE))=TRUE,\"\",VLOOKUP(CONCATENATE($AC$68,\"_\",AB78),選手名簿!$A:$E,5,FALSE))","v":""}]
[null,null,null,null,"得点者",{"$f":"IF(ISERROR(VLOOKUP(CONCATENATE($F$68,\"_\",G79),選手名簿!$A:$E,5,FALSE))=TRUE,\"\",VLOOKUP(CONCATENATE($F$68,\"_\",G79),選手名簿!$A:$E,5,FALSE))","v":""},null,null,null,null,null,null,null,{"$f":"IF(ISERROR(VLOOKUP(CONCATENATE($N$68,\"_\",M79),選手名簿!$A:$E,5,FALSE))=TRUE,\"\",VLOOKUP(CONCATENATE($N$68,\"_\",M79),選手名簿!$A:$E,5,FALSE))","v":""},null,null,null,null,null,"得点者",{"$f":"IF(ISERROR(VLOOKUP(CONCATENATE($U$68,\"_\",V79),選手名簿!$A:$E,5,FALSE))=TRUE,\"\",VLOOKUP(CONCATENATE($U$68,\"_\",V79),選手名簿!$A:$E,5,FALSE))","v":""},null,null,null,null,null,null,null,{"$f":"IF(ISERROR(VLOOKUP(CONCATENATE($AC$68,\"_\",AB79),選手名簿!$A:$E,5,FALSE))=TRUE,\"\",VLOOKUP(CONCATENATE($AC$68,\"_\",AB79),選手名簿!$A:$E,5,FALSE))","v":""}]
[null,null,null,null,"得点者",{"$f":"IF(ISERROR(VLOOKUP(CONCATENATE($F$68,\"_\",G80),選手名簿!$A:$E,5,FALSE))=TRUE,\"\",VLOOKUP(CONCATENATE($F$68,\"_\",G80),選手名簿!$A:$E,5,FALSE))","v":""},null,null,null,null,null,null,null,{"$f":"IF(ISERROR(VLOOKUP(CONCATENATE($N$68,\"_\",M80),選手名簿!$A:$E,5,FALSE))=TRUE,\"\",VLOOKUP(CONCATENATE($N$68,\"_\",M80),選手名簿!$A:$E,5,FALSE))","v":""},null,null,null,null,null,"得点者",{"$f":"IF(ISERROR(VLOOKUP(CONCATENATE($U$68,\"_\",V80),選手名簿!$A:$E,5,FALSE))=TRUE,\"\",VLOOKUP(CONCATENATE($U$68,\"_\",V80),選手名簿!$A:$E,5,FALSE))","v":""},null,null,null,null,null,null,null,{"$f":"IF(ISERROR(VLOOKUP(CONCATENATE($AC$68,\"_\",AB80),選手名簿!$A:$E,5,FALSE))=TRUE,\"\",VLOOKUP(CONCATENATE($AC$68,\"_\",AB80),選手名簿!$A:$E,5,FALSE))","v":""}]
[null,null,null,null,"得点者",{"$f":"IF(ISERROR(VLOOKUP(CONCATENATE($F$68,\"_\",G81),選手名簿!$A:$E,5,FALSE))=TRUE,\"\",VLOOKUP(CONCATENATE($F$68,\"_\",G81),選手名簿!$A:$E,5,FALSE))","v":""},null,null,null,null,null,null,null,{"$f":"IF(ISERROR(VLOOKUP(CONCATENATE($N$68,\"_\",M81),選手名簿!$A:$E,5,FALSE))=TRUE,\"\",VLOOKUP(CONCATENATE($N$68,\"_\",M81),選手名簿!$A:$E,5,FALSE))","v":""},null,null,null,null,null,"得点者",{"$f":"IF(ISERROR(VLOOKUP(CONCATENATE($U$68,\"_\",V81),選手名簿!$A:$E,5,FALSE))=TRUE,\"\",VLOOKUP(CONCATENATE($U$68,\"_\",V81),選手名簿!$A:$E,5,FALSE))","v":""},null,null,null,null,null,null,null,{"$f":"IF(ISERROR(VLOOKUP(CONCATENATE($AC$68,\"_\",AB81),選手名簿!$A:$E,5,FALSE))=TRUE,\"\",VLOOKUP(CONCATENATE($AC$68,\"_\",AB81),選手名簿!$A:$E,5,FALSE))","v":""}]
["番号","R005527609",null,null,"警告/退場",{"$f":"IF(ISERROR(VLOOKUP(CONCATENATE($F$68,\"_\",G82),選手名簿!$A:$E,5,FALSE))=TRUE,\"\",VLOOKUP(CONCATENATE($F$68,\"_\",G82),選手名簿!$A:$E,5,FALSE))","v":""},null,null,null,null,null,null,null,{"$f":"IF(ISERROR(VLOOKUP(CONCATENATE($N$68,\"_\",M82),選手名簿!$A:$E,5,FALSE))=TRUE,\"\",VLOOKUP(CONCATENATE($N$68,\"_\",M82),選手名簿!$A:$E,5,FALSE))","v":""},null,"番号","R007003431",null,null,"警告/退場",{"$f":"IF(ISERROR(VLOOKUP(CONCATENATE($U$68,\"_\",V82),選手名簿!$A:$E,5,FALSE))=TRUE,\"\",VLOOKUP(CONCATENATE($U$68,\"_\",V82),選手名簿!$A:$E,5,FALSE))","v":""},null,null,null,null,null,null,null,{"$f":"IF(ISERROR(VLOOKUP(CONCATENATE($AC$68,\"_\",AB82),選手名簿!$A:$E,5,FALSE))=TRUE,\"\",VLOOKUP(CONCATENATE($AC$68,\"_\",AB82),選手名簿!$A:$E,5,FALSE))","v":""}]
["R",{"$f":"IF(ISERROR(VLOOKUP(B82,審判員!$A:$C,2,FALSE))=TRUE,\"\",VLOOKUP(B82,審判員!$A:$C,2,FALSE))","v":"宇都宮　貴之"},null,{"$f":"IF(ISERROR(VLOOKUP(B82,審判員!$A:$C,3,FALSE))=TRUE,\"\",VLOOKUP(B82,審判員!$A:$C,3,FALSE))","v":"３級"},"警告/退場",{"$f":"IF(ISERROR(VLOOKUP(CONCATENATE($F$68,\"_\",G83),選手名簿!$A:$E,5,FALSE))=TRUE,\"\",VLOOKUP(CONCATENATE($F$68,\"_\",G83),選手名簿!$A:$E,5,FALSE))","v":""},null,null,null,null,null,null,null,{"$f":"IF(ISERROR(VLOOKUP(CONCATENATE($N$68,\"_\",M83),選手名簿!$A:$E,5,FALSE))=TRUE,\"\",VLOOKUP(CONCATENATE($N$68,\"_\",M83),選手名簿!$A:$E,5,FALSE))","v":""},null,"R",{"$f":"IF(ISERROR(VLOOKUP(Q82,審判員!$A:$C,2,FALSE))=TRUE,\"\",VLOOKUP(Q82,審判員!$A:$C,2,FALSE))","v":"宇髙　篤史"},null,{"$f":"IF(ISERROR(VLOOKUP(Q82,審判員!$A:$C,3,FALSE))=TRUE,\"\",VLOOKUP(Q82,審判員!$A:$C,3,FALSE))","v":"３級"},"警告/退場",{"$f":"IF(ISERROR(VLOOKUP(CONCATENATE($U$68,\"_\",V83),選手名簿!$A:$E,5,FALSE))=TRUE,\"\",VLOOKUP(CONCATENATE($U$68,\"_\",V83),選手名簿!$A:$E,5,FALSE))","v":""},null,null,null,null,null,null,null,{"$f":"IF(ISERROR(VLOOKUP(CONCATENATE($AC$68,\"_\",AB83),選手名簿!$A:$E,5,FALSE))=TRUE,\"\",VLOOKUP(CONCATENATE($AC$68,\"_\",AB83),選手名簿!$A:$E,5,FALSE))","v":""}]
["番号","R001264359",null,null,"警告/退場",{"$f":"IF(ISERROR(VLOOKUP(CONCATENATE($F$68,\"_\",G84),選手名簿!$A:$E,5,FALSE))=TRUE,\"\",VLOOKUP(CONCATENATE($F$68,\"_\",G84),選手名簿!$A:$E,5,FALSE))","v":""},null,null,null,null,null,null,null,{"$f":"IF(ISERROR(VLOOKUP(CONCATENATE($N$68,\"_\",M84),選手名簿!$A:$E,5,FALSE))=TRUE,\"\",VLOOKUP(CONCATENATE($N$68,\"_\",M84),選手名簿!$A:$E,5,FALSE))","v":""},null,"番号","R010301990",null,null,"警告/退場",{"$f":"IF(ISERROR(VLOOKUP(CONCATENATE($U$68,\"_\",V84),選手名簿!$A:$E,5,FALSE))=TRUE,\"\",VLOOKUP(CONCATENATE($U$68,\"_\",V84),選手名簿!$A:$E,5,FALSE))","v":""},null,null,null,null,null,null,null,{"$f":"IF(ISERROR(VLOOKUP(CONCATENATE($AC$68,\"_\",AB84),選手名簿!$A:$E,5,FALSE))=TRUE,\"\",VLOOKUP(CONCATENATE($AC$68,\"_\",AB84),選手名簿!$A:$E,5,FALSE))","v":""}]
["AR1:",{"$f":"IF(ISERROR(VLOOKUP(B84,審判員!$A:$C,2,FALSE))=TRUE,\"\",VLOOKUP(B84,審判員!$A:$C,2,FALSE))","v":"東　和弘"},null,{"$f":"IF(ISERROR(VLOOKUP(B84,審判員!$A:$C,3,FALSE))=TRUE,\"\",VLOOKUP(B84,審判員!$A:$C,3,FALSE))","v":"３級"},"警告/退場",{"$f":"IF(ISERROR(VLOOKUP(CONCATENATE($F$68,\"_\",G85),選手名簿!$A:$E,5,FALSE))=TRUE,\"\",VLOOKUP(CONCATENATE($F$68,\"_\",G85),選手名簿!$A:$E,5,FALSE))","v":""},null,null,null,null,null,null,null,{"$f":"IF(ISERROR(VLOOKUP(CONCATENATE($N$68,\"_\",M85),選手名簿!$A:$E,5,FALSE))=TRUE,\"\",VLOOKUP(CONCATENATE($N$68,\"_\",M85),選手名簿!$A:$E,5,FALSE))","v":""},null,"AR1:",{"$f":"IF(ISERROR(VLOOKUP(Q84,審判員!$A:$C,2,FALSE))=TRUE,\"\",VLOOKUP(Q84,審判員!$A:$C,2,FALSE))","v":"池本　岬"},null,{"$f":"IF(ISERROR(VLOOKUP(Q84,審判員!$A:$C,3,FALSE))=TRUE,\"\",VLOOKUP(Q84,審判員!$A:$C,3,FALSE))","v":"３級"},"警告/退場",{"$f":"IF(ISERROR(VLOOKUP(CONCATENATE($U$68,\"_\",V85),選手名簿!$A:$E,5,FALSE))=TRUE,\"\",VLOOKUP(CONCATENATE($U$68,\"_\",V85),選手名簿!$A:$E,5,FALSE))","v":""},null,null,null,null,null,null,null,{"$f":"IF(ISERROR(VLOOKUP(CONCATENATE($AC$68,\"_\",AB85),選手名簿!$A:$E,5,FALSE))=TRUE,\"\",VLOOKUP(CONCATENATE($AC$68,\"_\",AB85),選手名簿!$A:$E,5,FALSE))","v":""}]
["番号","R003350863",null,null,"警告/退場",{"$f":"IF(ISERROR(VLOOKUP(CONCATENATE($F$68,\"_\",G86),選手名簿!$A:$E,5,FALSE))=TRUE,\"\",VLOOKUP(CONCATENATE($F$68,\"_\",G86),選手名簿!$A:$E,5,FALSE))","v":""},null,null,null,null,null,null,null,{"$f":"IF(ISERROR(VLOOKUP(CONCATENATE($N$68,\"_\",M86),選手名簿!$A:$E,5,FALSE))=TRUE,\"\",VLOOKUP(CONCATENATE($N$68,\"_\",M86),選手名簿!$A:$E,5,FALSE))","v":""},null,"番号","R010027860",null,null,"警告/退場",{"$f":"IF(ISERROR(VLOOKUP(CONCATENATE($U$68,\"_\",V86),選手名簿!$A:$E,5,FALSE))=TRUE,\"\",VLOOKUP(CONCATENATE($U$68,\"_\",V86),選手名簿!$A:$E,5,FALSE))","v":""},null,null,null,null,null,null,null,{"$f":"IF(ISERROR(VLOOKUP(CONCATENATE($AC$68,\"_\",AB86),選手名簿!$A:$E,5,FALSE))=TRUE,\"\",VLOOKUP(CONCATENATE($AC$68,\"_\",AB86),選手名簿!$A:$E,5,FALSE))","v":""}]
["AR2:",{"$f":"IF(ISERROR(VLOOKUP(B86,審判員!$A:$C,2,FALSE))=TRUE,\"\",VLOOKUP(B86,審判員!$A:$C,2,FALSE))","v":"坂本　圭"},null,{"$f":"IF(ISERROR(VLOOKUP(B86,審判員!$A:$C,3,FALSE))=TRUE,\"\",VLOOKUP(B86,審判員!$A:$C,3,FALSE))","v":"３級"},"警告/退場",{"$f":"IF(ISERROR(VLOOKUP(CONCATENATE($F$68,\"_\",G87),選手名簿!$A:$E,5,FALSE))=TRUE,\"\",VLOOKUP(CONCATENATE($F$68,\"_\",G87),選手名簿!$A:$E,5,FALSE))","v":""},null,null,null,null,null,null,null,{"$f":"IF(ISERROR(VLOOKUP(CONCATENATE($N$68,\"_\",M87),選手名簿!$A:$E,5,FALSE))=TRUE,\"\",VLOOKUP(CONCATENATE($N$68,\"_\",M87),選手名簿!$A:$E,5,FALSE))","v":""},null,"AR2:",{"$f":"IF(ISERROR(VLOOKUP(Q86,審判員!$A:$C,2,FALSE))=TRUE,\"\",VLOOKUP(Q86,審判員!$A:$C,2,FALSE))","v":"藤原　佑史朗"},null,{"$f":"IF(ISERROR(VLOOKUP(Q86,審判員!$A:$C,3,FALSE))=TRUE,\"\",VLOOKUP(Q86,審判員!$A:$C,3,FALSE))","v":"３級"},"警告/退場",{"$f":"IF(ISERROR(VLOOKUP(CONCATENATE($U$68,\"_\",V87),選手名簿!$A:$E,5,FALSE))=TRUE,\"\",VLOOKUP(CONCATENATE($U$68,\"_\",V87),選手名簿!$A:$E,5,FALSE))","v":""},null,null,null,null,null,null,null,{"$f":"IF(ISERROR(VLOOKUP(CONCATENATE($AC$68,\"_\",AB87),選手名簿!$A:$E,5,FALSE))=TRUE,\"\",VLOOKUP(CONCATENATE($AC$68,\"_\",AB87),選手名簿!$A:$E,5,FALSE))","v":""}]
["番号","R007003431",null,null,"警告/退場",{"$f":"IF(ISERROR(VLOOKUP(CONCATENATE($F$68,\"_\",G88),選手名簿!$A:$E,5,FALSE))=TRUE,\"\",VLOOKUP(CONCATENATE($F$68,\"_\",G88),選手名簿!$A:$E,5,FALSE))","v":""},null,null,null,null,null,null,null,{"$f":"IF(ISERROR(VLOOKUP(CONCATENATE($N$68,\"_\",M88),選手名簿!$A:$E,5,FALSE))=TRUE,\"\",VLOOKUP(CONCATENATE($N$68,\"_\",M88),選手名簿!$A:$E,5,FALSE))","v":""},null,"番号","R009546055",null,null,"警告/退場",{"$f":"IF(ISERROR(VLOOKUP(CONCATENATE($U$68,\"_\",V88),選手名簿!$A:$E,5,FALSE))=TRUE,\"\",VLOOKUP(CONCATENATE($U$68,\"_\",V88),選手名簿!$A:$E,5,FALSE))","v":""},null,null,null,null,null,null,null,{"$f":"IF(ISERROR(VLOOKUP(CONCATENATE($AC$68,\"_\",AB88),選手名簿!$A:$E,5,FALSE))=TRUE,\"\",VLOOKUP(CONCATENATE($AC$68,\"_\",AB88),選手名簿!$A:$E,5,FALSE))","v":""}]
["4th:",{"$f":"IF(ISERROR(VLOOKUP(B88,審判員!$A:$C,2,FALSE))=TRUE,\"\",VLOOKUP(B88,審判員!$A:$C,2,FALSE))","v":"宇髙　篤史"},null,{"$f":"IF(ISERROR(VLOOKUP(B88,審判員!$A:$C,3,FALSE))=TRUE,\"\",VLOOKUP(B88,審判員!$A:$C,3,FALSE))","v":"３級"},"警告/退場",{"$f":"IF(ISERROR(VLOOKUP(CONCATENATE($F$68,\"_\",G89),選手名簿!$A:$E,5,FALSE))=TRUE,\"\",VLOOKUP(CONCATENATE($F$68,\"_\",G89),選手名簿!$A:$E,5,FALSE))","v":""},null,null,null,null,null,null,null,{"$f":"IF(ISERROR(VLOOKUP(CONCATENATE($N$68,\"_\",M89),選手名簿!$A:$E,5,FALSE))=TRUE,\"\",VLOOKUP(CONCATENATE($N$68,\"_\",M89),選手名簿!$A:$E,5,FALSE))","v":""},null,"4th:",{"$f":"IF(ISERROR(VLOOKUP(Q88,審判員!$A:$C,2,FALSE))=TRUE,\"\",VLOOKUP(Q88,審判員!$A:$C,2,FALSE))","v":"吐合　直樹"},null,{"$f":"IF(ISERROR(VLOOKUP(Q88,審判員!$A:$C,3,FALSE))=TRUE,\"\",VLOOKUP(Q88,審判員!$A:$C,3,FALSE))","v":"３級"},"警告/退場",{"$f":"IF(ISERROR(VLOOKUP(CONCATENATE($U$68,\"_\",V89),選手名簿!$A:$E,5,FALSE))=TRUE,\"\",VLOOKUP(CONCATENATE($U$68,\"_\",V89),選手名簿!$A:$E,5,FALSE))","v":""},null,null,null,null,null,null,null,{"$f":"IF(ISERROR(VLOOKUP(CONCATENATE($AC$68,\"_\",AB89),選手名簿!$A:$E,5,FALSE))=TRUE,\"\",VLOOKUP(CONCATENATE($AC$68,\"_\",AB89),選手名簿!$A:$E,5,FALSE))","v":""}]

{"sheet":"予選リーグ公式記録(県協会人工芝北)","index":11,"n_rows":89,"n_cols":29,"rows_kept":89,"cut":false,"hidden":true,"merged":[[12,0,12,3],[38,1,38,3],[39,1,39,3],[40,1,40,3],[38,7,40,7],[38,11,40,11],[29,1,29,3],[29,16,29,18],[30,1,30,2],[30,16,30,17],[38,4,40,4],[87,1,87,3],[87,16,87,18],[88,1,88,2],[88,16,88,17],[84,1,84,2],[84,16,84,17],[85,1,85,3],[85,16,85,18],[86,1,86,2],[86,16,86,17],[67,28,69,28],[81,1,81,3],[81,16,81,18],[82,1,82,2],[82,16,82,17],[83,1,83,3],[83,16,83,18],[67,19,69,19],[67,20,69,20],[67,21,69,21],[70,0,70,3],[70,15,70,18],[67,12,69,12],[67,13,69,13],[67,22,69,22],[67,26,69,26],[67,27,69,27],[67,1,67,3],[68,1,68,3],[69,1,69,3],[67,16,67,18],[68,16,68,18],[69,16,69,18],[59,1,59,2],[59,16,59,17],[67,4,69,4],[67,5,69,5],[67,6,69,6],[67,7,69,7],[67,11,69,11],[52,1,52,3],[52,16,52,18],[57,1,57,2],[57,16,57,17],[58,1,58,3],[58,16,58,18],[53,1,53,2],[53,16,53,17],[54,1,54,3],[54,16,54,18],[55,1,55,2],[55,16,55,17],[41,0,41,3],[41,15,41,18],[56,1,56,3],[56,16,56,18],[5,5,5,11],[5,12,5,13],[4,20,4,26],[24,16,24,17],[9,26,11,26],[23,1,23,3],[24,1,24,2],[38,19,40,19],[38,20,40,20],[23,16,23,18],[25,1,25,3],[25,16,25,18],[26,1,26,2],[26,16,26,17],[27,1,27,3],[27,16,27,18],[38,12,40,12],[38,13,40,13],[28,1,28,2],[28,16,28,17],[5,20,5,26],[6,20,6,26],[4,27,4,28],[5,27,5,28],[0,0,0,9],[0,10,0,13],[0,15,0,24],[0,25,0,28],[9,7,11,7],[9,11,11,11],[9,4,11,4],[9,5,11,5],[4,12,4,13],[4,5,4,11],[9,6,11,6],[9,1,9,3],[10,1,10,3],[11,1,11,3],[9,16,9,18],[10,16,10,18],[11,16,11,18],[2,1,2,4],[2,16,2,19],[38,21,40,21],[6,27,6,28],[9,19,11,19],[9,20,11,20],[9,22,11,22],[6,12,6,13],[9,12,11,12],[9,13,11,13],[6,5,6,11],[38,22,40,22],[38,26,40,26],[38,27,40,27],[38,28,40,28],[12,15,12,18],[38,5,40,5],[38,6,40,6],[9,27,11,27],[9,28,11,28],[9,21,11,21],[38,16,38,18],[39,16,39,18],[40,16,40,18]]}
[{"$f":"大会要項!$B$2","v":"第10回 全日本不動産協会杯争奪U-12サッカー大会【ラビットカップ】大分県大会"},null,null,null,null,null,null,null,null,null,"予選リーグ結果　報告用紙",null,null,null,null,{"$f":"大会要項!$B$2","v":"第10回 全日本不動産協会杯争奪U-12サッカー大会【ラビットカップ】大分県大会"},null,null,null,null,null,null,null,null,null,"予選リーグ結果　報告用紙"]
[]
["会場",{"$f":"予選リーグ!I14","v":"大分県ｻｯｶｰ協会人工芝ｸﾞﾗｳﾝﾄﾞ"},null,null,null,{"$f":"予選リーグ!I15","v":"「北」コート"},null,null,null,null,null,null,null,null,null,"会場",{"$f":"予選リーグ!I14","v":"大分県ｻｯｶｰ協会人工芝ｸﾞﾗｳﾝﾄﾞ"},null,null,null,{"$f":"予選リーグ!I15","v":"「北」コート"}]
[]
[null,null,null,null,"E1",{"$f":"VLOOKUP(E5,組合せ抽選用!$Q:$U,5,FALSE)","v":"四日市南ＳＳＣ"},null,null,null,null,null,null,{"$f":"VLOOKUP(E5,組合せ抽選用!$Q:$V,6,FALSE)","v":"宇佐高田"},null,null,null,null,null,null,"G1",{"$f":"VLOOKUP(T5,組合せ抽選用!$Q:$U,5,FALSE)","v":"ＦＣ中津ジュニア"},null,null,null,null,null,null,{"$f":"VLOOKUP(T5,組合せ抽選用!$Q:$V,6,FALSE)","v":"中津"}]
[null,null,null,null,"E2",{"$f":"VLOOKUP(E6,組合せ抽選用!$Q:$U,5,FALSE)","v":"大分トリニータＵ－１２"},null,null,null,null,null,null,{"$f":"VLOOKUP(E6,組合せ抽選用!$Q:$V,6,FALSE)","v":"大分"},null,null,null,null,null,null,"G2",{"$f":"VLOOKUP(T6,組合せ抽選用!$Q:$U,5,FALSE)","v":"金池長浜サッカースポーツ少年団"},null,null,null,null,null,null,{"$f":"VLOOKUP(T6,組合せ抽選用!$Q:$V,6,FALSE)","v":"大分"}]
[null,null,null,null,"E3",{"$f":"VLOOKUP(E7,組合せ抽選用!$Q:$U,5,FALSE)","v":"鶴居ＳＳＳ"},null,null,null,null,null,null,{"$f":"VLOOKUP(E7,組合せ抽選用!$Q:$V,6,FALSE)","v":"中津"},null,null,null,null,null,null,"G3",{"$f":"VLOOKUP(T7,組合せ抽選用!$Q:$U,5,FALSE)","v":"朝日ＦＣ"},null,null,null,null,null,null,{"$f":"VLOOKUP(T7,組合せ抽選用!$Q:$V,6,FALSE)","v":"別府"}]
[]
[]
["MC","佐々木　秀樹",null,null,"10:30:00",{"$f":"F5","v":"四日市南ＳＳＣ"},{"$f":"SUM(I10:I11)","v":0},"（",0,"前半",3,"）",{"$f":"SUM(K10:K11)","v":6},{"$f":"F6","v":"大分トリニータＵ－１２"},null,"MC","平尾　彰敏",null,null,"11:30:00",{"$f":"U5","v":"ＦＣ中津ジュニア"},{"$f":"SUM(X10:X11)","v":4},"（",2,"前半",1,"）",{"$f":"SUM(Z10:Z11)","v":1},{"$f":"U6","v":"金池長浜サッカースポーツ少年団"}]
["Welfare\nOfficer","-",null,null,null,null,null,null,0,"後半",3,null,null,null,null,"Welfare\nOfficer","-",null,null,null,null,null,null,2,"後半",0]
["記録","松下　省吾",null,null,null,null,null,null,null,"PK",null,null,null,null,null,"記録","佐々木　秀樹",null,null,null,null,null,null,null,"PK"]
["＜Referee＞",null,null,null,null,"氏名","番号","分",null,null,null,"分","番号","氏名",null,"＜Referee＞",null,null,null,null,"氏名","番号","分",null,null,null,"分","番号","氏名"]
[null,null,null,null,"得点者",{"$f":"IF(ISERROR(VLOOKUP(CONCATENATE($F$10,\"_\",G14),選手名簿!$A:$E,5,FALSE))=TRUE,\"\",VLOOKUP(CONCATENATE($F$10,\"_\",G14),選手名簿!$A:$E,5,FALSE))","v":""},null,null,null,null,null,null,null,{"$f":"IF(ISERROR(VLOOKUP(CONCATENATE($N$10,\"_\",M14),選手名簿!$A:$E,5,FALSE))=TRUE,\"\",VLOOKUP(CONCATENATE($N$10,\"_\",M14),選手名簿!$A:$E,5,FALSE))","v":""},null,null,null,null,null,"得点者",{"$f":"IF(ISERROR(VLOOKUP(CONCATENATE($U$10,\"_\",V14),選手名簿!$A:$E,5,FALSE))=TRUE,\"\",VLOOKUP(CONCATENATE($U$10,\"_\",V14),選手名簿!$A:$E,5,FALSE))","v":""},null,null,null,null,null,null,null,{"$f":"IF(ISERROR(VLOOKUP(CONCATENATE($AC$10,\"_\",AB14),選手名簿!$A:$E,5,FALSE))=TRUE,\"\",VLOOKUP(CONCATENATE($AC$10,\"_\",AB14),選手名簿!$A:$E,5,FALSE))","v":""}]
[null,null,null,null,"得点者",{"$f":"IF(ISERROR(VLOOKUP(CONCATENATE($F$10,\"_\",G15),選手名簿!$A:$E,5,FALSE))=TRUE,\"\",VLOOKUP(CONCATENATE($F$10,\"_\",G15),選手名簿!$A:$E,5,FALSE))","v":""},null,null,null,null,null,null,null,{"$f":"IF(ISERROR(VLOOKUP(CONCATENATE($N$10,\"_\",M15),選手名簿!$A:$E,5,FALSE))=TRUE,\"\",VLOOKUP(CONCATENATE($N$10,\"_\",M15),選手名簿!$A:$E,5,FALSE))","v":""},null,null,null,null,null,"得点者",{"$f":"IF(ISERROR(VLOOKUP(CONCATENATE($U$10,\"_\",V15),選手名簿!$A:$E,5,FALSE))=TRUE,\"\",VLOOKUP(CONCATENATE($U$10,\"_\",V15),選手名簿!$A:$E,5,FALSE))","v":""},null,null,null,null,null,null,null,{"$f":"IF(ISERROR(VLOOKUP(CONCATENATE($AC$10,\"_\",AB15),選手名簿!$A:$E,5,FALSE))=TRUE,\"\",VLOOKUP(CONCATENATE($AC$10,\"_\",AB15),選手名簿!$A:$E,5,FALSE))","v":""}]
[null,null,null,null,"得点者",{"$f":"IF(ISERROR(VLOOKUP(CONCATENATE($F$10,\"_\",G16),選手名簿!$A:$E,5,FALSE))=TRUE,\"\",VLOOKUP(CONCATENATE($F$10,\"_\",G16),選手名簿!$A:$E,5,FALSE))","v":""},null,null,null,null,null,null,null,{"$f":"IF(ISERROR(VLOOKUP(CONCATENATE($N$10,\"_\",M16),選手名簿!$A:$E,5,FALSE))=TRUE,\"\",VLOOKUP(CONCATENATE($N$10,\"_\",M16),選手名簿!$A:$E,5,FALSE))","v":""},null,null,null,null,null,"得点者",{"$f":"IF(ISERROR(VLOOKUP(CONCATENATE($U$10,\"_\",V16),選手名簿!$A:$E,5,FALSE))=TRUE,\"\",VLOOKUP(CONCATENATE($U$10,\"_\",V16),選手名簿!$A:$E,5,FALSE))","v":""},null,null,null,null,null,null,null,{"$f":"IF(ISERROR(VLOOKUP(CONCATENATE($AC$10,\"_\",AB16),選手名簿!$A:$E,5,FALSE))=TRUE,\"\",VLOOKUP(CONCATENATE($AC$10,\"_\",AB16),選手名簿!$A:$E,5,FALSE))","v":""}]
[null,null,null,null,"得点者",{"$f":"IF(ISERROR(VLOOKUP(CONCATENATE($F$10,\"_\",G17),選手名簿!$A:$E,5,FALSE))=TRUE,\"\",VLOOKUP(CONCATENATE($F$10,\"_\",G17),選手名簿!$A:$E,5,FALSE))","v":""},null,null,null,null,null,null,null,{"$f":"IF(ISERROR(VLOOKUP(CONCATENATE($N$10,\"_\",M17),選手名簿!$A:$E,5,FALSE))=TRUE,\"\",VLOOKUP(CONCATENATE($N$10,\"_\",M17),選手名簿!$A:$E,5,FALSE))","v":""},null,null,null,null,null,"得点者",{"$f":"IF(ISERROR(VLOOKUP(CONCATENATE($U$10,\"_\",V17),選手名簿!$A:$E,5,FALSE))=TRUE,\"\",VLOOKUP(CONCATENATE($U$10,\"_\",V17),選手名簿!$A:$E,5,FALSE))","v":""},null,null,null,null,null,null,null,{"$f":"IF(ISERROR(VLOOKUP(CONCATENATE($AC$10,\"_\",AB17),選手名簿!$A:$E,5,FALSE))=TRUE,\"\",VLOOKUP(CONCATENATE($AC$10,\"_\",AB17),選手名簿!$A:$E,5,FALSE))","v":""}]
[null,null,null,null,"得点者",{"$f":"IF(ISERROR(VLOOKUP(CONCATENATE($F$10,\"_\",G18),選手名簿!$A:$E,5,FALSE))=TRUE,\"\",VLOOKUP(CONCATENATE($F$10,\"_\",G18),選手名簿!$A:$E,5,FALSE))","v":""},null,null,null,null,null,null,null,{"$f":"IF(ISERROR(VLOOKUP(CONCATENATE($N$10,\"_\",M18),選手名簿!$A:$E,5,FALSE))=TRUE,\"\",VLOOKUP(CONCATENATE($N$10,\"_\",M18),選手名簿!$A:$E,5,FALSE))","v":""},null,null,null,null,null,"得点者",{"$f":"IF(ISERROR(VLOOKUP(CONCATENATE($U$10,\"_\",V18),選手名簿!$A:$E,5,FALSE))=TRUE,\"\",VLOOKUP(CONCATENATE($U$10,\"_\",V18),選手名簿!$A:$E,5,FALSE))","v":""},null,null,null,null,null,null,null,{"$f":"IF(ISERROR(VLOOKUP(CONCATENATE($AC$10,\"_\",AB18),選手名簿!$A:$E,5,FALSE))=TRUE,\"\",VLOOKUP(CONCATENATE($AC$10,\"_\",AB18),選手名簿!$A:$E,5,FALSE))","v":""}]
[null,null,null,null,"得点者",{"$f":"IF(ISERROR(VLOOKUP(CONCATENATE($F$10,\"_\",G19),選手名簿!$A:$E,5,FALSE))=TRUE,\"\",VLOOKUP(CONCATENATE($F$10,\"_\",G19),選手名簿!$A:$E,5,FALSE))","v":""},null,null,null,null,null,null,null,{"$f":"IF(ISERROR(VLOOKUP(CONCATENATE($N$10,\"_\",M19),選手名簿!$A:$E,5,FALSE))=TRUE,\"\",VLOOKUP(CONCATENATE($N$10,\"_\",M19),選手名簿!$A:$E,5,FALSE))","v":""},null,null,null,null,null,"得点者",{"$f":"IF(ISERROR(VLOOKUP(CONCATENATE($U$10,\"_\",V19),選手名簿!$A:$E,5,FALSE))=TRUE,\"\",VLOOKUP(CONCATENATE($U$10,\"_\",V19),選手名簿!$A:$E,5,FALSE))","v":""},null,null,null,null,null,null,null,{"$f":"IF(ISERROR(VLOOKUP(CONCATENATE($AC$10,\"_\",AB19),選手名簿!$A:$E,5,FALSE))=TRUE,\"\",VLOOKUP(CONCATENATE($AC$10,\"_\",AB19),選手名簿!$A:$E,5,FALSE))","v":""}]
[null,null,null,null,"得点者",{"$f":"IF(ISERROR(VLOOKUP(CONCATENATE($F$10,\"_\",G20),選手名簿!$A:$E,5,FALSE))=TRUE,\"\",VLOOKUP(CONCATENATE($F$10,\"_\",G20),選手名簿!$A:$E,5,FALSE))","v":""},null,null,null,null,null,null,null,{"$f":"IF(ISERROR(VLOOKUP(CONCATENATE($N$10,\"_\",M20),選手名簿!$A:$E,5,FALSE))=TRUE,\"\",VLOOKUP(CONCATENATE($N$10,\"_\",M20),選手名簿!$A:$E,5,FALSE))","v":""},null,null,null,null,null,"得点者",{"$f":"IF(ISERROR(VLOOKUP(CONCATENATE($U$10,\"_\",V20),選手名簿!$A:$E,5,FALSE))=TRUE,\"\",VLOOKUP(CONCATENATE($U$10,\"_\",V20),選手名簿!$A:$E,5,FALSE))","v":""},null,null,null,null,null,null,null,{"$f":"IF(ISERROR(VLOOKUP(CONCATENATE($AC$10,\"_\",AB20),選手名簿!$A:$E,5,FALSE))=TRUE,\"\",VLOOKUP(CONCATENATE($AC$10,\"_\",AB20),選手名簿!$A:$E,5,FALSE))","v":""}]
[null,null,null,null,"得点者",{"$f":"IF(ISERROR(VLOOKUP(CONCATENATE($F$10,\"_\",G21),選手名簿!$A:$E,5,FALSE))=TRUE,\"\",VLOOKUP(CONCATENATE($F$10,\"_\",G21),選手名簿!$A:$E,5,FALSE))","v":""},null,null,null,null,null,null,null,{"$f":"IF(ISERROR(VLOOKUP(CONCATENATE($N$10,\"_\",M21),選手名簿!$A:$E,5,FALSE))=TRUE,\"\",VLOOKUP(CONCATENATE($N$10,\"_\",M21),選手名簿!$A:$E,5,FALSE))","v":""},null,null,null,null,null,"得点者",{"$f":"IF(ISERROR(VLOOKUP(CONCATENATE($U$10,\"_\",V21),選手名簿!$A:$E,5,FALSE))=TRUE,\"\",VLOOKUP(CONCATENATE($U$10,\"_\",V21),選手名簿!$A:$E,5,FALSE))","v":""},null,null,null,null,null,null,null,{"$f":"IF(ISERROR(VLOOKUP(CONCATENATE($AC$10,\"_\",AB21),選手名簿!$A:$E,5,FALSE))=TRUE,\"\",VLOOKUP(CONCATENATE($AC$10,\"_\",AB21),選手名簿!$A:$E,5,FALSE))","v":""}]
[null,null,null,null,"得点者",{"$f":"IF(ISERROR(VLOOKUP(CONCATENATE($F$10,\"_\",G22),選手名簿!$A:$E,5,FALSE))=TRUE,\"\",VLOOKUP(CONCATENATE($F$10,\"_\",G22),選手名簿!$A:$E,5,FALSE))","v":""},null,null,null,null,null,null,null,{"$f":"IF(ISERROR(VLOOKUP(CONCATENATE($N$10,\"_\",M22),選手名簿!$A:$E,5,FALSE))=TRUE,\"\",VLOOKUP(CONCATENATE($N$10,\"_\",M22),選手名簿!$A:$E,5,FALSE))","v":""},null,null,null,null,null,"得点者",{"$f":"IF(ISERROR(VLOOKUP(CONCATENATE($U$10,\"_\",V22),選手名簿!$A:$E,5,FALSE))=TRUE,\"\",VLOOKUP(CONCATENATE($U$10,\"_\",V22),選手名簿!$A:$E,5,FALSE))","v":""},null,null,null,null,null,null,null,{"$f":"IF(ISERROR(VLOOKUP(CONCATENATE($AC$10,\"_\",AB22),選手名簿!$A:$E,5,FALSE))=TRUE,\"\",VLOOKUP(CONCATENATE($AC$10,\"_\",AB22),選手名簿!$A:$E,5,FALSE))","v":""}]
[null,null,null,null,"得点者",{"$f":"IF(ISERROR(VLOOKUP(CONCATENATE($F$10,\"_\",G23),選手名簿!$A:$E,5,FALSE))=TRUE,\"\",VLOOKUP(CONCATENATE($F$10,\"_\",G23),選手名簿!$A:$E,5,FALSE))","v":""},null,null,null,null,null,null,null,{"$f":"IF(ISERROR(VLOOKUP(CONCATENATE($N$10,\"_\",M23),選手名簿!$A:$E,5,FALSE))=TRUE,\"\",VLOOKUP(CONCATENATE($N$10,\"_\",M23),選手名簿!$A:$E,5,FALSE))","v":""},null,null,null,null,null,"得点者",{"$f":"IF(ISERROR(VLOOKUP(CONCATENATE($U$10,\"_\",V23),選手名簿!$A:$E,5,FALSE))=TRUE,\"\",VLOOKUP(CONCATENATE($U$10,\"_\",V23),選手名簿!$A:$E,5,FALSE))","v":""},null,null,null,null,null,null,null,{"$f":"IF(ISERROR(VLOOKUP(CONCATENATE($AC$10,\"_\",AB23),選手名簿!$A:$E,5,FALSE))=TRUE,\"\",VLOOKUP(CONCATENATE($AC$10,\"_\",AB23),選手名簿!$A:$E,5,FALSE))","v":""}]
["番号","R010120117",null,null,"警告/退場",{"$f":"IF(ISERROR(VLOOKUP(CONCATENATE($F$10,\"_\",G24),選手名簿!$A:$E,5,FALSE))=TRUE,\"\",VLOOKUP(CONCATENATE($F$10,\"_\",G24),選手名簿!$A:$E,5,FALSE))","v":""},null,null,null,null,null,null,null,{"$f":"IF(ISERROR(VLOOKUP(CONCATENATE($N$10,\"_\",M24),選手名簿!$A:$E,5,FALSE))=TRUE,\"\",VLOOKUP(CONCATENATE($N$10,\"_\",M24),選手名簿!$A:$E,5,FALSE))","v":""},null,"番号","R010093494",null,null,"警告/退場",{"$f":"IF(ISERROR(VLOOKUP(CONCATENATE($U$10,\"_\",V24),選手名簿!$A:$E,5,FALSE))=TRUE,\"\",VLOOKUP(CONCATENATE($U$10,\"_\",V24),選手名簿!$A:$E,5,FALSE))","v":""},null,null,null,null,null,null,null,{"$f":"IF(ISERROR(VLOOKUP(CONCATENATE($AC$10,\"_\",AB24),選手名簿!$A:$E,5,FALSE))=TRUE,\"\",VLOOKUP(CONCATENATE($AC$10,\"_\",AB24),選手名簿!$A:$E,5,FALSE))","v":""}]
["R",{"$f":"IF(ISERROR(VLOOKUP(B24,審判員!$A:$C,2,FALSE))=TRUE,\"\",VLOOKUP(B24,審判員!$A:$C,2,FALSE))","v":"寺次　良生"},null,{"$f":"IF(ISERROR(VLOOKUP(B24,審判員!$A:$C,3,FALSE))=TRUE,\"\",VLOOKUP(B24,審判員!$A:$C,3,FALSE))","v":"３級"},"警告/退場",{"$f":"IF(ISERROR(VLOOKUP(CONCATENATE($F$10,\"_\",G25),選手名簿!$A:$E,5,FALSE))=TRUE,\"\",VLOOKUP(CONCATENATE($F$10,\"_\",G25),選手名簿!$A:$E,5,FALSE))","v":""},null,null,null,null,null,null,null,{"$f":"IF(ISERROR(VLOOKUP(CONCATENATE($N$10,\"_\",M25),選手名簿!$A:$E,5,FALSE))=TRUE,\"\",VLOOKUP(CONCATENATE($N$10,\"_\",M25),選手名簿!$A:$E,5,FALSE))","v":""},null,"R",{"$f":"IF(ISERROR(VLOOKUP(Q24,審判員!$A:$C,2,FALSE))=TRUE,\"\",VLOOKUP(Q24,審判員!$A:$C,2,FALSE))","v":"大本　敏行"},null,{"$f":"IF(ISERROR(VLOOKUP(Q24,審判員!$A:$C,3,FALSE))=TRUE,\"\",VLOOKUP(Q24,審判員!$A:$C,3,FALSE))","v":"３級"},"警告/退場",{"$f":"IF(ISERROR(VLOOKUP(CONCATENATE($U$10,\"_\",V25),選手名簿!$A:$E,5,FALSE))=TRUE,\"\",VLOOKUP(CONCATENATE($U$10,\"_\",V25),選手名簿!$A:$E,5,FALSE))","v":""},null,null,null,null,null,null,null,{"$f":"IF(ISERROR(VLOOKUP(CONCATENATE($AC$10,\"_\",AB25),選手名簿!$A:$E,5,FALSE))=TRUE,\"\",VLOOKUP(CONCATENATE($AC$10,\"_\",AB25),選手名簿!$A:$E,5,FALSE))","v":""}]
["番号","R002531522",null,null,"警告/退場",{"$f":"IF(ISERROR(VLOOKUP(CONCATENATE($F$10,\"_\",G26),選手名簿!$A:$E,5,FALSE))=TRUE,\"\",VLOOKUP(CONCATENATE($F$10,\"_\",G26),選手名簿!$A:$E,5,FALSE))","v":""},null,null,null,null,null,null,null,{"$f":"IF(ISERROR(VLOOKUP(CONCATENATE($N$10,\"_\",M26),選手名簿!$A:$E,5,FALSE))=TRUE,\"\",VLOOKUP(CONCATENATE($N$10,\"_\",M26),選手名簿!$A:$E,5,FALSE))","v":""},null,"番号","R010189300",null,null,"警告/退場",{"$f":"IF(ISERROR(VLOOKUP(CONCATENATE($U$10,\"_\",V26),選手名簿!$A:$E,5,FALSE))=TRUE,\"\",VLOOKUP(CONCATENATE($U$10,\"_\",V26),選手名簿!$A:$E,5,FALSE))","v":""},null,null,null,null,null,null,null,{"$f":"IF(ISERROR(VLOOKUP(CONCATENATE($AC$10,\"_\",AB26),選手名簿!$A:$E,5,FALSE))=TRUE,\"\",VLOOKUP(CONCATENATE($AC$10,\"_\",AB26),選手名簿!$A:$E,5,FALSE))","v":""}]
["AR1:",{"$f":"IF(ISERROR(VLOOKUP(B26,審判員!$A:$C,2,FALSE))=TRUE,\"\",VLOOKUP(B26,審判員!$A:$C,2,FALSE))","v":"伊藤　宏充"},null,{"$f":"IF(ISERROR(VLOOKUP(B26,審判員!$A:$C,3,FALSE))=TRUE,\"\",VLOOKUP(B26,審判員!$A:$C,3,FALSE))","v":"３級"},"警告/退場",{"$f":"IF(ISERROR(VLOOKUP(CONCATENATE($F$10,\"_\",G27),選手名簿!$A:$E,5,FALSE))=TRUE,\"\",VLOOKUP(CONCATENATE($F$10,\"_\",G27),選手名簿!$A:$E,5,FALSE))","v":""},null,null,null,null,null,null,null,{"$f":"IF(ISERROR(VLOOKUP(CONCATENATE($N$10,\"_\",M27),選手名簿!$A:$E,5,FALSE))=TRUE,\"\",VLOOKUP(CONCATENATE($N$10,\"_\",M27),選手名簿!$A:$E,5,FALSE))","v":""},null,"AR1:",{"$f":"IF(ISERROR(VLOOKUP(Q26,審判員!$A:$C,2,FALSE))=TRUE,\"\",VLOOKUP(Q26,審判員!$A:$C,2,FALSE))","v":"徳光　将太"},null,{"$f":"IF(ISERROR(VLOOKUP(Q26,審判員!$A:$C,3,FALSE))=TRUE,\"\",VLOOKUP(Q26,審判員!$A:$C,3,FALSE))","v":"３級"},"警告/退場",{"$f":"IF(ISERROR(VLOOKUP(CONCATENATE($U$10,\"_\",V27),選手名簿!$A:$E,5,FALSE))=TRUE,\"\",VLOOKUP(CONCATENATE($U$10,\"_\",V27),選手名簿!$A:$E,5,FALSE))","v":""},null,null,null,null,null,null,null,{"$f":"IF(ISERROR(VLOOKUP(CONCATENATE($AC$10,\"_\",AB27),選手名簿!$A:$E,5,FALSE))=TRUE,\"\",VLOOKUP(CONCATENATE($AC$10,\"_\",AB27),選手名簿!$A:$E,5,FALSE))","v":""}]
["番号","R001263721",null,null,"警告/退場",{"$f":"IF(ISERROR(VLOOKUP(CONCATENATE($F$10,\"_\",G28),選手名簿!$A:$E,5,FALSE))=TRUE,\"\",VLOOKUP(CONCATENATE($F$10,\"_\",G28),選手名簿!$A:$E,5,FALSE))","v":""},null,null,null,null,null,null,null,{"$f":"IF(ISERROR(VLOOKUP(CONCATENATE($N$10,\"_\",M28),選手名簿!$A:$E,5,FALSE))=TRUE,\"\",VLOOKUP(CONCATENATE($N$10,\"_\",M28),選手名簿!$A:$E,5,FALSE))","v":""},null,"番号","R007075261",null,null,"警告/退場",{"$f":"IF(ISERROR(VLOOKUP(CONCATENATE($U$10,\"_\",V28),選手名簿!$A:$E,5,FALSE))=TRUE,\"\",VLOOKUP(CONCATENATE($U$10,\"_\",V28),選手名簿!$A:$E,5,FALSE))","v":""},null,null,null,null,null,null,null,{"$f":"IF(ISERROR(VLOOKUP(CONCATENATE($AC$10,\"_\",AB28),選手名簿!$A:$E,5,FALSE))=TRUE,\"\",VLOOKUP(CONCATENATE($AC$10,\"_\",AB28),選手名簿!$A:$E,5,FALSE))","v":""}]
["AR2:",{"$f":"IF(ISERROR(VLOOKUP(B28,審判員!$A:$C,2,FALSE))=TRUE,\"\",VLOOKUP(B28,審判員!$A:$C,2,FALSE))","v":"園　貴司"},null,{"$f":"IF(ISERROR(VLOOKUP(B28,審判員!$A:$C,3,FALSE))=TRUE,\"\",VLOOKUP(B28,審判員!$A:$C,3,FALSE))","v":"３級"},"警告/退場",{"$f":"IF(ISERROR(VLOOKUP(CONCATENATE($F$10,\"_\",G29),選手名簿!$A:$E,5,FALSE))=TRUE,\"\",VLOOKUP(CONCATENATE($F$10,\"_\",G29),選手名簿!$A:$E,5,FALSE))","v":""},null,null,null,null,null,null,null,{"$f":"IF(ISERROR(VLOOKUP(CONCATENATE($N$10,\"_\",M29),選手名簿!$A:$E,5,FALSE))=TRUE,\"\",VLOOKUP(CONCATENATE($N$10,\"_\",M29),選手名簿!$A:$E,5,FALSE))","v":""},null,"AR2:",{"$f":"IF(ISERROR(VLOOKUP(Q28,審判員!$A:$C,2,FALSE))=TRUE,\"\",VLOOKUP(Q28,審判員!$A:$C,2,FALSE))","v":"小川　翔太"},null,{"$f":"IF(ISERROR(VLOOKUP(Q28,審判員!$A:$C,3,FALSE))=TRUE,\"\",VLOOKUP(Q28,審判員!$A:$C,3,FALSE))","v":"３級"},"警告/退場",{"$f":"IF(ISERROR(VLOOKUP(CONCATENATE($U$10,\"_\",V29),選手名簿!$A:$E,5,FALSE))=TRUE,\"\",VLOOKUP(CONCATENATE($U$10,\"_\",V29),選手名簿!$A:$E,5,FALSE))","v":""},null,null,null,null,null,null,null,{"$f":"IF(ISERROR(VLOOKUP(CONCATENATE($AC$10,\"_\",AB29),選手名簿!$A:$E,5,FALSE))=TRUE,\"\",VLOOKUP(CONCATENATE($AC$10,\"_\",AB29),選手名簿!$A:$E,5,FALSE))","v":""}]
["番号","R010093494",null,null,"警告/退場",{"$f":"IF(ISERROR(VLOOKUP(CONCATENATE($F$10,\"_\",G30),選手名簿!$A:$E,5,FALSE))=TRUE,\"\",VLOOKUP(CONCATENATE($F$10,\"_\",G30),選手名簿!$A:$E,5,FALSE))","v":""},null,null,null,null,null,null,null,{"$f":"IF(ISERROR(VLOOKUP(CONCATENATE($N$10,\"_\",M30),選手名簿!$A:$E,5,FALSE))=TRUE,\"\",VLOOKUP(CONCATENATE($N$10,\"_\",M30),選手名簿!$A:$E,5,FALSE))","v":""},null,"番号","R009460551",null,null,"警告/退場",{"$f":"IF(ISERROR(VLOOKUP(CONCATENATE($U$10,\"_\",V30),選手名簿!$A:$E,5,FALSE))=TRUE,\"\",VLOOKUP(CONCATENATE($U$10,\"_\",V30),選手名簿!$A:$E,5,FALSE))","v":""},null,null,null,null,null,null,null,{"$f":"IF(ISERROR(VLOOKUP(CONCATENATE($AC$10,\"_\",AB30),選手名簿!$A:$E,5,FALSE))=TRUE,\"\",VLOOKUP(CONCATENATE($AC$10,\"_\",AB30),選手名簿!$A:$E,5,FALSE))","v":""}]
["4th:",{"$f":"IF(ISERROR(VLOOKUP(B30,審判員!$A:$C,2,FALSE))=TRUE,\"\",VLOOKUP(B30,審判員!$A:$C,2,FALSE))","v":"大本　敏行"},null,{"$f":"IF(ISERROR(VLOOKUP(B30,審判員!$A:$C,3,FALSE))=TRUE,\"\",VLOOKUP(B30,審判員!$A:$C,3,FALSE))","v":"３級"},"警告/退場",{"$f":"IF(ISERROR(VLOOKUP(CONCATENATE($F$10,\"_\",G31),選手名簿!$A:$E,5,FALSE))=TRUE,\"\",VLOOKUP(CONCATENATE($F$10,\"_\",G31),選手名簿!$A:$E,5,FALSE))","v":""},null,null,null,null,null,null,null,{"$f":"IF(ISERROR(VLOOKUP(CONCATENATE($N$10,\"_\",M31),選手名簿!$A:$E,5,FALSE))=TRUE,\"\",VLOOKUP(CONCATENATE($N$10,\"_\",M31),選手名簿!$A:$E,5,FALSE))","v":""},null,"4th:",{"$f":"IF(ISERROR(VLOOKUP(Q30,審判員!$A:$C,2,FALSE))=TRUE,\"\",VLOOKUP(Q30,審判員!$A:$C,2,FALSE))","v":"佐藤　慎二"},null,{"$f":"IF(ISERROR(VLOOKUP(Q30,審判員!$A:$C,3,FALSE))=TRUE,\"\",VLOOKUP(Q30,審判員!$A:$C,3,FALSE))","v":"３級"},"警告/退場",{"$f":"IF(ISERROR(VLOOKUP(CONCATENATE($U$10,\"_\",V31),選手名簿!$A:$E,5,FALSE))=TRUE,\"\",VLOOKUP(CONCATENATE($U$10,\"_\",V31),選手名簿!$A:$E,5,FALSE))","v":""},null,null,null,null,null,null,null,{"$f":"IF(ISERROR(VLOOKUP(CONCATENATE($AC$10,\"_\",AB31),選手名簿!$A:$E,5,FALSE))=TRUE,\"\",VLOOKUP(CONCATENATE($AC$10,\"_\",AB31),選手名簿!$A:$E,5,FALSE))","v":""}]
[]
[]
[]
[]
[]
[]
[]
["MC","末永　成久",null,null,"12:30:00",{"$f":"F6","v":"大分トリニータＵ－１２"},{"$f":"SUM(I39:I40)","v":5},"（",4,"前半",0,"）",{"$f":"SUM(K39:K40)","v":1},{"$f":"F7","v":"鶴居ＳＳＳ"},null,"MC","安東　信二",null,null,"13:30:00",{"$f":"U6","v":"金池長浜サッカースポーツ少年団"},{"$f":"SUM(X39:X40)","v":3},"（",1,"前半",0,"）",{"$f":"SUM(Z39:Z40)","v":1},{"$f":"U7","v":"朝日ＦＣ"}]
["Welfare\nOfficer","-",null,null,null,null,null,null,1,"後半",1,null,null,null,null,"Welfare\nOfficer","-",null,null,null,null,null,null,2,"後半",1]
["記録","平尾　彰敏",null,null,null,null,null,null,null,"PK",null,null,null,null,null,"記録","末永　成久",null,null,null,null,null,null,null,"PK"]
["＜Referee＞",null,null,null,null,"氏名","番号","分",null,null,null,"分","番号","氏名",null,"＜Referee＞",null,null,null,null,"氏名","番号","分",null,null,null,"分","番号","氏名"]
[null,null,null,null,"得点者",{"$f":"IF(ISERROR(VLOOKUP(CONCATENATE($F$39,\"_\",G43),選手名簿!$A:$E,5,FALSE))=TRUE,\"\",VLOOKUP(CONCATENATE($F$39,\"_\",G43),選手名簿!$A:$E,5,FALSE))","v":""},null,null,null,null,null,null,null,{"$f":"IF(ISERROR(VLOOKUP(CONCATENATE($N$39,\"_\",M43),選手名簿!$A:$E,5,FALSE))=TRUE,\"\",VLOOKUP(CONCATENATE($N$39,\"_\",M43),選手名簿!$A:$E,5,FALSE))","v":""},null,null,null,null,null,"得点者",{"$f":"IF(ISERROR(VLOOKUP(CONCATENATE($U$39,\"_\",V43),選手名簿!$A:$E,5,FALSE))=TRUE,\"\",VLOOKUP(CONCATENATE($U$39,\"_\",V43),選手名簿!$A:$E,5,FALSE))","v":""},null,null,null,null,null,null,null,{"$f":"IF(ISERROR(VLOOKUP(CONCATENATE($AC$39,\"_\",AB43),選手名簿!$A:$E,5,FALSE))=TRUE,\"\",VLOOKUP(CONCATENATE($AC$39,\"_\",AB43),選手名簿!$A:$E,5,FALSE))","v":""}]
[null,null,null,null,"得点者",{"$f":"IF(ISERROR(VLOOKUP(CONCATENATE($F$39,\"_\",G44),選手名簿!$A:$E,5,FALSE))=TRUE,\"\",VLOOKUP(CONCATENATE($F$39,\"_\",G44),選手名簿!$A:$E,5,FALSE))","v":""},null,null,null,null,null,null,null,{"$f":"IF(ISERROR(VLOOKUP(CONCATENATE($N$39,\"_\",M44),選手名簿!$A:$E,5,FALSE))=TRUE,\"\",VLOOKUP(CONCATENATE($N$39,\"_\",M44),選手名簿!$A:$E,5,FALSE))","v":""},null,null,null,null,null,"得点者",{"$f":"IF(ISERROR(VLOOKUP(CONCATENATE($U$39,\"_\",V44),選手名簿!$A:$E,5,FALSE))=TRUE,\"\",VLOOKUP(CONCATENATE($U$39,\"_\",V44),選手名簿!$A:$E,5,FALSE))","v":""},null,null,null,null,null,null,null,{"$f":"IF(ISERROR(VLOOKUP(CONCATENATE($AC$39,\"_\",AB44),選手名簿!$A:$E,5,FALSE))=TRUE,\"\",VLOOKUP(CONCATENATE($AC$39,\"_\",AB44),選手名簿!$A:$E,5,FALSE))","v":""}]
[null,null,null,null,"得点者",{"$f":"IF(ISERROR(VLOOKUP(CONCATENATE($F$39,\"_\",G45),選手名簿!$A:$E,5,FALSE))=TRUE,\"\",VLOOKUP(CONCATENATE($F$39,\"_\",G45),選手名簿!$A:$E,5,FALSE))","v":""},null,null,null,null,null,null,null,{"$f":"IF(ISERROR(VLOOKUP(CONCATENATE($N$39,\"_\",M45),選手名簿!$A:$E,5,FALSE))=TRUE,\"\",VLOOKUP(CONCATENATE($N$39,\"_\",M45),選手名簿!$A:$E,5,FALSE))","v":""},null,null,null,null,null,"得点者",{"$f":"IF(ISERROR(VLOOKUP(CONCATENATE($U$39,\"_\",V45),選手名簿!$A:$E,5,FALSE))=TRUE,\"\",VLOOKUP(CONCATENATE($U$39,\"_\",V45),選手名簿!$A:$E,5,FALSE))","v":""},null,null,null,null,null,null,null,{"$f":"IF(ISERROR(VLOOKUP(CONCATENATE($AC$39,\"_\",AB45),選手名簿!$A:$E,5,FALSE))=TRUE,\"\",VLOOKUP(CONCATENATE($AC$39,\"_\",AB45),選手名簿!$A:$E,5,FALSE))","v":""}]
[null,null,null,null,"得点者",{"$f":"IF(ISERROR(VLOOKUP(CONCATENATE($F$39,\"_\",G46),選手名簿!$A:$E,5,FALSE))=TRUE,\"\",VLOOKUP(CONCATENATE($F$39,\"_\",G46),選手名簿!$A:$E,5,FALSE))","v":""},null,null,null,null,null,null,null,{"$f":"IF(ISERROR(VLOOKUP(CONCATENATE($N$39,\"_\",M46),選手名簿!$A:$E,5,FALSE))=TRUE,\"\",VLOOKUP(CONCATENATE($N$39,\"_\",M46),選手名簿!$A:$E,5,FALSE))","v":""},null,null,null,null,null,"得点者",{"$f":"IF(ISERROR(VLOOKUP(CONCATENATE($U$39,\"_\",V46),選手名簿!$A:$E,5,FALSE))=TRUE,\"\",VLOOKUP(CONCATENATE($U$39,\"_\",V46),選手名簿!$A:$E,5,FALSE))","v":""},null,null,null,null,null,null,null,{"$f":"IF(ISERROR(VLOOKUP(CONCATENATE($AC$39,\"_\",AB46),選手名簿!$A:$E,5,FALSE))=TRUE,\"\",VLOOKUP(CONCATENATE($AC$39,\"_\",AB46),選手名簿!$A:$E,5,FALSE))","v":""}]
[null,null,null,null,"得点者",{"$f":"IF(ISERROR(VLOOKUP(CONCATENATE($F$39,\"_\",G47),選手名簿!$A:$E,5,FALSE))=TRUE,\"\",VLOOKUP(CONCATENATE($F$39,\"_\",G47),選手名簿!$A:$E,5,FALSE))","v":""},null,null,null,null,null,null,null,{"$f":"IF(ISERROR(VLOOKUP(CONCATENATE($N$39,\"_\",M47),選手名簿!$A:$E,5,FALSE))=TRUE,\"\",VLOOKUP(CONCATENATE($N$39,\"_\",M47),選手名簿!$A:$E,5,FALSE))","v":""},null,null,null,null,null,"得点者",{"$f":"IF(ISERROR(VLOOKUP(CONCATENATE($U$39,\"_\",V47),選手名簿!$A:$E,5,FALSE))=TRUE,\"\",VLOOKUP(CONCATENATE($U$39,\"_\",V47),選手名簿!$A:$E,5,FALSE))","v":""},null,null,null,null,null,null,null,{"$f":"IF(ISERROR(VLOOKUP(CONCATENATE($AC$39,\"_\",AB47),選手名簿!$A:$E,5,FALSE))=TRUE,\"\",VLOOKUP(CONCATENATE($AC$39,\"_\",AB47),選手名簿!$A:$E,5,FALSE))","v":""}]
[null,null,null,null,"得点者",{"$f":"IF(ISERROR(VLOOKUP(CONCATENATE($F$39,\"_\",G48),選手名簿!$A:$E,5,FALSE))=TRUE,\"\",VLOOKUP(CONCATENATE($F$39,\"_\",G48),選手名簿!$A:$E,5,FALSE))","v":""},null,null,null,null,null,null,null,{"$f":"IF(ISERROR(VLOOKUP(CONCATENATE($N$39,\"_\",M48),選手名簿!$A:$E,5,FALSE))=TRUE,\"\",VLOOKUP(CONCATENATE($N$39,\"_\",M48),選手名簿!$A:$E,5,FALSE))","v":""},null,null,null,null,null,"得点者",{"$f":"IF(ISERROR(VLOOKUP(CONCATENATE($U$39,\"_\",V48),選手名簿!$A:$E,5,FALSE))=TRUE,\"\",VLOOKUP(CONCATENATE($U$39,\"_\",V48),選手名簿!$A:$E,5,FALSE))","v":""},null,null,null,null,null,null,null,{"$f":"IF(ISERROR(VLOOKUP(CONCATENATE($AC$39,\"_\",AB48),選手名簿!$A:$E,5,FALSE))=TRUE,\"\",VLOOKUP(CONCATENATE($AC$39,\"_\",AB48),選手名簿!$A:$E,5,FALSE))","v":""}]
[null,null,null,null,"得点者",{"$f":"IF(ISERROR(VLOOKUP(CONCATENATE($F$39,\"_\",G49),選手名簿!$A:$E,5,FALSE))=TRUE,\"\",VLOOKUP(CONCATENATE($F$39,\"_\",G49),選手名簿!$A:$E,5,FALSE))","v":""},null,null,null,null,null,null,null,{"$f":"IF(ISERROR(VLOOKUP(CONCATENATE($N$39,\"_\",M49),選手名簿!$A:$E,5,FALSE))=TRUE,\"\",VLOOKUP(CONCATENATE($N$39,\"_\",M49),選手名簿!$A:$E,5,FALSE))","v":""},null,null,null,null,null,"得点者",{"$f":"IF(ISERROR(VLOOKUP(CONCATENATE($U$39,\"_\",V49),選手名簿!$A:$E,5,FALSE))=TRUE,\"\",VLOOKUP(CONCATENATE($U$39,\"_\",V49),選手名簿!$A:$E,5,FALSE))","v":""},null,null,null,null,null,null,null,{"$f":"IF(ISERROR(VLOOKUP(CONCATENATE($AC$39,\"_\",AB49),選手名簿!$A:$E,5,FALSE))=TRUE,\"\",VLOOKUP(CONCATENATE($AC$39,\"_\",AB49),選手名簿!$A:$E,5,FALSE))","v":""}]
[null,null,null,null,"得点者",{"$f":"IF(ISERROR(VLOOKUP(CONCATENATE($F$39,\"_\",G50),選手名簿!$A:$E,5,FALSE))=TRUE,\"\",VLOOKUP(CONCATENATE($F$39,\"_\",G50),選手名簿!$A:$E,5,FALSE))","v":""},null,null,null,null,null,null,null,{"$f":"IF(ISERROR(VLOOKUP(CONCATENATE($N$39,\"_\",M50),選手名簿!$A:$E,5,FALSE))=TRUE,\"\",VLOOKUP(CONCATENATE($N$39,\"_\",M50),選手名簿!$A:$E,5,FALSE))","v":""},null,null,null,null,null,"得点者",{"$f":"IF(ISERROR(VLOOKUP(CONCATENATE($U$39,\"_\",V50),選手名簿!$A:$E,5,FALSE))=TRUE,\"\",VLOOKUP(CONCATENATE($U$39,\"_\",V50),選手名簿!$A:$E,5,FALSE))","v":""},null,null,null,null,null,null,null,{"$f":"IF(ISERROR(VLOOKUP(CONCATENATE($AC$39,\"_\",AB50),選手名簿!$A:$E,5,FALSE))=TRUE,\"\",VLOOKUP(CONCATENATE($AC$39,\"_\",AB50),選手名簿!$A:$E,5,FALSE))","v":""}]
[null,null,null,null,"得点者",{"$f":"IF(ISERROR(VLOOKUP(CONCATENATE($F$39,\"_\",G51),選手名簿!$A:$E,5,FALSE))=TRUE,\"\",VLOOKUP(CONCATENATE($F$39,\"_\",G51),選手名簿!$A:$E,5,FALSE))","v":""},null,null,null,null,null,null,null,{"$f":"IF(ISERROR(VLOOKUP(CONCATENATE($N$39,\"_\",M51),選手名簿!$A:$E,5,FALSE))=TRUE,\"\",VLOOKUP(CONCATENATE($N$39,\"_\",M51),選手名簿!$A:$E,5,FALSE))","v":""},null,null,null,null,null,"得点者",{"$f":"IF(ISERROR(VLOOKUP(CONCATENATE($U$39,\"_\",V51),選手名簿!$A:$E,5,FALSE))=TRUE,\"\",VLOOKUP(CONCATENATE($U$39,\"_\",V51),選手名簿!$A:$E,5,FALSE))","v":""},null,null,null,null,null,null,null,{"$f":"IF(ISERROR(VLOOKUP(CONCATENATE($AC$39,\"_\",AB51),選手名簿!$A:$E,5,FALSE))=TRUE,\"\",VLOOKUP(CONCATENATE($AC$39,\"_\",AB51),選手名簿!$A:$E,5,FALSE))","v":""}]
[null,null,null,null,"得点者",{"$f":"IF(ISERROR(VLOOKUP(CONCATENATE($F$39,\"_\",G52),選手名簿!$A:$E,5,FALSE))=TRUE,\"\",VLOOKUP(CONCATENATE($F$39,\"_\",G52),選手名簿!$A:$E,5,FALSE))","v":""},null,null,null,null,null,null,null,{"$f":"IF(ISERROR(VLOOKUP(CONCATENATE($N$39,\"_\",M52),選手名簿!$A:$E,5,FALSE))=TRUE,\"\",VLOOKUP(CONCATENATE($N$39,\"_\",M52),選手名簿!$A:$E,5,FALSE))","v":""},null,null,null,null,null,"得点者",{"$f":"IF(ISERROR(VLOOKUP(CONCATENATE($U$39,\"_\",V52),選手名簿!$A:$E,5,FALSE))=TRUE,\"\",VLOOKUP(CONCATENATE($U$39,\"_\",V52),選手名簿!$A:$E,5,FALSE))","v":""},null,null,null,null,null,null,null,{"$f":"IF(ISERROR(VLOOKUP(CONCATENATE($AC$39,\"_\",AB52),選手名簿!$A:$E,5,FALSE))=TRUE,\"\",VLOOKUP(CONCATENATE($AC$39,\"_\",AB52),選手名簿!$A:$E,5,FALSE))","v":""}]
["番号","R009460551",null,null,"警告/退場",{"$f":"IF(ISERROR(VLOOKUP(CONCATENATE($F$39,\"_\",G53),選手名簿!$A:$E,5,FALSE))=TRUE,\"\",VLOOKUP(CONCATENATE($F$39,\"_\",G53),選手名簿!$A:$E,5,FALSE))","v":""},null,null,null,null,null,null,null,{"$f":"IF(ISERROR(VLOOKUP(CONCATENATE($N$39,\"_\",M53),選手名簿!$A:$E,5,FALSE))=TRUE,\"\",VLOOKUP(CONCATENATE($N$39,\"_\",M53),選手名簿!$A:$E,5,FALSE))","v":""},null,"番号","R010120117",null,null,"警告/退場",{"$f":"IF(ISERROR(VLOOKUP(CONCATENATE($U$39,\"_\",V53),選手名簿!$A:$E,5,FALSE))=TRUE,\"\",VLOOKUP(CONCATENATE($U$39,\"_\",V53),選手名簿!$A:$E,5,FALSE))","v":""},null,null,null,null,null,null,null,{"$f":"IF(ISERROR(VLOOKUP(CONCATENATE($AC$39,\"_\",AB53),選手名簿!$A:$E,5,FALSE))=TRUE,\"\",VLOOKUP(CONCATENATE($AC$39,\"_\",AB53),選手名簿!$A:$E,5,FALSE))","v":""}]
["R",{"$f":"IF(ISERROR(VLOOKUP(B53,審判員!$A:$C,2,FALSE))=TRUE,\"\",VLOOKUP(B53,審判員!$A:$C,2,FALSE))","v":"佐藤　慎二"},null,{"$f":"IF(ISERROR(VLOOKUP(B53,審判員!$A:$C,3,FALSE))=TRUE,\"\",VLOOKUP(B53,審判員!$A:$C,3,FALSE))","v":"３級"},"警告/退場",{"$f":"IF(ISERROR(VLOOKUP(CONCATENATE($F$39,\"_\",G54),選手名簿!$A:$E,5,FALSE))=TRUE,\"\",VLOOKUP(CONCATENATE($F$39,\"_\",G54),選手名簿!$A:$E,5,FALSE))","v":""},null,null,null,null,null,null,null,{"$f":"IF(ISERROR(VLOOKUP(CONCATENATE($N$39,\"_\",M54),選手名簿!$A:$E,5,FALSE))=TRUE,\"\",VLOOKUP(CONCATENATE($N$39,\"_\",M54),選手名簿!$A:$E,5,FALSE))","v":""},null,"R",{"$f":"IF(ISERROR(VLOOKUP(Q53,審判員!$A:$C,2,FALSE))=TRUE,\"\",VLOOKUP(Q53,審判員!$A:$C,2,FALSE))","v":"寺次　良生"},null,{"$f":"IF(ISERROR(VLOOKUP(Q53,審判員!$A:$C,3,FALSE))=TRUE,\"\",VLOOKUP(Q53,審判員!$A:$C,3,FALSE))","v":"３級"},"警告/退場",{"$f":"IF(ISERROR(VLOOKUP(CONCATENATE($U$39,\"_\",V54),選手名簿!$A:$E,5,FALSE))=TRUE,\"\",VLOOKUP(CONCATENATE($U$39,\"_\",V54),選手名簿!$A:$E,5,FALSE))","v":""},null,null,null,null,null,null,null,{"$f":"IF(ISERROR(VLOOKUP(CONCATENATE($AC$39,\"_\",AB54),選手名簿!$A:$E,5,FALSE))=TRUE,\"\",VLOOKUP(CONCATENATE($AC$39,\"_\",AB54),選手名簿!$A:$E,5,FALSE))","v":""}]
["番号","R001263721",null,null,"警告/退場",{"$f":"IF(ISERROR(VLOOKUP(CONCATENATE($F$39,\"_\",G55),選手名簿!$A:$E,5,FALSE))=TRUE,\"\",VLOOKUP(CONCATENATE($F$39,\"_\",G55),選手名簿!$A:$E,5,FALSE))","v":""},null,null,null,null,null,null,null,{"$f":"IF(ISERROR(VLOOKUP(CONCATENATE($N$39,\"_\",M55),選手名簿!$A:$E,5,FALSE))=TRUE,\"\",VLOOKUP(CONCATENATE($N$39,\"_\",M55),選手名簿!$A:$E,5,FALSE))","v":""},null,"番号","R007075261",null,null,"警告/退場",{"$f":"IF(ISERROR(VLOOKUP(CONCATENATE($U$39,\"_\",V55),選手名簿!$A:$E,5,FALSE))=TRUE,\"\",VLOOKUP(CONCATENATE($U$39,\"_\",V55),選手名簿!$A:$E,5,FALSE))","v":""},null,null,null,null,null,null,null,{"$f":"IF(ISERROR(VLOOKUP(CONCATENATE($AC$39,\"_\",AB55),選手名簿!$A:$E,5,FALSE))=TRUE,\"\",VLOOKUP(CONCATENATE($AC$39,\"_\",AB55),選手名簿!$A:$E,5,FALSE))","v":""}]
["AR1:",{"$f":"IF(ISERROR(VLOOKUP(B55,審判員!$A:$C,2,FALSE))=TRUE,\"\",VLOOKUP(B55,審判員!$A:$C,2,FALSE))","v":"園　貴司"},null,{"$f":"IF(ISERROR(VLOOKUP(B55,審判員!$A:$C,3,FALSE))=TRUE,\"\",VLOOKUP(B55,審判員!$A:$C,3,FALSE))","v":"３級"},"警告/退場",{"$f":"IF(ISERROR(VLOOKUP(CONCATENATE($F$39,\"_\",G56),選手名簿!$A:$E,5,FALSE))=TRUE,\"\",VLOOKUP(CONCATENATE($F$39,\"_\",G56),選手名簿!$A:$E,5,FALSE))","v":""},null,null,null,null,null,null,null,{"$f":"IF(ISERROR(VLOOKUP(CONCATENATE($N$39,\"_\",M56),選手名簿!$A:$E,5,FALSE))=TRUE,\"\",VLOOKUP(CONCATENATE($N$39,\"_\",M56),選手名簿!$A:$E,5,FALSE))","v":""},null,"AR1:",{"$f":"IF(ISERROR(VLOOKUP(Q55,審判員!$A:$C,2,FALSE))=TRUE,\"\",VLOOKUP(Q55,審判員!$A:$C,2,FALSE))","v":"小川　翔太"},null,{"$f":"IF(ISERROR(VLOOKUP(Q55,審判員!$A:$C,3,FALSE))=TRUE,\"\",VLOOKUP(Q55,審判員!$A:$C,3,FALSE))","v":"３級"},"警告/退場",{"$f":"IF(ISERROR(VLOOKUP(CONCATENATE($U$39,\"_\",V56),選手名簿!$A:$E,5,FALSE))=TRUE,\"\",VLOOKUP(CONCATENATE($U$39,\"_\",V56),選手名簿!$A:$E,5,FALSE))","v":""},null,null,null,null,null,null,null,{"$f":"IF(ISERROR(VLOOKUP(CONCATENATE($AC$39,\"_\",AB56),選手名簿!$A:$E,5,FALSE))=TRUE,\"\",VLOOKUP(CONCATENATE($AC$39,\"_\",AB56),選手名簿!$A:$E,5,FALSE))","v":""}]
["番号","R010214556",null,null,"警告/退場",{"$f":"IF(ISERROR(VLOOKUP(CONCATENATE($F$39,\"_\",G57),選手名簿!$A:$E,5,FALSE))=TRUE,\"\",VLOOKUP(CONCATENATE($F$39,\"_\",G57),選手名簿!$A:$E,5,FALSE))","v":""},null,null,null,null,null,null,null,{"$f":"IF(ISERROR(VLOOKUP(CONCATENATE($N$39,\"_\",M57),選手名簿!$A:$E,5,FALSE))=TRUE,\"\",VLOOKUP(CONCATENATE($N$39,\"_\",M57),選手名簿!$A:$E,5,FALSE))","v":""},null,"番号","R004385495",null,null,"警告/退場",{"$f":"IF(ISERROR(VLOOKUP(CONCATENATE($U$39,\"_\",V57),選手名簿!$A:$E,5,FALSE))=TRUE,\"\",VLOOKUP(CONCATENATE($U$39,\"_\",V57),選手名簿!$A:$E,5,FALSE))","v":""},null,null,null,null,null,null,null,{"$f":"IF(ISERROR(VLOOKUP(CONCATENATE($AC$39,\"_\",AB57),選手名簿!$A:$E,5,FALSE))=TRUE,\"\",VLOOKUP(CONCATENATE($AC$39,\"_\",AB57),選手名簿!$A:$E,5,FALSE))","v":""}]
["AR2:",{"$f":"IF(ISERROR(VLOOKUP(B57,審判員!$A:$C,2,FALSE))=TRUE,\"\",VLOOKUP(B57,審判員!$A:$C,2,FALSE))","v":"野中　裕介"},null,{"$f":"IF(ISERROR(VLOOKUP(B57,審判員!$A:$C,3,FALSE))=TRUE,\"\",VLOOKUP(B57,審判員!$A:$C,3,FALSE))","v":"３級"},"警告/退場",{"$f":"IF(ISERROR(VLOOKUP(CONCATENATE($F$39,\"_\",G58),選手名簿!$A:$E,5,FALSE))=TRUE,\"\",VLOOKUP(CONCATENATE($F$39,\"_\",G58),選手名簿!$A:$E,5,FALSE))","v":""},null,null,null,null,null,null,null,{"$f":"IF(ISERROR(VLOOKUP(CONCATENATE($N$39,\"_\",M58),選手名簿!$A:$E,5,FALSE))=TRUE,\"\",VLOOKUP(CONCATENATE($N$39,\"_\",M58),選手名簿!$A:$E,5,FALSE))","v":""},null,"AR2:",{"$f":"IF(ISERROR(VLOOKUP(Q57,審判員!$A:$C,2,FALSE))=TRUE,\"\",VLOOKUP(Q57,審判員!$A:$C,2,FALSE))","v":"宮﨑　隆史"},null,{"$f":"IF(ISERROR(VLOOKUP(Q57,審判員!$A:$C,3,FALSE))=TRUE,\"\",VLOOKUP(Q57,審判員!$A:$C,3,FALSE))","v":"３級"},"警告/退場",{"$f":"IF(ISERROR(VLOOKUP(CONCATENATE($U$39,\"_\",V58),選手名簿!$A:$E,5,FALSE))=TRUE,\"\",VLOOKUP(CONCATENATE($U$39,\"_\",V58),選手名簿!$A:$E,5,FALSE))","v":""},null,null,null,null,null,null,null,{"$f":"IF(ISERROR(VLOOKUP(CONCATENATE($AC$39,\"_\",AB58),選手名簿!$A:$E,5,FALSE))=TRUE,\"\",VLOOKUP(CONCATENATE($AC$39,\"_\",AB58),選手名簿!$A:$E,5,FALSE))","v":""}]
["番号","R010120117",null,null,"警告/退場",{"$f":"IF(ISERROR(VLOOKUP(CONCATENATE($F$39,\"_\",G59),選手名簿!$A:$E,5,FALSE))=TRUE,\"\",VLOOKUP(CONCATENATE($F$39,\"_\",G59),選手名簿!$A:$E,5,FALSE))","v":""},null,null,null,null,null,null,null,{"$f":"IF(ISERROR(VLOOKUP(CONCATENATE($N$39,\"_\",M59),選手名簿!$A:$E,5,FALSE))=TRUE,\"\",VLOOKUP(CONCATENATE($N$39,\"_\",M59),選手名簿!$A:$E,5,FALSE))","v":""},null,"番号","R010093494",null,null,"警告/退場",{"$f":"IF(ISERROR(VLOOKUP(CONCATENATE($U$39,\"_\",V59),選手名簿!$A:$E,5,FALSE))=TRUE,\"\",VLOOKUP(CONCATENATE($U$39,\"_\",V59),選手名簿!$A:$E,5,FALSE))","v":""},null,null,null,null,null,null,null,{"$f":"IF(ISERROR(VLOOKUP(CONCATENATE($AC$39,\"_\",AB59),選手名簿!$A:$E,5,FALSE))=TRUE,\"\",VLOOKUP(CONCATENATE($AC$39,\"_\",AB59),選手名簿!$A:$E,5,FALSE))","v":""}]
["4th:",{"$f":"IF(ISERROR(VLOOKUP(B59,審判員!$A:$C,2,FALSE))=TRUE,\"\",VLOOKUP(B59,審判員!$A:$C,2,FALSE))","v":"寺次　良生"},null,{"$f":"IF(ISERROR(VLOOKUP(B59,審判員!$A:$C,3,FALSE))=TRUE,\"\",VLOOKUP(B59,審判員!$A:$C,3,FALSE))","v":"３級"},"警告/退場",{"$f":"IF(ISERROR(VLOOKUP(CONCATENATE($F$39,\"_\",G60),選手名簿!$A:$E,5,FALSE))=TRUE,\"\",VLOOKUP(CONCATENATE($F$39,\"_\",G60),選手名簿!$A:$E,5,FALSE))","v":""},null,null,null,null,null,null,null,{"$f":"IF(ISERROR(VLOOKUP(CONCATENATE($N$39,\"_\",M60),選手名簿!$A:$E,5,FALSE))=TRUE,\"\",VLOOKUP(CONCATENATE($N$39,\"_\",M60),選手名簿!$A:$E,5,FALSE))","v":""},null,"4th:",{"$f":"IF(ISERROR(VLOOKUP(Q59,審判員!$A:$C,2,FALSE))=TRUE,\"\",VLOOKUP(Q59,審判員!$A:$C,2,FALSE))","v":"大本　敏行"},null,{"$f":"IF(ISERROR(VLOOKUP(Q59,審判員!$A:$C,3,FALSE))=TRUE,\"\",VLOOKUP(Q59,審判員!$A:$C,3,FALSE))","v":"３級"},"警告/退場",{"$f":"IF(ISERROR(VLOOKUP(CONCATENATE($U$39,\"_\",V60),選手名簿!$A:$E,5,FALSE))=TRUE,\"\",VLOOKUP(CONCATENATE($U$39,\"_\",V60),選手名簿!$A:$E,5,FALSE))","v":""},null,null,null,null,null,null,null,{"$f":"IF(ISERROR(VLOOKUP(CONCATENATE($AC$39,\"_\",AB60),選手名簿!$A:$E,5,FALSE))=TRUE,\"\",VLOOKUP(CONCATENATE($AC$39,\"_\",AB60),選手名簿!$A:$E,5,FALSE))","v":""}]
[]
[]
[]
[]
[]
[]
[]
["MC","松下　省吾",null,null,"14:30:00",{"$f":"F7","v":"鶴居ＳＳＳ"},{"$f":"SUM(I68:I69)","v":2},"（",0,"前半",1,"）",{"$f":"SUM(K68:K69)","v":1},{"$f":"F5","v":"四日市南ＳＳＣ"},null,"MC","佐々木　秀樹",null,null,"15:30:00",{"$f":"U7","v":"朝日ＦＣ"},{"$f":"SUM(X68:X69)","v":1},"（",0,"前半",3,"）",{"$f":"SUM(Z68:Z69)","v":4},{"$f":"U5","v":"ＦＣ中津ジュニア"}]
["Welfare\nOfficer","-",null,null,null,null,null,null,2,"後半",0,null,null,null,null,"Welfare\nOfficer","-",null,null,null,null,null,null,1,"後半",1]
["記録","安東　信二",null,null,null,null,null,null,null,"PK",null,null,null,null,null,"記録","松下　省吾",null,null,null,null,null,null,null,"PK"]
["＜Referee＞",null,null,null,null,"氏名","番号","分",null,null,null,"分","番号","氏名",null,"＜Referee＞",null,null,null,null,"氏名","番号","分",null,null,null,"分","番号","氏名"]
[null,null,null,null,"得点者",{"$f":"IF(ISERROR(VLOOKUP(CONCATENATE($F$68,\"_\",G72),選手名簿!$A:$E,5,FALSE))=TRUE,\"\",VLOOKUP(CONCATENATE($F$68,\"_\",G72),選手名簿!$A:$E,5,FALSE))","v":""},null,null,null,null,null,null,null,{"$f":"IF(ISERROR(VLOOKUP(CONCATENATE($N$68,\"_\",M72),選手名簿!$A:$E,5,FALSE))=TRUE,\"\",VLOOKUP(CONCATENATE($N$68,\"_\",M72),選手名簿!$A:$E,5,FALSE))","v":""},null,null,null,null,null,"得点者",{"$f":"IF(ISERROR(VLOOKUP(CONCATENATE($U$68,\"_\",V72),選手名簿!$A:$E,5,FALSE))=TRUE,\"\",VLOOKUP(CONCATENATE($U$68,\"_\",V72),選手名簿!$A:$E,5,FALSE))","v":""},null,null,null,null,null,null,null,{"$f":"IF(ISERROR(VLOOKUP(CONCATENATE($AC$68,\"_\",AB72),選手名簿!$A:$E,5,FALSE))=TRUE,\"\",VLOOKUP(CONCATENATE($AC$68,\"_\",AB72),選手名簿!$A:$E,5,FALSE))","v":""}]
[null,null,null,null,"得点者",{"$f":"IF(ISERROR(VLOOKUP(CONCATENATE($F$68,\"_\",G73),選手名簿!$A:$E,5,FALSE))=TRUE,\"\",VLOOKUP(CONCATENATE($F$68,\"_\",G73),選手名簿!$A:$E,5,FALSE))","v":""},null,null,null,null,null,null,null,{"$f":"IF(ISERROR(VLOOKUP(CONCATENATE($N$68,\"_\",M73),選手名簿!$A:$E,5,FALSE))=TRUE,\"\",VLOOKUP(CONCATENATE($N$68,\"_\",M73),選手名簿!$A:$E,5,FALSE))","v":""},null,null,null,null,null,"得点者",{"$f":"IF(ISERROR(VLOOKUP(CONCATENATE($U$68,\"_\",V73),選手名簿!$A:$E,5,FALSE))=TRUE,\"\",VLOOKUP(CONCATENATE($U$68,\"_\",V73),選手名簿!$A:$E,5,FALSE))","v":""},null,null,null,null,null,null,null,{"$f":"IF(ISERROR(VLOOKUP(CONCATENATE($AC$68,\"_\",AB73),選手名簿!$A:$E,5,FALSE))=TRUE,\"\",VLOOKUP(CONCATENATE($AC$68,\"_\",AB73),選手名簿!$A:$E,5,FALSE))","v":""}]
[null,null,null,null,"得点者",{"$f":"IF(ISERROR(VLOOKUP(CONCATENATE($F$68,\"_\",G74),選手名簿!$A:$E,5,FALSE))=TRUE,\"\",VLOOKUP(CONCATENATE($F$68,\"_\",G74),選手名簿!$A:$E,5,FALSE))","v":""},null,null,null,null,null,null,null,{"$f":"IF(ISERROR(VLOOKUP(CONCATENATE($N$68,\"_\",M74),選手名簿!$A:$E,5,FALSE))=TRUE,\"\",VLOOKUP(CONCATENATE($N$68,\"_\",M74),選手名簿!$A:$E,5,FALSE))","v":""},null,null,null,null,null,"得点者",{"$f":"IF(ISERROR(VLOOKUP(CONCATENATE($U$68,\"_\",V74),選手名簿!$A:$E,5,FALSE))=TRUE,\"\",VLOOKUP(CONCATENATE($U$68,\"_\",V74),選手名簿!$A:$E,5,FALSE))","v":""},null,null,null,null,null,null,null,{"$f":"IF(ISERROR(VLOOKUP(CONCATENATE($AC$68,\"_\",AB74),選手名簿!$A:$E,5,FALSE))=TRUE,\"\",VLOOKUP(CONCATENATE($AC$68,\"_\",AB74),選手名簿!$A:$E,5,FALSE))","v":""}]
[null,null,null,null,"得点者",{"$f":"IF(ISERROR(VLOOKUP(CONCATENATE($F$68,\"_\",G75),選手名簿!$A:$E,5,FALSE))=TRUE,\"\",VLOOKUP(CONCATENATE($F$68,\"_\",G75),選手名簿!$A:$E,5,FALSE))","v":""},null,null,null,null,null,null,null,{"$f":"IF(ISERROR(VLOOKUP(CONCATENATE($N$68,\"_\",M75),選手名簿!$A:$E,5,FALSE))=TRUE,\"\",VLOOKUP(CONCATENATE($N$68,\"_\",M75),選手名簿!$A:$E,5,FALSE))","v":""},null,null,null,null,null,"得点者",{"$f":"IF(ISERROR(VLOOKUP(CONCATENATE($U$68,\"_\",V75),選手名簿!$A:$E,5,FALSE))=TRUE,\"\",VLOOKUP(CONCATENATE($U$68,\"_\",V75),選手名簿!$A:$E,5,FALSE))","v":""},null,null,null,null,null,null,null,{"$f":"IF(ISERROR(VLOOKUP(CONCATENATE($AC$68,\"_\",AB75),選手名簿!$A:$E,5,FALSE))=TRUE,\"\",VLOOKUP(CONCATENATE($AC$68,\"_\",AB75),選手名簿!$A:$E,5,FALSE))","v":""}]
[null,null,null,null,"得点者",{"$f":"IF(ISERROR(VLOOKUP(CONCATENATE($F$68,\"_\",G76),選手名簿!$A:$E,5,FALSE))=TRUE,\"\",VLOOKUP(CONCATENATE($F$68,\"_\",G76),選手名簿!$A:$E,5,FALSE))","v":""},null,null,null,null,null,null,null,{"$f":"IF(ISERROR(VLOOKUP(CONCATENATE($N$68,\"_\",M76),選手名簿!$A:$E,5,FALSE))=TRUE,\"\",VLOOKUP(CONCATENATE($N$68,\"_\",M76),選手名簿!$A:$E,5,FALSE))","v":""},null,null,null,null,null,"得点者",{"$f":"IF(ISERROR(VLOOKUP(CONCATENATE($U$68,\"_\",V76),選手名簿!$A:$E,5,FALSE))=TRUE,\"\",VLOOKUP(CONCATENATE($U$68,\"_\",V76),選手名簿!$A:$E,5,FALSE))","v":""},null,null,null,null,null,null,null,{"$f":"IF(ISERROR(VLOOKUP(CONCATENATE($AC$68,\"_\",AB76),選手名簿!$A:$E,5,FALSE))=TRUE,\"\",VLOOKUP(CONCATENATE($AC$68,\"_\",AB76),選手名簿!$A:$E,5,FALSE))","v":""}]
[null,null,null,null,"得点者",{"$f":"IF(ISERROR(VLOOKUP(CONCATENATE($F$68,\"_\",G77),選手名簿!$A:$E,5,FALSE))=TRUE,\"\",VLOOKUP(CONCATENATE($F$68,\"_\",G77),選手名簿!$A:$E,5,FALSE))","v":""},null,null,null,null,null,null,null,{"$f":"IF(ISERROR(VLOOKUP(CONCATENATE($N$68,\"_\",M77),選手名簿!$A:$E,5,FALSE))=TRUE,\"\",VLOOKUP(CONCATENATE($N$68,\"_\",M77),選手名簿!$A:$E,5,FALSE))","v":""},null,null,null,null,null,"得点者",{"$f":"IF(ISERROR(VLOOKUP(CONCATENATE($U$68,\"_\",V77),選手名簿!$A:$E,5,FALSE))=TRUE,\"\",VLOOKUP(CONCATENATE($U$68,\"_\",V77),選手名簿!$A:$E,5,FALSE))","v":""},null,null,null,null,null,null,null,{"$f":"IF(ISERROR(VLOOKUP(CONCATENATE($AC$68,\"_\",AB77),選手名簿!$A:$E,5,FALSE))=TRUE,\"\",VLOOKUP(CONCATENATE($AC$68,\"_\",AB77),選手名簿!$A:$E,5,FALSE))","v":""}]
[null,null,null,null,"得点者",{"$f":"IF(ISERROR(VLOOKUP(CONCATENATE($F$68,\"_\",G78),選手名簿!$A:$E,5,FALSE))=TRUE,\"\",VLOOKUP(CONCATENATE($F$68,\"_\",G78),選手名簿!$A:$E,5,FALSE))","v":""},null,null,null,null,null,null,null,{"$f":"IF(ISERROR(VLOOKUP(CONCATENATE($N$68,\"_\",M78),選手名簿!$A:$E,5,FALSE))=TRUE,\"\",VLOOKUP(CONCATENATE($N$68,\"_\",M78),選手名簿!$A:$E,5,FALSE))","v":""},null,null,null,null,null,"得点者",{"$f":"IF(ISERROR(VLOOKUP(CONCATENATE($U$68,\"_\",V78),選手名簿!$A:$E,5,FALSE))=TRUE,\"\",VLOOKUP(CONCATENATE($U$68,\"_\",V78),選手名簿!$A:$E,5,FALSE))","v":""},null,null,null,null,null,null,null,{"$f":"IF(ISERROR(VLOOKUP(CONCATENATE($AC$68,\"_\",AB78),選手名簿!$A:$E,5,FALSE))=TRUE,\"\",VLOOKUP(CONCATENATE($AC$68,\"_\",AB78),選手名簿!$A:$E,5,FALSE))","v":""}]
[null,null,null,null,"得点者",{"$f":"IF(ISERROR(VLOOKUP(CONCATENATE($F$68,\"_\",G79),選手名簿!$A:$E,5,FALSE))=TRUE,\"\",VLOOKUP(CONCATENATE($F$68,\"_\",G79),選手名簿!$A:$E,5,FALSE))","v":""},null,null,null,null,null,null,null,{"$f":"IF(ISERROR(VLOOKUP(CONCATENATE($N$68,\"_\",M79),選手名簿!$A:$E,5,FALSE))=TRUE,\"\",VLOOKUP(CONCATENATE($N$68,\"_\",M79),選手名簿!$A:$E,5,FALSE))","v":""},null,null,null,null,null,"得点者",{"$f":"IF(ISERROR(VLOOKUP(CONCATENATE($U$68,\"_\",V79),選手名簿!$A:$E,5,FALSE))=TRUE,\"\",VLOOKUP(CONCATENATE($U$68,\"_\",V79),選手名簿!$A:$E,5,FALSE))","v":""},null,null,null,null,null,null,null,{"$f":"IF(ISERROR(VLOOKUP(CONCATENATE($AC$68,\"_\",AB79),選手名簿!$A:$E,5,FALSE))=TRUE,\"\",VLOOKUP(CONCATENATE($AC$68,\"_\",AB79),選手名簿!$A:$E,5,FALSE))","v":""}]
[null,null,null,null,"得点者",{"$f":"IF(ISERROR(VLOOKUP(CONCATENATE($F$68,\"_\",G80),選手名簿!$A:$E,5,FALSE))=TRUE,\"\",VLOOKUP(CONCATENATE($F$68,\"_\",G80),選手名簿!$A:$E,5,FALSE))","v":""},null,null,null,null,null,null,null,{"$f":"IF(ISERROR(VLOOKUP(CONCATENATE($N$68,\"_\",M80),選手名簿!$A:$E,5,FALSE))=TRUE,\"\",VLOOKUP(CONCATENATE($N$68,\"_\",M80),選手名簿!$A:$E,5,FALSE))","v":""},null,null,null,null,null,"得点者",{"$f":"IF(ISERROR(VLOOKUP(CONCATENATE($U$68,\"_\",V80),選手名簿!$A:$E,5,FALSE))=TRUE,\"\",VLOOKUP(CONCATENATE($U$68,\"_\",V80),選手名簿!$A:$E,5,FALSE))","v":""},null,null,null,null,null,null,null,{"$f":"IF(ISERROR(VLOOKUP(CONCATENATE($AC$68,\"_\",AB80),選手名簿!$A:$E,5,FALSE))=TRUE,\"\",VLOOKUP(CONCATENATE($AC$68,\"_\",AB80),選手名簿!$A:$E,5,FALSE))","v":""}]
[null,null,null,null,"得点者",{"$f":"IF(ISERROR(VLOOKUP(CONCATENATE($F$68,\"_\",G81),選手名簿!$A:$E,5,FALSE))=TRUE,\"\",VLOOKUP(CONCATENATE($F$68,\"_\",G81),選手名簿!$A:$E,5,FALSE))","v":""},null,null,null,null,null,null,null,{"$f":"IF(ISERROR(VLOOKUP(CONCATENATE($N$68,\"_\",M81),選手名簿!$A:$E,5,FALSE))=TRUE,\"\",VLOOKUP(CONCATENATE($N$68,\"_\",M81),選手名簿!$A:$E,5,FALSE))","v":""},null,null,null,null,null,"得点者",{"$f":"IF(ISERROR(VLOOKUP(CONCATENATE($U$68,\"_\",V81),選手名簿!$A:$E,5,FALSE))=TRUE,\"\",VLOOKUP(CONCATENATE($U$68,\"_\",V81),選手名簿!$A:$E,5,FALSE))","v":""},null,null,null,null,null,null,null,{"$f":"IF(ISERROR(VLOOKUP(CONCATENATE($AC$68,\"_\",AB81),選手名簿!$A:$E,5,FALSE))=TRUE,\"\",VLOOKUP(CONCATENATE($AC$68,\"_\",AB81),選手名簿!$A:$E,5,FALSE))","v":""}]
["番号","R010093494",null,null,"警告/退場",{"$f":"IF(ISERROR(VLOOKUP(CONCATENATE($F$68,\"_\",G82),選手名簿!$A:$E,5,FALSE))=TRUE,\"\",VLOOKUP(CONCATENATE($F$68,\"_\",G82),選手名簿!$A:$E,5,FALSE))","v":""},null,null,null,null,null,null,null,{"$f":"IF(ISERROR(VLOOKUP(CONCATENATE($N$68,\"_\",M82),選手名簿!$A:$E,5,FALSE))=TRUE,\"\",VLOOKUP(CONCATENATE($N$68,\"_\",M82),選手名簿!$A:$E,5,FALSE))","v":""},null,"番号","R009460551",null,null,"警告/退場",{"$f":"IF(ISERROR(VLOOKUP(CONCATENATE($U$68,\"_\",V82),選手名簿!$A:$E,5,FALSE))=TRUE,\"\",VLOOKUP(CONCATENATE($U$68,\"_\",V82),選手名簿!$A:$E,5,FALSE))","v":""},null,null,null,null,null,null,null,{"$f":"IF(ISERROR(VLOOKUP(CONCATENATE($AC$68,\"_\",AB82),選手名簿!$A:$E,5,FALSE))=TRUE,\"\",VLOOKUP(CONCATENATE($AC$68,\"_\",AB82),選手名簿!$A:$E,5,FALSE))","v":""}]
["R",{"$f":"IF(ISERROR(VLOOKUP(B82,審判員!$A:$C,2,FALSE))=TRUE,\"\",VLOOKUP(B82,審判員!$A:$C,2,FALSE))","v":"大本　敏行"},null,{"$f":"IF(ISERROR(VLOOKUP(B82,審判員!$A:$C,3,FALSE))=TRUE,\"\",VLOOKUP(B82,審判員!$A:$C,3,FALSE))","v":"３級"},"警告/退場",{"$f":"IF(ISERROR(VLOOKUP(CONCATENATE($F$68,\"_\",G83),選手名簿!$A:$E,5,FALSE))=TRUE,\"\",VLOOKUP(CONCATENATE($F$68,\"_\",G83),選手名簿!$A:$E,5,FALSE))","v":""},null,null,null,null,null,null,null,{"$f":"IF(ISERROR(VLOOKUP(CONCATENATE($N$68,\"_\",M83),選手名簿!$A:$E,5,FALSE))=TRUE,\"\",VLOOKUP(CONCATENATE($N$68,\"_\",M83),選手名簿!$A:$E,5,FALSE))","v":""},null,"R",{"$f":"IF(ISERROR(VLOOKUP(Q82,審判員!$A:$C,2,FALSE))=TRUE,\"\",VLOOKUP(Q82,審判員!$A:$C,2,FALSE))","v":"佐藤　慎二"},null,{"$f":"IF(ISERROR(VLOOKUP(Q82,審判員!$A:$C,3,FALSE))=TRUE,\"\",VLOOKUP(Q82,審判員!$A:$C,3,FALSE))","v":"３級"},"警告/退場",{"$f":"IF(ISERROR(VLOOKUP(CONCATENATE($U$68,\"_\",V83),選手名簿!$A:$E,5,FALSE))=TRUE,\"\",VLOOKUP(CONCATENATE($U$68,\"_\",V83),選手名簿!$A:$E,5,FALSE))","v":""},null,null,null,null,null,null,null,{"$f":"IF(ISERROR(VLOOKUP(CONCATENATE($AC$68,\"_\",AB83),選手名簿!$A:$E,5,FALSE))=TRUE,\"\",VLOOKUP(CONCATENATE($AC$68,\"_\",AB83),選手名簿!$A:$E,5,FALSE))","v":""}]
["番号","R010214556",null,null,"警告/退場",{"$f":"IF(ISERROR(VLOOKUP(CONCATENATE($F$68,\"_\",G84),選手名簿!$A:$E,5,FALSE))=TRUE,\"\",VLOOKUP(CONCATENATE($F$68,\"_\",G84),選手名簿!$A:$E,5,FALSE))","v":""},null,null,null,null,null,null,null,{"$f":"IF(ISERROR(VLOOKUP(CONCATENATE($N$68,\"_\",M84),選手名簿!$A:$E,5,FALSE))=TRUE,\"\",VLOOKUP(CONCATENATE($N$68,\"_\",M84),選手名簿!$A:$E,5,FALSE))","v":""},null,"番号","R004385495",null,null,"警告/退場",{"$f":"IF(ISERROR(VLOOKUP(CONCATENATE($U$68,\"_\",V84),選手名簿!$A:$E,5,FALSE))=TRUE,\"\",VLOOKUP(CONCATENATE($U$68,\"_\",V84),選手名簿!$A:$E,5,FALSE))","v":""},null,null,null,null,null,null,null,{"$f":"IF(ISERROR(VLOOKUP(CONCATENATE($AC$68,\"_\",AB84),選手名簿!$A:$E,5,FALSE))=TRUE,\"\",VLOOKUP(CONCATENATE($AC$68,\"_\",AB84),選手名簿!$A:$E,5,FALSE))","v":""}]
["AR1:",{"$f":"IF(ISERROR(VLOOKUP(B84,審判員!$A:$C,2,FALSE))=TRUE,\"\",VLOOKUP(B84,審判員!$A:$C,2,FALSE))","v":"野中　裕介"},null,{"$f":"IF(ISERROR(VLOOKUP(B84,審判員!$A:$C,3,FALSE))=TRUE,\"\",VLOOKUP(B84,審判員!$A:$C,3,FALSE))","v":"３級"},"警告/退場",{"$f":"IF(ISERROR(VLOOKUP(CONCATENATE($F$68,\"_\",G85),選手名簿!$A:$E,5,FALSE))=TRUE,\"\",VLOOKUP(CONCATENATE($F$68,\"_\",G85),選手名簿!$A:$E,5,FALSE))","v":""},null,null,null,null,null,null,null,{"$f":"IF(ISERROR(VLOOKUP(CONCATENATE($N$68,\"_\",M85),選手名簿!$A:$E,5,FALSE))=TRUE,\"\",VLOOKUP(CONCATENATE($N$68,\"_\",M85),選手名簿!$A:$E,5,FALSE))","v":""},null,"AR1:",{"$f":"IF(ISERROR(VLOOKUP(Q84,審判員!$A:$C,2,FALSE))=TRUE,\"\",VLOOKUP(Q84,審判員!$A:$C,2,FALSE))","v":"宮﨑　隆史"},null,{"$f":"IF(ISERROR(VLOOKUP(Q84,審判員!$A:$C,3,FALSE))=TRUE,\"\",VLOOKUP(Q84,審判員!$A:$C,3,FALSE))","v":"３級"},"警告/退場",{"$f":"IF(ISERROR(VLOOKUP(CONCATENATE($U$68,\"_\",V85),選手名簿!$A:$E,5,FALSE))=TRUE,\"\",VLOOKUP(CONCATENATE($U$68,\"_\",V85),選手名簿!$A:$E,5,FALSE))","v":""},null,null,null,null,null,null,null,{"$f":"IF(ISERROR(VLOOKUP(CONCATENATE($AC$68,\"_\",AB85),選手名簿!$A:$E,5,FALSE))=TRUE,\"\",VLOOKUP(CONCATENATE($AC$68,\"_\",AB85),選手名簿!$A:$E,5,FALSE))","v":""}]
["番号","R002531522",null,null,"警告/退場",{"$f":"IF(ISERROR(VLOOKUP(CONCATENATE($F$68,\"_\",G86),選手名簿!$A:$E,5,FALSE))=TRUE,\"\",VLOOKUP(CONCATENATE($F$68,\"_\",G86),選手名簿!$A:$E,5,FALSE))","v":""},null,null,null,null,null,null,null,{"$f":"IF(ISERROR(VLOOKUP(CONCATENATE($N$68,\"_\",M86),選手名簿!$A:$E,5,FALSE))=TRUE,\"\",VLOOKUP(CONCATENATE($N$68,\"_\",M86),選手名簿!$A:$E,5,FALSE))","v":""},null,"番号","R002996695",null,null,"警告/退場",{"$f":"IF(ISERROR(VLOOKUP(CONCATENATE($U$68,\"_\",V86),選手名簿!$A:$E,5,FALSE))=TRUE,\"\",VLOOKUP(CONCATENATE($U$68,\"_\",V86),選手名簿!$A:$E,5,FALSE))","v":""},null,null,null,null,null,null,null,{"$f":"IF(ISERROR(VLOOKUP(CONCATENATE($AC$68,\"_\",AB86),選手名簿!$A:$E,5,FALSE))=TRUE,\"\",VLOOKUP(CONCATENATE($AC$68,\"_\",AB86),選手名簿!$A:$E,5,FALSE))","v":""}]
["AR2:",{"$f":"IF(ISERROR(VLOOKUP(B86,審判員!$A:$C,2,FALSE))=TRUE,\"\",VLOOKUP(B86,審判員!$A:$C,2,FALSE))","v":"伊藤　宏充"},null,{"$f":"IF(ISERROR(VLOOKUP(B86,審判員!$A:$C,3,FALSE))=TRUE,\"\",VLOOKUP(B86,審判員!$A:$C,3,FALSE))","v":"３級"},"警告/退場",{"$f":"IF(ISERROR(VLOOKUP(CONCATENATE($F$68,\"_\",G87),選手名簿!$A:$E,5,FALSE))=TRUE,\"\",VLOOKUP(CONCATENATE($F$68,\"_\",G87),選手名簿!$A:$E,5,FALSE))","v":""},null,null,null,null,null,null,null,{"$f":"IF(ISERROR(VLOOKUP(CONCATENATE($N$68,\"_\",M87),選手名簿!$A:$E,5,FALSE))=TRUE,\"\",VLOOKUP(CONCATENATE($N$68,\"_\",M87),選手名簿!$A:$E,5,FALSE))","v":""},null,"AR2:",{"$f":"IF(ISERROR(VLOOKUP(Q86,審判員!$A:$C,2,FALSE))=TRUE,\"\",VLOOKUP(Q86,審判員!$A:$C,2,FALSE))","v":"乙部　哲也"},null,{"$f":"IF(ISERROR(VLOOKUP(Q86,審判員!$A:$C,3,FALSE))=TRUE,\"\",VLOOKUP(Q86,審判員!$A:$C,3,FALSE))","v":"３級"},"警告/退場",{"$f":"IF(ISERROR(VLOOKUP(CONCATENATE($U$68,\"_\",V87),選手名簿!$A:$E,5,FALSE))=TRUE,\"\",VLOOKUP(CONCATENATE($U$68,\"_\",V87),選手名簿!$A:$E,5,FALSE))","v":""},null,null,null,null,null,null,null,{"$f":"IF(ISERROR(VLOOKUP(CONCATENATE($AC$68,\"_\",AB87),選手名簿!$A:$E,5,FALSE))=TRUE,\"\",VLOOKUP(CONCATENATE($AC$68,\"_\",AB87),選手名簿!$A:$E,5,FALSE))","v":""}]
["番号","R009460551",null,null,"警告/退場",{"$f":"IF(ISERROR(VLOOKUP(CONCATENATE($F$68,\"_\",G88),選手名簿!$A:$E,5,FALSE))=TRUE,\"\",VLOOKUP(CONCATENATE($F$68,\"_\",G88),選手名簿!$A:$E,5,FALSE))","v":""},null,null,null,null,null,null,null,{"$f":"IF(ISERROR(VLOOKUP(CONCATENATE($N$68,\"_\",M88),選手名簿!$A:$E,5,FALSE))=TRUE,\"\",VLOOKUP(CONCATENATE($N$68,\"_\",M88),選手名簿!$A:$E,5,FALSE))","v":""},null,"番号","R010120117",null,null,"警告/退場",{"$f":"IF(ISERROR(VLOOKUP(CONCATENATE($U$68,\"_\",V88),選手名簿!$A:$E,5,FALSE))=TRUE,\"\",VLOOKUP(CONCATENATE($U$68,\"_\",V88),選手名簿!$A:$E,5,FALSE))","v":""},null,null,null,null,null,null,null,{"$f":"IF(ISERROR(VLOOKUP(CONCATENATE($AC$68,\"_\",AB88),選手名簿!$A:$E,5,FALSE))=TRUE,\"\",VLOOKUP(CONCATENATE($AC$68,\"_\",AB88),選手名簿!$A:$E,5,FALSE))","v":""}]
["4th:",{"$f":"IF(ISERROR(VLOOKUP(B88,審判員!$A:$C,2,FALSE))=TRUE,\"\",VLOOKUP(B88,審判員!$A:$C,2,FALSE))","v":"佐藤　慎二"},null,{"$f":"IF(ISERROR(VLOOKUP(B88,審判員!$A:$C,3,FALSE))=TRUE,\"\",VLOOKUP(B88,審判員!$A:$C,3,FALSE))","v":"３級"},"警告/退場",{"$f":"IF(ISERROR(VLOOKUP(CONCATENATE($F$68,\"_\",G89),選手名簿!$A:$E,5,FALSE))=TRUE,\"\",VLOOKUP(CONCATENATE($F$68,\"_\",G89),選手名簿!$A:$E,5,FALSE))","v":""},null,null,null,null,null,null,null,{"$f":"IF(ISERROR(VLOOKUP(CONCATENATE($N$68,\"_\",M89),選手名簿!$A:$E,5,FALSE))=TRUE,\"\",VLOOKUP(CONCATENATE($N$68,\"_\",M89),選手名簿!$A:$E,5,FALSE))","v":""},null,"4th:",{"$f":"IF(ISERROR(VLOOKUP(Q88,審判員!$A:$C,2,FALSE))=TRUE,\"\",VLOOKUP(Q88,審判員!$A:$C,2,FALSE))","v":"寺次　良生"},null,{"$f":"IF(ISERROR(VLOOKUP(Q88,審判員!$A:$C,3,FALSE))=TRUE,\"\",VLOOKUP(Q88,審判員!$A:$C,3,FALSE))","v":"３級"},"警告/退場",{"$f":"IF(ISERROR(VLOOKUP(CONCATENATE($U$68,\"_\",V89),選手名簿!$A:$E,5,FALSE))=TRUE,\"\",VLOOKUP(CONCATENATE($U$68,\"_\",V89),選手名簿!$A:$E,5,FALSE))","v":""},null,null,null,null,null,null,null,{"$f":"IF(ISERROR(VLOOKUP(CONCATENATE($AC$68,\"_\",AB89),選手名簿!$A:$E,5,FALSE))=TRUE,\"\",VLOOKUP(CONCATENATE($AC$68,\"_\",AB89),選手名簿!$A:$E,5,FALSE))","v":""}]

{"sheet":"予選リーグ公式記録(県協会人工芝南)","index":12,"n_rows":89,"n_cols":29,"rows_kept":89,"cut":false,"hidden":true,"merged":[[59,1,59,2],[59,16,59,17],[54,1,54,3],[54,16,54,18],[55,1,55,2],[55,16,55,17],[56,1,56,3],[56,16,56,18],[57,1,57,2],[57,16,57,17],[58,1,58,3],[58,16,58,18],[88,1,88,2],[88,16,88,17],[81,1,81,3],[81,16,81,18],[82,1,82,2],[82,16,82,17],[67,13,69,13],[67,19,69,19],[67,20,69,20],[84,1,84,2],[84,16,84,17],[85,1,85,3],[85,16,85,18],[86,1,86,2],[86,16,86,17],[87,1,87,3],[87,16,87,18],[83,1,83,3],[83,16,83,18],[70,0,70,3],[70,15,70,18],[67,1,67,3],[68,1,68,3],[69,1,69,3],[67,16,67,18],[68,16,68,18],[69,16,69,18],[67,26,69,26],[67,4,69,4],[67,5,69,5],[67,6,69,6],[67,7,69,7],[67,11,69,11],[67,12,69,12],[67,27,69,27],[67,28,69,28],[67,22,69,22],[67,21,69,21],[38,27,40,27],[38,28,40,28],[52,1,52,3],[52,16,52,18],[53,1,53,2],[53,16,53,17],[38,13,40,13],[38,19,40,19],[38,20,40,20],[38,21,40,21],[41,0,41,3],[41,15,41,18],[38,26,40,26],[38,16,38,18],[39,16,39,18],[40,16,40,18],[38,1,38,3],[39,1,39,3],[40,1,40,3],[38,11,40,11],[38,12,40,12],[26,1,26,2],[26,16,26,17],[27,1,27,3],[27,16,27,18],[28,1,28,2],[28,16,28,17],[38,22,40,22],[4,12,4,13],[4,5,4,11],[5,5,5,11],[5,12,5,13],[9,6,11,6],[9,7,11,7],[9,11,11,11],[9,12,11,12],[9,19,11,19],[29,1,29,3],[29,16,29,18],[30,1,30,2],[30,16,30,17],[38,4,40,4],[38,5,40,5],[38,6,40,6],[38,7,40,7],[0,0,0,9],[0,10,0,13],[9,13,11,13],[23,1,23,3],[24,1,24,2],[25,1,25,3],[6,5,6,11],[23,16,23,18],[24,16,24,17],[25,16,25,18],[9,4,11,4],[9,5,11,5],[6,12,6,13],[12,0,12,3],[12,15,12,18],[0,15,0,24],[9,1,9,3],[10,1,10,3],[11,1,11,3],[9,16,9,18],[10,16,10,18],[11,16,11,18],[2,1,2,4],[2,16,2,19],[0,25,0,28],[9,26,11,26],[9,27,11,27],[9,28,11,28],[9,21,11,21],[6,20,6,26],[4,27,4,28],[5,27,5,28],[4,20,4,26],[5,20,5,26],[6,27,6,28],[9,20,11,20],[9,22,11,22]]}
[{"$f":"大会要項!$B$2","v":"第10回 全日本不動産協会杯争奪U-12サッカー大会【ラビットカップ】大分県大会"},null,null,null,null,null,null,null,null,null,"予選リーグ結果　報告用紙",null,null,null,null,{"$f":"大会要項!$B$2","v":"第10回 全日本不動産協会杯争奪U-12サッカー大会【ラビットカップ】大分県大会"},null,null,null,null,null,null,null,null,null,"予選リーグ結果　報告用紙"]
[]
["会場",{"$f":"予選リーグ!I14","v":"大分県ｻｯｶｰ協会人工芝ｸﾞﾗｳﾝﾄﾞ"},null,null,null,{"$f":"予選リーグ!L15","v":"「南」コート"},null,null,null,null,null,null,null,null,null,"会場",{"$f":"予選リーグ!I14","v":"大分県ｻｯｶｰ協会人工芝ｸﾞﾗｳﾝﾄﾞ"},null,null,null,{"$f":"予選リーグ!L15","v":"「南」コート"}]
[]
[null,null,null,null,"F1",{"$f":"VLOOKUP(E5,組合せ抽選用!$Q:$U,5,FALSE)","v":"スマイス・セレソン"},null,null,null,null,null,null,{"$f":"VLOOKUP(E5,組合せ抽選用!$Q:$V,6,FALSE)","v":"別府"},null,null,null,null,null,null,"H1",{"$f":"VLOOKUP(T5,組合せ抽選用!$Q:$U,5,FALSE)","v":"ＯＫＹ山香サッカークラブ"},null,null,null,null,null,null,{"$f":"VLOOKUP(T5,組合せ抽選用!$Q:$V,6,FALSE)","v":"速杵国東"}]
[null,null,null,null,"F2",{"$f":"VLOOKUP(E6,組合せ抽選用!$Q:$U,5,FALSE)","v":"リノスフットボールクラブ　Ｕ－１２"},null,null,null,null,null,null,{"$f":"VLOOKUP(E6,組合せ抽選用!$Q:$V,6,FALSE)","v":"大分"},null,null,null,null,null,null,"H2",{"$f":"VLOOKUP(T6,組合せ抽選用!$Q:$U,5,FALSE)","v":"明野西ＪＦＣ"},null,null,null,null,null,null,{"$f":"VLOOKUP(T6,組合せ抽選用!$Q:$V,6,FALSE)","v":"大分"}]
[null,null,null,null,"F3",{"$f":"VLOOKUP(E7,組合せ抽選用!$Q:$U,5,FALSE)","v":"鶴岡Ｓ―ｐｌａｙ・ＭＩＮＡＭＩ"},null,null,null,null,null,null,{"$f":"VLOOKUP(E7,組合せ抽選用!$Q:$V,6,FALSE)","v":"佐伯"},null,null,null,null,null,null,"H3",{"$f":"VLOOKUP(T7,組合せ抽選用!$Q:$U,5,FALSE)","v":"荏隈サッカースポーツ少年団"},null,null,null,null,null,null,{"$f":"VLOOKUP(T7,組合せ抽選用!$Q:$V,6,FALSE)","v":"大分"}]
[]
[]
["MC","安東　信二",null,null,"10:30:00",{"$f":"F5","v":"スマイス・セレソン"},{"$f":"SUM(I10:I11)","v":0},"（",0,"前半",0,"）",{"$f":"SUM(K10:K11)","v":3},{"$f":"F6","v":"リノスフットボールクラブ　Ｕ－１２"},null,"MC","松下　省吾",null,null,"11:30:00",{"$f":"U5","v":"ＯＫＹ山香サッカークラブ"},{"$f":"SUM(X10:X11)","v":2},"（",1,"前半",1,"）",{"$f":"SUM(Z10:Z11)","v":1},{"$f":"U6","v":"明野西ＪＦＣ"}]
["Welfare\nOfficer","-",null,null,null,null,null,null,0,"後半",3,null,null,null,null,"Welfare\nOfficer","-",null,null,null,null,null,null,1,"後半",0]
["記録","末永　成久",null,null,null,null,null,null,null,"PK",null,null,null,null,null,"記録","安東　信二",null,null,null,null,null,null,null,"PK"]
["＜Referee＞",null,null,null,null,"氏名","番号","分",null,null,null,"分","番号","氏名",null,"＜Referee＞",null,null,null,null,"氏名","番号","分",null,null,null,"分","番号","氏名"]
[null,null,null,null,"得点者",{"$f":"IF(ISERROR(VLOOKUP(CONCATENATE($F$10,\"_\",G14),選手名簿!$A:$E,5,FALSE))=TRUE,\"\",VLOOKUP(CONCATENATE($F$10,\"_\",G14),選手名簿!$A:$E,5,FALSE))","v":""},null,null,null,null,null,null,null,{"$f":"IF(ISERROR(VLOOKUP(CONCATENATE($N$10,\"_\",M14),選手名簿!$A:$E,5,FALSE))=TRUE,\"\",VLOOKUP(CONCATENATE($N$10,\"_\",M14),選手名簿!$A:$E,5,FALSE))","v":""},null,null,null,null,null,"得点者",{"$f":"IF(ISERROR(VLOOKUP(CONCATENATE($U$10,\"_\",V14),選手名簿!$A:$E,5,FALSE))=TRUE,\"\",VLOOKUP(CONCATENATE($U$10,\"_\",V14),選手名簿!$A:$E,5,FALSE))","v":""},null,null,null,null,null,null,null,{"$f":"IF(ISERROR(VLOOKUP(CONCATENATE($AC$10,\"_\",AB14),選手名簿!$A:$E,5,FALSE))=TRUE,\"\",VLOOKUP(CONCATENATE($AC$10,\"_\",AB14),選手名簿!$A:$E,5,FALSE))","v":""}]
[null,null,null,null,"得点者",{"$f":"IF(ISERROR(VLOOKUP(CONCATENATE($F$10,\"_\",G15),選手名簿!$A:$E,5,FALSE))=TRUE,\"\",VLOOKUP(CONCATENATE($F$10,\"_\",G15),選手名簿!$A:$E,5,FALSE))","v":""},null,null,null,null,null,null,null,{"$f":"IF(ISERROR(VLOOKUP(CONCATENATE($N$10,\"_\",M15),選手名簿!$A:$E,5,FALSE))=TRUE,\"\",VLOOKUP(CONCATENATE($N$10,\"_\",M15),選手名簿!$A:$E,5,FALSE))","v":""},null,null,null,null,null,"得点者",{"$f":"IF(ISERROR(VLOOKUP(CONCATENATE($U$10,\"_\",V15),選手名簿!$A:$E,5,FALSE))=TRUE,\"\",VLOOKUP(CONCATENATE($U$10,\"_\",V15),選手名簿!$A:$E,5,FALSE))","v":""},null,null,null,null,null,null,null,{"$f":"IF(ISERROR(VLOOKUP(CONCATENATE($AC$10,\"_\",AB15),選手名簿!$A:$E,5,FALSE))=TRUE,\"\",VLOOKUP(CONCATENATE($AC$10,\"_\",AB15),選手名簿!$A:$E,5,FALSE))","v":""}]
[null,null,null,null,"得点者",{"$f":"IF(ISERROR(VLOOKUP(CONCATENATE($F$10,\"_\",G16),選手名簿!$A:$E,5,FALSE))=TRUE,\"\",VLOOKUP(CONCATENATE($F$10,\"_\",G16),選手名簿!$A:$E,5,FALSE))","v":""},null,null,null,null,null,null,null,{"$f":"IF(ISERROR(VLOOKUP(CONCATENATE($N$10,\"_\",M16),選手名簿!$A:$E,5,FALSE))=TRUE,\"\",VLOOKUP(CONCATENATE($N$10,\"_\",M16),選手名簿!$A:$E,5,FALSE))","v":""},null,null,null,null,null,"得点者",{"$f":"IF(ISERROR(VLOOKUP(CONCATENATE($U$10,\"_\",V16),選手名簿!$A:$E,5,FALSE))=TRUE,\"\",VLOOKUP(CONCATENATE($U$10,\"_\",V16),選手名簿!$A:$E,5,FALSE))","v":""},null,null,null,null,null,null,null,{"$f":"IF(ISERROR(VLOOKUP(CONCATENATE($AC$10,\"_\",AB16),選手名簿!$A:$E,5,FALSE))=TRUE,\"\",VLOOKUP(CONCATENATE($AC$10,\"_\",AB16),選手名簿!$A:$E,5,FALSE))","v":""}]
[null,null,null,null,"得点者",{"$f":"IF(ISERROR(VLOOKUP(CONCATENATE($F$10,\"_\",G17),選手名簿!$A:$E,5,FALSE))=TRUE,\"\",VLOOKUP(CONCATENATE($F$10,\"_\",G17),選手名簿!$A:$E,5,FALSE))","v":""},null,null,null,null,null,null,null,{"$f":"IF(ISERROR(VLOOKUP(CONCATENATE($N$10,\"_\",M17),選手名簿!$A:$E,5,FALSE))=TRUE,\"\",VLOOKUP(CONCATENATE($N$10,\"_\",M17),選手名簿!$A:$E,5,FALSE))","v":""},null,null,null,null,null,"得点者",{"$f":"IF(ISERROR(VLOOKUP(CONCATENATE($U$10,\"_\",V17),選手名簿!$A:$E,5,FALSE))=TRUE,\"\",VLOOKUP(CONCATENATE($U$10,\"_\",V17),選手名簿!$A:$E,5,FALSE))","v":""},null,null,null,null,null,null,null,{"$f":"IF(ISERROR(VLOOKUP(CONCATENATE($AC$10,\"_\",AB17),選手名簿!$A:$E,5,FALSE))=TRUE,\"\",VLOOKUP(CONCATENATE($AC$10,\"_\",AB17),選手名簿!$A:$E,5,FALSE))","v":""}]
[null,null,null,null,"得点者",{"$f":"IF(ISERROR(VLOOKUP(CONCATENATE($F$10,\"_\",G18),選手名簿!$A:$E,5,FALSE))=TRUE,\"\",VLOOKUP(CONCATENATE($F$10,\"_\",G18),選手名簿!$A:$E,5,FALSE))","v":""},null,null,null,null,null,null,null,{"$f":"IF(ISERROR(VLOOKUP(CONCATENATE($N$10,\"_\",M18),選手名簿!$A:$E,5,FALSE))=TRUE,\"\",VLOOKUP(CONCATENATE($N$10,\"_\",M18),選手名簿!$A:$E,5,FALSE))","v":""},null,null,null,null,null,"得点者",{"$f":"IF(ISERROR(VLOOKUP(CONCATENATE($U$10,\"_\",V18),選手名簿!$A:$E,5,FALSE))=TRUE,\"\",VLOOKUP(CONCATENATE($U$10,\"_\",V18),選手名簿!$A:$E,5,FALSE))","v":""},null,null,null,null,null,null,null,{"$f":"IF(ISERROR(VLOOKUP(CONCATENATE($AC$10,\"_\",AB18),選手名簿!$A:$E,5,FALSE))=TRUE,\"\",VLOOKUP(CONCATENATE($AC$10,\"_\",AB18),選手名簿!$A:$E,5,FALSE))","v":""}]
[null,null,null,null,"得点者",{"$f":"IF(ISERROR(VLOOKUP(CONCATENATE($F$10,\"_\",G19),選手名簿!$A:$E,5,FALSE))=TRUE,\"\",VLOOKUP(CONCATENATE($F$10,\"_\",G19),選手名簿!$A:$E,5,FALSE))","v":""},null,null,null,null,null,null,null,{"$f":"IF(ISERROR(VLOOKUP(CONCATENATE($N$10,\"_\",M19),選手名簿!$A:$E,5,FALSE))=TRUE,\"\",VLOOKUP(CONCATENATE($N$10,\"_\",M19),選手名簿!$A:$E,5,FALSE))","v":""},null,null,null,null,null,"得点者",{"$f":"IF(ISERROR(VLOOKUP(CONCATENATE($U$10,\"_\",V19),選手名簿!$A:$E,5,FALSE))=TRUE,\"\",VLOOKUP(CONCATENATE($U$10,\"_\",V19),選手名簿!$A:$E,5,FALSE))","v":""},null,null,null,null,null,null,null,{"$f":"IF(ISERROR(VLOOKUP(CONCATENATE($AC$10,\"_\",AB19),選手名簿!$A:$E,5,FALSE))=TRUE,\"\",VLOOKUP(CONCATENATE($AC$10,\"_\",AB19),選手名簿!$A:$E,5,FALSE))","v":""}]
[null,null,null,null,"得点者",{"$f":"IF(ISERROR(VLOOKUP(CONCATENATE($F$10,\"_\",G20),選手名簿!$A:$E,5,FALSE))=TRUE,\"\",VLOOKUP(CONCATENATE($F$10,\"_\",G20),選手名簿!$A:$E,5,FALSE))","v":""},null,null,null,null,null,null,null,{"$f":"IF(ISERROR(VLOOKUP(CONCATENATE($N$10,\"_\",M20),選手名簿!$A:$E,5,FALSE))=TRUE,\"\",VLOOKUP(CONCATENATE($N$10,\"_\",M20),選手名簿!$A:$E,5,FALSE))","v":""},null,null,null,null,null,"得点者",{"$f":"IF(ISERROR(VLOOKUP(CONCATENATE($U$10,\"_\",V20),選手名簿!$A:$E,5,FALSE))=TRUE,\"\",VLOOKUP(CONCATENATE($U$10,\"_\",V20),選手名簿!$A:$E,5,FALSE))","v":""},null,null,null,null,null,null,null,{"$f":"IF(ISERROR(VLOOKUP(CONCATENATE($AC$10,\"_\",AB20),選手名簿!$A:$E,5,FALSE))=TRUE,\"\",VLOOKUP(CONCATENATE($AC$10,\"_\",AB20),選手名簿!$A:$E,5,FALSE))","v":""}]
[null,null,null,null,"得点者",{"$f":"IF(ISERROR(VLOOKUP(CONCATENATE($F$10,\"_\",G21),選手名簿!$A:$E,5,FALSE))=TRUE,\"\",VLOOKUP(CONCATENATE($F$10,\"_\",G21),選手名簿!$A:$E,5,FALSE))","v":""},null,null,null,null,null,null,null,{"$f":"IF(ISERROR(VLOOKUP(CONCATENATE($N$10,\"_\",M21),選手名簿!$A:$E,5,FALSE))=TRUE,\"\",VLOOKUP(CONCATENATE($N$10,\"_\",M21),選手名簿!$A:$E,5,FALSE))","v":""},null,null,null,null,null,"得点者",{"$f":"IF(ISERROR(VLOOKUP(CONCATENATE($U$10,\"_\",V21),選手名簿!$A:$E,5,FALSE))=TRUE,\"\",VLOOKUP(CONCATENATE($U$10,\"_\",V21),選手名簿!$A:$E,5,FALSE))","v":""},null,null,null,null,null,null,null,{"$f":"IF(ISERROR(VLOOKUP(CONCATENATE($AC$10,\"_\",AB21),選手名簿!$A:$E,5,FALSE))=TRUE,\"\",VLOOKUP(CONCATENATE($AC$10,\"_\",AB21),選手名簿!$A:$E,5,FALSE))","v":""}]
[null,null,null,null,"得点者",{"$f":"IF(ISERROR(VLOOKUP(CONCATENATE($F$10,\"_\",G22),選手名簿!$A:$E,5,FALSE))=TRUE,\"\",VLOOKUP(CONCATENATE($F$10,\"_\",G22),選手名簿!$A:$E,5,FALSE))","v":""},null,null,null,null,null,null,null,{"$f":"IF(ISERROR(VLOOKUP(CONCATENATE($N$10,\"_\",M22),選手名簿!$A:$E,5,FALSE))=TRUE,\"\",VLOOKUP(CONCATENATE($N$10,\"_\",M22),選手名簿!$A:$E,5,FALSE))","v":""},null,null,null,null,null,"得点者",{"$f":"IF(ISERROR(VLOOKUP(CONCATENATE($U$10,\"_\",V22),選手名簿!$A:$E,5,FALSE))=TRUE,\"\",VLOOKUP(CONCATENATE($U$10,\"_\",V22),選手名簿!$A:$E,5,FALSE))","v":""},null,null,null,null,null,null,null,{"$f":"IF(ISERROR(VLOOKUP(CONCATENATE($AC$10,\"_\",AB22),選手名簿!$A:$E,5,FALSE))=TRUE,\"\",VLOOKUP(CONCATENATE($AC$10,\"_\",AB22),選手名簿!$A:$E,5,FALSE))","v":""}]
[null,null,null,null,"得点者",{"$f":"IF(ISERROR(VLOOKUP(CONCATENATE($F$10,\"_\",G23),選手名簿!$A:$E,5,FALSE))=TRUE,\"\",VLOOKUP(CONCATENATE($F$10,\"_\",G23),選手名簿!$A:$E,5,FALSE))","v":""},null,null,null,null,null,null,null,{"$f":"IF(ISERROR(VLOOKUP(CONCATENATE($N$10,\"_\",M23),選手名簿!$A:$E,5,FALSE))=TRUE,\"\",VLOOKUP(CONCATENATE($N$10,\"_\",M23),選手名簿!$A:$E,5,FALSE))","v":""},null,null,null,null,null,"得点者",{"$f":"IF(ISERROR(VLOOKUP(CONCATENATE($U$10,\"_\",V23),選手名簿!$A:$E,5,FALSE))=TRUE,\"\",VLOOKUP(CONCATENATE($U$10,\"_\",V23),選手名簿!$A:$E,5,FALSE))","v":""},null,null,null,null,null,null,null,{"$f":"IF(ISERROR(VLOOKUP(CONCATENATE($AC$10,\"_\",AB23),選手名簿!$A:$E,5,FALSE))=TRUE,\"\",VLOOKUP(CONCATENATE($AC$10,\"_\",AB23),選手名簿!$A:$E,5,FALSE))","v":""}]
["番号","R001262379",null,null,"警告/退場",{"$f":"IF(ISERROR(VLOOKUP(CONCATENATE($F$10,\"_\",G24),選手名簿!$A:$E,5,FALSE))=TRUE,\"\",VLOOKUP(CONCATENATE($F$10,\"_\",G24),選手名簿!$A:$E,5,FALSE))","v":""},null,null,null,null,null,null,null,{"$f":"IF(ISERROR(VLOOKUP(CONCATENATE($N$10,\"_\",M24),選手名簿!$A:$E,5,FALSE))=TRUE,\"\",VLOOKUP(CONCATENATE($N$10,\"_\",M24),選手名簿!$A:$E,5,FALSE))","v":""},null,"番号","R010120124",null,null,"警告/退場",{"$f":"IF(ISERROR(VLOOKUP(CONCATENATE($U$10,\"_\",V24),選手名簿!$A:$E,5,FALSE))=TRUE,\"\",VLOOKUP(CONCATENATE($U$10,\"_\",V24),選手名簿!$A:$E,5,FALSE))","v":""},null,null,null,null,null,null,null,{"$f":"IF(ISERROR(VLOOKUP(CONCATENATE($AC$10,\"_\",AB24),選手名簿!$A:$E,5,FALSE))=TRUE,\"\",VLOOKUP(CONCATENATE($AC$10,\"_\",AB24),選手名簿!$A:$E,5,FALSE))","v":""}]
["R",{"$f":"IF(ISERROR(VLOOKUP(B24,審判員!$A:$C,2,FALSE))=TRUE,\"\",VLOOKUP(B24,審判員!$A:$C,2,FALSE))","v":"石川　慎也"},null,{"$f":"IF(ISERROR(VLOOKUP(B24,審判員!$A:$C,3,FALSE))=TRUE,\"\",VLOOKUP(B24,審判員!$A:$C,3,FALSE))","v":"３級"},"警告/退場",{"$f":"IF(ISERROR(VLOOKUP(CONCATENATE($F$10,\"_\",G25),選手名簿!$A:$E,5,FALSE))=TRUE,\"\",VLOOKUP(CONCATENATE($F$10,\"_\",G25),選手名簿!$A:$E,5,FALSE))","v":""},null,null,null,null,null,null,null,{"$f":"IF(ISERROR(VLOOKUP(CONCATENATE($N$10,\"_\",M25),選手名簿!$A:$E,5,FALSE))=TRUE,\"\",VLOOKUP(CONCATENATE($N$10,\"_\",M25),選手名簿!$A:$E,5,FALSE))","v":""},null,"R",{"$f":"IF(ISERROR(VLOOKUP(Q24,審判員!$A:$C,2,FALSE))=TRUE,\"\",VLOOKUP(Q24,審判員!$A:$C,2,FALSE))","v":"田尻　貴志"},null,{"$f":"IF(ISERROR(VLOOKUP(Q24,審判員!$A:$C,3,FALSE))=TRUE,\"\",VLOOKUP(Q24,審判員!$A:$C,3,FALSE))","v":"３級"},"警告/退場",{"$f":"IF(ISERROR(VLOOKUP(CONCATENATE($U$10,\"_\",V25),選手名簿!$A:$E,5,FALSE))=TRUE,\"\",VLOOKUP(CONCATENATE($U$10,\"_\",V25),選手名簿!$A:$E,5,FALSE))","v":""},null,null,null,null,null,null,null,{"$f":"IF(ISERROR(VLOOKUP(CONCATENATE($AC$10,\"_\",AB25),選手名簿!$A:$E,5,FALSE))=TRUE,\"\",VLOOKUP(CONCATENATE($AC$10,\"_\",AB25),選手名簿!$A:$E,5,FALSE))","v":""}]
["番号","R010281871",null,null,"警告/退場",{"$f":"IF(ISERROR(VLOOKUP(CONCATENATE($F$10,\"_\",G26),選手名簿!$A:$E,5,FALSE))=TRUE,\"\",VLOOKUP(CONCATENATE($F$10,\"_\",G26),選手名簿!$A:$E,5,FALSE))","v":""},null,null,null,null,null,null,null,{"$f":"IF(ISERROR(VLOOKUP(CONCATENATE($N$10,\"_\",M26),選手名簿!$A:$E,5,FALSE))=TRUE,\"\",VLOOKUP(CONCATENATE($N$10,\"_\",M26),選手名簿!$A:$E,5,FALSE))","v":""},null,"番号","R010465594",null,null,"警告/退場",{"$f":"IF(ISERROR(VLOOKUP(CONCATENATE($U$10,\"_\",V26),選手名簿!$A:$E,5,FALSE))=TRUE,\"\",VLOOKUP(CONCATENATE($U$10,\"_\",V26),選手名簿!$A:$E,5,FALSE))","v":""},null,null,null,null,null,null,null,{"$f":"IF(ISERROR(VLOOKUP(CONCATENATE($AC$10,\"_\",AB26),選手名簿!$A:$E,5,FALSE))=TRUE,\"\",VLOOKUP(CONCATENATE($AC$10,\"_\",AB26),選手名簿!$A:$E,5,FALSE))","v":""}]
["AR1:",{"$f":"IF(ISERROR(VLOOKUP(B26,審判員!$A:$C,2,FALSE))=TRUE,\"\",VLOOKUP(B26,審判員!$A:$C,2,FALSE))","v":"山本　青"},null,{"$f":"IF(ISERROR(VLOOKUP(B26,審判員!$A:$C,3,FALSE))=TRUE,\"\",VLOOKUP(B26,審判員!$A:$C,3,FALSE))","v":"３級"},"警告/退場",{"$f":"IF(ISERROR(VLOOKUP(CONCATENATE($F$10,\"_\",G27),選手名簿!$A:$E,5,FALSE))=TRUE,\"\",VLOOKUP(CONCATENATE($F$10,\"_\",G27),選手名簿!$A:$E,5,FALSE))","v":""},null,null,null,null,null,null,null,{"$f":"IF(ISERROR(VLOOKUP(CONCATENATE($N$10,\"_\",M27),選手名簿!$A:$E,5,FALSE))=TRUE,\"\",VLOOKUP(CONCATENATE($N$10,\"_\",M27),選手名簿!$A:$E,5,FALSE))","v":""},null,"AR1:",{"$f":"IF(ISERROR(VLOOKUP(Q26,審判員!$A:$C,2,FALSE))=TRUE,\"\",VLOOKUP(Q26,審判員!$A:$C,2,FALSE))","v":"佐藤　湧大"},null,{"$f":"IF(ISERROR(VLOOKUP(Q26,審判員!$A:$C,3,FALSE))=TRUE,\"\",VLOOKUP(Q26,審判員!$A:$C,3,FALSE))","v":"３級"},"警告/退場",{"$f":"IF(ISERROR(VLOOKUP(CONCATENATE($U$10,\"_\",V27),選手名簿!$A:$E,5,FALSE))=TRUE,\"\",VLOOKUP(CONCATENATE($U$10,\"_\",V27),選手名簿!$A:$E,5,FALSE))","v":""},null,null,null,null,null,null,null,{"$f":"IF(ISERROR(VLOOKUP(CONCATENATE($AC$10,\"_\",AB27),選手名簿!$A:$E,5,FALSE))=TRUE,\"\",VLOOKUP(CONCATENATE($AC$10,\"_\",AB27),選手名簿!$A:$E,5,FALSE))","v":""}]
["番号","R004111340",null,null,"警告/退場",{"$f":"IF(ISERROR(VLOOKUP(CONCATENATE($F$10,\"_\",G28),選手名簿!$A:$E,5,FALSE))=TRUE,\"\",VLOOKUP(CONCATENATE($F$10,\"_\",G28),選手名簿!$A:$E,5,FALSE))","v":""},null,null,null,null,null,null,null,{"$f":"IF(ISERROR(VLOOKUP(CONCATENATE($N$10,\"_\",M28),選手名簿!$A:$E,5,FALSE))=TRUE,\"\",VLOOKUP(CONCATENATE($N$10,\"_\",M28),選手名簿!$A:$E,5,FALSE))","v":""},null,"番号","R009670176",null,null,"警告/退場",{"$f":"IF(ISERROR(VLOOKUP(CONCATENATE($U$10,\"_\",V28),選手名簿!$A:$E,5,FALSE))=TRUE,\"\",VLOOKUP(CONCATENATE($U$10,\"_\",V28),選手名簿!$A:$E,5,FALSE))","v":""},null,null,null,null,null,null,null,{"$f":"IF(ISERROR(VLOOKUP(CONCATENATE($AC$10,\"_\",AB28),選手名簿!$A:$E,5,FALSE))=TRUE,\"\",VLOOKUP(CONCATENATE($AC$10,\"_\",AB28),選手名簿!$A:$E,5,FALSE))","v":""}]
["AR2:",{"$f":"IF(ISERROR(VLOOKUP(B28,審判員!$A:$C,2,FALSE))=TRUE,\"\",VLOOKUP(B28,審判員!$A:$C,2,FALSE))","v":"唐下　直之"},null,{"$f":"IF(ISERROR(VLOOKUP(B28,審判員!$A:$C,3,FALSE))=TRUE,\"\",VLOOKUP(B28,審判員!$A:$C,3,FALSE))","v":"３級"},"警告/退場",{"$f":"IF(ISERROR(VLOOKUP(CONCATENATE($F$10,\"_\",G29),選手名簿!$A:$E,5,FALSE))=TRUE,\"\",VLOOKUP(CONCATENATE($F$10,\"_\",G29),選手名簿!$A:$E,5,FALSE))","v":""},null,null,null,null,null,null,null,{"$f":"IF(ISERROR(VLOOKUP(CONCATENATE($N$10,\"_\",M29),選手名簿!$A:$E,5,FALSE))=TRUE,\"\",VLOOKUP(CONCATENATE($N$10,\"_\",M29),選手名簿!$A:$E,5,FALSE))","v":""},null,"AR2:",{"$f":"IF(ISERROR(VLOOKUP(Q28,審判員!$A:$C,2,FALSE))=TRUE,\"\",VLOOKUP(Q28,審判員!$A:$C,2,FALSE))","v":"西村　竜司"},null,{"$f":"IF(ISERROR(VLOOKUP(Q28,審判員!$A:$C,3,FALSE))=TRUE,\"\",VLOOKUP(Q28,審判員!$A:$C,3,FALSE))","v":"３級"},"警告/退場",{"$f":"IF(ISERROR(VLOOKUP(CONCATENATE($U$10,\"_\",V29),選手名簿!$A:$E,5,FALSE))=TRUE,\"\",VLOOKUP(CONCATENATE($U$10,\"_\",V29),選手名簿!$A:$E,5,FALSE))","v":""},null,null,null,null,null,null,null,{"$f":"IF(ISERROR(VLOOKUP(CONCATENATE($AC$10,\"_\",AB29),選手名簿!$A:$E,5,FALSE))=TRUE,\"\",VLOOKUP(CONCATENATE($AC$10,\"_\",AB29),選手名簿!$A:$E,5,FALSE))","v":""}]
["番号","R010120124",null,null,"警告/退場",{"$f":"IF(ISERROR(VLOOKUP(CONCATENATE($F$10,\"_\",G30),選手名簿!$A:$E,5,FALSE))=TRUE,\"\",VLOOKUP(CONCATENATE($F$10,\"_\",G30),選手名簿!$A:$E,5,FALSE))","v":""},null,null,null,null,null,null,null,{"$f":"IF(ISERROR(VLOOKUP(CONCATENATE($N$10,\"_\",M30),選手名簿!$A:$E,5,FALSE))=TRUE,\"\",VLOOKUP(CONCATENATE($N$10,\"_\",M30),選手名簿!$A:$E,5,FALSE))","v":""},null,"番号","R010448235",null,null,"警告/退場",{"$f":"IF(ISERROR(VLOOKUP(CONCATENATE($U$10,\"_\",V30),選手名簿!$A:$E,5,FALSE))=TRUE,\"\",VLOOKUP(CONCATENATE($U$10,\"_\",V30),選手名簿!$A:$E,5,FALSE))","v":""},null,null,null,null,null,null,null,{"$f":"IF(ISERROR(VLOOKUP(CONCATENATE($AC$10,\"_\",AB30),選手名簿!$A:$E,5,FALSE))=TRUE,\"\",VLOOKUP(CONCATENATE($AC$10,\"_\",AB30),選手名簿!$A:$E,5,FALSE))","v":""}]
["4th:",{"$f":"IF(ISERROR(VLOOKUP(B30,審判員!$A:$C,2,FALSE))=TRUE,\"\",VLOOKUP(B30,審判員!$A:$C,2,FALSE))","v":"田尻　貴志"},null,{"$f":"IF(ISERROR(VLOOKUP(B30,審判員!$A:$C,3,FALSE))=TRUE,\"\",VLOOKUP(B30,審判員!$A:$C,3,FALSE))","v":"３級"},"警告/退場",{"$f":"IF(ISERROR(VLOOKUP(CONCATENATE($F$10,\"_\",G31),選手名簿!$A:$E,5,FALSE))=TRUE,\"\",VLOOKUP(CONCATENATE($F$10,\"_\",G31),選手名簿!$A:$E,5,FALSE))","v":""},null,null,null,null,null,null,null,{"$f":"IF(ISERROR(VLOOKUP(CONCATENATE($N$10,\"_\",M31),選手名簿!$A:$E,5,FALSE))=TRUE,\"\",VLOOKUP(CONCATENATE($N$10,\"_\",M31),選手名簿!$A:$E,5,FALSE))","v":""},null,"4th:",{"$f":"IF(ISERROR(VLOOKUP(Q30,審判員!$A:$C,2,FALSE))=TRUE,\"\",VLOOKUP(Q30,審判員!$A:$C,2,FALSE))","v":"礒辺　宏基"},null,{"$f":"IF(ISERROR(VLOOKUP(Q30,審判員!$A:$C,3,FALSE))=TRUE,\"\",VLOOKUP(Q30,審判員!$A:$C,3,FALSE))","v":"３級"},"警告/退場",{"$f":"IF(ISERROR(VLOOKUP(CONCATENATE($U$10,\"_\",V31),選手名簿!$A:$E,5,FALSE))=TRUE,\"\",VLOOKUP(CONCATENATE($U$10,\"_\",V31),選手名簿!$A:$E,5,FALSE))","v":""},null,null,null,null,null,null,null,{"$f":"IF(ISERROR(VLOOKUP(CONCATENATE($AC$10,\"_\",AB31),選手名簿!$A:$E,5,FALSE))=TRUE,\"\",VLOOKUP(CONCATENATE($AC$10,\"_\",AB31),選手名簿!$A:$E,5,FALSE))","v":""}]
[]
[]
[]
[]
[]
[]
[]
["MC","佐々木　秀樹",null,null,"12:30:00",{"$f":"F6","v":"リノスフットボールクラブ　Ｕ－１２"},{"$f":"SUM(I39:I40)","v":1},"（",0,"前半",1,"）",{"$f":"SUM(K39:K40)","v":1},{"$f":"F7","v":"鶴岡Ｓ―ｐｌａｙ・ＭＩＮＡＭＩ"},null,"MC","平尾　彰敏",null,null,"13:30:00",{"$f":"U6","v":"明野西ＪＦＣ"},{"$f":"SUM(X39:X40)","v":4},"（",2,"前半",3,"）",{"$f":"SUM(Z39:Z40)","v":3},{"$f":"U7","v":"荏隈サッカースポーツ少年団"}]
["Welfare\nOfficer","-",null,null,null,null,null,null,1,"後半",0,null,null,null,null,"Welfare\nOfficer","-",null,null,null,null,null,null,2,"後半",0]
["記録","松下　省吾",null,null,null,null,null,null,null,"PK",null,null,null,null,null,"記録","佐々木　秀樹",null,null,null,null,null,null,null,"PK"]
["＜Referee＞",null,null,null,null,"氏名","番号","分",null,null,null,"分","番号","氏名",null,"＜Referee＞",null,null,null,null,"氏名","番号","分",null,null,null,"分","番号","氏名"]
[null,null,null,null,"得点者",{"$f":"IF(ISERROR(VLOOKUP(CONCATENATE($F$39,\"_\",G43),選手名簿!$A:$E,5,FALSE))=TRUE,\"\",VLOOKUP(CONCATENATE($F$39,\"_\",G43),選手名簿!$A:$E,5,FALSE))","v":""},null,null,null,null,null,null,null,{"$f":"IF(ISERROR(VLOOKUP(CONCATENATE($N$39,\"_\",M43),選手名簿!$A:$E,5,FALSE))=TRUE,\"\",VLOOKUP(CONCATENATE($N$39,\"_\",M43),選手名簿!$A:$E,5,FALSE))","v":""},null,null,null,null,null,"得点者",{"$f":"IF(ISERROR(VLOOKUP(CONCATENATE($U$39,\"_\",V43),選手名簿!$A:$E,5,FALSE))=TRUE,\"\",VLOOKUP(CONCATENATE($U$39,\"_\",V43),選手名簿!$A:$E,5,FALSE))","v":""},null,null,null,null,null,null,null,{"$f":"IF(ISERROR(VLOOKUP(CONCATENATE($AC$39,\"_\",AB43),選手名簿!$A:$E,5,FALSE))=TRUE,\"\",VLOOKUP(CONCATENATE($AC$39,\"_\",AB43),選手名簿!$A:$E,5,FALSE))","v":""}]
[null,null,null,null,"得点者",{"$f":"IF(ISERROR(VLOOKUP(CONCATENATE($F$39,\"_\",G44),選手名簿!$A:$E,5,FALSE))=TRUE,\"\",VLOOKUP(CONCATENATE($F$39,\"_\",G44),選手名簿!$A:$E,5,FALSE))","v":""},null,null,null,null,null,null,null,{"$f":"IF(ISERROR(VLOOKUP(CONCATENATE($N$39,\"_\",M44),選手名簿!$A:$E,5,FALSE))=TRUE,\"\",VLOOKUP(CONCATENATE($N$39,\"_\",M44),選手名簿!$A:$E,5,FALSE))","v":""},null,null,null,null,null,"得点者",{"$f":"IF(ISERROR(VLOOKUP(CONCATENATE($U$39,\"_\",V44),選手名簿!$A:$E,5,FALSE))=TRUE,\"\",VLOOKUP(CONCATENATE($U$39,\"_\",V44),選手名簿!$A:$E,5,FALSE))","v":""},null,null,null,null,null,null,null,{"$f":"IF(ISERROR(VLOOKUP(CONCATENATE($AC$39,\"_\",AB44),選手名簿!$A:$E,5,FALSE))=TRUE,\"\",VLOOKUP(CONCATENATE($AC$39,\"_\",AB44),選手名簿!$A:$E,5,FALSE))","v":""}]
[null,null,null,null,"得点者",{"$f":"IF(ISERROR(VLOOKUP(CONCATENATE($F$39,\"_\",G45),選手名簿!$A:$E,5,FALSE))=TRUE,\"\",VLOOKUP(CONCATENATE($F$39,\"_\",G45),選手名簿!$A:$E,5,FALSE))","v":""},null,null,null,null,null,null,null,{"$f":"IF(ISERROR(VLOOKUP(CONCATENATE($N$39,\"_\",M45),選手名簿!$A:$E,5,FALSE))=TRUE,\"\",VLOOKUP(CONCATENATE($N$39,\"_\",M45),選手名簿!$A:$E,5,FALSE))","v":""},null,null,null,null,null,"得点者",{"$f":"IF(ISERROR(VLOOKUP(CONCATENATE($U$39,\"_\",V45),選手名簿!$A:$E,5,FALSE))=TRUE,\"\",VLOOKUP(CONCATENATE($U$39,\"_\",V45),選手名簿!$A:$E,5,FALSE))","v":""},null,null,null,null,null,null,null,{"$f":"IF(ISERROR(VLOOKUP(CONCATENATE($AC$39,\"_\",AB45),選手名簿!$A:$E,5,FALSE))=TRUE,\"\",VLOOKUP(CONCATENATE($AC$39,\"_\",AB45),選手名簿!$A:$E,5,FALSE))","v":""}]
[null,null,null,null,"得点者",{"$f":"IF(ISERROR(VLOOKUP(CONCATENATE($F$39,\"_\",G46),選手名簿!$A:$E,5,FALSE))=TRUE,\"\",VLOOKUP(CONCATENATE($F$39,\"_\",G46),選手名簿!$A:$E,5,FALSE))","v":""},null,null,null,null,null,null,null,{"$f":"IF(ISERROR(VLOOKUP(CONCATENATE($N$39,\"_\",M46),選手名簿!$A:$E,5,FALSE))=TRUE,\"\",VLOOKUP(CONCATENATE($N$39,\"_\",M46),選手名簿!$A:$E,5,FALSE))","v":""},null,null,null,null,null,"得点者",{"$f":"IF(ISERROR(VLOOKUP(CONCATENATE($U$39,\"_\",V46),選手名簿!$A:$E,5,FALSE))=TRUE,\"\",VLOOKUP(CONCATENATE($U$39,\"_\",V46),選手名簿!$A:$E,5,FALSE))","v":""},null,null,null,null,null,null,null,{"$f":"IF(ISERROR(VLOOKUP(CONCATENATE($AC$39,\"_\",AB46),選手名簿!$A:$E,5,FALSE))=TRUE,\"\",VLOOKUP(CONCATENATE($AC$39,\"_\",AB46),選手名簿!$A:$E,5,FALSE))","v":""}]
[null,null,null,null,"得点者",{"$f":"IF(ISERROR(VLOOKUP(CONCATENATE($F$39,\"_\",G47),選手名簿!$A:$E,5,FALSE))=TRUE,\"\",VLOOKUP(CONCATENATE($F$39,\"_\",G47),選手名簿!$A:$E,5,FALSE))","v":""},null,null,null,null,null,null,null,{"$f":"IF(ISERROR(VLOOKUP(CONCATENATE($N$39,\"_\",M47),選手名簿!$A:$E,5,FALSE))=TRUE,\"\",VLOOKUP(CONCATENATE($N$39,\"_\",M47),選手名簿!$A:$E,5,FALSE))","v":""},null,null,null,null,null,"得点者",{"$f":"IF(ISERROR(VLOOKUP(CONCATENATE($U$39,\"_\",V47),選手名簿!$A:$E,5,FALSE))=TRUE,\"\",VLOOKUP(CONCATENATE($U$39,\"_\",V47),選手名簿!$A:$E,5,FALSE))","v":""},null,null,null,null,null,null,null,{"$f":"IF(ISERROR(VLOOKUP(CONCATENATE($AC$39,\"_\",AB47),選手名簿!$A:$E,5,FALSE))=TRUE,\"\",VLOOKUP(CONCATENATE($AC$39,\"_\",AB47),選手名簿!$A:$E,5,FALSE))","v":""}]
[null,null,null,null,"得点者",{"$f":"IF(ISERROR(VLOOKUP(CONCATENATE($F$39,\"_\",G48),選手名簿!$A:$E,5,FALSE))=TRUE,\"\",VLOOKUP(CONCATENATE($F$39,\"_\",G48),選手名簿!$A:$E,5,FALSE))","v":""},null,null,null,null,null,null,null,{"$f":"IF(ISERROR(VLOOKUP(CONCATENATE($N$39,\"_\",M48),選手名簿!$A:$E,5,FALSE))=TRUE,\"\",VLOOKUP(CONCATENATE($N$39,\"_\",M48),選手名簿!$A:$E,5,FALSE))","v":""},null,null,null,null,null,"得点者",{"$f":"IF(ISERROR(VLOOKUP(CONCATENATE($U$39,\"_\",V48),選手名簿!$A:$E,5,FALSE))=TRUE,\"\",VLOOKUP(CONCATENATE($U$39,\"_\",V48),選手名簿!$A:$E,5,FALSE))","v":""},null,null,null,null,null,null,null,{"$f":"IF(ISERROR(VLOOKUP(CONCATENATE($AC$39,\"_\",AB48),選手名簿!$A:$E,5,FALSE))=TRUE,\"\",VLOOKUP(CONCATENATE($AC$39,\"_\",AB48),選手名簿!$A:$E,5,FALSE))","v":""}]
[null,null,null,null,"得点者",{"$f":"IF(ISERROR(VLOOKUP(CONCATENATE($F$39,\"_\",G49),選手名簿!$A:$E,5,FALSE))=TRUE,\"\",VLOOKUP(CONCATENATE($F$39,\"_\",G49),選手名簿!$A:$E,5,FALSE))","v":""},null,null,null,null,null,null,null,{"$f":"IF(ISERROR(VLOOKUP(CONCATENATE($N$39,\"_\",M49),選手名簿!$A:$E,5,FALSE))=TRUE,\"\",VLOOKUP(CONCATENATE($N$39,\"_\",M49),選手名簿!$A:$E,5,FALSE))","v":""},null,null,null,null,null,"得点者",{"$f":"IF(ISERROR(VLOOKUP(CONCATENATE($U$39,\"_\",V49),選手名簿!$A:$E,5,FALSE))=TRUE,\"\",VLOOKUP(CONCATENATE($U$39,\"_\",V49),選手名簿!$A:$E,5,FALSE))","v":""},null,null,null,null,null,null,null,{"$f":"IF(ISERROR(VLOOKUP(CONCATENATE($AC$39,\"_\",AB49),選手名簿!$A:$E,5,FALSE))=TRUE,\"\",VLOOKUP(CONCATENATE($AC$39,\"_\",AB49),選手名簿!$A:$E,5,FALSE))","v":""}]
[null,null,null,null,"得点者",{"$f":"IF(ISERROR(VLOOKUP(CONCATENATE($F$39,\"_\",G50),選手名簿!$A:$E,5,FALSE))=TRUE,\"\",VLOOKUP(CONCATENATE($F$39,\"_\",G50),選手名簿!$A:$E,5,FALSE))","v":""},null,null,null,null,null,null,null,{"$f":"IF(ISERROR(VLOOKUP(CONCATENATE($N$39,\"_\",M50),選手名簿!$A:$E,5,FALSE))=TRUE,\"\",VLOOKUP(CONCATENATE($N$39,\"_\",M50),選手名簿!$A:$E,5,FALSE))","v":""},null,null,null,null,null,"得点者",{"$f":"IF(ISERROR(VLOOKUP(CONCATENATE($U$39,\"_\",V50),選手名簿!$A:$E,5,FALSE))=TRUE,\"\",VLOOKUP(CONCATENATE($U$39,\"_\",V50),選手名簿!$A:$E,5,FALSE))","v":""},null,null,null,null,null,null,null,{"$f":"IF(ISERROR(VLOOKUP(CONCATENATE($AC$39,\"_\",AB50),選手名簿!$A:$E,5,FALSE))=TRUE,\"\",VLOOKUP(CONCATENATE($AC$39,\"_\",AB50),選手名簿!$A:$E,5,FALSE))","v":""}]
[null,null,null,null,"得点者",{"$f":"IF(ISERROR(VLOOKUP(CONCATENATE($F$39,\"_\",G51),選手名簿!$A:$E,5,FALSE))=TRUE,\"\",VLOOKUP(CONCATENATE($F$39,\"_\",G51),選手名簿!$A:$E,5,FALSE))","v":""},null,null,null,null,null,null,null,{"$f":"IF(ISERROR(VLOOKUP(CONCATENATE($N$39,\"_\",M51),選手名簿!$A:$E,5,FALSE))=TRUE,\"\",VLOOKUP(CONCATENATE($N$39,\"_\",M51),選手名簿!$A:$E,5,FALSE))","v":""},null,null,null,null,null,"得点者",{"$f":"IF(ISERROR(VLOOKUP(CONCATENATE($U$39,\"_\",V51),選手名簿!$A:$E,5,FALSE))=TRUE,\"\",VLOOKUP(CONCATENATE($U$39,\"_\",V51),選手名簿!$A:$E,5,FALSE))","v":""},null,null,null,null,null,null,null,{"$f":"IF(ISERROR(VLOOKUP(CONCATENATE($AC$39,\"_\",AB51),選手名簿!$A:$E,5,FALSE))=TRUE,\"\",VLOOKUP(CONCATENATE($AC$39,\"_\",AB51),選手名簿!$A:$E,5,FALSE))","v":""}]
[null,null,null,null,"得点者",{"$f":"IF(ISERROR(VLOOKUP(CONCATENATE($F$39,\"_\",G52),選手名簿!$A:$E,5,FALSE))=TRUE,\"\",VLOOKUP(CONCATENATE($F$39,\"_\",G52),選手名簿!$A:$E,5,FALSE))","v":""},null,null,null,null,null,null,null,{"$f":"IF(ISERROR(VLOOKUP(CONCATENATE($N$39,\"_\",M52),選手名簿!$A:$E,5,FALSE))=TRUE,\"\",VLOOKUP(CONCATENATE($N$39,\"_\",M52),選手名簿!$A:$E,5,FALSE))","v":""},null,null,null,null,null,"得点者",{"$f":"IF(ISERROR(VLOOKUP(CONCATENATE($U$39,\"_\",V52),選手名簿!$A:$E,5,FALSE))=TRUE,\"\",VLOOKUP(CONCATENATE($U$39,\"_\",V52),選手名簿!$A:$E,5,FALSE))","v":""},null,null,null,null,null,null,null,{"$f":"IF(ISERROR(VLOOKUP(CONCATENATE($AC$39,\"_\",AB52),選手名簿!$A:$E,5,FALSE))=TRUE,\"\",VLOOKUP(CONCATENATE($AC$39,\"_\",AB52),選手名簿!$A:$E,5,FALSE))","v":""}]
["番号","R010448235",null,null,"警告/退場",{"$f":"IF(ISERROR(VLOOKUP(CONCATENATE($F$39,\"_\",G53),選手名簿!$A:$E,5,FALSE))=TRUE,\"\",VLOOKUP(CONCATENATE($F$39,\"_\",G53),選手名簿!$A:$E,5,FALSE))","v":""},null,null,null,null,null,null,null,{"$f":"IF(ISERROR(VLOOKUP(CONCATENATE($N$39,\"_\",M53),選手名簿!$A:$E,5,FALSE))=TRUE,\"\",VLOOKUP(CONCATENATE($N$39,\"_\",M53),選手名簿!$A:$E,5,FALSE))","v":""},null,"番号","R001262379",null,null,"警告/退場",{"$f":"IF(ISERROR(VLOOKUP(CONCATENATE($U$39,\"_\",V53),選手名簿!$A:$E,5,FALSE))=TRUE,\"\",VLOOKUP(CONCATENATE($U$39,\"_\",V53),選手名簿!$A:$E,5,FALSE))","v":""},null,null,null,null,null,null,null,{"$f":"IF(ISERROR(VLOOKUP(CONCATENATE($AC$39,\"_\",AB53),選手名簿!$A:$E,5,FALSE))=TRUE,\"\",VLOOKUP(CONCATENATE($AC$39,\"_\",AB53),選手名簿!$A:$E,5,FALSE))","v":""}]
["R",{"$f":"IF(ISERROR(VLOOKUP(B53,審判員!$A:$C,2,FALSE))=TRUE,\"\",VLOOKUP(B53,審判員!$A:$C,2,FALSE))","v":"礒辺　宏基"},null,{"$f":"IF(ISERROR(VLOOKUP(B53,審判員!$A:$C,3,FALSE))=TRUE,\"\",VLOOKUP(B53,審判員!$A:$C,3,FALSE))","v":"３級"},"警告/退場",{"$f":"IF(ISERROR(VLOOKUP(CONCATENATE($F$39,\"_\",G54),選手名簿!$A:$E,5,FALSE))=TRUE,\"\",VLOOKUP(CONCATENATE($F$39,\"_\",G54),選手名簿!$A:$E,5,FALSE))","v":""},null,null,null,null,null,null,null,{"$f":"IF(ISERROR(VLOOKUP(CONCATENATE($N$39,\"_\",M54),選手名簿!$A:$E,5,FALSE))=TRUE,\"\",VLOOKUP(CONCATENATE($N$39,\"_\",M54),選手名簿!$A:$E,5,FALSE))","v":""},null,"R",{"$f":"IF(ISERROR(VLOOKUP(Q53,審判員!$A:$C,2,FALSE))=TRUE,\"\",VLOOKUP(Q53,審判員!$A:$C,2,FALSE))","v":"石川　慎也"},null,{"$f":"IF(ISERROR(VLOOKUP(Q53,審判員!$A:$C,3,FALSE))=TRUE,\"\",VLOOKUP(Q53,審判員!$A:$C,3,FALSE))","v":"３級"},"警告/退場",{"$f":"IF(ISERROR(VLOOKUP(CONCATENATE($U$39,\"_\",V54),選手名簿!$A:$E,5,FALSE))=TRUE,\"\",VLOOKUP(CONCATENATE($U$39,\"_\",V54),選手名簿!$A:$E,5,FALSE))","v":""},null,null,null,null,null,null,null,{"$f":"IF(ISERROR(VLOOKUP(CONCATENATE($AC$39,\"_\",AB54),選手名簿!$A:$E,5,FALSE))=TRUE,\"\",VLOOKUP(CONCATENATE($AC$39,\"_\",AB54),選手名簿!$A:$E,5,FALSE))","v":""}]
["番号","R004111340",null,null,"警告/退場",{"$f":"IF(ISERROR(VLOOKUP(CONCATENATE($F$39,\"_\",G55),選手名簿!$A:$E,5,FALSE))=TRUE,\"\",VLOOKUP(CONCATENATE($F$39,\"_\",G55),選手名簿!$A:$E,5,FALSE))","v":""},null,null,null,null,null,null,null,{"$f":"IF(ISERROR(VLOOKUP(CONCATENATE($N$39,\"_\",M55),選手名簿!$A:$E,5,FALSE))=TRUE,\"\",VLOOKUP(CONCATENATE($N$39,\"_\",M55),選手名簿!$A:$E,5,FALSE))","v":""},null,"番号","R009670176",null,null,"警告/退場",{"$f":"IF(ISERROR(VLOOKUP(CONCATENATE($U$39,\"_\",V55),選手名簿!$A:$E,5,FALSE))=TRUE,\"\",VLOOKUP(CONCATENATE($U$39,\"_\",V55),選手名簿!$A:$E,5,FALSE))","v":""},null,null,null,null,null,null,null,{"$f":"IF(ISERROR(VLOOKUP(CONCATENATE($AC$39,\"_\",AB55),選手名簿!$A:$E,5,FALSE))=TRUE,\"\",VLOOKUP(CONCATENATE($AC$39,\"_\",AB55),選手名簿!$A:$E,5,FALSE))","v":""}]
["AR1:",{"$f":"IF(ISERROR(VLOOKUP(B55,審判員!$A:$C,2,FALSE))=TRUE,\"\",VLOOKUP(B55,審判員!$A:$C,2,FALSE))","v":"唐下　直之"},null,{"$f":"IF(ISERROR(VLOOKUP(B55,審判員!$A:$C,3,FALSE))=TRUE,\"\",VLOOKUP(B55,審判員!$A:$C,3,FALSE))","v":"３級"},"警告/退場",{"$f":"IF(ISERROR(VLOOKUP(CONCATENATE($F$39,\"_\",G56),選手名簿!$A:$E,5,FALSE))=TRUE,\"\",VLOOKUP(CONCATENATE($F$39,\"_\",G56),選手名簿!$A:$E,5,FALSE))","v":""},null,null,null,null,null,null,null,{"$f":"IF(ISERROR(VLOOKUP(CONCATENATE($N$39,\"_\",M56),選手名簿!$A:$E,5,FALSE))=TRUE,\"\",VLOOKUP(CONCATENATE($N$39,\"_\",M56),選手名簿!$A:$E,5,FALSE))","v":""},null,"AR1:",{"$f":"IF(ISERROR(VLOOKUP(Q55,審判員!$A:$C,2,FALSE))=TRUE,\"\",VLOOKUP(Q55,審判員!$A:$C,2,FALSE))","v":"西村　竜司"},null,{"$f":"IF(ISERROR(VLOOKUP(Q55,審判員!$A:$C,3,FALSE))=TRUE,\"\",VLOOKUP(Q55,審判員!$A:$C,3,FALSE))","v":"３級"},"警告/退場",{"$f":"IF(ISERROR(VLOOKUP(CONCATENATE($U$39,\"_\",V56),選手名簿!$A:$E,5,FALSE))=TRUE,\"\",VLOOKUP(CONCATENATE($U$39,\"_\",V56),選手名簿!$A:$E,5,FALSE))","v":""},null,null,null,null,null,null,null,{"$f":"IF(ISERROR(VLOOKUP(CONCATENATE($AC$39,\"_\",AB56),選手名簿!$A:$E,5,FALSE))=TRUE,\"\",VLOOKUP(CONCATENATE($AC$39,\"_\",AB56),選手名簿!$A:$E,5,FALSE))","v":""}]
["番号","R001254051",null,null,"警告/退場",{"$f":"IF(ISERROR(VLOOKUP(CONCATENATE($F$39,\"_\",G57),選手名簿!$A:$E,5,FALSE))=TRUE,\"\",VLOOKUP(CONCATENATE($F$39,\"_\",G57),選手名簿!$A:$E,5,FALSE))","v":""},null,null,null,null,null,null,null,{"$f":"IF(ISERROR(VLOOKUP(CONCATENATE($N$39,\"_\",M57),選手名簿!$A:$E,5,FALSE))=TRUE,\"\",VLOOKUP(CONCATENATE($N$39,\"_\",M57),選手名簿!$A:$E,5,FALSE))","v":""},null,"番号","R001253548",null,null,"警告/退場",{"$f":"IF(ISERROR(VLOOKUP(CONCATENATE($U$39,\"_\",V57),選手名簿!$A:$E,5,FALSE))=TRUE,\"\",VLOOKUP(CONCATENATE($U$39,\"_\",V57),選手名簿!$A:$E,5,FALSE))","v":""},null,null,null,null,null,null,null,{"$f":"IF(ISERROR(VLOOKUP(CONCATENATE($AC$39,\"_\",AB57),選手名簿!$A:$E,5,FALSE))=TRUE,\"\",VLOOKUP(CONCATENATE($AC$39,\"_\",AB57),選手名簿!$A:$E,5,FALSE))","v":""}]
["AR2:",{"$f":"IF(ISERROR(VLOOKUP(B57,審判員!$A:$C,2,FALSE))=TRUE,\"\",VLOOKUP(B57,審判員!$A:$C,2,FALSE))","v":"井上　直樹"},null,{"$f":"IF(ISERROR(VLOOKUP(B57,審判員!$A:$C,3,FALSE))=TRUE,\"\",VLOOKUP(B57,審判員!$A:$C,3,FALSE))","v":"３級"},"警告/退場",{"$f":"IF(ISERROR(VLOOKUP(CONCATENATE($F$39,\"_\",G58),選手名簿!$A:$E,5,FALSE))=TRUE,\"\",VLOOKUP(CONCATENATE($F$39,\"_\",G58),選手名簿!$A:$E,5,FALSE))","v":""},null,null,null,null,null,null,null,{"$f":"IF(ISERROR(VLOOKUP(CONCATENATE($N$39,\"_\",M58),選手名簿!$A:$E,5,FALSE))=TRUE,\"\",VLOOKUP(CONCATENATE($N$39,\"_\",M58),選手名簿!$A:$E,5,FALSE))","v":""},null,"AR2:",{"$f":"IF(ISERROR(VLOOKUP(Q57,審判員!$A:$C,2,FALSE))=TRUE,\"\",VLOOKUP(Q57,審判員!$A:$C,2,FALSE))","v":"安藤　洋樹"},null,{"$f":"IF(ISERROR(VLOOKUP(Q57,審判員!$A:$C,3,FALSE))=TRUE,\"\",VLOOKUP(Q57,審判員!$A:$C,3,FALSE))","v":"３級"},"警告/退場",{"$f":"IF(ISERROR(VLOOKUP(CONCATENATE($U$39,\"_\",V58),選手名簿!$A:$E,5,FALSE))=TRUE,\"\",VLOOKUP(CONCATENATE($U$39,\"_\",V58),選手名簿!$A:$E,5,FALSE))","v":""},null,null,null,null,null,null,null,{"$f":"IF(ISERROR(VLOOKUP(CONCATENATE($AC$39,\"_\",AB58),選手名簿!$A:$E,5,FALSE))=TRUE,\"\",VLOOKUP(CONCATENATE($AC$39,\"_\",AB58),選手名簿!$A:$E,5,FALSE))","v":""}]
["番号","R001262379",null,null,"警告/退場",{"$f":"IF(ISERROR(VLOOKUP(CONCATENATE($F$39,\"_\",G59),選手名簿!$A:$E,5,FALSE))=TRUE,\"\",VLOOKUP(CONCATENATE($F$39,\"_\",G59),選手名簿!$A:$E,5,FALSE))","v":""},null,null,null,null,null,null,null,{"$f":"IF(ISERROR(VLOOKUP(CONCATENATE($N$39,\"_\",M59),選手名簿!$A:$E,5,FALSE))=TRUE,\"\",VLOOKUP(CONCATENATE($N$39,\"_\",M59),選手名簿!$A:$E,5,FALSE))","v":""},null,"番号","R010120124",null,null,"警告/退場",{"$f":"IF(ISERROR(VLOOKUP(CONCATENATE($U$39,\"_\",V59),選手名簿!$A:$E,5,FALSE))=TRUE,\"\",VLOOKUP(CONCATENATE($U$39,\"_\",V59),選手名簿!$A:$E,5,FALSE))","v":""},null,null,null,null,null,null,null,{"$f":"IF(ISERROR(VLOOKUP(CONCATENATE($AC$39,\"_\",AB59),選手名簿!$A:$E,5,FALSE))=TRUE,\"\",VLOOKUP(CONCATENATE($AC$39,\"_\",AB59),選手名簿!$A:$E,5,FALSE))","v":""}]
["4th:",{"$f":"IF(ISERROR(VLOOKUP(B59,審判員!$A:$C,2,FALSE))=TRUE,\"\",VLOOKUP(B59,審判員!$A:$C,2,FALSE))","v":"石川　慎也"},null,{"$f":"IF(ISERROR(VLOOKUP(B59,審判員!$A:$C,3,FALSE))=TRUE,\"\",VLOOKUP(B59,審判員!$A:$C,3,FALSE))","v":"３級"},"警告/退場",{"$f":"IF(ISERROR(VLOOKUP(CONCATENATE($F$39,\"_\",G60),選手名簿!$A:$E,5,FALSE))=TRUE,\"\",VLOOKUP(CONCATENATE($F$39,\"_\",G60),選手名簿!$A:$E,5,FALSE))","v":""},null,null,null,null,null,null,null,{"$f":"IF(ISERROR(VLOOKUP(CONCATENATE($N$39,\"_\",M60),選手名簿!$A:$E,5,FALSE))=TRUE,\"\",VLOOKUP(CONCATENATE($N$39,\"_\",M60),選手名簿!$A:$E,5,FALSE))","v":""},null,"4th:",{"$f":"IF(ISERROR(VLOOKUP(Q59,審判員!$A:$C,2,FALSE))=TRUE,\"\",VLOOKUP(Q59,審判員!$A:$C,2,FALSE))","v":"田尻　貴志"},null,{"$f":"IF(ISERROR(VLOOKUP(Q59,審判員!$A:$C,3,FALSE))=TRUE,\"\",VLOOKUP(Q59,審判員!$A:$C,3,FALSE))","v":"３級"},"警告/退場",{"$f":"IF(ISERROR(VLOOKUP(CONCATENATE($U$39,\"_\",V60),選手名簿!$A:$E,5,FALSE))=TRUE,\"\",VLOOKUP(CONCATENATE($U$39,\"_\",V60),選手名簿!$A:$E,5,FALSE))","v":""},null,null,null,null,null,null,null,{"$f":"IF(ISERROR(VLOOKUP(CONCATENATE($AC$39,\"_\",AB60),選手名簿!$A:$E,5,FALSE))=TRUE,\"\",VLOOKUP(CONCATENATE($AC$39,\"_\",AB60),選手名簿!$A:$E,5,FALSE))","v":""}]
[]
[]
[]
[]
[]
[]
[]
["MC","末永　成久",null,null,"14:30:00",{"$f":"F7","v":"鶴岡Ｓ―ｐｌａｙ・ＭＩＮＡＭＩ"},{"$f":"SUM(I68:I69)","v":1},"（",0,"前半",2,"）",{"$f":"SUM(K68:K69)","v":2},{"$f":"F5","v":"スマイス・セレソン"},null,"MC","安東　信二",null,null,"15:30:00",{"$f":"U7","v":"荏隈サッカースポーツ少年団"},{"$f":"SUM(X68:X69)","v":1},"（",0,"前半",0,"）",{"$f":"SUM(Z68:Z69)","v":0},{"$f":"U5","v":"ＯＫＹ山香サッカークラブ"}]
["Welfare\nOfficer","-",null,null,null,null,null,null,1,"後半",0,null,null,null,null,"Welfare\nOfficer","-",null,null,null,null,null,null,1,"後半",0]
["記録","平尾　彰敏",null,null,null,null,null,null,null,"PK",null,null,null,null,null,"記録","末永　成久",null,null,null,null,null,null,null,"PK"]
["＜Referee＞",null,null,null,null,"氏名","番号","分",null,null,null,"分","番号","氏名",null,"＜Referee＞",null,null,null,null,"氏名","番号","分",null,null,null,"分","番号","氏名"]
[null,null,null,null,"得点者",{"$f":"IF(ISERROR(VLOOKUP(CONCATENATE($F$68,\"_\",G72),選手名簿!$A:$E,5,FALSE))=TRUE,\"\",VLOOKUP(CONCATENATE($F$68,\"_\",G72),選手名簿!$A:$E,5,FALSE))","v":""},null,null,null,null,null,null,null,{"$f":"IF(ISERROR(VLOOKUP(CONCATENATE($N$68,\"_\",M72),選手名簿!$A:$E,5,FALSE))=TRUE,\"\",VLOOKUP(CONCATENATE($N$68,\"_\",M72),選手名簿!$A:$E,5,FALSE))","v":""},null,null,null,null,null,"得点者",{"$f":"IF(ISERROR(VLOOKUP(CONCATENATE($U$68,\"_\",V72),選手名簿!$A:$E,5,FALSE))=TRUE,\"\",VLOOKUP(CONCATENATE($U$68,\"_\",V72),選手名簿!$A:$E,5,FALSE))","v":""},null,null,null,null,null,null,null,{"$f":"IF(ISERROR(VLOOKUP(CONCATENATE($AC$68,\"_\",AB72),選手名簿!$A:$E,5,FALSE))=TRUE,\"\",VLOOKUP(CONCATENATE($AC$68,\"_\",AB72),選手名簿!$A:$E,5,FALSE))","v":""}]
[null,null,null,null,"得点者",{"$f":"IF(ISERROR(VLOOKUP(CONCATENATE($F$68,\"_\",G73),選手名簿!$A:$E,5,FALSE))=TRUE,\"\",VLOOKUP(CONCATENATE($F$68,\"_\",G73),選手名簿!$A:$E,5,FALSE))","v":""},null,null,null,null,null,null,null,{"$f":"IF(ISERROR(VLOOKUP(CONCATENATE($N$68,\"_\",M73),選手名簿!$A:$E,5,FALSE))=TRUE,\"\",VLOOKUP(CONCATENATE($N$68,\"_\",M73),選手名簿!$A:$E,5,FALSE))","v":""},null,null,null,null,null,"得点者",{"$f":"IF(ISERROR(VLOOKUP(CONCATENATE($U$68,\"_\",V73),選手名簿!$A:$E,5,FALSE))=TRUE,\"\",VLOOKUP(CONCATENATE($U$68,\"_\",V73),選手名簿!$A:$E,5,FALSE))","v":""},null,null,null,null,null,null,null,{"$f":"IF(ISERROR(VLOOKUP(CONCATENATE($AC$68,\"_\",AB73),選手名簿!$A:$E,5,FALSE))=TRUE,\"\",VLOOKUP(CONCATENATE($AC$68,\"_\",AB73),選手名簿!$A:$E,5,FALSE))","v":""}]
[null,null,null,null,"得点者",{"$f":"IF(ISERROR(VLOOKUP(CONCATENATE($F$68,\"_\",G74),選手名簿!$A:$E,5,FALSE))=TRUE,\"\",VLOOKUP(CONCATENATE($F$68,\"_\",G74),選手名簿!$A:$E,5,FALSE))","v":""},null,null,null,null,null,null,null,{"$f":"IF(ISERROR(VLOOKUP(CONCATENATE($N$68,\"_\",M74),選手名簿!$A:$E,5,FALSE))=TRUE,\"\",VLOOKUP(CONCATENATE($N$68,\"_\",M74),選手名簿!$A:$E,5,FALSE))","v":""},null,null,null,null,null,"得点者",{"$f":"IF(ISERROR(VLOOKUP(CONCATENATE($U$68,\"_\",V74),選手名簿!$A:$E,5,FALSE))=TRUE,\"\",VLOOKUP(CONCATENATE($U$68,\"_\",V74),選手名簿!$A:$E,5,FALSE))","v":""},null,null,null,null,null,null,null,{"$f":"IF(ISERROR(VLOOKUP(CONCATENATE($AC$68,\"_\",AB74),選手名簿!$A:$E,5,FALSE))=TRUE,\"\",VLOOKUP(CONCATENATE($AC$68,\"_\",AB74),選手名簿!$A:$E,5,FALSE))","v":""}]
[null,null,null,null,"得点者",{"$f":"IF(ISERROR(VLOOKUP(CONCATENATE($F$68,\"_\",G75),選手名簿!$A:$E,5,FALSE))=TRUE,\"\",VLOOKUP(CONCATENATE($F$68,\"_\",G75),選手名簿!$A:$E,5,FALSE))","v":""},null,null,null,null,null,null,null,{"$f":"IF(ISERROR(VLOOKUP(CONCATENATE($N$68,\"_\",M75),選手名簿!$A:$E,5,FALSE))=TRUE,\"\",VLOOKUP(CONCATENATE($N$68,\"_\",M75),選手名簿!$A:$E,5,FALSE))","v":""},null,null,null,null,null,"得点者",{"$f":"IF(ISERROR(VLOOKUP(CONCATENATE($U$68,\"_\",V75),選手名簿!$A:$E,5,FALSE))=TRUE,\"\",VLOOKUP(CONCATENATE($U$68,\"_\",V75),選手名簿!$A:$E,5,FALSE))","v":""},null,null,null,null,null,null,null,{"$f":"IF(ISERROR(VLOOKUP(CONCATENATE($AC$68,\"_\",AB75),選手名簿!$A:$E,5,FALSE))=TRUE,\"\",VLOOKUP(CONCATENATE($AC$68,\"_\",AB75),選手名簿!$A:$E,5,FALSE))","v":""}]
[null,null,null,null,"得点者",{"$f":"IF(ISERROR(VLOOKUP(CONCATENATE($F$68,\"_\",G76),選手名簿!$A:$E,5,FALSE))=TRUE,\"\",VLOOKUP(CONCATENATE($F$68,\"_\",G76),選手名簿!$A:$E,5,FALSE))","v":""},null,null,null,null,null,null,null,{"$f":"IF(ISERROR(VLOOKUP(CONCATENATE($N$68,\"_\",M76),選手名簿!$A:$E,5,FALSE))=TRUE,\"\",VLOOKUP(CONCATENATE($N$68,\"_\",M76),選手名簿!$A:$E,5,FALSE))","v":""},null,null,null,null,null,"得点者",{"$f":"IF(ISERROR(VLOOKUP(CONCATENATE($U$68,\"_\",V76),選手名簿!$A:$E,5,FALSE))=TRUE,\"\",VLOOKUP(CONCATENATE($U$68,\"_\",V76),選手名簿!$A:$E,5,FALSE))","v":""},null,null,null,null,null,null,null,{"$f":"IF(ISERROR(VLOOKUP(CONCATENATE($AC$68,\"_\",AB76),選手名簿!$A:$E,5,FALSE))=TRUE,\"\",VLOOKUP(CONCATENATE($AC$68,\"_\",AB76),選手名簿!$A:$E,5,FALSE))","v":""}]
[null,null,null,null,"得点者",{"$f":"IF(ISERROR(VLOOKUP(CONCATENATE($F$68,\"_\",G77),選手名簿!$A:$E,5,FALSE))=TRUE,\"\",VLOOKUP(CONCATENATE($F$68,\"_\",G77),選手名簿!$A:$E,5,FALSE))","v":""},null,null,null,null,null,null,null,{"$f":"IF(ISERROR(VLOOKUP(CONCATENATE($N$68,\"_\",M77),選手名簿!$A:$E,5,FALSE))=TRUE,\"\",VLOOKUP(CONCATENATE($N$68,\"_\",M77),選手名簿!$A:$E,5,FALSE))","v":""},null,null,null,null,null,"得点者",{"$f":"IF(ISERROR(VLOOKUP(CONCATENATE($U$68,\"_\",V77),選手名簿!$A:$E,5,FALSE))=TRUE,\"\",VLOOKUP(CONCATENATE($U$68,\"_\",V77),選手名簿!$A:$E,5,FALSE))","v":""},null,null,null,null,null,null,null,{"$f":"IF(ISERROR(VLOOKUP(CONCATENATE($AC$68,\"_\",AB77),選手名簿!$A:$E,5,FALSE))=TRUE,\"\",VLOOKUP(CONCATENATE($AC$68,\"_\",AB77),選手名簿!$A:$E,5,FALSE))","v":""}]
[null,null,null,null,"得点者",{"$f":"IF(ISERROR(VLOOKUP(CONCATENATE($F$68,\"_\",G78),選手名簿!$A:$E,5,FALSE))=TRUE,\"\",VLOOKUP(CONCATENATE($F$68,\"_\",G78),選手名簿!$A:$E,5,FALSE))","v":""},null,null,null,null,null,null,null,{"$f":"IF(ISERROR(VLOOKUP(CONCATENATE($N$68,\"_\",M78),選手名簿!$A:$E,5,FALSE))=TRUE,\"\",VLOOKUP(CONCATENATE($N$68,\"_\",M78),選手名簿!$A:$E,5,FALSE))","v":""},null,null,null,null,null,"得点者",{"$f":"IF(ISERROR(VLOOKUP(CONCATENATE($U$68,\"_\",V78),選手名簿!$A:$E,5,FALSE))=TRUE,\"\",VLOOKUP(CONCATENATE($U$68,\"_\",V78),選手名簿!$A:$E,5,FALSE))","v":""},null,null,null,null,null,null,null,{"$f":"IF(ISERROR(VLOOKUP(CONCATENATE($AC$68,\"_\",AB78),選手名簿!$A:$E,5,FALSE))=TRUE,\"\",VLOOKUP(CONCATENATE($AC$68,\"_\",AB78),選手名簿!$A:$E,5,FALSE))","v":""}]
[null,null,null,null,"得点者",{"$f":"IF(ISERROR(VLOOKUP(CONCATENATE($F$68,\"_\",G79),選手名簿!$A:$E,5,FALSE))=TRUE,\"\",VLOOKUP(CONCATENATE($F$68,\"_\",G79),選手名簿!$A:$E,5,FALSE))","v":""},null,null,null,null,null,null,null,{"$f":"IF(ISERROR(VLOOKUP(CONCATENATE($N$68,\"_\",M79),選手名簿!$A:$E,5,FALSE))=TRUE,\"\",VLOOKUP(CONCATENATE($N$68,\"_\",M79),選手名簿!$A:$E,5,FALSE))","v":""},null,null,null,null,null,"得点者",{"$f":"IF(ISERROR(VLOOKUP(CONCATENATE($U$68,\"_\",V79),選手名簿!$A:$E,5,FALSE))=TRUE,\"\",VLOOKUP(CONCATENATE($U$68,\"_\",V79),選手名簿!$A:$E,5,FALSE))","v":""},null,null,null,null,null,null,null,{"$f":"IF(ISERROR(VLOOKUP(CONCATENATE($AC$68,\"_\",AB79),選手名簿!$A:$E,5,FALSE))=TRUE,\"\",VLOOKUP(CONCATENATE($AC$68,\"_\",AB79),選手名簿!$A:$E,5,FALSE))","v":""}]
[null,null,null,null,"得点者",{"$f":"IF(ISERROR(VLOOKUP(CONCATENATE($F$68,\"_\",G80),選手名簿!$A:$E,5,FALSE))=TRUE,\"\",VLOOKUP(CONCATENATE($F$68,\"_\",G80),選手名簿!$A:$E,5,FALSE))","v":""},null,null,null,null,null,null,null,{"$f":"IF(ISERROR(VLOOKUP(CONCATENATE($N$68,\"_\",M80),選手名簿!$A:$E,5,FALSE))=TRUE,\"\",VLOOKUP(CONCATENATE($N$68,\"_\",M80),選手名簿!$A:$E,5,FALSE))","v":""},null,null,null,null,null,"得点者",{"$f":"IF(ISERROR(VLOOKUP(CONCATENATE($U$68,\"_\",V80),選手名簿!$A:$E,5,FALSE))=TRUE,\"\",VLOOKUP(CONCATENATE($U$68,\"_\",V80),選手名簿!$A:$E,5,FALSE))","v":""},null,null,null,null,null,null,null,{"$f":"IF(ISERROR(VLOOKUP(CONCATENATE($AC$68,\"_\",AB80),選手名簿!$A:$E,5,FALSE))=TRUE,\"\",VLOOKUP(CONCATENATE($AC$68,\"_\",AB80),選手名簿!$A:$E,5,FALSE))","v":""}]
[null,null,null,null,"得点者",{"$f":"IF(ISERROR(VLOOKUP(CONCATENATE($F$68,\"_\",G81),選手名簿!$A:$E,5,FALSE))=TRUE,\"\",VLOOKUP(CONCATENATE($F$68,\"_\",G81),選手名簿!$A:$E,5,FALSE))","v":""},null,null,null,null,null,null,null,{"$f":"IF(ISERROR(VLOOKUP(CONCATENATE($N$68,\"_\",M81),選手名簿!$A:$E,5,FALSE))=TRUE,\"\",VLOOKUP(CONCATENATE($N$68,\"_\",M81),選手名簿!$A:$E,5,FALSE))","v":""},null,null,null,null,null,"得点者",{"$f":"IF(ISERROR(VLOOKUP(CONCATENATE($U$68,\"_\",V81),選手名簿!$A:$E,5,FALSE))=TRUE,\"\",VLOOKUP(CONCATENATE($U$68,\"_\",V81),選手名簿!$A:$E,5,FALSE))","v":""},null,null,null,null,null,null,null,{"$f":"IF(ISERROR(VLOOKUP(CONCATENATE($AC$68,\"_\",AB81),選手名簿!$A:$E,5,FALSE))=TRUE,\"\",VLOOKUP(CONCATENATE($AC$68,\"_\",AB81),選手名簿!$A:$E,5,FALSE))","v":""}]
["番号","R010120124",null,null,"警告/退場",{"$f":"IF(ISERROR(VLOOKUP(CONCATENATE($F$68,\"_\",G82),選手名簿!$A:$E,5,FALSE))=TRUE,\"\",VLOOKUP(CONCATENATE($F$68,\"_\",G82),選手名簿!$A:$E,5,FALSE))","v":""},null,null,null,null,null,null,null,{"$f":"IF(ISERROR(VLOOKUP(CONCATENATE($N$68,\"_\",M82),選手名簿!$A:$E,5,FALSE))=TRUE,\"\",VLOOKUP(CONCATENATE($N$68,\"_\",M82),選手名簿!$A:$E,5,FALSE))","v":""},null,"番号","R010448235",null,null,"警告/退場",{"$f":"IF(ISERROR(VLOOKUP(CONCATENATE($U$68,\"_\",V82),選手名簿!$A:$E,5,FALSE))=TRUE,\"\",VLOOKUP(CONCATENATE($U$68,\"_\",V82),選手名簿!$A:$E,5,FALSE))","v":""},null,null,null,null,null,null,null,{"$f":"IF(ISERROR(VLOOKUP(CONCATENATE($AC$68,\"_\",AB82),選手名簿!$A:$E,5,FALSE))=TRUE,\"\",VLOOKUP(CONCATENATE($AC$68,\"_\",AB82),選手名簿!$A:$E,5,FALSE))","v":""}]
["R",{"$f":"IF(ISERROR(VLOOKUP(B82,審判員!$A:$C,2,FALSE))=TRUE,\"\",VLOOKUP(B82,審判員!$A:$C,2,FALSE))","v":"田尻　貴志"},null,{"$f":"IF(ISERROR(VLOOKUP(B82,審判員!$A:$C,3,FALSE))=TRUE,\"\",VLOOKUP(B82,審判員!$A:$C,3,FALSE))","v":"３級"},"警告/退場",{"$f":"IF(ISERROR(VLOOKUP(CONCATENATE($F$68,\"_\",G83),選手名簿!$A:$E,5,FALSE))=TRUE,\"\",VLOOKUP(CONCATENATE($F$68,\"_\",G83),選手名簿!$A:$E,5,FALSE))","v":""},null,null,null,null,null,null,null,{"$f":"IF(ISERROR(VLOOKUP(CONCATENATE($N$68,\"_\",M83),選手名簿!$A:$E,5,FALSE))=TRUE,\"\",VLOOKUP(CONCATENATE($N$68,\"_\",M83),選手名簿!$A:$E,5,FALSE))","v":""},null,"R",{"$f":"IF(ISERROR(VLOOKUP(Q82,審判員!$A:$C,2,FALSE))=TRUE,\"\",VLOOKUP(Q82,審判員!$A:$C,2,FALSE))","v":"礒辺　宏基"},null,{"$f":"IF(ISERROR(VLOOKUP(Q82,審判員!$A:$C,3,FALSE))=TRUE,\"\",VLOOKUP(Q82,審判員!$A:$C,3,FALSE))","v":"３級"},"警告/退場",{"$f":"IF(ISERROR(VLOOKUP(CONCATENATE($U$68,\"_\",V83),選手名簿!$A:$E,5,FALSE))=TRUE,\"\",VLOOKUP(CONCATENATE($U$68,\"_\",V83),選手名簿!$A:$E,5,FALSE))","v":""},null,null,null,null,null,null,null,{"$f":"IF(ISERROR(VLOOKUP(CONCATENATE($AC$68,\"_\",AB83),選手名簿!$A:$E,5,FALSE))=TRUE,\"\",VLOOKUP(CONCATENATE($AC$68,\"_\",AB83),選手名簿!$A:$E,5,FALSE))","v":""}]
["番号","R001254051",null,null,"警告/退場",{"$f":"IF(ISERROR(VLOOKUP(CONCATENATE($F$68,\"_\",G84),選手名簿!$A:$E,5,FALSE))=TRUE,\"\",VLOOKUP(CONCATENATE($F$68,\"_\",G84),選手名簿!$A:$E,5,FALSE))","v":""},null,null,null,null,null,null,null,{"$f":"IF(ISERROR(VLOOKUP(CONCATENATE($N$68,\"_\",M84),選手名簿!$A:$E,5,FALSE))=TRUE,\"\",VLOOKUP(CONCATENATE($N$68,\"_\",M84),選手名簿!$A:$E,5,FALSE))","v":""},null,"番号","R001253548",null,null,"警告/退場",{"$f":"IF(ISERROR(VLOOKUP(CONCATENATE($U$68,\"_\",V84),選手名簿!$A:$E,5,FALSE))=TRUE,\"\",VLOOKUP(CONCATENATE($U$68,\"_\",V84),選手名簿!$A:$E,5,FALSE))","v":""},null,null,null,null,null,null,null,{"$f":"IF(ISERROR(VLOOKUP(CONCATENATE($AC$68,\"_\",AB84),選手名簿!$A:$E,5,FALSE))=TRUE,\"\",VLOOKUP(CONCATENATE($AC$68,\"_\",AB84),選手名簿!$A:$E,5,FALSE))","v":""}]
["AR1:",{"$f":"IF(ISERROR(VLOOKUP(B84,審判員!$A:$C,2,FALSE))=TRUE,\"\",VLOOKUP(B84,審判員!$A:$C,2,FALSE))","v":"井上　直樹"},null,{"$f":"IF(ISERROR(VLOOKUP(B84,審判員!$A:$C,3,FALSE))=TRUE,\"\",VLOOKUP(B84,審判員!$A:$C,3,FALSE))","v":"３級"},"警告/退場",{"$f":"IF(ISERROR(VLOOKUP(CONCATENATE($F$68,\"_\",G85),選手名簿!$A:$E,5,FALSE))=TRUE,\"\",VLOOKUP(CONCATENATE($F$68,\"_\",G85),選手名簿!$A:$E,5,FALSE))","v":""},null,null,null,null,null,null,null,{"$f":"IF(ISERROR(VLOOKUP(CONCATENATE($N$68,\"_\",M85),選手名簿!$A:$E,5,FALSE))=TRUE,\"\",VLOOKUP(CONCATENATE($N$68,\"_\",M85),選手名簿!$A:$E,5,FALSE))","v":""},null,"AR1:",{"$f":"IF(ISERROR(VLOOKUP(Q84,審判員!$A:$C,2,FALSE))=TRUE,\"\",VLOOKUP(Q84,審判員!$A:$C,2,FALSE))","v":"安藤　洋樹"},null,{"$f":"IF(ISERROR(VLOOKUP(Q84,審判員!$A:$C,3,FALSE))=TRUE,\"\",VLOOKUP(Q84,審判員!$A:$C,3,FALSE))","v":"３級"},"警告/退場",{"$f":"IF(ISERROR(VLOOKUP(CONCATENATE($U$68,\"_\",V85),選手名簿!$A:$E,5,FALSE))=TRUE,\"\",VLOOKUP(CONCATENATE($U$68,\"_\",V85),選手名簿!$A:$E,5,FALSE))","v":""},null,null,null,null,null,null,null,{"$f":"IF(ISERROR(VLOOKUP(CONCATENATE($AC$68,\"_\",AB85),選手名簿!$A:$E,5,FALSE))=TRUE,\"\",VLOOKUP(CONCATENATE($AC$68,\"_\",AB85),選手名簿!$A:$E,5,FALSE))","v":""}]
["番号","R010281871",null,null,"警告/退場",{"$f":"IF(ISERROR(VLOOKUP(CONCATENATE($F$68,\"_\",G86),選手名簿!$A:$E,5,FALSE))=TRUE,\"\",VLOOKUP(CONCATENATE($F$68,\"_\",G86),選手名簿!$A:$E,5,FALSE))","v":""},null,null,null,null,null,null,null,{"$f":"IF(ISERROR(VLOOKUP(CONCATENATE($N$68,\"_\",M86),選手名簿!$A:$E,5,FALSE))=TRUE,\"\",VLOOKUP(CONCATENATE($N$68,\"_\",M86),選手名簿!$A:$E,5,FALSE))","v":""},null,"番号","R010465594",null,null,"警告/退場",{"$f":"IF(ISERROR(VLOOKUP(CONCATENATE($U$68,\"_\",V86),選手名簿!$A:$E,5,FALSE))=TRUE,\"\",VLOOKUP(CONCATENATE($U$68,\"_\",V86),選手名簿!$A:$E,5,FALSE))","v":""},null,null,null,null,null,null,null,{"$f":"IF(ISERROR(VLOOKUP(CONCATENATE($AC$68,\"_\",AB86),選手名簿!$A:$E,5,FALSE))=TRUE,\"\",VLOOKUP(CONCATENATE($AC$68,\"_\",AB86),選手名簿!$A:$E,5,FALSE))","v":""}]
["AR2:",{"$f":"IF(ISERROR(VLOOKUP(B86,審判員!$A:$C,2,FALSE))=TRUE,\"\",VLOOKUP(B86,審判員!$A:$C,2,FALSE))","v":"山本　青"},null,{"$f":"IF(ISERROR(VLOOKUP(B86,審判員!$A:$C,3,FALSE))=TRUE,\"\",VLOOKUP(B86,審判員!$A:$C,3,FALSE))","v":"３級"},"警告/退場",{"$f":"IF(ISERROR(VLOOKUP(CONCATENATE($F$68,\"_\",G87),選手名簿!$A:$E,5,FALSE))=TRUE,\"\",VLOOKUP(CONCATENATE($F$68,\"_\",G87),選手名簿!$A:$E,5,FALSE))","v":""},null,null,null,null,null,null,null,{"$f":"IF(ISERROR(VLOOKUP(CONCATENATE($N$68,\"_\",M87),選手名簿!$A:$E,5,FALSE))=TRUE,\"\",VLOOKUP(CONCATENATE($N$68,\"_\",M87),選手名簿!$A:$E,5,FALSE))","v":""},null,"AR2:",{"$f":"IF(ISERROR(VLOOKUP(Q86,審判員!$A:$C,2,FALSE))=TRUE,\"\",VLOOKUP(Q86,審判員!$A:$C,2,FALSE))","v":"佐藤　湧大"},null,{"$f":"IF(ISERROR(VLOOKUP(Q86,審判員!$A:$C,3,FALSE))=TRUE,\"\",VLOOKUP(Q86,審判員!$A:$C,3,FALSE))","v":"３級"},"警告/退場",{"$f":"IF(ISERROR(VLOOKUP(CONCATENATE($U$68,\"_\",V87),選手名簿!$A:$E,5,FALSE))=TRUE,\"\",VLOOKUP(CONCATENATE($U$68,\"_\",V87),選手名簿!$A:$E,5,FALSE))","v":""},null,null,null,null,null,null,null,{"$f":"IF(ISERROR(VLOOKUP(CONCATENATE($AC$68,\"_\",AB87),選手名簿!$A:$E,5,FALSE))=TRUE,\"\",VLOOKUP(CONCATENATE($AC$68,\"_\",AB87),選手名簿!$A:$E,5,FALSE))","v":""}]
["番号","R010448235",null,null,"警告/退場",{"$f":"IF(ISERROR(VLOOKUP(CONCATENATE($F$68,\"_\",G88),選手名簿!$A:$E,5,FALSE))=TRUE,\"\",VLOOKUP(CONCATENATE($F$68,\"_\",G88),選手名簿!$A:$E,5,FALSE))","v":""},null,null,null,null,null,null,null,{"$f":"IF(ISERROR(VLOOKUP(CONCATENATE($N$68,\"_\",M88),選手名簿!$A:$E,5,FALSE))=TRUE,\"\",VLOOKUP(CONCATENATE($N$68,\"_\",M88),選手名簿!$A:$E,5,FALSE))","v":""},null,"番号","R001262379",null,null,"警告/退場",{"$f":"IF(ISERROR(VLOOKUP(CONCATENATE($U$68,\"_\",V88),選手名簿!$A:$E,5,FALSE))=TRUE,\"\",VLOOKUP(CONCATENATE($U$68,\"_\",V88),選手名簿!$A:$E,5,FALSE))","v":""},null,null,null,null,null,null,null,{"$f":"IF(ISERROR(VLOOKUP(CONCATENATE($AC$68,\"_\",AB88),選手名簿!$A:$E,5,FALSE))=TRUE,\"\",VLOOKUP(CONCATENATE($AC$68,\"_\",AB88),選手名簿!$A:$E,5,FALSE))","v":""}]
["4th:",{"$f":"IF(ISERROR(VLOOKUP(B88,審判員!$A:$C,2,FALSE))=TRUE,\"\",VLOOKUP(B88,審判員!$A:$C,2,FALSE))","v":"礒辺　宏基"},null,{"$f":"IF(ISERROR(VLOOKUP(B88,審判員!$A:$C,3,FALSE))=TRUE,\"\",VLOOKUP(B88,審判員!$A:$C,3,FALSE))","v":"３級"},"警告/退場",{"$f":"IF(ISERROR(VLOOKUP(CONCATENATE($F$68,\"_\",G89),選手名簿!$A:$E,5,FALSE))=TRUE,\"\",VLOOKUP(CONCATENATE($F$68,\"_\",G89),選手名簿!$A:$E,5,FALSE))","v":""},null,null,null,null,null,null,null,{"$f":"IF(ISERROR(VLOOKUP(CONCATENATE($N$68,\"_\",M89),選手名簿!$A:$E,5,FALSE))=TRUE,\"\",VLOOKUP(CONCATENATE($N$68,\"_\",M89),選手名簿!$A:$E,5,FALSE))","v":""},null,"4th:",{"$f":"IF(ISERROR(VLOOKUP(Q88,審判員!$A:$C,2,FALSE))=TRUE,\"\",VLOOKUP(Q88,審判員!$A:$C,2,FALSE))","v":"石川　慎也"},null,{"$f":"IF(ISERROR(VLOOKUP(Q88,審判員!$A:$C,3,FALSE))=TRUE,\"\",VLOOKUP(Q88,審判員!$A:$C,3,FALSE))","v":"３級"},"警告/退場",{"$f":"IF(ISERROR(VLOOKUP(CONCATENATE($U$68,\"_\",V89),選手名簿!$A:$E,5,FALSE))=TRUE,\"\",VLOOKUP(CONCATENATE($U$68,\"_\",V89),選手名簿!$A:$E,5,FALSE))","v":""},null,null,null,null,null,null,null,{"$f":"IF(ISERROR(VLOOKUP(CONCATENATE($AC$68,\"_\",AB89),選手名簿!$A:$E,5,FALSE))=TRUE,\"\",VLOOKUP(CONCATENATE($AC$68,\"_\",AB89),選手名簿!$A:$E,5,FALSE))","v":""}]

{"sheet":"決勝トーナメント","index":13,"n_rows":31,"n_cols":34,"rows_kept":31,"cut":false,"hidden":false,"merged":[[2,23,3,28],[2,29,3,34],[0,23,1,34],[29,4,29,5],[24,15,24,16],[25,15,25,16],[25,13,25,14],[11,12,11,13],[19,12,19,13],[13,12,16,13],[29,12,29,13],[24,11,24,12],[23,10,23,11],[20,10,20,11],[24,13,24,14],[22,10,22,11],[27,14,27,15],[23,14,23,15],[20,14,20,15],[18,4,18,5],[13,4,16,5],[23,6,23,7],[18,12,18,13],[25,7,25,8],[11,4,11,5],[28,4,28,5],[25,3,25,4],[27,2,27,3],[25,11,25,12],[28,12,28,13],[27,6,27,7],[24,3,24,4],[14,27,15,28],[23,2,23,3],[20,2,20,3],[24,1,24,2],[24,7,24,8],[24,5,24,6],[25,5,25,6],[19,4,19,5],[25,1,25,2],[22,2,22,3],[25,9,25,10],[6,21,7,22],[4,21,5,22],[24,9,24,10],[20,6,20,7],[22,6,22,7],[2,6,2,11],[4,8,7,9],[9,8,9,9],[10,8,10,9],[8,20,11,20],[8,21,11,22],[22,14,22,15],[2,13,2,14],[5,13,5,14],[2,21,3,22],[2,4,2,5],[26,23,27,24],[26,27,27,28],[26,20,29,20],[27,10,27,11],[26,29,27,30],[26,33,27,34],[26,25,29,26],[28,23,29,24],[28,27,29,28],[28,29,29,30],[28,33,29,34],[26,31,29,32],[26,21,29,22],[22,33,23,34],[20,33,21,34],[20,29,21,30],[20,27,21,28],[18,23,19,24],[18,27,19,28],[18,29,19,30],[18,33,19,34],[16,33,17,34],[16,29,17,30],[30,21,31,22],[30,23,31,34],[24,21,25,22],[24,23,25,34],[20,21,23,22],[20,20,23,20],[16,20,19,20],[12,20,15,20],[12,21,15,22],[16,21,19,22],[20,25,23,26],[20,31,23,32],[16,31,19,32],[16,25,19,26],[12,25,15,26],[12,31,15,32],[16,23,17,24],[12,23,13,24],[14,23,15,24],[8,31,11,32],[8,25,11,26],[20,23,21,24],[22,23,23,24],[22,27,23,28],[22,29,23,30],[14,33,15,34],[12,33,13,34],[12,29,13,30],[12,27,13,28],[10,23,11,24],[10,27,11,28],[10,29,11,30],[10,33,11,34],[8,33,9,34],[8,29,9,30],[8,27,9,28],[8,23,9,24],[14,29,15,30],[16,27,17,28]]}
[null,"《決勝トーナメント日程》",null,null,null,null,null,"７月４日（日）",null,null,null,null,"８：００　開場",null,null,null,null,null,null,null,null,null,null,"昭和電工ｻｯｶｰ･ﾗｸﾞﾋﾞｰ場　Bｺｰﾄ"]
[]
[null,null,null,null,"☆優勝",null,"カティオーラフットボールクラブＵ－１２",null,null,null,null,null,null,"☆準優勝",null,null,null,null,null,null,null,"開始時刻",null,"「北」コート",null,null,null,null,null,"「南」コート"]
[null,null,null,null,null,null,null,null,null,null,null,null,null,"・ＦＣ中津ジュニア"]
[null,null,null,null,null,null,null,null,{"$f":"Z27","v":"Match No：33\n1　 前半 　1\n2 　後半 　1"},null,null,null,null,null,null,null,null,null,null,null,null,"会場設営"]
[null,null,null,null,null,null,null,null,null,null,null,null,null,"☆３位"]
[null,null,null,null,null,null,null,null,null,null,null,null,null,"・リノスフットボールクラブ　Ｕ－１２",null,null,null,null,null,null,null,"審判"]
[null,null,null,null,null,null,null,null,null,null,null,null,null,"・Ｓｈｙｎｔ　ＦＣ"]
[null,null,null,null,null,3,null,null,null,null,null,null,2,null,null,null,null,null,null,null,"①","09:30:00",null,"A-１位",null,"Match No：25\n2　 前半 　1\n1 　後半 　1",null,"E-１位",null,"B-１位",null,"Match No：26\n0　 前半 　0\n0 　後半 　1",null,"F-１位"]
[null,null,null,null,null,null,null,null,"Match No:33"]
[null,null,null,null,null,null,null,null,"14:10～ 北",null,null,null,null,null,null,null,null,null,null,null,null,null,null,{"$f":"B26","v":"カティオーラ"},null,null,null,{"$f":"D26","v":"トリニータ"},null,{"$f":"F26","v":"太陽大分西"},null,null,null,{"$f":"H26","v":"リノス"}]
[null,null,null,null,"カティオーラ",null,null,null,null,null,null,null,"ＦＣ中津"]
[null,null,null,null,null,null,null,null,null,null,null,null,null,null,null,null,null,null,null,null,"②","10:20:00",null,"C-１位",null,"Match No：27\n0　 前半 　0\n0 　後半 　0\n2   ＰＫ   3",null,"G-１位",null,"D-１位",null,"Match No：28\n3　 前半 　0\n1 　後半 　1",null,"H-１位"]
[null,null,null,null,{"$f":"Z17","v":"Match No：29\n2　 前半 　0\n4 　後半 　0"},null,null,null,null,null,null,null,{"$f":"Z21","v":"Match No：31\n2　 前半 　0\n3 　後半 　0"}]
[null,null,null,null,null,null,null,null,null,null,null,null,null,null,null,null,null,null,null,null,null,null,null,{"$f":"J26","v":"ドリームキッズ"},null,null,null,{"$f":"L26","v":"ＦＣ中津"},null,{"$f":"N26","v":"Ｓｈｙｎｔ"},null,null,null,{"$f":"P26","v":"明野西"}]
[]
[null,null,null,null,null,null,null,null,null,null,null,null,null,null,null,null,null,null,null,null,"③","11:10:00",null,"Match No：25 勝",null,"Match No：29\n2　 前半 　0\n4 　後半 　0",null,"Match No：26 勝",null,"Match No：25  負",null,"Match No：30\n3　 前半 　0\n1 　後半 　1",null,"Match No：26  負"]
[null,null,null,6,null,null,0,null,null,null,null,5,null,null,0]
[null,null,null,null,"Match No:29",null,null,null,null,null,null,null,"Match No:31",null,null,null,null,null,null,null,null,null,null,{"$f":"C21","v":"カティオーラ"},null,null,null,{"$f":"G21","v":"リノス"},null,{"$f":"C28","v":"トリニータ"},null,null,null,{"$f":"G28","v":"太陽大分西"}]
[null,null,null,null,"11:10～ 北",null,null,null,null,null,null,null,"12:00～ 北"]
[null,null,"カティオーラ",null,null,null,"リノス",null,null,null,"ＦＣ中津",null,null,null,"Ｓｈｙｎｔ",null,null,null,null,null,"④","12:00:00",null,"Match No：27 勝",null,"Match No：31\n2　 前半 　0\n3 　後半 　0",null,"Match No：28 勝",null,"Match No：27  負",null,"Match No：32\n1　 前半 　1\n1 　後半 　0",null,"Match No：28  負"]
[null,null,3,2,null,null,0,1,null,null,"0(2P","K3)0",null,null,4,1]
[null,null,"Match No:25",null,null,null,"Match No:26",null,null,null,"Match No:27",null,null,null,"Match No:28",null,null,null,null,null,null,null,null,{"$f":"K21","v":"ＦＣ中津"},null,null,null,{"$f":"O21","v":"Ｓｈｙｎｔ"},null,{"$f":"K28","v":"ドリームキッズ"},null,null,null,{"$f":"O28","v":"明野西"}]
[null,null,"9:30～ 北",null,null,null,"9:30～ 南",null,null,null,"10:20～ 北",null,null,null,"10:20～ 南"]
[null,"A-１位",null,"E-１位",null,"B-１位",null,"F-１位",null,"C-１位",null,"G-１位",null,"D-１位",null,"H-１位",null,null,null,null,null,"12:50:00",null,"休憩"]
[null,"カティオーラ",null,"トリニータ",null,"太陽大分西",null,"リノス",null,"ドリームキッズ",null,"ＦＣ中津",null,"Ｓｈｙｎｔ",null,"明野西"]
[null,null,null,null,null,null,null,null,null,null,null,null,null,null,null,null,null,null,null,null,"⑤","14:10:00",null,"Match No：29 勝",null,"Match No：33\n1　 前半 　1\n2 　後半 　1",null,"Match No：31 勝"]
[null,null,"トリニータ",null,null,null,"太陽大分西",null,null,null,"ドリームキッズ",null,null,null,"明野西"]
[null,null,null,null,"Match No:30",null,null,null,null,null,null,null,"Match No:32",null,null,null,null,null,null,null,null,null,null,{"$f":"E12","v":"カティオーラ"},null,null,null,{"$f":"M12","v":"ＦＣ中津"}]
[null,null,null,null,"11:10～ 南",null,null,null,null,null,null,null,"12:00～ 南"]
[null,null,null,4,null,null,1,null,null,null,null,2,null,null,1,null,null,null,null,null,null,"15:00:00",null,"閉会式"]

{"sheet":"決勝T公式記録","index":14,"n_rows":116,"n_cols":29,"rows_kept":116,"cut":false,"hidden":true,"merged":[[82,1,82,3],[82,16,82,18],[85,1,85,2],[85,16,85,17],[83,1,83,2],[83,16,83,17],[84,1,84,3],[84,16,84,18],[109,1,109,2],[109,16,109,17],[110,1,110,3],[110,16,110,18],[111,1,111,2],[111,16,111,17],[115,1,115,2],[115,16,115,17],[112,1,112,3],[112,16,112,18],[113,1,113,2],[113,16,113,17],[114,1,114,3],[114,16,114,18],[91,28,93,28],[107,0,107,3],[107,15,107,18],[108,1,108,3],[108,16,108,18],[91,13,93,13],[91,19,93,19],[91,20,93,20],[91,21,93,21],[91,22,93,22],[91,26,93,26],[91,4,93,4],[91,5,93,5],[91,6,93,6],[91,7,93,7],[91,11,93,11],[91,12,93,12],[91,27,93,27],[91,16,91,18],[92,16,92,18],[93,16,93,18],[91,1,91,3],[92,1,92,3],[93,1,93,3],[33,11,35,11],[33,12,35,12],[33,13,35,13],[19,0,19,3],[19,15,19,18],[47,0,47,3],[47,15,47,18],[54,16,54,18],[26,1,26,3],[33,7,35,7],[20,1,20,3],[20,16,20,18],[21,1,21,2],[21,16,21,17],[22,1,22,3],[22,16,22,18],[33,16,33,18],[34,16,34,18],[35,16,35,18],[51,1,51,2],[51,16,51,17],[52,1,52,3],[27,1,27,2],[27,16,27,17],[55,1,55,2],[55,16,55,17],[23,1,23,2],[23,16,23,17],[53,1,53,2],[53,16,53,17],[54,1,54,3],[33,28,35,28],[48,16,48,18],[49,1,49,2],[49,16,49,17],[50,1,50,3],[50,16,50,18],[33,19,35,19],[33,20,35,20],[33,21,35,21],[33,22,35,22],[33,26,35,26],[33,27,35,27],[48,1,48,3],[33,6,35,6],[33,1,33,3],[34,1,34,3],[35,1,35,3],[0,0,0,9],[0,10,0,13],[0,15,0,24],[5,4,7,4],[5,5,7,5],[5,6,7,6],[5,7,7,7],[25,16,25,17],[26,16,26,18],[5,1,5,3],[6,1,6,3],[7,1,7,3],[5,16,5,18],[6,16,6,18],[7,16,7,18],[2,16,2,19],[2,1,2,4],[0,25,0,28],[81,16,81,17],[61,11,63,11],[61,12,63,12],[61,13,63,13],[78,1,78,3],[77,0,77,3],[81,1,81,2],[5,20,7,20],[5,21,7,21],[5,27,7,27],[5,28,7,28],[5,22,7,22],[5,26,7,26],[5,11,7,11],[5,12,7,12],[5,13,7,13],[5,19,7,19],[24,1,24,3],[24,16,24,18],[25,1,25,2],[52,16,52,18],[33,4,35,4],[33,5,35,5],[61,22,63,22],[61,26,63,26],[61,27,63,27],[61,28,63,28],[80,1,80,3],[80,16,80,18],[61,19,63,19],[61,20,63,20],[61,21,63,21],[78,16,78,18],[79,16,79,17],[61,4,63,4],[61,5,63,5],[79,1,79,2],[61,6,63,6],[61,7,63,7],[61,1,61,3],[62,1,62,3],[63,1,63,3],[61,16,61,18],[62,16,62,18],[63,16,63,18],[77,15,77,18]]}
[{"$f":"大会要項!$B$2","v":"第10回 全日本不動産協会杯争奪U-12サッカー大会【ラビットカップ】大分県大会"},null,null,null,null,null,null,null,null,null,"決勝トーナメント結果　報告用紙",null,null,null,null,{"$f":"大会要項!$B$2","v":"第10回 全日本不動産協会杯争奪U-12サッカー大会【ラビットカップ】大分県大会"},null,null,null,null,null,null,null,null,null,"決勝トーナメント結果　報告用紙"]
[]
["会場",{"$f":"決勝トーナメント!X1","v":"昭和電工ｻｯｶｰ･ﾗｸﾞﾋﾞｰ場　Bｺｰﾄ"},null,null,null,{"$f":"決勝トーナメント!X3","v":"「北」コート"},null,null,null,null,null,null,null,null,null,"会場",{"$f":"決勝トーナメント!X1","v":"昭和電工ｻｯｶｰ･ﾗｸﾞﾋﾞｰ場　Bｺｰﾄ"},null,null,null,{"$f":"決勝トーナメント!AD3","v":"「南」コート"}]
[]
[null,"Match No：25",null,null,null,null,null,null,null,null,null,null,null,null,null,null,"Match No：26"]
["MC","仲野　昭博",null,null,"09:30:00",{"$f":"VLOOKUP(決勝トーナメント!B26,組合せ抽選用!$S:$U,3,FALSE)","v":"カティオーラフットボールクラブＵ－１２"},{"$f":"SUM(I6:I7)","v":3},"（",2,"前半",1,"）",{"$f":"SUM(K6:K7)","v":2},{"$f":"VLOOKUP(決勝トーナメント!D26,組合せ抽選用!$S:$U,3,FALSE)","v":"大分トリニータＵ－１２"},null,"MC","中原　圭介",null,null,"09:30:00",{"$f":"VLOOKUP(決勝トーナメント!F26,組合せ抽選用!$S:$U,3,FALSE)","v":"太陽スポーツクラブ大分西"},{"$f":"SUM(X6:X7)","v":0},"（",0,"前半",0,"）",{"$f":"SUM(Z6:Z7)","v":1},{"$f":"VLOOKUP(決勝トーナメント!H26,組合せ抽選用!$S:$U,3,FALSE)","v":"リノスフットボールクラブ　Ｕ－１２"}]
["Welfare\nOfficer","松下　省吾",null,null,null,null,null,null,1,"後半",1,null,null,null,null,"Welfare\nOfficer","磯村　信一",null,null,null,null,null,null,0,"後半",1]
["記録","佐々木　秀樹",null,null,null,null,null,null,null,"PK",null,null,null,null,null,"記録","榊　謙治",null,null,null,null,null,null,null,"PK"]
[null,null,null,null,null,"氏名","番号","分",null,null,null,"分","番号","氏名",null,null,null,null,null,null,"氏名","番号","分",null,null,null,"分","番号","氏名"]
[null,null,null,null,"得点者",{"$f":"IF(ISERROR(VLOOKUP(CONCATENATE($F$6,\"_\",G10),選手名簿!$A:$E,5,FALSE))=TRUE,\"\",VLOOKUP(CONCATENATE($F$6,\"_\",G10),選手名簿!$A:$E,5,FALSE))","v":""},null,null,null,null,null,null,null,{"$f":"IF(ISERROR(VLOOKUP(CONCATENATE($N$6,\"_\",M10),選手名簿!$A:$E,5,FALSE))=TRUE,\"\",VLOOKUP(CONCATENATE($N$6,\"_\",M10),選手名簿!$A:$E,5,FALSE))","v":""},null,null,null,null,null,"得点者",{"$f":"IF(ISERROR(VLOOKUP(CONCATENATE($U$6,\"_\",V10),選手名簿!$A:$E,5,FALSE))=TRUE,\"\",VLOOKUP(CONCATENATE($U$6,\"_\",V10),選手名簿!$A:$E,5,FALSE))","v":""},null,null,null,null,null,null,null,{"$f":"IF(ISERROR(VLOOKUP(CONCATENATE($AC$6,\"_\",AB10),選手名簿!$A:$E,5,FALSE))=TRUE,\"\",VLOOKUP(CONCATENATE($AC$6,\"_\",AB10),選手名簿!$A:$E,5,FALSE))","v":""}]
[null,null,null,null,"得点者",{"$f":"IF(ISERROR(VLOOKUP(CONCATENATE($F$6,\"_\",G11),選手名簿!$A:$E,5,FALSE))=TRUE,\"\",VLOOKUP(CONCATENATE($F$6,\"_\",G11),選手名簿!$A:$E,5,FALSE))","v":""},null,null,null,null,null,null,null,{"$f":"IF(ISERROR(VLOOKUP(CONCATENATE($N$6,\"_\",M11),選手名簿!$A:$E,5,FALSE))=TRUE,\"\",VLOOKUP(CONCATENATE($N$6,\"_\",M11),選手名簿!$A:$E,5,FALSE))","v":""},null,null,null,null,null,"得点者",{"$f":"IF(ISERROR(VLOOKUP(CONCATENATE($U$6,\"_\",V11),選手名簿!$A:$E,5,FALSE))=TRUE,\"\",VLOOKUP(CONCATENATE($U$6,\"_\",V11),選手名簿!$A:$E,5,FALSE))","v":""},null,null,null,null,null,null,null,{"$f":"IF(ISERROR(VLOOKUP(CONCATENATE($AC$6,\"_\",AB11),選手名簿!$A:$E,5,FALSE))=TRUE,\"\",VLOOKUP(CONCATENATE($AC$6,\"_\",AB11),選手名簿!$A:$E,5,FALSE))","v":""}]
[null,null,null,null,"得点者",{"$f":"IF(ISERROR(VLOOKUP(CONCATENATE($F$6,\"_\",G12),選手名簿!$A:$E,5,FALSE))=TRUE,\"\",VLOOKUP(CONCATENATE($F$6,\"_\",G12),選手名簿!$A:$E,5,FALSE))","v":""},null,null,null,null,null,null,null,{"$f":"IF(ISERROR(VLOOKUP(CONCATENATE($N$6,\"_\",M12),選手名簿!$A:$E,5,FALSE))=TRUE,\"\",VLOOKUP(CONCATENATE($N$6,\"_\",M12),選手名簿!$A:$E,5,FALSE))","v":""},null,null,null,null,null,"得点者",{"$f":"IF(ISERROR(VLOOKUP(CONCATENATE($U$6,\"_\",V12),選手名簿!$A:$E,5,FALSE))=TRUE,\"\",VLOOKUP(CONCATENATE($U$6,\"_\",V12),選手名簿!$A:$E,5,FALSE))","v":""},null,null,null,null,null,null,null,{"$f":"IF(ISERROR(VLOOKUP(CONCATENATE($AC$6,\"_\",AB12),選手名簿!$A:$E,5,FALSE))=TRUE,\"\",VLOOKUP(CONCATENATE($AC$6,\"_\",AB12),選手名簿!$A:$E,5,FALSE))","v":""}]
[null,null,null,null,"得点者",{"$f":"IF(ISERROR(VLOOKUP(CONCATENATE($F$6,\"_\",G13),選手名簿!$A:$E,5,FALSE))=TRUE,\"\",VLOOKUP(CONCATENATE($F$6,\"_\",G13),選手名簿!$A:$E,5,FALSE))","v":""},null,null,null,null,null,null,null,{"$f":"IF(ISERROR(VLOOKUP(CONCATENATE($N$6,\"_\",M13),選手名簿!$A:$E,5,FALSE))=TRUE,\"\",VLOOKUP(CONCATENATE($N$6,\"_\",M13),選手名簿!$A:$E,5,FALSE))","v":""},null,null,null,null,null,"得点者",{"$f":"IF(ISERROR(VLOOKUP(CONCATENATE($U$6,\"_\",V13),選手名簿!$A:$E,5,FALSE))=TRUE,\"\",VLOOKUP(CONCATENATE($U$6,\"_\",V13),選手名簿!$A:$E,5,FALSE))","v":""},null,null,null,null,null,null,null,{"$f":"IF(ISERROR(VLOOKUP(CONCATENATE($AC$6,\"_\",AB13),選手名簿!$A:$E,5,FALSE))=TRUE,\"\",VLOOKUP(CONCATENATE($AC$6,\"_\",AB13),選手名簿!$A:$E,5,FALSE))","v":""}]
[null,null,null,null,"得点者",{"$f":"IF(ISERROR(VLOOKUP(CONCATENATE($F$6,\"_\",G14),選手名簿!$A:$E,5,FALSE))=TRUE,\"\",VLOOKUP(CONCATENATE($F$6,\"_\",G14),選手名簿!$A:$E,5,FALSE))","v":""},null,null,null,null,null,null,null,{"$f":"IF(ISERROR(VLOOKUP(CONCATENATE($N$6,\"_\",M14),選手名簿!$A:$E,5,FALSE))=TRUE,\"\",VLOOKUP(CONCATENATE($N$6,\"_\",M14),選手名簿!$A:$E,5,FALSE))","v":""},null,null,null,null,null,"得点者",{"$f":"IF(ISERROR(VLOOKUP(CONCATENATE($U$6,\"_\",V14),選手名簿!$A:$E,5,FALSE))=TRUE,\"\",VLOOKUP(CONCATENATE($U$6,\"_\",V14),選手名簿!$A:$E,5,FALSE))","v":""},null,null,null,null,null,null,null,{"$f":"IF(ISERROR(VLOOKUP(CONCATENATE($AC$6,\"_\",AB14),選手名簿!$A:$E,5,FALSE))=TRUE,\"\",VLOOKUP(CONCATENATE($AC$6,\"_\",AB14),選手名簿!$A:$E,5,FALSE))","v":""}]
[null,null,null,null,"得点者",{"$f":"IF(ISERROR(VLOOKUP(CONCATENATE($F$6,\"_\",G15),選手名簿!$A:$E,5,FALSE))=TRUE,\"\",VLOOKUP(CONCATENATE($F$6,\"_\",G15),選手名簿!$A:$E,5,FALSE))","v":""},null,null,null,null,null,null,null,{"$f":"IF(ISERROR(VLOOKUP(CONCATENATE($N$6,\"_\",M15),選手名簿!$A:$E,5,FALSE))=TRUE,\"\",VLOOKUP(CONCATENATE($N$6,\"_\",M15),選手名簿!$A:$E,5,FALSE))","v":""},null,null,null,null,null,"得点者",{"$f":"IF(ISERROR(VLOOKUP(CONCATENATE($U$6,\"_\",V15),選手名簿!$A:$E,5,FALSE))=TRUE,\"\",VLOOKUP(CONCATENATE($U$6,\"_\",V15),選手名簿!$A:$E,5,FALSE))","v":""},null,null,null,null,null,null,null,{"$f":"IF(ISERROR(VLOOKUP(CONCATENATE($AC$6,\"_\",AB15),選手名簿!$A:$E,5,FALSE))=TRUE,\"\",VLOOKUP(CONCATENATE($AC$6,\"_\",AB15),選手名簿!$A:$E,5,FALSE))","v":""}]
[null,null,null,null,"得点者",{"$f":"IF(ISERROR(VLOOKUP(CONCATENATE($F$6,\"_\",G16),選手名簿!$A:$E,5,FALSE))=TRUE,\"\",VLOOKUP(CONCATENATE($F$6,\"_\",G16),選手名簿!$A:$E,5,FALSE))","v":""},null,null,null,null,null,null,null,{"$f":"IF(ISERROR(VLOOKUP(CONCATENATE($N$6,\"_\",M16),選手名簿!$A:$E,5,FALSE))=TRUE,\"\",VLOOKUP(CONCATENATE($N$6,\"_\",M16),選手名簿!$A:$E,5,FALSE))","v":""},null,null,null,null,null,"得点者",{"$f":"IF(ISERROR(VLOOKUP(CONCATENATE($U$6,\"_\",V16),選手名簿!$A:$E,5,FALSE))=TRUE,\"\",VLOOKUP(CONCATENATE($U$6,\"_\",V16),選手名簿!$A:$E,5,FALSE))","v":""},null,null,null,null,null,null,null,{"$f":"IF(ISERROR(VLOOKUP(CONCATENATE($AC$6,\"_\",AB16),選手名簿!$A:$E,5,FALSE))=TRUE,\"\",VLOOKUP(CONCATENATE($AC$6,\"_\",AB16),選手名簿!$A:$E,5,FALSE))","v":""}]
[null,null,null,null,"得点者",{"$f":"IF(ISERROR(VLOOKUP(CONCATENATE($F$6,\"_\",G17),選手名簿!$A:$E,5,FALSE))=TRUE,\"\",VLOOKUP(CONCATENATE($F$6,\"_\",G17),選手名簿!$A:$E,5,FALSE))","v":""},null,null,null,null,null,null,null,{"$f":"IF(ISERROR(VLOOKUP(CONCATENATE($N$6,\"_\",M17),選手名簿!$A:$E,5,FALSE))=TRUE,\"\",VLOOKUP(CONCATENATE($N$6,\"_\",M17),選手名簿!$A:$E,5,FALSE))","v":""},null,null,null,null,null,"得点者",{"$f":"IF(ISERROR(VLOOKUP(CONCATENATE($U$6,\"_\",V17),選手名簿!$A:$E,5,FALSE))=TRUE,\"\",VLOOKUP(CONCATENATE($U$6,\"_\",V17),選手名簿!$A:$E,5,FALSE))","v":""},null,null,null,null,null,null,null,{"$f":"IF(ISERROR(VLOOKUP(CONCATENATE($AC$6,\"_\",AB17),選手名簿!$A:$E,5,FALSE))=TRUE,\"\",VLOOKUP(CONCATENATE($AC$6,\"_\",AB17),選手名簿!$A:$E,5,FALSE))","v":""}]
[null,null,null,null,"得点者",{"$f":"IF(ISERROR(VLOOKUP(CONCATENATE($F$6,\"_\",G18),選手名簿!$A:$E,5,FALSE))=TRUE,\"\",VLOOKUP(CONCATENATE($F$6,\"_\",G18),選手名簿!$A:$E,5,FALSE))","v":""},null,null,null,null,null,null,null,{"$f":"IF(ISERROR(VLOOKUP(CONCATENATE($N$6,\"_\",M18),選手名簿!$A:$E,5,FALSE))=TRUE,\"\",VLOOKUP(CONCATENATE($N$6,\"_\",M18),選手名簿!$A:$E,5,FALSE))","v":""},null,null,null,null,null,"得点者",{"$f":"IF(ISERROR(VLOOKUP(CONCATENATE($U$6,\"_\",V18),選手名簿!$A:$E,5,FALSE))=TRUE,\"\",VLOOKUP(CONCATENATE($U$6,\"_\",V18),選手名簿!$A:$E,5,FALSE))","v":""},null,null,null,null,null,null,null,{"$f":"IF(ISERROR(VLOOKUP(CONCATENATE($AC$6,\"_\",AB18),選手名簿!$A:$E,5,FALSE))=TRUE,\"\",VLOOKUP(CONCATENATE($AC$6,\"_\",AB18),選手名簿!$A:$E,5,FALSE))","v":""}]
[null,null,null,null,"得点者",{"$f":"IF(ISERROR(VLOOKUP(CONCATENATE($F$6,\"_\",G19),選手名簿!$A:$E,5,FALSE))=TRUE,\"\",VLOOKUP(CONCATENATE($F$6,\"_\",G19),選手名簿!$A:$E,5,FALSE))","v":""},null,null,null,null,null,null,null,{"$f":"IF(ISERROR(VLOOKUP(CONCATENATE($N$6,\"_\",M19),選手名簿!$A:$E,5,FALSE))=TRUE,\"\",VLOOKUP(CONCATENATE($N$6,\"_\",M19),選手名簿!$A:$E,5,FALSE))","v":""},null,null,null,null,null,"得点者",{"$f":"IF(ISERROR(VLOOKUP(CONCATENATE($U$6,\"_\",V19),選手名簿!$A:$E,5,FALSE))=TRUE,\"\",VLOOKUP(CONCATENATE($U$6,\"_\",V19),選手名簿!$A:$E,5,FALSE))","v":""},null,null,null,null,null,null,null,{"$f":"IF(ISERROR(VLOOKUP(CONCATENATE($AC$6,\"_\",AB19),選手名簿!$A:$E,5,FALSE))=TRUE,\"\",VLOOKUP(CONCATENATE($AC$6,\"_\",AB19),選手名簿!$A:$E,5,FALSE))","v":""}]
["＜Referee＞",null,null,null,null,"氏名","番号","分",null,null,null,"分","番号","氏名",null,"＜Referee＞",null,null,null,null,"氏名","番号","分",null,null,null,"分","番号","氏名"]
["番号","R005527609",null,null,"警告/退場",{"$f":"IF(ISERROR(VLOOKUP(CONCATENATE($F$6,\"_\",G21),選手名簿!$A:$E,5,FALSE))=TRUE,\"\",VLOOKUP(CONCATENATE($F$6,\"_\",G21),選手名簿!$A:$E,5,FALSE))","v":""},null,null,null,null,null,null,null,{"$f":"IF(ISERROR(VLOOKUP(CONCATENATE($N$6,\"_\",M21),選手名簿!$A:$E,5,FALSE))=TRUE,\"\",VLOOKUP(CONCATENATE($N$6,\"_\",M21),選手名簿!$A:$E,5,FALSE))","v":""},null,"番号","R001264775",null,null,"警告/退場",{"$f":"IF(ISERROR(VLOOKUP(CONCATENATE($U$6,\"_\",V21),選手名簿!$A:$E,5,FALSE))=TRUE,\"\",VLOOKUP(CONCATENATE($U$6,\"_\",V21),選手名簿!$A:$E,5,FALSE))","v":""},null,null,null,null,null,null,null,{"$f":"IF(ISERROR(VLOOKUP(CONCATENATE($AC$6,\"_\",AB21),選手名簿!$A:$E,5,FALSE))=TRUE,\"\",VLOOKUP(CONCATENATE($AC$6,\"_\",AB21),選手名簿!$A:$E,5,FALSE))","v":""}]
["R",{"$f":"IF(ISERROR(VLOOKUP(B21,審判員!$A:$C,2,FALSE))=TRUE,\"\",VLOOKUP(B21,審判員!$A:$C,2,FALSE))","v":"宇都宮　貴之"},null,{"$f":"IF(ISERROR(VLOOKUP(B21,審判員!$A:$C,3,FALSE))=TRUE,\"\",VLOOKUP(B21,審判員!$A:$C,3,FALSE))","v":"３級"},"警告/退場",{"$f":"IF(ISERROR(VLOOKUP(CONCATENATE($F$6,\"_\",G22),選手名簿!$A:$E,5,FALSE))=TRUE,\"\",VLOOKUP(CONCATENATE($F$6,\"_\",G22),選手名簿!$A:$E,5,FALSE))","v":""},null,null,null,null,null,null,null,{"$f":"IF(ISERROR(VLOOKUP(CONCATENATE($N$6,\"_\",M22),選手名簿!$A:$E,5,FALSE))=TRUE,\"\",VLOOKUP(CONCATENATE($N$6,\"_\",M22),選手名簿!$A:$E,5,FALSE))","v":""},null,"R",{"$f":"IF(ISERROR(VLOOKUP(Q21,審判員!$A:$C,2,FALSE))=TRUE,\"\",VLOOKUP(Q21,審判員!$A:$C,2,FALSE))","v":"屋敷　伴幸"},null,{"$f":"IF(ISERROR(VLOOKUP(Q21,審判員!$A:$C,3,FALSE))=TRUE,\"\",VLOOKUP(Q21,審判員!$A:$C,3,FALSE))","v":"３級"},"警告/退場",{"$f":"IF(ISERROR(VLOOKUP(CONCATENATE($U$6,\"_\",V22),選手名簿!$A:$E,5,FALSE))=TRUE,\"\",VLOOKUP(CONCATENATE($U$6,\"_\",V22),選手名簿!$A:$E,5,FALSE))","v":""},null,null,null,null,null,null,null,{"$f":"IF(ISERROR(VLOOKUP(CONCATENATE($AC$6,\"_\",AB22),選手名簿!$A:$E,5,FALSE))=TRUE,\"\",VLOOKUP(CONCATENATE($AC$6,\"_\",AB22),選手名簿!$A:$E,5,FALSE))","v":""}]
["番号","R010120124",null,null,"警告/退場",{"$f":"IF(ISERROR(VLOOKUP(CONCATENATE($F$6,\"_\",G23),選手名簿!$A:$E,5,FALSE))=TRUE,\"\",VLOOKUP(CONCATENATE($F$6,\"_\",G23),選手名簿!$A:$E,5,FALSE))","v":""},null,null,null,null,null,null,null,{"$f":"IF(ISERROR(VLOOKUP(CONCATENATE($N$6,\"_\",M23),選手名簿!$A:$E,5,FALSE))=TRUE,\"\",VLOOKUP(CONCATENATE($N$6,\"_\",M23),選手名簿!$A:$E,5,FALSE))","v":""},null,"番号","R010448235",null,null,"警告/退場",{"$f":"IF(ISERROR(VLOOKUP(CONCATENATE($U$6,\"_\",V23),選手名簿!$A:$E,5,FALSE))=TRUE,\"\",VLOOKUP(CONCATENATE($U$6,\"_\",V23),選手名簿!$A:$E,5,FALSE))","v":""},null,null,null,null,null,null,null,{"$f":"IF(ISERROR(VLOOKUP(CONCATENATE($AC$6,\"_\",AB23),選手名簿!$A:$E,5,FALSE))=TRUE,\"\",VLOOKUP(CONCATENATE($AC$6,\"_\",AB23),選手名簿!$A:$E,5,FALSE))","v":""}]
["AR1:",{"$f":"IF(ISERROR(VLOOKUP(B23,審判員!$A:$C,2,FALSE))=TRUE,\"\",VLOOKUP(B23,審判員!$A:$C,2,FALSE))","v":"田尻　貴志"},null,{"$f":"IF(ISERROR(VLOOKUP(B23,審判員!$A:$C,3,FALSE))=TRUE,\"\",VLOOKUP(B23,審判員!$A:$C,3,FALSE))","v":"３級"},"警告/退場",{"$f":"IF(ISERROR(VLOOKUP(CONCATENATE($F$6,\"_\",G24),選手名簿!$A:$E,5,FALSE))=TRUE,\"\",VLOOKUP(CONCATENATE($F$6,\"_\",G24),選手名簿!$A:$E,5,FALSE))","v":""},null,null,null,null,null,null,null,{"$f":"IF(ISERROR(VLOOKUP(CONCATENATE($N$6,\"_\",M24),選手名簿!$A:$E,5,FALSE))=TRUE,\"\",VLOOKUP(CONCATENATE($N$6,\"_\",M24),選手名簿!$A:$E,5,FALSE))","v":""},null,"AR1:",{"$f":"IF(ISERROR(VLOOKUP(Q23,審判員!$A:$C,2,FALSE))=TRUE,\"\",VLOOKUP(Q23,審判員!$A:$C,2,FALSE))","v":"礒辺　宏基"},null,{"$f":"IF(ISERROR(VLOOKUP(Q23,審判員!$A:$C,3,FALSE))=TRUE,\"\",VLOOKUP(Q23,審判員!$A:$C,3,FALSE))","v":"３級"},"警告/退場",{"$f":"IF(ISERROR(VLOOKUP(CONCATENATE($U$6,\"_\",V24),選手名簿!$A:$E,5,FALSE))=TRUE,\"\",VLOOKUP(CONCATENATE($U$6,\"_\",V24),選手名簿!$A:$E,5,FALSE))","v":""},null,null,null,null,null,null,null,{"$f":"IF(ISERROR(VLOOKUP(CONCATENATE($AC$6,\"_\",AB24),選手名簿!$A:$E,5,FALSE))=TRUE,\"\",VLOOKUP(CONCATENATE($AC$6,\"_\",AB24),選手名簿!$A:$E,5,FALSE))","v":""}]
["番号","R009460551",null,null,"警告/退場",{"$f":"IF(ISERROR(VLOOKUP(CONCATENATE($F$6,\"_\",G25),選手名簿!$A:$E,5,FALSE))=TRUE,\"\",VLOOKUP(CONCATENATE($F$6,\"_\",G25),選手名簿!$A:$E,5,FALSE))","v":""},null,null,null,null,null,null,null,{"$f":"IF(ISERROR(VLOOKUP(CONCATENATE($N$6,\"_\",M25),選手名簿!$A:$E,5,FALSE))=TRUE,\"\",VLOOKUP(CONCATENATE($N$6,\"_\",M25),選手名簿!$A:$E,5,FALSE))","v":""},null,"番号","R003256053",null,null,"警告/退場",{"$f":"IF(ISERROR(VLOOKUP(CONCATENATE($U$6,\"_\",V25),選手名簿!$A:$E,5,FALSE))=TRUE,\"\",VLOOKUP(CONCATENATE($U$6,\"_\",V25),選手名簿!$A:$E,5,FALSE))","v":""},null,null,null,null,null,null,null,{"$f":"IF(ISERROR(VLOOKUP(CONCATENATE($AC$6,\"_\",AB25),選手名簿!$A:$E,5,FALSE))=TRUE,\"\",VLOOKUP(CONCATENATE($AC$6,\"_\",AB25),選手名簿!$A:$E,5,FALSE))","v":""}]
["AR2:",{"$f":"IF(ISERROR(VLOOKUP(B25,審判員!$A:$C,2,FALSE))=TRUE,\"\",VLOOKUP(B25,審判員!$A:$C,2,FALSE))","v":"佐藤　慎二"},null,{"$f":"IF(ISERROR(VLOOKUP(B25,審判員!$A:$C,3,FALSE))=TRUE,\"\",VLOOKUP(B25,審判員!$A:$C,3,FALSE))","v":"３級"},"警告/退場",{"$f":"IF(ISERROR(VLOOKUP(CONCATENATE($F$6,\"_\",G26),選手名簿!$A:$E,5,FALSE))=TRUE,\"\",VLOOKUP(CONCATENATE($F$6,\"_\",G26),選手名簿!$A:$E,5,FALSE))","v":""},null,null,null,null,null,null,null,{"$f":"IF(ISERROR(VLOOKUP(CONCATENATE($N$6,\"_\",M26),選手名簿!$A:$E,5,FALSE))=TRUE,\"\",VLOOKUP(CONCATENATE($N$6,\"_\",M26),選手名簿!$A:$E,5,FALSE))","v":""},null,"AR2:",{"$f":"IF(ISERROR(VLOOKUP(Q25,審判員!$A:$C,2,FALSE))=TRUE,\"\",VLOOKUP(Q25,審判員!$A:$C,2,FALSE))","v":"菊地　謙一"},null,{"$f":"IF(ISERROR(VLOOKUP(Q25,審判員!$A:$C,3,FALSE))=TRUE,\"\",VLOOKUP(Q25,審判員!$A:$C,3,FALSE))","v":"３級"},"警告/退場",{"$f":"IF(ISERROR(VLOOKUP(CONCATENATE($U$6,\"_\",V26),選手名簿!$A:$E,5,FALSE))=TRUE,\"\",VLOOKUP(CONCATENATE($U$6,\"_\",V26),選手名簿!$A:$E,5,FALSE))","v":""},null,null,null,null,null,null,null,{"$f":"IF(ISERROR(VLOOKUP(CONCATENATE($AC$6,\"_\",AB26),選手名簿!$A:$E,5,FALSE))=TRUE,\"\",VLOOKUP(CONCATENATE($AC$6,\"_\",AB26),選手名簿!$A:$E,5,FALSE))","v":""}]
["番号","R003350854",null,null,"警告/退場",{"$f":"IF(ISERROR(VLOOKUP(CONCATENATE($F$6,\"_\",G27),選手名簿!$A:$E,5,FALSE))=TRUE,\"\",VLOOKUP(CONCATENATE($F$6,\"_\",G27),選手名簿!$A:$E,5,FALSE))","v":""},null,null,null,null,null,null,null,{"$f":"IF(ISERROR(VLOOKUP(CONCATENATE($N$6,\"_\",M27),選手名簿!$A:$E,5,FALSE))=TRUE,\"\",VLOOKUP(CONCATENATE($N$6,\"_\",M27),選手名簿!$A:$E,5,FALSE))","v":""},null,"番号","R001256402",null,null,"警告/退場",{"$f":"IF(ISERROR(VLOOKUP(CONCATENATE($U$6,\"_\",V27),選手名簿!$A:$E,5,FALSE))=TRUE,\"\",VLOOKUP(CONCATENATE($U$6,\"_\",V27),選手名簿!$A:$E,5,FALSE))","v":""},null,null,null,null,null,null,null,{"$f":"IF(ISERROR(VLOOKUP(CONCATENATE($AC$6,\"_\",AB27),選手名簿!$A:$E,5,FALSE))=TRUE,\"\",VLOOKUP(CONCATENATE($AC$6,\"_\",AB27),選手名簿!$A:$E,5,FALSE))","v":""}]
["4th:",{"$f":"IF(ISERROR(VLOOKUP(B27,審判員!$A:$C,2,FALSE))=TRUE,\"\",VLOOKUP(B27,審判員!$A:$C,2,FALSE))","v":"毛藤　勇三"},null,{"$f":"IF(ISERROR(VLOOKUP(B27,審判員!$A:$C,3,FALSE))=TRUE,\"\",VLOOKUP(B27,審判員!$A:$C,3,FALSE))","v":"３級"},"警告/退場",{"$f":"IF(ISERROR(VLOOKUP(CONCATENATE($F$6,\"_\",G28),選手名簿!$A:$E,5,FALSE))=TRUE,\"\",VLOOKUP(CONCATENATE($F$6,\"_\",G28),選手名簿!$A:$E,5,FALSE))","v":""},null,null,null,null,null,null,null,{"$f":"IF(ISERROR(VLOOKUP(CONCATENATE($N$6,\"_\",M28),選手名簿!$A:$E,5,FALSE))=TRUE,\"\",VLOOKUP(CONCATENATE($N$6,\"_\",M28),選手名簿!$A:$E,5,FALSE))","v":""},null,"4th:",{"$f":"IF(ISERROR(VLOOKUP(Q27,審判員!$A:$C,2,FALSE))=TRUE,\"\",VLOOKUP(Q27,審判員!$A:$C,2,FALSE))","v":"小石川　悟"},null,{"$f":"IF(ISERROR(VLOOKUP(Q27,審判員!$A:$C,3,FALSE))=TRUE,\"\",VLOOKUP(Q27,審判員!$A:$C,3,FALSE))","v":"３級"},"警告/退場",{"$f":"IF(ISERROR(VLOOKUP(CONCATENATE($U$6,\"_\",V28),選手名簿!$A:$E,5,FALSE))=TRUE,\"\",VLOOKUP(CONCATENATE($U$6,\"_\",V28),選手名簿!$A:$E,5,FALSE))","v":""},null,null,null,null,null,null,null,{"$f":"IF(ISERROR(VLOOKUP(CONCATENATE($AC$6,\"_\",AB28),選手名簿!$A:$E,5,FALSE))=TRUE,\"\",VLOOKUP(CONCATENATE($AC$6,\"_\",AB28),選手名簿!$A:$E,5,FALSE))","v":""}]
[]
[]
[]
[]
[null,"Match No：27",null,null,null,null,null,null,null,null,null,null,null,null,null,null,"Match No：28"]
["MC","羽田野　亘",null,null,"10:20:00",{"$f":"VLOOKUP(決勝トーナメント!J26,組合せ抽選用!$S:$U,3,FALSE)","v":"ドリームキッズフットボールクラブエフシー"},{"$f":"SUM(I34:I35)","v":0},"（",0,"前半",0,"）",{"$f":"SUM(K34:K35)","v":0},{"$f":"VLOOKUP(決勝トーナメント!L26,組合せ抽選用!$S:$U,3,FALSE)","v":"ＦＣ中津ジュニア"},null,"MC","津守　一雄",null,null,"10:20:00",{"$f":"VLOOKUP(決勝トーナメント!N26,組合せ抽選用!$S:$U,3,FALSE)","v":"Ｓｈｙｎｔ　ＦＣ"},{"$f":"SUM(X34:X35)","v":4},"（",3,"前半",0,"）",{"$f":"SUM(Z34:Z35)","v":1},{"$f":"VLOOKUP(決勝トーナメント!P26,組合せ抽選用!$S:$U,3,FALSE)","v":"明野西ＪＦＣ"}]
["Welfare\nOfficer","毛藤　勇三",null,null,null,null,null,null,0,"後半",0,null,null,null,null,"Welfare\nOfficer","唐下　直之",null,null,null,null,null,null,1,"後半",1]
["記録","仲野　昭博",null,null,null,null,null,null,2,"PK",3,null,null,null,null,"記録","中原　圭介",null,null,null,null,null,null,null,"PK"]
[null,null,null,null,null,"氏名","番号","分",null,null,null,"分","番号","氏名",null,null,null,null,null,null,"氏名","番号","分",null,null,null,"分","番号","氏名"]
[null,null,null,null,"得点者",{"$f":"IF(ISERROR(VLOOKUP(CONCATENATE($F$34,\"_\",G38),選手名簿!$A:$E,5,FALSE))=TRUE,\"\",VLOOKUP(CONCATENATE($F$34,\"_\",G38),選手名簿!$A:$E,5,FALSE))","v":""},null,null,null,null,null,null,null,{"$f":"IF(ISERROR(VLOOKUP(CONCATENATE($N$34,\"_\",M38),選手名簿!$A:$E,5,FALSE))=TRUE,\"\",VLOOKUP(CONCATENATE($N$34,\"_\",M38),選手名簿!$A:$E,5,FALSE))","v":""},null,null,null,null,null,"得点者",{"$f":"IF(ISERROR(VLOOKUP(CONCATENATE($U$34,\"_\",V38),選手名簿!$A:$E,5,FALSE))=TRUE,\"\",VLOOKUP(CONCATENATE($U$34,\"_\",V38),選手名簿!$A:$E,5,FALSE))","v":""},null,null,null,null,null,null,null,{"$f":"IF(ISERROR(VLOOKUP(CONCATENATE($AC$34,\"_\",AB38),選手名簿!$A:$E,5,FALSE))=TRUE,\"\",VLOOKUP(CONCATENATE($AC$34,\"_\",AB38),選手名簿!$A:$E,5,FALSE))","v":""}]
[null,null,null,null,"得点者",{"$f":"IF(ISERROR(VLOOKUP(CONCATENATE($F$34,\"_\",G39),選手名簿!$A:$E,5,FALSE))=TRUE,\"\",VLOOKUP(CONCATENATE($F$34,\"_\",G39),選手名簿!$A:$E,5,FALSE))","v":""},null,null,null,null,null,null,null,{"$f":"IF(ISERROR(VLOOKUP(CONCATENATE($N$34,\"_\",M39),選手名簿!$A:$E,5,FALSE))=TRUE,\"\",VLOOKUP(CONCATENATE($N$34,\"_\",M39),選手名簿!$A:$E,5,FALSE))","v":""},null,null,null,null,null,"得点者",{"$f":"IF(ISERROR(VLOOKUP(CONCATENATE($U$34,\"_\",V39),選手名簿!$A:$E,5,FALSE))=TRUE,\"\",VLOOKUP(CONCATENATE($U$34,\"_\",V39),選手名簿!$A:$E,5,FALSE))","v":""},null,null,null,null,null,null,null,{"$f":"IF(ISERROR(VLOOKUP(CONCATENATE($AC$34,\"_\",AB39),選手名簿!$A:$E,5,FALSE))=TRUE,\"\",VLOOKUP(CONCATENATE($AC$34,\"_\",AB39),選手名簿!$A:$E,5,FALSE))","v":""}]
[null,null,null,null,"得点者",{"$f":"IF(ISERROR(VLOOKUP(CONCATENATE($F$34,\"_\",G40),選手名簿!$A:$E,5,FALSE))=TRUE,\"\",VLOOKUP(CONCATENATE($F$34,\"_\",G40),選手名簿!$A:$E,5,FALSE))","v":""},null,null,null,null,null,null,null,{"$f":"IF(ISERROR(VLOOKUP(CONCATENATE($N$34,\"_\",M40),選手名簿!$A:$E,5,FALSE))=TRUE,\"\",VLOOKUP(CONCATENATE($N$34,\"_\",M40),選手名簿!$A:$E,5,FALSE))","v":""},null,null,null,null,null,"得点者",{"$f":"IF(ISERROR(VLOOKUP(CONCATENATE($U$34,\"_\",V40),選手名簿!$A:$E,5,FALSE))=TRUE,\"\",VLOOKUP(CONCATENATE($U$34,\"_\",V40),選手名簿!$A:$E,5,FALSE))","v":""},null,null,null,null,null,null,null,{"$f":"IF(ISERROR(VLOOKUP(CONCATENATE($AC$34,\"_\",AB40),選手名簿!$A:$E,5,FALSE))=TRUE,\"\",VLOOKUP(CONCATENATE($AC$34,\"_\",AB40),選手名簿!$A:$E,5,FALSE))","v":""}]
[null,null,null,null,"得点者",{"$f":"IF(ISERROR(VLOOKUP(CONCATENATE($F$34,\"_\",G41),選手名簿!$A:$E,5,FALSE))=TRUE,\"\",VLOOKUP(CONCATENATE($F$34,\"_\",G41),選手名簿!$A:$E,5,FALSE))","v":""},null,null,null,null,null,null,null,{"$f":"IF(ISERROR(VLOOKUP(CONCATENATE($N$34,\"_\",M41),選手名簿!$A:$E,5,FALSE))=TRUE,\"\",VLOOKUP(CONCATENATE($N$34,\"_\",M41),選手名簿!$A:$E,5,FALSE))","v":""},null,null,null,null,null,"得点者",{"$f":"IF(ISERROR(VLOOKUP(CONCATENATE($U$34,\"_\",V41),選手名簿!$A:$E,5,FALSE))=TRUE,\"\",VLOOKUP(CONCATENATE($U$34,\"_\",V41),選手名簿!$A:$E,5,FALSE))","v":""},null,null,null,null,null,null,null,{"$f":"IF(ISERROR(VLOOKUP(CONCATENATE($AC$34,\"_\",AB41),選手名簿!$A:$E,5,FALSE))=TRUE,\"\",VLOOKUP(CONCATENATE($AC$34,\"_\",AB41),選手名簿!$A:$E,5,FALSE))","v":""}]
[null,null,null,null,"得点者",{"$f":"IF(ISERROR(VLOOKUP(CONCATENATE($F$34,\"_\",G42),選手名簿!$A:$E,5,FALSE))=TRUE,\"\",VLOOKUP(CONCATENATE($F$34,\"_\",G42),選手名簿!$A:$E,5,FALSE))","v":""},null,null,null,null,null,null,null,{"$f":"IF(ISERROR(VLOOKUP(CONCATENATE($N$34,\"_\",M42),選手名簿!$A:$E,5,FALSE))=TRUE,\"\",VLOOKUP(CONCATENATE($N$34,\"_\",M42),選手名簿!$A:$E,5,FALSE))","v":""},null,null,null,null,null,"得点者",{"$f":"IF(ISERROR(VLOOKUP(CONCATENATE($U$34,\"_\",V42),選手名簿!$A:$E,5,FALSE))=TRUE,\"\",VLOOKUP(CONCATENATE($U$34,\"_\",V42),選手名簿!$A:$E,5,FALSE))","v":""},null,null,null,null,null,null,null,{"$f":"IF(ISERROR(VLOOKUP(CONCATENATE($AC$34,\"_\",AB42),選手名簿!$A:$E,5,FALSE))=TRUE,\"\",VLOOKUP(CONCATENATE($AC$34,\"_\",AB42),選手名簿!$A:$E,5,FALSE))","v":""}]
[null,null,null,null,"得点者",{"$f":"IF(ISERROR(VLOOKUP(CONCATENATE($F$34,\"_\",G43),選手名簿!$A:$E,5,FALSE))=TRUE,\"\",VLOOKUP(CONCATENATE($F$34,\"_\",G43),選手名簿!$A:$E,5,FALSE))","v":""},null,null,null,null,null,null,null,{"$f":"IF(ISERROR(VLOOKUP(CONCATENATE($N$34,\"_\",M43),選手名簿!$A:$E,5,FALSE))=TRUE,\"\",VLOOKUP(CONCATENATE($N$34,\"_\",M43),選手名簿!$A:$E,5,FALSE))","v":""},null,null,null,null,null,"得点者",{"$f":"IF(ISERROR(VLOOKUP(CONCATENATE($U$34,\"_\",V43),選手名簿!$A:$E,5,FALSE))=TRUE,\"\",VLOOKUP(CONCATENATE($U$34,\"_\",V43),選手名簿!$A:$E,5,FALSE))","v":""},null,null,null,null,null,null,null,{"$f":"IF(ISERROR(VLOOKUP(CONCATENATE($AC$34,\"_\",AB43),選手名簿!$A:$E,5,FALSE))=TRUE,\"\",VLOOKUP(CONCATENATE($AC$34,\"_\",AB43),選手名簿!$A:$E,5,FALSE))","v":""}]
[null,null,null,null,"得点者",{"$f":"IF(ISERROR(VLOOKUP(CONCATENATE($F$34,\"_\",G44),選手名簿!$A:$E,5,FALSE))=TRUE,\"\",VLOOKUP(CONCATENATE($F$34,\"_\",G44),選手名簿!$A:$E,5,FALSE))","v":""},null,null,null,null,null,null,null,{"$f":"IF(ISERROR(VLOOKUP(CONCATENATE($N$34,\"_\",M44),選手名簿!$A:$E,5,FALSE))=TRUE,\"\",VLOOKUP(CONCATENATE($N$34,\"_\",M44),選手名簿!$A:$E,5,FALSE))","v":""},null,null,null,null,null,"得点者",{"$f":"IF(ISERROR(VLOOKUP(CONCATENATE($U$34,\"_\",V44),選手名簿!$A:$E,5,FALSE))=TRUE,\"\",VLOOKUP(CONCATENATE($U$34,\"_\",V44),選手名簿!$A:$E,5,FALSE))","v":""},null,null,null,null,null,null,null,{"$f":"IF(ISERROR(VLOOKUP(CONCATENATE($AC$34,\"_\",AB44),選手名簿!$A:$E,5,FALSE))=TRUE,\"\",VLOOKUP(CONCATENATE($AC$34,\"_\",AB44),選手名簿!$A:$E,5,FALSE))","v":""}]
[null,null,null,null,"得点者",{"$f":"IF(ISERROR(VLOOKUP(CONCATENATE($F$34,\"_\",G45),選手名簿!$A:$E,5,FALSE))=TRUE,\"\",VLOOKUP(CONCATENATE($F$34,\"_\",G45),選手名簿!$A:$E,5,FALSE))","v":""},null,null,null,null,null,null,null,{"$f":"IF(ISERROR(VLOOKUP(CONCATENATE($N$34,\"_\",M45),選手名簿!$A:$E,5,FALSE))=TRUE,\"\",VLOOKUP(CONCATENATE($N$34,\"_\",M45),選手名簿!$A:$E,5,FALSE))","v":""},null,null,null,null,null,"得点者",{"$f":"IF(ISERROR(VLOOKUP(CONCATENATE($U$34,\"_\",V45),選手名簿!$A:$E,5,FALSE))=TRUE,\"\",VLOOKUP(CONCATENATE($U$34,\"_\",V45),選手名簿!$A:$E,5,FALSE))","v":""},null,null,null,null,null,null,null,{"$f":"IF(ISERROR(VLOOKUP(CONCATENATE($AC$34,\"_\",AB45),選手名簿!$A:$E,5,FALSE))=TRUE,\"\",VLOOKUP(CONCATENATE($AC$34,\"_\",AB45),選手名簿!$A:$E,5,FALSE))","v":""}]
[null,null,null,null,"得点者",{"$f":"IF(ISERROR(VLOOKUP(CONCATENATE($F$34,\"_\",G46),選手名簿!$A:$E,5,FALSE))=TRUE,\"\",VLOOKUP(CONCATENATE($F$34,\"_\",G46),選手名簿!$A:$E,5,FALSE))","v":""},null,null,null,null,null,null,null,{"$f":"IF(ISERROR(VLOOKUP(CONCATENATE($N$34,\"_\",M46),選手名簿!$A:$E,5,FALSE))=TRUE,\"\",VLOOKUP(CONCATENATE($N$34,\"_\",M46),選手名簿!$A:$E,5,FALSE))","v":""},null,null,null,null,null,"得点者",{"$f":"IF(ISERROR(VLOOKUP(CONCATENATE($U$34,\"_\",V46),選手名簿!$A:$E,5,FALSE))=TRUE,\"\",VLOOKUP(CONCATENATE($U$34,\"_\",V46),選手名簿!$A:$E,5,FALSE))","v":""},null,null,null,null,null,null,null,{"$f":"IF(ISERROR(VLOOKUP(CONCATENATE($AC$34,\"_\",AB46),選手名簿!$A:$E,5,FALSE))=TRUE,\"\",VLOOKUP(CONCATENATE($AC$34,\"_\",AB46),選手名簿!$A:$E,5,FALSE))","v":""}]
[null,null,null,null,"得点者",{"$f":"IF(ISERROR(VLOOKUP(CONCATENATE($F$34,\"_\",G47),選手名簿!$A:$E,5,FALSE))=TRUE,\"\",VLOOKUP(CONCATENATE($F$34,\"_\",G47),選手名簿!$A:$E,5,FALSE))","v":""},null,null,null,null,null,null,null,{"$f":"IF(ISERROR(VLOOKUP(CONCATENATE($N$34,\"_\",M47),選手名簿!$A:$E,5,FALSE))=TRUE,\"\",VLOOKUP(CONCATENATE($N$34,\"_\",M47),選手名簿!$A:$E,5,FALSE))","v":""},null,null,null,null,null,"得点者",{"$f":"IF(ISERROR(VLOOKUP(CONCATENATE($U$34,\"_\",V47),選手名簿!$A:$E,5,FALSE))=TRUE,\"\",VLOOKUP(CONCATENATE($U$34,\"_\",V47),選手名簿!$A:$E,5,FALSE))","v":""},null,null,null,null,null,null,null,{"$f":"IF(ISERROR(VLOOKUP(CONCATENATE($AC$34,\"_\",AB47),選手名簿!$A:$E,5,FALSE))=TRUE,\"\",VLOOKUP(CONCATENATE($AC$34,\"_\",AB47),選手名簿!$A:$E,5,FALSE))","v":""}]
["＜Referee＞",null,null,null,null,"氏名","番号","分",null,null,null,"分","番号","氏名",null,"＜Referee＞",null,null,null,null,"氏名","番号","分",null,null,null,"分","番号","氏名"]
["番号","R009197619",null,null,"警告/退場",{"$f":"IF(ISERROR(VLOOKUP(CONCATENATE($F$34,\"_\",G49),選手名簿!$A:$E,5,FALSE))=TRUE,\"\",VLOOKUP(CONCATENATE($F$34,\"_\",G49),選手名簿!$A:$E,5,FALSE))","v":""},null,null,null,null,null,null,null,{"$f":"IF(ISERROR(VLOOKUP(CONCATENATE($N$34,\"_\",M49),選手名簿!$A:$E,5,FALSE))=TRUE,\"\",VLOOKUP(CONCATENATE($N$34,\"_\",M49),選手名簿!$A:$E,5,FALSE))","v":""},null,"番号","R010396582",null,null,"警告/退場",{"$f":"IF(ISERROR(VLOOKUP(CONCATENATE($U$34,\"_\",V49),選手名簿!$A:$E,5,FALSE))=TRUE,\"\",VLOOKUP(CONCATENATE($U$34,\"_\",V49),選手名簿!$A:$E,5,FALSE))","v":""},null,null,null,null,null,null,null,{"$f":"IF(ISERROR(VLOOKUP(CONCATENATE($AC$34,\"_\",AB49),選手名簿!$A:$E,5,FALSE))=TRUE,\"\",VLOOKUP(CONCATENATE($AC$34,\"_\",AB49),選手名簿!$A:$E,5,FALSE))","v":""}]
["R",{"$f":"IF(ISERROR(VLOOKUP(B49,審判員!$A:$C,2,FALSE))=TRUE,\"\",VLOOKUP(B49,審判員!$A:$C,2,FALSE))","v":"恵美　圭介"},null,{"$f":"IF(ISERROR(VLOOKUP(B49,審判員!$A:$C,3,FALSE))=TRUE,\"\",VLOOKUP(B49,審判員!$A:$C,3,FALSE))","v":"３級"},"警告/退場",{"$f":"IF(ISERROR(VLOOKUP(CONCATENATE($F$34,\"_\",G50),選手名簿!$A:$E,5,FALSE))=TRUE,\"\",VLOOKUP(CONCATENATE($F$34,\"_\",G50),選手名簿!$A:$E,5,FALSE))","v":""},null,null,null,null,null,null,null,{"$f":"IF(ISERROR(VLOOKUP(CONCATENATE($N$34,\"_\",M50),選手名簿!$A:$E,5,FALSE))=TRUE,\"\",VLOOKUP(CONCATENATE($N$34,\"_\",M50),選手名簿!$A:$E,5,FALSE))","v":""},null,"R",{"$f":"IF(ISERROR(VLOOKUP(Q49,審判員!$A:$C,2,FALSE))=TRUE,\"\",VLOOKUP(Q49,審判員!$A:$C,2,FALSE))","v":"金田　智朗"},null,{"$f":"IF(ISERROR(VLOOKUP(Q49,審判員!$A:$C,3,FALSE))=TRUE,\"\",VLOOKUP(Q49,審判員!$A:$C,3,FALSE))","v":"３級"},"警告/退場",{"$f":"IF(ISERROR(VLOOKUP(CONCATENATE($U$34,\"_\",V50),選手名簿!$A:$E,5,FALSE))=TRUE,\"\",VLOOKUP(CONCATENATE($U$34,\"_\",V50),選手名簿!$A:$E,5,FALSE))","v":""},null,null,null,null,null,null,null,{"$f":"IF(ISERROR(VLOOKUP(CONCATENATE($AC$34,\"_\",AB50),選手名簿!$A:$E,5,FALSE))=TRUE,\"\",VLOOKUP(CONCATENATE($AC$34,\"_\",AB50),選手名簿!$A:$E,5,FALSE))","v":""}]
["番号","R001265385",null,null,"警告/退場",{"$f":"IF(ISERROR(VLOOKUP(CONCATENATE($F$34,\"_\",G51),選手名簿!$A:$E,5,FALSE))=TRUE,\"\",VLOOKUP(CONCATENATE($F$34,\"_\",G51),選手名簿!$A:$E,5,FALSE))","v":""},null,null,null,null,null,null,null,{"$f":"IF(ISERROR(VLOOKUP(CONCATENATE($N$34,\"_\",M51),選手名簿!$A:$E,5,FALSE))=TRUE,\"\",VLOOKUP(CONCATENATE($N$34,\"_\",M51),選手名簿!$A:$E,5,FALSE))","v":""},null,"番号","R009554780",null,null,"警告/退場",{"$f":"IF(ISERROR(VLOOKUP(CONCATENATE($U$34,\"_\",V51),選手名簿!$A:$E,5,FALSE))=TRUE,\"\",VLOOKUP(CONCATENATE($U$34,\"_\",V51),選手名簿!$A:$E,5,FALSE))","v":""},null,null,null,null,null,null,null,{"$f":"IF(ISERROR(VLOOKUP(CONCATENATE($AC$34,\"_\",AB51),選手名簿!$A:$E,5,FALSE))=TRUE,\"\",VLOOKUP(CONCATENATE($AC$34,\"_\",AB51),選手名簿!$A:$E,5,FALSE))","v":""}]
["AR1:",{"$f":"IF(ISERROR(VLOOKUP(B51,審判員!$A:$C,2,FALSE))=TRUE,\"\",VLOOKUP(B51,審判員!$A:$C,2,FALSE))","v":"須藤　健二"},null,{"$f":"IF(ISERROR(VLOOKUP(B51,審判員!$A:$C,3,FALSE))=TRUE,\"\",VLOOKUP(B51,審判員!$A:$C,3,FALSE))","v":"２級"},"警告/退場",{"$f":"IF(ISERROR(VLOOKUP(CONCATENATE($F$34,\"_\",G52),選手名簿!$A:$E,5,FALSE))=TRUE,\"\",VLOOKUP(CONCATENATE($F$34,\"_\",G52),選手名簿!$A:$E,5,FALSE))","v":""},null,null,null,null,null,null,null,{"$f":"IF(ISERROR(VLOOKUP(CONCATENATE($N$34,\"_\",M52),選手名簿!$A:$E,5,FALSE))=TRUE,\"\",VLOOKUP(CONCATENATE($N$34,\"_\",M52),選手名簿!$A:$E,5,FALSE))","v":""},null,"AR1:",{"$f":"IF(ISERROR(VLOOKUP(Q51,審判員!$A:$C,2,FALSE))=TRUE,\"\",VLOOKUP(Q51,審判員!$A:$C,2,FALSE))","v":"白江　直樹"},null,{"$f":"IF(ISERROR(VLOOKUP(Q51,審判員!$A:$C,3,FALSE))=TRUE,\"\",VLOOKUP(Q51,審判員!$A:$C,3,FALSE))","v":"３級"},"警告/退場",{"$f":"IF(ISERROR(VLOOKUP(CONCATENATE($U$34,\"_\",V52),選手名簿!$A:$E,5,FALSE))=TRUE,\"\",VLOOKUP(CONCATENATE($U$34,\"_\",V52),選手名簿!$A:$E,5,FALSE))","v":""},null,null,null,null,null,null,null,{"$f":"IF(ISERROR(VLOOKUP(CONCATENATE($AC$34,\"_\",AB52),選手名簿!$A:$E,5,FALSE))=TRUE,\"\",VLOOKUP(CONCATENATE($AC$34,\"_\",AB52),選手名簿!$A:$E,5,FALSE))","v":""}]
["番号","R010415888",null,null,"警告/退場",{"$f":"IF(ISERROR(VLOOKUP(CONCATENATE($F$34,\"_\",G53),選手名簿!$A:$E,5,FALSE))=TRUE,\"\",VLOOKUP(CONCATENATE($F$34,\"_\",G53),選手名簿!$A:$E,5,FALSE))","v":""},null,null,null,null,null,null,null,{"$f":"IF(ISERROR(VLOOKUP(CONCATENATE($N$34,\"_\",M53),選手名簿!$A:$E,5,FALSE))=TRUE,\"\",VLOOKUP(CONCATENATE($N$34,\"_\",M53),選手名簿!$A:$E,5,FALSE))","v":""},null,"番号","R010281871",null,null,"警告/退場",{"$f":"IF(ISERROR(VLOOKUP(CONCATENATE($U$34,\"_\",V53),選手名簿!$A:$E,5,FALSE))=TRUE,\"\",VLOOKUP(CONCATENATE($U$34,\"_\",V53),選手名簿!$A:$E,5,FALSE))","v":""},null,null,null,null,null,null,null,{"$f":"IF(ISERROR(VLOOKUP(CONCATENATE($AC$34,\"_\",AB53),選手名簿!$A:$E,5,FALSE))=TRUE,\"\",VLOOKUP(CONCATENATE($AC$34,\"_\",AB53),選手名簿!$A:$E,5,FALSE))","v":""}]
["AR2:",{"$f":"IF(ISERROR(VLOOKUP(B53,審判員!$A:$C,2,FALSE))=TRUE,\"\",VLOOKUP(B53,審判員!$A:$C,2,FALSE))","v":"上田　源典"},null,{"$f":"IF(ISERROR(VLOOKUP(B53,審判員!$A:$C,3,FALSE))=TRUE,\"\",VLOOKUP(B53,審判員!$A:$C,3,FALSE))","v":"３級"},"警告/退場",{"$f":"IF(ISERROR(VLOOKUP(CONCATENATE($F$34,\"_\",G54),選手名簿!$A:$E,5,FALSE))=TRUE,\"\",VLOOKUP(CONCATENATE($F$34,\"_\",G54),選手名簿!$A:$E,5,FALSE))","v":""},null,null,null,null,null,null,null,{"$f":"IF(ISERROR(VLOOKUP(CONCATENATE($N$34,\"_\",M54),選手名簿!$A:$E,5,FALSE))=TRUE,\"\",VLOOKUP(CONCATENATE($N$34,\"_\",M54),選手名簿!$A:$E,5,FALSE))","v":""},null,"AR2:",{"$f":"IF(ISERROR(VLOOKUP(Q53,審判員!$A:$C,2,FALSE))=TRUE,\"\",VLOOKUP(Q53,審判員!$A:$C,2,FALSE))","v":"山本　青"},null,{"$f":"IF(ISERROR(VLOOKUP(Q53,審判員!$A:$C,3,FALSE))=TRUE,\"\",VLOOKUP(Q53,審判員!$A:$C,3,FALSE))","v":"３級"},"警告/退場",{"$f":"IF(ISERROR(VLOOKUP(CONCATENATE($U$34,\"_\",V54),選手名簿!$A:$E,5,FALSE))=TRUE,\"\",VLOOKUP(CONCATENATE($U$34,\"_\",V54),選手名簿!$A:$E,5,FALSE))","v":""},null,null,null,null,null,null,null,{"$f":"IF(ISERROR(VLOOKUP(CONCATENATE($AC$34,\"_\",AB54),選手名簿!$A:$E,5,FALSE))=TRUE,\"\",VLOOKUP(CONCATENATE($AC$34,\"_\",AB54),選手名簿!$A:$E,5,FALSE))","v":""}]
["番号","R005528255",null,null,"警告/退場",{"$f":"IF(ISERROR(VLOOKUP(CONCATENATE($F$34,\"_\",G55),選手名簿!$A:$E,5,FALSE))=TRUE,\"\",VLOOKUP(CONCATENATE($F$34,\"_\",G55),選手名簿!$A:$E,5,FALSE))","v":""},null,null,null,null,null,null,null,{"$f":"IF(ISERROR(VLOOKUP(CONCATENATE($N$34,\"_\",M55),選手名簿!$A:$E,5,FALSE))=TRUE,\"\",VLOOKUP(CONCATENATE($N$34,\"_\",M55),選手名簿!$A:$E,5,FALSE))","v":""},null,"番号","R008798013",null,null,"警告/退場",{"$f":"IF(ISERROR(VLOOKUP(CONCATENATE($U$34,\"_\",V55),選手名簿!$A:$E,5,FALSE))=TRUE,\"\",VLOOKUP(CONCATENATE($U$34,\"_\",V55),選手名簿!$A:$E,5,FALSE))","v":""},null,null,null,null,null,null,null,{"$f":"IF(ISERROR(VLOOKUP(CONCATENATE($AC$34,\"_\",AB55),選手名簿!$A:$E,5,FALSE))=TRUE,\"\",VLOOKUP(CONCATENATE($AC$34,\"_\",AB55),選手名簿!$A:$E,5,FALSE))","v":""}]
["4th:",{"$f":"IF(ISERROR(VLOOKUP(B55,審判員!$A:$C,2,FALSE))=TRUE,\"\",VLOOKUP(B55,審判員!$A:$C,2,FALSE))","v":"黒田　大貴"},null,{"$f":"IF(ISERROR(VLOOKUP(B55,審判員!$A:$C,3,FALSE))=TRUE,\"\",VLOOKUP(B55,審判員!$A:$C,3,FALSE))","v":"２級"},"警告/退場",{"$f":"IF(ISERROR(VLOOKUP(CONCATENATE($F$34,\"_\",G56),選手名簿!$A:$E,5,FALSE))=TRUE,\"\",VLOOKUP(CONCATENATE($F$34,\"_\",G56),選手名簿!$A:$E,5,FALSE))","v":""},null,null,null,null,null,null,null,{"$f":"IF(ISERROR(VLOOKUP(CONCATENATE($N$34,\"_\",M56),選手名簿!$A:$E,5,FALSE))=TRUE,\"\",VLOOKUP(CONCATENATE($N$34,\"_\",M56),選手名簿!$A:$E,5,FALSE))","v":""},null,"4th:",{"$f":"IF(ISERROR(VLOOKUP(Q55,審判員!$A:$C,2,FALSE))=TRUE,\"\",VLOOKUP(Q55,審判員!$A:$C,2,FALSE))","v":"隅田　哲平"},null,{"$f":"IF(ISERROR(VLOOKUP(Q55,審判員!$A:$C,3,FALSE))=TRUE,\"\",VLOOKUP(Q55,審判員!$A:$C,3,FALSE))","v":"３級"},"警告/退場",{"$f":"IF(ISERROR(VLOOKUP(CONCATENATE($U$34,\"_\",V56),選手名簿!$A:$E,5,FALSE))=TRUE,\"\",VLOOKUP(CONCATENATE($U$34,\"_\",V56),選手名簿!$A:$E,5,FALSE))","v":""},null,null,null,null,null,null,null,{"$f":"IF(ISERROR(VLOOKUP(CONCATENATE($AC$34,\"_\",AB56),選手名簿!$A:$E,5,FALSE))=TRUE,\"\",VLOOKUP(CONCATENATE($AC$34,\"_\",AB56),選手名簿!$A:$E,5,FALSE))","v":""}]
[]
[]
[]
[]
[null,"Match No：29",null,null,null,null,null,null,null,null,null,null,null,null,null,null,"Match No：30"]
["MC","松下　省吾",null,null,"11:10:00",{"$f":"VLOOKUP(決勝トーナメント!C21,組合せ抽選用!$S:$U,3,FALSE)","v":"カティオーラフットボールクラブＵ－１２"},{"$f":"SUM(I62:I63)","v":6},"（",2,"前半",0,"）",{"$f":"SUM(K62:K63)","v":0},{"$f":"VLOOKUP(決勝トーナメント!G21,組合せ抽選用!$S:$U,3,FALSE)","v":"リノスフットボールクラブ　Ｕ－１２"},null,"MC","磯村　信一",null,null,"11:10:00",{"$f":"VLOOKUP(決勝トーナメント!C28,組合せ抽選用!$S:$U,3,FALSE)","v":"大分トリニータＵ－１２"},{"$f":"SUM(X62:X63)","v":4},"（",3,"前半",0,"）",{"$f":"SUM(Z62:Z63)","v":1},{"$f":"VLOOKUP(決勝トーナメント!G28,組合せ抽選用!$S:$U,3,FALSE)","v":"太陽スポーツクラブ大分西"}]
["Welfare\nOfficer","佐々木　秀樹",null,null,null,null,null,null,4,"後半",0,null,null,null,null,"Welfare\nOfficer","-",null,null,null,null,null,null,1,"後半",1]
["記録","羽田野　亘",null,null,null,null,null,null,null,"PK",null,null,null,null,null,"記録","榊　謙治",null,null,null,null,null,null,null,"PK"]
[null,null,null,null,null,"氏名","番号","分",null,null,null,"分","番号","氏名",null,null,null,null,null,null,"氏名","番号","分",null,null,null,"分","番号","氏名"]
[null,null,null,null,"得点者",{"$f":"IF(ISERROR(VLOOKUP(CONCATENATE($F$62,\"_\",G66),選手名簿!$A:$E,5,FALSE))=TRUE,\"\",VLOOKUP(CONCATENATE($F$62,\"_\",G66),選手名簿!$A:$E,5,FALSE))","v":""},null,null,null,null,null,null,null,{"$f":"IF(ISERROR(VLOOKUP(CONCATENATE($N$62,\"_\",M66),選手名簿!$A:$E,5,FALSE))=TRUE,\"\",VLOOKUP(CONCATENATE($N$62,\"_\",M66),選手名簿!$A:$E,5,FALSE))","v":""},null,null,null,null,null,"得点者",{"$f":"IF(ISERROR(VLOOKUP(CONCATENATE($U$62,\"_\",V66),選手名簿!$A:$E,5,FALSE))=TRUE,\"\",VLOOKUP(CONCATENATE($U$62,\"_\",V66),選手名簿!$A:$E,5,FALSE))","v":""},null,null,null,null,null,null,null,{"$f":"IF(ISERROR(VLOOKUP(CONCATENATE($AC$62,\"_\",AB66),選手名簿!$A:$E,5,FALSE))=TRUE,\"\",VLOOKUP(CONCATENATE($AC$62,\"_\",AB66),選手名簿!$A:$E,5,FALSE))","v":""}]
[null,null,null,null,"得点者",{"$f":"IF(ISERROR(VLOOKUP(CONCATENATE($F$62,\"_\",G67),選手名簿!$A:$E,5,FALSE))=TRUE,\"\",VLOOKUP(CONCATENATE($F$62,\"_\",G67),選手名簿!$A:$E,5,FALSE))","v":""},null,null,null,null,null,null,null,{"$f":"IF(ISERROR(VLOOKUP(CONCATENATE($N$62,\"_\",M67),選手名簿!$A:$E,5,FALSE))=TRUE,\"\",VLOOKUP(CONCATENATE($N$62,\"_\",M67),選手名簿!$A:$E,5,FALSE))","v":""},null,null,null,null,null,"得点者",{"$f":"IF(ISERROR(VLOOKUP(CONCATENATE($U$62,\"_\",V67),選手名簿!$A:$E,5,FALSE))=TRUE,\"\",VLOOKUP(CONCATENATE($U$62,\"_\",V67),選手名簿!$A:$E,5,FALSE))","v":""},null,null,null,null,null,null,null,{"$f":"IF(ISERROR(VLOOKUP(CONCATENATE($AC$62,\"_\",AB67),選手名簿!$A:$E,5,FALSE))=TRUE,\"\",VLOOKUP(CONCATENATE($AC$62,\"_\",AB67),選手名簿!$A:$E,5,FALSE))","v":""}]
[null,null,null,null,"得点者",{"$f":"IF(ISERROR(VLOOKUP(CONCATENATE($F$62,\"_\",G68),選手名簿!$A:$E,5,FALSE))=TRUE,\"\",VLOOKUP(CONCATENATE($F$62,\"_\",G68),選手名簿!$A:$E,5,FALSE))","v":""},null,null,null,null,null,null,null,{"$f":"IF(ISERROR(VLOOKUP(CONCATENATE($N$62,\"_\",M68),選手名簿!$A:$E,5,FALSE))=TRUE,\"\",VLOOKUP(CONCATENATE($N$62,\"_\",M68),選手名簿!$A:$E,5,FALSE))","v":""},null,null,null,null,null,"得点者",{"$f":"IF(ISERROR(VLOOKUP(CONCATENATE($U$62,\"_\",V68),選手名簿!$A:$E,5,FALSE))=TRUE,\"\",VLOOKUP(CONCATENATE($U$62,\"_\",V68),選手名簿!$A:$E,5,FALSE))","v":""},null,null,null,null,null,null,null,{"$f":"IF(ISERROR(VLOOKUP(CONCATENATE($AC$62,\"_\",AB68),選手名簿!$A:$E,5,FALSE))=TRUE,\"\",VLOOKUP(CONCATENATE($AC$62,\"_\",AB68),選手名簿!$A:$E,5,FALSE))","v":""}]
[null,null,null,null,"得点者",{"$f":"IF(ISERROR(VLOOKUP(CONCATENATE($F$62,\"_\",G69),選手名簿!$A:$E,5,FALSE))=TRUE,\"\",VLOOKUP(CONCATENATE($F$62,\"_\",G69),選手名簿!$A:$E,5,FALSE))","v":""},null,null,null,null,null,null,null,{"$f":"IF(ISERROR(VLOOKUP(CONCATENATE($N$62,\"_\",M69),選手名簿!$A:$E,5,FALSE))=TRUE,\"\",VLOOKUP(CONCATENATE($N$62,\"_\",M69),選手名簿!$A:$E,5,FALSE))","v":""},null,null,null,null,null,"得点者",{"$f":"IF(ISERROR(VLOOKUP(CONCATENATE($U$62,\"_\",V69),選手名簿!$A:$E,5,FALSE))=TRUE,\"\",VLOOKUP(CONCATENATE($U$62,\"_\",V69),選手名簿!$A:$E,5,FALSE))","v":""},null,null,null,null,null,null,null,{"$f":"IF(ISERROR(VLOOKUP(CONCATENATE($AC$62,\"_\",AB69),選手名簿!$A:$E,5,FALSE))=TRUE,\"\",VLOOKUP(CONCATENATE($AC$62,\"_\",AB69),選手名簿!$A:$E,5,FALSE))","v":""}]
[null,null,null,null,"得点者",{"$f":"IF(ISERROR(VLOOKUP(CONCATENATE($F$62,\"_\",G70),選手名簿!$A:$E,5,FALSE))=TRUE,\"\",VLOOKUP(CONCATENATE($F$62,\"_\",G70),選手名簿!$A:$E,5,FALSE))","v":""},null,null,null,null,null,null,null,{"$f":"IF(ISERROR(VLOOKUP(CONCATENATE($N$62,\"_\",M70),選手名簿!$A:$E,5,FALSE))=TRUE,\"\",VLOOKUP(CONCATENATE($N$62,\"_\",M70),選手名簿!$A:$E,5,FALSE))","v":""},null,null,null,null,null,"得点者",{"$f":"IF(ISERROR(VLOOKUP(CONCATENATE($U$62,\"_\",V70),選手名簿!$A:$E,5,FALSE))=TRUE,\"\",VLOOKUP(CONCATENATE($U$62,\"_\",V70),選手名簿!$A:$E,5,FALSE))","v":""},null,null,null,null,null,null,null,{"$f":"IF(ISERROR(VLOOKUP(CONCATENATE($AC$62,\"_\",AB70),選手名簿!$A:$E,5,FALSE))=TRUE,\"\",VLOOKUP(CONCATENATE($AC$62,\"_\",AB70),選手名簿!$A:$E,5,FALSE))","v":""}]
[null,null,null,null,"得点者",{"$f":"IF(ISERROR(VLOOKUP(CONCATENATE($F$62,\"_\",G71),選手名簿!$A:$E,5,FALSE))=TRUE,\"\",VLOOKUP(CONCATENATE($F$62,\"_\",G71),選手名簿!$A:$E,5,FALSE))","v":""},null,null,null,null,null,null,null,{"$f":"IF(ISERROR(VLOOKUP(CONCATENATE($N$62,\"_\",M71),選手名簿!$A:$E,5,FALSE))=TRUE,\"\",VLOOKUP(CONCATENATE($N$62,\"_\",M71),選手名簿!$A:$E,5,FALSE))","v":""},null,null,null,null,null,"得点者",{"$f":"IF(ISERROR(VLOOKUP(CONCATENATE($U$62,\"_\",V71),選手名簿!$A:$E,5,FALSE))=TRUE,\"\",VLOOKUP(CONCATENATE($U$62,\"_\",V71),選手名簿!$A:$E,5,FALSE))","v":""},null,null,null,null,null,null,null,{"$f":"IF(ISERROR(VLOOKUP(CONCATENATE($AC$62,\"_\",AB71),選手名簿!$A:$E,5,FALSE))=TRUE,\"\",VLOOKUP(CONCATENATE($AC$62,\"_\",AB71),選手名簿!$A:$E,5,FALSE))","v":""}]
[null,null,null,null,"得点者",{"$f":"IF(ISERROR(VLOOKUP(CONCATENATE($F$62,\"_\",G72),選手名簿!$A:$E,5,FALSE))=TRUE,\"\",VLOOKUP(CONCATENATE($F$62,\"_\",G72),選手名簿!$A:$E,5,FALSE))","v":""},null,null,null,null,null,null,null,{"$f":"IF(ISERROR(VLOOKUP(CONCATENATE($N$62,\"_\",M72),選手名簿!$A:$E,5,FALSE))=TRUE,\"\",VLOOKUP(CONCATENATE($N$62,\"_\",M72),選手名簿!$A:$E,5,FALSE))","v":""},null,null,null,null,null,"得点者",{"$f":"IF(ISERROR(VLOOKUP(CONCATENATE($U$62,\"_\",V72),選手名簿!$A:$E,5,FALSE))=TRUE,\"\",VLOOKUP(CONCATENATE($U$62,\"_\",V72),選手名簿!$A:$E,5,FALSE))","v":""},null,null,null,null,null,null,null,{"$f":"IF(ISERROR(VLOOKUP(CONCATENATE($AC$62,\"_\",AB72),選手名簿!$A:$E,5,FALSE))=TRUE,\"\",VLOOKUP(CONCATENATE($AC$62,\"_\",AB72),選手名簿!$A:$E,5,FALSE))","v":""}]
[null,null,null,null,"得点者",{"$f":"IF(ISERROR(VLOOKUP(CONCATENATE($F$62,\"_\",G73),選手名簿!$A:$E,5,FALSE))=TRUE,\"\",VLOOKUP(CONCATENATE($F$62,\"_\",G73),選手名簿!$A:$E,5,FALSE))","v":""},null,null,null,null,null,null,null,{"$f":"IF(ISERROR(VLOOKUP(CONCATENATE($N$62,\"_\",M73),選手名簿!$A:$E,5,FALSE))=TRUE,\"\",VLOOKUP(CONCATENATE($N$62,\"_\",M73),選手名簿!$A:$E,5,FALSE))","v":""},null,null,null,null,null,"得点者",{"$f":"IF(ISERROR(VLOOKUP(CONCATENATE($U$62,\"_\",V73),選手名簿!$A:$E,5,FALSE))=TRUE,\"\",VLOOKUP(CONCATENATE($U$62,\"_\",V73),選手名簿!$A:$E,5,FALSE))","v":""},null,null,null,null,null,null,null,{"$f":"IF(ISERROR(VLOOKUP(CONCATENATE($AC$62,\"_\",AB73),選手名簿!$A:$E,5,FALSE))=TRUE,\"\",VLOOKUP(CONCATENATE($AC$62,\"_\",AB73),選手名簿!$A:$E,5,FALSE))","v":""}]
[null,null,null,null,"得点者",{"$f":"IF(ISERROR(VLOOKUP(CONCATENATE($F$62,\"_\",G74),選手名簿!$A:$E,5,FALSE))=TRUE,\"\",VLOOKUP(CONCATENATE($F$62,\"_\",G74),選手名簿!$A:$E,5,FALSE))","v":""},null,null,null,null,null,null,null,{"$f":"IF(ISERROR(VLOOKUP(CONCATENATE($N$62,\"_\",M74),選手名簿!$A:$E,5,FALSE))=TRUE,\"\",VLOOKUP(CONCATENATE($N$62,\"_\",M74),選手名簿!$A:$E,5,FALSE))","v":""},null,null,null,null,null,"得点者",{"$f":"IF(ISERROR(VLOOKUP(CONCATENATE($U$62,\"_\",V74),選手名簿!$A:$E,5,FALSE))=TRUE,\"\",VLOOKUP(CONCATENATE($U$62,\"_\",V74),選手名簿!$A:$E,5,FALSE))","v":""},null,null,null,null,null,null,null,{"$f":"IF(ISERROR(VLOOKUP(CONCATENATE($AC$62,\"_\",AB74),選手名簿!$A:$E,5,FALSE))=TRUE,\"\",VLOOKUP(CONCATENATE($AC$62,\"_\",AB74),選手名簿!$A:$E,5,FALSE))","v":""}]
[null,null,null,null,"得点者",{"$f":"IF(ISERROR(VLOOKUP(CONCATENATE($F$62,\"_\",G75),選手名簿!$A:$E,5,FALSE))=TRUE,\"\",VLOOKUP(CONCATENATE($F$62,\"_\",G75),選手名簿!$A:$E,5,FALSE))","v":""},null,null,null,null,null,null,null,{"$f":"IF(ISERROR(VLOOKUP(CONCATENATE($N$62,\"_\",M75),選手名簿!$A:$E,5,FALSE))=TRUE,\"\",VLOOKUP(CONCATENATE($N$62,\"_\",M75),選手名簿!$A:$E,5,FALSE))","v":""},null,null,null,null,null,"得点者",{"$f":"IF(ISERROR(VLOOKUP(CONCATENATE($U$62,\"_\",V75),選手名簿!$A:$E,5,FALSE))=TRUE,\"\",VLOOKUP(CONCATENATE($U$62,\"_\",V75),選手名簿!$A:$E,5,FALSE))","v":""},null,null,null,null,null,null,null,{"$f":"IF(ISERROR(VLOOKUP(CONCATENATE($AC$62,\"_\",AB75),選手名簿!$A:$E,5,FALSE))=TRUE,\"\",VLOOKUP(CONCATENATE($AC$62,\"_\",AB75),選手名簿!$A:$E,5,FALSE))","v":""}]
[null,null,null,null,"得点者",{"$f":"IF(ISERROR(VLOOKUP(CONCATENATE($F$62,\"_\",G76),選手名簿!$A:$E,5,FALSE))=TRUE,\"\",VLOOKUP(CONCATENATE($F$62,\"_\",G76),選手名簿!$A:$E,5,FALSE))","v":""},null,null,null,null,null,null,null,{"$f":"IF(ISERROR(VLOOKUP(CONCATENATE($N$62,\"_\",M76),選手名簿!$A:$E,5,FALSE))=TRUE,\"\",VLOOKUP(CONCATENATE($N$62,\"_\",M76),選手名簿!$A:$E,5,FALSE))","v":""},null,null,null,null,null,"得点者",{"$f":"IF(ISERROR(VLOOKUP(CONCATENATE($U$62,\"_\",V76),選手名簿!$A:$E,5,FALSE))=TRUE,\"\",VLOOKUP(CONCATENATE($U$62,\"_\",V76),選手名簿!$A:$E,5,FALSE))","v":""},null,null,null,null,null,null,null,{"$f":"IF(ISERROR(VLOOKUP(CONCATENATE($AC$62,\"_\",AB76),選手名簿!$A:$E,5,FALSE))=TRUE,\"\",VLOOKUP(CONCATENATE($AC$62,\"_\",AB76),選手名簿!$A:$E,5,FALSE))","v":""}]
[null,null,null,null,"得点者",{"$f":"IF(ISERROR(VLOOKUP(CONCATENATE($F$62,\"_\",G77),選手名簿!$A:$E,5,FALSE))=TRUE,\"\",VLOOKUP(CONCATENATE($F$62,\"_\",G77),選手名簿!$A:$E,5,FALSE))","v":""},null,null,null,null,null,null,null,{"$f":"IF(ISERROR(VLOOKUP(CONCATENATE($N$62,\"_\",M77),選手名簿!$A:$E,5,FALSE))=TRUE,\"\",VLOOKUP(CONCATENATE($N$62,\"_\",M77),選手名簿!$A:$E,5,FALSE))","v":""},null,null,null,null,null,"得点者",{"$f":"IF(ISERROR(VLOOKUP(CONCATENATE($U$62,\"_\",V77),選手名簿!$A:$E,5,FALSE))=TRUE,\"\",VLOOKUP(CONCATENATE($U$62,\"_\",V77),選手名簿!$A:$E,5,FALSE))","v":""},null,null,null,null,null,null,null,{"$f":"IF(ISERROR(VLOOKUP(CONCATENATE($AC$62,\"_\",AB77),選手名簿!$A:$E,5,FALSE))=TRUE,\"\",VLOOKUP(CONCATENATE($AC$62,\"_\",AB77),選手名簿!$A:$E,5,FALSE))","v":""}]
["＜Referee＞",null,null,null,null,"氏名","番号","分",null,null,null,"分","番号","氏名",null,"＜Referee＞",null,null,null,null,"氏名","番号","分",null,null,null,"分","番号","氏名"]
["番号","R003256053",null,null,"警告/退場",{"$f":"IF(ISERROR(VLOOKUP(CONCATENATE($F$62,\"_\",G79),選手名簿!$A:$E,5,FALSE))=TRUE,\"\",VLOOKUP(CONCATENATE($F$62,\"_\",G79),選手名簿!$A:$E,5,FALSE))","v":""},null,null,null,null,null,null,null,{"$f":"IF(ISERROR(VLOOKUP(CONCATENATE($N$62,\"_\",M79),選手名簿!$A:$E,5,FALSE))=TRUE,\"\",VLOOKUP(CONCATENATE($N$62,\"_\",M79),選手名簿!$A:$E,5,FALSE))","v":""},null,"番号","R001256402",null,null,"警告/退場",{"$f":"IF(ISERROR(VLOOKUP(CONCATENATE($U$62,\"_\",V79),選手名簿!$A:$E,5,FALSE))=TRUE,\"\",VLOOKUP(CONCATENATE($U$62,\"_\",V79),選手名簿!$A:$E,5,FALSE))","v":""},null,null,null,null,null,null,null,{"$f":"IF(ISERROR(VLOOKUP(CONCATENATE($AC$62,\"_\",AB79),選手名簿!$A:$E,5,FALSE))=TRUE,\"\",VLOOKUP(CONCATENATE($AC$62,\"_\",AB79),選手名簿!$A:$E,5,FALSE))","v":""}]
["R",{"$f":"IF(ISERROR(VLOOKUP(B79,審判員!$A:$C,2,FALSE))=TRUE,\"\",VLOOKUP(B79,審判員!$A:$C,2,FALSE))","v":"菊地　謙一"},null,{"$f":"IF(ISERROR(VLOOKUP(B79,審判員!$A:$C,3,FALSE))=TRUE,\"\",VLOOKUP(B79,審判員!$A:$C,3,FALSE))","v":"３級"},"警告/退場",{"$f":"IF(ISERROR(VLOOKUP(CONCATENATE($F$62,\"_\",G80),選手名簿!$A:$E,5,FALSE))=TRUE,\"\",VLOOKUP(CONCATENATE($F$62,\"_\",G80),選手名簿!$A:$E,5,FALSE))","v":""},null,null,null,null,null,null,null,{"$f":"IF(ISERROR(VLOOKUP(CONCATENATE($N$62,\"_\",M80),選手名簿!$A:$E,5,FALSE))=TRUE,\"\",VLOOKUP(CONCATENATE($N$62,\"_\",M80),選手名簿!$A:$E,5,FALSE))","v":""},null,"R",{"$f":"IF(ISERROR(VLOOKUP(Q79,審判員!$A:$C,2,FALSE))=TRUE,\"\",VLOOKUP(Q79,審判員!$A:$C,2,FALSE))","v":"小石川　悟"},null,{"$f":"IF(ISERROR(VLOOKUP(Q79,審判員!$A:$C,3,FALSE))=TRUE,\"\",VLOOKUP(Q79,審判員!$A:$C,3,FALSE))","v":"３級"},"警告/退場",{"$f":"IF(ISERROR(VLOOKUP(CONCATENATE($U$62,\"_\",V80),選手名簿!$A:$E,5,FALSE))=TRUE,\"\",VLOOKUP(CONCATENATE($U$62,\"_\",V80),選手名簿!$A:$E,5,FALSE))","v":""},null,null,null,null,null,null,null,{"$f":"IF(ISERROR(VLOOKUP(CONCATENATE($AC$62,\"_\",AB80),選手名簿!$A:$E,5,FALSE))=TRUE,\"\",VLOOKUP(CONCATENATE($AC$62,\"_\",AB80),選手名簿!$A:$E,5,FALSE))","v":""}]
["番号","R001264775",null,null,"警告/退場",{"$f":"IF(ISERROR(VLOOKUP(CONCATENATE($F$62,\"_\",G81),選手名簿!$A:$E,5,FALSE))=TRUE,\"\",VLOOKUP(CONCATENATE($F$62,\"_\",G81),選手名簿!$A:$E,5,FALSE))","v":""},null,null,null,null,null,null,null,{"$f":"IF(ISERROR(VLOOKUP(CONCATENATE($N$62,\"_\",M81),選手名簿!$A:$E,5,FALSE))=TRUE,\"\",VLOOKUP(CONCATENATE($N$62,\"_\",M81),選手名簿!$A:$E,5,FALSE))","v":""},null,"番号",null,null,null,"警告/退場",{"$f":"IF(ISERROR(VLOOKUP(CONCATENATE($U$62,\"_\",V81),選手名簿!$A:$E,5,FALSE))=TRUE,\"\",VLOOKUP(CONCATENATE($U$62,\"_\",V81),選手名簿!$A:$E,5,FALSE))","v":""},null,null,null,null,null,null,null,{"$f":"IF(ISERROR(VLOOKUP(CONCATENATE($AC$62,\"_\",AB81),選手名簿!$A:$E,5,FALSE))=TRUE,\"\",VLOOKUP(CONCATENATE($AC$62,\"_\",AB81),選手名簿!$A:$E,5,FALSE))","v":""}]
["AR1:",{"$f":"IF(ISERROR(VLOOKUP(B81,審判員!$A:$C,2,FALSE))=TRUE,\"\",VLOOKUP(B81,審判員!$A:$C,2,FALSE))","v":"屋敷　伴幸"},null,{"$f":"IF(ISERROR(VLOOKUP(B81,審判員!$A:$C,3,FALSE))=TRUE,\"\",VLOOKUP(B81,審判員!$A:$C,3,FALSE))","v":"３級"},"警告/退場",{"$f":"IF(ISERROR(VLOOKUP(CONCATENATE($F$62,\"_\",G82),選手名簿!$A:$E,5,FALSE))=TRUE,\"\",VLOOKUP(CONCATENATE($F$62,\"_\",G82),選手名簿!$A:$E,5,FALSE))","v":""},null,null,null,null,null,null,null,{"$f":"IF(ISERROR(VLOOKUP(CONCATENATE($N$62,\"_\",M82),選手名簿!$A:$E,5,FALSE))=TRUE,\"\",VLOOKUP(CONCATENATE($N$62,\"_\",M82),選手名簿!$A:$E,5,FALSE))","v":""},null,"AR1:",{"$f":"IF(ISERROR(VLOOKUP(Q81,審判員!$A:$C,2,FALSE))=TRUE,\"\",VLOOKUP(Q81,審判員!$A:$C,2,FALSE))","v":""},null,{"$f":"IF(ISERROR(VLOOKUP(Q81,審判員!$A:$C,3,FALSE))=TRUE,\"\",VLOOKUP(Q81,審判員!$A:$C,3,FALSE))","v":""},"警告/退場",{"$f":"IF(ISERROR(VLOOKUP(CONCATENATE($U$62,\"_\",V82),選手名簿!$A:$E,5,FALSE))=TRUE,\"\",VLOOKUP(CONCATENATE($U$62,\"_\",V82),選手名簿!$A:$E,5,FALSE))","v":""},null,null,null,null,null,null,null,{"$f":"IF(ISERROR(VLOOKUP(CONCATENATE($AC$62,\"_\",AB82),選手名簿!$A:$E,5,FALSE))=TRUE,\"\",VLOOKUP(CONCATENATE($AC$62,\"_\",AB82),選手名簿!$A:$E,5,FALSE))","v":""}]
["番号","R010448235",null,null,"警告/退場",{"$f":"IF(ISERROR(VLOOKUP(CONCATENATE($F$62,\"_\",G83),選手名簿!$A:$E,5,FALSE))=TRUE,\"\",VLOOKUP(CONCATENATE($F$62,\"_\",G83),選手名簿!$A:$E,5,FALSE))","v":""},null,null,null,null,null,null,null,{"$f":"IF(ISERROR(VLOOKUP(CONCATENATE($N$62,\"_\",M83),選手名簿!$A:$E,5,FALSE))=TRUE,\"\",VLOOKUP(CONCATENATE($N$62,\"_\",M83),選手名簿!$A:$E,5,FALSE))","v":""},null,"番号",null,null,null,"警告/退場",{"$f":"IF(ISERROR(VLOOKUP(CONCATENATE($U$62,\"_\",V83),選手名簿!$A:$E,5,FALSE))=TRUE,\"\",VLOOKUP(CONCATENATE($U$62,\"_\",V83),選手名簿!$A:$E,5,FALSE))","v":""},null,null,null,null,null,null,null,{"$f":"IF(ISERROR(VLOOKUP(CONCATENATE($AC$62,\"_\",AB83),選手名簿!$A:$E,5,FALSE))=TRUE,\"\",VLOOKUP(CONCATENATE($AC$62,\"_\",AB83),選手名簿!$A:$E,5,FALSE))","v":""}]
["AR2:",{"$f":"IF(ISERROR(VLOOKUP(B83,審判員!$A:$C,2,FALSE))=TRUE,\"\",VLOOKUP(B83,審判員!$A:$C,2,FALSE))","v":"礒辺　宏基"},null,{"$f":"IF(ISERROR(VLOOKUP(B83,審判員!$A:$C,3,FALSE))=TRUE,\"\",VLOOKUP(B83,審判員!$A:$C,3,FALSE))","v":"３級"},"警告/退場",{"$f":"IF(ISERROR(VLOOKUP(CONCATENATE($F$62,\"_\",G84),選手名簿!$A:$E,5,FALSE))=TRUE,\"\",VLOOKUP(CONCATENATE($F$62,\"_\",G84),選手名簿!$A:$E,5,FALSE))","v":""},null,null,null,null,null,null,null,{"$f":"IF(ISERROR(VLOOKUP(CONCATENATE($N$62,\"_\",M84),選手名簿!$A:$E,5,FALSE))=TRUE,\"\",VLOOKUP(CONCATENATE($N$62,\"_\",M84),選手名簿!$A:$E,5,FALSE))","v":""},null,"AR2:",{"$f":"IF(ISERROR(VLOOKUP(Q83,審判員!$A:$C,2,FALSE))=TRUE,\"\",VLOOKUP(Q83,審判員!$A:$C,2,FALSE))","v":""},null,{"$f":"IF(ISERROR(VLOOKUP(Q83,審判員!$A:$C,3,FALSE))=TRUE,\"\",VLOOKUP(Q83,審判員!$A:$C,3,FALSE))","v":""},"警告/退場",{"$f":"IF(ISERROR(VLOOKUP(CONCATENATE($U$62,\"_\",V84),選手名簿!$A:$E,5,FALSE))=TRUE,\"\",VLOOKUP(CONCATENATE($U$62,\"_\",V84),選手名簿!$A:$E,5,FALSE))","v":""},null,null,null,null,null,null,null,{"$f":"IF(ISERROR(VLOOKUP(CONCATENATE($AC$62,\"_\",AB84),選手名簿!$A:$E,5,FALSE))=TRUE,\"\",VLOOKUP(CONCATENATE($AC$62,\"_\",AB84),選手名簿!$A:$E,5,FALSE))","v":""}]
["番号","R005527609",null,null,"警告/退場",{"$f":"IF(ISERROR(VLOOKUP(CONCATENATE($F$62,\"_\",G85),選手名簿!$A:$E,5,FALSE))=TRUE,\"\",VLOOKUP(CONCATENATE($F$62,\"_\",G85),選手名簿!$A:$E,5,FALSE))","v":""},null,null,null,null,null,null,null,{"$f":"IF(ISERROR(VLOOKUP(CONCATENATE($N$62,\"_\",M85),選手名簿!$A:$E,5,FALSE))=TRUE,\"\",VLOOKUP(CONCATENATE($N$62,\"_\",M85),選手名簿!$A:$E,5,FALSE))","v":""},null,"番号",null,null,null,"警告/退場",{"$f":"IF(ISERROR(VLOOKUP(CONCATENATE($U$62,\"_\",V85),選手名簿!$A:$E,5,FALSE))=TRUE,\"\",VLOOKUP(CONCATENATE($U$62,\"_\",V85),選手名簿!$A:$E,5,FALSE))","v":""},null,null,null,null,null,null,null,{"$f":"IF(ISERROR(VLOOKUP(CONCATENATE($AC$62,\"_\",AB85),選手名簿!$A:$E,5,FALSE))=TRUE,\"\",VLOOKUP(CONCATENATE($AC$62,\"_\",AB85),選手名簿!$A:$E,5,FALSE))","v":""}]
["4th:",{"$f":"IF(ISERROR(VLOOKUP(B85,審判員!$A:$C,2,FALSE))=TRUE,\"\",VLOOKUP(B85,審判員!$A:$C,2,FALSE))","v":"宇都宮　貴之"},null,{"$f":"IF(ISERROR(VLOOKUP(B85,審判員!$A:$C,3,FALSE))=TRUE,\"\",VLOOKUP(B85,審判員!$A:$C,3,FALSE))","v":"３級"},"警告/退場",{"$f":"IF(ISERROR(VLOOKUP(CONCATENATE($F$62,\"_\",G86),選手名簿!$A:$E,5,FALSE))=TRUE,\"\",VLOOKUP(CONCATENATE($F$62,\"_\",G86),選手名簿!$A:$E,5,FALSE))","v":""},null,null,null,null,null,null,null,{"$f":"IF(ISERROR(VLOOKUP(CONCATENATE($N$62,\"_\",M86),選手名簿!$A:$E,5,FALSE))=TRUE,\"\",VLOOKUP(CONCATENATE($N$62,\"_\",M86),選手名簿!$A:$E,5,FALSE))","v":""},null,"4th:",{"$f":"IF(ISERROR(VLOOKUP(Q85,審判員!$A:$C,2,FALSE))=TRUE,\"\",VLOOKUP(Q85,審判員!$A:$C,2,FALSE))","v":""},null,{"$f":"IF(ISERROR(VLOOKUP(Q85,審判員!$A:$C,3,FALSE))=TRUE,\"\",VLOOKUP(Q85,審判員!$A:$C,3,FALSE))","v":""},"警告/退場",{"$f":"IF(ISERROR(VLOOKUP(CONCATENATE($U$62,\"_\",V86),選手名簿!$A:$E,5,FALSE))=TRUE,\"\",VLOOKUP(CONCATENATE($U$62,\"_\",V86),選手名簿!$A:$E,5,FALSE))","v":""},null,null,null,null,null,null,null,{"$f":"IF(ISERROR(VLOOKUP(CONCATENATE($AC$62,\"_\",AB86),選手名簿!$A:$E,5,FALSE))=TRUE,\"\",VLOOKUP(CONCATENATE($AC$62,\"_\",AB86),選手名簿!$A:$E,5,FALSE))","v":""}]
[]
[]
[]
[]
[null,"Match No：31",null,null,null,null,null,null,null,null,null,null,null,null,null,null,"Match No：32"]
["MC","津守　一雄",null,null,"12:00:00",{"$f":"VLOOKUP(決勝トーナメント!K21,組合せ抽選用!$S:$U,3,FALSE)","v":"ＦＣ中津ジュニア"},{"$f":"SUM(I92:I93)","v":5},"（",2,"前半",0,"）",{"$f":"SUM(K92:K93)","v":0},{"$f":"VLOOKUP(決勝トーナメント!O21,組合せ抽選用!$S:$U,3,FALSE)","v":"Ｓｈｙｎｔ　ＦＣ"},null,"MC","隅田　哲平",null,null,"12:00:00",{"$f":"VLOOKUP(決勝トーナメント!K28,組合せ抽選用!$S:$U,3,FALSE)","v":"ドリームキッズフットボールクラブエフシー"},{"$f":"SUM(X92:X93)","v":2},"（",1,"前半",1,"）",{"$f":"SUM(Z92:Z93)","v":1},{"$f":"VLOOKUP(決勝トーナメント!O28,組合せ抽選用!$S:$U,3,FALSE)","v":"明野西ＪＦＣ"}]
["Welfare\nOfficer","唐下　直之",null,null,null,null,null,null,3,"後半",0,null,null,null,null,"Welfare\nOfficer","-",null,null,null,null,null,null,1,"後半",0]
["記録","中原　圭介",null,null,null,null,null,null,null,"PK",null,null,null,null,null,"記録","仲野　昭博",null,null,null,null,null,null,null,"PK"]
[null,null,null,null,null,"氏名","番号","分",null,null,null,"分","番号","氏名",null,null,null,null,null,null,"氏名","番号","分",null,null,null,"分","番号","氏名"]
[null,null,null,null,"得点者",{"$f":"IF(ISERROR(VLOOKUP(CONCATENATE($F$62,\"_\",G96),選手名簿!$A:$E,5,FALSE))=TRUE,\"\",VLOOKUP(CONCATENATE($F$62,\"_\",G96),選手名簿!$A:$E,5,FALSE))","v":""},null,null,null,null,null,null,null,{"$f":"IF(ISERROR(VLOOKUP(CONCATENATE($N$62,\"_\",M96),選手名簿!$A:$E,5,FALSE))=TRUE,\"\",VLOOKUP(CONCATENATE($N$62,\"_\",M96),選手名簿!$A:$E,5,FALSE))","v":""},null,null,null,null,null,"得点者",{"$f":"IF(ISERROR(VLOOKUP(CONCATENATE($U$62,\"_\",V96),選手名簿!$A:$E,5,FALSE))=TRUE,\"\",VLOOKUP(CONCATENATE($U$62,\"_\",V96),選手名簿!$A:$E,5,FALSE))","v":""},null,null,null,null,null,null,null,{"$f":"IF(ISERROR(VLOOKUP(CONCATENATE($AC$62,\"_\",AB96),選手名簿!$A:$E,5,FALSE))=TRUE,\"\",VLOOKUP(CONCATENATE($AC$62,\"_\",AB96),選手名簿!$A:$E,5,FALSE))","v":""}]
[null,null,null,null,"得点者",{"$f":"IF(ISERROR(VLOOKUP(CONCATENATE($F$62,\"_\",G97),選手名簿!$A:$E,5,FALSE))=TRUE,\"\",VLOOKUP(CONCATENATE($F$62,\"_\",G97),選手名簿!$A:$E,5,FALSE))","v":""},null,null,null,null,null,null,null,{"$f":"IF(ISERROR(VLOOKUP(CONCATENATE($N$62,\"_\",M97),選手名簿!$A:$E,5,FALSE))=TRUE,\"\",VLOOKUP(CONCATENATE($N$62,\"_\",M97),選手名簿!$A:$E,5,FALSE))","v":""},null,null,null,null,null,"得点者",{"$f":"IF(ISERROR(VLOOKUP(CONCATENATE($U$62,\"_\",V97),選手名簿!$A:$E,5,FALSE))=TRUE,\"\",VLOOKUP(CONCATENATE($U$62,\"_\",V97),選手名簿!$A:$E,5,FALSE))","v":""},null,null,null,null,null,null,null,{"$f":"IF(ISERROR(VLOOKUP(CONCATENATE($AC$62,\"_\",AB97),選手名簿!$A:$E,5,FALSE))=TRUE,\"\",VLOOKUP(CONCATENATE($AC$62,\"_\",AB97),選手名簿!$A:$E,5,FALSE))","v":""}]
[null,null,null,null,"得点者",{"$f":"IF(ISERROR(VLOOKUP(CONCATENATE($F$62,\"_\",G98),選手名簿!$A:$E,5,FALSE))=TRUE,\"\",VLOOKUP(CONCATENATE($F$62,\"_\",G98),選手名簿!$A:$E,5,FALSE))","v":""},null,null,null,null,null,null,null,{"$f":"IF(ISERROR(VLOOKUP(CONCATENATE($N$62,\"_\",M98),選手名簿!$A:$E,5,FALSE))=TRUE,\"\",VLOOKUP(CONCATENATE($N$62,\"_\",M98),選手名簿!$A:$E,5,FALSE))","v":""},null,null,null,null,null,"得点者",{"$f":"IF(ISERROR(VLOOKUP(CONCATENATE($U$62,\"_\",V98),選手名簿!$A:$E,5,FALSE))=TRUE,\"\",VLOOKUP(CONCATENATE($U$62,\"_\",V98),選手名簿!$A:$E,5,FALSE))","v":""},null,null,null,null,null,null,null,{"$f":"IF(ISERROR(VLOOKUP(CONCATENATE($AC$62,\"_\",AB98),選手名簿!$A:$E,5,FALSE))=TRUE,\"\",VLOOKUP(CONCATENATE($AC$62,\"_\",AB98),選手名簿!$A:$E,5,FALSE))","v":""}]
[null,null,null,null,"得点者",{"$f":"IF(ISERROR(VLOOKUP(CONCATENATE($F$62,\"_\",G99),選手名簿!$A:$E,5,FALSE))=TRUE,\"\",VLOOKUP(CONCATENATE($F$62,\"_\",G99),選手名簿!$A:$E,5,FALSE))","v":""},null,null,null,null,null,null,null,{"$f":"IF(ISERROR(VLOOKUP(CONCATENATE($N$62,\"_\",M99),選手名簿!$A:$E,5,FALSE))=TRUE,\"\",VLOOKUP(CONCATENATE($N$62,\"_\",M99),選手名簿!$A:$E,5,FALSE))","v":""},null,null,null,null,null,"得点者",{"$f":"IF(ISERROR(VLOOKUP(CONCATENATE($U$62,\"_\",V99),選手名簿!$A:$E,5,FALSE))=TRUE,\"\",VLOOKUP(CONCATENATE($U$62,\"_\",V99),選手名簿!$A:$E,5,FALSE))","v":""},null,null,null,null,null,null,null,{"$f":"IF(ISERROR(VLOOKUP(CONCATENATE($AC$62,\"_\",AB99),選手名簿!$A:$E,5,FALSE))=TRUE,\"\",VLOOKUP(CONCATENATE($AC$62,\"_\",AB99),選手名簿!$A:$E,5,FALSE))","v":""}]
[null,null,null,null,"得点者",{"$f":"IF(ISERROR(VLOOKUP(CONCATENATE($F$62,\"_\",G100),選手名簿!$A:$E,5,FALSE))=TRUE,\"\",VLOOKUP(CONCATENATE($F$62,\"_\",G100),選手名簿!$A:$E,5,FALSE))","v":""},null,null,null,null,null,null,null,{"$f":"IF(ISERROR(VLOOKUP(CONCATENATE($N$62,\"_\",M100),選手名簿!$A:$E,5,FALSE))=TRUE,\"\",VLOOKUP(CONCATENATE($N$62,\"_\",M100),選手名簿!$A:$E,5,FALSE))","v":""},null,null,null,null,null,"得点者",{"$f":"IF(ISERROR(VLOOKUP(CONCATENATE($U$62,\"_\",V100),選手名簿!$A:$E,5,FALSE))=TRUE,\"\",VLOOKUP(CONCATENATE($U$62,\"_\",V100),選手名簿!$A:$E,5,FALSE))","v":""},null,null,null,null,null,null,null,{"$f":"IF(ISERROR(VLOOKUP(CONCATENATE($AC$62,\"_\",AB100),選手名簿!$A:$E,5,FALSE))=TRUE,\"\",VLOOKUP(CONCATENATE($AC$62,\"_\",AB100),選手名簿!$A:$E,5,FALSE))","v":""}]
[null,null,null,null,"得点者",{"$f":"IF(ISERROR(VLOOKUP(CONCATENATE($F$62,\"_\",G101),選手名簿!$A:$E,5,FALSE))=TRUE,\"\",VLOOKUP(CONCATENATE($F$62,\"_\",G101),選手名簿!$A:$E,5,FALSE))","v":""},null,null,null,null,null,null,null,{"$f":"IF(ISERROR(VLOOKUP(CONCATENATE($N$62,\"_\",M101),選手名簿!$A:$E,5,FALSE))=TRUE,\"\",VLOOKUP(CONCATENATE($N$62,\"_\",M101),選手名簿!$A:$E,5,FALSE))","v":""},null,null,null,null,null,"得点者",{"$f":"IF(ISERROR(VLOOKUP(CONCATENATE($U$62,\"_\",V101),選手名簿!$A:$E,5,FALSE))=TRUE,\"\",VLOOKUP(CONCATENATE($U$62,\"_\",V101),選手名簿!$A:$E,5,FALSE))","v":""},null,null,null,null,null,null,null,{"$f":"IF(ISERROR(VLOOKUP(CONCATENATE($AC$62,\"_\",AB101),選手名簿!$A:$E,5,FALSE))=TRUE,\"\",VLOOKUP(CONCATENATE($AC$62,\"_\",AB101),選手名簿!$A:$E,5,FALSE))","v":""}]
[null,null,null,null,"得点者",{"$f":"IF(ISERROR(VLOOKUP(CONCATENATE($F$62,\"_\",G102),選手名簿!$A:$E,5,FALSE))=TRUE,\"\",VLOOKUP(CONCATENATE($F$62,\"_\",G102),選手名簿!$A:$E,5,FALSE))","v":""},null,null,null,null,null,null,null,{"$f":"IF(ISERROR(VLOOKUP(CONCATENATE($N$62,\"_\",M102),選手名簿!$A:$E,5,FALSE))=TRUE,\"\",VLOOKUP(CONCATENATE($N$62,\"_\",M102),選手名簿!$A:$E,5,FALSE))","v":""},null,null,null,null,null,"得点者",{"$f":"IF(ISERROR(VLOOKUP(CONCATENATE($U$62,\"_\",V102),選手名簿!$A:$E,5,FALSE))=TRUE,\"\",VLOOKUP(CONCATENATE($U$62,\"_\",V102),選手名簿!$A:$E,5,FALSE))","v":""},null,null,null,null,null,null,null,{"$f":"IF(ISERROR(VLOOKUP(CONCATENATE($AC$62,\"_\",AB102),選手名簿!$A:$E,5,FALSE))=TRUE,\"\",VLOOKUP(CONCATENATE($AC$62,\"_\",AB102),選手名簿!$A:$E,5,FALSE))","v":""}]
[null,null,null,null,"得点者",{"$f":"IF(ISERROR(VLOOKUP(CONCATENATE($F$62,\"_\",G103),選手名簿!$A:$E,5,FALSE))=TRUE,\"\",VLOOKUP(CONCATENATE($F$62,\"_\",G103),選手名簿!$A:$E,5,FALSE))","v":""},null,null,null,null,null,null,null,{"$f":"IF(ISERROR(VLOOKUP(CONCATENATE($N$62,\"_\",M103),選手名簿!$A:$E,5,FALSE))=TRUE,\"\",VLOOKUP(CONCATENATE($N$62,\"_\",M103),選手名簿!$A:$E,5,FALSE))","v":""},null,null,null,null,null,"得点者",{"$f":"IF(ISERROR(VLOOKUP(CONCATENATE($U$62,\"_\",V103),選手名簿!$A:$E,5,FALSE))=TRUE,\"\",VLOOKUP(CONCATENATE($U$62,\"_\",V103),選手名簿!$A:$E,5,FALSE))","v":""},null,null,null,null,null,null,null,{"$f":"IF(ISERROR(VLOOKUP(CONCATENATE($AC$62,\"_\",AB103),選手名簿!$A:$E,5,FALSE))=TRUE,\"\",VLOOKUP(CONCATENATE($AC$62,\"_\",AB103),選手名簿!$A:$E,5,FALSE))","v":""}]
[null,null,null,null,"得点者",{"$f":"IF(ISERROR(VLOOKUP(CONCATENATE($F$62,\"_\",G104),選手名簿!$A:$E,5,FALSE))=TRUE,\"\",VLOOKUP(CONCATENATE($F$62,\"_\",G104),選手名簿!$A:$E,5,FALSE))","v":""},null,null,null,null,null,null,null,{"$f":"IF(ISERROR(VLOOKUP(CONCATENATE($N$62,\"_\",M104),選手名簿!$A:$E,5,FALSE))=TRUE,\"\",VLOOKUP(CONCATENATE($N$62,\"_\",M104),選手名簿!$A:$E,5,FALSE))","v":""},null,null,null,null,null,"得点者",{"$f":"IF(ISERROR(VLOOKUP(CONCATENATE($U$62,\"_\",V104),選手名簿!$A:$E,5,FALSE))=TRUE,\"\",VLOOKUP(CONCATENATE($U$62,\"_\",V104),選手名簿!$A:$E,5,FALSE))","v":""},null,null,null,null,null,null,null,{"$f":"IF(ISERROR(VLOOKUP(CONCATENATE($AC$62,\"_\",AB104),選手名簿!$A:$E,5,FALSE))=TRUE,\"\",VLOOKUP(CONCATENATE($AC$62,\"_\",AB104),選手名簿!$A:$E,5,FALSE))","v":""}]
[null,null,null,null,"得点者",{"$f":"IF(ISERROR(VLOOKUP(CONCATENATE($F$62,\"_\",G105),選手名簿!$A:$E,5,FALSE))=TRUE,\"\",VLOOKUP(CONCATENATE($F$62,\"_\",G105),選手名簿!$A:$E,5,FALSE))","v":""},null,null,null,null,null,null,null,{"$f":"IF(ISERROR(VLOOKUP(CONCATENATE($N$62,\"_\",M105),選手名簿!$A:$E,5,FALSE))=TRUE,\"\",VLOOKUP(CONCATENATE($N$62,\"_\",M105),選手名簿!$A:$E,5,FALSE))","v":""},null,null,null,null,null,"得点者",{"$f":"IF(ISERROR(VLOOKUP(CONCATENATE($U$62,\"_\",V105),選手名簿!$A:$E,5,FALSE))=TRUE,\"\",VLOOKUP(CONCATENATE($U$62,\"_\",V105),選手名簿!$A:$E,5,FALSE))","v":""},null,null,null,null,null,null,null,{"$f":"IF(ISERROR(VLOOKUP(CONCATENATE($AC$62,\"_\",AB105),選手名簿!$A:$E,5,FALSE))=TRUE,\"\",VLOOKUP(CONCATENATE($AC$62,\"_\",AB105),選手名簿!$A:$E,5,FALSE))","v":""}]
[null,null,null,null,"得点者",{"$f":"IF(ISERROR(VLOOKUP(CONCATENATE($F$62,\"_\",G106),選手名簿!$A:$E,5,FALSE))=TRUE,\"\",VLOOKUP(CONCATENATE($F$62,\"_\",G106),選手名簿!$A:$E,5,FALSE))","v":""},null,null,null,null,null,null,null,{"$f":"IF(ISERROR(VLOOKUP(CONCATENATE($N$62,\"_\",M106),選手名簿!$A:$E,5,FALSE))=TRUE,\"\",VLOOKUP(CONCATENATE($N$62,\"_\",M106),選手名簿!$A:$E,5,FALSE))","v":""},null,null,null,null,null,"得点者",{"$f":"IF(ISERROR(VLOOKUP(CONCATENATE($U$62,\"_\",V106),選手名簿!$A:$E,5,FALSE))=TRUE,\"\",VLOOKUP(CONCATENATE($U$62,\"_\",V106),選手名簿!$A:$E,5,FALSE))","v":""},null,null,null,null,null,null,null,{"$f":"IF(ISERROR(VLOOKUP(CONCATENATE($AC$62,\"_\",AB106),選手名簿!$A:$E,5,FALSE))=TRUE,\"\",VLOOKUP(CONCATENATE($AC$62,\"_\",AB106),選手名簿!$A:$E,5,FALSE))","v":""}]
[null,null,null,null,"得点者",{"$f":"IF(ISERROR(VLOOKUP(CONCATENATE($F$62,\"_\",G107),選手名簿!$A:$E,5,FALSE))=TRUE,\"\",VLOOKUP(CONCATENATE($F$62,\"_\",G107),選手名簿!$A:$E,5,FALSE))","v":""},null,null,null,null,null,null,null,{"$f":"IF(ISERROR(VLOOKUP(CONCATENATE($N$62,\"_\",M107),選手名簿!$A:$E,5,FALSE))=TRUE,\"\",VLOOKUP(CONCATENATE($N$62,\"_\",M107),選手名簿!$A:$E,5,FALSE))","v":""},null,null,null,null,null,"得点者",{"$f":"IF(ISERROR(VLOOKUP(CONCATENATE($U$62,\"_\",V107),選手名簿!$A:$E,5,FALSE))=TRUE,\"\",VLOOKUP(CONCATENATE($U$62,\"_\",V107),選手名簿!$A:$E,5,FALSE))","v":""},null,null,null,null,null,null,null,{"$f":"IF(ISERROR(VLOOKUP(CONCATENATE($AC$62,\"_\",AB107),選手名簿!$A:$E,5,FALSE))=TRUE,\"\",VLOOKUP(CONCATENATE($AC$62,\"_\",AB107),選手名簿!$A:$E,5,FALSE))","v":""}]
["＜Referee＞",null,null,null,null,"氏名","番号","分",null,null,null,"分","番号","氏名",null,"＜Referee＞",null,null,null,null,"氏名","番号","分",null,null,null,"分","番号","氏名"]
["番号","R009554780",null,null,"警告/退場",{"$f":"IF(ISERROR(VLOOKUP(CONCATENATE($F$92,\"_\",G109),選手名簿!$A:$E,5,FALSE))=TRUE,\"\",VLOOKUP(CONCATENATE($F$92,\"_\",G109),選手名簿!$A:$E,5,FALSE))","v":""},null,null,null,null,null,null,null,{"$f":"IF(ISERROR(VLOOKUP(CONCATENATE($N$92,\"_\",M109),選手名簿!$A:$E,5,FALSE))=TRUE,\"\",VLOOKUP(CONCATENATE($N$92,\"_\",M109),選手名簿!$A:$E,5,FALSE))","v":""},null,"番号","R010281871",null,null,"警告/退場",{"$f":"IF(ISERROR(VLOOKUP(CONCATENATE($U$92,\"_\",V109),選手名簿!$A:$E,5,FALSE))=TRUE,\"\",VLOOKUP(CONCATENATE($U$92,\"_\",V109),選手名簿!$A:$E,5,FALSE))","v":""},null,null,null,null,null,null,null,{"$f":"IF(ISERROR(VLOOKUP(CONCATENATE($AC$92,\"_\",AB109),選手名簿!$A:$E,5,FALSE))=TRUE,\"\",VLOOKUP(CONCATENATE($AC$92,\"_\",AB109),選手名簿!$A:$E,5,FALSE))","v":""}]
["R",{"$f":"IF(ISERROR(VLOOKUP(B109,審判員!$A:$C,2,FALSE))=TRUE,\"\",VLOOKUP(B109,審判員!$A:$C,2,FALSE))","v":"白江　直樹"},null,{"$f":"IF(ISERROR(VLOOKUP(B109,審判員!$A:$C,3,FALSE))=TRUE,\"\",VLOOKUP(B109,審判員!$A:$C,3,FALSE))","v":"３級"},"警告/退場",{"$f":"IF(ISERROR(VLOOKUP(CONCATENATE($F$92,\"_\",G110),選手名簿!$A:$E,5,FALSE))=TRUE,\"\",VLOOKUP(CONCATENATE($F$92,\"_\",G110),選手名簿!$A:$E,5,FALSE))","v":""},null,null,null,null,null,null,null,{"$f":"IF(ISERROR(VLOOKUP(CONCATENATE($N$92,\"_\",M110),選手名簿!$A:$E,5,FALSE))=TRUE,\"\",VLOOKUP(CONCATENATE($N$92,\"_\",M110),選手名簿!$A:$E,5,FALSE))","v":""},null,"R",{"$f":"IF(ISERROR(VLOOKUP(Q109,審判員!$A:$C,2,FALSE))=TRUE,\"\",VLOOKUP(Q109,審判員!$A:$C,2,FALSE))","v":"山本　青"},null,{"$f":"IF(ISERROR(VLOOKUP(Q109,審判員!$A:$C,3,FALSE))=TRUE,\"\",VLOOKUP(Q109,審判員!$A:$C,3,FALSE))","v":"３級"},"警告/退場",{"$f":"IF(ISERROR(VLOOKUP(CONCATENATE($U$92,\"_\",V110),選手名簿!$A:$E,5,FALSE))=TRUE,\"\",VLOOKUP(CONCATENATE($U$92,\"_\",V110),選手名簿!$A:$E,5,FALSE))","v":""},null,null,null,null,null,null,null,{"$f":"IF(ISERROR(VLOOKUP(CONCATENATE($AC$92,\"_\",AB110),選手名簿!$A:$E,5,FALSE))=TRUE,\"\",VLOOKUP(CONCATENATE($AC$92,\"_\",AB110),選手名簿!$A:$E,5,FALSE))","v":""}]
["番号","R010415888",null,null,"警告/退場",{"$f":"IF(ISERROR(VLOOKUP(CONCATENATE($F$92,\"_\",G111),選手名簿!$A:$E,5,FALSE))=TRUE,\"\",VLOOKUP(CONCATENATE($F$92,\"_\",G111),選手名簿!$A:$E,5,FALSE))","v":""},null,null,null,null,null,null,null,{"$f":"IF(ISERROR(VLOOKUP(CONCATENATE($N$92,\"_\",M111),選手名簿!$A:$E,5,FALSE))=TRUE,\"\",VLOOKUP(CONCATENATE($N$92,\"_\",M111),選手名簿!$A:$E,5,FALSE))","v":""},null,"番号",null,null,null,"警告/退場",{"$f":"IF(ISERROR(VLOOKUP(CONCATENATE($U$92,\"_\",V111),選手名簿!$A:$E,5,FALSE))=TRUE,\"\",VLOOKUP(CONCATENATE($U$92,\"_\",V111),選手名簿!$A:$E,5,FALSE))","v":""},null,null,null,null,null,null,null,{"$f":"IF(ISERROR(VLOOKUP(CONCATENATE($AC$92,\"_\",AB111),選手名簿!$A:$E,5,FALSE))=TRUE,\"\",VLOOKUP(CONCATENATE($AC$92,\"_\",AB111),選手名簿!$A:$E,5,FALSE))","v":""}]
["AR1:",{"$f":"IF(ISERROR(VLOOKUP(B111,審判員!$A:$C,2,FALSE))=TRUE,\"\",VLOOKUP(B111,審判員!$A:$C,2,FALSE))","v":"上田　源典"},null,{"$f":"IF(ISERROR(VLOOKUP(B111,審判員!$A:$C,3,FALSE))=TRUE,\"\",VLOOKUP(B111,審判員!$A:$C,3,FALSE))","v":"３級"},"警告/退場",{"$f":"IF(ISERROR(VLOOKUP(CONCATENATE($F$92,\"_\",G112),選手名簿!$A:$E,5,FALSE))=TRUE,\"\",VLOOKUP(CONCATENATE($F$92,\"_\",G112),選手名簿!$A:$E,5,FALSE))","v":""},null,null,null,null,null,null,null,{"$f":"IF(ISERROR(VLOOKUP(CONCATENATE($N$92,\"_\",M112),選手名簿!$A:$E,5,FALSE))=TRUE,\"\",VLOOKUP(CONCATENATE($N$92,\"_\",M112),選手名簿!$A:$E,5,FALSE))","v":""},null,"AR1:",{"$f":"IF(ISERROR(VLOOKUP(Q111,審判員!$A:$C,2,FALSE))=TRUE,\"\",VLOOKUP(Q111,審判員!$A:$C,2,FALSE))","v":""},null,{"$f":"IF(ISERROR(VLOOKUP(Q111,審判員!$A:$C,3,FALSE))=TRUE,\"\",VLOOKUP(Q111,審判員!$A:$C,3,FALSE))","v":""},"警告/退場",{"$f":"IF(ISERROR(VLOOKUP(CONCATENATE($U$92,\"_\",V112),選手名簿!$A:$E,5,FALSE))=TRUE,\"\",VLOOKUP(CONCATENATE($U$92,\"_\",V112),選手名簿!$A:$E,5,FALSE))","v":""},null,null,null,null,null,null,null,{"$f":"IF(ISERROR(VLOOKUP(CONCATENATE($AC$92,\"_\",AB112),選手名簿!$A:$E,5,FALSE))=TRUE,\"\",VLOOKUP(CONCATENATE($AC$92,\"_\",AB112),選手名簿!$A:$E,5,FALSE))","v":""}]
["番号","R009197619",null,null,"警告/退場",{"$f":"IF(ISERROR(VLOOKUP(CONCATENATE($F$92,\"_\",G113),選手名簿!$A:$E,5,FALSE))=TRUE,\"\",VLOOKUP(CONCATENATE($F$92,\"_\",G113),選手名簿!$A:$E,5,FALSE))","v":""},null,null,null,null,null,null,null,{"$f":"IF(ISERROR(VLOOKUP(CONCATENATE($N$92,\"_\",M113),選手名簿!$A:$E,5,FALSE))=TRUE,\"\",VLOOKUP(CONCATENATE($N$92,\"_\",M113),選手名簿!$A:$E,5,FALSE))","v":""},null,"番号",null,null,null,"警告/退場",{"$f":"IF(ISERROR(VLOOKUP(CONCATENATE($U$92,\"_\",V113),選手名簿!$A:$E,5,FALSE))=TRUE,\"\",VLOOKUP(CONCATENATE($U$92,\"_\",V113),選手名簿!$A:$E,5,FALSE))","v":""},null,null,null,null,null,null,null,{"$f":"IF(ISERROR(VLOOKUP(CONCATENATE($AC$92,\"_\",AB113),選手名簿!$A:$E,5,FALSE))=TRUE,\"\",VLOOKUP(CONCATENATE($AC$92,\"_\",AB113),選手名簿!$A:$E,5,FALSE))","v":""}]
["AR2:",{"$f":"IF(ISERROR(VLOOKUP(B113,審判員!$A:$C,2,FALSE))=TRUE,\"\",VLOOKUP(B113,審判員!$A:$C,2,FALSE))","v":"恵美　圭介"},null,{"$f":"IF(ISERROR(VLOOKUP(B113,審判員!$A:$C,3,FALSE))=TRUE,\"\",VLOOKUP(B113,審判員!$A:$C,3,FALSE))","v":"３級"},"警告/退場",{"$f":"IF(ISERROR(VLOOKUP(CONCATENATE($F$92,\"_\",G114),選手名簿!$A:$E,5,FALSE))=TRUE,\"\",VLOOKUP(CONCATENATE($F$92,\"_\",G114),選手名簿!$A:$E,5,FALSE))","v":""},null,null,null,null,null,null,null,{"$f":"IF(ISERROR(VLOOKUP(CONCATENATE($N$92,\"_\",M114),選手名簿!$A:$E,5,FALSE))=TRUE,\"\",VLOOKUP(CONCATENATE($N$92,\"_\",M114),選手名簿!$A:$E,5,FALSE))","v":""},null,"AR2:",{"$f":"IF(ISERROR(VLOOKUP(Q113,審判員!$A:$C,2,FALSE))=TRUE,\"\",VLOOKUP(Q113,審判員!$A:$C,2,FALSE))","v":""},null,{"$f":"IF(ISERROR(VLOOKUP(Q113,審判員!$A:$C,3,FALSE))=TRUE,\"\",VLOOKUP(Q113,審判員!$A:$C,3,FALSE))","v":""},"警告/退場",{"$f":"IF(ISERROR(VLOOKUP(CONCATENATE($U$92,\"_\",V114),選手名簿!$A:$E,5,FALSE))=TRUE,\"\",VLOOKUP(CONCATENATE($U$92,\"_\",V114),選手名簿!$A:$E,5,FALSE))","v":""},null,null,null,null,null,null,null,{"$f":"IF(ISERROR(VLOOKUP(CONCATENATE($AC$92,\"_\",AB114),選手名簿!$A:$E,5,FALSE))=TRUE,\"\",VLOOKUP(CONCATENATE($AC$92,\"_\",AB114),選手名簿!$A:$E,5,FALSE))","v":""}]
["番号","R010396582",null,null,"警告/退場",{"$f":"IF(ISERROR(VLOOKUP(CONCATENATE($F$92,\"_\",G115),選手名簿!$A:$E,5,FALSE))=TRUE,\"\",VLOOKUP(CONCATENATE($F$92,\"_\",G115),選手名簿!$A:$E,5,FALSE))","v":""},null,null,null,null,null,null,null,{"$f":"IF(ISERROR(VLOOKUP(CONCATENATE($N$92,\"_\",M115),選手名簿!$A:$E,5,FALSE))=TRUE,\"\",VLOOKUP(CONCATENATE($N$92,\"_\",M115),選手名簿!$A:$E,5,FALSE))","v":""},null,"番号",null,null,null,"警告/退場",{"$f":"IF(ISERROR(VLOOKUP(CONCATENATE($U$92,\"_\",V115),選手名簿!$A:$E,5,FALSE))=TRUE,\"\",VLOOKUP(CONCATENATE($U$92,\"_\",V115),選手名簿!$A:$E,5,FALSE))","v":""},null,null,null,null,null,null,null,{"$f":"IF(ISERROR(VLOOKUP(CONCATENATE($AC$92,\"_\",AB115),選手名簿!$A:$E,5,FALSE))=TRUE,\"\",VLOOKUP(CONCATENATE($AC$92,\"_\",AB115),選手名簿!$A:$E,5,FALSE))","v":""}]
["4th:",{"$f":"IF(ISERROR(VLOOKUP(B115,審判員!$A:$C,2,FALSE))=TRUE,\"\",VLOOKUP(B115,審判員!$A:$C,2,FALSE))","v":"金田　智朗"},null,{"$f":"IF(ISERROR(VLOOKUP(B115,審判員!$A:$C,3,FALSE))=TRUE,\"\",VLOOKUP(B115,審判員!$A:$C,3,FALSE))","v":"３級"},"警告/退場",{"$f":"IF(ISERROR(VLOOKUP(CONCATENATE($F$92,\"_\",G116),選手名簿!$A:$E,5,FALSE))=TRUE,\"\",VLOOKUP(CONCATENATE($F$92,\"_\",G116),選手名簿!$A:$E,5,FALSE))","v":""},null,null,null,null,null,null,null,{"$f":"IF(ISERROR(VLOOKUP(CONCATENATE($N$92,\"_\",M116),選手名簿!$A:$E,5,FALSE))=TRUE,\"\",VLOOKUP(CONCATENATE($N$92,\"_\",M116),選手名簿!$A:$E,5,FALSE))","v":""},null,"4th:",{"$f":"IF(ISERROR(VLOOKUP(Q115,審判員!$A:$C,2,FALSE))=TRUE,\"\",VLOOKUP(Q115,審判員!$A:$C,2,FALSE))","v":""},null,{"$f":"IF(ISERROR(VLOOKUP(Q115,審判員!$A:$C,3,FALSE))=TRUE,\"\",VLOOKUP(Q115,審判員!$A:$C,3,FALSE))","v":""},"警告/退場",{"$f":"IF(ISERROR(VLOOKUP(CONCATENATE($U$92,\"_\",V116),選手名簿!$A:$E,5,FALSE))=TRUE,\"\",VLOOKUP(CONCATENATE($U$92,\"_\",V116),選手名簿!$A:$E,5,FALSE))","v":""},null,null,null,null,null,null,null,{"$f":"IF(ISERROR(VLOOKUP(CONCATENATE($AC$92,\"_\",AB116),選手名簿!$A:$E,5,FALSE))=TRUE,\"\",VLOOKUP(CONCATENATE($AC$92,\"_\",AB116),選手名簿!$A:$E,5,FALSE))","v":""}]

{"sheet":"決勝公式記録 No,33","index":15,"n_rows":71,"n_cols":51,"rows_kept":71,"cut":false,"hidden":false,"merged":[[70,8,72,14],[70,15,72,21],[70,22,72,28],[70,29,72,35],[56,3,56,5],[56,7,56,8],[56,11,56,13],[56,16,56,17],[56,20,56,21],[56,24,56,26],[56,29,56,30],[57,0,57,35],[58,0,58,35],[60,0,60,3],[60,5,60,9],[60,11,60,17],[60,19,60,33],[61,0,67,35],[69,8,69,14],[69,15,69,21],[69,22,69,28],[69,29,69,35],[54,3,54,4],[54,5,54,17],[54,21,54,22],[54,23,54,35],[55,3,55,4],[55,5,55,17],[55,21,55,22],[55,23,55,35],[52,3,52,4],[52,5,52,17],[52,21,52,22],[52,23,52,35],[53,3,53,4],[53,5,53,17],[53,21,53,22],[53,23,53,35],[50,3,50,4],[50,5,50,17],[50,21,50,22],[50,23,50,35],[51,3,51,4],[51,5,51,17],[51,21,51,22],[51,23,51,35],[48,25,48,26],[48,27,48,28],[49,0,49,2],[49,3,49,4],[49,5,49,17],[49,18,49,20],[49,21,49,22],[49,23,49,35],[47,25,47,26],[47,27,47,28],[48,7,48,8],[48,9,48,10],[48,11,48,12],[48,13,48,14],[48,15,48,16],[48,19,48,20],[48,21,48,22],[48,23,48,24],[44,0,48,6],[46,25,46,26],[46,27,46,28],[47,7,47,8],[47,9,47,10],[47,11,47,12],[47,13,47,14],[47,15,47,16],[47,19,47,20],[47,21,47,22],[47,23,47,24],[46,7,46,8],[46,9,46,10],[46,11,46,12],[46,13,46,14],[46,15,46,16],[46,19,46,20],[46,21,46,22],[46,23,46,24],[44,25,44,26],[44,27,44,28],[45,7,45,8],[45,9,45,10],[45,11,45,12],[45,13,45,14],[45,15,45,16],[45,19,45,20],[45,21,45,22],[45,23,45,24],[45,25,45,26],[45,27,45,28],[44,7,44,8],[44,9,44,10],[44,11,44,12],[44,13,44,14],[44,15,44,16],[44,19,44,20],[44,21,44,22],[44,23,44,24],[42,4,42,8],[42,12,42,16],[42,22,42,26],[42,30,42,34],[43,0,43,6],[43,7,43,8],[43,9,43,10],[43,11,43,12],[43,13,43,14],[43,15,43,16],[43,29,43,35],[43,17,43,18],[43,19,43,20],[43,21,43,22],[43,23,43,24],[43,25,43,26],[43,27,43,28],[40,4,40,8],[40,12,40,16],[40,22,40,26],[40,30,40,34],[41,4,41,8],[41,12,41,16],[41,22,41,26],[41,30,41,34],[38,4,38,8],[38,12,38,16],[38,22,38,26],[38,30,38,34],[39,4,39,8],[39,12,39,16],[39,22,39,26],[39,30,39,34],[36,4,36,8],[36,12,36,16],[36,22,36,26],[36,30,36,34],[37,4,37,8],[37,12,37,16],[37,22,37,26],[37,30,37,34],[33,27,34,27],[33,28,34,34],[34,17,34,18],[35,4,35,8],[35,12,35,16],[35,22,35,26],[35,30,35,34],[32,11,32,15],[32,17,32,18],[32,20,32,24],[33,2,34,8],[33,9,34,9],[33,10,34,16],[33,17,33,18],[33,20,34,26],[29,11,29,15],[29,20,29,24],[30,11,30,15],[30,20,30,24],[31,11,31,15],[31,20,31,24],[27,11,27,15],[27,20,27,24],[28,11,28,15],[28,20,28,24],[22,11,22,15],[22,20,22,24],[23,16,23,19],[24,11,24,15],[24,20,24,24],[25,11,25,15],[25,20,25,24],[21,11,21,15],[21,20,21,24],[16,11,16,15],[16,20,16,24],[17,11,17,15],[17,20,17,24],[18,11,18,15],[18,20,18,24],[26,11,26,15],[26,20,26,24],[15,11,15,15],[15,20,15,24],[13,30,13,31],[13,32,13,33],[13,34,13,35],[19,11,19,15],[19,20,19,24],[20,11,20,15],[20,20,20,24],[13,41,13,42],[14,0,14,1],[14,2,14,3],[14,4,14,5],[14,6,14,7],[14,8,14,9],[14,26,14,27],[12,26,12,33],[12,41,12,42],[13,0,13,1],[13,2,13,3],[13,4,13,5],[13,6,13,7],[13,8,13,9],[13,17,13,18],[13,26,13,27],[13,28,13,29],[14,28,14,29],[14,30,14,31],[14,32,14,33],[14,34,14,35],[11,17,11,18],[12,2,12,9],[7,32,7,35],[8,1,8,10],[8,11,8,14],[8,17,8,18],[8,22,8,31],[8,32,8,35],[7,0,7,2],[7,11,7,14],[7,15,11,15],[7,17,7,18],[7,20,11,20],[7,21,7,23],[9,12,9,14],[9,17,9,18],[9,21,9,23],[10,11,10,12],[5,26,5,30],[5,31,5,35],[6,0,6,1],[6,11,6,12],[6,13,6,14],[6,18,6,19],[6,26,6,30],[10,13,10,14],[10,17,10,18],[10,21,10,22],[10,23,10,24],[4,0,4,1],[4,2,6,8],[4,11,4,12],[4,18,4,19],[5,0,5,1],[5,11,5,12],[5,13,5,14],[5,18,5,19],[5,21,5,25],[1,28,2,29],[1,31,1,35],[2,0,2,1],[2,14,2,15],[2,16,2,17],[2,18,2,26],[2,31,2,35],[0,0,0,5],[0,6,0,9],[0,10,0,11],[1,0,1,1],[1,2,3,13],[1,15,1,16],[3,0,3,1],[3,14,3,15],[3,16,3,17],[3,18,3,26],[3,28,3,29],[3,31,3,35]]}
["公式記録",null,null,null,null,null,"Match No：",null,null,null,33]
["大",null,"第10回\n全日本不動産協会杯争奪U-12サッカー大会\n【ラビットカップ】大分県大会",null,null,null,null,null,null,null,null,null,null,null,"第",2,null,"日",null,null,null,null,null,null,null,null,null,"競技","30分",null,"記"]
["会",null,null,null,null,null,null,null,null,null,null,null,null,null,"1回戦",null,"2回戦",null,"2021年　7月4日（日）",null,null,null,null,null,null,null,null,"時間",null,null,"録","松下　省吾"]
["名",null,null,null,null,null,null,null,null,null,null,null,null,null,"準決勝",null,"決勝",null,"試合開始　14時10分～",null,null,null,null,null,null,null,null,"延長","10分",null,"者","磯村　信一"]
["会",null,"大分ｽﾎﾟｰﾂ公園\n昭和電工ｻｯｶｰ･ﾗｸﾞﾋﾞｰ場\n　Bｺｰﾄ　北側",null,null,null,null,null,null,"天","晴","風",null,"強","弱","無","芝","状","良好",null,"審","主審",null,null,null,null,"副審",null,null,null,null,"第4の審判員"]
[null,null,null,null,null,null,null,null,null,null,"曇","気温",null,32.799999999999997,null,"℃",null,null,"不良",null,null,"黒田　大貴",null,null,null,null,"佐藤　慎二",null,null,null,null,"須藤　健二"]
["場",null,null,null,null,null,null,null,null,"候","雨","湿度",null,44.1,null,"％","土","態","泥沼",null,"判",null,null,null,null,null,"田尻　貴志"]
["【チーム名】",null,null,null,null,null,null,null,null,null,null,null,null,null,null,3,1,"前半",null,1,2,"【チーム名】"]
[null,{"$f":"AR13","v":"カティオーラフットボールクラブＵ－１２"},null,null,null,null,null,null,null,null,null,{"$f":"AR14","v":"大分市"},null,null,null,null,2,"後半",null,1,null,null,{"$f":"AY13","v":"ＦＣ中津ジュニア"},null,null,null,null,null,null,null,null,null,{"$f":"AY14","v":"中津市"}]
[null,null,null,null,null,null,null,null,null,null,null,null,"kick off",null,null,null,null,"延前",null,null,null,"kick off"]
[null,null,null,null,null,null,null,null,null,null,null,"番号",null,"PK",null,null,null,"延後",null,null,null,"PK",null,"番号"]
[null,null,null,null,null,null,null,null,null,null,null,"○","×","先","後",null,null,"ＰＫ戦",null,null,null,"先","後","○","×"]
[null,null,"シュート（得点者は○印）",null,null,null,null,null,null,null,"学",null,null,null,null,null,"番",null,null,"番",null,null,null,null,null,"学","シュート（得点者は○印）",null,null,null,null,null,null,null,null,null,null,null,null,null,null,"チーム名",null,"カティオーラフットボールクラブＵ－１２",null,null,null,null,null,"チーム名","ＦＣ中津ジュニア"]
["合",null,"延",null,"延",null,"後",null,"前",null,null,null,"選","手","名",null,null,"位置",null,null,null,"選","手","名",null,null,"前",null,"後",null,"延",null,"延",null,"合",null,null,null,null,null,null,"地区名",null,"大分市",null,null,null,null,null,"地区名","中津市"]
["計",null,"後",null,"前",null,"半",null,"半",null,"年",null,null,null,null,null,"号",null,null,"号",null,null,null,null,null,"年","半",null,"半",null,"前",null,"後",null,"計"]
[null,{"$f":"SUM(D16,F16,H16,J16)","v":0},null,null,null,null,null,null,null,null,{"$f":"IF(ISERROR(VLOOKUP(CONCATENATE($B$9,\"_\",Q16),選手名簿!$A$1:$G$65536,7,FALSE))=TRUE,\"\",VLOOKUP(CONCATENATE($B$9,\"_\",Q16),選手名簿!$A$1:$G$65536,7,FALSE))","v":6},{"$f":"IF(ISERROR(VLOOKUP(CONCATENATE($B$9,\"_\",Q16),選手名簿!$A$1:$E$65536,5,FALSE))=TRUE,\"\",VLOOKUP(CONCATENATE($B$9,\"_\",Q16),選手名簿!$A$1:$E$65536,5,FALSE))","v":"秋吉　逞"},null,null,null,null,1,{"$f":"IF(ISERROR(VLOOKUP(CONCATENATE($B$9,\"_\",Q16),選手名簿!$A$1:$E$65536,4,FALSE))=TRUE,\"\",VLOOKUP(CONCATENATE($B$9,\"_\",Q16),選手名簿!$A$1:$E$65536,4,FALSE))","v":"GK"},{"$f":"IF(ISERROR(VLOOKUP(CONCATENATE($W$9,\"_\",T16),選手名簿!$A$1:$E$65536,4,FALSE))=TRUE,\"\",VLOOKUP(CONCATENATE($W$9,\"_\",T16),選手名簿!$A$1:$E$65536,4,FALSE))","v":"GK"},1,{"$f":"IF(ISERROR(VLOOKUP(CONCATENATE($W$9,\"_\",T16),選手名簿!$A$1:$E$65536,5,FALSE))=TRUE,\"\",VLOOKUP(CONCATENATE($W$9,\"_\",T16),選手名簿!$A$1:$E$65536,5,FALSE))","v":"吉良　翼"},null,null,null,null,{"$f":"IF(ISERROR(VLOOKUP(CONCATENATE($W$9,\"_\",T16),選手名簿!$A$1:$G$65536,7,FALSE))=TRUE,\"\",VLOOKUP(CONCATENATE($W$9,\"_\",T16),選手名簿!$A$1:$G$65536,7,FALSE))","v":6},null,null,null,null,null,null,null,null,null,{"$f":"SUM(AB16,AD16,AF16,AH16)","v":0}]
[null,2,null,null,null,null,"①",1,null,1,{"$f":"IF(ISERROR(VLOOKUP(CONCATENATE($B$9,\"_\",Q17),選手名簿!$A$1:$G$65536,7,FALSE))=TRUE,\"\",VLOOKUP(CONCATENATE($B$9,\"_\",Q17),選手名簿!$A$1:$G$65536,7,FALSE))","v":6},{"$f":"IF(ISERROR(VLOOKUP(CONCATENATE($B$9,\"_\",Q17),選手名簿!$A$1:$E$65536,5,FALSE))=TRUE,\"\",VLOOKUP(CONCATENATE($B$9,\"_\",Q17),選手名簿!$A$1:$E$65536,5,FALSE))","v":"田尻　真生"},null,null,null,null,3,{"$f":"IF(ISERROR(VLOOKUP(CONCATENATE($B$9,\"_\",Q17),選手名簿!$A$1:$E$65536,4,FALSE))=TRUE,\"\",VLOOKUP(CONCATENATE($B$9,\"_\",Q17),選手名簿!$A$1:$E$65536,4,FALSE))","v":"DF"},{"$f":"IF(ISERROR(VLOOKUP(CONCATENATE($W$9,\"_\",T17),選手名簿!$A$1:$E$65536,4,FALSE))=TRUE,\"\",VLOOKUP(CONCATENATE($W$9,\"_\",T17),選手名簿!$A$1:$E$65536,4,FALSE))","v":"DF"},4,{"$f":"IF(ISERROR(VLOOKUP(CONCATENATE($W$9,\"_\",T17),選手名簿!$A$1:$E$65536,5,FALSE))=TRUE,\"\",VLOOKUP(CONCATENATE($W$9,\"_\",T17),選手名簿!$A$1:$E$65536,5,FALSE))","v":"矢治　晴朗"},null,null,null,null,{"$f":"IF(ISERROR(VLOOKUP(CONCATENATE($W$9,\"_\",T17),選手名簿!$A$1:$G$65536,7,FALSE))=TRUE,\"\",VLOOKUP(CONCATENATE($W$9,\"_\",T17),選手名簿!$A$1:$G$65536,7,FALSE))","v":6},null,null,null,1,null,null,null,null,null,1]
[null,2,null,null,null,null,null,null,null,2,{"$f":"IF(ISERROR(VLOOKUP(CONCATENATE($B$9,\"_\",Q18),選手名簿!$A$1:$G$65536,7,FALSE))=TRUE,\"\",VLOOKUP(CONCATENATE($B$9,\"_\",Q18),選手名簿!$A$1:$G$65536,7,FALSE))","v":6},{"$f":"IF(ISERROR(VLOOKUP(CONCATENATE($B$9,\"_\",Q18),選手名簿!$A$1:$E$65536,5,FALSE))=TRUE,\"\",VLOOKUP(CONCATENATE($B$9,\"_\",Q18),選手名簿!$A$1:$E$65536,5,FALSE))","v":"尼崎　琉太"},null,null,null,null,5,{"$f":"IF(ISERROR(VLOOKUP(CONCATENATE($B$9,\"_\",Q18),選手名簿!$A$1:$E$65536,4,FALSE))=TRUE,\"\",VLOOKUP(CONCATENATE($B$9,\"_\",Q18),選手名簿!$A$1:$E$65536,4,FALSE))","v":"DF"},{"$f":"IF(ISERROR(VLOOKUP(CONCATENATE($W$9,\"_\",T18),選手名簿!$A$1:$E$65536,4,FALSE))=TRUE,\"\",VLOOKUP(CONCATENATE($W$9,\"_\",T18),選手名簿!$A$1:$E$65536,4,FALSE))","v":"MF"},5,{"$f":"IF(ISERROR(VLOOKUP(CONCATENATE($W$9,\"_\",T18),選手名簿!$A$1:$E$65536,5,FALSE))=TRUE,\"\",VLOOKUP(CONCATENATE($W$9,\"_\",T18),選手名簿!$A$1:$E$65536,5,FALSE))","v":"加々見　凪"},null,null,null,null,{"$f":"IF(ISERROR(VLOOKUP(CONCATENATE($W$9,\"_\",T18),選手名簿!$A$1:$G$65536,7,FALSE))=TRUE,\"\",VLOOKUP(CONCATENATE($W$9,\"_\",T18),選手名簿!$A$1:$G$65536,7,FALSE))","v":6},null,null,null,null,null,null,null,null,null,0]
[null,1,null,null,null,null,null,null,null,1,{"$f":"IF(ISERROR(VLOOKUP(CONCATENATE($B$9,\"_\",Q19),選手名簿!$A$1:$G$65536,7,FALSE))=TRUE,\"\",VLOOKUP(CONCATENATE($B$9,\"_\",Q19),選手名簿!$A$1:$G$65536,7,FALSE))","v":6},{"$f":"IF(ISERROR(VLOOKUP(CONCATENATE($B$9,\"_\",Q19),選手名簿!$A$1:$E$65536,5,FALSE))=TRUE,\"\",VLOOKUP(CONCATENATE($B$9,\"_\",Q19),選手名簿!$A$1:$E$65536,5,FALSE))","v":"二宮　秀太"},null,null,null,null,7,{"$f":"IF(ISERROR(VLOOKUP(CONCATENATE($B$9,\"_\",Q19),選手名簿!$A$1:$E$65536,4,FALSE))=TRUE,\"\",VLOOKUP(CONCATENATE($B$9,\"_\",Q19),選手名簿!$A$1:$E$65536,4,FALSE))","v":"MF"},{"$f":"IF(ISERROR(VLOOKUP(CONCATENATE($W$9,\"_\",T19),選手名簿!$A$1:$E$65536,4,FALSE))=TRUE,\"\",VLOOKUP(CONCATENATE($W$9,\"_\",T19),選手名簿!$A$1:$E$65536,4,FALSE))","v":"MF"},7,{"$f":"IF(ISERROR(VLOOKUP(CONCATENATE($W$9,\"_\",T19),選手名簿!$A$1:$E$65536,5,FALSE))=TRUE,\"\",VLOOKUP(CONCATENATE($W$9,\"_\",T19),選手名簿!$A$1:$E$65536,5,FALSE))","v":"園　将翔"},null,null,null,null,{"$f":"IF(ISERROR(VLOOKUP(CONCATENATE($W$9,\"_\",T19),選手名簿!$A$1:$G$65536,7,FALSE))=TRUE,\"\",VLOOKUP(CONCATENATE($W$9,\"_\",T19),選手名簿!$A$1:$G$65536,7,FALSE))","v":6},"①",1,null,null,null,null,null,null,null,1]
[null,1,null,null,null,null,null,1,null,null,{"$f":"IF(ISERROR(VLOOKUP(CONCATENATE($B$9,\"_\",Q20),選手名簿!$A$1:$G$65536,7,FALSE))=TRUE,\"\",VLOOKUP(CONCATENATE($B$9,\"_\",Q20),選手名簿!$A$1:$G$65536,7,FALSE))","v":6},{"$f":"IF(ISERROR(VLOOKUP(CONCATENATE($B$9,\"_\",Q20),選手名簿!$A$1:$E$65536,5,FALSE))=TRUE,\"\",VLOOKUP(CONCATENATE($B$9,\"_\",Q20),選手名簿!$A$1:$E$65536,5,FALSE))","v":"石井　瑛登"},null,null,null,null,8,{"$f":"IF(ISERROR(VLOOKUP(CONCATENATE($B$9,\"_\",Q20),選手名簿!$A$1:$E$65536,4,FALSE))=TRUE,\"\",VLOOKUP(CONCATENATE($B$9,\"_\",Q20),選手名簿!$A$1:$E$65536,4,FALSE))","v":"MF"},{"$f":"IF(ISERROR(VLOOKUP(CONCATENATE($W$9,\"_\",T20),選手名簿!$A$1:$E$65536,4,FALSE))=TRUE,\"\",VLOOKUP(CONCATENATE($W$9,\"_\",T20),選手名簿!$A$1:$E$65536,4,FALSE))","v":"MF"},8,{"$f":"IF(ISERROR(VLOOKUP(CONCATENATE($W$9,\"_\",T20),選手名簿!$A$1:$E$65536,5,FALSE))=TRUE,\"\",VLOOKUP(CONCATENATE($W$9,\"_\",T20),選手名簿!$A$1:$E$65536,5,FALSE))","v":"東　蒼太"},null,null,null,null,{"$f":"IF(ISERROR(VLOOKUP(CONCATENATE($W$9,\"_\",T20),選手名簿!$A$1:$G$65536,7,FALSE))=TRUE,\"\",VLOOKUP(CONCATENATE($W$9,\"_\",T20),選手名簿!$A$1:$G$65536,7,FALSE))","v":6},null,null,null,null,null,null,null,null,null,0]
[null,3,null,null,null,null,null,1,"①",2,{"$f":"IF(ISERROR(VLOOKUP(CONCATENATE($B$9,\"_\",Q21),選手名簿!$A$1:$G$65536,7,FALSE))=TRUE,\"\",VLOOKUP(CONCATENATE($B$9,\"_\",Q21),選手名簿!$A$1:$G$65536,7,FALSE))","v":6},{"$f":"IF(ISERROR(VLOOKUP(CONCATENATE($B$9,\"_\",Q21),選手名簿!$A$1:$E$65536,5,FALSE))=TRUE,\"\",VLOOKUP(CONCATENATE($B$9,\"_\",Q21),選手名簿!$A$1:$E$65536,5,FALSE))","v":"矢野　圭悟"},null,null,null,null,10,{"$f":"IF(ISERROR(VLOOKUP(CONCATENATE($B$9,\"_\",Q21),選手名簿!$A$1:$E$65536,4,FALSE))=TRUE,\"\",VLOOKUP(CONCATENATE($B$9,\"_\",Q21),選手名簿!$A$1:$E$65536,4,FALSE))","v":"MF"},{"$f":"IF(ISERROR(VLOOKUP(CONCATENATE($W$9,\"_\",T21),選手名簿!$A$1:$E$65536,4,FALSE))=TRUE,\"\",VLOOKUP(CONCATENATE($W$9,\"_\",T21),選手名簿!$A$1:$E$65536,4,FALSE))","v":"MF"},11,{"$f":"IF(ISERROR(VLOOKUP(CONCATENATE($W$9,\"_\",T21),選手名簿!$A$1:$E$65536,5,FALSE))=TRUE,\"\",VLOOKUP(CONCATENATE($W$9,\"_\",T21),選手名簿!$A$1:$E$65536,5,FALSE))","v":"柳井田　駿"},null,null,null,null,{"$f":"IF(ISERROR(VLOOKUP(CONCATENATE($W$9,\"_\",T21),選手名簿!$A$1:$G$65536,7,FALSE))=TRUE,\"\",VLOOKUP(CONCATENATE($W$9,\"_\",T21),選手名簿!$A$1:$G$65536,7,FALSE))","v":6},null,null,null,null,null,null,null,null,null,0]
[null,1,null,null,null,null,null,1,null,null,{"$f":"IF(ISERROR(VLOOKUP(CONCATENATE($B$9,\"_\",Q22),選手名簿!$A$1:$G$65536,7,FALSE))=TRUE,\"\",VLOOKUP(CONCATENATE($B$9,\"_\",Q22),選手名簿!$A$1:$G$65536,7,FALSE))","v":6},{"$f":"IF(ISERROR(VLOOKUP(CONCATENATE($B$9,\"_\",Q22),選手名簿!$A$1:$E$65536,5,FALSE))=TRUE,\"\",VLOOKUP(CONCATENATE($B$9,\"_\",Q22),選手名簿!$A$1:$E$65536,5,FALSE))","v":"川﨑　音生"},null,null,null,null,9,{"$f":"IF(ISERROR(VLOOKUP(CONCATENATE($B$9,\"_\",Q22),選手名簿!$A$1:$E$65536,4,FALSE))=TRUE,\"\",VLOOKUP(CONCATENATE($B$9,\"_\",Q22),選手名簿!$A$1:$E$65536,4,FALSE))","v":"FW"},{"$f":"IF(ISERROR(VLOOKUP(CONCATENATE($W$9,\"_\",T22),選手名簿!$A$1:$E$65536,4,FALSE))=TRUE,\"\",VLOOKUP(CONCATENATE($W$9,\"_\",T22),選手名簿!$A$1:$E$65536,4,FALSE))","v":"FW"},9,{"$f":"IF(ISERROR(VLOOKUP(CONCATENATE($W$9,\"_\",T22),選手名簿!$A$1:$E$65536,5,FALSE))=TRUE,\"\",VLOOKUP(CONCATENATE($W$9,\"_\",T22),選手名簿!$A$1:$E$65536,5,FALSE))","v":"矢治　圭移都"},null,null,null,null,{"$f":"IF(ISERROR(VLOOKUP(CONCATENATE($W$9,\"_\",T22),選手名簿!$A$1:$G$65536,7,FALSE))=TRUE,\"\",VLOOKUP(CONCATENATE($W$9,\"_\",T22),選手名簿!$A$1:$G$65536,7,FALSE))","v":6},null,2,null,1,null,null,null,null,null,3]
[null,1,null,null,null,null,null,null,null,1,{"$f":"IF(ISERROR(VLOOKUP(CONCATENATE($B$9,\"_\",Q23),選手名簿!$A$1:$G$65536,7,FALSE))=TRUE,\"\",VLOOKUP(CONCATENATE($B$9,\"_\",Q23),選手名簿!$A$1:$G$65536,7,FALSE))","v":6},{"$f":"IF(ISERROR(VLOOKUP(CONCATENATE($B$9,\"_\",Q23),選手名簿!$A$1:$E$65536,5,FALSE))=TRUE,\"\",VLOOKUP(CONCATENATE($B$9,\"_\",Q23),選手名簿!$A$1:$E$65536,5,FALSE))","v":"實方　来夏"},null,null,null,null,11,{"$f":"IF(ISERROR(VLOOKUP(CONCATENATE($B$9,\"_\",Q23),選手名簿!$A$1:$E$65536,4,FALSE))=TRUE,\"\",VLOOKUP(CONCATENATE($B$9,\"_\",Q23),選手名簿!$A$1:$E$65536,4,FALSE))","v":"FW"},{"$f":"IF(ISERROR(VLOOKUP(CONCATENATE($W$9,\"_\",T23),選手名簿!$A$1:$E$65536,4,FALSE))=TRUE,\"\",VLOOKUP(CONCATENATE($W$9,\"_\",T23),選手名簿!$A$1:$E$65536,4,FALSE))","v":"FW"},10,{"$f":"IF(ISERROR(VLOOKUP(CONCATENATE($W$9,\"_\",T23),選手名簿!$A$1:$E$65536,5,FALSE))=TRUE,\"\",VLOOKUP(CONCATENATE($W$9,\"_\",T23),選手名簿!$A$1:$E$65536,5,FALSE))","v":"小幡　愛翔"},null,null,null,null,{"$f":"IF(ISERROR(VLOOKUP(CONCATENATE($W$9,\"_\",T23),選手名簿!$A$1:$G$65536,7,FALSE))=TRUE,\"\",VLOOKUP(CONCATENATE($W$9,\"_\",T23),選手名簿!$A$1:$G$65536,7,FALSE))","v":6},null,2,"①",1,null,null,null,null,null,3]
[null,null,null,null,null,null,null,null,null,null,null,null,null,null,null,null,"交替要員"]
[null,{"$f":"SUM(D25,F25,H25,J25)","v":1},null,null,null,null,null,null,null,1,{"$f":"IF(ISERROR(VLOOKUP(CONCATENATE($B$9,\"_\",Q25),選手名簿!$A$1:$G$65536,7,FALSE))=TRUE,\"\",VLOOKUP(CONCATENATE($B$9,\"_\",Q25),選手名簿!$A$1:$G$65536,7,FALSE))","v":6},{"$f":"IF(ISERROR(VLOOKUP(CONCATENATE($B$9,\"_\",Q25),選手名簿!$A$1:$E$65536,5,FALSE))=TRUE,\"\",VLOOKUP(CONCATENATE($B$9,\"_\",Q25),選手名簿!$A$1:$E$65536,5,FALSE))","v":"藤田　京佑"},null,null,null,null,2,{"$f":"IF(ISERROR(VLOOKUP(CONCATENATE($B$9,\"_\",Q25),選手名簿!$A$1:$E$65536,4,FALSE))=TRUE,\"\",VLOOKUP(CONCATENATE($B$9,\"_\",Q25),選手名簿!$A$1:$E$65536,4,FALSE))","v":"FW"},{"$f":"IF(ISERROR(VLOOKUP(CONCATENATE($W$9,\"_\",T25),選手名簿!$A$1:$E$65536,4,FALSE))=TRUE,\"\",VLOOKUP(CONCATENATE($W$9,\"_\",T25),選手名簿!$A$1:$E$65536,4,FALSE))","v":"DF"},2,{"$f":"IF(ISERROR(VLOOKUP(CONCATENATE($W$9,\"_\",T25),選手名簿!$A$1:$E$65536,5,FALSE))=TRUE,\"\",VLOOKUP(CONCATENATE($W$9,\"_\",T25),選手名簿!$A$1:$E$65536,5,FALSE))","v":"吉田　遼司"},null,null,null,null,{"$f":"IF(ISERROR(VLOOKUP(CONCATENATE($W$9,\"_\",T25),選手名簿!$A$1:$G$65536,7,FALSE))=TRUE,\"\",VLOOKUP(CONCATENATE($W$9,\"_\",T25),選手名簿!$A$1:$G$65536,7,FALSE))","v":6},null,null,null,null,null,null,null,null,null,{"$f":"SUM(AB25,AD25,AF25,AH25)","v":0}]
[null,1,null,null,null,null,"①",1,null,null,{"$f":"IF(ISERROR(VLOOKUP(CONCATENATE($B$9,\"_\",Q26),選手名簿!$A$1:$G$65536,7,FALSE))=TRUE,\"\",VLOOKUP(CONCATENATE($B$9,\"_\",Q26),選手名簿!$A$1:$G$65536,7,FALSE))","v":6},{"$f":"IF(ISERROR(VLOOKUP(CONCATENATE($B$9,\"_\",Q26),選手名簿!$A$1:$E$65536,5,FALSE))=TRUE,\"\",VLOOKUP(CONCATENATE($B$9,\"_\",Q26),選手名簿!$A$1:$E$65536,5,FALSE))","v":"田中　翔"},null,null,null,null,4,{"$f":"IF(ISERROR(VLOOKUP(CONCATENATE($B$9,\"_\",Q26),選手名簿!$A$1:$E$65536,4,FALSE))=TRUE,\"\",VLOOKUP(CONCATENATE($B$9,\"_\",Q26),選手名簿!$A$1:$E$65536,4,FALSE))","v":"FW"},{"$f":"IF(ISERROR(VLOOKUP(CONCATENATE($W$9,\"_\",T26),選手名簿!$A$1:$E$65536,4,FALSE))=TRUE,\"\",VLOOKUP(CONCATENATE($W$9,\"_\",T26),選手名簿!$A$1:$E$65536,4,FALSE))","v":"DF"},3,{"$f":"IF(ISERROR(VLOOKUP(CONCATENATE($W$9,\"_\",T26),選手名簿!$A$1:$E$65536,5,FALSE))=TRUE,\"\",VLOOKUP(CONCATENATE($W$9,\"_\",T26),選手名簿!$A$1:$E$65536,5,FALSE))","v":"森　裕聖"},null,null,null,null,{"$f":"IF(ISERROR(VLOOKUP(CONCATENATE($W$9,\"_\",T26),選手名簿!$A$1:$G$65536,7,FALSE))=TRUE,\"\",VLOOKUP(CONCATENATE($W$9,\"_\",T26),選手名簿!$A$1:$G$65536,7,FALSE))","v":6},null,null,null,null,null,null,null,null,null,0]
[null,0,null,null,null,null,null,null,null,null,{"$f":"IF(ISERROR(VLOOKUP(CONCATENATE($B$9,\"_\",Q27),選手名簿!$A$1:$G$65536,7,FALSE))=TRUE,\"\",VLOOKUP(CONCATENATE($B$9,\"_\",Q27),選手名簿!$A$1:$G$65536,7,FALSE))","v":6},{"$f":"IF(ISERROR(VLOOKUP(CONCATENATE($B$9,\"_\",Q27),選手名簿!$A$1:$E$65536,5,FALSE))=TRUE,\"\",VLOOKUP(CONCATENATE($B$9,\"_\",Q27),選手名簿!$A$1:$E$65536,5,FALSE))","v":"上田　蒼真"},null,null,null,null,6,{"$f":"IF(ISERROR(VLOOKUP(CONCATENATE($B$9,\"_\",Q27),選手名簿!$A$1:$E$65536,4,FALSE))=TRUE,\"\",VLOOKUP(CONCATENATE($B$9,\"_\",Q27),選手名簿!$A$1:$E$65536,4,FALSE))","v":"DF"},{"$f":"IF(ISERROR(VLOOKUP(CONCATENATE($W$9,\"_\",T27),選手名簿!$A$1:$E$65536,4,FALSE))=TRUE,\"\",VLOOKUP(CONCATENATE($W$9,\"_\",T27),選手名簿!$A$1:$E$65536,4,FALSE))","v":"MF"},6,{"$f":"IF(ISERROR(VLOOKUP(CONCATENATE($W$9,\"_\",T27),選手名簿!$A$1:$E$65536,5,FALSE))=TRUE,\"\",VLOOKUP(CONCATENATE($W$9,\"_\",T27),選手名簿!$A$1:$E$65536,5,FALSE))","v":"小倉　玲央"},null,null,null,null,{"$f":"IF(ISERROR(VLOOKUP(CONCATENATE($W$9,\"_\",T27),選手名簿!$A$1:$G$65536,7,FALSE))=TRUE,\"\",VLOOKUP(CONCATENATE($W$9,\"_\",T27),選手名簿!$A$1:$G$65536,7,FALSE))","v":6},null,null,null,null,null,null,null,null,null,0]
[null,0,null,null,null,null,null,null,null,null,{"$f":"IF(ISERROR(VLOOKUP(CONCATENATE($B$9,\"_\",Q28),選手名簿!$A$1:$G$65536,7,FALSE))=TRUE,\"\",VLOOKUP(CONCATENATE($B$9,\"_\",Q28),選手名簿!$A$1:$G$65536,7,FALSE))","v":6},{"$f":"IF(ISERROR(VLOOKUP(CONCATENATE($B$9,\"_\",Q28),選手名簿!$A$1:$E$65536,5,FALSE))=TRUE,\"\",VLOOKUP(CONCATENATE($B$9,\"_\",Q28),選手名簿!$A$1:$E$65536,5,FALSE))","v":"川野　佑斗"},null,null,null,null,12,{"$f":"IF(ISERROR(VLOOKUP(CONCATENATE($B$9,\"_\",Q28),選手名簿!$A$1:$E$65536,4,FALSE))=TRUE,\"\",VLOOKUP(CONCATENATE($B$9,\"_\",Q28),選手名簿!$A$1:$E$65536,4,FALSE))","v":"GK"},{"$f":"IF(ISERROR(VLOOKUP(CONCATENATE($W$9,\"_\",T28),選手名簿!$A$1:$E$65536,4,FALSE))=TRUE,\"\",VLOOKUP(CONCATENATE($W$9,\"_\",T28),選手名簿!$A$1:$E$65536,4,FALSE))","v":"GK"},12,{"$f":"IF(ISERROR(VLOOKUP(CONCATENATE($W$9,\"_\",T28),選手名簿!$A$1:$E$65536,5,FALSE))=TRUE,\"\",VLOOKUP(CONCATENATE($W$9,\"_\",T28),選手名簿!$A$1:$E$65536,5,FALSE))","v":"末元　兼太"},null,null,null,null,{"$f":"IF(ISERROR(VLOOKUP(CONCATENATE($W$9,\"_\",T28),選手名簿!$A$1:$G$65536,7,FALSE))=TRUE,\"\",VLOOKUP(CONCATENATE($W$9,\"_\",T28),選手名簿!$A$1:$G$65536,7,FALSE))","v":6},null,null,null,null,null,null,null,null,null,0]
[null,{"$f":"SUM(D29,F29,H29,J29)","v":0},null,null,null,null,null,null,null,null,{"$f":"IF(ISERROR(VLOOKUP(CONCATENATE($B$9,\"_\",Q29),選手名簿!$A$1:$G$65536,7,FALSE))=TRUE,\"\",VLOOKUP(CONCATENATE($B$9,\"_\",Q29),選手名簿!$A$1:$G$65536,7,FALSE))","v":6},{"$f":"IF(ISERROR(VLOOKUP(CONCATENATE($B$9,\"_\",Q29),選手名簿!$A$1:$E$65536,5,FALSE))=TRUE,\"\",VLOOKUP(CONCATENATE($B$9,\"_\",Q29),選手名簿!$A$1:$E$65536,5,FALSE))","v":"廣門　胡太朗"},null,null,null,null,13,{"$f":"IF(ISERROR(VLOOKUP(CONCATENATE($B$9,\"_\",Q29),選手名簿!$A$1:$E$65536,4,FALSE))=TRUE,\"\",VLOOKUP(CONCATENATE($B$9,\"_\",Q29),選手名簿!$A$1:$E$65536,4,FALSE))","v":"DF"},{"$f":"IF(ISERROR(VLOOKUP(CONCATENATE($W$9,\"_\",T29),選手名簿!$A$1:$E$65536,4,FALSE))=TRUE,\"\",VLOOKUP(CONCATENATE($W$9,\"_\",T29),選手名簿!$A$1:$E$65536,4,FALSE))","v":"MF"},13,{"$f":"IF(ISERROR(VLOOKUP(CONCATENATE($W$9,\"_\",T29),選手名簿!$A$1:$E$65536,5,FALSE))=TRUE,\"\",VLOOKUP(CONCATENATE($W$9,\"_\",T29),選手名簿!$A$1:$E$65536,5,FALSE))","v":"鈴木田　卓門"},null,null,null,null,{"$f":"IF(ISERROR(VLOOKUP(CONCATENATE($W$9,\"_\",T29),選手名簿!$A$1:$G$65536,7,FALSE))=TRUE,\"\",VLOOKUP(CONCATENATE($W$9,\"_\",T29),選手名簿!$A$1:$G$65536,7,FALSE))","v":6},null,null,null,null,null,null,null,null,null,{"$f":"SUM(AB29,AD29,AF29,AH29)","v":0}]
[null,{"$f":"SUM(D30,F30,H30,J30)","v":0},null,null,null,null,null,null,null,null,{"$f":"IF(ISERROR(VLOOKUP(CONCATENATE($B$9,\"_\",Q30),選手名簿!$A$1:$G$65536,7,FALSE))=TRUE,\"\",VLOOKUP(CONCATENATE($B$9,\"_\",Q30),選手名簿!$A$1:$G$65536,7,FALSE))","v":5},{"$f":"IF(ISERROR(VLOOKUP(CONCATENATE($B$9,\"_\",Q30),選手名簿!$A$1:$E$65536,5,FALSE))=TRUE,\"\",VLOOKUP(CONCATENATE($B$9,\"_\",Q30),選手名簿!$A$1:$E$65536,5,FALSE))","v":"阿南　徠已"},null,null,null,null,14,{"$f":"IF(ISERROR(VLOOKUP(CONCATENATE($B$9,\"_\",Q30),選手名簿!$A$1:$E$65536,4,FALSE))=TRUE,\"\",VLOOKUP(CONCATENATE($B$9,\"_\",Q30),選手名簿!$A$1:$E$65536,4,FALSE))","v":"FW"},{"$f":"IF(ISERROR(VLOOKUP(CONCATENATE($W$9,\"_\",T30),選手名簿!$A$1:$E$65536,4,FALSE))=TRUE,\"\",VLOOKUP(CONCATENATE($W$9,\"_\",T30),選手名簿!$A$1:$E$65536,4,FALSE))","v":"MF"},14,{"$f":"IF(ISERROR(VLOOKUP(CONCATENATE($W$9,\"_\",T30),選手名簿!$A$1:$E$65536,5,FALSE))=TRUE,\"\",VLOOKUP(CONCATENATE($W$9,\"_\",T30),選手名簿!$A$1:$E$65536,5,FALSE))","v":"島津　大河"},null,null,null,null,{"$f":"IF(ISERROR(VLOOKUP(CONCATENATE($W$9,\"_\",T30),選手名簿!$A$1:$G$65536,7,FALSE))=TRUE,\"\",VLOOKUP(CONCATENATE($W$9,\"_\",T30),選手名簿!$A$1:$G$65536,7,FALSE))","v":5},null,null,null,null,null,null,null,null,null,{"$f":"SUM(AB30,AD30,AF30,AH30)","v":0}]
[null,1,null,null,null,null,null,1,null,null,{"$f":"IF(ISERROR(VLOOKUP(CONCATENATE($B$9,\"_\",Q31),選手名簿!$A$1:$G$65536,7,FALSE))=TRUE,\"\",VLOOKUP(CONCATENATE($B$9,\"_\",Q31),選手名簿!$A$1:$G$65536,7,FALSE))","v":5},{"$f":"IF(ISERROR(VLOOKUP(CONCATENATE($B$9,\"_\",Q31),選手名簿!$A$1:$E$65536,5,FALSE))=TRUE,\"\",VLOOKUP(CONCATENATE($B$9,\"_\",Q31),選手名簿!$A$1:$E$65536,5,FALSE))","v":"芝　虎之介"},null,null,null,null,15,{"$f":"IF(ISERROR(VLOOKUP(CONCATENATE($B$9,\"_\",Q31),選手名簿!$A$1:$E$65536,4,FALSE))=TRUE,\"\",VLOOKUP(CONCATENATE($B$9,\"_\",Q31),選手名簿!$A$1:$E$65536,4,FALSE))","v":"MF"},{"$f":"IF(ISERROR(VLOOKUP(CONCATENATE($W$9,\"_\",T31),選手名簿!$A$1:$E$65536,4,FALSE))=TRUE,\"\",VLOOKUP(CONCATENATE($W$9,\"_\",T31),選手名簿!$A$1:$E$65536,4,FALSE))","v":"DF"},15,{"$f":"IF(ISERROR(VLOOKUP(CONCATENATE($W$9,\"_\",T31),選手名簿!$A$1:$E$65536,5,FALSE))=TRUE,\"\",VLOOKUP(CONCATENATE($W$9,\"_\",T31),選手名簿!$A$1:$E$65536,5,FALSE))","v":"上田　倫太郎"},null,null,null,null,{"$f":"IF(ISERROR(VLOOKUP(CONCATENATE($W$9,\"_\",T31),選手名簿!$A$1:$G$65536,7,FALSE))=TRUE,\"\",VLOOKUP(CONCATENATE($W$9,\"_\",T31),選手名簿!$A$1:$G$65536,7,FALSE))","v":5},null,null,null,null,null,null,null,null,null,0]
[null,0,null,null,null,null,null,null,null,null,{"$f":"IF(ISERROR(VLOOKUP(CONCATENATE($B$9,\"_\",Q32),選手名簿!$A$1:$G$65536,7,FALSE))=TRUE,\"\",VLOOKUP(CONCATENATE($B$9,\"_\",Q32),選手名簿!$A$1:$G$65536,7,FALSE))","v":5},{"$f":"IF(ISERROR(VLOOKUP(CONCATENATE($B$9,\"_\",Q32),選手名簿!$A$1:$E$65536,5,FALSE))=TRUE,\"\",VLOOKUP(CONCATENATE($B$9,\"_\",Q32),選手名簿!$A$1:$E$65536,5,FALSE))","v":"隅　悠來"},null,null,null,null,16,{"$f":"IF(ISERROR(VLOOKUP(CONCATENATE($B$9,\"_\",Q32),選手名簿!$A$1:$E$65536,4,FALSE))=TRUE,\"\",VLOOKUP(CONCATENATE($B$9,\"_\",Q32),選手名簿!$A$1:$E$65536,4,FALSE))","v":"MF"},{"$f":"IF(ISERROR(VLOOKUP(CONCATENATE($W$9,\"_\",T32),選手名簿!$A$1:$E$65536,4,FALSE))=TRUE,\"\",VLOOKUP(CONCATENATE($W$9,\"_\",T32),選手名簿!$A$1:$E$65536,4,FALSE))","v":"DF"},16,{"$f":"IF(ISERROR(VLOOKUP(CONCATENATE($W$9,\"_\",T32),選手名簿!$A$1:$E$65536,5,FALSE))=TRUE,\"\",VLOOKUP(CONCATENATE($W$9,\"_\",T32),選手名簿!$A$1:$E$65536,5,FALSE))","v":"田中　湊人"},null,null,null,null,{"$f":"IF(ISERROR(VLOOKUP(CONCATENATE($W$9,\"_\",T32),選手名簿!$A$1:$G$65536,7,FALSE))=TRUE,\"\",VLOOKUP(CONCATENATE($W$9,\"_\",T32),選手名簿!$A$1:$G$65536,7,FALSE))","v":5},null,null,null,null,null,null,null,null,null,0]
[null,{"$f":"SUM(C33:J33)","v":14},null,{"$f":"SUM(D16:D23,D25:D32)","v":0},null,{"$f":"SUM(F16:F23,F25:F32)","v":0},null,{"$f":"SUM(H16:H23,H25:H32)","v":6},null,{"$f":"SUM(J16:J23,J25:J32)","v":8},"小計",{"$f":"SUM(D33,F33,H33,J33)","v":14},null,null,null,null,"合計","シュート数",null,"合計",{"$f":"SUM(AB33,AD33,AF33,AH33)","v":8},null,null,null,null,"小計",null,{"$f":"SUM(AB16:AB23,AB25:AB32)","v":5},null,{"$f":"SUM(AD16:AD23,AD25:AD32)","v":3},null,{"$f":"SUM(AF16:AF23,AF25:AF32)","v":0},null,{"$f":"SUM(AH16:AH23,AH25:AH32)","v":0},null,{"$f":"SUM(AA33:AH33)","v":8}]
[null,null,"OUT",null,null,null,null,null,null,"→","IN",null,null,null,null,null,null,"交代",null,null,"OUT",null,null,null,null,null,null,"→","IN"]
[null,null,null,null,null,null,null,null,null,null,null,null,null,null,null,null,null,"選手"]
[10,"分",9,"番",{"$f":"IF(ISERROR(VLOOKUP(CONCATENATE($B$9,\"_\",C36),選手名簿!$A$1:$E$65536,5,FALSE))=TRUE,\"\",VLOOKUP(CONCATENATE($B$9,\"_\",C36),選手名簿!$A$1:$E$65536,5,FALSE))","v":"川﨑　音生"},null,null,null,null,"→",4,"番",{"$f":"IF(ISERROR(VLOOKUP(CONCATENATE($B$9,\"_\",K36),選手名簿!$A$1:$E$65536,5,FALSE))=TRUE,\"\",VLOOKUP(CONCATENATE($B$9,\"_\",K36),選手名簿!$A$1:$E$65536,5,FALSE))","v":"田中　翔"},null,null,null,null,null,24,"分",7,"番",{"$f":"IF(ISERROR(VLOOKUP(CONCATENATE($W$9,\"_\",U36),選手名簿!$A$1:$E$65536,5,FALSE))=TRUE,\"\",VLOOKUP(CONCATENATE($W$9,\"_\",U36),選手名簿!$A$1:$E$65536,5,FALSE))","v":"園　将翔"},null,null,null,null,"→",14,"番",{"$f":"IF(ISERROR(VLOOKUP(CONCATENATE($W$9,\"_\",AC36),選手名簿!$A$1:$E$65536,5,FALSE))=TRUE,\"\",VLOOKUP(CONCATENATE($W$9,\"_\",AC36),選手名簿!$A$1:$E$65536,5,FALSE))","v":"島津　大河"}]
[13,"分",7,"番",{"$f":"IF(ISERROR(VLOOKUP(CONCATENATE($B$9,\"_\",C37),選手名簿!$A$1:$E$65536,5,FALSE))=TRUE,\"\",VLOOKUP(CONCATENATE($B$9,\"_\",C37),選手名簿!$A$1:$E$65536,5,FALSE))","v":"二宮　秀太"},null,null,null,null,"→",2,"番",{"$f":"IF(ISERROR(VLOOKUP(CONCATENATE($B$9,\"_\",K37),選手名簿!$A$1:$E$65536,5,FALSE))=TRUE,\"\",VLOOKUP(CONCATENATE($B$9,\"_\",K37),選手名簿!$A$1:$E$65536,5,FALSE))","v":"藤田　京佑"},null,null,null,null,null,null,"分",null,"番",{"$f":"IF(ISERROR(VLOOKUP(CONCATENATE($W$9,\"_\",U37),選手名簿!$A$1:$E$65536,5,FALSE))=TRUE,\"\",VLOOKUP(CONCATENATE($W$9,\"_\",U37),選手名簿!$A$1:$E$65536,5,FALSE))","v":""},null,null,null,null,"→",null,"番",{"$f":"IF(ISERROR(VLOOKUP(CONCATENATE($W$9,\"_\",AC37),選手名簿!$A$1:$E$65536,5,FALSE))=TRUE,\"\",VLOOKUP(CONCATENATE($W$9,\"_\",AC37),選手名簿!$A$1:$E$65536,5,FALSE))","v":""}]
["HT","分",11,"番",{"$f":"IF(ISERROR(VLOOKUP(CONCATENATE($B$9,\"_\",C38),選手名簿!$A$1:$E$65536,5,FALSE))=TRUE,\"\",VLOOKUP(CONCATENATE($B$9,\"_\",C38),選手名簿!$A$1:$E$65536,5,FALSE))","v":"實方　来夏"},null,null,null,null,"→",9,"番",{"$f":"IF(ISERROR(VLOOKUP(CONCATENATE($B$9,\"_\",K38),選手名簿!$A$1:$E$65536,5,FALSE))=TRUE,\"\",VLOOKUP(CONCATENATE($B$9,\"_\",K38),選手名簿!$A$1:$E$65536,5,FALSE))","v":"川﨑　音生"},null,null,null,null,null,null,"分",null,"番",{"$f":"IF(ISERROR(VLOOKUP(CONCATENATE($W$9,\"_\",U38),選手名簿!$A$1:$E$65536,5,FALSE))=TRUE,\"\",VLOOKUP(CONCATENATE($W$9,\"_\",U38),選手名簿!$A$1:$E$65536,5,FALSE))","v":""},null,null,null,null,"→",null,"番",{"$f":"IF(ISERROR(VLOOKUP(CONCATENATE($W$9,\"_\",AC38),選手名簿!$A$1:$E$65536,5,FALSE))=TRUE,\"\",VLOOKUP(CONCATENATE($W$9,\"_\",AC38),選手名簿!$A$1:$E$65536,5,FALSE))","v":""}]
["HT","分",2,"番",{"$f":"IF(ISERROR(VLOOKUP(CONCATENATE($B$9,\"_\",C39),選手名簿!$A$1:$E$65536,5,FALSE))=TRUE,\"\",VLOOKUP(CONCATENATE($B$9,\"_\",C39),選手名簿!$A$1:$E$65536,5,FALSE))","v":"藤田　京佑"},null,null,null,null,"→",7,"番",{"$f":"IF(ISERROR(VLOOKUP(CONCATENATE($B$9,\"_\",K39),選手名簿!$A$1:$E$65536,5,FALSE))=TRUE,\"\",VLOOKUP(CONCATENATE($B$9,\"_\",K39),選手名簿!$A$1:$E$65536,5,FALSE))","v":"二宮　秀太"},null,null,null,null,null,null,"分",null,"番",{"$f":"IF(ISERROR(VLOOKUP(CONCATENATE($W$9,\"_\",U39),選手名簿!$A$1:$E$65536,5,FALSE))=TRUE,\"\",VLOOKUP(CONCATENATE($W$9,\"_\",U39),選手名簿!$A$1:$E$65536,5,FALSE))","v":""},null,null,null,null,"→",null,"番",{"$f":"IF(ISERROR(VLOOKUP(CONCATENATE($W$9,\"_\",AC39),選手名簿!$A$1:$E$65536,5,FALSE))=TRUE,\"\",VLOOKUP(CONCATENATE($W$9,\"_\",AC39),選手名簿!$A$1:$E$65536,5,FALSE))","v":""}]
[27,"分",3,"番",{"$f":"IF(ISERROR(VLOOKUP(CONCATENATE($B$9,\"_\",C40),選手名簿!$A$1:$E$65536,5,FALSE))=TRUE,\"\",VLOOKUP(CONCATENATE($B$9,\"_\",C40),選手名簿!$A$1:$E$65536,5,FALSE))","v":"田尻　真生"},null,null,null,null,"→",15,"番",{"$f":"IF(ISERROR(VLOOKUP(CONCATENATE($B$9,\"_\",K40),選手名簿!$A$1:$E$65536,5,FALSE))=TRUE,\"\",VLOOKUP(CONCATENATE($B$9,\"_\",K40),選手名簿!$A$1:$E$65536,5,FALSE))","v":"芝　虎之介"},null,null,null,null,null,null,"分",null,"番",{"$f":"IF(ISERROR(VLOOKUP(CONCATENATE($W$9,\"_\",U40),選手名簿!$A$1:$E$65536,5,FALSE))=TRUE,\"\",VLOOKUP(CONCATENATE($W$9,\"_\",U40),選手名簿!$A$1:$E$65536,5,FALSE))","v":""},null,null,null,null,"→",null,"番",{"$f":"IF(ISERROR(VLOOKUP(CONCATENATE($W$9,\"_\",AC40),選手名簿!$A$1:$E$65536,5,FALSE))=TRUE,\"\",VLOOKUP(CONCATENATE($W$9,\"_\",AC40),選手名簿!$A$1:$E$65536,5,FALSE))","v":""}]
[27,"分",4,"番",{"$f":"IF(ISERROR(VLOOKUP(CONCATENATE($B$9,\"_\",C41),選手名簿!$A$1:$E$65536,5,FALSE))=TRUE,\"\",VLOOKUP(CONCATENATE($B$9,\"_\",C41),選手名簿!$A$1:$E$65536,5,FALSE))","v":"田中　翔"},null,null,null,null,"→",13,"番",{"$f":"IF(ISERROR(VLOOKUP(CONCATENATE($B$9,\"_\",K41),選手名簿!$A$1:$E$65536,5,FALSE))=TRUE,\"\",VLOOKUP(CONCATENATE($B$9,\"_\",K41),選手名簿!$A$1:$E$65536,5,FALSE))","v":"廣門　胡太朗"},null,null,null,null,null,null,"分",null,"番",{"$f":"IF(ISERROR(VLOOKUP(CONCATENATE($W$9,\"_\",U41),選手名簿!$A$1:$E$65536,5,FALSE))=TRUE,\"\",VLOOKUP(CONCATENATE($W$9,\"_\",U41),選手名簿!$A$1:$E$65536,5,FALSE))","v":""},null,null,null,null,"→",null,"番",{"$f":"IF(ISERROR(VLOOKUP(CONCATENATE($W$9,\"_\",AC41),選手名簿!$A$1:$E$65536,5,FALSE))=TRUE,\"\",VLOOKUP(CONCATENATE($W$9,\"_\",AC41),選手名簿!$A$1:$E$65536,5,FALSE))","v":""}]
[32,"分",13,"番",{"$f":"IF(ISERROR(VLOOKUP(CONCATENATE($B$9,\"_\",C42),選手名簿!$A$1:$E$65536,5,FALSE))=TRUE,\"\",VLOOKUP(CONCATENATE($B$9,\"_\",C42),選手名簿!$A$1:$E$65536,5,FALSE))","v":"廣門　胡太朗"},null,null,null,null,"→",11,"番",{"$f":"IF(ISERROR(VLOOKUP(CONCATENATE($B$9,\"_\",K42),選手名簿!$A$1:$E$65536,5,FALSE))=TRUE,\"\",VLOOKUP(CONCATENATE($B$9,\"_\",K42),選手名簿!$A$1:$E$65536,5,FALSE))","v":"實方　来夏"},null,null,null,null,null,null,"分",null,"番",{"$f":"IF(ISERROR(VLOOKUP(CONCATENATE($W$9,\"_\",U42),選手名簿!$A$1:$E$65536,5,FALSE))=TRUE,\"\",VLOOKUP(CONCATENATE($W$9,\"_\",U42),選手名簿!$A$1:$E$65536,5,FALSE))","v":""},null,null,null,null,"→",null,"番",{"$f":"IF(ISERROR(VLOOKUP(CONCATENATE($W$9,\"_\",AC42),選手名簿!$A$1:$E$65536,5,FALSE))=TRUE,\"\",VLOOKUP(CONCATENATE($W$9,\"_\",AC42),選手名簿!$A$1:$E$65536,5,FALSE))","v":""}]
[null,"分",null,"番",{"$f":"IF(ISERROR(VLOOKUP(CONCATENATE($B$9,\"_\",C43),選手名簿!$A$1:$E$65536,5,FALSE))=TRUE,\"\",VLOOKUP(CONCATENATE($B$9,\"_\",C43),選手名簿!$A$1:$E$65536,5,FALSE))","v":""},null,null,null,null,"→",null,"番",{"$f":"IF(ISERROR(VLOOKUP(CONCATENATE($B$9,\"_\",K43),選手名簿!$A$1:$E$65536,5,FALSE))=TRUE,\"\",VLOOKUP(CONCATENATE($B$9,\"_\",K43),選手名簿!$A$1:$E$65536,5,FALSE))","v":""},null,null,null,null,null,null,"分",null,"番",{"$f":"IF(ISERROR(VLOOKUP(CONCATENATE($W$9,\"_\",U43),選手名簿!$A$1:$E$65536,5,FALSE))=TRUE,\"\",VLOOKUP(CONCATENATE($W$9,\"_\",U43),選手名簿!$A$1:$E$65536,5,FALSE))","v":""},null,null,null,null,"→",null,"番",{"$f":"IF(ISERROR(VLOOKUP(CONCATENATE($W$9,\"_\",AC43),選手名簿!$A$1:$E$65536,5,FALSE))=TRUE,\"\",VLOOKUP(CONCATENATE($W$9,\"_\",AC43),選手名簿!$A$1:$E$65536,5,FALSE))","v":""}]
["警告（Ｃ）・退場（Ｓ）など",null,null,null,null,null,null,"合計",null,"延後",null,"延前",null,"後半",null,"前半",null,"チーム\n合計",null,"前半",null,"後半",null,"延前",null,"延後",null,"合計",null,"警告（Ｃ）・退場（Ｓ）など"]
[null,null,null,null,null,null,null,{"$f":"SUM(J45:Q45)","v":5},null,null,null,null,null,3,null,2,null,"Ｇ","Ｋ",4,null,4,null,null,null,null,null,{"$f":"SUM(T45:AA45)","v":8}]
[null,null,null,null,null,null,null,{"$f":"SUM(J46:Q46)","v":1},null,null,null,null,null,0,null,1,null,"Ｃ","Ｋ",3,null,0,null,null,null,null,null,{"$f":"SUM(T46:AA46)","v":3}]
[null,null,null,null,null,null,null,{"$f":"SUM(J47:Q47)","v":2},null,null,null,null,null,2,null,0,null,"直接","ＦＫ",1,null,0,null,null,null,null,null,{"$f":"SUM(T47:AA47)","v":1}]
[null,null,null,null,null,null,null,{"$f":"SUM(J48:Q48)","v":1},null,null,null,null,null,1,null,0,null,"間接","ＦＫ",0,null,1,null,null,null,null,null,{"$f":"SUM(T48:AA48)","v":1}]
[null,null,null,null,null,null,null,{"$f":"SUM(J49:Q49)","v":0},null,null,null,null,null,0,null,0,null,"Ｐ","Ｋ",0,null,0,null,null,null,null,null,{"$f":"SUM(T49:AA49)","v":0}]
["時間",null,null,"得点者",null,"得　　点　　経　　過",null,null,null,null,null,null,null,null,null,null,null,null,"時間",null,null,"得点者",null,"得　　点　　経　　過"]
[null,7,"分",10,null,"11　∩　10S",null,null,null,null,null,null,null,null,null,null,null,null,null,2,"分",7,null,"4　→　7S"]
[null,24,"分",4,null,"9　→　4S",null,null,null,null,null,null,null,null,null,null,null,null,null,35,"分",10,null,"10S"]
[null,27,"分",3,null,"3～S",null,null,null,null,null,null,null,null,null,null,null,null,null,null,"分"]
[null,null,"分",null,null,null,null,null,null,null,null,null,null,null,null,null,null,null,null,null,"分"]
[null,null,"分",null,null,null,null,null,null,null,null,null,null,null,null,null,null,null,null,null,"分"]
[null,null,"分",null,null,null,null,null,null,null,null,null,null,null,null,null,null,null,null,null,"分"]
[" ",null,null,"《略号例》",null,null,null,"ドリブル",null,"～",null,"ゴロのパス",null,null,"→",null,"浮き球",null,"∩",null,"混戦",null,"×",null,"ヘディング",null,null,"H",null,"シュート",null,"S"]
["[警告理由]C1：反スポーツ的行為，C2：ラフプレー，C3：異議，C4：繰り返し違反，C5：遅延行為，C6：距離不足，C7：無許可入，C8：無許可去"]
["[退場理由]S1：著しく不正なプレー，S2：乱暴な行為，S3：つば吐き，S4：得点機会阻止(ハンド)，S5：得点機会阻止(他)，S6：侮辱的発言，CS：警告2回による退場"]
[]
["戦評者氏名",null,null,null,"（",null,null,null,null,null,"）","勤務先または所属",null,null,null,null,null,null,"（",null,null,null,null,null,null,null,null,null,null,null,null,null,null,null,"　）"]
[]
[]
[]
[]
[]
[]
[]
[]
[null,null,null,null,null,null,null,null,"M   C",null,null,null,null,null,null,"ウェルフェアオフィサー",null,null,null,null,null,null,"会　場　長",null,null,null,null,null,null,"主　　審"]
[null,null,null,null,null,null,null,null,"仲野　昭博",null,null,null,null,null,null,"中原　圭介",null,null,null,null,null,null,"安東　幹雄",null,null,null,null,null,null,"黒田　大貴"]

{"sheet":"項目","index":16,"n_rows":31,"n_cols":8,"rows_kept":31,"cut":false,"hidden":true,"merged":[]}
["警告/退場",null,"＜警告選択肢＞",null,"＜会場＞",null,"＜役員名簿＞","＜審判名簿＞"]
["警告",null,"反スポ",null,"昭和電工ｻｯｶｰ･ﾗｸﾞﾋﾞｰ場　Aｺｰﾄ",null,"-","黒田　大貴"]
["退場",null,"ラフ",null,"昭和電工ｻｯｶｰ･ﾗｸﾞﾋﾞｰ場　Bｺｰﾄ",null,"安東　幹雄","佐藤　慎二"]
["警告(累積2枚目次節出場停止）",null,"異議",null,"大分県ｻｯｶｰ協会人工芝ｸﾞﾗｳﾝﾄﾞ",null,"仲野　昭博","田尻　貴志"]
[null,null,"繰り返し",null,null,null,"中原　圭介","須藤　健二"]
[null,null,"遅延",null,null,null,"佐々木　秀樹"]
[null,null,"距離",null,null,null,"榊　謙治"]
[null,null,"無断入",null,null,null,"河野　千恵子"]
[null,null,"無断去",null,null,null,"上野　貴士"]
[null,null,"＜退場選択肢＞",null,null,null,"岡部　司"]
[null,null,"不正",null,null,null,"毛藤　勇三"]
[null,null,"乱暴",null,null,null,"隅田　哲平"]
[null,null,"つば",null,null,null,"羽田野　亘"]
[null,null,"阻止(手)",null,null,null,"津守　一雄"]
[null,null,"阻止(他)",null,null,null,"笠野　わかこ"]
[null,null,"暴言",null,null,null,"伊達　洋介"]
[null,null,"警告2",null,null,null,"東　一騎"]
[null,null,null,null,null,null,"唐下　直之"]
[null,null,null,null,null,null,"磯村　信一"]
[null,null,null,null,null,null,"諌本　秀樹"]
[null,null,null,null,null,null,"石井　洋平"]
[null,null,null,null,null,null,"中野　観司郎"]
[null,null,null,null,null,null,"甲斐　直樹"]
[null,null,null,null,null,null,"秋吉　明"]
[null,null,null,null,null,null,"安東　信二"]
[null,null,null,null,null,null,"松下　省吾"]
[null,null,null,null,null,null,"市原　宗久"]
[null,null,null,null,null,null,"森山　信浩"]
[null,null,null,null,null,null,"末永　成久"]
[null,null,null,null,null,null,"廣田　寧孝"]
[null,null,null,null,null,null,"平尾　彰敏"]

{"sheet":"選手名簿","index":17,"n_rows":1539,"n_cols":10,"rows_kept":1539,"cut":false,"hidden":true,"merged":[]}
[{"$f":"CONCATENATE(B1,\"_\",C1)","v":"大会参加チーム名_背番号"},"大会参加チーム名","背番号","ポジション","選手名漢字","選手名カナ","学年","男女区分","選手登録番号","キャプテン"]
["ＭＦＣ三花少年サッカー教室_1","ＭＦＣ三花少年サッカー教室",{"$f":"(\"1\")","v":"1"},"GK","片岡　想友","カタオカ　ソウスケ",5,"男子",{"$f":"(\"1004150039\")","v":"1004150039"}]
["ＭＦＣ三花少年サッカー教室_2","ＭＦＣ三花少年サッカー教室",{"$f":"(\"2\")","v":"2"},"DF","梶原　羽琉","カジワラ　ハル",5,"男子",{"$f":"(\"1006180244\")","v":"1006180244"}]
["ＭＦＣ三花少年サッカー教室_3","ＭＦＣ三花少年サッカー教室",{"$f":"(\"3\")","v":"3"},"MF","末永　來海","スエナガ　クルミ",6,"女子小学生",{"$f":"(\"0909080253\")","v":"0909080253"}]
["ＭＦＣ三花少年サッカー教室_4","ＭＦＣ三花少年サッカー教室",{"$f":"(\"4\")","v":"4"},"DF","長谷部　文人","ハセベ　フミト",4,"男子",{"$f":"(\"1112150060\")","v":"1112150060"}]
["ＭＦＣ三花少年サッカー教室_5","ＭＦＣ三花少年サッカー教室",{"$f":"(\"5\")","v":"5"},"DF","本多　玄太","ホンダ　ゲンタ",6,"男子",{"$f":"(\"0910290188\")","v":"0910290188"}]
["ＭＦＣ三花少年サッカー教室_6","ＭＦＣ三花少年サッカー教室",{"$f":"(\"6\")","v":"6"},"MF","小野　颯真","オノ　ソウマ",4,"男子",{"$f":"(\"1107220088\")","v":"1107220088"}]
["ＭＦＣ三花少年サッカー教室_7","ＭＦＣ三花少年サッカー教室",{"$f":"(\"7\")","v":"7"},"DF","木下　琥太郎","キノシタ　コタロウ",5,"男子",{"$f":"(\"1011190010\")","v":"1011190010"}]
["ＭＦＣ三花少年サッカー教室_8","ＭＦＣ三花少年サッカー教室",{"$f":"(\"8\")","v":"8"},"MF","椋野　凌生","ムクノ　リュウ",4,"男子",{"$f":"(\"1104170008\")","v":"1104170008"}]
["ＭＦＣ三花少年サッカー教室_9","ＭＦＣ三花少年サッカー教室",{"$f":"(\"9\")","v":"9"},"MF","宇野　匠真","ウノ　ショウマ",6,"男子",{"$f":"(\"0905140057\")","v":"0905140057"}]
["ＭＦＣ三花少年サッカー教室_10","ＭＦＣ三花少年サッカー教室",{"$f":"(\"10\")","v":"10"},"MF","木下　陽翔","キノシタ　ヒロト",6,"男子",{"$f":"(\"0908180012\")","v":"0908180012"}]
["ＭＦＣ三花少年サッカー教室_11","ＭＦＣ三花少年サッカー教室",{"$f":"(\"11\")","v":"11"},"MF","諌山　星那","イサヤマ　セナ",6,"男子",{"$f":"(\"0905200013\")","v":"0905200013"},"○"]
["ＭＦＣ三花少年サッカー教室_12","ＭＦＣ三花少年サッカー教室",{"$f":"(\"12\")","v":"12"},"DF","岡松　洸希","オカマツ　コウキ",5,"男子",{"$f":"(\"1103250142\")","v":"1103250142"}]
["ＭＦＣ三花少年サッカー教室_13","ＭＦＣ三花少年サッカー教室",{"$f":"(\"13\")","v":"13"},"MF","内海　太輝","ウツミ　タイヨウ",2,"男子",{"$f":"(\"1205180078\")","v":"1205180078"}]
["ＭＦＣ三花少年サッカー教室_14","ＭＦＣ三花少年サッカー教室",{"$f":"(\"14\")","v":"14"},"MF","木下　誠喜","キノシタ　マコ",3,"男子",{"$f":"(\"1303100001\")","v":"1303100001"}]
["ＭＦＣ三花少年サッカー教室_15","ＭＦＣ三花少年サッカー教室",{"$f":"(\"15\")","v":"15"},"FW","上田　暖","ウエダ　ハル",4,"男子",{"$f":"(\"1112160017\")","v":"1112160017"}]
["咸宜日隈ｓｃ_1","咸宜日隈ｓｃ",{"$f":"(\"1\")","v":"1"},"GK","児玉　緋月","コダマ　ヒヅキ",5,"男子",{"$f":"(\"1103280084\")","v":"1103280084"}]
["咸宜日隈ｓｃ_3","咸宜日隈ｓｃ",{"$f":"(\"3\")","v":"3"},"MF","幸　翔太","ユキ　ショウタ",3,"男子",{"$f":"(\"1301130018\")","v":"1301130018"}]
["咸宜日隈ｓｃ_4","咸宜日隈ｓｃ",{"$f":"(\"4\")","v":"4"},"DF","高倉　颯太","タカクラ　ソウタ",6,"男子",{"$f":"(\"0905060166\")","v":"0905060166"}]
["咸宜日隈ｓｃ_5","咸宜日隈ｓｃ",{"$f":"(\"5\")","v":"5"},"DF","安養寺　徳真","アンヨウジ　トクマ",3,"男子",{"$f":"(\"1208160038\")","v":"1208160038"}]
["咸宜日隈ｓｃ_9","咸宜日隈ｓｃ",{"$f":"(\"9\")","v":"9"},"MF","梶原　慶","カジワラ　ケイ",3,"男子",{"$f":"(\"1205280043\")","v":"1205280043"}]
["咸宜日隈ｓｃ_12","咸宜日隈ｓｃ",{"$f":"(\"12\")","v":"12"},"DF","銭花　奏","ゼニバナ　ソウ",6,"男子",{"$f":"(\"1002250096\")","v":"1002250096"},"○"]
["咸宜日隈ｓｃ_13","咸宜日隈ｓｃ",{"$f":"(\"13\")","v":"13"},"FW","三苫　浬","ミトマ　カイリ",5,"男子",{"$f":"(\"1004250163\")","v":"1004250163"}]
["咸宜日隈ｓｃ_14","咸宜日隈ｓｃ",{"$f":"(\"14\")","v":"14"},"MF","西　治美","ニシ　ハルミ",3,"男子",{"$f":"(\"1204020043\")","v":"1204020043"}]
["咸宜日隈ｓｃ_16","咸宜日隈ｓｃ",{"$f":"(\"16\")","v":"16"},"MF","唐木　耀誠","カラキ　ヨウセイ",5,"男子",{"$f":"(\"1102250155\")","v":"1102250155"}]
["咸宜日隈ｓｃ_17","咸宜日隈ｓｃ",{"$f":"(\"17\")","v":"17"},"FW","三浦　碧藍","ミウラ　アラン",6,"男子",{"$f":"(\"1001250076\")","v":"1001250076"}]
["咸宜日隈ｓｃ_18","咸宜日隈ｓｃ",{"$f":"(\"18\")","v":"18"},"MF","城本　凰喜","シロモト　コウキ",3,"男子",{"$f":"(\"1204300046\")","v":"1204300046"}]
["咸宜日隈ｓｃ_20","咸宜日隈ｓｃ",{"$f":"(\"20\")","v":"20"},"MF","熊谷　颯真","クマガエ　ソウマ",5,"男子",{"$f":"(\"1007100227\")","v":"1007100227"}]
["咸宜日隈ｓｃ_26","咸宜日隈ｓｃ",{"$f":"(\"26\")","v":"26"},"MF","萬　結史","ヨロズ　ユシ",5,"男子",{"$f":"(\"1008070111\")","v":"1008070111"}]
["咸宜日隈ｓｃ_27","咸宜日隈ｓｃ",{"$f":"(\"27\")","v":"27"},"MF","萬　善","ヨロズ　ゼン",3,"男子",{"$f":"(\"1205290038\")","v":"1205290038"}]
["ＦＣアリアーレ_1","ＦＣアリアーレ",{"$f":"(\"1\")","v":"1"},"GK","進藤　秀太","シンドウ　シュウタ",6,"男子",{"$f":"(\"1001010123\")","v":"1001010123"}]
["ＦＣアリアーレ_2","ＦＣアリアーレ",{"$f":"(\"2\")","v":"2"},"MF","井上　惺央","イノウエ　セラ",5,"男子",{"$f":"(\"1005150086\")","v":"1005150086"}]
["ＦＣアリアーレ_3","ＦＣアリアーレ",{"$f":"(\"3\")","v":"3"},"MF","矢羽田　成海","ヤハタ　ナルミ",5,"男子",{"$f":"(\"1102010071\")","v":"1102010071"}]
["ＦＣアリアーレ_4","ＦＣアリアーレ",{"$f":"(\"4\")","v":"4"},"DF","池田　月明都","イケダ　ルアト",6,"男子",{"$f":"(\"0907210200\")","v":"0907210200"}]
["ＦＣアリアーレ_5","ＦＣアリアーレ",{"$f":"(\"5\")","v":"5"},"MF","武内　璃緒斗","タケウチ　リオト",6,"男子",{"$f":"(\"0904220259\")","v":"0904220259"}]
["ＦＣアリアーレ_6","ＦＣアリアーレ",{"$f":"(\"6\")","v":"6"},"MF","佐藤　奏介","サトウ　ソウスケ",6,"男子",{"$f":"(\"1002230017\")","v":"1002230017"}]
["ＦＣアリアーレ_7","ＦＣアリアーレ",{"$f":"(\"7\")","v":"7"},"MF","河津　瞬","カワヅ　シュン",5,"男子",{"$f":"(\"1009230091\")","v":"1009230091"}]
["ＦＣアリアーレ_8","ＦＣアリアーレ",{"$f":"(\"8\")","v":"8"},"MF","佐藤　匠","サトウ　タクミ",6,"男子",{"$f":"(\"0908190228\")","v":"0908190228"}]
["ＦＣアリアーレ_9","ＦＣアリアーレ",{"$f":"(\"9\")","v":"9"},"DF","高瀬　晴葉","タカセ　テルハ",6,"男子",{"$f":"(\"0908200211\")","v":"0908200211"}]
["ＦＣアリアーレ_10","ＦＣアリアーレ",{"$f":"(\"10\")","v":"10"},"FW","右近　陽翔","ウコン　ハルト",6,"男子",{"$f":"(\"0908120232\")","v":"0908120232"},"○"]
["ＦＣアリアーレ_11","ＦＣアリアーレ",{"$f":"(\"11\")","v":"11"},"MF","明里　心夢","アカリ　シユウ",5,"男子",{"$f":"(\"1004080142\")","v":"1004080142"}]
["ＦＣアリアーレ_12","ＦＣアリアーレ",{"$f":"(\"12\")","v":"12"},"FW","佐藤　有隼","サトウ　ユウト",6,"男子",{"$f":"(\"0904260159\")","v":"0904260159"}]
["ＦＣアリアーレ_13","ＦＣアリアーレ",{"$f":"(\"13\")","v":"13"},"FW","松岡　蓮音","マツオカ　レント",4,"男子",{"$f":"(\"1110240032\")","v":"1110240032"}]
["ＦＣアリアーレ_14","ＦＣアリアーレ",{"$f":"(\"14\")","v":"14"},"MF","古賀　丈太郎","コガ　ジョウタロウ",4,"男子",{"$f":"(\"1202090032\")","v":"1202090032"}]
["ＦＣアリアーレ_16","ＦＣアリアーレ",{"$f":"(\"16\")","v":"16"},"GK","其田　和士","ソノダ　カズシ",6,"男子",{"$f":"(\"1003280007\")","v":"1003280007"}]
["三芳少年サッカースクール_1","三芳少年サッカースクール",{"$f":"(\"1\")","v":"1"},"GK","江田　聖流","コウダ　セナ",5,"男子",{"$f":"(\"1102060013\")","v":"1102060013"}]
["三芳少年サッカースクール_2","三芳少年サッカースクール",{"$f":"(\"2\")","v":"2"},"DF","髙倉　久継","タカクラ　ヒサツグ",6,"男子",{"$f":"(\"0904270109\")","v":"0904270109"}]
["三芳少年サッカースクール_3","三芳少年サッカースクール",{"$f":"(\"3\")","v":"3"},"FW","高波　天惺","タカナミ　テンセイ",5,"男子",{"$f":"(\"1009030113\")","v":"1009030113"}]
["三芳少年サッカースクール_5","三芳少年サッカースクール",{"$f":"(\"5\")","v":"5"},"DF","安田　悠人","ヤスダ　ユウト",5,"男子",{"$f":"(\"1012060026\")","v":"1012060026"}]
["三芳少年サッカースクール_6","三芳少年サッカースクール",{"$f":"(\"6\")","v":"6"},"DF","山本　晴翔","ヤマモト　ハルト",5,"男子",{"$f":"(\"1012090111\")","v":"1012090111"}]
["三芳少年サッカースクール_7","三芳少年サッカースクール",{"$f":"(\"7\")","v":"7"},"MF","富田　健人","トミタ　ケント",6,"男子",{"$f":"(\"0909290094\")","v":"0909290094"}]
["三芳少年サッカースクール_8","三芳少年サッカースクール",{"$f":"(\"8\")","v":"8"},"DF","梶原　清太郎","カジワラ　セイタロウ",5,"男子",{"$f":"(\"1005100047\")","v":"1005100047"}]
["三芳少年サッカースクール_9","三芳少年サッカースクール",{"$f":"(\"9\")","v":"9"},"FW","椎原　颯麻","シイハラ　ソウマ",6,"男子",{"$f":"(\"0910220072\")","v":"0910220072"},"○"]
["三芳少年サッカースクール_10","三芳少年サッカースクール",{"$f":"(\"10\")","v":"10"},"FW","椎原　佑大","シイハラ　ユウタ",4,"男子",{"$f":"(\"1201250021\")","v":"1201250021"}]
["三芳少年サッカースクール_11","三芳少年サッカースクール",{"$f":"(\"11\")","v":"11"},"MF","金子　蓮","カネコ　レン",5,"男子",{"$f":"(\"1005310026\")","v":"1005310026"}]
["三芳少年サッカースクール_12","三芳少年サッカースクール",{"$f":"(\"12\")","v":"12"},"FW","大鶴　拳志郎","オオツル　ケンシロウ",3,"男子",{"$f":"(\"1105030106\")","v":"1105030106"}]
["三芳少年サッカースクール_13","三芳少年サッカースクール",{"$f":"(\"13\")","v":"13"},"FW","河津　壮真","カワヅ　ソウマ",4,"男子",{"$f":"(\"1108030100\")","v":"1108030100"}]
["三芳少年サッカースクール_16","三芳少年サッカースクール",{"$f":"(\"16\")","v":"16"},"GK","小山　泉粋","コヤマ　センスイ",4,"男子",{"$f":"(\"1109030013\")","v":"1109030013"}]
["桂林少年サッカークラブ_1","桂林少年サッカークラブ",{"$f":"(\"1\")","v":"1"},"GK","松尾　栞汰","マツオ　カンタ",6,"男子",{"$f":"(\"0906150044\")","v":"0906150044"}]
["桂林少年サッカークラブ_2","桂林少年サッカークラブ",{"$f":"(\"2\")","v":"2"},"FW","坂本　幸斗","サカモト　ユキト",6,"男子",{"$f":"(\"1001100024\")","v":"1001100024"}]
["桂林少年サッカークラブ_4","桂林少年サッカークラブ",{"$f":"(\"4\")","v":"4"},"DF","相良　琥希翔","サガラ　トキト",6,"男子",{"$f":"(\"0906050064\")","v":"0906050064"}]
["桂林少年サッカークラブ_5","桂林少年サッカークラブ",{"$f":"(\"5\")","v":"5"},"FW","穴井　来夢","アナイ　ライム",6,"男子",{"$f":"(\"0905090056\")","v":"0905090056"}]
["桂林少年サッカークラブ_6","桂林少年サッカークラブ",{"$f":"(\"6\")","v":"6"},"MF","藤高　温希","フジタカ　ハルキ",6,"男子",{"$f":"(\"0910130034\")","v":"0910130034"}]
["桂林少年サッカークラブ_7","桂林少年サッカークラブ",{"$f":"(\"7\")","v":"7"},"MF","井上　凛士","イノウエ　リヒト",6,"男子",{"$f":"(\"0910070039\")","v":"0910070039"}]
[{"$f":"CONCATENATE(B65,\"_\",C65)","v":"桂林少年サッカークラブ_8"},"桂林少年サッカークラブ",{"$f":"(\"8\")","v":"8"},"DF","小田　晴大","オダ　ハルダイ",6,"男子",{"$f":"(\"0910100204\")","v":"0910100204"}]
["桂林少年サッカークラブ_9","桂林少年サッカークラブ",{"$f":"(\"9\")","v":"9"},"FW","熊谷　夢翔","クマガイ　ユメト",6,"男子",{"$f":"(\"1003190027\")","v":"1003190027"}]
["桂林少年サッカークラブ_11","桂林少年サッカークラブ",{"$f":"(\"11\")","v":"11"},"MF","伊藤　進俉","イトウ　シンゴ",6,"男子",{"$f":"(\"0909280263\")","v":"0909280263"}]
["桂林少年サッカークラブ_12","桂林少年サッカークラブ",{"$f":"(\"12\")","v":"12"},"FW","井上　來都","イノウエ　ライト",3,"男子",{"$f":"(\"1205290036\")","v":"1205290036"}]
["桂林少年サッカークラブ_13","桂林少年サッカークラブ",{"$f":"(\"13\")","v":"13"},"FW","小田　徳大","オダ　トクダイ",4,"男子",{"$f":"(\"1111150113\")","v":"1111150113"}]
["桂林少年サッカークラブ_14","桂林少年サッカークラブ",{"$f":"(\"14\")","v":"14"},"FW","日野　快玲","ヒノ　カイリ",4,"男子",{"$f":"(\"1203070025\")","v":"1203070025"}]
["桂林少年サッカークラブ_16","桂林少年サッカークラブ",{"$f":"(\"16\")","v":"16"},"MF","日野　秀哉","ヒノ　シュウヤ",6,"男子",{"$f":"(\"0911050044\")","v":"0911050044"},"○"]
["玖珠サッカースポーツ少年団_1","玖珠サッカースポーツ少年団",{"$f":"(\"1\")","v":"1"},"GK","麻生　健","アソウ　タケル",6,"男子",{"$f":"(\"1002230127\")","v":"1002230127"}]
["玖珠サッカースポーツ少年団_2","玖珠サッカースポーツ少年団",{"$f":"(\"2\")","v":"2"},"DF","坂本　雅久斗","サカモト　ガクト",6,"男子",{"$f":"(\"0904020192\")","v":"0904020192"}]
["玖珠サッカースポーツ少年団_3","玖珠サッカースポーツ少年団",{"$f":"(\"3\")","v":"3"},"MF","穴井　将斗","アナイ　マサト",6,"男子",{"$f":"(\"0905300034\")","v":"0905300034"}]
["玖珠サッカースポーツ少年団_4","玖珠サッカースポーツ少年団",{"$f":"(\"4\")","v":"4"},"FW","宿利　斗眞","シュクリ　トウマ",6,"男子",{"$f":"(\"0907300245\")","v":"0907300245"}]
["玖珠サッカースポーツ少年団_5","玖珠サッカースポーツ少年団",{"$f":"(\"5\")","v":"5"},"GK","宝珠　将吾","ホウス　ショウゴ",5,"男子",{"$f":"(\"1101180021\")","v":"1101180021"}]
["玖珠サッカースポーツ少年団_6","玖珠サッカースポーツ少年団",{"$f":"(\"6\")","v":"6"},"MF","梅木　彩羽","ウメキ　サワ",6,"女子小学生",{"$f":"(\"0908260105\")","v":"0908260105"}]
["玖珠サッカースポーツ少年団_7","玖珠サッカースポーツ少年団",{"$f":"(\"7\")","v":"7"},"DF","河津　愛都","カワヅ　アイト",6,"男子",{"$f":"(\"0909230034\")","v":"0909230034"}]
["玖珠サッカースポーツ少年団_8","玖珠サッカースポーツ少年団",{"$f":"(\"8\")","v":"8"},"FW","武田　夢叶","タケダ　ユメト",6,"男子",{"$f":"(\"0910020267\")","v":"0910020267"}]
["玖珠サッカースポーツ少年団_9","玖珠サッカースポーツ少年団",{"$f":"(\"9\")","v":"9"},"MF","安部　良祐","アベ　リョウスケ",6,"男子",{"$f":"(\"0908220130\")","v":"0908220130"}]
["玖珠サッカースポーツ少年団_10","玖珠サッカースポーツ少年団",{"$f":"(\"10\")","v":"10"},"MF","山口　宗史","ヤマグチ　ムネフミ",6,"男子",{"$f":"(\"0909290152\")","v":"0909290152"},"○"]
["玖珠サッカースポーツ少年団_11","玖珠サッカースポーツ少年団",{"$f":"(\"11\")","v":"11"},"FW","田中　冠舟","タナカ　カンシュウ",5,"男子",{"$f":"(\"1008250162\")","v":"1008250162"}]
["玖珠サッカースポーツ少年団_12","玖珠サッカースポーツ少年団",{"$f":"(\"12\")","v":"12"},"MF","繁田　大雅","シゲタ　タイガ",5,"男子",{"$f":"(\"1005020098\")","v":"1005020098"}]
["玖珠サッカースポーツ少年団_13","玖珠サッカースポーツ少年団",{"$f":"(\"13\")","v":"13"},"MF","石井　信治朗","イシイ　シンジロウ",5,"男子",{"$f":"(\"1103040102\")","v":"1103040102"}]
["ＦＣ．ＵＳＡ_1","ＦＣ．ＵＳＡ",{"$f":"(\"1\")","v":"1"},"GK","浜永　征斗","ハマナガ　ユキト",6,"男子",{"$f":"(\"0908280122\")","v":"0908280122"}]
["ＦＣ．ＵＳＡ_2","ＦＣ．ＵＳＡ",{"$f":"(\"2\")","v":"2"},"DF","長本　康太郎","ナガモト　コウタロウ",5,"男子",{"$f":"(\"1007290122\")","v":"1007290122"}]
["ＦＣ．ＵＳＡ_3","ＦＣ．ＵＳＡ",{"$f":"(\"3\")","v":"3"},"DF","松尾　颯真","マツオ　ソウマ",6,"男子",{"$f":"(\"0912020135\")","v":"0912020135"}]
["ＦＣ．ＵＳＡ_4","ＦＣ．ＵＳＡ",{"$f":"(\"4\")","v":"4"},"MF","久保　栄人","クボ　ハルト",6,"男子",{"$f":"(\"0909190114\")","v":"0909190114"}]
["ＦＣ．ＵＳＡ_5","ＦＣ．ＵＳＡ",{"$f":"(\"5\")","v":"5"},"MF","豊永　優月","トヨナガ　ユヅキ",6,"男子",{"$f":"(\"1001030074\")","v":"1001030074"},"○"]
["ＦＣ．ＵＳＡ_6","ＦＣ．ＵＳＡ",{"$f":"(\"6\")","v":"6"},"MF","新井　瑛人","アライ　エイト",5,"男子",{"$f":"(\"1009140054\")","v":"1009140054"}]
["ＦＣ．ＵＳＡ_7","ＦＣ．ＵＳＡ",{"$f":"(\"7\")","v":"7"},"FW","吉井　颯","ヨシイ　ハヤテ",4,"男子",{"$f":"(\"1107310037\")","v":"1107310037"}]
["ＦＣ．ＵＳＡ_8","ＦＣ．ＵＳＡ",{"$f":"(\"8\")","v":"8"},"MF","大力　翼","ダイリキ　ツバサ",4,"男子",{"$f":"(\"1107190072\")","v":"1107190072"}]
["ＦＣ．ＵＳＡ_9","ＦＣ．ＵＳＡ",{"$f":"(\"9\")","v":"9"},"MF","桐畑　奈儀徒","キリハタ　ナギト",4,"男子",{"$f":"(\"1202110023\")","v":"1202110023"}]
["ＦＣ．ＵＳＡ_10","ＦＣ．ＵＳＡ",{"$f":"(\"10\")","v":"10"},"MF","長田　旺祐","ナガタ　オウセケ",3,"男子",{"$f":"(\"1208090052\")","v":"1208090052"}]
["ＦＣ．ＵＳＡ_11","ＦＣ．ＵＳＡ",{"$f":"(\"11\")","v":"11"},"FW","今永　瑛仁","イマナガ　エイト",3,"男子",{"$f":"(\"1205140056\")","v":"1205140056"}]
["ＦＣ．ＵＳＡ_12","ＦＣ．ＵＳＡ",{"$f":"(\"12\")","v":"12"},"FW","礒辺　翔","イソベ　ショウ",3,"男子",{"$f":"(\"1207300038\")","v":"1207300038"}]
["ＦＣ．ＵＳＡ_13","ＦＣ．ＵＳＡ",{"$f":"(\"13\")","v":"13"},"DF","吉松　龍生","ヨシマツ　リュウショウ",3,"男子",{"$f":"(\"1207140038\")","v":"1207140038"}]
["ＦＣ．ＵＳＡ_14","ＦＣ．ＵＳＡ",{"$f":"(\"14\")","v":"14"},"DF","光永　颯大","ミツナガ　ソウタ",3,"男子",{"$f":"(\"1212250042\")","v":"1212250042"}]
["ＦＣ．ＵＳＡ_16","ＦＣ．ＵＳＡ",{"$f":"(\"16\")","v":"16"},"GK","蜷木　貫人","ニナギ　カント",5,"男子",{"$f":"(\"1011010047\")","v":"1011010047"}]
["ＦＣ　ＷＡＹＳ_1","ＦＣ　ＷＡＹＳ",{"$f":"(\"1\")","v":"1"},"GK","久保　蓮哉","クボ　レンヤ",6,"男子",{"$f":"(\"0909210107\")","v":"0909210107"},"○"]
["ＦＣ　ＷＡＹＳ_2","ＦＣ　ＷＡＹＳ",{"$f":"(\"2\")","v":"2"},"DF","加茂　愛翔","カモ　マナト",6,"男子",{"$f":"(\"0911270116\")","v":"0911270116"}]
["ＦＣ　ＷＡＹＳ_3","ＦＣ　ＷＡＹＳ",{"$f":"(\"3\")","v":"3"},"MF","近藤　汰哉","コンドウ　ダイヤ",6,"男子",{"$f":"(\"1001220154\")","v":"1001220154"}]
["ＦＣ　ＷＡＹＳ_4","ＦＣ　ＷＡＹＳ",{"$f":"(\"4\")","v":"4"},"FW","岩尾　琉生","イワオ　ルイ",6,"男子",{"$f":"(\"1001130137\")","v":"1001130137"}]
["ＦＣ　ＷＡＹＳ_5","ＦＣ　ＷＡＹＳ",{"$f":"(\"5\")","v":"5"},"FW","前田　徠太","マエダ　ライタ",6,"男子",{"$f":"(\"0906040143\")","v":"0906040143"}]
["ＦＣ　ＷＡＹＳ_7","ＦＣ　ＷＡＹＳ",{"$f":"(\"7\")","v":"7"},"MF","梶原　健","カジワラ　ケン",5,"男子",{"$f":"(\"1009220193\")","v":"1009220193"}]
["ＦＣ　ＷＡＹＳ_8","ＦＣ　ＷＡＹＳ",{"$f":"(\"8\")","v":"8"},"DF","村上　京佑","ムラカミ　キョウスケ",6,"男子",{"$f":"(\"0904100158\")","v":"0904100158"}]
["ＦＣ　ＷＡＹＳ_9","ＦＣ　ＷＡＹＳ",{"$f":"(\"9\")","v":"9"},"DF","末　健人","スエ　ケント",6,"男子",{"$f":"(\"0904060170\")","v":"0904060170"}]
["ＦＣ　ＷＡＹＳ_12","ＦＣ　ＷＡＹＳ",{"$f":"(\"12\")","v":"12"},"DF","佐藤　暖真","サトウ　ハルマ",5,"男子",{"$f":"(\"1101030096\")","v":"1101030096"}]
["ＦＣ　ＷＡＹＳ_13","ＦＣ　ＷＡＹＳ",{"$f":"(\"13\")","v":"13"},"MF","高木　龍斗","タカキ　リュウト",5,"男子",{"$f":"(\"1007310168\")","v":"1007310168"}]
["ＦＣ　ＷＡＹＳ_14","ＦＣ　ＷＡＹＳ",{"$f":"(\"14\")","v":"14"},"MF","小山　響生","コヤマ　ヒビキ",5,"男子",{"$f":"(\"1005150138\")","v":"1005150138"}]
["ＦＣ　ＷＡＹＳ_15","ＦＣ　ＷＡＹＳ",{"$f":"(\"15\")","v":"15"},"FW","吉田　光毅","ヨシダ　コウキ",5,"男子",{"$f":"(\"1005010138\")","v":"1005010138"}]
["ＦＣ　ＷＡＹＳ_17","ＦＣ　ＷＡＹＳ",{"$f":"(\"17\")","v":"17"},"FW","末　悠人","スエ　ユウト",5,"男子",{"$f":"(\"1103210088\")","v":"1103210088"}]
["ＦＣ　ＷＡＹＳ_18","ＦＣ　ＷＡＹＳ",{"$f":"(\"18\")","v":"18"},"MF","小山　千慧","コヤマ　チサト",4,"男子",{"$f":"(\"1106200086\")","v":"1106200086"}]
["四日市南ＳＳＣ_1","四日市南ＳＳＣ",{"$f":"(\"1\")","v":"1"},"GK","千々松　夏生","チヂマツ　ナツ",6,"男子",{"$f":"(\"0906180057\")","v":"0906180057"}]
["四日市南ＳＳＣ_3","四日市南ＳＳＣ",{"$f":"(\"3\")","v":"3"},"FW","権藤　心玖","ゴンドウ　ミク",6,"女子小学生",{"$f":"(\"1002090191\")","v":"1002090191"}]
["四日市南ＳＳＣ_4","四日市南ＳＳＣ",{"$f":"(\"4\")","v":"4"},"DF","川端　大稀","カワバタ　ダイキ",5,"男子",{"$f":"(\"1004050248\")","v":"1004050248"}]
["四日市南ＳＳＣ_5","四日市南ＳＳＣ",{"$f":"(\"5\")","v":"5"},"DF","中間　思温","ナカマ　シオン",5,"男子",{"$f":"(\"1006090145\")","v":"1006090145"}]
["四日市南ＳＳＣ_6","四日市南ＳＳＣ",{"$f":"(\"6\")","v":"6"},"DF","井手　悠稀","イデ　ユウマ",5,"男子",{"$f":"(\"1011020124\")","v":"1011020124"}]
["四日市南ＳＳＣ_7","四日市南ＳＳＣ",{"$f":"(\"7\")","v":"7"},"MF","長岡　玲司","ナガオカ　レイジ",6,"男子",{"$f":"(\"0910250025\")","v":"0910250025"}]
["四日市南ＳＳＣ_8","四日市南ＳＳＣ",{"$f":"(\"8\")","v":"8"},"DF","渡邉　潤也","ワタナベ　ジュンヤ",6,"男子",{"$f":"(\"1001030128\")","v":"1001030128"}]
["四日市南ＳＳＣ_9","四日市南ＳＳＣ",{"$f":"(\"9\")","v":"9"},"FW","幸野　英史郎","コウノ　エイシロウ",6,"男子",{"$f":"(\"1001010023\")","v":"1001010023"}]
["四日市南ＳＳＣ_10","四日市南ＳＳＣ",{"$f":"(\"10\")","v":"10"},"MF","津田　藍斗","ツダ　アイト",6,"男子",{"$f":"(\"0905260130\")","v":"0905260130"},"○"]
["四日市南ＳＳＣ_11","四日市南ＳＳＣ",{"$f":"(\"11\")","v":"11"},"DF","佐藤　瑛太","サトウ　エイタ",5,"男子",{"$f":"(\"1009100130\")","v":"1009100130"}]
["四日市南ＳＳＣ_12","四日市南ＳＳＣ",{"$f":"(\"12\")","v":"12"},"MF","岡部　龍大","オカベ　リュウダイ",4,"男子",{"$f":"(\"1201240108\")","v":"1201240108"}]
["四日市南ＳＳＣ_13","四日市南ＳＳＣ",{"$f":"(\"13\")","v":"13"},"DF","合原　輝翔","ゴウバル　ケント",5,"男子",{"$f":"(\"1010210009\")","v":"1010210009"}]
["四日市南ＳＳＣ_14","四日市南ＳＳＣ",{"$f":"(\"14\")","v":"14"},"FW","合原　竜毅","ゴウバル　リュウキ",4,"男子",{"$f":"(\"1202210001\")","v":"1202210001"}]
["四日市南ＳＳＣ_16","四日市南ＳＳＣ",{"$f":"(\"16\")","v":"16"},"GK","斉藤　大翔","サイトウ　ヒロト",5,"男子",{"$f":"(\"1008210090\")","v":"1008210090"}]
["四日市北ＪＦＣ_1","四日市北ＪＦＣ",{"$f":"(\"1\")","v":"1"},"GK","松本　旺大","マツモト　オウタ",6,"男子",{"$f":"(\"0911210201\")","v":"0911210201"}]
[{"$f":"CONCATENATE(B129,\"_\",C129)","v":"四日市北ＪＦＣ_2"},"四日市北ＪＦＣ",{"$f":"(\"2\")","v":"2"},"DF","安倍　翔空","アベ　トア",4,"男子",{"$f":"(\"1107200049\")","v":"1107200049"}]
["四日市北ＪＦＣ_3","四日市北ＪＦＣ",{"$f":"(\"3\")","v":"3"},"DF","河野　広空","カワノ　ヒロタカ",4,"男子",{"$f":"(\"1109290055\")","v":"1109290055"}]
["四日市北ＪＦＣ_4","四日市北ＪＦＣ",{"$f":"(\"4\")","v":"4"},"DF","伴　龍之介","バン　リュウノスケ",4,"男子",{"$f":"(\"1105260141\")","v":"1105260141"}]
["四日市北ＪＦＣ_5","四日市北ＪＦＣ",{"$f":"(\"5\")","v":"5"},"MF","中野　嬉生","ナカノ　キオ",4,"男子",{"$f":"(\"1112110065\")","v":"1112110065"}]
["四日市北ＪＦＣ_6","四日市北ＪＦＣ",{"$f":"(\"6\")","v":"6"},"FW","原田　将臣","ハラダ　マサオミ",3,"男子",{"$f":"(\"1208170012\")","v":"1208170012"}]
["四日市北ＪＦＣ_7","四日市北ＪＦＣ",{"$f":"(\"7\")","v":"7"},"MF","長谷川　太一","ハセガワ　タイチ",5,"男子",{"$f":"(\"1004190134\")","v":"1004190134"}]
["四日市北ＪＦＣ_8","四日市北ＪＦＣ",{"$f":"(\"8\")","v":"8"},"FW","吉田　和季","ヨシダ　カズ",4,"男子",{"$f":"(\"1104020151\")","v":"1104020151"}]
["四日市北ＪＦＣ_9","四日市北ＪＦＣ",{"$f":"(\"9\")","v":"9"},"MF","山崎　銀斗","ヤマサキ　ギント",6,"男子",{"$f":"(\"0909190189\")","v":"0909190189"}]
["四日市北ＪＦＣ_10","四日市北ＪＦＣ",{"$f":"(\"10\")","v":"10"},"MF","河野　晃久","カワノ　アキヒサ",6,"男子",{"$f":"(\"0904110089\")","v":"0904110089"},"○"]
["四日市北ＪＦＣ_11","四日市北ＪＦＣ",{"$f":"(\"11\")","v":"11"},"MF","矢野　透晟","ヤノ　トウセイ",6,"男子",{"$f":"(\"0906040181\")","v":"0906040181"}]
["きつきＦＣ_1","きつきＦＣ",{"$f":"(\"1\")","v":"1"},"GK","衛藤　紘太","エトウ　コウタ",4,"男子",{"$f":"(\"1108140031\")","v":"1108140031"}]
["きつきＦＣ_2","きつきＦＣ",{"$f":"(\"2\")","v":"2"},"MF","徳丸　緒憧","トクマル　ショア",2,"男子",{"$f":"(\"1312210001\")","v":"1312210001"}]
["きつきＦＣ_3","きつきＦＣ",{"$f":"(\"3\")","v":"3"},"FW","亀井　凌","カメイ　リョウ",3,"男子",{"$f":"(\"1210220008\")","v":"1210220008"}]
["きつきＦＣ_4","きつきＦＣ",{"$f":"(\"4\")","v":"4"},"FW","土居　志誠","ドイ　シセイ",3,"男子",{"$f":"(\"1211030005\")","v":"1211030005"}]
["きつきＦＣ_5","きつきＦＣ",{"$f":"(\"5\")","v":"5"},"MF","山本　璃彩","ヤマモト　リア",4,"女子小学生",{"$f":"(\"1106160012\")","v":"1106160012"}]
["きつきＦＣ_6","きつきＦＣ",{"$f":"(\"6\")","v":"6"},"MF","植村　清十郎","ウエムラ　セイジュウロウ",4,"男子",{"$f":"(\"1201130007\")","v":"1201130007"}]
["きつきＦＣ_7","きつきＦＣ",{"$f":"(\"7\")","v":"7"},"MF","立脇　蓮惟","タテワキ　レイ",4,"男子",{"$f":"(\"1201130012\")","v":"1201130012"}]
["きつきＦＣ_8","きつきＦＣ",{"$f":"(\"8\")","v":"8"},"DF","伊藤　天雅","イトウ　テンマ",4,"男子",{"$f":"(\"1111120020\")","v":"1111120020"}]
["きつきＦＣ_9","きつきＦＣ",{"$f":"(\"9\")","v":"9"},"MF","内藤　士穏","ナイトウ　シオン",4,"男子",{"$f":"(\"1110020020\")","v":"1110020020"}]
["きつきＦＣ_10","きつきＦＣ",{"$f":"(\"10\")","v":"10"},"MF","木元　大芽","キモト　タイガ",6,"男子",{"$f":"(\"0909270033\")","v":"0909270033"},"○"]
["きつきＦＣ_11","きつきＦＣ",{"$f":"(\"11\")","v":"11"},"DF","久保　史琉","クボ　シリュウ",5,"男子",{"$f":"(\"1101070129\")","v":"1101070129"}]
["きつきＦＣ_12","きつきＦＣ",{"$f":"(\"12\")","v":"12"},"DF","佐藤　心乃助","サトウ　シンノスケ",4,"男子",{"$f":"(\"1110040180\")","v":"1110040180"}]
["東ＦＣ_1","東ＦＣ",{"$f":"(\"1\")","v":"1"},"GK","長谷雄　大和","ハセオ　ヤマト",6,"男子",{"$f":"(\"0907250101\")","v":"0907250101"},"○"]
["東ＦＣ_2","東ＦＣ",{"$f":"(\"2\")","v":"2"},"DF","森崎　夏向","モリサキ　カナタ",6,"男子",{"$f":"(\"0906110014\")","v":"0906110014"}]
["東ＦＣ_3","東ＦＣ",{"$f":"(\"3\")","v":"3"},"DF","藤田　侑飛","フジタ　ユウヒ",6,"男子",{"$f":"(\"0908160192\")","v":"0908160192"}]
["東ＦＣ_4","東ＦＣ",{"$f":"(\"4\")","v":"4"},"MF","西村　優芽","ニシムラ　ユメ",6,"女子小学生",{"$f":"(\"0911260031\")","v":"0911260031"}]
["東ＦＣ_5","東ＦＣ",{"$f":"(\"5\")","v":"5"},"MF","上野　煌太","ウエノ　オウタ",5,"男子",{"$f":"(\"1010070049\")","v":"1010070049"}]
["東ＦＣ_6","東ＦＣ",{"$f":"(\"6\")","v":"6"},"DF","今村　瑛太","イマムラ　エイタ",5,"男子",{"$f":"(\"1101020020\")","v":"1101020020"}]
["東ＦＣ_7","東ＦＣ",{"$f":"(\"7\")","v":"7"},"DF","中矢　和綺","ナカヤ　カズキ",5,"男子",{"$f":"(\"1011160034\")","v":"1011160034"}]
["東ＦＣ_8","東ＦＣ",{"$f":"(\"8\")","v":"8"},"MF","鹿野　亜衣莉","カノ　アイリ",5,"女子小学生",{"$f":"(\"1010130062\")","v":"1010130062"}]
["東ＦＣ_9","東ＦＣ",{"$f":"(\"9\")","v":"9"},"FW","安達　靖将","アダチ　ヤスマサ",5,"男子",{"$f":"(\"1011120012\")","v":"1011120012"}]
["東ＦＣ_10","東ＦＣ",{"$f":"(\"10\")","v":"10"},"MF","浅井　悠成","アザイ　ユウセイ",6,"男子",{"$f":"(\"0905100131\")","v":"0905100131"}]
["東ＦＣ_11","東ＦＣ",{"$f":"(\"11\")","v":"11"},"MF","長谷雄　銀士","ハセオ　ギンジ",4,"男子",{"$f":"(\"1111220012\")","v":"1111220012"}]
["東ＦＣ_12","東ＦＣ",{"$f":"(\"12\")","v":"12"},"MF","浅井　仁成","アザイ　ジンセイ",4,"男子",{"$f":"(\"1106210028\")","v":"1106210028"}]
["東ＦＣ_13","東ＦＣ",{"$f":"(\"13\")","v":"13"},"MF","是永　愛翔","コレナガ　マナト",4,"男子",{"$f":"(\"1108210126\")","v":"1108210126"}]
["東ＦＣ_14","東ＦＣ",{"$f":"(\"14\")","v":"14"},"MF","川野　颯亮","カワノ　ソウスケ",3,"男子",{"$f":"(\"1208020003\")","v":"1208020003"}]
["東ＦＣ_18","東ＦＣ",{"$f":"(\"18\")","v":"18"},"GK","相部　眞那斗","アイベ　マナト",5,"男子",{"$f":"(\"1102060109\")","v":"1102060109"}]
["八坂少年サッカークラブ_2","八坂少年サッカークラブ",{"$f":"(\"2\")","v":"2"},"DF","浅野　力我","アサノ　リキガ",6,"男子",{"$f":"(\"0904130088\")","v":"0904130088"}]
["八坂少年サッカークラブ_3","八坂少年サッカークラブ",{"$f":"(\"3\")","v":"3"},"DF","堀　浩太朗","ホリ　コウタロウ",6,"男子",{"$f":"(\"0907210108\")","v":"0907210108"}]
["八坂少年サッカークラブ_4","八坂少年サッカークラブ",{"$f":"(\"4\")","v":"4"},"DF","山平　晃輝","ヤマヒラ　コウキ",6,"男子",{"$f":"(\"0909120091\")","v":"0909120091"}]
["八坂少年サッカークラブ_5","八坂少年サッカークラブ",{"$f":"(\"5\")","v":"5"},"MF","青野　鈴華","アオノ　リンカ",6,"女子小学生",{"$f":"(\"0906230108\")","v":"0906230108"}]
["八坂少年サッカークラブ_6","八坂少年サッカークラブ",{"$f":"(\"6\")","v":"6"},"FW","豊島　一聡","トヨシマ　イッサ",6,"男子",{"$f":"(\"1001140089\")","v":"1001140089"}]
["八坂少年サッカークラブ_7","八坂少年サッカークラブ",{"$f":"(\"7\")","v":"7"},"MF","今富　幸翔","イマトミ　ユキト",6,"男子",{"$f":"(\"0908230178\")","v":"0908230178"}]
["八坂少年サッカークラブ_8","八坂少年サッカークラブ",{"$f":"(\"8\")","v":"8"},"FW","本田　涼真","ホンダ　リョウマ",6,"男子",{"$f":"(\"0906130156\")","v":"0906130156"}]
["八坂少年サッカークラブ_9","八坂少年サッカークラブ",{"$f":"(\"9\")","v":"9"},"MF","渡邊　駿貴","ワタナベ　シュンキ",6,"男子",{"$f":"(\"0907210113\")","v":"0907210113"},"○"]
["八坂少年サッカークラブ_10","八坂少年サッカークラブ",{"$f":"(\"10\")","v":"10"},"FW","藤原　唯花","フジワラ　ユイカ",5,"女子小学生",{"$f":"(\"1004270052\")","v":"1004270052"}]
["八坂少年サッカークラブ_11","八坂少年サッカークラブ",{"$f":"(\"11\")","v":"11"},"DF","亀井　璃月","カメイ　リツキ",5,"男子",{"$f":"(\"1005010043\")","v":"1005010043"}]
["八坂少年サッカークラブ_12","八坂少年サッカークラブ",{"$f":"(\"12\")","v":"12"},"DF","工藤　健太","クドウ　ケンタ",5,"男子",{"$f":"(\"1006150038\")","v":"1006150038"}]
["八坂少年サッカークラブ_13","八坂少年サッカークラブ",{"$f":"(\"13\")","v":"13"},"GK","南　樹希","ミナミ　イツキ",6,"男子",{"$f":"(\"0907010120\")","v":"0907010120"}]
["八坂少年サッカークラブ_14","八坂少年サッカークラブ",{"$f":"(\"14\")","v":"14"},"FW","内田　直斗","ウチダ　ナオト",5,"男子",{"$f":"(\"1011050043\")","v":"1011050043"}]
["八坂少年サッカークラブ_15","八坂少年サッカークラブ",{"$f":"(\"15\")","v":"15"},"DF","梶原　鷹介","カジワラ　タカスケ",5,"男子",{"$f":"(\"1012100096\")","v":"1012100096"}]
["八坂少年サッカークラブ_16","八坂少年サッカークラブ",{"$f":"(\"16\")","v":"16"},"FW","田頭　美羽","タガシラ　ミウ",5,"女子小学生",{"$f":"(\"1010180180\")","v":"1010180180"}]
["八坂少年サッカークラブ_17","八坂少年サッカークラブ",{"$f":"(\"17\")","v":"17"},"DF","大畑　翔太郎","オオハタ　ショウタロウ",6,"男子",{"$f":"(\"0905150110\")","v":"0905150110"}]
["武蔵オークスサッカークラブ_1","武蔵オークスサッカークラブ",{"$f":"(\"1\")","v":"1"},"GK","難波　航平","ナンバ　コウヘイ",4,"男子",{"$f":"(\"1106020095\")","v":"1106020095"}]
["武蔵オークスサッカークラブ_2","武蔵オークスサッカークラブ",{"$f":"(\"2\")","v":"2"},"DF","田邊　皓揮","タナベ　コウキ",6,"男子",{"$f":"(\"1001260196\")","v":"1001260196"}]
["武蔵オークスサッカークラブ_3","武蔵オークスサッカークラブ",{"$f":"(\"3\")","v":"3"},"DF","前田　晃寿","マエダ　アキトシ",6,"男子",{"$f":"(\"1001010146\")","v":"1001010146"}]
["武蔵オークスサッカークラブ_6","武蔵オークスサッカークラブ",{"$f":"(\"6\")","v":"6"},"MF","阿比留　寛太","アビル　カンタ",4,"男子",{"$f":"(\"1105250071\")","v":"1105250071"}]
["武蔵オークスサッカークラブ_7","武蔵オークスサッカークラブ",{"$f":"(\"7\")","v":"7"},"FW","箕迫　夏海","ミイサコ　ナツミ",3,"女子小学生",{"$f":"(\"1207050022\")","v":"1207050022"}]
["武蔵オークスサッカークラブ_9","武蔵オークスサッカークラブ",{"$f":"(\"9\")","v":"9"},"DF","北川　周","キタガワ　アマネ",6,"男子",{"$f":"(\"0912220042\")","v":"0912220042"},"○"]
["武蔵オークスサッカークラブ_10","武蔵オークスサッカークラブ",{"$f":"(\"10\")","v":"10"},"FW","箕迫　海斗","ミイサコ　カイト",6,"男子",{"$f":"(\"0909080003\")","v":"0909080003"}]
["武蔵オークスサッカークラブ_11","武蔵オークスサッカークラブ",{"$f":"(\"11\")","v":"11"},"DF","福田　ここな","フクダ　ココナ",6,"女子小学生",{"$f":"(\"0907220102\")","v":"0907220102"}]
["武蔵オークスサッカークラブ_12","武蔵オークスサッカークラブ",{"$f":"(\"12\")","v":"12"},"MF","宮本　結生","ミヤモト　ユウキ",4,"男子",{"$f":"(\"1109180085\")","v":"1109180085"}]
["武蔵オークスサッカークラブ_13","武蔵オークスサッカークラブ",{"$f":"(\"13\")","v":"13"},"MF","平野　嵩晴","ヒラノ　スバル",4,"男子",{"$f":"(\"1108200074\")","v":"1108200074"}]
["武蔵オークスサッカークラブ_14","武蔵オークスサッカークラブ",{"$f":"(\"14\")","v":"14"},"FW","松本　絢斗","マツモト　アヤト",4,"男子",{"$f":"(\"1203070069\")","v":"1203070069"}]
[{"$f":"CONCATENATE(B193,\"_\",C193)","v":"武蔵オークスサッカークラブ_16"},"武蔵オークスサッカークラブ",{"$f":"(\"16\")","v":"16"},"GK","板井　建親","イタイ　ケンシン",5,"男子",{"$f":"(\"1012250103\")","v":"1012250103"}]
["はやぶさフットボールクラブ_1","はやぶさフットボールクラブ",{"$f":"(\"1\")","v":"1"},"GK","原口　暉琉","ハラグチ　ヒカル",6,"男子",{"$f":"(\"0907210176\")","v":"0907210176"}]
["はやぶさフットボールクラブ_2","はやぶさフットボールクラブ",{"$f":"(\"2\")","v":"2"},"MF","小河内　煌珀","オガワウチ　コハク",6,"男子",{"$f":"(\"0909140279\")","v":"0909140279"}]
["はやぶさフットボールクラブ_3","はやぶさフットボールクラブ",{"$f":"(\"3\")","v":"3"},"FW","喜久里　璃空","キクザト　リク",6,"男子",{"$f":"(\"0912310102\")","v":"0912310102"}]
["はやぶさフットボールクラブ_4","はやぶさフットボールクラブ",{"$f":"(\"4\")","v":"4"},"MF","今西　桜音","イマニシ　オト",6,"女子小学生",{"$f":"(\"0912310042\")","v":"0912310042"}]
["はやぶさフットボールクラブ_5","はやぶさフットボールクラブ",{"$f":"(\"5\")","v":"5"},"DF","友松　大己","トモマツ　ヒロキ",6,"男子",{"$f":"(\"0909170107\")","v":"0909170107"}]
["はやぶさフットボールクラブ_6","はやぶさフットボールクラブ",{"$f":"(\"6\")","v":"6"},"FW","西本　祐晟","ニシモト　ユウセイ",6,"男子",{"$f":"(\"1002140088\")","v":"1002140088"}]
["はやぶさフットボールクラブ_7","はやぶさフットボールクラブ",{"$f":"(\"7\")","v":"7"},"DF","山本　瀧生","ヤマモト　ロイ",6,"男子",{"$f":"(\"1002070060\")","v":"1002070060"}]
["はやぶさフットボールクラブ_8","はやぶさフットボールクラブ",{"$f":"(\"8\")","v":"8"},"MF","柴田　晴喜","シバタ　ハルキ",6,"男子",{"$f":"(\"0909010080\")","v":"0909010080"}]
["はやぶさフットボールクラブ_9","はやぶさフットボールクラブ",{"$f":"(\"9\")","v":"9"},"MF","吉﨑　莉央","ヨシザキ　リオ",6,"男子",{"$f":"(\"1001150156\")","v":"1001150156"}]
["はやぶさフットボールクラブ_10","はやぶさフットボールクラブ",{"$f":"(\"10\")","v":"10"},"FW","西耒　琥界","サイライ　コウガ",6,"男子",{"$f":"(\"1001220106\")","v":"1001220106"},"○"]
["はやぶさフットボールクラブ_11","はやぶさフットボールクラブ",{"$f":"(\"11\")","v":"11"},"MF","末廣　義也","スエヒロ　ヨシヤ",6,"男子",{"$f":"(\"0911290112\")","v":"0911290112"}]
["はやぶさフットボールクラブ_13","はやぶさフットボールクラブ",{"$f":"(\"13\")","v":"13"},"FW","杉元　琉久","スギモト　リク",5,"男子",{"$f":"(\"1004300232\")","v":"1004300232"}]
["はやぶさフットボールクラブ_14","はやぶさフットボールクラブ",{"$f":"(\"14\")","v":"14"},"DF","廣池　優楽","ヒロイケ　ユラ",5,"男子",{"$f":"(\"1103150069\")","v":"1103150069"}]
["はやぶさフットボールクラブ_15","はやぶさフットボールクラブ",{"$f":"(\"15\")","v":"15"},"MF","岩本　啓誠","イワモト　ケイセイ",5,"男子",{"$f":"(\"1010180167\")","v":"1010180167"}]
["はやぶさフットボールクラブ_16","はやぶさフットボールクラブ",{"$f":"(\"16\")","v":"16"},"MF","須藤　羽海","ストウ　ウミ",5,"女子小学生",{"$f":"(\"1006230216\")","v":"1006230216"}]
["はやぶさフットボールクラブ_17","はやぶさフットボールクラブ",{"$f":"(\"17\")","v":"17"},"DF","用松　千奈","モチマツ　ユキナ",5,"女子小学生",{"$f":"(\"1012250152\")","v":"1012250152"}]
["鶴居ＳＳＳ_1","鶴居ＳＳＳ",{"$f":"(\"1\")","v":"1"},"GK","石川　颯飛","イシカワ　ソラト",6,"男子",{"$f":"(\"0907180185\")","v":"0907180185"}]
["鶴居ＳＳＳ_2","鶴居ＳＳＳ",{"$f":"(\"2\")","v":"2"},"FW","畑中　聡太","ハタナカ　ソウタ",6,"男子",{"$f":"(\"0909160157\")","v":"0909160157"}]
["鶴居ＳＳＳ_3","鶴居ＳＳＳ",{"$f":"(\"3\")","v":"3"},"DF","富原　涼平","トミハラ　リョウヘイ",6,"男子",{"$f":"(\"0908180231\")","v":"0908180231"}]
["鶴居ＳＳＳ_4","鶴居ＳＳＳ",{"$f":"(\"4\")","v":"4"},"DF","井上　董伍","イノウエ　トウゴ",6,"男子",{"$f":"(\"1001280112\")","v":"1001280112"}]
["鶴居ＳＳＳ_5","鶴居ＳＳＳ",{"$f":"(\"5\")","v":"5"},"DF","吉田　瑠斗","ヨシダ　ルイト",6,"男子",{"$f":"(\"1002120192\")","v":"1002120192"}]
["鶴居ＳＳＳ_6","鶴居ＳＳＳ",{"$f":"(\"6\")","v":"6"},"MF","津留　光翔","ツル　アキト",6,"男子",{"$f":"(\"0904300257\")","v":"0904300257"}]
["鶴居ＳＳＳ_7","鶴居ＳＳＳ",{"$f":"(\"7\")","v":"7"},"DF","工藤　一颯","クドウ　イブキ",5,"男子",{"$f":"(\"1004230140\")","v":"1004230140"}]
["鶴居ＳＳＳ_8","鶴居ＳＳＳ",{"$f":"(\"8\")","v":"8"},"DF","大下　遙斗","オオシタ　ハルト",6,"男子",{"$f":"(\"0909100132\")","v":"0909100132"}]
["鶴居ＳＳＳ_9","鶴居ＳＳＳ",{"$f":"(\"9\")","v":"9"},"MF","村澤　叶","ムラサワ　キョウ",6,"男子",{"$f":"(\"1001070195\")","v":"1001070195"}]
["鶴居ＳＳＳ_10","鶴居ＳＳＳ",{"$f":"(\"10\")","v":"10"},"MF","長田　十夢也","ナガタ　トムヤ",6,"男子",{"$f":"(\"0905260222\")","v":"0905260222"}]
["鶴居ＳＳＳ_11","鶴居ＳＳＳ",{"$f":"(\"11\")","v":"11"},"MF","長野　瑛心","ナガノ　エイシン",6,"男子",{"$f":"(\"0910230084\")","v":"0910230084"}]
["鶴居ＳＳＳ_12","鶴居ＳＳＳ",{"$f":"(\"12\")","v":"12"},"GK","岩久　慶人","イワヒサ　ケイト",5,"男子",{"$f":"(\"1009100133\")","v":"1009100133"}]
["鶴居ＳＳＳ_13","鶴居ＳＳＳ",{"$f":"(\"13\")","v":"13"},"MF","吉本　悠純樹","ヨシモト　ユズキ",5,"男子",{"$f":"(\"1007150154\")","v":"1007150154"}]
["鶴居ＳＳＳ_14","鶴居ＳＳＳ",{"$f":"(\"14\")","v":"14"},"DF","吉岡　愛惺","ヨシオカ　アイセイ",5,"男子",{"$f":"(\"1009130153\")","v":"1009130153"}]
["鶴居ＳＳＳ_15","鶴居ＳＳＳ",{"$f":"(\"15\")","v":"15"},"MF","永松　銀河","ナガマツ　ギンガ",6,"男子",{"$f":"(\"0909200062\")","v":"0909200062"},"○"]
["鶴居ＳＳＳ_16","鶴居ＳＳＳ",{"$f":"(\"16\")","v":"16"},"DF","安武　龍司","ヤスタケ　リュウシ",5,"男子",{"$f":"(\"1101090097\")","v":"1101090097"}]
["ＦＣ大野_4","ＦＣ大野",{"$f":"(\"4\")","v":"4"},"MF","麻生　結実","アソウ　ユウミ",4,"女子小学生",{"$f":"(\"1109100075\")","v":"1109100075"}]
["ＦＣ大野_5","ＦＣ大野",{"$f":"(\"5\")","v":"5"},"FW","後藤　莉温","ゴトウ　リオン",6,"男子",{"$f":"(\"0912060150\")","v":"0912060150"}]
["ＦＣ大野_6","ＦＣ大野",{"$f":"(\"6\")","v":"6"},"FW","伊東　つきの","イトウ　ツキノ",6,"女子小学生",{"$f":"(\"0911140160\")","v":"0911140160"}]
["ＦＣ大野_7","ＦＣ大野",{"$f":"(\"7\")","v":"7"},"MF","日坂　祐翔","ヒサカ　ヒロト",6,"男子",{"$f":"(\"0912080037\")","v":"0912080037"}]
["ＦＣ大野_9","ＦＣ大野",{"$f":"(\"9\")","v":"9"},"DF","首藤　涼太","シュトウ　リョウタ",6,"男子",{"$f":"(\"0907040025\")","v":"0907040025"}]
["ＦＣ大野_10","ＦＣ大野",{"$f":"(\"10\")","v":"10"},"FW","小野　涼成","オノ　リョウセイ",6,"男子",{"$f":"(\"0910060089\")","v":"0910060089"},"○"]
["ＦＣ大野_11","ＦＣ大野",{"$f":"(\"11\")","v":"11"},"DF","臼杵　奏珀","ウスキ　ソウハク",5,"男子",{"$f":"(\"1007050122\")","v":"1007050122"}]
["ＦＣ大野_12","ＦＣ大野",{"$f":"(\"12\")","v":"12"},"DF","遠矢　楓斗","トオヤ　フウト",4,"男子",{"$f":"(\"1107080030\")","v":"1107080030"}]
["ＦＣ大野_13","ＦＣ大野",{"$f":"(\"13\")","v":"13"},"MF","國師　夢芽","コクシ　ユメ",6,"女子小学生",{"$f":"(\"0907100214\")","v":"0907100214"}]
["ＦＣ大野_14","ＦＣ大野",{"$f":"(\"14\")","v":"14"},"DF","廣瀬　遼真","ヒロセ　ハルマ",5,"男子",{"$f":"(\"1101200160\")","v":"1101200160"}]
["ＦＣ大野_16","ＦＣ大野",{"$f":"(\"16\")","v":"16"},"GK","高橋　颯志","タカハシ　ソウシ",4,"男子",{"$f":"(\"1106090030\")","v":"1106090030"}]
["ＦＣ大野_17","ＦＣ大野",{"$f":"(\"17\")","v":"17"},"DF","南部　寧々杷","ナンブ　ネネハ",6,"女子小学生",{"$f":"(\"0905200200\")","v":"0905200200"}]
["ＦＣ大野_19","ＦＣ大野",{"$f":"(\"19\")","v":"19"},"FW","甲斐　晶","カイ　アキラ",3,"男子",{"$f":"(\"1301290031\")","v":"1301290031"}]
["ＦＣ大野_20","ＦＣ大野",{"$f":"(\"20\")","v":"20"},"MF","大森　仁貴","オオモリ　ヒトキ",6,"男子",{"$f":"(\"0907030167\")","v":"0907030167"}]
["鶴見ジュニアサッカークラブ_1","鶴見ジュニアサッカークラブ",{"$f":"(\"1\")","v":"1"},"GK","永井　彰","ナガイ　アキラ",6,"男子",{"$f":"(\"0905110089\")","v":"0905110089"}]
["鶴見ジュニアサッカークラブ_2","鶴見ジュニアサッカークラブ",{"$f":"(\"2\")","v":"2"},"MF","諸富　神彪","モロトミ　タイガ",5,"男子",{"$f":"(\"1004100169\")","v":"1004100169"}]
["鶴見ジュニアサッカークラブ_3","鶴見ジュニアサッカークラブ",{"$f":"(\"3\")","v":"3"},"MF","田川　喜隆","タガワ　キリュウ",5,"男子",{"$f":"(\"1101100035\")","v":"1101100035"}]
["鶴見ジュニアサッカークラブ_4","鶴見ジュニアサッカークラブ",{"$f":"(\"4\")","v":"4"},"MF","寺村　はな","テラムラ　ハナ",5,"女子小学生",{"$f":"(\"1103140117\")","v":"1103140117"}]
["鶴見ジュニアサッカークラブ_5","鶴見ジュニアサッカークラブ",{"$f":"(\"5\")","v":"5"},"MF","今吉　陸來","イマヨシ　リク",6,"男子",{"$f":"(\"0905170041\")","v":"0905170041"}]
["鶴見ジュニアサッカークラブ_6","鶴見ジュニアサッカークラブ",{"$f":"(\"6\")","v":"6"},"MF","福本　翔大","フクモト　ショウタ",6,"男子",{"$f":"(\"0912070078\")","v":"0912070078"}]
["鶴見ジュニアサッカークラブ_7","鶴見ジュニアサッカークラブ",{"$f":"(\"7\")","v":"7"},"MF","田原　響","タハラ　ヒビキ",6,"男子",{"$f":"(\"0905090186\")","v":"0905090186"}]
["鶴見ジュニアサッカークラブ_8","鶴見ジュニアサッカークラブ",{"$f":"(\"8\")","v":"8"},"MF","仲野　禅海","ナカノ　ゼンカイ",6,"男子",{"$f":"(\"0910140065\")","v":"0910140065"}]
["鶴見ジュニアサッカークラブ_9","鶴見ジュニアサッカークラブ",{"$f":"(\"9\")","v":"9"},"MF","木村　優月","キムラ　ユヅキ",6,"女子小学生",{"$f":"(\"1002100070\")","v":"1002100070"}]
["鶴見ジュニアサッカークラブ_10","鶴見ジュニアサッカークラブ",{"$f":"(\"10\")","v":"10"},"MF","鶴河　大翔","ツルカワ　ヤマト",6,"男子",{"$f":"(\"0909180082\")","v":"0909180082"},"○"]
["鶴見ジュニアサッカークラブ_11","鶴見ジュニアサッカークラブ",{"$f":"(\"11\")","v":"11"},"MF","矢治　雅弘","ヤジ　マサヒロ",6,"男子",{"$f":"(\"0911210063\")","v":"0911210063"}]
["鶴見ジュニアサッカークラブ_13","鶴見ジュニアサッカークラブ",{"$f":"(\"13\")","v":"13"},"MF","石井　悠暉","イシイ　ユウキ",5,"男子",{"$f":"(\"1012060127\")","v":"1012060127"}]
["鶴見ジュニアサッカークラブ_15","鶴見ジュニアサッカークラブ",{"$f":"(\"15\")","v":"15"},"MF","江藤　碧依","エトウ　アオイ",5,"男子",{"$f":"(\"1011110168\")","v":"1011110168"}]
["大平山アソシエーション式フットボールクラブ_1","大平山アソシエーション式フットボールクラブ",{"$f":"(\"1\")","v":"1"},"GK","谷　悠真","タニ　ユウマ",6,"男子",{"$f":"(\"0908110202\")","v":"0908110202"}]
["大平山アソシエーション式フットボールクラブ_2","大平山アソシエーション式フットボールクラブ",{"$f":"(\"2\")","v":"2"},"DF","浅越　勇駕","アサゴエ　ユウガ",6,"男子",{"$f":"(\"0909100089\")","v":"0909100089"}]
["大平山アソシエーション式フットボールクラブ_3","大平山アソシエーション式フットボールクラブ",{"$f":"(\"3\")","v":"3"},"FW","森　悠莉","モリ　ユウリ",5,"女子小学生",{"$f":"(\"1008110084\")","v":"1008110084"}]
["大平山アソシエーション式フットボールクラブ_4","大平山アソシエーション式フットボールクラブ",{"$f":"(\"4\")","v":"4"},"FW","瀧石　水","タキイシ　スイ",6,"女子小学生",{"$f":"(\"1001110118\")","v":"1001110118"}]
[{"$f":"CONCATENATE(B257,\"_\",C257)","v":"大平山アソシエーション式フットボールクラブ_5"},"大平山アソシエーション式フットボールクラブ",{"$f":"(\"5\")","v":"5"},"FW","宮本　武虎","ミヤモト　タケトラ",6,"男子",{"$f":"(\"0911240075\")","v":"0911240075"}]
["大平山アソシエーション式フットボールクラブ_6","大平山アソシエーション式フットボールクラブ",{"$f":"(\"6\")","v":"6"},"FW","栁井　彩乃","ヤナイ　アヤノ",5,"女子小学生",{"$f":"(\"1004210113\")","v":"1004210113"}]
["大平山アソシエーション式フットボールクラブ_7","大平山アソシエーション式フットボールクラブ",{"$f":"(\"7\")","v":"7"},"FW","馬場　愛梨","ババ　アイリ",6,"女子小学生",{"$f":"(\"0906040097\")","v":"0906040097"}]
["大平山アソシエーション式フットボールクラブ_8","大平山アソシエーション式フットボールクラブ",{"$f":"(\"8\")","v":"8"},"FW","岩崎　結子","イワサキ　ユウコ",6,"女子小学生",{"$f":"(\"0906240078\")","v":"0906240078"}]
["大平山アソシエーション式フットボールクラブ_10","大平山アソシエーション式フットボールクラブ",{"$f":"(\"10\")","v":"10"},"DF","出利葉　瑛太","イデリハ　エイタ",6,"男子",{"$f":"(\"0911070070\")","v":"0911070070"},"○"]
["大平山アソシエーション式フットボールクラブ_22","大平山アソシエーション式フットボールクラブ",{"$f":"(\"22\")","v":"22"},"FW","重黒木　翔士","ジュウクロギ　ショウジ",4,"男子",{"$f":"(\"1201080093\")","v":"1201080093"}]
["大平山アソシエーション式フットボールクラブ_23","大平山アソシエーション式フットボールクラブ",{"$f":"(\"23\")","v":"23"},"FW","瀧石　十雲","タキイシ　シュウ",4,"男子",{"$f":"(\"1107240161\")","v":"1107240161"}]
["大平山アソシエーション式フットボールクラブ_24","大平山アソシエーション式フットボールクラブ",{"$f":"(\"24\")","v":"24"},"FW","坂本　蓮","サカモト　レン",4,"男子",{"$f":"(\"1111180165\")","v":"1111180165"}]
["大平山アソシエーション式フットボールクラブ_25","大平山アソシエーション式フットボールクラブ",{"$f":"(\"25\")","v":"25"},"FW","櫻井　仁士","サクライ　トシ",4,"男子",{"$f":"(\"1111070156\")","v":"1111070156"}]
["大平山アソシエーション式フットボールクラブ_26","大平山アソシエーション式フットボールクラブ",{"$f":"(\"26\")","v":"26"},"FW","後藤　志劉","ゴトウ　シリュウ",4,"男子",{"$f":"(\"1108280147\")","v":"1108280147"}]
["大平山アソシエーション式フットボールクラブ_27","大平山アソシエーション式フットボールクラブ",{"$f":"(\"27\")","v":"27"},"FW","宮本　龍之介","ミヤモト　リュウノスケ",3,"男子",{"$f":"(\"1212270088\")","v":"1212270088"}]
["大平山アソシエーション式フットボールクラブ_28","大平山アソシエーション式フットボールクラブ",{"$f":"(\"28\")","v":"28"},"FW","大野　陽平","オオノ　ヨウヘイ",3,"男子",{"$f":"(\"1302050066\")","v":"1302050066"}]
["大平山アソシエーション式フットボールクラブ　Ｇｏ　ｆｏｒ　２０２３_9","大平山アソシエーション式フットボールクラブ　Ｇｏ　ｆｏｒ　２０２３",{"$f":"(\"9\")","v":"9"},"FW","原田　脩平","ハラダ　シュウヘイ",5,"男子",{"$f":"(\"1007060109\")","v":"1007060109"}]
["大平山アソシエーション式フットボールクラブ　Ｇｏ　ｆｏｒ　２０２３_11","大平山アソシエーション式フットボールクラブ　Ｇｏ　ｆｏｒ　２０２３",{"$f":"(\"11\")","v":"11"},"DF","戸田　瑛斗","トダ　アキト",5,"男子",{"$f":"(\"1009140117\")","v":"1009140117"},"○"]
["大平山アソシエーション式フットボールクラブ　Ｇｏ　ｆｏｒ　２０２３_12","大平山アソシエーション式フットボールクラブ　Ｇｏ　ｆｏｒ　２０２３",{"$f":"(\"12\")","v":"12"},"FW","中原　宗一朗","ナカハラ　ソウイチロウ",5,"男子",{"$f":"(\"1101220068\")","v":"1101220068"}]
["大平山アソシエーション式フットボールクラブ　Ｇｏ　ｆｏｒ　２０２３_13","大平山アソシエーション式フットボールクラブ　Ｇｏ　ｆｏｒ　２０２３",{"$f":"(\"13\")","v":"13"},"DF","谷　逞斗","タニ　タクト",5,"男子",{"$f":"(\"1101040093\")","v":"1101040093"}]
["大平山アソシエーション式フットボールクラブ　Ｇｏ　ｆｏｒ　２０２３_14","大平山アソシエーション式フットボールクラブ　Ｇｏ　ｆｏｒ　２０２３",{"$f":"(\"14\")","v":"14"},"FW","笹原　歩夢","ササハラ　アユム",5,"男子",{"$f":"(\"1006060093\")","v":"1006060093"}]
["大平山アソシエーション式フットボールクラブ　Ｇｏ　ｆｏｒ　２０２３_15","大平山アソシエーション式フットボールクラブ　Ｇｏ　ｆｏｒ　２０２３",{"$f":"(\"15\")","v":"15"},"FW","定平　柊","サダヒラ　シュウ",5,"男子",{"$f":"(\"1010190112\")","v":"1010190112"}]
["大平山アソシエーション式フットボールクラブ　Ｇｏ　ｆｏｒ　２０２３_16","大平山アソシエーション式フットボールクラブ　Ｇｏ　ｆｏｒ　２０２３",{"$f":"(\"16\")","v":"16"},"GK","工藤　桜志","クドウ　オウシ",4,"男子",{"$f":"(\"1203290102\")","v":"1203290102"}]
["大平山アソシエーション式フットボールクラブ　Ｇｏ　ｆｏｒ　２０２３_17","大平山アソシエーション式フットボールクラブ　Ｇｏ　ｆｏｒ　２０２３",{"$f":"(\"17\")","v":"17"},"FW","林　翔大","ハヤシ　ショウタ",4,"男子",{"$f":"(\"1112150137\")","v":"1112150137"}]
["大平山アソシエーション式フットボールクラブ　Ｇｏ　ｆｏｒ　２０２３_18","大平山アソシエーション式フットボールクラブ　Ｇｏ　ｆｏｒ　２０２３",{"$f":"(\"18\")","v":"18"},"FW","和田　一真","ワダ　カズマ",4,"男子",{"$f":"(\"1201170148\")","v":"1201170148"}]
["大平山アソシエーション式フットボールクラブ　Ｇｏ　ｆｏｒ　２０２３_19","大平山アソシエーション式フットボールクラブ　Ｇｏ　ｆｏｒ　２０２３",{"$f":"(\"19\")","v":"19"},"FW","宗岡　周護郎","ムナオカ　シュウゴロウ",4,"男子",{"$f":"(\"1112100138\")","v":"1112100138"}]
["大平山アソシエーション式フットボールクラブ　Ｇｏ　ｆｏｒ　２０２３_20","大平山アソシエーション式フットボールクラブ　Ｇｏ　ｆｏｒ　２０２３",{"$f":"(\"20\")","v":"20"},"FW","工藤　豪汰","クドウ　ゴウタ",4,"男子",{"$f":"(\"1109090171\")","v":"1109090171"}]
["大平山アソシエーション式フットボールクラブ　Ｇｏ　ｆｏｒ　２０２３_21","大平山アソシエーション式フットボールクラブ　Ｇｏ　ｆｏｒ　２０２３",{"$f":"(\"21\")","v":"21"},"FW","吉田　湊","ヨシダ　ミナト",4,"男子",{"$f":"(\"1105280120\")","v":"1105280120"}]
["緑丘サッカースポーツ少年団_1","緑丘サッカースポーツ少年団",{"$f":"(\"1\")","v":"1"},"GK","寶亀　翔紀","ホウキ　トキ",6,"男子",{"$f":"(\"0911150075\")","v":"0911150075"}]
["緑丘サッカースポーツ少年団_2","緑丘サッカースポーツ少年団",{"$f":"(\"2\")","v":"2"},"FW","杉本　勇聖","スギモト　ユウセイ",5,"男子",{"$f":"(\"1008070181\")","v":"1008070181"}]
["緑丘サッカースポーツ少年団_3","緑丘サッカースポーツ少年団",{"$f":"(\"3\")","v":"3"},"DF","坂田　碧琉","サカタ　アイル",5,"男子",{"$f":"(\"1007030156\")","v":"1007030156"}]
["緑丘サッカースポーツ少年団_4","緑丘サッカースポーツ少年団",{"$f":"(\"4\")","v":"4"},"MF","本田　汐音","ホンダ　シオン",6,"男子",{"$f":"(\"0905070131\")","v":"0905070131"}]
["緑丘サッカースポーツ少年団_5","緑丘サッカースポーツ少年団",{"$f":"(\"5\")","v":"5"},"FW","酒井　琉生","サカイ　ルキ",5,"男子",{"$f":"(\"1005150206\")","v":"1005150206"}]
["緑丘サッカースポーツ少年団_6","緑丘サッカースポーツ少年団",{"$f":"(\"6\")","v":"6"},"MF","豊田　翔汰","トヨダ　ショウタ",6,"男子",{"$f":"(\"0906250134\")","v":"0906250134"}]
["緑丘サッカースポーツ少年団_7","緑丘サッカースポーツ少年団",{"$f":"(\"7\")","v":"7"},"MF","荒金　一騎","アラカネ　イッキ",6,"男子",{"$f":"(\"0906220064\")","v":"0906220064"}]
["緑丘サッカースポーツ少年団_8","緑丘サッカースポーツ少年団",{"$f":"(\"8\")","v":"8"},"DF","平山　迪","ヒラヤマ　ユウ",6,"女子小学生",{"$f":"(\"0908050074\")","v":"0908050074"}]
["緑丘サッカースポーツ少年団_9","緑丘サッカースポーツ少年団",{"$f":"(\"9\")","v":"9"},"MF","下郡　瑛人","シモゴウリ　エイト",6,"男子",{"$f":"(\"1002200049\")","v":"1002200049"}]
["緑丘サッカースポーツ少年団_10","緑丘サッカースポーツ少年団",{"$f":"(\"10\")","v":"10"},"DF","切封　心花","キリフ　ココカ",6,"女子小学生",{"$f":"(\"0909250111\")","v":"0909250111"},"○"]
["緑丘サッカースポーツ少年団_11","緑丘サッカースポーツ少年団",{"$f":"(\"11\")","v":"11"},"MF","旗手　悠也","ハタテ　ユウヤ",5,"男子",{"$f":"(\"1011150141\")","v":"1011150141"}]
["緑丘サッカースポーツ少年団_12","緑丘サッカースポーツ少年団",{"$f":"(\"12\")","v":"12"},"FW","ジョーンズ　真秀","ジョーンズ　マシュウ",5,"男子",{"$f":"(\"1012210145\")","v":"1012210145"}]
["緑丘サッカースポーツ少年団_13","緑丘サッカースポーツ少年団",{"$f":"(\"13\")","v":"13"},"FW","西本　達哉","ニシモト　タツヤ",6,"男子",{"$f":"(\"1003240234\")","v":"1003240234"}]
["緑丘サッカースポーツ少年団_21","緑丘サッカースポーツ少年団",{"$f":"(\"21\")","v":"21"},"GK","衛藤　颯","エトウ　ハヤテ",5,"男子",{"$f":"(\"1008090172\")","v":"1008090172"}]
["Ｓｈｙｎｔ　ＦＣ_1","Ｓｈｙｎｔ　ＦＣ",{"$f":"(\"1\")","v":"1"},"GK","菅原　佑大","スガハラ　ユウタ",5,"男子",{"$f":"(\"1006300150\")","v":"1006300150"}]
["Ｓｈｙｎｔ　ＦＣ_2","Ｓｈｙｎｔ　ＦＣ",{"$f":"(\"2\")","v":"2"},"MF","道祖　光琉","サヤ　ミツル",6,"男子",{"$f":"(\"0912270147\")","v":"0912270147"}]
["Ｓｈｙｎｔ　ＦＣ_3","Ｓｈｙｎｔ　ＦＣ",{"$f":"(\"3\")","v":"3"},"FW","田中　鉄生","タナカ　テッセイ",6,"男子",{"$f":"(\"1003240136\")","v":"1003240136"}]
["Ｓｈｙｎｔ　ＦＣ_4","Ｓｈｙｎｔ　ＦＣ",{"$f":"(\"4\")","v":"4"},"DF","中島　瑞歩","ナカシマ　ミズホ",6,"女子小学生",{"$f":"(\"0905120180\")","v":"0905120180"}]
["Ｓｈｙｎｔ　ＦＣ_5","Ｓｈｙｎｔ　ＦＣ",{"$f":"(\"5\")","v":"5"},"MF","河原　圭汰","カワハラ　ケイタ",6,"男子",{"$f":"(\"0912100171\")","v":"0912100171"}]
["Ｓｈｙｎｔ　ＦＣ_6","Ｓｈｙｎｔ　ＦＣ",{"$f":"(\"6\")","v":"6"},"DF","高藤　煕留","タカフジ　ヒカル",6,"男子",{"$f":"(\"0907110048\")","v":"0907110048"}]
["Ｓｈｙｎｔ　ＦＣ_7","Ｓｈｙｎｔ　ＦＣ",{"$f":"(\"7\")","v":"7"},"MF","田中　陸翔","タナカ　リクト",6,"男子",{"$f":"(\"1001020100\")","v":"1001020100"}]
["Ｓｈｙｎｔ　ＦＣ_8","Ｓｈｙｎｔ　ＦＣ",{"$f":"(\"8\")","v":"8"},"FW","南　彪雅","ミナミ　ヒュウガ",6,"男子",{"$f":"(\"0908020126\")","v":"0908020126"}]
["Ｓｈｙｎｔ　ＦＣ_9","Ｓｈｙｎｔ　ＦＣ",{"$f":"(\"9\")","v":"9"},"DF","東　理一","ヒガシ　リイチ",6,"男子",{"$f":"(\"0907250144\")","v":"0907250144"}]
["Ｓｈｙｎｔ　ＦＣ_10","Ｓｈｙｎｔ　ＦＣ",{"$f":"(\"10\")","v":"10"},"MF","有田　凜久","アリタ　リク",6,"男子",{"$f":"(\"0905040150\")","v":"0905040150"},"○"]
["Ｓｈｙｎｔ　ＦＣ_11","Ｓｈｙｎｔ　ＦＣ",{"$f":"(\"11\")","v":"11"},"MF","小野　海音","オノ　カイト",6,"男子",{"$f":"(\"1003290114\")","v":"1003290114"}]
["Ｓｈｙｎｔ　ＦＣ_12","Ｓｈｙｎｔ　ＦＣ",{"$f":"(\"12\")","v":"12"},"GK","光枝　愛哉","ミツエダ　ヨシヤ",5,"男子",{"$f":"(\"1102160123\")","v":"1102160123"}]
["Ｓｈｙｎｔ　ＦＣ_13","Ｓｈｙｎｔ　ＦＣ",{"$f":"(\"13\")","v":"13"},"FW","光枝　愛一","ミツエダ　アイチ",6,"男子",{"$f":"(\"0906050248\")","v":"0906050248"}]
["Ｓｈｙｎｔ　ＦＣ_14","Ｓｈｙｎｔ　ＦＣ",{"$f":"(\"14\")","v":"14"},"FW","松井　七聖","マツイ　ナナセ",6,"男子",{"$f":"(\"1001260132\")","v":"1001260132"}]
["Ｓｈｙｎｔ　ＦＣ_15","Ｓｈｙｎｔ　ＦＣ",{"$f":"(\"15\")","v":"15"},"MF","西尾　基希","ニシオ　モトキ",5,"男子",{"$f":"(\"1006300074\")","v":"1006300074"}]
["和田少年サッカークラブ_1","和田少年サッカークラブ",{"$f":"(\"1\")","v":"1"},"GK","岩渕　大洋","イワブチ　タイヨウ",5,"男子",{"$f":"(\"1012060025\")","v":"1012060025"}]
["和田少年サッカークラブ_2","和田少年サッカークラブ",{"$f":"(\"2\")","v":"2"},"MF","大新田　柊","オオシンデン　ヒラギ",6,"男子",{"$f":"(\"0911100096\")","v":"0911100096"}]
["和田少年サッカークラブ_3","和田少年サッカークラブ",{"$f":"(\"3\")","v":"3"},"DF","宮脇　豪希","ミヤワキ　ゴウキ",6,"男子",{"$f":"(\"0907100089\")","v":"0907100089"}]
["和田少年サッカークラブ_4","和田少年サッカークラブ",{"$f":"(\"4\")","v":"4"},"DF","宮原　虎太郎","ミヤハラ　コタロウ",6,"男子",{"$f":"(\"1003150055\")","v":"1003150055"}]
["和田少年サッカークラブ_5","和田少年サッカークラブ",{"$f":"(\"5\")","v":"5"},"FW","上城　旬","カミジョウ　シュン",6,"男子",{"$f":"(\"0909110177\")","v":"0909110177"}]
["和田少年サッカークラブ_7","和田少年サッカークラブ",{"$f":"(\"7\")","v":"7"},"MF","松本　愛司","マツモト　アイシ",6,"男子",{"$f":"(\"1002200055\")","v":"1002200055"}]
["和田少年サッカークラブ_8","和田少年サッカークラブ",{"$f":"(\"8\")","v":"8"},"FW","奥　小梅","オク　コウメ",6,"女子小学生",{"$f":"(\"1002260102\")","v":"1002260102"}]
["和田少年サッカークラブ_9","和田少年サッカークラブ",{"$f":"(\"9\")","v":"9"},"DF","堤　虎太郎","ツツミ　コタロウ",5,"男子",{"$f":"(\"1009230103\")","v":"1009230103"}]
["和田少年サッカークラブ_10","和田少年サッカークラブ",{"$f":"(\"10\")","v":"10"},"DF","田中　一颯","タナカ　イブキ",5,"男子",{"$f":"(\"1012240197\")","v":"1012240197"}]
["和田少年サッカークラブ_11","和田少年サッカークラブ",{"$f":"(\"11\")","v":"11"},"MF","福田　雲雀","フクダ　ヒバリ",5,"男子",{"$f":"(\"1103070115\")","v":"1103070115"}]
["和田少年サッカークラブ_12","和田少年サッカークラブ",{"$f":"(\"12\")","v":"12"},"GK","高橋　理夢","タカハシ　リム",5,"男子",{"$f":"(\"1006220215\")","v":"1006220215"}]
[{"$f":"CONCATENATE(B321,\"_\",C321)","v":"和田少年サッカークラブ_13"},"和田少年サッカークラブ",{"$f":"(\"13\")","v":"13"},"MF","畑辺　喜一","ハタベ　キイチ",6,"男子",{"$f":"(\"0904160011\")","v":"0904160011"},"○"]
["和田少年サッカークラブ_17","和田少年サッカークラブ",{"$f":"(\"17\")","v":"17"},"MF","宮脇　匠志","ミヤワキ　ショウジ",4,"男子",{"$f":"(\"1110080009\")","v":"1110080009"}]
["和田少年サッカークラブ_18","和田少年サッカークラブ",{"$f":"(\"18\")","v":"18"},"FW","古間地　櫻咲","フルマジ　ハル",4,"男子",{"$f":"(\"1105230105\")","v":"1105230105"}]
["和田少年サッカークラブ_19","和田少年サッカークラブ",{"$f":"(\"19\")","v":"19"},"MF","邑本　一真","ムラモト　カズマ",4,"男子",{"$f":"(\"1106150091\")","v":"1106150091"}]
["和田少年サッカークラブ_20","和田少年サッカークラブ",{"$f":"(\"20\")","v":"20"},"MF","奥　蒼太","オク　ソウタ",4,"男子",{"$f":"(\"1201220004\")","v":"1201220004"}]
["下毛ＦＣ_1","下毛ＦＣ",{"$f":"(\"1\")","v":"1"},"GK","山本　寿輝","ヤマモト　トシキ",4,"男子",{"$f":"(\"1203240015\")","v":"1203240015"}]
["下毛ＦＣ_2","下毛ＦＣ",{"$f":"(\"2\")","v":"2"},"DF","中島　凜人","ナカシマ　リヒト",6,"男子",{"$f":"(\"0904090202\")","v":"0904090202"}]
["下毛ＦＣ_3","下毛ＦＣ",{"$f":"(\"3\")","v":"3"},"DF","松井　暖","マツイ　ヒナタ",5,"男子",{"$f":"(\"1005250023\")","v":"1005250023"}]
["下毛ＦＣ_4","下毛ＦＣ",{"$f":"(\"4\")","v":"4"},"DF","吉岡　剛星","ヨシオカ　ゴウセイ",6,"男子",{"$f":"(\"0911120017\")","v":"0911120017"}]
["下毛ＦＣ_5","下毛ＦＣ",{"$f":"(\"5\")","v":"5"},"DF","堂上　春希","ドウジョウ　ハルキ",5,"男子",{"$f":"(\"1101080011\")","v":"1101080011"}]
["下毛ＦＣ_6","下毛ＦＣ",{"$f":"(\"6\")","v":"6"},"FW","山下　空大","ヤマシタ　ソラタ",5,"男子",{"$f":"(\"1009170122\")","v":"1009170122"}]
["下毛ＦＣ_7","下毛ＦＣ",{"$f":"(\"7\")","v":"7"},"MF","伊藤　翔大","イトウ　ショウタ",6,"男子",{"$f":"(\"0910250045\")","v":"0910250045"}]
["下毛ＦＣ_8","下毛ＦＣ",{"$f":"(\"8\")","v":"8"},"FW","馬出　蒼士","ウマデ　ソウシ",5,"男子",{"$f":"(\"1006070037\")","v":"1006070037"}]
["下毛ＦＣ_9","下毛ＦＣ",{"$f":"(\"9\")","v":"9"},"MF","村上　弘樹","ムラカミ　ヒロキ",5,"男子",{"$f":"(\"1011110073\")","v":"1011110073"}]
["下毛ＦＣ_10","下毛ＦＣ",{"$f":"(\"10\")","v":"10"},"MF","松野　悠翔","マツノ　ユウト",6,"男子",{"$f":"(\"0910120010\")","v":"0910120010"},"○"]
["下毛ＦＣ_11","下毛ＦＣ",{"$f":"(\"11\")","v":"11"},"MF","菅川　惺","スガワ　セラ",4,"男子",{"$f":"(\"1111110032\")","v":"1111110032"}]
["下毛ＦＣ_12","下毛ＦＣ",{"$f":"(\"12\")","v":"12"},"MF","山本　光城","ヤマモト　ミツキ",5,"男子",{"$f":"(\"1009070116\")","v":"1009070116"}]
["下毛ＦＣ_13","下毛ＦＣ",{"$f":"(\"13\")","v":"13"},"MF","岩下　大翔","イワシタ　ヒロト",5,"男子",{"$f":"(\"1012310062\")","v":"1012310062"}]
["下毛ＦＣ_14","下毛ＦＣ",{"$f":"(\"14\")","v":"14"},"DF","森脇　琥太郎","モリワキ　コタロウ",4,"男子",{"$f":"(\"1202260009\")","v":"1202260009"}]
["中津豊南ＦＣ_1","中津豊南ＦＣ",{"$f":"(\"1\")","v":"1"},"GK","出口　大雅","デグチ　タイガ",5,"男子",{"$f":"(\"1012060133\")","v":"1012060133"}]
["中津豊南ＦＣ_2","中津豊南ＦＣ",{"$f":"(\"2\")","v":"2"},"MF","山本　拓真","ヤマモト　タクマ",4,"男子",{"$f":"(\"1104140105\")","v":"1104140105"}]
["中津豊南ＦＣ_3","中津豊南ＦＣ",{"$f":"(\"3\")","v":"3"},"DF","菅野　泰雅","スガノ　タイガ",5,"男子",{"$f":"(\"1010140183\")","v":"1010140183"}]
["中津豊南ＦＣ_4","中津豊南ＦＣ",{"$f":"(\"4\")","v":"4"},"DF","野依　千夏","ノヨリ　チナ",5,"女子小学生",{"$f":"(\"1006030159\")","v":"1006030159"}]
["中津豊南ＦＣ_5","中津豊南ＦＣ",{"$f":"(\"5\")","v":"5"},"MF","中島　諒子","ナカシマ　リョウコ",5,"女子小学生",{"$f":"(\"1008110160\")","v":"1008110160"}]
["中津豊南ＦＣ_6","中津豊南ＦＣ",{"$f":"(\"6\")","v":"6"},"MF","小洞　花穂","コドウ　カホ",5,"女子小学生",{"$f":"(\"1006240161\")","v":"1006240161"}]
["中津豊南ＦＣ_7","中津豊南ＦＣ",{"$f":"(\"7\")","v":"7"},"MF","稲熊　海成","イナグマ　カイセイ",5,"男子",{"$f":"(\"1007150143\")","v":"1007150143"}]
["中津豊南ＦＣ_8","中津豊南ＦＣ",{"$f":"(\"8\")","v":"8"},"DF","宮崎　雄大","ミヤザキ　ユウダイ",6,"男子",{"$f":"(\"0906210163\")","v":"0906210163"}]
["中津豊南ＦＣ_9","中津豊南ＦＣ",{"$f":"(\"9\")","v":"9"},"FW","貴戸　遥翔","キド　ハルト",6,"男子",{"$f":"(\"0908140184\")","v":"0908140184"}]
["中津豊南ＦＣ_10","中津豊南ＦＣ",{"$f":"(\"10\")","v":"10"},"MF","木元　湧大","キモト　ユウダイ",6,"男子",{"$f":"(\"0904140040\")","v":"0904140040"},"○"]
["中津豊南ＦＣ_11","中津豊南ＦＣ",{"$f":"(\"11\")","v":"11"},"DF","渡邊　伶","ワタナベ　レイ",6,"男子",{"$f":"(\"0911110041\")","v":"0911110041"}]
["中津豊南ＦＣ_12","中津豊南ＦＣ",{"$f":"(\"12\")","v":"12"},"DF","貴戸　晟吾","キド　セイゴ",4,"男子",{"$f":"(\"1110170124\")","v":"1110170124"}]
["中津沖代ＪＳＣ_1","中津沖代ＪＳＣ",{"$f":"(\"1\")","v":"1"},"GK","佐々木　碧音","ササキ　アオト",6,"男子",{"$f":"(\"0909280068\")","v":"0909280068"}]
["中津沖代ＪＳＣ_2","中津沖代ＪＳＣ",{"$f":"(\"2\")","v":"2"},"DF","門田　一路","カドタ　イチロ",5,"男子",{"$f":"(\"1007190019\")","v":"1007190019"}]
["中津沖代ＪＳＣ_3","中津沖代ＪＳＣ",{"$f":"(\"3\")","v":"3"},"DF","松下　颯真","マツシタ　ソウマ",5,"男子",{"$f":"(\"1012080071\")","v":"1012080071"}]
["中津沖代ＪＳＣ_4","中津沖代ＪＳＣ",{"$f":"(\"4\")","v":"4"},"DF","江田　博太朗","コウダ　ヒロタロウ",5,"男子",{"$f":"(\"1004220104\")","v":"1004220104"}]
["中津沖代ＪＳＣ_5","中津沖代ＪＳＣ",{"$f":"(\"5\")","v":"5"},"MF","笹原　翔太郎","ササハラ　ショウタロウ",5,"男子",{"$f":"(\"1004020105\")","v":"1004020105"}]
["中津沖代ＪＳＣ_6","中津沖代ＪＳＣ",{"$f":"(\"6\")","v":"6"},"FW","高木　想太","タカキ　ソウタ",6,"男子",{"$f":"(\"1001220074\")","v":"1001220074"}]
["中津沖代ＪＳＣ_7","中津沖代ＪＳＣ",{"$f":"(\"7\")","v":"7"},"FW","向田　颯太郎","ムコウダ　ソウタロウ",5,"男子",{"$f":"(\"1010150082\")","v":"1010150082"}]
["中津沖代ＪＳＣ_8","中津沖代ＪＳＣ",{"$f":"(\"8\")","v":"8"},"DF","森田　耀介","モリタ　ヨウスケ",6,"男子",{"$f":"(\"0904050188\")","v":"0904050188"}]
["中津沖代ＪＳＣ_9","中津沖代ＪＳＣ",{"$f":"(\"9\")","v":"9"},"MF","藤丸　未桜","フジマル　ミオ",6,"女子小学生",{"$f":"(\"1003310078\")","v":"1003310078"}]
["中津沖代ＪＳＣ_10","中津沖代ＪＳＣ",{"$f":"(\"10\")","v":"10"},"MF","太田　康介","オオタ　コウスケ",6,"男子",{"$f":"(\"0909280067\")","v":"0909280067"},"○"]
["中津沖代ＪＳＣ_11","中津沖代ＪＳＣ",{"$f":"(\"11\")","v":"11"},"DF","井手　碧","イデ　アオイ",6,"男子",{"$f":"(\"0907220078\")","v":"0907220078"}]
["中津沖代ＪＳＣ_12","中津沖代ＪＳＣ",{"$f":"(\"12\")","v":"12"},"FW","堀部　翔太","ホリベ　ショウタ",4,"男子",{"$f":"(\"1203190050\")","v":"1203190050"}]
["中津沖代ＪＳＣ_13","中津沖代ＪＳＣ",{"$f":"(\"13\")","v":"13"},"GK","川野　泰雅","カワノ　タイガ",5,"男子",{"$f":"(\"1103150156\")","v":"1103150156"}]
["中津沖代ＪＳＣ_14","中津沖代ＪＳＣ",{"$f":"(\"14\")","v":"14"},"MF","高比良　飛吹","タカヒラ　イブキ",4,"男子",{"$f":"(\"1104190114\")","v":"1104190114"}]
["東大分サッカースポーツ少年団_1","東大分サッカースポーツ少年団",{"$f":"(\"1\")","v":"1"},"GK","山口　律","ヤマグチ　リツ",5,"男子",{"$f":"(\"1012010113\")","v":"1012010113"}]
["東大分サッカースポーツ少年団_2","東大分サッカースポーツ少年団",{"$f":"(\"2\")","v":"2"},"DF","村上　瑛翔","ムラカミ　エイト",4,"男子",{"$f":"(\"1112280085\")","v":"1112280085"}]
["東大分サッカースポーツ少年団_3","東大分サッカースポーツ少年団",{"$f":"(\"3\")","v":"3"},"FW","立川　格","タツカワ　イタル",4,"男子",{"$f":"(\"1201120106\")","v":"1201120106"}]
["東大分サッカースポーツ少年団_4","東大分サッカースポーツ少年団",{"$f":"(\"4\")","v":"4"},"DF","深尾　一颯","フカオ　イブキ",5,"男子",{"$f":"(\"1004180098\")","v":"1004180098"}]
["東大分サッカースポーツ少年団_5","東大分サッカースポーツ少年団",{"$f":"(\"5\")","v":"5"},"MF","堤　和杜","ツツミ　カズト",5,"男子",{"$f":"(\"1006190038\")","v":"1006190038"}]
["東大分サッカースポーツ少年団_6","東大分サッカースポーツ少年団",{"$f":"(\"6\")","v":"6"},"FW","塩崎　一夏","シオザキ　イチカ",5,"男子",{"$f":"(\"1007080152\")","v":"1007080152"}]
["東大分サッカースポーツ少年団_7","東大分サッカースポーツ少年団",{"$f":"(\"7\")","v":"7"},"MF","今井　龍之介","イマイ　リュウノスケ",5,"男子",{"$f":"(\"1008240051\")","v":"1008240051"}]
["東大分サッカースポーツ少年団_8","東大分サッカースポーツ少年団",{"$f":"(\"8\")","v":"8"},"DF","木谷　灯吾","キタニ　トウゴ",5,"男子",{"$f":"(\"1102240088\")","v":"1102240088"}]
["東大分サッカースポーツ少年団_9","東大分サッカースポーツ少年団",{"$f":"(\"9\")","v":"9"},"DF","平井　桜晴","ヒライ　オウセイ",6,"男子",{"$f":"(\"0911090198\")","v":"0911090198"}]
["東大分サッカースポーツ少年団_10","東大分サッカースポーツ少年団",{"$f":"(\"10\")","v":"10"},"DF","幸　拓磨","ユキ　タクマ",6,"男子",{"$f":"(\"1002090166\")","v":"1002090166"}]
["東大分サッカースポーツ少年団_11","東大分サッカースポーツ少年団",{"$f":"(\"11\")","v":"11"},"MF","立川　粋人","タツカワ　キヨト",6,"男子",{"$f":"(\"1003160126\")","v":"1003160126"},"○"]
["東大分サッカースポーツ少年団_12","東大分サッカースポーツ少年団",{"$f":"(\"12\")","v":"12"},"MF","山口　蒼空","ヤマグチ　ソラ",4,"男子",{"$f":"(\"1109050129\")","v":"1109050129"}]
["東大分サッカースポーツ少年団_16","東大分サッカースポーツ少年団",{"$f":"(\"16\")","v":"16"},"FW","津行　陽斗","ツユキ　ハルト",6,"男子",{"$f":"(\"0909080195\")","v":"0909080195"}]
["千怒サッカースポーツ少年団_1","千怒サッカースポーツ少年団",{"$f":"(\"1\")","v":"1"},"GK","石井　湊人","イシイ　ミナト",6,"男子",{"$f":"(\"0904230118\")","v":"0904230118"}]
["千怒サッカースポーツ少年団_2","千怒サッカースポーツ少年団",{"$f":"(\"2\")","v":"2"},"MF","有永　夏基","アリナガ　ナツキ",6,"男子",{"$f":"(\"0907180012\")","v":"0907180012"},"○"]
["千怒サッカースポーツ少年団_3","千怒サッカースポーツ少年団",{"$f":"(\"3\")","v":"3"},"FW","山本　蒼","ヤマモト　ソウ",5,"男子",{"$f":"(\"1005160089\")","v":"1005160089"}]
["千怒サッカースポーツ少年団_4","千怒サッカースポーツ少年団",{"$f":"(\"4\")","v":"4"},"DF","仲　凌生","ナカ　リョウセイ",5,"男子",{"$f":"(\"1009030008\")","v":"1009030008"}]
["千怒サッカースポーツ少年団_5","千怒サッカースポーツ少年団",{"$f":"(\"5\")","v":"5"},"DF","岩﨑　冬輝","イワサキ　トウキ",5,"男子",{"$f":"(\"1101160021\")","v":"1101160021"}]
["千怒サッカースポーツ少年団_7","千怒サッカースポーツ少年団",{"$f":"(\"7\")","v":"7"},"MF","小手川　耀","コテガワ　ヨウ",5,"男子",{"$f":"(\"1009160012\")","v":"1009160012"}]
[{"$f":"CONCATENATE(B385,\"_\",C385)","v":"千怒サッカースポーツ少年団_8"},"千怒サッカースポーツ少年団",{"$f":"(\"8\")","v":"8"},"MF","石谷　悠二郎","イシタニ　ユウジロウ",6,"男子",{"$f":"(\"0906140026\")","v":"0906140026"}]
["千怒サッカースポーツ少年団_9","千怒サッカースポーツ少年団",{"$f":"(\"9\")","v":"9"},"FW","堀口　滉太","ホリグチ　コウタ",6,"男子",{"$f":"(\"0908120016\")","v":"0908120016"}]
["千怒サッカースポーツ少年団_10","千怒サッカースポーツ少年団",{"$f":"(\"10\")","v":"10"},"DF","岩﨑　蓮","イワサキ　レン",6,"男子",{"$f":"(\"0904220032\")","v":"0904220032"}]
["千怒サッカースポーツ少年団_11","千怒サッカースポーツ少年団",{"$f":"(\"11\")","v":"11"},"MF","上田　彗斗","ウエダ　ケイト",5,"男子",{"$f":"(\"1007300023\")","v":"1007300023"}]
["千怒サッカースポーツ少年団_12","千怒サッカースポーツ少年団",{"$f":"(\"12\")","v":"12"},"DF","西村　鴻志","ニシムラ　コウシ",5,"男子",{"$f":"(\"1006030014\")","v":"1006030014"}]
["千怒サッカースポーツ少年団_13","千怒サッカースポーツ少年団",{"$f":"(\"13\")","v":"13"},"FW","深津　空斗","フカヅ　ソラト",4,"男子",{"$f":"(\"1203080011\")","v":"1203080011"}]
["千怒サッカースポーツ少年団_14","千怒サッカースポーツ少年団",{"$f":"(\"14\")","v":"14"},"GK","内藤　尚音","ナイトウ　ショウオン",4,"男子",{"$f":"(\"1203110022\")","v":"1203110022"}]
["千怒サッカースポーツ少年団_15","千怒サッカースポーツ少年団",{"$f":"(\"15\")","v":"15"},"FW","中平　龍希","ナカヒラ　リュウキ",4,"男子",{"$f":"(\"1203280144\")","v":"1203280144"}]
["鶴見少年サッカークラブ_1","鶴見少年サッカークラブ",{"$f":"(\"1\")","v":"1"},"GK","益留　尊志郎","マスドメ　トウシロウ",4,"男子",{"$f":"(\"1112280024\")","v":"1112280024"}]
["鶴見少年サッカークラブ_2","鶴見少年サッカークラブ",{"$f":"(\"2\")","v":"2"},"MF","塩月　海里","シオツキ　カイリ",6,"男子",{"$f":"(\"1001280081\")","v":"1001280081"}]
["鶴見少年サッカークラブ_3","鶴見少年サッカークラブ",{"$f":"(\"3\")","v":"3"},"MF","岩崎　夢羽","イワサキ　ムウ",6,"女子小学生",{"$f":"(\"0908260224\")","v":"0908260224"}]
["鶴見少年サッカークラブ_4","鶴見少年サッカークラブ",{"$f":"(\"4\")","v":"4"},"MF","関　聖愛","セキ　セラ",6,"女子小学生",{"$f":"(\"0908080078\")","v":"0908080078"}]
["鶴見少年サッカークラブ_5","鶴見少年サッカークラブ",{"$f":"(\"5\")","v":"5"},"DF","廣田　友之介","ヒロタ　ユウノスケ",6,"男子",{"$f":"(\"0906040084\")","v":"0906040084"}]
["鶴見少年サッカークラブ_6","鶴見少年サッカークラブ",{"$f":"(\"6\")","v":"6"},"DF","甲斐　海愛","カイ　ミノリ",6,"男子",{"$f":"(\"0908010003\")","v":"0908010003"}]
["鶴見少年サッカークラブ_7","鶴見少年サッカークラブ",{"$f":"(\"7\")","v":"7"},"MF","石田　悠真","イシダ　ハルマ",6,"男子",{"$f":"(\"0905160020\")","v":"0905160020"}]
["鶴見少年サッカークラブ_8","鶴見少年サッカークラブ",{"$f":"(\"8\")","v":"8"},"DF","安部　漣音","アベ　レオン",6,"男子",{"$f":"(\"0909120072\")","v":"0909120072"}]
["鶴見少年サッカークラブ_9","鶴見少年サッカークラブ",{"$f":"(\"9\")","v":"9"},"MF","百田　翔貴","モモタ　トキ",6,"男子",{"$f":"(\"0904150138\")","v":"0904150138"}]
["鶴見少年サッカークラブ_10","鶴見少年サッカークラブ",{"$f":"(\"10\")","v":"10"},"FW","渡邉　煌雅","ワタナベ　コウガ",6,"男子",{"$f":"(\"0904050087\")","v":"0904050087"},"○"]
["鶴見少年サッカークラブ_11","鶴見少年サッカークラブ",{"$f":"(\"11\")","v":"11"},"MF","神田　龍斗","カンダ　リュウト",6,"男子",{"$f":"(\"0906050013\")","v":"0906050013"}]
["鶴見少年サッカークラブ_12","鶴見少年サッカークラブ",{"$f":"(\"12\")","v":"12"},"FW","笹田　いおり","ササダ　イオリ",6,"男子",{"$f":"(\"0908030022\")","v":"0908030022"}]
["鶴見少年サッカークラブ_13","鶴見少年サッカークラブ",{"$f":"(\"13\")","v":"13"},"DF","波戸崎　武虎","ハトザキ　タケトラ",5,"男子",{"$f":"(\"1012030002\")","v":"1012030002"}]
["鶴見少年サッカークラブ_14","鶴見少年サッカークラブ",{"$f":"(\"14\")","v":"14"},"FW","清家　羽輝","セイケ　ウキ",3,"男子",{"$f":"(\"1206200031\")","v":"1206200031"}]
["鶴見少年サッカークラブ_15","鶴見少年サッカークラブ",{"$f":"(\"15\")","v":"15"},"DF","松岡　逞","マツオカ　タクマ",6,"男子",{"$f":"(\"0908280213\")","v":"0908280213"}]
["鶴見少年サッカークラブ_17","鶴見少年サッカークラブ",{"$f":"(\"17\")","v":"17"},"GK","黒岩　陽","クロイワ　ヒナタ",6,"男子",{"$f":"(\"0912240240\")","v":"0912240240"}]
["弥生少年サッカークラブ_1","弥生少年サッカークラブ",{"$f":"(\"1\")","v":"1"},"GK","松下　直樹","マツシタ　ナオキ",6,"男子",{"$f":"(\"1001170146\")","v":"1001170146"}]
["弥生少年サッカークラブ_2","弥生少年サッカークラブ",{"$f":"(\"2\")","v":"2"},"MF","髙木　りお","タカギ　リオ",5,"女子小学生",{"$f":"(\"1009300125\")","v":"1009300125"}]
["弥生少年サッカークラブ_3","弥生少年サッカークラブ",{"$f":"(\"3\")","v":"3"},"MF","工藤　義夕","クドウ　ヨシユウ",6,"女子小学生",{"$f":"(\"0907020225\")","v":"0907020225"}]
["弥生少年サッカークラブ_4","弥生少年サッカークラブ",{"$f":"(\"4\")","v":"4"},"DF","神崎　陸斗","カンザキ　リクト",5,"男子",{"$f":"(\"1005090034\")","v":"1005090034"}]
["弥生少年サッカークラブ_5","弥生少年サッカークラブ",{"$f":"(\"5\")","v":"5"},"DF","目黒　礼助","メグロ　レイスケ",6,"男子",{"$f":"(\"1001070021\")","v":"1001070021"}]
["弥生少年サッカークラブ_6","弥生少年サッカークラブ",{"$f":"(\"6\")","v":"6"},"DF","林　正温","ハヤシ　セオ",6,"男子",{"$f":"(\"0911020212\")","v":"0911020212"}]
["弥生少年サッカークラブ_7","弥生少年サッカークラブ",{"$f":"(\"7\")","v":"7"},"DF","宮脇　彪瑠","ミヤワキ　タケル",6,"男子",{"$f":"(\"0904100118\")","v":"0904100118"}]
["弥生少年サッカークラブ_8","弥生少年サッカークラブ",{"$f":"(\"8\")","v":"8"},"MF","高木　奏","タカギ　カナデ",6,"男子",{"$f":"(\"0908060027\")","v":"0908060027"}]
["弥生少年サッカークラブ_9","弥生少年サッカークラブ",{"$f":"(\"9\")","v":"9"},"MF","淡路　旺太朗","アワジ　オオタロウ",5,"男子",{"$f":"(\"1012100035\")","v":"1012100035"}]
["弥生少年サッカークラブ_10","弥生少年サッカークラブ",{"$f":"(\"10\")","v":"10"},"FW","田中　愛乃音","タナカ　アノン",6,"女子小学生",{"$f":"(\"0910180135\")","v":"0910180135"},"○"]
["弥生少年サッカークラブ_11","弥生少年サッカークラブ",{"$f":"(\"11\")","v":"11"},"MF","小野　美咲","オノ　ミサキ",6,"女子小学生",{"$f":"(\"1003150032\")","v":"1003150032"}]
["弥生少年サッカークラブ_12","弥生少年サッカークラブ",{"$f":"(\"12\")","v":"12"},"FW","宮脇　陸人","ミヤワキ　リクト",4,"男子",{"$f":"(\"1104020016\")","v":"1104020016"}]
["弥生少年サッカークラブ_13","弥生少年サッカークラブ",{"$f":"(\"13\")","v":"13"},"DF","松下　和樹","マツシタ　カズキ",4,"男子",{"$f":"(\"1202090037\")","v":"1202090037"}]
["弥生少年サッカークラブ_14","弥生少年サッカークラブ",{"$f":"(\"14\")","v":"14"},"MF","岡田　琉希","オカダ　ルキ",4,"男子",{"$f":"(\"1105260072\")","v":"1105260072"}]
["弥生少年サッカークラブ_15","弥生少年サッカークラブ",{"$f":"(\"15\")","v":"15"},"MF","角崎　暖","カクザキ　ハル",4,"男子",{"$f":"(\"1201100032\")","v":"1201100032"}]
["弥生少年サッカークラブ_16","弥生少年サッカークラブ",{"$f":"(\"16\")","v":"16"},"MF","山村　朔人","ヤマムラ　サクト",4,"男子",{"$f":"(\"1104120059\")","v":"1104120059"}]
["上堅田少年サッカークラブ_1","上堅田少年サッカークラブ",{"$f":"(\"1\")","v":"1"},"GK","松下　晃大","マツシタ　コウダイ",6,"男子",{"$f":"(\"0910090105\")","v":"0910090105"},"○"]
["上堅田少年サッカークラブ_3","上堅田少年サッカークラブ",{"$f":"(\"3\")","v":"3"},"DF","大島　佑太","オオシマ　ユウタ",4,"男子",{"$f":"(\"1108200066\")","v":"1108200066"}]
["上堅田少年サッカークラブ_4","上堅田少年サッカークラブ",{"$f":"(\"4\")","v":"4"},"DF","染矢　蒼羽","ソメヤ　アオハ",4,"男子",{"$f":"(\"1202030073\")","v":"1202030073"}]
["上堅田少年サッカークラブ_5","上堅田少年サッカークラブ",{"$f":"(\"5\")","v":"5"},"MF","川部　大和","カワベ　ヤマト",6,"男子",{"$f":"(\"0904220134\")","v":"0904220134"}]
["上堅田少年サッカークラブ_6","上堅田少年サッカークラブ",{"$f":"(\"6\")","v":"6"},"FW","藤原　颯天","フジワラ　ハヤテ",4,"男子",{"$f":"(\"1203140135\")","v":"1203140135"}]
["上堅田少年サッカークラブ_7","上堅田少年サッカークラブ",{"$f":"(\"7\")","v":"7"},"MF","柴田　賢十","シバタ　ケント",4,"男子",{"$f":"(\"1110160061\")","v":"1110160061"}]
["上堅田少年サッカークラブ_8","上堅田少年サッカークラブ",{"$f":"(\"8\")","v":"8"},"DF","秋元　智早","アキモト　チハヤ",5,"男子",{"$f":"(\"1101050027\")","v":"1101050027"}]
["上堅田少年サッカークラブ_9","上堅田少年サッカークラブ",{"$f":"(\"9\")","v":"9"},"MF","染矢　羽琉","ソメヤ　ハル",5,"男子",{"$f":"(\"1010250163\")","v":"1010250163"}]
["上堅田少年サッカークラブ_10","上堅田少年サッカークラブ",{"$f":"(\"10\")","v":"10"},"MF","砂川　大河","スナガワ　タイガ",6,"男子",{"$f":"(\"0912290036\")","v":"0912290036"}]
["上堅田少年サッカークラブ_11","上堅田少年サッカークラブ",{"$f":"(\"11\")","v":"11"},"MF","古本　瞭太","フルモト　リョウタ",5,"男子",{"$f":"(\"1007290001\")","v":"1007290001"}]
["上堅田少年サッカークラブ_12","上堅田少年サッカークラブ",{"$f":"(\"12\")","v":"12"},"MF","後藤　泉琉","ゴトウ　イズル",5,"男子",{"$f":"(\"1010060198\")","v":"1010060198"}]
["上堅田少年サッカークラブ_13","上堅田少年サッカークラブ",{"$f":"(\"13\")","v":"13"},"DF","後藤　昴琉","ゴトウ　スバル",6,"男子",{"$f":"(\"0905260213\")","v":"0905260213"}]
["上堅田少年サッカークラブ_14","上堅田少年サッカークラブ",{"$f":"(\"14\")","v":"14"},"FW","古木　岬","フルキ　ミサキ",4,"男子",{"$f":"(\"1108230096\")","v":"1108230096"}]
["上堅田少年サッカークラブ_15","上堅田少年サッカークラブ",{"$f":"(\"15\")","v":"15"},"DF","片山　大也","カタヤマ　ヒロヤ",6,"男子",{"$f":"(\"0908010204\")","v":"0908010204"}]
["上堅田少年サッカークラブ_21","上堅田少年サッカークラブ",{"$f":"(\"21\")","v":"21"},"GK","磯貝　涼祐","イソガイ　リョウスケ",6,"男子",{"$f":"(\"0911130177\")","v":"0911130177"}]
["鶴岡Ｓ―ｐｌａｙ・ＭＩＮＡＭＩ_1","鶴岡Ｓ―ｐｌａｙ・ＭＩＮＡＭＩ",{"$f":"(\"1\")","v":"1"},"GK","河野　瑛亮","カワノ　エイスケ",6,"男子",{"$f":"(\"0905070262\")","v":"0905070262"}]
["鶴岡Ｓ―ｐｌａｙ・ＭＩＮＡＭＩ_2","鶴岡Ｓ―ｐｌａｙ・ＭＩＮＡＭＩ",{"$f":"(\"2\")","v":"2"},"FW","兒玉　直樹","コダマ　ナオキ",3,"男子",{"$f":"(\"1210180009\")","v":"1210180009"}]
["鶴岡Ｓ―ｐｌａｙ・ＭＩＮＡＭＩ_3","鶴岡Ｓ―ｐｌａｙ・ＭＩＮＡＭＩ",{"$f":"(\"3\")","v":"3"},"MF","小野　藏之介","オノ　クラノスケ",4,"男子",{"$f":"(\"1109050050\")","v":"1109050050"}]
["鶴岡Ｓ―ｐｌａｙ・ＭＩＮＡＭＩ_4","鶴岡Ｓ―ｐｌａｙ・ＭＩＮＡＭＩ",{"$f":"(\"4\")","v":"4"},"DF","狩生　倖充","カリュウ　ユキミツ",6,"男子",{"$f":"(\"0908040190\")","v":"0908040190"}]
["鶴岡Ｓ―ｐｌａｙ・ＭＩＮＡＭＩ_5","鶴岡Ｓ―ｐｌａｙ・ＭＩＮＡＭＩ",{"$f":"(\"5\")","v":"5"},"DF","市原　蓮空","イチハラ　レン",4,"男子",{"$f":"(\"1104120099\")","v":"1104120099"}]
["鶴岡Ｓ―ｐｌａｙ・ＭＩＮＡＭＩ_6","鶴岡Ｓ―ｐｌａｙ・ＭＩＮＡＭＩ",{"$f":"(\"6\")","v":"6"},"DF","藤原　尚","フジワラ　ナオ",5,"男子",{"$f":"(\"1009230046\")","v":"1009230046"}]
["鶴岡Ｓ―ｐｌａｙ・ＭＩＮＡＭＩ_7","鶴岡Ｓ―ｐｌａｙ・ＭＩＮＡＭＩ",{"$f":"(\"7\")","v":"7"},"MF","藤原　滉","フジワラ　コウ",6,"男子",{"$f":"(\"0906050158\")","v":"0906050158"}]
["鶴岡Ｓ―ｐｌａｙ・ＭＩＮＡＭＩ_8","鶴岡Ｓ―ｐｌａｙ・ＭＩＮＡＭＩ",{"$f":"(\"8\")","v":"8"},"MF","兒玉　佳大","コダマ　ケイタ",6,"男子",{"$f":"(\"0905010175\")","v":"0905010175"}]
["鶴岡Ｓ―ｐｌａｙ・ＭＩＮＡＭＩ_9","鶴岡Ｓ―ｐｌａｙ・ＭＩＮＡＭＩ",{"$f":"(\"9\")","v":"9"},"FW","大室　匠","オオムロ　タクミ",6,"男子",{"$f":"(\"0907310200\")","v":"0907310200"}]
[{"$f":"CONCATENATE(B449,\"_\",C449)","v":"鶴岡Ｓ―ｐｌａｙ・ＭＩＮＡＭＩ_10"},"鶴岡Ｓ―ｐｌａｙ・ＭＩＮＡＭＩ",{"$f":"(\"10\")","v":"10"},"DF","安藤　和樹","アンドウ　カズキ",6,"男子",{"$f":"(\"0911270088\")","v":"0911270088"},"○"]
["鶴岡Ｓ―ｐｌａｙ・ＭＩＮＡＭＩ_11","鶴岡Ｓ―ｐｌａｙ・ＭＩＮＡＭＩ",{"$f":"(\"11\")","v":"11"},"MF","小野　龍之介","オノ　リュウノスケ",6,"男子",{"$f":"(\"1002240180\")","v":"1002240180"}]
["鶴岡Ｓ―ｐｌａｙ・ＭＩＮＡＭＩ_12","鶴岡Ｓ―ｐｌａｙ・ＭＩＮＡＭＩ",{"$f":"(\"12\")","v":"12"},"MF","児玉　隼人","コダマ　ハヤト",4,"男子",{"$f":"(\"1111290005\")","v":"1111290005"}]
["鶴岡Ｓ―ｐｌａｙ・ＭＩＮＡＭＩ_13","鶴岡Ｓ―ｐｌａｙ・ＭＩＮＡＭＩ",{"$f":"(\"13\")","v":"13"},"FW","矢野　晶大","ヤノ　ショウダイ",4,"男子",{"$f":"(\"1109020120\")","v":"1109020120"}]
["鶴岡Ｓ―ｐｌａｙ・ＭＩＮＡＭＩ_14","鶴岡Ｓ―ｐｌａｙ・ＭＩＮＡＭＩ",{"$f":"(\"14\")","v":"14"},"MF","大室　颯","オオムロ　ハヤテ",4,"男子",{"$f":"(\"1108230174\")","v":"1108230174"}]
["鶴岡Ｓ―ｐｌａｙ・ＭＩＮＡＭＩ_15","鶴岡Ｓ―ｐｌａｙ・ＭＩＮＡＭＩ",{"$f":"(\"15\")","v":"15"},"MF","加藤　奏太","カトウ　ソウタ",6,"男子",{"$f":"(\"0912040131\")","v":"0912040131"}]
["鶴岡Ｓ―ｐｌａｙ・ＭＩＮＡＭＩ_23","鶴岡Ｓ―ｐｌａｙ・ＭＩＮＡＭＩ",{"$f":"(\"23\")","v":"23"},"GK","兒玉　龍樹","コダマ　リュウジュ",5,"男子",{"$f":"(\"1103040158\")","v":"1103040158"}]
["佐伯リベロフットボールクラブ_1","佐伯リベロフットボールクラブ",{"$f":"(\"1\")","v":"1"},"GK","冨澤　樹","トミザワ　イツキ",4,"男子",{"$f":"(\"1104060125\")","v":"1104060125"}]
["佐伯リベロフットボールクラブ_2","佐伯リベロフットボールクラブ",{"$f":"(\"2\")","v":"2"},"DF","日吉　虎輔","ヒヨシ　コスケ",4,"男子",{"$f":"(\"1110140077\")","v":"1110140077"}]
["佐伯リベロフットボールクラブ_3","佐伯リベロフットボールクラブ",{"$f":"(\"3\")","v":"3"},"FW","佐藤　陽斗","サトウ　ハルト",4,"男子",{"$f":"(\"1107130104\")","v":"1107130104"}]
["佐伯リベロフットボールクラブ_4","佐伯リベロフットボールクラブ",{"$f":"(\"4\")","v":"4"},"DF","早瀬　昇","ハヤセ　ノボル",5,"男子",{"$f":"(\"1004200129\")","v":"1004200129"}]
["佐伯リベロフットボールクラブ_5","佐伯リベロフットボールクラブ",{"$f":"(\"5\")","v":"5"},"DF","河野　遥真","カワノ　ハルマ",5,"男子",{"$f":"(\"1008020120\")","v":"1008020120"}]
["佐伯リベロフットボールクラブ_6","佐伯リベロフットボールクラブ",{"$f":"(\"6\")","v":"6"},"FW","石上　博也","イシガミ　ヒロヤ",5,"男子",{"$f":"(\"1012290129\")","v":"1012290129"}]
["佐伯リベロフットボールクラブ_7","佐伯リベロフットボールクラブ",{"$f":"(\"7\")","v":"7"},"MF","神崎　雄人","カンザキ　ユウト",5,"男子",{"$f":"(\"1103140085\")","v":"1103140085"}]
["佐伯リベロフットボールクラブ_8","佐伯リベロフットボールクラブ",{"$f":"(\"8\")","v":"8"},"DF","尾崎　恭","オザキ　キョウ",5,"男子",{"$f":"(\"1102280089\")","v":"1102280089"}]
["佐伯リベロフットボールクラブ_9","佐伯リベロフットボールクラブ",{"$f":"(\"9\")","v":"9"},"FW","廣瀬　大治","ヒロセ　ダイチ",5,"男子",{"$f":"(\"1004080122\")","v":"1004080122"}]
["佐伯リベロフットボールクラブ_10","佐伯リベロフットボールクラブ",{"$f":"(\"10\")","v":"10"},"MF","岩丸　優真","イワマル　ユウマ",6,"男子",{"$f":"(\"1003070070\")","v":"1003070070"}]
["佐伯リベロフットボールクラブ_11","佐伯リベロフットボールクラブ",{"$f":"(\"11\")","v":"11"},"MF","岡田　虎太朗","オカダ　コタロウ",5,"男子",{"$f":"(\"1005160080\")","v":"1005160080"}]
["佐伯リベロフットボールクラブ_12","佐伯リベロフットボールクラブ",{"$f":"(\"12\")","v":"12"},"DF","染矢　賢志","ソメヤ　ケンシ",5,"男子",{"$f":"(\"1103290091\")","v":"1103290091"}]
["佐伯リベロフットボールクラブ_13","佐伯リベロフットボールクラブ",{"$f":"(\"13\")","v":"13"},"MF","上野　蒼太","ウエノ　ソウタ",4,"男子",{"$f":"(\"1203190056\")","v":"1203190056"}]
["佐伯リベロフットボールクラブ_14","佐伯リベロフットボールクラブ",{"$f":"(\"14\")","v":"14"},"DF","山村　悠人","ヤマムラ　ヒサト",4,"男子",{"$f":"(\"1201240093\")","v":"1201240093"}]
["佐伯リベロフットボールクラブ_15","佐伯リベロフットボールクラブ",{"$f":"(\"15\")","v":"15"},"FW","渡邉　翔太","ワタナベ　ショウタ",4,"男子",{"$f":"(\"1203060101\")","v":"1203060101"}]
["佐伯リベロフットボールクラブ_21","佐伯リベロフットボールクラブ",{"$f":"(\"21\")","v":"21"},"GK","山村　心大","ヤマムラ　シンタ",6,"男子",{"$f":"(\"0910040079\")","v":"0910040079"},"○"]
["別府フットボールクラブ．ミネルバＵ－１２_1","別府フットボールクラブ．ミネルバＵ－１２",{"$f":"(\"1\")","v":"1"},"GK","小島　悠人","コジマ　ハルト",6,"男子",{"$f":"(\"0907210207\")","v":"0907210207"}]
["別府フットボールクラブ．ミネルバＵ－１２_2","別府フットボールクラブ．ミネルバＵ－１２",{"$f":"(\"2\")","v":"2"},"DF","賀来　玲音","カク　レオン",6,"男子",{"$f":"(\"0905200220\")","v":"0905200220"},"○"]
["別府フットボールクラブ．ミネルバＵ－１２_3","別府フットボールクラブ．ミネルバＵ－１２",{"$f":"(\"3\")","v":"3"},"DF","宮崎　浩一郎","ミヤザキ　コウイチロウ",6,"男子",{"$f":"(\"0907290208\")","v":"0907290208"}]
["別府フットボールクラブ．ミネルバＵ－１２_4","別府フットボールクラブ．ミネルバＵ－１２",{"$f":"(\"4\")","v":"4"},"DF","波多野　雄大","ハタノ　ユウダイ",5,"男子",{"$f":"(\"1007060151\")","v":"1007060151"}]
["別府フットボールクラブ．ミネルバＵ－１２_5","別府フットボールクラブ．ミネルバＵ－１２",{"$f":"(\"5\")","v":"5"},"MF","安部　煌生","アベ　コウキ",5,"男子",{"$f":"(\"1006120119\")","v":"1006120119"}]
["別府フットボールクラブ．ミネルバＵ－１２_6","別府フットボールクラブ．ミネルバＵ－１２",{"$f":"(\"6\")","v":"6"},"FW","西　謙太郎","ニシ　ケンタロウ",6,"男子",{"$f":"(\"1003050160\")","v":"1003050160"}]
["別府フットボールクラブ．ミネルバＵ－１２_7","別府フットボールクラブ．ミネルバＵ－１２",{"$f":"(\"7\")","v":"7"},"MF","森迫　大翔","モリサコ　ヒロト",6,"男子",{"$f":"(\"0909240227\")","v":"0909240227"}]
["別府フットボールクラブ．ミネルバＵ－１２_8","別府フットボールクラブ．ミネルバＵ－１２",{"$f":"(\"8\")","v":"8"},"MF","矢野　陽介","ヤノ　ヨウスケ",5,"男子",{"$f":"(\"1101090094\")","v":"1101090094"}]
["別府フットボールクラブ．ミネルバＵ－１２_9","別府フットボールクラブ．ミネルバＵ－１２",{"$f":"(\"9\")","v":"9"},"FW","三ヶ尻　啓輔","ミカジリ　ケイスケ",6,"男子",{"$f":"(\"0912080196\")","v":"0912080196"}]
["別府フットボールクラブ．ミネルバＵ－１２_10","別府フットボールクラブ．ミネルバＵ－１２",{"$f":"(\"10\")","v":"10"},"MF","横大路　敬太","ヨコオウジ　ケイタ",6,"男子",{"$f":"(\"1001240146\")","v":"1001240146"}]
["別府フットボールクラブ．ミネルバＵ－１２_11","別府フットボールクラブ．ミネルバＵ－１２",{"$f":"(\"11\")","v":"11"},"MF","有永　元","アリナガ　レイ",6,"男子",{"$f":"(\"1003060129\")","v":"1003060129"}]
["別府フットボールクラブ．ミネルバＵ－１２_12","別府フットボールクラブ．ミネルバＵ－１２",{"$f":"(\"12\")","v":"12"},"MF","安倍　京弥","アベ　キョウヤ",5,"男子",{"$f":"(\"1103140146\")","v":"1103140146"}]
["別府フットボールクラブ．ミネルバＵ－１２_13","別府フットボールクラブ．ミネルバＵ－１２",{"$f":"(\"13\")","v":"13"},"DF","井上　絢心","イノウエ　ケンシン",3,"男子",{"$f":"(\"1209090030\")","v":"1209090030"}]
["別府フットボールクラブ．ミネルバＵ－１２_14","別府フットボールクラブ．ミネルバＵ－１２",{"$f":"(\"14\")","v":"14"},"FW","佐藤　嗣翔","サトウ　ツグト",3,"男子",{"$f":"(\"1302030023\")","v":"1302030023"}]
["別府フットボールクラブ．ミネルバＵ－１２_16","別府フットボールクラブ．ミネルバＵ－１２",{"$f":"(\"16\")","v":"16"},"FW","西　寛太郎","ニシ　カンタロウ",3,"男子",{"$f":"(\"1303050046\")","v":"1303050046"}]
["別府フットボールクラブ．ミネルバＵ－１２Ｂ_1","別府フットボールクラブ．ミネルバＵ－１２Ｂ",{"$f":"(\"1\")","v":"1"},"GK","石橋　千尋","イシバシ　チヒロ",5,"男子",{"$f":"(\"1012070131\")","v":"1012070131"}]
["別府フットボールクラブ．ミネルバＵ－１２Ｂ_2","別府フットボールクラブ．ミネルバＵ－１２Ｂ",{"$f":"(\"2\")","v":"2"},"DF","小田　蒼太","オダ　ソウタ",5,"男子",{"$f":"(\"1006260121\")","v":"1006260121"}]
["別府フットボールクラブ．ミネルバＵ－１２Ｂ_3","別府フットボールクラブ．ミネルバＵ－１２Ｂ",{"$f":"(\"3\")","v":"3"},"DF","竹下　莉愛","タケシタ　リア",5,"女子小学生",{"$f":"(\"1005280123\")","v":"1005280123"}]
["別府フットボールクラブ．ミネルバＵ－１２Ｂ_5","別府フットボールクラブ．ミネルバＵ－１２Ｂ",{"$f":"(\"5\")","v":"5"},"MF","佐藤　由凰","サトウ　ユウゴ",5,"男子",{"$f":"(\"1003140122\")","v":"1003140122"}]
["別府フットボールクラブ．ミネルバＵ－１２Ｂ_6","別府フットボールクラブ．ミネルバＵ－１２Ｂ",{"$f":"(\"6\")","v":"6"},"MF","古川　悠真","フルカワ　ユウマ",5,"男子",{"$f":"(\"1008300110\")","v":"1008300110"}]
["別府フットボールクラブ．ミネルバＵ－１２Ｂ_7","別府フットボールクラブ．ミネルバＵ－１２Ｂ",{"$f":"(\"7\")","v":"7"},"MF","仲道　悠人","ナカミチ　ハルト",5,"男子",{"$f":"(\"1009300124\")","v":"1009300124"},"○"]
["別府フットボールクラブ．ミネルバＵ－１２Ｂ_8","別府フットボールクラブ．ミネルバＵ－１２Ｂ",{"$f":"(\"8\")","v":"8"},"MF","安波　颯人","ヤスナミ　ハヤト",5,"男子",{"$f":"(\"1007090169\")","v":"1007090169"}]
["別府フットボールクラブ．ミネルバＵ－１２Ｂ_9","別府フットボールクラブ．ミネルバＵ－１２Ｂ",{"$f":"(\"9\")","v":"9"},"FW","葛城　佑真","カツラギ　ユウマ",5,"男子",{"$f":"(\"1102070101\")","v":"1102070101"}]
["別府フットボールクラブ．ミネルバＵ－１２Ｂ_10","別府フットボールクラブ．ミネルバＵ－１２Ｂ",{"$f":"(\"10\")","v":"10"},"MF","西林　貴臣","ニシバヤシ　タカオミ",4,"男子",{"$f":"(\"1104020101\")","v":"1104020101"}]
["別府フットボールクラブ．ミネルバＵ－１２Ｂ_11","別府フットボールクラブ．ミネルバＵ－１２Ｂ",{"$f":"(\"11\")","v":"11"},"MF","首藤　煌人","シュトウ　キラト",5,"男子",{"$f":"(\"1009150158\")","v":"1009150158"}]
["別府フットボールクラブ．ミネルバＵ－１２Ｂ_12","別府フットボールクラブ．ミネルバＵ－１２Ｂ",{"$f":"(\"12\")","v":"12"},"MF","有永　瑠浬","アリナガ　ルリ",5,"女子小学生",{"$f":"(\"1006210135\")","v":"1006210135"}]
["別府フットボールクラブ．ミネルバＵ－１２Ｂ_13","別府フットボールクラブ．ミネルバＵ－１２Ｂ",{"$f":"(\"13\")","v":"13"},"MF","首藤　晴道","シュトウ　ハルミチ",5,"男子",{"$f":"(\"1102080126\")","v":"1102080126"}]
["別府フットボールクラブ．ミネルバＵ－１２Ｂ_14","別府フットボールクラブ．ミネルバＵ－１２Ｂ",{"$f":"(\"14\")","v":"14"},"DF","和田　みなみ","ワダ　ミナミ",4,"女子小学生",{"$f":"(\"1201300116\")","v":"1201300116"}]
["別府フットボールクラブ．ミネルバＵ－１２Ｂ_16","別府フットボールクラブ．ミネルバＵ－１２Ｂ",{"$f":"(\"16\")","v":"16"},"MF","林　蔵人","ハヤシ　クロウド",4,"男子",{"$f":"(\"1110030123\")","v":"1110030123"}]
["別府フットボールクラブ．ミネルバＵ－１２Ｂ_17","別府フットボールクラブ．ミネルバＵ－１２Ｂ",{"$f":"(\"17\")","v":"17"},"DF","大石　凌久","オオイシ　リク",4,"男子",{"$f":"(\"1108110154\")","v":"1108110154"}]
["別保ＳＦＣ_1","別保ＳＦＣ",{"$f":"(\"1\")","v":"1"},"GK","中倉　奏歌","ナカクラ　ソウタ",6,"男子",{"$f":"(\"0911240104\")","v":"0911240104"},"○"]
["別保ＳＦＣ_2","別保ＳＦＣ",{"$f":"(\"2\")","v":"2"},"DF","山本　蒼太","ヤマモト　ソウタ",6,"男子",{"$f":"(\"0905300097\")","v":"0905300097"}]
["別保ＳＦＣ_3","別保ＳＦＣ",{"$f":"(\"3\")","v":"3"},"DF","小野　琳太郎","オノ　リンタロウ",5,"男子",{"$f":"(\"1102090162\")","v":"1102090162"}]
["別保ＳＦＣ_4","別保ＳＦＣ",{"$f":"(\"4\")","v":"4"},"MF","大嶋　蒼介","オオシマ　ソウスケ",5,"男子",{"$f":"(\"1004220206\")","v":"1004220206"}]
["別保ＳＦＣ_5","別保ＳＦＣ",{"$f":"(\"5\")","v":"5"},"FW","吉田　壮眞","ヨシダ　ソウマ",5,"男子",{"$f":"(\"0907060236\")","v":"0907060236"}]
["別保ＳＦＣ_6","別保ＳＦＣ",{"$f":"(\"6\")","v":"6"},"MF","小野　祐央","オノ　ユウ",6,"男子",{"$f":"(\"1002260183\")","v":"1002260183"}]
["別保ＳＦＣ_7","別保ＳＦＣ",{"$f":"(\"7\")","v":"7"},"FW","薬師寺　悠貴","ヤクシジ　ユウキ",6,"男子",{"$f":"(\"0909300113\")","v":"0909300113"}]
["別保ＳＦＣ_8","別保ＳＦＣ",{"$f":"(\"8\")","v":"8"},"DF","岩尾　侑之助","イワオ　ユウノスケ",6,"男子",{"$f":"(\"0908180127\")","v":"0908180127"}]
["別保ＳＦＣ_9","別保ＳＦＣ",{"$f":"(\"9\")","v":"9"},"FW","平井　喜暁","ヒライ　ヨシアキ",6,"男子",{"$f":"(\"0904020306\")","v":"0904020306"}]
["別保ＳＦＣ_10","別保ＳＦＣ",{"$f":"(\"10\")","v":"10"},"FW","中根　晴希","ナカネ　ハルキ",6,"男子",{"$f":"(\"0909020157\")","v":"0909020157"}]
["別保ＳＦＣ_11","別保ＳＦＣ",{"$f":"(\"11\")","v":"11"},"DF","髙﨑　淳平","タカサキ　ジュンペイ",6,"男子",{"$f":"(\"0904250185\")","v":"0904250185"}]
[{"$f":"CONCATENATE(B513,\"_\",C513)","v":"別保ＳＦＣ_12"},"別保ＳＦＣ",{"$f":"(\"12\")","v":"12"},"GK","石見　悟","イワミ　サトル",5,"男子",{"$f":"(\"1012190103\")","v":"1012190103"}]
["別保ＳＦＣ_13","別保ＳＦＣ",{"$f":"(\"13\")","v":"13"},"MF","庄司　雅人","ショウジ　マサト",5,"男子",{"$f":"(\"1006050136\")","v":"1006050136"}]
["別保ＳＦＣ_14","別保ＳＦＣ",{"$f":"(\"14\")","v":"14"},"MF","江上　結奈","エガミ　ユイナ",5,"女子小学生",{"$f":"(\"1009280187\")","v":"1009280187"}]
["別保ＳＦＣ_15","別保ＳＦＣ",{"$f":"(\"15\")","v":"15"},"DF","後藤　誠士郎","ゴトウ　セイシロウ",5,"男子",{"$f":"(\"1011040170\")","v":"1011040170"}]
["別保ＳＦＣ_19","別保ＳＦＣ",{"$f":"(\"19\")","v":"19"},"GK","後藤　蒼太","ゴトウ　ソウタ",5,"男子",{"$f":"(\"0907270250\")","v":"0907270250"}]
["大分トリニータＵ－１２_1","大分トリニータＵ－１２",{"$f":"(\"1\")","v":"1"},"GK","佐藤　志巌","サトウ　シゲン",6,"男子",{"$f":"(\"0907300119\")","v":"0907300119"}]
["大分トリニータＵ－１２_2","大分トリニータＵ－１２",{"$f":"(\"2\")","v":"2"},"MF","増永　大生獅","マスナガ　タイシ",6,"男子",{"$f":"(\"0904170013\")","v":"0904170013"},"○"]
["大分トリニータＵ－１２_3","大分トリニータＵ－１２",{"$f":"(\"3\")","v":"3"},"MF","野崎　隆太","ノザキ　リュウタ",6,"男子",{"$f":"(\"0905280031\")","v":"0905280031"}]
["大分トリニータＵ－１２_4","大分トリニータＵ－１２",{"$f":"(\"4\")","v":"4"},"MF","尾本　泰雅","オモト　タイガ",6,"男子",{"$f":"(\"0908190121\")","v":"0908190121"}]
["大分トリニータＵ－１２_5","大分トリニータＵ－１２",{"$f":"(\"5\")","v":"5"},"DF","後藤　悠","ゴトウ　ユウ",6,"男子",{"$f":"(\"0910050104\")","v":"0910050104"}]
["大分トリニータＵ－１２_6","大分トリニータＵ－１２",{"$f":"(\"6\")","v":"6"},"DF","宮坂　奏音","ミヤサカ　カナト",6,"男子",{"$f":"(\"0905250120\")","v":"0905250120"}]
["大分トリニータＵ－１２_7","大分トリニータＵ－１２",{"$f":"(\"7\")","v":"7"},"MF","増田　壮我","マスダ　ソウガ",6,"男子",{"$f":"(\"0909020164\")","v":"0909020164"}]
["大分トリニータＵ－１２_8","大分トリニータＵ－１２",{"$f":"(\"8\")","v":"8"},"MF","髙橋　佑樹","タカハシ　ユウキ",6,"男子",{"$f":"(\"0911250042\")","v":"0911250042"}]
["大分トリニータＵ－１２_9","大分トリニータＵ－１２",{"$f":"(\"9\")","v":"9"},"FW","染矢　涼志","ソメヤ　リョウジ",6,"男子",{"$f":"(\"0907200043\")","v":"0907200043"}]
["大分トリニータＵ－１２_10","大分トリニータＵ－１２",{"$f":"(\"10\")","v":"10"},"FW","波多野　瑛太","ハタノ　エイタ",6,"男子",{"$f":"(\"0904230110\")","v":"0904230110"}]
["大分トリニータＵ－１２_11","大分トリニータＵ－１２",{"$f":"(\"11\")","v":"11"},"MF","佐藤　煌将","サトウ　トキマサ",6,"男子",{"$f":"(\"0909180259\")","v":"0909180259"}]
["大分トリニータＵ－１２_12","大分トリニータＵ－１２",{"$f":"(\"12\")","v":"12"},"GK","小澤　卓実","オザワ　タクミ",6,"男子",{"$f":"(\"0904060160\")","v":"0904060160"}]
["大分トリニータＵ－１２_13","大分トリニータＵ－１２",{"$f":"(\"13\")","v":"13"},"FW","西田　陸翔","ニシダ　リクト",5,"男子",{"$f":"(\"1008220034\")","v":"1008220034"}]
["大分トリニータＵ－１２_14","大分トリニータＵ－１２",{"$f":"(\"14\")","v":"14"},"DF","野田　佑月","ノダ　ユズキ",5,"男子",{"$f":"(\"1011010101\")","v":"1011010101"}]
["大分トリニータＵ－１２_15","大分トリニータＵ－１２",{"$f":"(\"15\")","v":"15"},"FW","池谷　碧","イケヤ　アオイ",5,"男子",{"$f":"(\"1008120092\")","v":"1008120092"}]
["大分トリニータＵ－１２_17","大分トリニータＵ－１２",{"$f":"(\"17\")","v":"17"},"MF","上本　翔海","ウエモト　ツバサ",5,"男子",{"$f":"(\"1012290047\")","v":"1012290047"}]
["春日ＳＳＳ_1","春日ＳＳＳ",{"$f":"(\"1\")","v":"1"},"GK","是永　虎太朗","コレナガ　コタロウ",5,"男子",{"$f":"(\"1012160097\")","v":"1012160097"}]
["春日ＳＳＳ_2","春日ＳＳＳ",{"$f":"(\"2\")","v":"2"},"DF","矢﨑　穂高","ヤザキ　ホダカ",5,"男子",{"$f":"(\"1102070147\")","v":"1102070147"}]
["春日ＳＳＳ_3","春日ＳＳＳ",{"$f":"(\"3\")","v":"3"},"MF","工藤　蓮大","クドウ　レンタ",5,"男子",{"$f":"(\"1103250049\")","v":"1103250049"}]
["春日ＳＳＳ_5","春日ＳＳＳ",{"$f":"(\"5\")","v":"5"},"DF","宮本　嵩琉","ミヤモト　タケル",6,"男子",{"$f":"(\"0906290186\")","v":"0906290186"}]
["春日ＳＳＳ_6","春日ＳＳＳ",{"$f":"(\"6\")","v":"6"},"MF","三良　文也","ミヨシ　フミヤ",6,"男子",{"$f":"(\"0905110246\")","v":"0905110246"}]
["春日ＳＳＳ_7","春日ＳＳＳ",{"$f":"(\"7\")","v":"7"},"MF","河野　皓馬","カワノ　コウマ",5,"男子",{"$f":"(\"1004290053\")","v":"1004290053"}]
["春日ＳＳＳ_8","春日ＳＳＳ",{"$f":"(\"8\")","v":"8"},"DF","岡崎　采久磨","オカザキ　サクマ",6,"男子",{"$f":"(\"0909110106\")","v":"0909110106"},"○"]
["春日ＳＳＳ_9","春日ＳＳＳ",{"$f":"(\"9\")","v":"9"},"MF","小田　瑛太","オダ　エイタ",3,"男子",{"$f":"(\"1210070022\")","v":"1210070022"}]
["春日ＳＳＳ_10","春日ＳＳＳ",{"$f":"(\"10\")","v":"10"},"MF","小田　冠太","オダ　カンタ",5,"男子",{"$f":"(\"1004100077\")","v":"1004100077"}]
["春日ＳＳＳ_11","春日ＳＳＳ",{"$f":"(\"11\")","v":"11"},"FW","佐藤　結生","サトウ　ユイ",5,"女子小学生",{"$f":"(\"1004040147\")","v":"1004040147"}]
["春日ＳＳＳ_12","春日ＳＳＳ",{"$f":"(\"12\")","v":"12"},"FW","安藤　ひより","アンドウ　ヒヨリ",2,"女子小学生",{"$f":"(\"1309130026\")","v":"1309130026"}]
["春日ＳＳＳ_13","春日ＳＳＳ",{"$f":"(\"13\")","v":"13"},"MF","岡田　大空","オカダ　タク",4,"男子",{"$f":"(\"1110300063\")","v":"1110300063"}]
["春日ＳＳＳ_14","春日ＳＳＳ",{"$f":"(\"14\")","v":"14"},"FW","羽田野　淳斗","ハダノ　アツト",3,"男子",{"$f":"(\"1207040034\")","v":"1207040034"}]
["春日ＳＳＳ_18","春日ＳＳＳ",{"$f":"(\"18\")","v":"18"},"DF","大久保　澪","オオクボ　レイ",5,"男子",{"$f":"(\"1012030087\")","v":"1012030087"}]
["春日ＳＳＳ_19","春日ＳＳＳ",{"$f":"(\"19\")","v":"19"},"DF","若狭　璃久","ワカサ　リク",5,"男子",{"$f":"(\"1005310204\")","v":"1005310204"}]
["南大分サッカー少年団_1","南大分サッカー少年団",{"$f":"(\"1\")","v":"1"},"GK","首藤　優慎","シュトウ　ユウシン",5,"男子",{"$f":"(\"1102040127\")","v":"1102040127"}]
["南大分サッカー少年団_2","南大分サッカー少年団",{"$f":"(\"2\")","v":"2"},"MF","甲斐　勇人","カイ　ハヤト",5,"男子",{"$f":"(\"1005240081\")","v":"1005240081"}]
["南大分サッカー少年団_3","南大分サッカー少年団",{"$f":"(\"3\")","v":"3"},"FW","安部　駆","アベ　カケル",6,"男子",{"$f":"(\"1002020098\")","v":"1002020098"}]
["南大分サッカー少年団_5","南大分サッカー少年団",{"$f":"(\"5\")","v":"5"},"FW","竹林　一護","タケバヤシ　イチゴ",5,"男子",{"$f":"(\"1006090013\")","v":"1006090013"}]
["南大分サッカー少年団_7","南大分サッカー少年団",{"$f":"(\"7\")","v":"7"},"FW","大久保　賢吾","オオクボ　ケンゴ",5,"男子",{"$f":"(\"1005210007\")","v":"1005210007"}]
["南大分サッカー少年団_8","南大分サッカー少年団",{"$f":"(\"8\")","v":"8"},"DF","野尻　春樹","ノジリ　シュンキ",5,"男子",{"$f":"(\"1103140109\")","v":"1103140109"}]
["南大分サッカー少年団_9","南大分サッカー少年団",{"$f":"(\"9\")","v":"9"},"DF","佐藤　陽登","サトウ　アキト",6,"男子",{"$f":"(\"0906300283\")","v":"0906300283"}]
["南大分サッカー少年団_10","南大分サッカー少年団",{"$f":"(\"10\")","v":"10"},"DF","樋口　結人","ヒグチ　ユイト",5,"男子",{"$f":"(\"1007250053\")","v":"1007250053"}]
["南大分サッカー少年団_11","南大分サッカー少年団",{"$f":"(\"11\")","v":"11"},"DF","小野　了雅","オノ　リョウガ",5,"男子",{"$f":"(\"1102210006\")","v":"1102210006"}]
["南大分サッカー少年団_13","南大分サッカー少年団",{"$f":"(\"13\")","v":"13"},"MF","佐藤　煌星","サトウ　コウセイ",5,"男子",{"$f":"(\"1012310035\")","v":"1012310035"}]
["南大分サッカー少年団_14","南大分サッカー少年団",{"$f":"(\"14\")","v":"14"},"DF","高橋　湊太","タカハシ　ソウタ",5,"男子",{"$f":"(\"1007300024\")","v":"1007300024"}]
["南大分サッカー少年団_15","南大分サッカー少年団",{"$f":"(\"15\")","v":"15"},"GK","後藤　梢","ゴトウ　コズエ",5,"女子小学生",{"$f":"(\"1005240018\")","v":"1005240018"}]
["南大分サッカー少年団_16","南大分サッカー少年団",{"$f":"(\"16\")","v":"16"},"MF","安部　海結","アベ　ミユウ",6,"女子小学生",{"$f":"(\"0907170066\")","v":"0907170066"},"○"]
["南大分サッカー少年団_20","南大分サッカー少年団",{"$f":"(\"20\")","v":"20"},"DF","前田　賢悟","マエダ　ケンゴ",6,"男子",{"$f":"(\"0912070163\")","v":"0912070163"}]
["アトレチコエラン横瀬_1","アトレチコエラン横瀬",{"$f":"(\"1\")","v":"1"},"GK","森山　蓮亜","モリヤマ　レイア",5,"男子",{"$f":"(\"1101130123\")","v":"1101130123"}]
["アトレチコエラン横瀬_2","アトレチコエラン横瀬",{"$f":"(\"2\")","v":"2"},"MF","鶴原　宋佑","ツルハラ　ソウスケ",5,"男子",{"$f":"(\"1101180103\")","v":"1101180103"}]
["アトレチコエラン横瀬_3","アトレチコエラン横瀬",{"$f":"(\"3\")","v":"3"},"DF","志賀　悠聖","シガ　ユウセイ",6,"男子",{"$f":"(\"1003200079\")","v":"1003200079"}]
["アトレチコエラン横瀬_4","アトレチコエラン横瀬",{"$f":"(\"4\")","v":"4"},"FW","末松　明樽","スエマツ　アタル",5,"男子",{"$f":"(\"1103250095\")","v":"1103250095"}]
["アトレチコエラン横瀬_5","アトレチコエラン横瀬",{"$f":"(\"5\")","v":"5"},"MF","三浦　斡太","ミウラ　カンタ",5,"男子",{"$f":"(\"1006220161\")","v":"1006220161"}]
["アトレチコエラン横瀬_6","アトレチコエラン横瀬",{"$f":"(\"6\")","v":"6"},"DF","古賀　心温","コガ　ホノカ",5,"女子小学生",{"$f":"(\"1004300183\")","v":"1004300183"}]
["アトレチコエラン横瀬_7","アトレチコエラン横瀬",{"$f":"(\"7\")","v":"7"},"DF","藤田　開正","フジタ　カイセイ",6,"男子",{"$f":"(\"0907010233\")","v":"0907010233"}]
["アトレチコエラン横瀬_8","アトレチコエラン横瀬",{"$f":"(\"8\")","v":"8"},"DF","堀田　睦斗","ホリタ　リクト",6,"男子",{"$f":"(\"0908070132\")","v":"0908070132"}]
["アトレチコエラン横瀬_9","アトレチコエラン横瀬",{"$f":"(\"9\")","v":"9"},"MF","相良　祐虎","サガラ　ユウト",5,"男子",{"$f":"(\"1009250115\")","v":"1009250115"}]
["アトレチコエラン横瀬_10","アトレチコエラン横瀬",{"$f":"(\"10\")","v":"10"},"MF","松尾　叶輝優","マツオ　トキウ",6,"男子",{"$f":"(\"0909110100\")","v":"0909110100"},"○"]
["アトレチコエラン横瀬_11","アトレチコエラン横瀬",{"$f":"(\"11\")","v":"11"},"FW","仁部屋　蓮斗","ニブヤ　レント",5,"男子",{"$f":"(\"1008230121\")","v":"1008230121"}]
["アトレチコエラン横瀬_12","アトレチコエラン横瀬",{"$f":"(\"12\")","v":"12"},"GK","中　優輝","ナカ　マサキ",5,"男子",{"$f":"(\"1004200159\")","v":"1004200159"}]
["アトレチコエラン横瀬_13","アトレチコエラン横瀬",{"$f":"(\"13\")","v":"13"},"DF","土師　大知","ハジ　ダイチ",5,"男子",{"$f":"(\"1101190105\")","v":"1101190105"}]
["アトレチコエラン横瀬_14","アトレチコエラン横瀬",{"$f":"(\"14\")","v":"14"},"DF","土師　優貴","ハジ　ユウキ",5,"男子",{"$f":"(\"1101190106\")","v":"1101190106"}]
[{"$f":"CONCATENATE(B577,\"_\",C577)","v":"アトレチコエラン横瀬_15"},"アトレチコエラン横瀬",{"$f":"(\"15\")","v":"15"},"FW","田北　悠斗","タキタ　ユウト",5,"男子",{"$f":"(\"1012010175\")","v":"1012010175"}]
["アトレチコエラン横瀬_17","アトレチコエラン横瀬",{"$f":"(\"17\")","v":"17"},"DF","岩本　大寿","イワモト　タイジュ",5,"男子",{"$f":"(\"1009110086\")","v":"1009110086"}]
["明野北フットボールクラブ_1","明野北フットボールクラブ",{"$f":"(\"1\")","v":"1"},"GK","清田　優成","キヨタ　ユウセイ",6,"男子",{"$f":"(\"0912250070\")","v":"0912250070"}]
["明野北フットボールクラブ_2","明野北フットボールクラブ",{"$f":"(\"2\")","v":"2"},"FW","楠　舞衣","クスノキ　マイ",6,"女子小学生",{"$f":"(\"0910160060\")","v":"0910160060"}]
["明野北フットボールクラブ_3","明野北フットボールクラブ",{"$f":"(\"3\")","v":"3"},"DF","平山　誠悟","ヒラヤマ　セイゴ",6,"男子",{"$f":"(\"0912210214\")","v":"0912210214"}]
["明野北フットボールクラブ_4","明野北フットボールクラブ",{"$f":"(\"4\")","v":"4"},"DF","芦刈　大志","アシカリ　タイシ",6,"男子",{"$f":"(\"0910050059\")","v":"0910050059"}]
["明野北フットボールクラブ_5","明野北フットボールクラブ",{"$f":"(\"5\")","v":"5"},"MF","倉原　颯希","クラハラ　サツキ",6,"男子",{"$f":"(\"0905190207\")","v":"0905190207"}]
["明野北フットボールクラブ_6","明野北フットボールクラブ",{"$f":"(\"6\")","v":"6"},"MF","徳丸　翔大","トクマル　ショウタ",6,"男子",{"$f":"(\"0912030053\")","v":"0912030053"}]
["明野北フットボールクラブ_7","明野北フットボールクラブ",{"$f":"(\"7\")","v":"7"},"FW","田口　岳雄","タグチ　タケオ",5,"男子",{"$f":"(\"1005020131\")","v":"1005020131"}]
["明野北フットボールクラブ_8","明野北フットボールクラブ",{"$f":"(\"8\")","v":"8"},"DF","大嶋　蘭","オオシマ　ラン",5,"男子",{"$f":"(\"1012270160\")","v":"1012270160"}]
["明野北フットボールクラブ_9","明野北フットボールクラブ",{"$f":"(\"9\")","v":"9"},"MF","今村　太壱郎","イマムラ　タイチロウ",5,"男子",{"$f":"(\"1102180165\")","v":"1102180165"}]
["明野北フットボールクラブ_10","明野北フットボールクラブ",{"$f":"(\"10\")","v":"10"},"MF","吉原　大翔","ヨシハラ　ヒロト",6,"男子",{"$f":"(\"0910060051\")","v":"0910060051"},"○"]
["明野北フットボールクラブ_11","明野北フットボールクラブ",{"$f":"(\"11\")","v":"11"},"DF","中野　幹太","ナカノ　カンタ",4,"男子",{"$f":"(\"1108090080\")","v":"1108090080"}]
["明野北フットボールクラブ_12","明野北フットボールクラブ",{"$f":"(\"12\")","v":"12"},"DF","中津留　桜吏","ナカツル　オウリ",4,"男子",{"$f":"(\"1103250109\")","v":"1103250109"}]
["明野北フットボールクラブ_13","明野北フットボールクラブ",{"$f":"(\"13\")","v":"13"},"MF","藤原　鉄心","フジワラ　テッシン",4,"男子",{"$f":"(\"1107050102\")","v":"1107050102"}]
["明野北フットボールクラブ_14","明野北フットボールクラブ",{"$f":"(\"14\")","v":"14"},"MF","黒川　壱綺","クロカワ　イチギ",4,"男子",{"$f":"(\"1203070110\")","v":"1203070110"}]
["明野北フットボールクラブ_15","明野北フットボールクラブ",{"$f":"(\"15\")","v":"15"},"MF","嶌田　徠煌","シマダ　ライキ",4,"男子",{"$f":"(\"1104010125\")","v":"1104010125"}]
["明野北フットボールクラブ_16","明野北フットボールクラブ",{"$f":"(\"16\")","v":"16"},"GK","大嶋　凛","オオシマ　リン",5,"男子",{"$f":"(\"1012270161\")","v":"1012270161"}]
["明治北ＳＳＣ_1","明治北ＳＳＣ",{"$f":"(\"1\")","v":"1"},"GK","室園　悠來","ムロゾノ　ユウラ",6,"男子",{"$f":"(\"0908170014\")","v":"0908170014"}]
["明治北ＳＳＣ_2","明治北ＳＳＣ",{"$f":"(\"2\")","v":"2"},"DF","松川　太哉","マツカワ　ダイヤ",6,"男子",{"$f":"(\"0905080189\")","v":"0905080189"}]
["明治北ＳＳＣ_3","明治北ＳＳＣ",{"$f":"(\"3\")","v":"3"},"DF","大野　十善","オオノ　ジュウゼン",6,"男子",{"$f":"(\"1001200110\")","v":"1001200110"}]
["明治北ＳＳＣ_4","明治北ＳＳＣ",{"$f":"(\"4\")","v":"4"},"DF","安部　銀之助","アベ　ギンノスケ",6,"男子",{"$f":"(\"0910260057\")","v":"0910260057"}]
["明治北ＳＳＣ_5","明治北ＳＳＣ",{"$f":"(\"5\")","v":"5"},"DF","河野　光瑠","カワノ　ヒカル",6,"男子",{"$f":"(\"0905050114\")","v":"0905050114"}]
["明治北ＳＳＣ_6","明治北ＳＳＣ",{"$f":"(\"6\")","v":"6"},"MF","吉賀　颯","ヨシガ　ソウ",6,"男子",{"$f":"(\"1001080009\")","v":"1001080009"}]
["明治北ＳＳＣ_7","明治北ＳＳＣ",{"$f":"(\"7\")","v":"7"},"MF","清原　昇馬","キヨハラ　ショウマ",6,"男子",{"$f":"(\"0909160023\")","v":"0909160023"},"○"]
["明治北ＳＳＣ_8","明治北ＳＳＣ",{"$f":"(\"8\")","v":"8"},"MF","分部　太一","ワケベ　タイチ",6,"男子",{"$f":"(\"0911170052\")","v":"0911170052"}]
["明治北ＳＳＣ_9","明治北ＳＳＣ",{"$f":"(\"9\")","v":"9"},"FW","小原　琉聖","オハラ　リュウセイ",6,"男子",{"$f":"(\"0912190082\")","v":"0912190082"}]
["明治北ＳＳＣ_10","明治北ＳＳＣ",{"$f":"(\"10\")","v":"10"},"FW","首藤　惺南","シュトウ　セナ",6,"男子",{"$f":"(\"0908250014\")","v":"0908250014"}]
["明治北ＳＳＣ_11","明治北ＳＳＣ",{"$f":"(\"11\")","v":"11"},"MF","大芦　春真","オオアシ　ハルマ",6,"男子",{"$f":"(\"0912240070\")","v":"0912240070"}]
["明治北ＳＳＣ_12","明治北ＳＳＣ",{"$f":"(\"12\")","v":"12"},"GK","石田　一稀","イシダ　イツキ",5,"男子",{"$f":"(\"1011050192\")","v":"1011050192"}]
["明治北ＳＳＣ_13","明治北ＳＳＣ",{"$f":"(\"13\")","v":"13"},"FW","楢崎　奏斗","ナラサキ　カナト",5,"男子",{"$f":"(\"1012250047\")","v":"1012250047"}]
["明治北ＳＳＣ_14","明治北ＳＳＣ",{"$f":"(\"14\")","v":"14"},"FW","山内　陽世","ヤマウチ　ハルセ",5,"男子",{"$f":"(\"1006030046\")","v":"1006030046"}]
["明治北ＳＳＣ_15","明治北ＳＳＣ",{"$f":"(\"15\")","v":"15"},"DF","岩本　太志","イワモト　タイシ",5,"男子",{"$f":"(\"1005200047\")","v":"1005200047"}]
["明治北ＳＳＣ_16","明治北ＳＳＣ",{"$f":"(\"16\")","v":"16"},"FW","竹野内　翼","タケノウチ　ツバサ",5,"男子",{"$f":"(\"1007050044\")","v":"1007050044"}]
["明野東サッカースポーツ少年団_1","明野東サッカースポーツ少年団",{"$f":"(\"1\")","v":"1"},"GK","藤山　優斗","フジヤマ　ユウト",6,"男子",{"$f":"(\"0906150197\")","v":"0906150197"}]
["明野東サッカースポーツ少年団_2","明野東サッカースポーツ少年団",{"$f":"(\"2\")","v":"2"},"MF","水野　公太郎","ミズノ　コウタロウ",5,"男子",{"$f":"(\"1103250117\")","v":"1103250117"}]
["明野東サッカースポーツ少年団_3","明野東サッカースポーツ少年団",{"$f":"(\"3\")","v":"3"},"MF","藤元　涼葵","フジモト　リョウキ",6,"男子",{"$f":"(\"0906180176\")","v":"0906180176"}]
["明野東サッカースポーツ少年団_4","明野東サッカースポーツ少年団",{"$f":"(\"4\")","v":"4"},"FW","山田　晃誠","ヤマダ　コウセイ",5,"男子",{"$f":"(\"1102220140\")","v":"1102220140"}]
["明野東サッカースポーツ少年団_5","明野東サッカースポーツ少年団",{"$f":"(\"5\")","v":"5"},"MF","菊池　魁大","キクチ　カイト",5,"男子",{"$f":"(\"1012270170\")","v":"1012270170"}]
["明野東サッカースポーツ少年団_6","明野東サッカースポーツ少年団",{"$f":"(\"6\")","v":"6"},"FW","飯田　蓮斗","イイダ　レント",6,"男子",{"$f":"(\"1001220211\")","v":"1001220211"}]
["明野東サッカースポーツ少年団_7","明野東サッカースポーツ少年団",{"$f":"(\"7\")","v":"7"},"DF","御手洗　真","ミタライ　シン",6,"男子",{"$f":"(\"0908240167\")","v":"0908240167"}]
["明野東サッカースポーツ少年団_8","明野東サッカースポーツ少年団",{"$f":"(\"8\")","v":"8"},"MF","阿部　希空","アベ　ノア",5,"男子",{"$f":"(\"1008270145\")","v":"1008270145"}]
["明野東サッカースポーツ少年団_9","明野東サッカースポーツ少年団",{"$f":"(\"9\")","v":"9"},"MF","首藤　大輝","シュトウ　ダイキ",5,"男子",{"$f":"(\"1006010154\")","v":"1006010154"}]
["明野東サッカースポーツ少年団_10","明野東サッカースポーツ少年団",{"$f":"(\"10\")","v":"10"},"MF","西崎　一稀","ニシザキ　イツキ",6,"男子",{"$f":"(\"0912260154\")","v":"0912260154"},"○"]
["明野東サッカースポーツ少年団_11","明野東サッカースポーツ少年団",{"$f":"(\"11\")","v":"11"},"FW","藤山　陸斗","フジヤマ　リクト",4,"男子",{"$f":"(\"1112220110\")","v":"1112220110"}]
["明野東サッカースポーツ少年団_13","明野東サッカースポーツ少年団",{"$f":"(\"13\")","v":"13"},"FW","後藤　透眞","ゴトウ　トウマ",6,"男子",{"$f":"(\"0912040234\")","v":"0912040234"}]
["明野東サッカースポーツ少年団_14","明野東サッカースポーツ少年団",{"$f":"(\"14\")","v":"14"},"DF","首藤　蕨","シュトウ　ワラビ",6,"男子",{"$f":"(\"0907280184\")","v":"0907280184"}]
["大道サッカースポーツ少年団_1","大道サッカースポーツ少年団",{"$f":"(\"1\")","v":"1"},"GK","竹尾　理志","タケオ　サトシ",6,"男子",{"$f":"(\"0909170010\")","v":"0909170010"}]
["大道サッカースポーツ少年団_2","大道サッカースポーツ少年団",{"$f":"(\"2\")","v":"2"},"DF","二宮　陽詩","ニノミヤ　ヒナタ",6,"男子",{"$f":"(\"1002090028\")","v":"1002090028"}]
["大道サッカースポーツ少年団_3","大道サッカースポーツ少年団",{"$f":"(\"3\")","v":"3"},"DF","岩田　夏槻","イワタ　ナツキ",6,"男子",{"$f":"(\"0905230008\")","v":"0905230008"}]
["大道サッカースポーツ少年団_4","大道サッカースポーツ少年団",{"$f":"(\"4\")","v":"4"},"MF","盛武　大樹","モリタケ　タイキ",5,"男子",{"$f":"(\"1005240039\")","v":"1005240039"}]
["大道サッカースポーツ少年団_5","大道サッカースポーツ少年団",{"$f":"(\"5\")","v":"5"},"MF","今畠　かえで","イマハタ　カエデ",6,"女子小学生",{"$f":"(\"0906280022\")","v":"0906280022"},"○"]
["大道サッカースポーツ少年団_6","大道サッカースポーツ少年団",{"$f":"(\"6\")","v":"6"},"FW","橋本　和弥","ハシモト　カズヤ",5,"男子",{"$f":"(\"1008280004\")","v":"1008280004"}]
["大道サッカースポーツ少年団_7","大道サッカースポーツ少年団",{"$f":"(\"7\")","v":"7"},"MF","村上　颯","ムラカミ　ハヤト",6,"男子",{"$f":"(\"0905050138\")","v":"0905050138"}]
["大道サッカースポーツ少年団_8","大道サッカースポーツ少年団",{"$f":"(\"8\")","v":"8"},"MF","近藤　海斗","コンドウ　カイト",6,"男子",{"$f":"(\"0910020010\")","v":"0910020010"}]
["大道サッカースポーツ少年団_9","大道サッカースポーツ少年団",{"$f":"(\"9\")","v":"9"},"FW","岐部　昊平","キベ　コウヘイ",5,"男子",{"$f":"(\"1101120003\")","v":"1101120003"}]
["大道サッカースポーツ少年団_10","大道サッカースポーツ少年団",{"$f":"(\"10\")","v":"10"},"MF","穴井　幹太","アナイ　カンタ",4,"男子",{"$f":"(\"1201260013\")","v":"1201260013"}]
["大道サッカースポーツ少年団_11","大道サッカースポーツ少年団",{"$f":"(\"11\")","v":"11"},"FW","馬場　遥翔","ババ　ハルト",5,"男子",{"$f":"(\"1007120010\")","v":"1007120010"}]
["大道サッカースポーツ少年団_12","大道サッカースポーツ少年団",{"$f":"(\"12\")","v":"12"},"GK","酒井　晴彦","サカイ　ハルヒコ",6,"男子",{"$f":"(\"0907130245\")","v":"0907130245"}]
["大道サッカースポーツ少年団_13","大道サッカースポーツ少年団",{"$f":"(\"13\")","v":"13"},"MF","高山　瑛汰","タカヤマ　エイタ",6,"男子",{"$f":"(\"1003170188\")","v":"1003170188"}]
["大道サッカースポーツ少年団_14","大道サッカースポーツ少年団",{"$f":"(\"14\")","v":"14"},"MF","髙村　千尋","タカムラ　チヒロ",5,"女子小学生",{"$f":"(\"1008240056\")","v":"1008240056"}]
["大道サッカースポーツ少年団_15","大道サッカースポーツ少年団",{"$f":"(\"15\")","v":"15"},"DF","宮川　航","ミヤカワ　ワタル",5,"男子",{"$f":"(\"1008230032\")","v":"1008230032"}]
["大道サッカースポーツ少年団_16","大道サッカースポーツ少年団",{"$f":"(\"16\")","v":"16"},"MF","林　遼祐","ハヤシ　リョウスケ",6,"男子",{"$f":"(\"0910190216\")","v":"0910190216"}]
["東稙田サッカースポーツ少年団_1","東稙田サッカースポーツ少年団",{"$f":"(\"1\")","v":"1"},"GK","後藤　琉音","ゴトウ　リオ",6,"男子",{"$f":"(\"0909170181\")","v":"0909170181"},"○"]
[{"$f":"CONCATENATE(B641,\"_\",C641)","v":"東稙田サッカースポーツ少年団_3"},"東稙田サッカースポーツ少年団",{"$f":"(\"3\")","v":"3"},"FW","大津留　新","オオツル　アラタ",3,"男子",{"$f":"(\"1302040007\")","v":"1302040007"}]
["東稙田サッカースポーツ少年団_5","東稙田サッカースポーツ少年団",{"$f":"(\"5\")","v":"5"},"MF","工藤　大輝","クドウ　タイキ",3,"男子",{"$f":"(\"1208270030\")","v":"1208270030"}]
["東稙田サッカースポーツ少年団_7","東稙田サッカースポーツ少年団",{"$f":"(\"7\")","v":"7"},"DF","秋元　駿佑","アキモト　シュンスケ",5,"男子",{"$f":"(\"1008160172\")","v":"1008160172"}]
["東稙田サッカースポーツ少年団_8","東稙田サッカースポーツ少年団",{"$f":"(\"8\")","v":"8"},"DF","和泉　湊","イズミ　ソウ",5,"男子",{"$f":"(\"1102110004\")","v":"1102110004"}]
["東稙田サッカースポーツ少年団_9","東稙田サッカースポーツ少年団",{"$f":"(\"9\")","v":"9"},"MF","佐藤　世渚","サトウ　セナ",6,"男子",{"$f":"(\"0905020248\")","v":"0905020248"}]
["東稙田サッカースポーツ少年団_10","東稙田サッカースポーツ少年団",{"$f":"(\"10\")","v":"10"},"MF","奥藤　颯","オクフジ　イブキ",6,"男子",{"$f":"(\"1003010006\")","v":"1003010006"}]
["東稙田サッカースポーツ少年団_11","東稙田サッカースポーツ少年団",{"$f":"(\"11\")","v":"11"},"DF","玉井　悠詩","タマイ　ユウタ",5,"男子",{"$f":"(\"1007130015\")","v":"1007130015"}]
["東稙田サッカースポーツ少年団_12","東稙田サッカースポーツ少年団",{"$f":"(\"12\")","v":"12"},"GK","高原　瞭","タカハラ　リョウ",3,"男子",{"$f":"(\"1211020008\")","v":"1211020008"}]
["東稙田サッカースポーツ少年団_13","東稙田サッカースポーツ少年団",{"$f":"(\"13\")","v":"13"},"FW","髙畠　優","タカハタ　ユウ",3,"男子",{"$f":"(\"1208110027\")","v":"1208110027"}]
["東稙田サッカースポーツ少年団_14","東稙田サッカースポーツ少年団",{"$f":"(\"14\")","v":"14"},"MF","中島　泰志","ナカシマ　タイシ",3,"男子",{"$f":"(\"1206080031\")","v":"1206080031"}]
["東稙田サッカースポーツ少年団_15","東稙田サッカースポーツ少年団",{"$f":"(\"15\")","v":"15"},"FW","池邊　英仁","イケベ　エイジ",3,"男子",{"$f":"(\"1206120016\")","v":"1206120016"}]
["東稙田サッカースポーツ少年団_16","東稙田サッカースポーツ少年団",{"$f":"(\"16\")","v":"16"},"MF","久保田　一平","クボタ　イッペイ",3,"男子",{"$f":"(\"1210270022\")","v":"1210270022"}]
["東稙田サッカースポーツ少年団_17","東稙田サッカースポーツ少年団",{"$f":"(\"17\")","v":"17"},"FW","三浦　拓仁","ミウラ　タクト",3,"男子",{"$f":"(\"1204150069\")","v":"1204150069"}]
["東稙田サッカースポーツ少年団_18","東稙田サッカースポーツ少年団",{"$f":"(\"18\")","v":"18"},"FW","松﨑　義英","マツザキ　ヨシヒデ",3,"男子",{"$f":"(\"1204110096\")","v":"1204110096"}]
["東稙田サッカースポーツ少年団_19","東稙田サッカースポーツ少年団",{"$f":"(\"19\")","v":"19"},"FW","棚村　誠太","タナムラ　セイタ",3,"男子",{"$f":"(\"1212120089\")","v":"1212120089"}]
["寒田少年サッカークラブ_1","寒田少年サッカークラブ",{"$f":"(\"1\")","v":"1"},"GK","谷口　昊翼","タニグチ　ソウスケ",6,"男子",{"$f":"(\"1003310157\")","v":"1003310157"}]
["寒田少年サッカークラブ_2","寒田少年サッカークラブ",{"$f":"(\"2\")","v":"2"},"FW","田中　煌真","タナカ　コウマ",6,"男子",{"$f":"(\"0906190215\")","v":"0906190215"}]
["寒田少年サッカークラブ_3","寒田少年サッカークラブ",{"$f":"(\"3\")","v":"3"},"MF","森　凛桜","モリ　リサ",5,"女子小学生",{"$f":"(\"1101120213\")","v":"1101120213"}]
["寒田少年サッカークラブ_4","寒田少年サッカークラブ",{"$f":"(\"4\")","v":"4"},"MF","城土　隼羽","ジョウド　トワ",6,"男子",{"$f":"(\"0911020214\")","v":"0911020214"}]
["寒田少年サッカークラブ_5","寒田少年サッカークラブ",{"$f":"(\"5\")","v":"5"},"MF","堀　夢希","ホリ　ユノン",4,"女子小学生",{"$f":"(\"1108280110\")","v":"1108280110"}]
["寒田少年サッカークラブ_6","寒田少年サッカークラブ",{"$f":"(\"6\")","v":"6"},"DF","笠木　涼世","カサギ　リョウセイ",6,"男子",{"$f":"(\"0905280125\")","v":"0905280125"}]
["寒田少年サッカークラブ_7","寒田少年サッカークラブ",{"$f":"(\"7\")","v":"7"},"MF","奈須　要","ナス　カナメ",6,"男子",{"$f":"(\"0905220040\")","v":"0905220040"},"○"]
["寒田少年サッカークラブ_8","寒田少年サッカークラブ",{"$f":"(\"8\")","v":"8"},"FW","堀　柚希","ホリ　ユズキ",6,"男子",{"$f":"(\"0911190120\")","v":"0911190120"}]
["寒田少年サッカークラブ_9","寒田少年サッカークラブ",{"$f":"(\"9\")","v":"9"},"DF","松尾　優雅","マツオ　ユウマ",6,"男子",{"$f":"(\"0906110229\")","v":"0906110229"}]
["寒田少年サッカークラブ_10","寒田少年サッカークラブ",{"$f":"(\"10\")","v":"10"},"DF","成松　怜音","ナリマツ　レオ",6,"男子",{"$f":"(\"0905100112\")","v":"0905100112"}]
["寒田少年サッカークラブ_11","寒田少年サッカークラブ",{"$f":"(\"11\")","v":"11"},"MF","野仲　悠月","ノナカ　ユヅキ",6,"男子",{"$f":"(\"0907080234\")","v":"0907080234"}]
["寒田少年サッカークラブ_12","寒田少年サッカークラブ",{"$f":"(\"12\")","v":"12"},"FW","谷口　友哉","タニグチ　ユウヤ",3,"男子",{"$f":"(\"1303050043\")","v":"1303050043"}]
["寒田少年サッカークラブ_13","寒田少年サッカークラブ",{"$f":"(\"13\")","v":"13"},"DF","長吉　美夕稀","ナガヨシ　ミユキ",6,"女子小学生",{"$f":"(\"0911020215\")","v":"0911020215"}]
["寒田少年サッカークラブ_14","寒田少年サッカークラブ",{"$f":"(\"14\")","v":"14"},"DF","皆川　琉良","ミナガワ　ルイ",6,"女子小学生",{"$f":"(\"1002120050\")","v":"1002120050"}]
["寒田少年サッカークラブ_21","寒田少年サッカークラブ",{"$f":"(\"21\")","v":"21"},"GK","豊田　湊","トヨダ　ミナト",6,"男子",{"$f":"(\"0909140216\")","v":"0909140216"}]
["滝尾下郡サッカースポーツ少年団_1","滝尾下郡サッカースポーツ少年団",{"$f":"(\"1\")","v":"1"},"GK","小出　稜喜","コイデ　イツキ",6,"男子",{"$f":"(\"0912170198\")","v":"0912170198"}]
["滝尾下郡サッカースポーツ少年団_2","滝尾下郡サッカースポーツ少年団",{"$f":"(\"2\")","v":"2"},"DF","田上　慶人","タガミ　ケイト",6,"男子",{"$f":"(\"0910010052\")","v":"0910010052"}]
["滝尾下郡サッカースポーツ少年団_3","滝尾下郡サッカースポーツ少年団",{"$f":"(\"3\")","v":"3"},"DF","安達　葉平","アダチ　ヨウヘイ",5,"男子",{"$f":"(\"1009050026\")","v":"1009050026"}]
["滝尾下郡サッカースポーツ少年団_4","滝尾下郡サッカースポーツ少年団",{"$f":"(\"4\")","v":"4"},"DF","円本　伯馬","エンモト　ハクマ",4,"男子",{"$f":"(\"1106150123\")","v":"1106150123"}]
["滝尾下郡サッカースポーツ少年団_5","滝尾下郡サッカースポーツ少年団",{"$f":"(\"5\")","v":"5"},"FW","酒見　陸斗","サケミ　リクト",6,"男子",{"$f":"(\"0909160295\")","v":"0909160295"}]
["滝尾下郡サッカースポーツ少年団_6","滝尾下郡サッカースポーツ少年団",{"$f":"(\"6\")","v":"6"},"FW","伊藤　煌基","イトウ　コウキ",6,"男子",{"$f":"(\"0912150243\")","v":"0912150243"}]
["滝尾下郡サッカースポーツ少年団_7","滝尾下郡サッカースポーツ少年団",{"$f":"(\"7\")","v":"7"},"FW","横井　奈菜","ヨコイ　ナナ",6,"女子小学生",{"$f":"(\"0905220134\")","v":"0905220134"}]
["滝尾下郡サッカースポーツ少年団_8","滝尾下郡サッカースポーツ少年団",{"$f":"(\"8\")","v":"8"},"MF","数野　泰己","カズノ　タイキ",5,"男子",{"$f":"(\"1005030054\")","v":"1005030054"}]
["滝尾下郡サッカースポーツ少年団_9","滝尾下郡サッカースポーツ少年団",{"$f":"(\"9\")","v":"9"},"DF","加藤　蒼一朗","カトウ　ソウイチロウ",5,"男子",{"$f":"(\"1004150237\")","v":"1004150237"}]
["滝尾下郡サッカースポーツ少年団_10","滝尾下郡サッカースポーツ少年団",{"$f":"(\"10\")","v":"10"},"MF","喜舎場　一馬","キシャバ　カズマ",6,"男子",{"$f":"(\"0910140042\")","v":"0910140042"},"○"]
["滝尾下郡サッカースポーツ少年団_11","滝尾下郡サッカースポーツ少年団",{"$f":"(\"11\")","v":"11"},"FW","田上　楓貴","タガミ　フウキ",4,"男子",{"$f":"(\"1203130009\")","v":"1203130009"}]
["滝尾下郡サッカースポーツ少年団_12","滝尾下郡サッカースポーツ少年団",{"$f":"(\"12\")","v":"12"},"MF","藤原　亜希斗","フジワラ　アキト",4,"男子",{"$f":"(\"1202010112\")","v":"1202010112"}]
["滝尾下郡サッカースポーツ少年団_13","滝尾下郡サッカースポーツ少年団",{"$f":"(\"13\")","v":"13"},"MF","山田　寛人","ヤマダ　ヒロト",5,"男子",{"$f":"(\"1008100180\")","v":"1008100180"}]
["滝尾下郡サッカースポーツ少年団_14","滝尾下郡サッカースポーツ少年団",{"$f":"(\"14\")","v":"14"},"MF","酒見　直樹","サケミ　ナオキ",4,"男子",{"$f":"(\"1109040096\")","v":"1109040096"}]
["滝尾下郡サッカースポーツ少年団_15","滝尾下郡サッカースポーツ少年団",{"$f":"(\"15\")","v":"15"},"FW","竹本　陽","タケモト　ハル",3,"男子",{"$f":"(\"1210290018\")","v":"1210290018"}]
["滝尾下郡サッカースポーツ少年団_30","滝尾下郡サッカースポーツ少年団",{"$f":"(\"30\")","v":"30"},"GK","佐藤　伊吹","サトウ　イブキ",5,"男子",{"$f":"(\"1011300221\")","v":"1011300221"}]
["豊府サッカースポーツ少年団_1","豊府サッカースポーツ少年団",{"$f":"(\"1\")","v":"1"},"GK","竹内　彪斗","タケウチ　アヤト",6,"男子",{"$f":"(\"0911160097\")","v":"0911160097"}]
["豊府サッカースポーツ少年団_2","豊府サッカースポーツ少年団",{"$f":"(\"2\")","v":"2"},"DF","井田　翔也","イダ　ショウヤ",6,"男子",{"$f":"(\"1003240093\")","v":"1003240093"}]
["豊府サッカースポーツ少年団_3","豊府サッカースポーツ少年団",{"$f":"(\"3\")","v":"3"},"DF","榎本　弥泰","エノモト　ヤヒロ",6,"男子",{"$f":"(\"0904070158\")","v":"0904070158"}]
["豊府サッカースポーツ少年団_4","豊府サッカースポーツ少年団",{"$f":"(\"4\")","v":"4"},"DF","濱岡　奏也","ハマオカ　ソウヤ",6,"男子",{"$f":"(\"1001080095\")","v":"1001080095"}]
["豊府サッカースポーツ少年団_5","豊府サッカースポーツ少年団",{"$f":"(\"5\")","v":"5"},"FW","土谷　壮正","ツチヤ　タケマサ",6,"男子",{"$f":"(\"0908110100\")","v":"0908110100"}]
["豊府サッカースポーツ少年団_6","豊府サッカースポーツ少年団",{"$f":"(\"6\")","v":"6"},"MF","亀山　泰雅","カメヤマ　タイガ",5,"男子",{"$f":"(\"1004250091\")","v":"1004250091"}]
["豊府サッカースポーツ少年団_7","豊府サッカースポーツ少年団",{"$f":"(\"7\")","v":"7"},"MF","安部　太智","アベ　タイチ",6,"男子",{"$f":"(\"0912300085\")","v":"0912300085"}]
["豊府サッカースポーツ少年団_8","豊府サッカースポーツ少年団",{"$f":"(\"8\")","v":"8"},"DF","河野　悠","コウノ　ユウキ",5,"男子",{"$f":"(\"1006040139\")","v":"1006040139"}]
["豊府サッカースポーツ少年団_9","豊府サッカースポーツ少年団",{"$f":"(\"9\")","v":"9"},"MF","福田　虎志郎","フクダ　コジロウ",6,"男子",{"$f":"(\"0912080101\")","v":"0912080101"},"○"]
["豊府サッカースポーツ少年団_10","豊府サッカースポーツ少年団",{"$f":"(\"10\")","v":"10"},"MF","三ノ宮　羚央","サンノミヤ　レオ",6,"男子",{"$f":"(\"0908270128\")","v":"0908270128"}]
["豊府サッカースポーツ少年団_12","豊府サッカースポーツ少年団",{"$f":"(\"12\")","v":"12"},"GK","清時　悠聖","キヨトキ　ハルキ",5,"男子",{"$f":"(\"1005260127\")","v":"1005260127"}]
["豊府サッカースポーツ少年団_14","豊府サッカースポーツ少年団",{"$f":"(\"14\")","v":"14"},"MF","時松　蒼茉","トキマツ　ソウマ",5,"男子",{"$f":"(\"1011280075\")","v":"1011280075"}]
["宗方サッカークラブ_1","宗方サッカークラブ",{"$f":"(\"1\")","v":"1"},"GK","波多野　瑛斗","ハタノ　エイト",6,"男子",{"$f":"(\"0907230024\")","v":"0907230024"}]
["宗方サッカークラブ_2","宗方サッカークラブ",{"$f":"(\"2\")","v":"2"},"DF","高森　遥誠","タカモリ　ハルマ",6,"男子",{"$f":"(\"0910300138\")","v":"0910300138"}]
["宗方サッカークラブ_3","宗方サッカークラブ",{"$f":"(\"3\")","v":"3"},"DF","吉浦　祐之助","ヨシウラ　ユウノスケ",6,"男子",{"$f":"(\"1001290107\")","v":"1001290107"}]
["宗方サッカークラブ_4","宗方サッカークラブ",{"$f":"(\"4\")","v":"4"},"DF","大下　紗也奈","オオシタ　サヤナ",6,"女子小学生",{"$f":"(\"0906300153\")","v":"0906300153"},"○"]
["宗方サッカークラブ_5","宗方サッカークラブ",{"$f":"(\"5\")","v":"5"},"DF","門田　楽汰","カドタ　ランタ",6,"男子",{"$f":"(\"0908240120\")","v":"0908240120"}]
["宗方サッカークラブ_6","宗方サッカークラブ",{"$f":"(\"6\")","v":"6"},"DF","蓑毛　颯","ミノモ　ソウ",5,"男子",{"$f":"(\"1005230082\")","v":"1005230082"}]
[{"$f":"CONCATENATE(B705,\"_\",C705)","v":"宗方サッカークラブ_7"},"宗方サッカークラブ",{"$f":"(\"7\")","v":"7"},"MF","平早水　蒼空","ヒラソウズ　ソラ",6,"男子",{"$f":"(\"0908280161\")","v":"0908280161"}]
["宗方サッカークラブ_8","宗方サッカークラブ",{"$f":"(\"8\")","v":"8"},"FW","山田　笙太郎","ヤマダ　ソウタロウ",6,"男子",{"$f":"(\"0906230139\")","v":"0906230139"}]
["宗方サッカークラブ_9","宗方サッカークラブ",{"$f":"(\"9\")","v":"9"},"MF","小原　大雅","オハラ　タイガ",6,"男子",{"$f":"(\"0912090125\")","v":"0912090125"}]
["宗方サッカークラブ_10","宗方サッカークラブ",{"$f":"(\"10\")","v":"10"},"MF","岩田　琉生","イワタ　リュウ",6,"男子",{"$f":"(\"1001080091\")","v":"1001080091"}]
["宗方サッカークラブ_11","宗方サッカークラブ",{"$f":"(\"11\")","v":"11"},"MF","高山　僚太","タカヤマ　リョウタ",6,"男子",{"$f":"(\"0904270155\")","v":"0904270155"}]
["宗方サッカークラブ_13","宗方サッカークラブ",{"$f":"(\"13\")","v":"13"},"DF","廣石　有咲","ヒロイシ　アリサ",5,"女子小学生",{"$f":"(\"1005050102\")","v":"1005050102"}]
["宗方サッカークラブ_14","宗方サッカークラブ",{"$f":"(\"14\")","v":"14"},"MF","都留　瑞","ツル　ミズキ",5,"男子",{"$f":"(\"1009160128\")","v":"1009160128"}]
["宗方サッカークラブ_15","宗方サッカークラブ",{"$f":"(\"15\")","v":"15"},"MF","生野　陽大","ショウノ　ハルト",5,"男子",{"$f":"(\"1009260110\")","v":"1009260110"}]
["宗方サッカークラブ_16","宗方サッカークラブ",{"$f":"(\"16\")","v":"16"},"DF","後藤　彩希","ゴトウ　サキ",5,"女子小学生",{"$f":"(\"1012040090\")","v":"1012040090"}]
["宗方サッカークラブ_21","宗方サッカークラブ",{"$f":"(\"21\")","v":"21"},"GK","高森　颯誠","タカモリ　ソウマ",5,"男子",{"$f":"(\"1102180102\")","v":"1102180102"}]
["明治サッカースポーツ少年団_1","明治サッカースポーツ少年団",{"$f":"(\"1\")","v":"1"},"GK","沓掛　一裟","クツカケ　イッサ",5,"男子",{"$f":"(\"1008200152\")","v":"1008200152"}]
["明治サッカースポーツ少年団_4","明治サッカースポーツ少年団",{"$f":"(\"4\")","v":"4"},"FW","菊池　爽真","キクチ　ソウマ",5,"男子",{"$f":"(\"1007130049\")","v":"1007130049"}]
["明治サッカースポーツ少年団_5","明治サッカースポーツ少年団",{"$f":"(\"5\")","v":"5"},"DF","古家　遙真","フルイエ　ハルマ",5,"男子",{"$f":"(\"1010260141\")","v":"1010260141"},"○"]
["明治サッカースポーツ少年団_6","明治サッカースポーツ少年団",{"$f":"(\"6\")","v":"6"},"DF","日浦　上総","ヒウラ　カズサ",5,"男子",{"$f":"(\"1006140044\")","v":"1006140044"}]
["明治サッカースポーツ少年団_7","明治サッカースポーツ少年団",{"$f":"(\"7\")","v":"7"},"MF","吉川　侑来","ヨシカワ　ユライ",5,"男子",{"$f":"(\"1101100022\")","v":"1101100022"}]
["明治サッカースポーツ少年団_8","明治サッカースポーツ少年団",{"$f":"(\"8\")","v":"8"},"MF","伊藤　百萌","イトウ　モモ",5,"女子小学生",{"$f":"(\"1007210098\")","v":"1007210098"}]
["明治サッカースポーツ少年団_9","明治サッカースポーツ少年団",{"$f":"(\"9\")","v":"9"},"MF","中山　大我","ナカヤマ　オオガ",5,"男子",{"$f":"(\"1007150074\")","v":"1007150074"}]
["明治サッカースポーツ少年団_11","明治サッカースポーツ少年団",{"$f":"(\"11\")","v":"11"},"FW","那賀　敦輝","ナカ　アツキ",4,"男子",{"$f":"(\"1105180038\")","v":"1105180038"}]
["明治サッカースポーツ少年団_12","明治サッカースポーツ少年団",{"$f":"(\"12\")","v":"12"},"FW","園田　蓮","ソノダ　レン",4,"男子",{"$f":"(\"1107240072\")","v":"1107240072"}]
["明治サッカースポーツ少年団_13","明治サッカースポーツ少年団",{"$f":"(\"13\")","v":"13"},"FW","古澤　愛斗","フルサワ　マナト",4,"男子",{"$f":"(\"1112310040\")","v":"1112310040"}]
["明治サッカースポーツ少年団_14","明治サッカースポーツ少年団",{"$f":"(\"14\")","v":"14"},"DF","安藤　心大","アンドウ　シンタ",4,"男子",{"$f":"(\"1107130041\")","v":"1107130041"}]
["明治サッカースポーツ少年団_15","明治サッカースポーツ少年団",{"$f":"(\"15\")","v":"15"},"DF","相川　莉久","アイカワ　リク",4,"男子",{"$f":"(\"1104130072\")","v":"1104130072"}]
["明治サッカースポーツ少年団_16","明治サッカースポーツ少年団",{"$f":"(\"16\")","v":"16"},"GK","阿部　将大","アベ　ショウダイ",3,"男子",{"$f":"(\"1204120070\")","v":"1204120070"}]
["明治サッカースポーツ少年団_17","明治サッカースポーツ少年団",{"$f":"(\"17\")","v":"17"},"MF","河野　桜晴","カワノ　オウセイ",4,"男子",{"$f":"(\"1111300048\")","v":"1111300048"}]
["明治サッカースポーツ少年団_18","明治サッカースポーツ少年団",{"$f":"(\"18\")","v":"18"},"MF","金高　光哉","カネタカ　コウヤ",4,"男子",{"$f":"(\"1104050050\")","v":"1104050050"}]
["三佐サッカースポーツ少年団_1","三佐サッカースポーツ少年団",{"$f":"(\"1\")","v":"1"},"GK","高橋　優心","タカハシ　ユウシン",4,"男子",{"$f":"(\"1106260023\")","v":"1106260023"}]
["三佐サッカースポーツ少年団_2","三佐サッカースポーツ少年団",{"$f":"(\"2\")","v":"2"},"DF","河野　桜太","コウノ　オウタ",4,"男子",{"$f":"(\"1203310055\")","v":"1203310055"}]
["三佐サッカースポーツ少年団_3","三佐サッカースポーツ少年団",{"$f":"(\"3\")","v":"3"},"MF","向井　照真","ムカイ　テルマ",4,"男子",{"$f":"(\"1112020021\")","v":"1112020021"}]
["三佐サッカースポーツ少年団_4","三佐サッカースポーツ少年団",{"$f":"(\"4\")","v":"4"},"MF","植木　杏亮","ウエキ　キョウウスケ",4,"男子",{"$f":"(\"1110030093\")","v":"1110030093"}]
["三佐サッカースポーツ少年団_5","三佐サッカースポーツ少年団",{"$f":"(\"5\")","v":"5"},"FW","南　絢人","ミナミ　アヤト",4,"男子",{"$f":"(\"1111020104\")","v":"1111020104"}]
["三佐サッカースポーツ少年団_6","三佐サッカースポーツ少年団",{"$f":"(\"6\")","v":"6"},"DF","藤澤　健琉","フジサワ　タケル",4,"男子",{"$f":"(\"1202090027\")","v":"1202090027"}]
["三佐サッカースポーツ少年団_7","三佐サッカースポーツ少年団",{"$f":"(\"7\")","v":"7"},"DF","本久　湊","モトヒサ　ミナト",5,"男子",{"$f":"(\"1012160092\")","v":"1012160092"}]
["三佐サッカースポーツ少年団_8","三佐サッカースポーツ少年団",{"$f":"(\"8\")","v":"8"},"FW","亀井　翔太朗","カメイ　ショウタロウ",5,"男子",{"$f":"(\"1102230103\")","v":"1102230103"}]
["三佐サッカースポーツ少年団_9","三佐サッカースポーツ少年団",{"$f":"(\"9\")","v":"9"},"DF","三浦　喜与政","ミウラ　キヨマサ",5,"男子",{"$f":"(\"1007230178\")","v":"1007230178"}]
["三佐サッカースポーツ少年団_10","三佐サッカースポーツ少年団",{"$f":"(\"10\")","v":"10"},"MF","大山　翔","オオヤマ　ショウ",6,"男子",{"$f":"(\"1003170148\")","v":"1003170148"},"○"]
["三佐サッカースポーツ少年団_11","三佐サッカースポーツ少年団",{"$f":"(\"11\")","v":"11"},"GK","亀井　琥太朗","カメイ　コタロウ",6,"男子",{"$f":"(\"1001130206\")","v":"1001130206"}]
["三佐サッカースポーツ少年団_12","三佐サッカースポーツ少年団",{"$f":"(\"12\")","v":"12"},"DF","嶋津　琥珀","シマズ　コハク",3,"男子",{"$f":"(\"1209070013\")","v":"1209070013"}]
["三佐サッカースポーツ少年団_13","三佐サッカースポーツ少年団",{"$f":"(\"13\")","v":"13"},"MF","村上　魁仁","ムラカミ　カイト",3,"男子",{"$f":"(\"1304010006\")","v":"1304010006"}]
["三佐サッカースポーツ少年団_14","三佐サッカースポーツ少年団",{"$f":"(\"14\")","v":"14"},"GK","財前　遥仁","ザイゼン　ハルト",3,"男子",{"$f":"(\"1208050006\")","v":"1208050006"}]
["三佐サッカースポーツ少年団_15","三佐サッカースポーツ少年団",{"$f":"(\"15\")","v":"15"},"FW","古屋　直己","コヤ　ナオキ",4,"男子",{"$f":"(\"1107060045\")","v":"1107060045"}]
["三佐サッカースポーツ少年団_16","三佐サッカースポーツ少年団",{"$f":"(\"16\")","v":"16"},"DF","本久　旭","モトヒサ　アサヒ",3,"男子",{"$f":"(\"1210120012\")","v":"1210120012"}]
["明野西ＪＦＣ_1","明野西ＪＦＣ",{"$f":"(\"1\")","v":"1"},"GK","足立　徠","アダチ　ライ",5,"男子",{"$f":"(\"1009210028\")","v":"1009210028"}]
["明野西ＪＦＣ_2","明野西ＪＦＣ",{"$f":"(\"2\")","v":"2"},"DF","川副　孝仁","カワソエ　タカヒト",6,"男子",{"$f":"(\"0908270028\")","v":"0908270028"}]
["明野西ＪＦＣ_3","明野西ＪＦＣ",{"$f":"(\"3\")","v":"3"},"MF","植山　蒼大","ウエヤマ　アオト",6,"男子",{"$f":"(\"0906190216\")","v":"0906190216"}]
["明野西ＪＦＣ_4","明野西ＪＦＣ",{"$f":"(\"4\")","v":"4"},"FW","杉田　翔","スギタ　ショウ",5,"男子",{"$f":"(\"1101250160\")","v":"1101250160"}]
["明野西ＪＦＣ_5","明野西ＪＦＣ",{"$f":"(\"5\")","v":"5"},"MF","平田　彩純","ヒラタ　アスミ",5,"女子小学生",{"$f":"(\"1011250113\")","v":"1011250113"}]
["明野西ＪＦＣ_6","明野西ＪＦＣ",{"$f":"(\"6\")","v":"6"},"DF","中島　颯汰","ナカシマ　ソウタ",4,"男子",{"$f":"(\"1108120050\")","v":"1108120050"}]
["明野西ＪＦＣ_7","明野西ＪＦＣ",{"$f":"(\"7\")","v":"7"},"MF","足立　雅樹","アダチ　マサキ",5,"男子",{"$f":"(\"1009050006\")","v":"1009050006"}]
["明野西ＪＦＣ_8","明野西ＪＦＣ",{"$f":"(\"8\")","v":"8"},"MF","緒方　惇人","オガタ　アツト",5,"男子",{"$f":"(\"1103170157\")","v":"1103170157"}]
["明野西ＪＦＣ_9","明野西ＪＦＣ",{"$f":"(\"9\")","v":"9"},"DF","河村　奏汰","カワムラ　ソウタ",6,"男子",{"$f":"(\"0904180046\")","v":"0904180046"}]
["明野西ＪＦＣ_10","明野西ＪＦＣ",{"$f":"(\"10\")","v":"10"},"FW","松本　凌茉","マツモト　リョウマ",6,"男子",{"$f":"(\"0910030010\")","v":"0910030010"},"○"]
["明野西ＪＦＣ_11","明野西ＪＦＣ",{"$f":"(\"11\")","v":"11"},"MF","河村　芽依","カワムラ　メイ",4,"女子小学生",{"$f":"(\"1107260065\")","v":"1107260065"}]
["明野西ＪＦＣ_12","明野西ＪＦＣ",{"$f":"(\"12\")","v":"12"},"MF","髙浪　颯馬","タカナミ　ソウマ",5,"男子",{"$f":"(\"1008290077\")","v":"1008290077"}]
["金池長浜サッカースポーツ少年団_1","金池長浜サッカースポーツ少年団",{"$f":"(\"1\")","v":"1"},"GK","原田　啓央","ハラダ　ケイオウ",6,"男子",{"$f":"(\"0904300046\")","v":"0904300046"}]
["金池長浜サッカースポーツ少年団_2","金池長浜サッカースポーツ少年団",{"$f":"(\"2\")","v":"2"},"MF","須藤　世成","ストウ　セナ",5,"男子",{"$f":"(\"1005240035\")","v":"1005240035"}]
["金池長浜サッカースポーツ少年団_3","金池長浜サッカースポーツ少年団",{"$f":"(\"3\")","v":"3"},"MF","竹之内　浬","タケノウチ　カイリ",5,"男子",{"$f":"(\"1102200041\")","v":"1102200041"}]
["金池長浜サッカースポーツ少年団_4","金池長浜サッカースポーツ少年団",{"$f":"(\"4\")","v":"4"},"DF","熊谷　叶愛","クマガイ　トア",6,"男子",{"$f":"(\"1002140077\")","v":"1002140077"}]
["金池長浜サッカースポーツ少年団_5","金池長浜サッカースポーツ少年団",{"$f":"(\"5\")","v":"5"},"MF","秋月　瑚立","アキヅキ　コダチ",6,"男子",{"$f":"(\"0905110046\")","v":"0905110046"}]
["金池長浜サッカースポーツ少年団_6","金池長浜サッカースポーツ少年団",{"$f":"(\"6\")","v":"6"},"DF","末廣　陸駈","スエヒロ　リク",6,"男子",{"$f":"(\"0906200217\")","v":"0906200217"}]
["金池長浜サッカースポーツ少年団_7","金池長浜サッカースポーツ少年団",{"$f":"(\"7\")","v":"7"},"DF","木原　悠聖","キハラ　ユウセイ",6,"男子",{"$f":"(\"0910110004\")","v":"0910110004"}]
["金池長浜サッカースポーツ少年団_8","金池長浜サッカースポーツ少年団",{"$f":"(\"8\")","v":"8"},"MF","有田　遍","アリタ　アマネ",6,"女子小学生",{"$f":"(\"0910100028\")","v":"0910100028"}]
["金池長浜サッカースポーツ少年団_9","金池長浜サッカースポーツ少年団",{"$f":"(\"9\")","v":"9"},"MF","坂田　靖明","サカタ　ヤスアキ",6,"男子",{"$f":"(\"0907310178\")","v":"0907310178"}]
["金池長浜サッカースポーツ少年団_10","金池長浜サッカースポーツ少年団",{"$f":"(\"10\")","v":"10"},"FW","水江　泰雅","ミズエ　タイガ",6,"男子",{"$f":"(\"0907080108\")","v":"0907080108"},"○"]
["金池長浜サッカースポーツ少年団_11","金池長浜サッカースポーツ少年団",{"$f":"(\"11\")","v":"11"},"FW","繁里　勇吾","シゲサト　ユウゴ",6,"男子",{"$f":"(\"0906200027\")","v":"0906200027"}]
[{"$f":"CONCATENATE(B769,\"_\",C769)","v":"金池長浜サッカースポーツ少年団_14"},"金池長浜サッカースポーツ少年団",{"$f":"(\"14\")","v":"14"},"MF","大野　仁","オオノ　ジン",5,"男子",{"$f":"(\"1004220142\")","v":"1004220142"}]
["金池長浜サッカースポーツ少年団_15","金池長浜サッカースポーツ少年団",{"$f":"(\"15\")","v":"15"},"MF","小野　颯人","オノ　ハヤト",5,"男子",{"$f":"(\"1007020191\")","v":"1007020191"}]
["金池長浜サッカースポーツ少年団_16","金池長浜サッカースポーツ少年団",{"$f":"(\"16\")","v":"16"},"GK","利光　蒼太","トシミツ　ソウタ",6,"男子",{"$f":"(\"0911100082\")","v":"0911100082"}]
["金池長浜サッカースポーツ少年団_18","金池長浜サッカースポーツ少年団",{"$f":"(\"18\")","v":"18"},"FW","藤田　修亮","フジタ　シュウスケ",4,"男子",{"$f":"(\"1110230057\")","v":"1110230057"}]
["金池長浜サッカースポーツ少年団_21","金池長浜サッカースポーツ少年団",{"$f":"(\"21\")","v":"21"},"GK","小野　清志郎","オノ　キヨシロウ",5,"男子",{"$f":"(\"1101310029\")","v":"1101310029"}]
["日岡サッカースポーツ少年団_1","日岡サッカースポーツ少年団",{"$f":"(\"1\")","v":"1"},"GK","伊藤　勇人","イトウ　ハヤト",6,"男子",{"$f":"(\"0908130117\")","v":"0908130117"},"○"]
["日岡サッカースポーツ少年団_2","日岡サッカースポーツ少年団",{"$f":"(\"2\")","v":"2"},"MF","後藤　里央奈","ゴトウ　リオナ",4,"女子小学生",{"$f":"(\"1202210092\")","v":"1202210092"}]
["日岡サッカースポーツ少年団_3","日岡サッカースポーツ少年団",{"$f":"(\"3\")","v":"3"},"MF","橋本　蓮","ハシモト　レン",4,"男子",{"$f":"(\"1104090095\")","v":"1104090095"}]
["日岡サッカースポーツ少年団_4","日岡サッカースポーツ少年団",{"$f":"(\"4\")","v":"4"},"FW","長尾　龍真","ナガオ　リョウマ",4,"男子",{"$f":"(\"1111290106\")","v":"1111290106"}]
["日岡サッカースポーツ少年団_5","日岡サッカースポーツ少年団",{"$f":"(\"5\")","v":"5"},"DF","柴田　大志","シバタ　タイシ",6,"男子",{"$f":"(\"0908150091\")","v":"0908150091"}]
["日岡サッカースポーツ少年団_6","日岡サッカースポーツ少年団",{"$f":"(\"6\")","v":"6"},"FW","野上　颯太","ノガミ　ソウタ",4,"男子",{"$f":"(\"1107220143\")","v":"1107220143"}]
["日岡サッカースポーツ少年団_7","日岡サッカースポーツ少年団",{"$f":"(\"7\")","v":"7"},"DF","北原　幸侑","キタハラ　コウスケ",5,"男子",{"$f":"(\"1004230149\")","v":"1004230149"}]
["日岡サッカースポーツ少年団_8","日岡サッカースポーツ少年団",{"$f":"(\"8\")","v":"8"},"DF","後藤　喬亮","ゴトウ　キョウスケ",5,"男子",{"$f":"(\"1006100162\")","v":"1006100162"}]
["日岡サッカースポーツ少年団_9","日岡サッカースポーツ少年団",{"$f":"(\"9\")","v":"9"},"MF","首藤　志音","シュトウ　シオン",5,"男子",{"$f":"(\"1004100155\")","v":"1004100155"}]
["日岡サッカースポーツ少年団_10","日岡サッカースポーツ少年団",{"$f":"(\"10\")","v":"10"},"MF","矢野　都織","ヤノ　トオリ",5,"男子",{"$f":"(\"1005190036\")","v":"1005190036"}]
["日岡サッカースポーツ少年団_11","日岡サッカースポーツ少年団",{"$f":"(\"11\")","v":"11"},"FW","佐藤　凛月","サトウ　リツキ",5,"男子",{"$f":"(\"1011160027\")","v":"1011160027"}]
["日岡サッカースポーツ少年団_12","日岡サッカースポーツ少年団",{"$f":"(\"12\")","v":"12"},"FW","柴田　光貴","シバタ　コウキ",3,"男子",{"$f":"(\"1210080035\")","v":"1210080035"}]
["日岡サッカースポーツ少年団_15","日岡サッカースポーツ少年団",{"$f":"(\"15\")","v":"15"},"DF","北原　悠翔","キタハラ　ユウト",3,"男子",{"$f":"(\"1209070050\")","v":"1209070050"}]
["日岡サッカースポーツ少年団_17","日岡サッカースポーツ少年団",{"$f":"(\"17\")","v":"17"},"GK","伊藤　大翔","イトウ　ヤマト",3,"男子",{"$f":"(\"1212200066\")","v":"1212200066"}]
["城南サッカースポーツ少年団_1","城南サッカースポーツ少年団",{"$f":"(\"1\")","v":"1"},"GK","二宮　蓮王","ニノミヤ　レオ",4,"男子",{"$f":"(\"1107160016\")","v":"1107160016"}]
["城南サッカースポーツ少年団_3","城南サッカースポーツ少年団",{"$f":"(\"3\")","v":"3"},"MF","首藤　那文","シュトウ　トモフミ",6,"男子",{"$f":"(\"0910060045\")","v":"0910060045"}]
["城南サッカースポーツ少年団_5","城南サッカースポーツ少年団",{"$f":"(\"5\")","v":"5"},"MF","足立　誠悟","アダチ　セイゴ",4,"男子",{"$f":"(\"1107050075\")","v":"1107050075"}]
["城南サッカースポーツ少年団_6","城南サッカースポーツ少年団",{"$f":"(\"6\")","v":"6"},"DF","二宮　蘭","ニノミヤ　ラン",6,"女子小学生",{"$f":"(\"0907140051\")","v":"0907140051"},"○"]
["城南サッカースポーツ少年団_7","城南サッカースポーツ少年団",{"$f":"(\"7\")","v":"7"},"FW","貝塚　新","カイヅカ　アラタ",5,"男子",{"$f":"(\"1009160080\")","v":"1009160080"}]
["城南サッカースポーツ少年団_8","城南サッカースポーツ少年団",{"$f":"(\"8\")","v":"8"},"DF","嶋末　想平","シマスエ　ソウヘイ",6,"男子",{"$f":"(\"0912280157\")","v":"0912280157"}]
["城南サッカースポーツ少年団_9","城南サッカースポーツ少年団",{"$f":"(\"9\")","v":"9"},"DF","岡部　聡咲","オカベ　ソウサク",6,"男子",{"$f":"(\"0908310111\")","v":"0908310111"}]
["城南サッカースポーツ少年団_10","城南サッカースポーツ少年団",{"$f":"(\"10\")","v":"10"},"MF","松浦　朝陽","マツウラ　アサヒ",5,"男子",{"$f":"(\"1103300034\")","v":"1103300034"}]
["城南サッカースポーツ少年団_11","城南サッカースポーツ少年団",{"$f":"(\"11\")","v":"11"},"DF","山本　蒼汰","ヤマモト　ソウタ",4,"男子",{"$f":"(\"1201070008\")","v":"1201070008"}]
["城南サッカースポーツ少年団_12","城南サッカースポーツ少年団",{"$f":"(\"12\")","v":"12"},"MF","森﨑　悠斗","モリサキ　ユウト",5,"男子",{"$f":"(\"1005150061\")","v":"1005150061"}]
["城南サッカースポーツ少年団_13","城南サッカースポーツ少年団",{"$f":"(\"13\")","v":"13"},"FW","宮部　拓斗","ミヤベ　タクト",4,"男子",{"$f":"(\"1107140152\")","v":"1107140152"}]
["城南サッカースポーツ少年団_14","城南サッカースポーツ少年団",{"$f":"(\"14\")","v":"14"},"FW","久保　絆人","クボ　キト",4,"男子",{"$f":"(\"1104150037\")","v":"1104150037"}]
["城南サッカースポーツ少年団_15","城南サッカースポーツ少年団",{"$f":"(\"15\")","v":"15"},"DF","阿南　櫂","アナン　カイ",4,"男子",{"$f":"(\"1111030036\")","v":"1111030036"}]
["荏隈サッカースポーツ少年団_1","荏隈サッカースポーツ少年団",{"$f":"(\"1\")","v":"1"},"GK","安東　新泰","アンドウ　アラタ",5,"男子",{"$f":"(\"1008090024\")","v":"1008090024"}]
["荏隈サッカースポーツ少年団_6","荏隈サッカースポーツ少年団",{"$f":"(\"6\")","v":"6"},"MF","小野　蓮華","オノ　レンカ",4,"女子小学生",{"$f":"(\"1111040043\")","v":"1111040043"}]
["荏隈サッカースポーツ少年団_7","荏隈サッカースポーツ少年団",{"$f":"(\"7\")","v":"7"},"MF","中村　楽","ナカムラ　ガク",5,"男子",{"$f":"(\"1010120043\")","v":"1010120043"}]
["荏隈サッカースポーツ少年団_8","荏隈サッカースポーツ少年団",{"$f":"(\"8\")","v":"8"},"FW","鈴木　玲央","スズキ　レオ",3,"男子",{"$f":"(\"1205090015\")","v":"1205090015"}]
["荏隈サッカースポーツ少年団_9","荏隈サッカースポーツ少年団",{"$f":"(\"9\")","v":"9"},"FW","鈴木　琉斗","スズキ　リュウト",5,"男子",{"$f":"(\"1007240021\")","v":"1007240021"}]
["荏隈サッカースポーツ少年団_10","荏隈サッカースポーツ少年団",{"$f":"(\"10\")","v":"10"},"MF","佐藤　大翔","サトウ　ハルト",6,"男子",{"$f":"(\"0906060036\")","v":"0906060036"},"○"]
["荏隈サッカースポーツ少年団_11","荏隈サッカースポーツ少年団",{"$f":"(\"11\")","v":"11"},"FW","古門　倖太","フルカド　コウタ",6,"男子",{"$f":"(\"0907030022\")","v":"0907030022"}]
["荏隈サッカースポーツ少年団_12","荏隈サッカースポーツ少年団",{"$f":"(\"12\")","v":"12"},"MF","安部　稜大","アベ　リョウタ",3,"男子",{"$f":"(\"1209290006\")","v":"1209290006"}]
["荏隈サッカースポーツ少年団_13","荏隈サッカースポーツ少年団",{"$f":"(\"13\")","v":"13"},"MF","佐藤　大夢","サトウ　ヒロム",3,"男子",{"$f":"(\"1301250007\")","v":"1301250007"}]
["荏隈サッカースポーツ少年団_14","荏隈サッカースポーツ少年団",{"$f":"(\"14\")","v":"14"},"FW","下村　優斗","シモムラ　ユウト",3,"男子",{"$f":"(\"1212270013\")","v":"1212270013"}]
["荏隈サッカースポーツ少年団_15","荏隈サッカースポーツ少年団",{"$f":"(\"15\")","v":"15"},"MF","芦刈　翔真","アシカリ　ショウマ",3,"男子",{"$f":"(\"1205040026\")","v":"1205040026"}]
["荏隈サッカースポーツ少年団_17","荏隈サッカースポーツ少年団",{"$f":"(\"17\")","v":"17"},"FW","武生　琉翔","タケオ　ルイト",4,"男子",{"$f":"(\"1202180089\")","v":"1202180089"}]
["荏隈サッカースポーツ少年団_18","荏隈サッカースポーツ少年団",{"$f":"(\"18\")","v":"18"},"DF","河野　快音","カワノ　カイト",4,"男子",{"$f":"(\"1110140103\")","v":"1110140103"}]
["稙田ＦＣサッカースポーツ少年団_1","稙田ＦＣサッカースポーツ少年団",{"$f":"(\"1\")","v":"1"},"GK","北川　藍生","キタガワ　アイキ",5,"男子",{"$f":"(\"1102270089\")","v":"1102270089"}]
["稙田ＦＣサッカースポーツ少年団_2","稙田ＦＣサッカースポーツ少年団",{"$f":"(\"2\")","v":"2"},"DF","増野　橙磨","マスノ　トウマ",5,"男子",{"$f":"(\"1101170127\")","v":"1101170127"}]
["稙田ＦＣサッカースポーツ少年団_3","稙田ＦＣサッカースポーツ少年団",{"$f":"(\"3\")","v":"3"},"DF","平川　優斗","ヒラカワ　ユウト",6,"男子",{"$f":"(\"0909040202\")","v":"0909040202"}]
["稙田ＦＣサッカースポーツ少年団_4","稙田ＦＣサッカースポーツ少年団",{"$f":"(\"4\")","v":"4"},"DF","奥村　勇斗","オクムラ　ハヤト",6,"男子",{"$f":"(\"1003170078\")","v":"1003170078"},"○"]
["稙田ＦＣサッカースポーツ少年団_5","稙田ＦＣサッカースポーツ少年団",{"$f":"(\"5\")","v":"5"},"DF","澤谷　昊汰","サワヤ　コウタ",5,"男子",{"$f":"(\"1010060173\")","v":"1010060173"}]
["稙田ＦＣサッカースポーツ少年団_6","稙田ＦＣサッカースポーツ少年団",{"$f":"(\"6\")","v":"6"},"MF","前田　康瑛","マエダ　コウエイ",6,"男子",{"$f":"(\"0905210224\")","v":"0905210224"}]
["稙田ＦＣサッカースポーツ少年団_7","稙田ＦＣサッカースポーツ少年団",{"$f":"(\"7\")","v":"7"},"MF","藤野　璃空","フジノ　リクウ",5,"男子",{"$f":"(\"1011250151\")","v":"1011250151"}]
["稙田ＦＣサッカースポーツ少年団_8","稙田ＦＣサッカースポーツ少年団",{"$f":"(\"8\")","v":"8"},"MF","野々下　未來","ノノシタ　ミライ",6,"男子",{"$f":"(\"1003140113\")","v":"1003140113"}]
["稙田ＦＣサッカースポーツ少年団_9","稙田ＦＣサッカースポーツ少年団",{"$f":"(\"9\")","v":"9"},"MF","長野　佑都","ナガノ　ユウト",5,"男子",{"$f":"(\"1008300116\")","v":"1008300116"}]
["稙田ＦＣサッカースポーツ少年団_10","稙田ＦＣサッカースポーツ少年団",{"$f":"(\"10\")","v":"10"},"FW","安部　莉依子","アベ　リイコ",6,"女子小学生",{"$f":"(\"0912080195\")","v":"0912080195"}]
["稙田ＦＣサッカースポーツ少年団_11","稙田ＦＣサッカースポーツ少年団",{"$f":"(\"11\")","v":"11"},"MF","長岡　暖真","ナガオカ　ハルマ",5,"男子",{"$f":"(\"1101200118\")","v":"1101200118"}]
["稙田ＦＣサッカースポーツ少年団_12","稙田ＦＣサッカースポーツ少年団",{"$f":"(\"12\")","v":"12"},"MF","戸田　有哉","トダ　ユウヤ",5,"男子",{"$f":"(\"1007210156\")","v":"1007210156"}]
["稙田ＦＣサッカースポーツ少年団_13","稙田ＦＣサッカースポーツ少年団",{"$f":"(\"13\")","v":"13"},"MF","漆間　悠介","ウルマ　ユウスケ",5,"男子",{"$f":"(\"1009020155\")","v":"1009020155"}]
["稙田ＦＣサッカースポーツ少年団_14","稙田ＦＣサッカースポーツ少年団",{"$f":"(\"14\")","v":"14"},"DF","漆間　琉晟","ウルマ　リュウセイ",5,"男子",{"$f":"(\"1103010097\")","v":"1103010097"}]
["稙田ＦＣサッカースポーツ少年団_15","稙田ＦＣサッカースポーツ少年団",{"$f":"(\"15\")","v":"15"},"MF","宮本　櫂吏","ミヤモト　カイリ",5,"男子",{"$f":"(\"1102190051\")","v":"1102190051"}]
["稙田ＦＣサッカースポーツ少年団_16","稙田ＦＣサッカースポーツ少年団",{"$f":"(\"16\")","v":"16"},"FW","松岡　航希","マツオカ　コウキ",5,"男子",{"$f":"(\"1006220182\")","v":"1006220182"}]
["北郡坂ノ市サッカースポーツ少年団_1","北郡坂ノ市サッカースポーツ少年団",{"$f":"(\"1\")","v":"1"},"GK","敷嶋　慶武","シキシマ　ケイタ",5,"男子",{"$f":"(\"1008310104\")","v":"1008310104"}]
["北郡坂ノ市サッカースポーツ少年団_2","北郡坂ノ市サッカースポーツ少年団",{"$f":"(\"2\")","v":"2"},"DF","岩本　悠","イワモト　ユウ",6,"男子",{"$f":"(\"1002080181\")","v":"1002080181"}]
["北郡坂ノ市サッカースポーツ少年団_3","北郡坂ノ市サッカースポーツ少年団",{"$f":"(\"3\")","v":"3"},"DF","山田　凪","ヤマダ　ナギ",6,"男子",{"$f":"(\"0911290116\")","v":"0911290116"}]
[{"$f":"CONCATENATE(B833,\"_\",C833)","v":"北郡坂ノ市サッカースポーツ少年団_4"},"北郡坂ノ市サッカースポーツ少年団",{"$f":"(\"4\")","v":"4"},"DF","仲村　健介","ナカムラ　ケンスケ",5,"男子",{"$f":"(\"1005240130\")","v":"1005240130"}]
["北郡坂ノ市サッカースポーツ少年団_5","北郡坂ノ市サッカースポーツ少年団",{"$f":"(\"5\")","v":"5"},"DF","河野　龍太郎","カワノ　リュウタロウ",6,"男子",{"$f":"(\"0905160173\")","v":"0905160173"}]
["北郡坂ノ市サッカースポーツ少年団_7","北郡坂ノ市サッカースポーツ少年団",{"$f":"(\"7\")","v":"7"},"DF","高野　泰成","タカノ　タイセイ",6,"男子",{"$f":"(\"0904210228\")","v":"0904210228"}]
["北郡坂ノ市サッカースポーツ少年団_9","北郡坂ノ市サッカースポーツ少年団",{"$f":"(\"9\")","v":"9"},"FW","串間　一貴","クシマ　カズキ",6,"男子",{"$f":"(\"0911110189\")","v":"0911110189"}]
["北郡坂ノ市サッカースポーツ少年団_10","北郡坂ノ市サッカースポーツ少年団",{"$f":"(\"10\")","v":"10"},"MF","釘宮　央","クギミヤ　ヒロ",6,"男子",{"$f":"(\"0911200168\")","v":"0911200168"}]
["北郡坂ノ市サッカースポーツ少年団_11","北郡坂ノ市サッカースポーツ少年団",{"$f":"(\"11\")","v":"11"},"FW","梶原　晟瑠紫","カジワラ　テルム",5,"男子",{"$f":"(\"1004180091\")","v":"1004180091"}]
["北郡坂ノ市サッカースポーツ少年団_12","北郡坂ノ市サッカースポーツ少年団",{"$f":"(\"12\")","v":"12"},"MF","安部　煌大","アベ　コウダイ",5,"男子",{"$f":"(\"1005120136\")","v":"1005120136"}]
["北郡坂ノ市サッカースポーツ少年団_13","北郡坂ノ市サッカースポーツ少年団",{"$f":"(\"13\")","v":"13"},"MF","大塚　蒼生","オオツカ　アオイ",5,"男子",{"$f":"(\"1102150171\")","v":"1102150171"}]
["北郡坂ノ市サッカースポーツ少年団_14","北郡坂ノ市サッカースポーツ少年団",{"$f":"(\"14\")","v":"14"},"DF","高橋　泰來","タカハシ　タイラ",5,"男子",{"$f":"(\"1006160160\")","v":"1006160160"}]
["北郡坂ノ市サッカースポーツ少年団_15","北郡坂ノ市サッカースポーツ少年団",{"$f":"(\"15\")","v":"15"},"FW","釘宮　蓮","クギミヤ　レン",4,"男子",{"$f":"(\"1110030134\")","v":"1110030134"},"○"]
["田尻サッカースポーツ少年団_1","田尻サッカースポーツ少年団",{"$f":"(\"1\")","v":"1"},"GK","石崎　裕真","イシザキ　ユウシン",6,"男子",{"$f":"(\"0906080200\")","v":"0906080200"}]
["田尻サッカースポーツ少年団_2","田尻サッカースポーツ少年団",{"$f":"(\"2\")","v":"2"},"MF","小曽根　育太","コゾネ　イクタ",3,"男子",{"$f":"(\"1204300076\")","v":"1204300076"}]
["田尻サッカースポーツ少年団_3","田尻サッカースポーツ少年団",{"$f":"(\"3\")","v":"3"},"MF","油布　壮太郎","ユフ　ソウタロウ",4,"男子",{"$f":"(\"1201220057\")","v":"1201220057"}]
["田尻サッカースポーツ少年団_4","田尻サッカースポーツ少年団",{"$f":"(\"4\")","v":"4"},"DF","和田　結人","ワダ　ユウト",6,"男子",{"$f":"(\"0912030162\")","v":"0912030162"}]
["田尻サッカースポーツ少年団_5","田尻サッカースポーツ少年団",{"$f":"(\"5\")","v":"5"},"DF","東納　凛空","トウノウ　リク",6,"男子",{"$f":"(\"0912230013\")","v":"0912230013"}]
["田尻サッカースポーツ少年団_6","田尻サッカースポーツ少年団",{"$f":"(\"6\")","v":"6"},"MF","植木　大地","ウエキ　ダイチ",4,"男子",{"$f":"(\"1110050098\")","v":"1110050098"}]
["田尻サッカースポーツ少年団_7","田尻サッカースポーツ少年団",{"$f":"(\"7\")","v":"7"},"FW","江田　力空","コウダ　リク",6,"男子",{"$f":"(\"1001190017\")","v":"1001190017"}]
["田尻サッカースポーツ少年団_8","田尻サッカースポーツ少年団",{"$f":"(\"8\")","v":"8"},"MF","江田　拓空","コウダ　タク",6,"男子",{"$f":"(\"1001190018\")","v":"1001190018"}]
["田尻サッカースポーツ少年団_9","田尻サッカースポーツ少年団",{"$f":"(\"9\")","v":"9"},"FW","浜小路　大智","ハマショウジ　ダイチ",6,"男子",{"$f":"(\"0906250173\")","v":"0906250173"}]
["田尻サッカースポーツ少年団_10","田尻サッカースポーツ少年団",{"$f":"(\"10\")","v":"10"},"MF","池永　蒼生","イケナガ　アオイ",6,"男子",{"$f":"(\"0906130013\")","v":"0906130013"},"○"]
["田尻サッカースポーツ少年団_11","田尻サッカースポーツ少年団",{"$f":"(\"11\")","v":"11"},"DF","石井　悠貴","イシイ　ハルキ",6,"男子",{"$f":"(\"0910080106\")","v":"0910080106"}]
["田尻サッカースポーツ少年団_12","田尻サッカースポーツ少年団",{"$f":"(\"12\")","v":"12"},"DF","原田　蒼汰","ハラダ　ソウタ",4,"男子",{"$f":"(\"1107150085\")","v":"1107150085"}]
["田尻サッカースポーツ少年団_14","田尻サッカースポーツ少年団",{"$f":"(\"14\")","v":"14"},"MF","村山　拓海","ムラヤマ　タクミ",5,"男子",{"$f":"(\"1005300009\")","v":"1005300009"}]
["田尻サッカースポーツ少年団_15","田尻サッカースポーツ少年団",{"$f":"(\"15\")","v":"15"},"MF","黒田　千寿","クロダ　チトセ",5,"男子",{"$f":"(\"1008110174\")","v":"1008110174"}]
["田尻サッカースポーツ少年団_18","田尻サッカースポーツ少年団",{"$f":"(\"18\")","v":"18"},"MF","末宗　篤人","スエムネ　アツト",6,"男子",{"$f":"(\"1003220007\")","v":"1003220007"}]
["判田サッカースポーツ少年団_1","判田サッカースポーツ少年団",{"$f":"(\"1\")","v":"1"},"GK","長野　巧","ナガノ　タクミ",5,"男子",{"$f":"(\"1009140012\")","v":"1009140012"}]
["判田サッカースポーツ少年団_2","判田サッカースポーツ少年団",{"$f":"(\"2\")","v":"2"},"DF","山崎　淳太","ヤマサキ　ジュンタ",6,"男子",{"$f":"(\"0907200198\")","v":"0907200198"}]
["判田サッカースポーツ少年団_3","判田サッカースポーツ少年団",{"$f":"(\"3\")","v":"3"},"DF","小代　朔","オジロ　サク",6,"男子",{"$f":"(\"1003030031\")","v":"1003030031"}]
["判田サッカースポーツ少年団_5","判田サッカースポーツ少年団",{"$f":"(\"5\")","v":"5"},"MF","渡邊　蒼一朗","ワタナベ　ソウイチロウ",5,"男子",{"$f":"(\"1005150040\")","v":"1005150040"}]
["判田サッカースポーツ少年団_6","判田サッカースポーツ少年団",{"$f":"(\"6\")","v":"6"},"FW","佐藤　楓真","サトウ　フウマ",5,"男子",{"$f":"(\"1009290039\")","v":"1009290039"}]
["判田サッカースポーツ少年団_7","判田サッカースポーツ少年団",{"$f":"(\"7\")","v":"7"},"DF","西條　伶","サイジョウ　リョウ",5,"男子",{"$f":"(\"1006060064\")","v":"1006060064"}]
["判田サッカースポーツ少年団_9","判田サッカースポーツ少年団",{"$f":"(\"9\")","v":"9"},"FW","小野　大和","オノ　ヤマト",6,"男子",{"$f":"(\"0910230039\")","v":"0910230039"}]
["判田サッカースポーツ少年団_10","判田サッカースポーツ少年団",{"$f":"(\"10\")","v":"10"},"MF","高橋　璃央","タカハシ　リオ",6,"男子",{"$f":"(\"1003060023\")","v":"1003060023"},"○"]
["判田サッカースポーツ少年団_13","判田サッカースポーツ少年団",{"$f":"(\"13\")","v":"13"},"FW","森田　一真","モリタ　カズマ",5,"男子",{"$f":"(\"1006060049\")","v":"1006060049"}]
["判田サッカースポーツ少年団_14","判田サッカースポーツ少年団",{"$f":"(\"14\")","v":"14"},"DF","三浦　琉空","ミウラ　リク",5,"男子",{"$f":"(\"1009140062\")","v":"1009140062"}]
["判田サッカースポーツ少年団_15","判田サッカースポーツ少年団",{"$f":"(\"15\")","v":"15"},"FW","友永　英汰","トモナガ　エイタ",6,"男子",{"$f":"(\"0909070060\")","v":"0909070060"}]
["判田サッカースポーツ少年団_17","判田サッカースポーツ少年団",{"$f":"(\"17\")","v":"17"},"GK","小田　優斗","オダ　ユウト",5,"男子",{"$f":"(\"1101200072\")","v":"1101200072"}]
["賀来ジュニアサッカークラブ_1","賀来ジュニアサッカークラブ",{"$f":"(\"1\")","v":"1"},"GK","井上　遼太","イノウエ　リョウタ",6,"男子",{"$f":"(\"1003190085\")","v":"1003190085"}]
["賀来ジュニアサッカークラブ_2","賀来ジュニアサッカークラブ",{"$f":"(\"2\")","v":"2"},"FW","恵藤　和海","エトウ　カズミ",5,"男子",{"$f":"(\"1011010105\")","v":"1011010105"}]
["賀来ジュニアサッカークラブ_3","賀来ジュニアサッカークラブ",{"$f":"(\"3\")","v":"3"},"DF","佐藤　太一","サトウ　タイチ",5,"男子",{"$f":"(\"1007210101\")","v":"1007210101"}]
["賀来ジュニアサッカークラブ_4","賀来ジュニアサッカークラブ",{"$f":"(\"4\")","v":"4"},"DF","霍田　基","ツルタ　モトキ",6,"男子",{"$f":"(\"1001080235\")","v":"1001080235"}]
["賀来ジュニアサッカークラブ_5","賀来ジュニアサッカークラブ",{"$f":"(\"5\")","v":"5"},"DF","土屋　凌玖","ツチヤ　リク",5,"男子",{"$f":"(\"1008300099\")","v":"1008300099"}]
["賀来ジュニアサッカークラブ_7","賀来ジュニアサッカークラブ",{"$f":"(\"7\")","v":"7"},"DF","甲斐　咲渡","カイ　サクト",6,"男子",{"$f":"(\"0907160031\")","v":"0907160031"},"○"]
["賀来ジュニアサッカークラブ_8","賀来ジュニアサッカークラブ",{"$f":"(\"8\")","v":"8"},"DF","副田　大晴","ソエダ　タイセイ",6,"男子",{"$f":"(\"0906090146\")","v":"0906090146"}]
["賀来ジュニアサッカークラブ_9","賀来ジュニアサッカークラブ",{"$f":"(\"9\")","v":"9"},"MF","一丸　諒丞","イチマル　リョウスケ",6,"男子",{"$f":"(\"0910020004\")","v":"0910020004"}]
["賀来ジュニアサッカークラブ_10","賀来ジュニアサッカークラブ",{"$f":"(\"10\")","v":"10"},"MF","藤原　世","フジワラ　セイ",6,"男子",{"$f":"(\"0906200019\")","v":"0906200019"}]
["賀来ジュニアサッカークラブ_11","賀来ジュニアサッカークラブ",{"$f":"(\"11\")","v":"11"},"DF","工藤　颯真","クドウ　ソウマ",4,"男子",{"$f":"(\"1111050072\")","v":"1111050072"}]
["賀来ジュニアサッカークラブ_12","賀来ジュニアサッカークラブ",{"$f":"(\"12\")","v":"12"},"MF","二宮　八大","ニノミヤ　ハチダイ",5,"男子",{"$f":"(\"1010130252\")","v":"1010130252"}]
["桃園サッカースポーツ少年団_1","桃園サッカースポーツ少年団",{"$f":"(\"1\")","v":"1"},"GK","保月　信司","ホズキ　シンジ",6,"男子",{"$f":"(\"0906220014\")","v":"0906220014"}]
["桃園サッカースポーツ少年団_2","桃園サッカースポーツ少年団",{"$f":"(\"2\")","v":"2"},"DF","菅原　泰成","スガハラ　タイセイ",5,"男子",{"$f":"(\"1010310003\")","v":"1010310003"}]
["桃園サッカースポーツ少年団_3","桃園サッカースポーツ少年団",{"$f":"(\"3\")","v":"3"},"FW","宗　志優","ソウ　シユウ",5,"男子",{"$f":"(\"1006290024\")","v":"1006290024"}]
["桃園サッカースポーツ少年団_4","桃園サッカースポーツ少年団",{"$f":"(\"4\")","v":"4"},"DF","三辻　悠太","ミツジ　ユウタ",6,"男子",{"$f":"(\"1003290003\")","v":"1003290003"}]
["桃園サッカースポーツ少年団_5","桃園サッカースポーツ少年団",{"$f":"(\"5\")","v":"5"},"DF","長岡　輝一","ナガオカ　キイチ",5,"男子",{"$f":"(\"1008060046\")","v":"1008060046"}]
["桃園サッカースポーツ少年団_6","桃園サッカースポーツ少年団",{"$f":"(\"6\")","v":"6"},"MF","髙野　充生","タカノ　アツキ",5,"男子",{"$f":"(\"1010040019\")","v":"1010040019"}]
["桃園サッカースポーツ少年団_7","桃園サッカースポーツ少年団",{"$f":"(\"7\")","v":"7"},"MF","岩田　凌明","イワタ　リョウメイ",6,"男子",{"$f":"(\"0910180027\")","v":"0910180027"}]
["桃園サッカースポーツ少年団_8","桃園サッカースポーツ少年団",{"$f":"(\"8\")","v":"8"},"MF","宮﨑　琉愛","ミヤザキ　ルア",6,"女子小学生",{"$f":"(\"0904100035\")","v":"0904100035"}]
["桃園サッカースポーツ少年団_9","桃園サッカースポーツ少年団",{"$f":"(\"9\")","v":"9"},"FW","牧　礼真","マキ　レイシン",6,"男子",{"$f":"(\"1002130008\")","v":"1002130008"}]
["桃園サッカースポーツ少年団_10","桃園サッカースポーツ少年団",{"$f":"(\"10\")","v":"10"},"MF","阿部　祐世","アベ　ユウセイ",6,"男子",{"$f":"(\"0909010001\")","v":"0909010001"},"○"]
["桃園サッカースポーツ少年団_11","桃園サッカースポーツ少年団",{"$f":"(\"11\")","v":"11"},"MF","長尾　晟太朗","ナガオ　セイタロウ",5,"男子",{"$f":"(\"1004110111\")","v":"1004110111"}]
["桃園サッカースポーツ少年団_12","桃園サッカースポーツ少年団",{"$f":"(\"12\")","v":"12"},"GK","村上　陽哉","ムラカミ　ハルヤ",4,"男子",{"$f":"(\"1106300012\")","v":"1106300012"}]
["桃園サッカースポーツ少年団_13","桃園サッカースポーツ少年団",{"$f":"(\"13\")","v":"13"},"MF","金崎　瑞樹","カナザキ　ミズキ",5,"男子",{"$f":"(\"1011200017\")","v":"1011200017"}]
["桃園サッカースポーツ少年団_14","桃園サッカースポーツ少年団",{"$f":"(\"14\")","v":"14"},"MF","佐藤　俊平","サトウ　シュンペイ",5,"男子",{"$f":"(\"1006140092\")","v":"1006140092"}]
["桃園サッカースポーツ少年団_15","桃園サッカースポーツ少年団",{"$f":"(\"15\")","v":"15"},"FW","衛藤　空樹","エトウ　アイキ",4,"男子",{"$f":"(\"1104020011\")","v":"1104020011"}]
["桃園サッカースポーツ少年団_16","桃園サッカースポーツ少年団",{"$f":"(\"16\")","v":"16"},"MF","西　琉汰","ニシ　リュウタ",4,"男子",{"$f":"(\"1108150011\")","v":"1108150011"}]
[{"$f":"CONCATENATE(B897,\"_\",C897)","v":"日出サッカースポーツ少年団_1"},"日出サッカースポーツ少年団",{"$f":"(\"1\")","v":"1"},"GK","幸　遥愛","ユキ　ハルア",6,"女子小学生",{"$f":"(\"0906040106\")","v":"0906040106"}]
["日出サッカースポーツ少年団_2","日出サッカースポーツ少年団",{"$f":"(\"2\")","v":"2"},"DF","久恒　歩","ヒサツネ　アユム",6,"男子",{"$f":"(\"0910170010\")","v":"0910170010"}]
["日出サッカースポーツ少年団_5","日出サッカースポーツ少年団",{"$f":"(\"5\")","v":"5"},"FW","田口　稟太朗","タグチ　リンタロウ",5,"男子",{"$f":"(\"1102230005\")","v":"1102230005"}]
["日出サッカースポーツ少年団_6","日出サッカースポーツ少年団",{"$f":"(\"6\")","v":"6"},"DF","園田　拓海","ソノダ　タクミ",6,"男子",{"$f":"(\"1003160127\")","v":"1003160127"}]
["日出サッカースポーツ少年団_7","日出サッカースポーツ少年団",{"$f":"(\"7\")","v":"7"},"FW","佐藤　安立","サトウ　アンリュウ",6,"男子",{"$f":"(\"1003180034\")","v":"1003180034"}]
["日出サッカースポーツ少年団_8","日出サッカースポーツ少年団",{"$f":"(\"8\")","v":"8"},"MF","北川　遥斗","キタガワ　ハルト",6,"男子",{"$f":"(\"0909280191\")","v":"0909280191"}]
["日出サッカースポーツ少年団_9","日出サッカースポーツ少年団",{"$f":"(\"9\")","v":"9"},"MF","山﨑　虎太郎","ヤマサキ　コタロウ",5,"男子",{"$f":"(\"1007020189\")","v":"1007020189"}]
["日出サッカースポーツ少年団_10","日出サッカースポーツ少年団",{"$f":"(\"10\")","v":"10"},"FW","笠置　喬虎","カサギ　タカトラ",6,"男子",{"$f":"(\"0912040050\")","v":"0912040050"},"○"]
["日出サッカースポーツ少年団_11","日出サッカースポーツ少年団",{"$f":"(\"11\")","v":"11"},"MF","本田　雄琉","ホンダ　タケル",6,"男子",{"$f":"(\"0904200188\")","v":"0904200188"}]
["日出サッカースポーツ少年団_12","日出サッカースポーツ少年団",{"$f":"(\"12\")","v":"12"},"MF","北川　優真","キタガワ　ユウマ",4,"男子",{"$f":"(\"1105200032\")","v":"1105200032"}]
["日出サッカースポーツ少年団_16","日出サッカースポーツ少年団",{"$f":"(\"16\")","v":"16"},"GK","高月　祥真","タカツキ　ショウシン",4,"男子",{"$f":"(\"1107230094\")","v":"1107230094"}]
["渡町台サッカークラブ_1","渡町台サッカークラブ",{"$f":"(\"1\")","v":"1"},"GK","竹中　虹陽","タケナカ　コウヨウ",6,"男子",{"$f":"(\"0907180156\")","v":"0907180156"}]
["渡町台サッカークラブ_2","渡町台サッカークラブ",{"$f":"(\"2\")","v":"2"},"DF","團塚　煌","ダンヅカ　コウ",4,"男子",{"$f":"(\"1104280063\")","v":"1104280063"}]
["渡町台サッカークラブ_3","渡町台サッカークラブ",{"$f":"(\"3\")","v":"3"},"DF","高石　靖太","タカイシ　セイタ",5,"男子",{"$f":"(\"1005180014\")","v":"1005180014"}]
["渡町台サッカークラブ_4","渡町台サッカークラブ",{"$f":"(\"4\")","v":"4"},"DF","増野　瑛","マスノ　アキラ",5,"男子",{"$f":"(\"1012100011\")","v":"1012100011"}]
["渡町台サッカークラブ_5","渡町台サッカークラブ",{"$f":"(\"5\")","v":"5"},"MF","白江　朔麻","シラエ　サクマ",4,"男子",{"$f":"(\"1111150103\")","v":"1111150103"}]
["渡町台サッカークラブ_6","渡町台サッカークラブ",{"$f":"(\"6\")","v":"6"},"MF","青木　大和","アオキ　ヤマト",4,"男子",{"$f":"(\"1111150045\")","v":"1111150045"}]
["渡町台サッカークラブ_7","渡町台サッカークラブ",{"$f":"(\"7\")","v":"7"},"MF","神崎　斗亜","カンザキ　トア",5,"男子",{"$f":"(\"1004220008\")","v":"1004220008"}]
["渡町台サッカークラブ_8","渡町台サッカークラブ",{"$f":"(\"8\")","v":"8"},"MF","宮脇　遙冴","ミヤワキ　ハルヒ",4,"男子",{"$f":"(\"1104050025\")","v":"1104050025"}]
["渡町台サッカークラブ_9","渡町台サッカークラブ",{"$f":"(\"9\")","v":"9"},"MF","安藤　岳","アンドウ　ガク",4,"男子",{"$f":"(\"1105310027\")","v":"1105310027"}]
["渡町台サッカークラブ_10","渡町台サッカークラブ",{"$f":"(\"10\")","v":"10"},"MF","赤嶺　隼士","アカミネ　ハヤト",6,"男子",{"$f":"(\"0909120170\")","v":"0909120170"},"○"]
["渡町台サッカークラブ_11","渡町台サッカークラブ",{"$f":"(\"11\")","v":"11"},"FW","上杉　想真","ウエスギ　ソウマ",4,"男子",{"$f":"(\"1203010021\")","v":"1203010021"}]
["渡町台サッカークラブ_12","渡町台サッカークラブ",{"$f":"(\"12\")","v":"12"},"FW","小野　夏希","オノ　ナツキ",5,"女子小学生",{"$f":"(\"1007140232\")","v":"1007140232"}]
["渡町台サッカークラブ_13","渡町台サッカークラブ",{"$f":"(\"13\")","v":"13"},"GK","多田　怜真","タダ　リョウマ",4,"男子",{"$f":"(\"1112130052\")","v":"1112130052"}]
["渡町台サッカークラブ_14","渡町台サッカークラブ",{"$f":"(\"14\")","v":"14"},"FW","長尾　海音","ナガオ　カイト",4,"男子",{"$f":"(\"1108120026\")","v":"1108120026"}]
["渡町台サッカークラブ_15","渡町台サッカークラブ",{"$f":"(\"15\")","v":"15"},"FW","高羽　昊","タカハ　ソラ",4,"男子",{"$f":"(\"1202020040\")","v":"1202020040"}]
["西の台ＪＦＣ_1","西の台ＪＦＣ",{"$f":"(\"1\")","v":"1"},"GK","中村　紘史朗","ナカムラ　コウシロウ",6,"男子",{"$f":"(\"0911100160\")","v":"0911100160"}]
["西の台ＪＦＣ_2","西の台ＪＦＣ",{"$f":"(\"2\")","v":"2"},"DF","造士　凛太郎","ゾウシ　リンタロウ",6,"男子",{"$f":"(\"0911200100\")","v":"0911200100"}]
["西の台ＪＦＣ_3","西の台ＪＦＣ",{"$f":"(\"3\")","v":"3"},"DF","佐藤　泰喜","サトウ　タイキ",6,"男子",{"$f":"(\"0907260069\")","v":"0907260069"}]
["西の台ＪＦＣ_4","西の台ＪＦＣ",{"$f":"(\"4\")","v":"4"},"DF","江藤　然生","エトウ　ゼン",6,"男子",{"$f":"(\"0904300212\")","v":"0904300212"}]
["西の台ＪＦＣ_5","西の台ＪＦＣ",{"$f":"(\"5\")","v":"5"},"DF","松原　大","マツバラ　ダイ",6,"男子",{"$f":"(\"0912250106\")","v":"0912250106"}]
["西の台ＪＦＣ_6","西の台ＪＦＣ",{"$f":"(\"6\")","v":"6"},"MF","秋月　凛太","アキヅキ　リンタ",4,"男子",{"$f":"(\"1104280022\")","v":"1104280022"}]
["西の台ＪＦＣ_7","西の台ＪＦＣ",{"$f":"(\"7\")","v":"7"},"FW","平井　歩","ヒライ　アユム",6,"男子",{"$f":"(\"1001100051\")","v":"1001100051"}]
["西の台ＪＦＣ_8","西の台ＪＦＣ",{"$f":"(\"8\")","v":"8"},"MF","生口　彩人","イグチ　アヤト",5,"男子",{"$f":"(\"1006040029\")","v":"1006040029"}]
["西の台ＪＦＣ_9","西の台ＪＦＣ",{"$f":"(\"9\")","v":"9"},"FW","幸野　駿汰","コウノ　シュンタ",4,"男子",{"$f":"(\"1109070014\")","v":"1109070014"}]
["西の台ＪＦＣ_10","西の台ＪＦＣ",{"$f":"(\"10\")","v":"10"},"MF","秋吉　真翔","アキヨシ　マナト",6,"男子",{"$f":"(\"1002270057\")","v":"1002270057"},"○"]
["西の台ＪＦＣ_11","西の台ＪＦＣ",{"$f":"(\"11\")","v":"11"},"DF","近藤　総司","コンドウ　ソウシ",4,"男子",{"$f":"(\"1106100017\")","v":"1106100017"}]
["西の台ＪＦＣ_13","西の台ＪＦＣ",{"$f":"(\"13\")","v":"13"},"DF","青木　稜羽","アオキ　リウ",4,"男子",{"$f":"(\"1108210088\")","v":"1108210088"}]
["西の台ＪＦＣ_14","西の台ＪＦＣ",{"$f":"(\"14\")","v":"14"},"MF","成松　澄海","ナリマツ　スカイ",4,"男子",{"$f":"(\"1112190080\")","v":"1112190080"}]
["西の台ＪＦＣ_15","西の台ＪＦＣ",{"$f":"(\"15\")","v":"15"},"DF","首藤　悠緋","シュトウ　ユウヒ",4,"男子",{"$f":"(\"1111110138\")","v":"1111110138"}]
["豊後高田ＦＣ　Ｂｏｒｄｅｒ　Ｊｒ_1","豊後高田ＦＣ　Ｂｏｒｄｅｒ　Ｊｒ",{"$f":"(\"1\")","v":"1"},"GK","秋田　光晴","アキタ　コウキ",6,"男子",{"$f":"(\"0909280214\")","v":"0909280214"}]
["豊後高田ＦＣ　Ｂｏｒｄｅｒ　Ｊｒ_2","豊後高田ＦＣ　Ｂｏｒｄｅｒ　Ｊｒ",{"$f":"(\"2\")","v":"2"},"DF","小田原　聖","オダワラ　コウキ",6,"男子",{"$f":"(\"0909240219\")","v":"0909240219"}]
["豊後高田ＦＣ　Ｂｏｒｄｅｒ　Ｊｒ_3","豊後高田ＦＣ　Ｂｏｒｄｅｒ　Ｊｒ",{"$f":"(\"3\")","v":"3"},"DF","新田　哩久","ニッタ　リク",6,"男子",{"$f":"(\"0904100143\")","v":"0904100143"}]
["豊後高田ＦＣ　Ｂｏｒｄｅｒ　Ｊｒ_4","豊後高田ＦＣ　Ｂｏｒｄｅｒ　Ｊｒ",{"$f":"(\"4\")","v":"4"},"FW","恒久　翠稀","ツネヒサ　スイキ",6,"男子",{"$f":"(\"0907150236\")","v":"0907150236"}]
["豊後高田ＦＣ　Ｂｏｒｄｅｒ　Ｊｒ_6","豊後高田ＦＣ　Ｂｏｒｄｅｒ　Ｊｒ",{"$f":"(\"6\")","v":"6"},"MF","上条　優斗","カミジョウ　ユウト",6,"男子",{"$f":"(\"0912040055\")","v":"0912040055"}]
["豊後高田ＦＣ　Ｂｏｒｄｅｒ　Ｊｒ_7","豊後高田ＦＣ　Ｂｏｒｄｅｒ　Ｊｒ",{"$f":"(\"7\")","v":"7"},"FW","清原　光賀","キヨハラ　コウガ",6,"男子",{"$f":"(\"0910070043\")","v":"0910070043"}]
["豊後高田ＦＣ　Ｂｏｒｄｅｒ　Ｊｒ_8","豊後高田ＦＣ　Ｂｏｒｄｅｒ　Ｊｒ",{"$f":"(\"8\")","v":"8"},"FW","後藤　元篤","ゴトウ　ゲントク",6,"男子",{"$f":"(\"1002080109\")","v":"1002080109"}]
["豊後高田ＦＣ　Ｂｏｒｄｅｒ　Ｊｒ_9","豊後高田ＦＣ　Ｂｏｒｄｅｒ　Ｊｒ",{"$f":"(\"9\")","v":"9"},"MF","清原　大暉","キヨハラ　ダイキ",6,"男子",{"$f":"(\"1002010147\")","v":"1002010147"}]
["豊後高田ＦＣ　Ｂｏｒｄｅｒ　Ｊｒ_10","豊後高田ＦＣ　Ｂｏｒｄｅｒ　Ｊｒ",{"$f":"(\"10\")","v":"10"},"MF","水田　暖人","ミズタ　ハルト",6,"男子",{"$f":"(\"1001080111\")","v":"1001080111"},"○"]
["豊後高田ＦＣ　Ｂｏｒｄｅｒ　Ｊｒ_11","豊後高田ＦＣ　Ｂｏｒｄｅｒ　Ｊｒ",{"$f":"(\"11\")","v":"11"},"MF","大塚　祐也","オオツカ　ユウヤ",5,"男子",{"$f":"(\"1105190032\")","v":"1105190032"}]
["豊後高田ＦＣ　Ｂｏｒｄｅｒ　Ｊｒ_12","豊後高田ＦＣ　Ｂｏｒｄｅｒ　Ｊｒ",{"$f":"(\"12\")","v":"12"},"MF","宮本　雄一稀","ミヤモト　ユイキ",5,"男子",{"$f":"(\"1006280052\")","v":"1006280052"}]
["豊後高田ＦＣ　Ｂｏｒｄｅｒ　Ｊｒ_13","豊後高田ＦＣ　Ｂｏｒｄｅｒ　Ｊｒ",{"$f":"(\"13\")","v":"13"},"DF","平岡　寛望","ヒラオカ　ヒロム",5,"男子",{"$f":"(\"1005190105\")","v":"1005190105"}]
["豊後高田ＦＣ　Ｂｏｒｄｅｒ　Ｊｒ_16","豊後高田ＦＣ　Ｂｏｒｄｅｒ　Ｊｒ",{"$f":"(\"16\")","v":"16"},"GK","平岡　歩望","ヒラオカ　アユム",5,"男子",{"$f":"(\"1005190106\")","v":"1005190106"}]
["豊後高田ＦＣ　Ｂｏｒｄｅｒ　Ｊｒ_18","豊後高田ＦＣ　Ｂｏｒｄｅｒ　Ｊｒ",{"$f":"(\"18\")","v":"18"},"MF","明石　敬心","アカイシ　ケンシン",6,"男子",{"$f":"(\"0912270165\")","v":"0912270165"}]
["豊後高田ＦＣ　Ｂｏｒｄｅｒ　Ｊｒ_19","豊後高田ＦＣ　Ｂｏｒｄｅｒ　Ｊｒ",{"$f":"(\"19\")","v":"19"},"MF","都甲　周弥","トゴウ　シュウヤ",6,"男子",{"$f":"(\"0904210295\")","v":"0904210295"}]
["豊後高田ＦＣ　Ｂｏｒｄｅｒ　Ｊｒ_22","豊後高田ＦＣ　Ｂｏｒｄｅｒ　Ｊｒ",{"$f":"(\"22\")","v":"22"},"DF","岩男　心羽","イワオ　シンバ",6,"男子",{"$f":"(\"0905040047\")","v":"0905040047"}]
["竹田直入ＦＣ_1","竹田直入ＦＣ",{"$f":"(\"1\")","v":"1"},"GK","土屋　諒悟","ツチヤ　リョウゴ",5,"男子",{"$f":"(\"1103160097\")","v":"1103160097"}]
["竹田直入ＦＣ_2","竹田直入ＦＣ",{"$f":"(\"2\")","v":"2"},"DF","古瀬　士竜","コセ　シリュウ",6,"男子",{"$f":"(\"0904240135\")","v":"0904240135"}]
["竹田直入ＦＣ_3","竹田直入ＦＣ",{"$f":"(\"3\")","v":"3"},"MF","菅　泰河","スガ　タイガ",5,"男子",{"$f":"(\"1011290127\")","v":"1011290127"}]
["竹田直入ＦＣ_4","竹田直入ＦＣ",{"$f":"(\"4\")","v":"4"},"FW","山中　夏紗音","ヤマナカ　カサネ",4,"女子小学生",{"$f":"(\"1105190020\")","v":"1105190020"}]
["竹田直入ＦＣ_5","竹田直入ＦＣ",{"$f":"(\"5\")","v":"5"},"MF","吉良　皓心","キラ　コウシン",5,"男子",{"$f":"(\"1103230054\")","v":"1103230054"}]
["竹田直入ＦＣ_6","竹田直入ＦＣ",{"$f":"(\"6\")","v":"6"},"MF","工藤　雄輝","クドウ　ユウキ",5,"男子",{"$f":"(\"1012040011\")","v":"1012040011"}]
["竹田直入ＦＣ_7","竹田直入ＦＣ",{"$f":"(\"7\")","v":"7"},"DF","坂本　輝","サカモト　テル",6,"男子",{"$f":"(\"1003040097\")","v":"1003040097"},"○"]
["竹田直入ＦＣ_8","竹田直入ＦＣ",{"$f":"(\"8\")","v":"8"},"MF","金田　敦暉","クドウ　アツキ",5,"男子",{"$f":"(\"1011120021\")","v":"1011120021"}]
[{"$f":"CONCATENATE(B961,\"_\",C961)","v":"竹田直入ＦＣ_9"},"竹田直入ＦＣ",{"$f":"(\"9\")","v":"9"},"MF","内川　愛梨","ウチカワ　アイリ",5,"女子小学生",{"$f":"(\"1102080017\")","v":"1102080017"}]
["竹田直入ＦＣ_10","竹田直入ＦＣ",{"$f":"(\"10\")","v":"10"},"FW","後藤　侑大","ゴトウ　ユウタ",4,"男子",{"$f":"(\"1108200027\")","v":"1108200027"}]
["竹田直入ＦＣ_11","竹田直入ＦＣ",{"$f":"(\"11\")","v":"11"},"DF","渡邉　春馬","ワタナベ　ハルマ",6,"男子",{"$f":"(\"0905090178\")","v":"0905090178"}]
["竹田直入ＦＣ_13","竹田直入ＦＣ",{"$f":"(\"13\")","v":"13"},"FW","渡邊　彩人","ワタナベ　アヤト",4,"男子",{"$f":"(\"1108160027\")","v":"1108160027"}]
["竹田直入ＦＣ_14","竹田直入ＦＣ",{"$f":"(\"14\")","v":"14"},"FW","坂本　陽","サカモト　ハル",4,"男子",{"$f":"(\"1203200007\")","v":"1203200007"}]
["竹田直入ＦＣ_16","竹田直入ＦＣ",{"$f":"(\"16\")","v":"16"},"FW","小林　里奈","コバヤシ　リナ",4,"女子小学生",{"$f":"(\"1107150105\")","v":"1107150105"}]
["ドリームキッズフットボールクラブエフシー_1","ドリームキッズフットボールクラブエフシー",{"$f":"(\"1\")","v":"1"},"GK","北田　旺佑","キタダ　オウスケ",6,"男子",{"$f":"(\"0909280039\")","v":"0909280039"}]
["ドリームキッズフットボールクラブエフシー_2","ドリームキッズフットボールクラブエフシー",{"$f":"(\"2\")","v":"2"},"DF","加藤　陽翔","カトウ　ハルト",6,"男子",{"$f":"(\"0904070292\")","v":"0904070292"}]
["ドリームキッズフットボールクラブエフシー_3","ドリームキッズフットボールクラブエフシー",{"$f":"(\"3\")","v":"3"},"DF","芦田　孝太郎","アシダ　コウタロウ",6,"男子",{"$f":"(\"0906140019\")","v":"0906140019"}]
["ドリームキッズフットボールクラブエフシー_4","ドリームキッズフットボールクラブエフシー",{"$f":"(\"4\")","v":"4"},"DF","阿部　源太","アベ　ゲンタ",6,"男子",{"$f":"(\"0908150030\")","v":"0908150030"}]
["ドリームキッズフットボールクラブエフシー_5","ドリームキッズフットボールクラブエフシー",{"$f":"(\"5\")","v":"5"},"DF","麻生　拓夢","アソウ　ヒロム",6,"男子",{"$f":"(\"0910070046\")","v":"0910070046"}]
["ドリームキッズフットボールクラブエフシー_7","ドリームキッズフットボールクラブエフシー",{"$f":"(\"7\")","v":"7"},"FW","杉村　祐心","スギムラ　ユウシン",6,"男子",{"$f":"(\"1001250019\")","v":"1001250019"}]
["ドリームキッズフットボールクラブエフシー_8","ドリームキッズフットボールクラブエフシー",{"$f":"(\"8\")","v":"8"},"DF","長田　賢昇","ナガタ　ケンショウ",6,"男子",{"$f":"(\"0909130016\")","v":"0909130016"}]
["ドリームキッズフットボールクラブエフシー_9","ドリームキッズフットボールクラブエフシー",{"$f":"(\"9\")","v":"9"},"DF","川上　徐生","カワカミ　ジョジョ",6,"男子",{"$f":"(\"0910080049\")","v":"0910080049"}]
["ドリームキッズフットボールクラブエフシー_10","ドリームキッズフットボールクラブエフシー",{"$f":"(\"10\")","v":"10"},"MF","下郡　遼平","シモゴウリ　リョウヘイ",6,"男子",{"$f":"(\"0905280030\")","v":"0905280030"},"○"]
["ドリームキッズフットボールクラブエフシー_11","ドリームキッズフットボールクラブエフシー",{"$f":"(\"11\")","v":"11"},"MF","大久保　桧埜","オオクボ　ヒノ",6,"男子",{"$f":"(\"0905100051\")","v":"0905100051"}]
["ドリームキッズフットボールクラブエフシー_12","ドリームキッズフットボールクラブエフシー",{"$f":"(\"12\")","v":"12"},"MF","山田　心結","ヤマダ　ミユウ",6,"女子小学生",{"$f":"(\"0908120051\")","v":"0908120051"}]
["ドリームキッズフットボールクラブエフシー_13","ドリームキッズフットボールクラブエフシー",{"$f":"(\"13\")","v":"13"},"DF","工藤　貫太","クドウ　カンタ",4,"男子",{"$f":"(\"1106170133\")","v":"1106170133"}]
["ドリームキッズフットボールクラブエフシー_14","ドリームキッズフットボールクラブエフシー",{"$f":"(\"14\")","v":"14"},"FW","大塚　優河","オオツカ　ユウガ",4,"男子",{"$f":"(\"1106290150\")","v":"1106290150"}]
["ドリームキッズフットボールクラブエフシー_15","ドリームキッズフットボールクラブエフシー",{"$f":"(\"15\")","v":"15"},"FW","宇野　藤獅郎","ウノ　トウシロウ",4,"男子",{"$f":"(\"1104220138\")","v":"1104220138"}]
["ドリームキッズフットボールクラブエフシー_16","ドリームキッズフットボールクラブエフシー",{"$f":"(\"16\")","v":"16"},"GK","神崎　柊斗","カンザキ　シュウト",6,"男子",{"$f":"(\"1003100110\")","v":"1003100110"}]
["ドリームキッズフットボールクラブエフシー_17","ドリームキッズフットボールクラブエフシー",{"$f":"(\"17\")","v":"17"},"MF","川上　倫央","カワカミ　リオン",4,"男子",{"$f":"(\"1110210107\")","v":"1110210107"}]
["ドリームキッズフットボールクラブエスシー_1","ドリームキッズフットボールクラブエスシー",{"$f":"(\"1\")","v":"1"},"GK","江藤　治人","エトウ　ハルト",5,"男子",{"$f":"(\"1012090134\")","v":"1012090134"}]
["ドリームキッズフットボールクラブエスシー_2","ドリームキッズフットボールクラブエスシー",{"$f":"(\"2\")","v":"2"},"DF","林　天音","ハヤシ　テオン",5,"男子",{"$f":"(\"1005170122\")","v":"1005170122"}]
["ドリームキッズフットボールクラブエスシー_3","ドリームキッズフットボールクラブエスシー",{"$f":"(\"3\")","v":"3"},"MF","當麻　晃基","トウマ　コウキ",5,"男子",{"$f":"(\"1010080156\")","v":"1010080156"}]
["ドリームキッズフットボールクラブエスシー_4","ドリームキッズフットボールクラブエスシー",{"$f":"(\"4\")","v":"4"},"DF","都　凛太朗","ミヤコ　リンタロウ",5,"男子",{"$f":"(\"1101260126\")","v":"1101260126"}]
["ドリームキッズフットボールクラブエスシー_5","ドリームキッズフットボールクラブエスシー",{"$f":"(\"5\")","v":"5"},"DF","佐藤　天雅","サトウ　テンガ",5,"男子",{"$f":"(\"1007010171\")","v":"1007010171"}]
["ドリームキッズフットボールクラブエスシー_6","ドリームキッズフットボールクラブエスシー",{"$f":"(\"6\")","v":"6"},"DF","那須　虎太郎","ナス　コタロウ",5,"男子",{"$f":"(\"1011230105\")","v":"1011230105"}]
["ドリームキッズフットボールクラブエスシー_7","ドリームキッズフットボールクラブエスシー",{"$f":"(\"7\")","v":"7"},"MF","菊川　翼","キクガワ　ツバサ",5,"男子",{"$f":"(\"1103290119\")","v":"1103290119"}]
["ドリームキッズフットボールクラブエスシー_8","ドリームキッズフットボールクラブエスシー",{"$f":"(\"8\")","v":"8"},"FW","長野　瑛斗","ナガノ　エイト",5,"男子",{"$f":"(\"1004100107\")","v":"1004100107"}]
["ドリームキッズフットボールクラブエスシー_9","ドリームキッズフットボールクラブエスシー",{"$f":"(\"9\")","v":"9"},"MF","亀野　佑輝","カメノ　ユウキ",5,"男子",{"$f":"(\"1009140185\")","v":"1009140185"}]
["ドリームキッズフットボールクラブエスシー_10","ドリームキッズフットボールクラブエスシー",{"$f":"(\"10\")","v":"10"},"MF","下郡　悠翔","シモゴウリ　ユウト",5,"男子",{"$f":"(\"1011010171\")","v":"1011010171"},"○"]
["ドリームキッズフットボールクラブエスシー_11","ドリームキッズフットボールクラブエスシー",{"$f":"(\"11\")","v":"11"},"MF","古賀　謙心","コガ　ケンシン",5,"男子",{"$f":"(\"1009050100\")","v":"1009050100"}]
["ドリームキッズフットボールクラブエスシー_12","ドリームキッズフットボールクラブエスシー",{"$f":"(\"12\")","v":"12"},"MF","中川　泰良","ナカガワ　タイラ",5,"男子",{"$f":"(\"1012160149\")","v":"1012160149"}]
["ドリームキッズフットボールクラブエスシー_13","ドリームキッズフットボールクラブエスシー",{"$f":"(\"13\")","v":"13"},"MF","大津　瑞斗","オオツ　ミズト",5,"男子",{"$f":"(\"1006030153\")","v":"1006030153"}]
["ドリームキッズフットボールクラブエスシー_15","ドリームキッズフットボールクラブエスシー",{"$f":"(\"15\")","v":"15"},"MF","江島　優斗","エジマ　ユウト",5,"男子",{"$f":"(\"1103270090\")","v":"1103270090"}]
["ドリームキッズフットボールクラブエスシー_17","ドリームキッズフットボールクラブエスシー",{"$f":"(\"17\")","v":"17"},"FW","上田　拳己","ウエダ　ゲンキ",5,"男子",{"$f":"(\"1011210099\")","v":"1011210099"}]
["ドリームキッズフットボールクラブエスシー_19","ドリームキッズフットボールクラブエスシー",{"$f":"(\"19\")","v":"19"},"DF","阿部　京輔","アベ　キョウスケ",5,"男子",{"$f":"(\"1101150105\")","v":"1101150105"}]
["東陽フットボールクラブ_1","東陽フットボールクラブ",{"$f":"(\"1\")","v":"1"},"GK","幸　大翔","ユキ　ヒロト",6,"男子",{"$f":"(\"0907070190\")","v":"0907070190"},"○"]
["東陽フットボールクラブ_2","東陽フットボールクラブ",{"$f":"(\"2\")","v":"2"},"DF","松尾　昊","マツオ　コウ",6,"男子",{"$f":"(\"0904130127\")","v":"0904130127"}]
["東陽フットボールクラブ_3","東陽フットボールクラブ",{"$f":"(\"3\")","v":"3"},"MF","丹生　昴亨","ニュウ　タカユキ",5,"男子",{"$f":"(\"1102100146\")","v":"1102100146"}]
["東陽フットボールクラブ_4","東陽フットボールクラブ",{"$f":"(\"4\")","v":"4"},"DF","江崎　陽悠","エザキ　ハルチカ",5,"男子",{"$f":"(\"1011080173\")","v":"1011080173"}]
["東陽フットボールクラブ_5","東陽フットボールクラブ",{"$f":"(\"5\")","v":"5"},"MF","重住　龍真","シゲズミ　リュウマ",5,"男子",{"$f":"(\"1006210180\")","v":"1006210180"}]
["東陽フットボールクラブ_7","東陽フットボールクラブ",{"$f":"(\"7\")","v":"7"},"DF","政村　青空","マサムラ　ソラ",5,"男子",{"$f":"(\"1011040175\")","v":"1011040175"}]
["東陽フットボールクラブ_8","東陽フットボールクラブ",{"$f":"(\"8\")","v":"8"},"DF","松尾　翔","マツオ　ショウ",4,"男子",{"$f":"(\"1108090125\")","v":"1108090125"}]
["東陽フットボールクラブ_9","東陽フットボールクラブ",{"$f":"(\"9\")","v":"9"},"FW","重住　亮真","シゲズミ　リョウマ",5,"男子",{"$f":"(\"1006210181\")","v":"1006210181"}]
["東陽フットボールクラブ_10","東陽フットボールクラブ",{"$f":"(\"10\")","v":"10"},"MF","阿部　瑞己","アベ　ミズキ",5,"男子",{"$f":"(\"1008180122\")","v":"1008180122"}]
["東陽フットボールクラブ_11","東陽フットボールクラブ",{"$f":"(\"11\")","v":"11"},"MF","阿孫　羽南","アソン　ハナ",5,"女子小学生",{"$f":"(\"1011060141\")","v":"1011060141"}]
["東陽フットボールクラブ_12","東陽フットボールクラブ",{"$f":"(\"12\")","v":"12"},"DF","鶴原　瑞葵","ツルハラ　ミズキ",4,"男子",{"$f":"(\"1106230117\")","v":"1106230117"}]
["東陽フットボールクラブ_13","東陽フットボールクラブ",{"$f":"(\"13\")","v":"13"},"MF","中村　爽","ナカムラ　ソウ",4,"男子",{"$f":"(\"1109050120\")","v":"1109050120"}]
["東陽フットボールクラブ_14","東陽フットボールクラブ",{"$f":"(\"14\")","v":"14"},"FW","赤峰　宗佑","アカミネ　ソウスケ",5,"男子",{"$f":"(\"1006300142\")","v":"1006300142"}]
["東陽フットボールクラブ_15","東陽フットボールクラブ",{"$f":"(\"15\")","v":"15"},"GK","牧　紫音","マキ　シオン",5,"男子",{"$f":"(\"1010070173\")","v":"1010070173"}]
["ＯＫＹ山香サッカークラブ_1","ＯＫＹ山香サッカークラブ",{"$f":"(\"1\")","v":"1"},"GK","曽根崎　輝一","ソネザキ　キイチ",6,"男子",{"$f":"(\"1002220077\")","v":"1002220077"}]
["ＯＫＹ山香サッカークラブ_2","ＯＫＹ山香サッカークラブ",{"$f":"(\"2\")","v":"2"},"FW","木全　柊惺","キマタ　シュウセイ",6,"男子",{"$f":"(\"0912100236\")","v":"0912100236"}]
["ＯＫＹ山香サッカークラブ_3","ＯＫＹ山香サッカークラブ",{"$f":"(\"3\")","v":"3"},"FW","唐下　心唯妃","トウゲ　コユキ",6,"女子小学生",{"$f":"(\"0912160001\")","v":"0912160001"}]
["ＯＫＹ山香サッカークラブ_4","ＯＫＹ山香サッカークラブ",{"$f":"(\"4\")","v":"4"},"MF","伊地知　美咲","イジチ　ミサキ",6,"女子小学生",{"$f":"(\"1001040095\")","v":"1001040095"}]
["ＯＫＹ山香サッカークラブ_5","ＯＫＹ山香サッカークラブ",{"$f":"(\"5\")","v":"5"},"MF","土井　稔平朗","ドイ　ネンタロウ",6,"男子",{"$f":"(\"1002250185\")","v":"1002250185"}]
["ＯＫＹ山香サッカークラブ_6","ＯＫＹ山香サッカークラブ",{"$f":"(\"6\")","v":"6"},"MF","鶴田　蓮斗","ツルタ　レント",6,"男子",{"$f":"(\"0906260222\")","v":"0906260222"}]
["ＯＫＹ山香サッカークラブ_7","ＯＫＹ山香サッカークラブ",{"$f":"(\"7\")","v":"7"},"FW","伊藤　唯人","イトウ　ユイト",6,"男子",{"$f":"(\"0905140028\")","v":"0905140028"}]
["ＯＫＹ山香サッカークラブ_8","ＯＫＹ山香サッカークラブ",{"$f":"(\"8\")","v":"8"},"DF","池部　絆心","イケベ　キズナ",6,"男子",{"$f":"(\"1001260070\")","v":"1001260070"}]
["ＯＫＹ山香サッカークラブ_9","ＯＫＹ山香サッカークラブ",{"$f":"(\"9\")","v":"9"},"DF","廣瀬　帆斗","ヒロセ　ハント",6,"男子",{"$f":"(\"0912170018\")","v":"0912170018"}]
["ＯＫＹ山香サッカークラブ_10","ＯＫＹ山香サッカークラブ",{"$f":"(\"10\")","v":"10"},"MF","岩尾　淳矢","イワオ　ジュンヤ",6,"男子",{"$f":"(\"0907230108\")","v":"0907230108"},"○"]
["ＯＫＹ山香サッカークラブ_11","ＯＫＹ山香サッカークラブ",{"$f":"(\"11\")","v":"11"},"FW","山本　将太郎","ヤマモト　ショウタロウ",6,"男子",{"$f":"(\"1003030060\")","v":"1003030060"}]
["ＯＫＹ山香サッカークラブ_12","ＯＫＹ山香サッカークラブ",{"$f":"(\"12\")","v":"12"},"MF","井手　湊太","イデ　ソウタ",5,"男子",{"$f":"(\"1005030087\")","v":"1005030087"}]
[{"$f":"CONCATENATE(B1025,\"_\",C1025)","v":"ＯＫＹ山香サッカークラブ_13"},"ＯＫＹ山香サッカークラブ",{"$f":"(\"13\")","v":"13"},"DF","竹丸　哲平","タケマル　テッペイ",5,"男子",{"$f":"(\"1011280050\")","v":"1011280050"}]
["ＯＫＹ山香サッカークラブ_14","ＯＫＹ山香サッカークラブ",{"$f":"(\"14\")","v":"14"},"MF","平川　桃子","ヒラカワ　モモコ",5,"女子小学生",{"$f":"(\"1007060108\")","v":"1007060108"}]
["ＯＫＹ山香サッカークラブ_15","ＯＫＹ山香サッカークラブ",{"$f":"(\"15\")","v":"15"},"MF","玉井　葉夏","タマイ　ハナ",5,"女子小学生",{"$f":"(\"1007160132\")","v":"1007160132"}]
["ＯＫＹ山香サッカークラブ_16","ＯＫＹ山香サッカークラブ",{"$f":"(\"16\")","v":"16"},"GK","伊藤　拓海","イトウ　タクミ",6,"男子",{"$f":"(\"0905140029\")","v":"0905140029"}]
["臼杵ＳＳＳ_1","臼杵ＳＳＳ",{"$f":"(\"1\")","v":"1"},"GK","薬師寺　航矢","ヤクシジ　コウヤ",6,"男子",{"$f":"(\"0909270186\")","v":"0909270186"}]
["臼杵ＳＳＳ_3","臼杵ＳＳＳ",{"$f":"(\"3\")","v":"3"},"DF","野口　真央","ノグチ　マオ",6,"男子",{"$f":"(\"1001170030\")","v":"1001170030"}]
["臼杵ＳＳＳ_4","臼杵ＳＳＳ",{"$f":"(\"4\")","v":"4"},"DF","衛藤　慶尭","エトウ　ヨシアキ",6,"男子",{"$f":"(\"0910310097\")","v":"0910310097"}]
["臼杵ＳＳＳ_5","臼杵ＳＳＳ",{"$f":"(\"5\")","v":"5"},"DF","足立　真央","アダチ　マオ",6,"女子小学生",{"$f":"(\"0908070144\")","v":"0908070144"}]
["臼杵ＳＳＳ_6","臼杵ＳＳＳ",{"$f":"(\"6\")","v":"6"},"FW","戸上　桐翔","トノウエ　キリト",6,"男子",{"$f":"(\"0904210254\")","v":"0904210254"}]
["臼杵ＳＳＳ_7","臼杵ＳＳＳ",{"$f":"(\"7\")","v":"7"},"MF","眞庭　優","マニワ　ユウ",6,"男子",{"$f":"(\"1001160074\")","v":"1001160074"}]
["臼杵ＳＳＳ_8","臼杵ＳＳＳ",{"$f":"(\"8\")","v":"8"},"MF","衛藤　瑞輝","エトウ　ミズキ",6,"男子",{"$f":"(\"0904030047\")","v":"0904030047"}]
["臼杵ＳＳＳ_9","臼杵ＳＳＳ",{"$f":"(\"9\")","v":"9"},"FW","川邊　希龍","カワベ　キリュウ",6,"男子",{"$f":"(\"0907230080\")","v":"0907230080"}]
["臼杵ＳＳＳ_10","臼杵ＳＳＳ",{"$f":"(\"10\")","v":"10"},"MF","足立　美菜","アダチ　ミナ",6,"女子小学生",{"$f":"(\"0908070061\")","v":"0908070061"},"○"]
["臼杵ＳＳＳ_11","臼杵ＳＳＳ",{"$f":"(\"11\")","v":"11"},"FW","玉井　颯太","タマイ　ソウタ",6,"男子",{"$f":"(\"0906100164\")","v":"0906100164"}]
["臼杵ＳＳＳ_12","臼杵ＳＳＳ",{"$f":"(\"12\")","v":"12"},"MF","足立　橙葉","アダチ　トウハ",5,"男子",{"$f":"(\"1010210146\")","v":"1010210146"}]
["臼杵ＳＳＳ_13","臼杵ＳＳＳ",{"$f":"(\"13\")","v":"13"},"DF","安藤　颯","アンドウ　ハヤテ",5,"男子",{"$f":"(\"1101010079\")","v":"1101010079"}]
["臼杵ＳＳＳ_14","臼杵ＳＳＳ",{"$f":"(\"14\")","v":"14"},"DF","椎原　蓮丸","シイハラ　レンマル",5,"男子",{"$f":"(\"1007070226\")","v":"1007070226"}]
["臼杵ＳＳＳ_15","臼杵ＳＳＳ",{"$f":"(\"15\")","v":"15"},"MF","廣瀬　颯大","ヒロセ　ソウタ",5,"男子",{"$f":"(\"1008100193\")","v":"1008100193"}]
["挾間ＪＦＣ_1","挾間ＪＦＣ",{"$f":"(\"1\")","v":"1"},"GK","杉田　煌桜","スギタ　コオ",6,"男子",{"$f":"(\"1002190169\")","v":"1002190169"},"○"]
["挾間ＪＦＣ_2","挾間ＪＦＣ",{"$f":"(\"2\")","v":"2"},"FW","渡辺　晃大","ワタナベ　コウタ",4,"男子",{"$f":"(\"1112280099\")","v":"1112280099"}]
["挾間ＪＦＣ_3","挾間ＪＦＣ",{"$f":"(\"3\")","v":"3"},"MF","佐藤　翔真","サトウ　ショウマ",5,"男子",{"$f":"(\"1103010135\")","v":"1103010135"}]
["挾間ＪＦＣ_4","挾間ＪＦＣ",{"$f":"(\"4\")","v":"4"},"DF","佐藤　和真","サトウ　カズマ",5,"男子",{"$f":"(\"1103010134\")","v":"1103010134"}]
["挾間ＪＦＣ_5","挾間ＪＦＣ",{"$f":"(\"5\")","v":"5"},"FW","石田　翼","イシダ　ツバサ",5,"男子",{"$f":"(\"1103260103\")","v":"1103260103"}]
["挾間ＪＦＣ_6","挾間ＪＦＣ",{"$f":"(\"6\")","v":"6"},"MF","麻生　蓮","アソウ　レン",5,"男子",{"$f":"(\"1010050222\")","v":"1010050222"}]
["挾間ＪＦＣ_7","挾間ＪＦＣ",{"$f":"(\"7\")","v":"7"},"DF","阿部　虎牙","アベ　タイガ",5,"男子",{"$f":"(\"1012310061\")","v":"1012310061"}]
["挾間ＪＦＣ_8","挾間ＪＦＣ",{"$f":"(\"8\")","v":"8"},"MF","大石　陽也","オオイシ　ハルヤ",4,"男子",{"$f":"(\"1104240077\")","v":"1104240077"}]
["挾間ＪＦＣ_9","挾間ＪＦＣ",{"$f":"(\"9\")","v":"9"},"FW","秋吉　玲桜叶","アキヨシ　レオト",5,"男子",{"$f":"(\"1010120114\")","v":"1010120114"}]
["挾間ＪＦＣ_10","挾間ＪＦＣ",{"$f":"(\"10\")","v":"10"},"DF","日野　諒","ヒノ　リョウ",6,"男子",{"$f":"(\"0910240087\")","v":"0910240087"}]
["挾間ＪＦＣ_11","挾間ＪＦＣ",{"$f":"(\"11\")","v":"11"},"MF","依田　雄翔","ヨダ　ユウショウ",5,"男子",{"$f":"(\"1004200120\")","v":"1004200120"}]
["挾間ＪＦＣ_12","挾間ＪＦＣ",{"$f":"(\"12\")","v":"12"},"FW","麻生　悠","アソウ　ユウ",3,"男子",{"$f":"(\"1303040027\")","v":"1303040027"}]
["挾間ＪＦＣ_13","挾間ＪＦＣ",{"$f":"(\"13\")","v":"13"},"MF","安永　蒼史","ヤスナガ　ソウシ",3,"男子",{"$f":"(\"1212050032\")","v":"1212050032"}]
["挾間ＪＦＣ_21","挾間ＪＦＣ",{"$f":"(\"21\")","v":"21"},"GK","山村　大地","ヤマムラ　ダイチ",4,"男子",{"$f":"(\"1107200126\")","v":"1107200126"}]
["ＦＣ安岐_1","ＦＣ安岐",{"$f":"(\"1\")","v":"1"},"GK","伊賀上　陸","イガガミ　リク",4,"男子",{"$f":"(\"1201080053\")","v":"1201080053"}]
["ＦＣ安岐_3","ＦＣ安岐",{"$f":"(\"3\")","v":"3"},"FW","小玉　湊翔","コダマ　ミナト",4,"男子",{"$f":"(\"1202080041\")","v":"1202080041"}]
["ＦＣ安岐_4","ＦＣ安岐",{"$f":"(\"4\")","v":"4"},"DF","松丸　真大","マツマル　マサト",4,"男子",{"$f":"(\"1110310038\")","v":"1110310038"}]
["ＦＣ安岐_5","ＦＣ安岐",{"$f":"(\"5\")","v":"5"},"DF","田中　理琥","タナカ　リク",5,"男子",{"$f":"(\"1008020141\")","v":"1008020141"}]
["ＦＣ安岐_6","ＦＣ安岐",{"$f":"(\"6\")","v":"6"},"DF","南　凌介","ミナミ　リョウスケ",5,"男子",{"$f":"(\"1008090037\")","v":"1008090037"}]
["ＦＣ安岐_7","ＦＣ安岐",{"$f":"(\"7\")","v":"7"},"MF","上野　紗奈","ウエノ　サナ",5,"女子小学生",{"$f":"(\"1008070037\")","v":"1008070037"},"○"]
["ＦＣ安岐_8","ＦＣ安岐",{"$f":"(\"8\")","v":"8"},"DF","明石　琉希亜","アカシ　ルキア",5,"男子",{"$f":"(\"1006120032\")","v":"1006120032"}]
["ＦＣ安岐_9","ＦＣ安岐",{"$f":"(\"9\")","v":"9"},"MF","山田　蓮次","ヤマダ　レンジ",5,"男子",{"$f":"(\"1103270066\")","v":"1103270066"}]
["ＦＣ安岐_11","ＦＣ安岐",{"$f":"(\"11\")","v":"11"},"DF","廣峯　咲功","ヒロミネ　サク",5,"男子",{"$f":"(\"1101310161\")","v":"1101310161"}]
["ＦＣ安岐_12","ＦＣ安岐",{"$f":"(\"12\")","v":"12"},"FW","徳永　晴空","トクナガ　ハルク",5,"男子",{"$f":"(\"1101260173\")","v":"1101260173"}]
["ＦＣ安岐_13","ＦＣ安岐",{"$f":"(\"13\")","v":"13"},"MF","仮屋　月雲","カリヤ　ツクモ",4,"男子",{"$f":"(\"1108210040\")","v":"1108210040"}]
["ＦＣ安岐_14","ＦＣ安岐",{"$f":"(\"14\")","v":"14"},"FW","峯下　快斗","ミネシタ　カイト",3,"男子",{"$f":"(\"1208220047\")","v":"1208220047"}]
["スマイス・セレソン_1","スマイス・セレソン",{"$f":"(\"1\")","v":"1"},"GK","河野　夏樹","コウノ　ナツキ",6,"男子",{"$f":"(\"0905050184\")","v":"0905050184"}]
["スマイス・セレソン_2","スマイス・セレソン",{"$f":"(\"2\")","v":"2"},"DF","田中　楓晟","タナカ　フウセイ",6,"男子",{"$f":"(\"1001110117\")","v":"1001110117"}]
["スマイス・セレソン_3","スマイス・セレソン",{"$f":"(\"3\")","v":"3"},"DF","渡邊　陸斗","ワタナベ　リクト",6,"男子",{"$f":"(\"0909150208\")","v":"0909150208"}]
["スマイス・セレソン_4","スマイス・セレソン",{"$f":"(\"4\")","v":"4"},"DF","小田　聖翔","オダ　マサト",6,"男子",{"$f":"(\"0911110190\")","v":"0911110190"}]
["スマイス・セレソン_5","スマイス・セレソン",{"$f":"(\"5\")","v":"5"},"DF","中園　藍丸","ナカゾノ　ランマル",6,"男子",{"$f":"(\"0910050009\")","v":"0910050009"}]
["スマイス・セレソン_6","スマイス・セレソン",{"$f":"(\"6\")","v":"6"},"MF","横田　大河","ヨコタ　タイガ",6,"男子",{"$f":"(\"0912170227\")","v":"0912170227"}]
["スマイス・セレソン_7","スマイス・セレソン",{"$f":"(\"7\")","v":"7"},"MF","中嶌　大喜","ナカジマ　タイキ",5,"男子",{"$f":"(\"1006070197\")","v":"1006070197"}]
["スマイス・セレソン_8","スマイス・セレソン",{"$f":"(\"8\")","v":"8"},"MF","鎌田　航史郎","カマタ　コウシロウ",6,"男子",{"$f":"(\"0910150259\")","v":"0910150259"}]
["スマイス・セレソン_9","スマイス・セレソン",{"$f":"(\"9\")","v":"9"},"FW","中園　釉丸","ナカゾノ　ユウマル",6,"男子",{"$f":"(\"0910050008\")","v":"0910050008"}]
["スマイス・セレソン_10","スマイス・セレソン",{"$f":"(\"10\")","v":"10"},"FW","西野　凌太朗","ニシノ　リョウタロウ",6,"男子",{"$f":"(\"0905120223\")","v":"0905120223"},"○"]
["スマイス・セレソン_11","スマイス・セレソン",{"$f":"(\"11\")","v":"11"},"FW","松本　快理","マツモト　カイリ",6,"男子",{"$f":"(\"1003300024\")","v":"1003300024"}]
["スマイス・セレソン_12","スマイス・セレソン",{"$f":"(\"12\")","v":"12"},"FW","伊藤　翼","イトウ　ツバサ",6,"男子",{"$f":"(\"0909010193\")","v":"0909010193"}]
["スマイス・セレソン_13","スマイス・セレソン",{"$f":"(\"13\")","v":"13"},"MF","伊藤　廉真","イトウ　レンマ",5,"男子",{"$f":"(\"1102040138\")","v":"1102040138"}]
["スマイス・セレソン_14","スマイス・セレソン",{"$f":"(\"14\")","v":"14"},"MF","市野　琉太","イチノ　リュウタ",5,"男子",{"$f":"(\"1103260081\")","v":"1103260081"}]
["スマイス・セレソン_15","スマイス・セレソン",{"$f":"(\"15\")","v":"15"},"FW","下嶋　龍斗","シモジマ　リュウト",5,"男子",{"$f":"(\"1010080177\")","v":"1010080177"}]
["スマイス・セレソン_17","スマイス・セレソン",{"$f":"(\"17\")","v":"17"},"FW","工藤　義人","クドウ　ヨシト",4,"男子",{"$f":"(\"1104170089\")","v":"1104170089"}]
["スマイス・セレソンＢ_1","スマイス・セレソンＢ",{"$f":"(\"1\")","v":"1"},"GK","青山　恭輔","アオヤマ　キョウスケ",5,"男子",{"$f":"(\"1009020206\")","v":"1009020206"}]
["スマイス・セレソンＢ_2","スマイス・セレソンＢ",{"$f":"(\"2\")","v":"2"},"MF","吉田　侑生","ヨシダ　ユウセイ",5,"男子",{"$f":"(\"1012070120\")","v":"1012070120"}]
["スマイス・セレソンＢ_3","スマイス・セレソンＢ",{"$f":"(\"3\")","v":"3"},"DF","矢田　孝太郎","ヤダ　コウタロウ",5,"男子",{"$f":"(\"1006240189\")","v":"1006240189"}]
["スマイス・セレソンＢ_4","スマイス・セレソンＢ",{"$f":"(\"4\")","v":"4"},"DF","濱野　脩翔","ハマノ　シュウト",5,"男子",{"$f":"(\"1008170167\")","v":"1008170167"}]
[{"$f":"CONCATENATE(B1089,\"_\",C1089)","v":"スマイス・セレソンＢ_5"},"スマイス・セレソンＢ",{"$f":"(\"5\")","v":"5"},"MF","伊東　凌","イトウ　リョウ",5,"男子",{"$f":"(\"1010220109\")","v":"1010220109"}]
["スマイス・セレソンＢ_6","スマイス・セレソンＢ",{"$f":"(\"6\")","v":"6"},"MF","佐藤　睦翔","サトウ　リクト",5,"男子",{"$f":"(\"1012240124\")","v":"1012240124"}]
["スマイス・セレソンＢ_7","スマイス・セレソンＢ",{"$f":"(\"7\")","v":"7"},"DF","後藤　大輝","ゴトウ　マサキ",5,"男子",{"$f":"(\"1103230161\")","v":"1103230161"}]
["スマイス・セレソンＢ_8","スマイス・セレソンＢ",{"$f":"(\"8\")","v":"8"},"FW","長野　官叫","ナガノ　カンギュ",5,"男子",{"$f":"(\"1005180240\")","v":"1005180240"}]
["スマイス・セレソンＢ_9","スマイス・セレソンＢ",{"$f":"(\"9\")","v":"9"},"FW","吉良　一真","キラ　カズマ",6,"男子",{"$f":"(\"0907120186\")","v":"0907120186"},"○"]
["スマイス・セレソンＢ_10","スマイス・セレソンＢ",{"$f":"(\"10\")","v":"10"},"MF","佐々木　琉衣","ササキ　ルイ",5,"男子",{"$f":"(\"1102240155\")","v":"1102240155"}]
["スマイス・セレソンＢ_11","スマイス・セレソンＢ",{"$f":"(\"11\")","v":"11"},"FW","桐村　永遠","キリムラ　トワ",4,"男子",{"$f":"(\"1105020153\")","v":"1105020153"}]
["スマイス・セレソンＢ_12","スマイス・セレソンＢ",{"$f":"(\"12\")","v":"12"},"MF","堤　悠晴","ツツミ　ユウセイ",5,"男子",{"$f":"(\"1102060047\")","v":"1102060047"}]
["スマイス・セレソンＢ_13","スマイス・セレソンＢ",{"$f":"(\"13\")","v":"13"},"MF","大橋　薫","オオハシ　カオル",5,"男子",{"$f":"(\"1004180162\")","v":"1004180162"}]
["スマイス・セレソンＢ_14","スマイス・セレソンＢ",{"$f":"(\"14\")","v":"14"},"MF","松本　優理","マツモト　ユウリ",4,"男子",{"$f":"(\"1110040131\")","v":"1110040131"}]
["スマイス・セレソンＢ_15","スマイス・セレソンＢ",{"$f":"(\"15\")","v":"15"},"DF","横田　真輝","ヨコタ　マキ",4,"男子",{"$f":"(\"1109090119\")","v":"1109090119"}]
["スマイス・セレソンＢ_16","スマイス・セレソンＢ",{"$f":"(\"16\")","v":"16"},"GK","石田　大和","イシダ　ヤマト",5,"男子",{"$f":"(\"1007020180\")","v":"1007020180"}]
["カティオーラフットボールクラブＵ－１２_1","カティオーラフットボールクラブＵ－１２",{"$f":"(\"1\")","v":"1"},"GK","秋吉　逞","アキヨシ　タクマ",6,"男子",{"$f":"(\"0909220137\")","v":"0909220137"}]
["カティオーラフットボールクラブＵ－１２_2","カティオーラフットボールクラブＵ－１２",{"$f":"(\"2\")","v":"2"},"FW","藤田　京佑","フジタ　キョウスケ",6,"男子",{"$f":"(\"0906300166\")","v":"0906300166"}]
["カティオーラフットボールクラブＵ－１２_3","カティオーラフットボールクラブＵ－１２",{"$f":"(\"3\")","v":"3"},"DF","田尻　真生","タジリ　マウ",6,"男子",{"$f":"(\"0909010177\")","v":"0909010177"}]
["カティオーラフットボールクラブＵ－１２_4","カティオーラフットボールクラブＵ－１２",{"$f":"(\"4\")","v":"4"},"FW","田中　翔","タナカ　ショウ",6,"男子",{"$f":"(\"1003210115\")","v":"1003210115"}]
["カティオーラフットボールクラブＵ－１２_5","カティオーラフットボールクラブＵ－１２",{"$f":"(\"5\")","v":"5"},"DF","尼崎　琉太","アマガサキ　リュウタ",6,"男子",{"$f":"(\"0907020115\")","v":"0907020115"}]
["カティオーラフットボールクラブＵ－１２_6","カティオーラフットボールクラブＵ－１２",{"$f":"(\"6\")","v":"6"},"DF","上田　蒼真","ウエダ　ソウマ",6,"男子",{"$f":"(\"0908210194\")","v":"0908210194"}]
["カティオーラフットボールクラブＵ－１２_7","カティオーラフットボールクラブＵ－１２",{"$f":"(\"7\")","v":"7"},"MF","二宮　秀太","ニノミヤ　シュウタ",6,"男子",{"$f":"(\"1004010024\")","v":"1004010024"},"○"]
["カティオーラフットボールクラブＵ－１２_8","カティオーラフットボールクラブＵ－１２",{"$f":"(\"8\")","v":"8"},"MF","石井　瑛登","イシイ　エイト",6,"男子",{"$f":"(\"0911050056\")","v":"0911050056"}]
["カティオーラフットボールクラブＵ－１２_9","カティオーラフットボールクラブＵ－１２",{"$f":"(\"9\")","v":"9"},"FW","川﨑　音生","カワサキ　ネオ",6,"男子",{"$f":"(\"0908220169\")","v":"0908220169"}]
["カティオーラフットボールクラブＵ－１２_10","カティオーラフットボールクラブＵ－１２",{"$f":"(\"10\")","v":"10"},"MF","矢野　圭悟","ヤノ　ケイゴ",6,"男子",{"$f":"(\"0908130036\")","v":"0908130036"}]
["カティオーラフットボールクラブＵ－１２_11","カティオーラフットボールクラブＵ－１２",{"$f":"(\"11\")","v":"11"},"FW","實方　来夏","ジツカタ　ライカ",6,"男子",{"$f":"(\"0907060074\")","v":"0907060074"}]
["カティオーラフットボールクラブＵ－１２_12","カティオーラフットボールクラブＵ－１２",{"$f":"(\"12\")","v":"12"},"GK","川野　佑斗","カワノ　ユウト",6,"男子",{"$f":"(\"0912140161\")","v":"0912140161"}]
["カティオーラフットボールクラブＵ－１２_13","カティオーラフットボールクラブＵ－１２",{"$f":"(\"13\")","v":"13"},"DF","廣門　胡太朗","ヒロカド　コタロウ",6,"男子",{"$f":"(\"0912030191\")","v":"0912030191"}]
["カティオーラフットボールクラブＵ－１２_14","カティオーラフットボールクラブＵ－１２",{"$f":"(\"14\")","v":"14"},"FW","阿南　徠已","アナミ　ライ",5,"男子",{"$f":"(\"1004300203\")","v":"1004300203"}]
["カティオーラフットボールクラブＵ－１２_15","カティオーラフットボールクラブＵ－１２",{"$f":"(\"15\")","v":"15"},"MF","芝　虎之介","シバ　トラノスケ",5,"男子",{"$f":"(\"1008210017\")","v":"1008210017"}]
["カティオーラフットボールクラブＵ－１２_16","カティオーラフットボールクラブＵ－１２",{"$f":"(\"16\")","v":"16"},"MF","隅　悠來","スミ　ユウライ",5,"男子",{"$f":"(\"1004120175\")","v":"1004120175"}]
["カティオーラフットボールクラブＵ－１２　大在_1","カティオーラフットボールクラブＵ－１２　大在",{"$f":"(\"1\")","v":"1"},"GK","加茂　清家","カモ　スミヤ",6,"男子",{"$f":"(\"0906080135\")","v":"0906080135"}]
["カティオーラフットボールクラブＵ－１２　大在_2","カティオーラフットボールクラブＵ－１２　大在",{"$f":"(\"2\")","v":"2"},"DF","堤　丈諒","ツツミ　タケマサ",6,"男子",{"$f":"(\"1001290200\")","v":"1001290200"}]
["カティオーラフットボールクラブＵ－１２　大在_3","カティオーラフットボールクラブＵ－１２　大在",{"$f":"(\"3\")","v":"3"},"MF","梅木　翔平","ウメキ　ショウヘイ",5,"男子",{"$f":"(\"1004260011\")","v":"1004260011"}]
["カティオーラフットボールクラブＵ－１２　大在_4","カティオーラフットボールクラブＵ－１２　大在",{"$f":"(\"4\")","v":"4"},"FW","飯田　航平","ハンダ　コウヘイ",6,"男子",{"$f":"(\"0910250038\")","v":"0910250038"}]
["カティオーラフットボールクラブＵ－１２　大在_5","カティオーラフットボールクラブＵ－１２　大在",{"$f":"(\"5\")","v":"5"},"DF","田中　美桜","タナカ　ミオ",6,"女子小学生",{"$f":"(\"0907180126\")","v":"0907180126"}]
["カティオーラフットボールクラブＵ－１２　大在_6","カティオーラフットボールクラブＵ－１２　大在",{"$f":"(\"6\")","v":"6"},"MF","浦部　悠","ウラベ　トワ",6,"男子",{"$f":"(\"1003010170\")","v":"1003010170"}]
["カティオーラフットボールクラブＵ－１２　大在_7","カティオーラフットボールクラブＵ－１２　大在",{"$f":"(\"7\")","v":"7"},"MF","有田　茉央","アリタ　マオ",6,"女子小学生",{"$f":"(\"0911220088\")","v":"0911220088"}]
["カティオーラフットボールクラブＵ－１２　大在_8","カティオーラフットボールクラブＵ－１２　大在",{"$f":"(\"8\")","v":"8"},"DF","内野　結心","ウチノ　ユウト",6,"男子",{"$f":"(\"0909130158\")","v":"0909130158"}]
["カティオーラフットボールクラブＵ－１２　大在_9","カティオーラフットボールクラブＵ－１２　大在",{"$f":"(\"9\")","v":"9"},"FW","松岡　空","マツオカ　ソラ",6,"男子",{"$f":"(\"0910250087\")","v":"0910250087"}]
["カティオーラフットボールクラブＵ－１２　大在_10","カティオーラフットボールクラブＵ－１２　大在",{"$f":"(\"10\")","v":"10"},"MF","堤　聖那","ツツミ　セナ",6,"男子",{"$f":"(\"0906110133\")","v":"0906110133"}]
["カティオーラフットボールクラブＵ－１２　大在_11","カティオーラフットボールクラブＵ－１２　大在",{"$f":"(\"11\")","v":"11"},"FW","有田　悠真","アリタ　ユウマ",5,"男子",{"$f":"(\"1103250111\")","v":"1103250111"}]
["カティオーラフットボールクラブＵ－１２　大在_12","カティオーラフットボールクラブＵ－１２　大在",{"$f":"(\"12\")","v":"12"},"GK","松田　智寛","マツダ　トモヒロ",6,"男子",{"$f":"(\"0906140095\")","v":"0906140095"},"○"]
["カティオーラフットボールクラブＵ－１２　松岡_1","カティオーラフットボールクラブＵ－１２　松岡",{"$f":"(\"1\")","v":"1"},"GK","佐藤　唯翔","サトウ　ユイト",6,"男子",{"$f":"(\"0912210191\")","v":"0912210191"}]
["カティオーラフットボールクラブＵ－１２　松岡_2","カティオーラフットボールクラブＵ－１２　松岡",{"$f":"(\"2\")","v":"2"},"DF","御手洗　一心","ミタライ　イッシン",6,"男子",{"$f":"(\"0908040191\")","v":"0908040191"}]
["カティオーラフットボールクラブＵ－１２　松岡_3","カティオーラフットボールクラブＵ－１２　松岡",{"$f":"(\"3\")","v":"3"},"FW","財津　勇輔","ザイツ　ユウスケ",6,"男子",{"$f":"(\"1001180164\")","v":"1001180164"}]
["カティオーラフットボールクラブＵ－１２　松岡_4","カティオーラフットボールクラブＵ－１２　松岡",{"$f":"(\"4\")","v":"4"},"DF","戸髙　琉惺","トダカ　リュウセイ",6,"男子",{"$f":"(\"0912130130\")","v":"0912130130"}]
["カティオーラフットボールクラブＵ－１２　松岡_5","カティオーラフットボールクラブＵ－１２　松岡",{"$f":"(\"5\")","v":"5"},"DF","高橋　京馬","タカハシ　キョウマ",6,"男子",{"$f":"(\"1001020080\")","v":"1001020080"}]
["カティオーラフットボールクラブＵ－１２　松岡_6","カティオーラフットボールクラブＵ－１２　松岡",{"$f":"(\"6\")","v":"6"},"MF","岡村　颯太","オカムラ　ソウタ",6,"男子",{"$f":"(\"1002010163\")","v":"1002010163"}]
["カティオーラフットボールクラブＵ－１２　松岡_7","カティオーラフットボールクラブＵ－１２　松岡",{"$f":"(\"7\")","v":"7"},"MF","原田　夕輝","ハラダ　ユウキ",6,"男子",{"$f":"(\"0908100128\")","v":"0908100128"}]
["カティオーラフットボールクラブＵ－１２　松岡_8","カティオーラフットボールクラブＵ－１２　松岡",{"$f":"(\"8\")","v":"8"},"MF","牧　朔弥","マキ　サクヤ",6,"男子",{"$f":"(\"1002260186\")","v":"1002260186"}]
["カティオーラフットボールクラブＵ－１２　松岡_9","カティオーラフットボールクラブＵ－１２　松岡",{"$f":"(\"9\")","v":"9"},"FW","平本　綾汰","ヒラモト　リョウタ",6,"男子",{"$f":"(\"0908100193\")","v":"0908100193"}]
["カティオーラフットボールクラブＵ－１２　松岡_10","カティオーラフットボールクラブＵ－１２　松岡",{"$f":"(\"10\")","v":"10"},"MF","矢野　翔希","ヤノ　トウマ",6,"男子",{"$f":"(\"0908030181\")","v":"0908030181"}]
["カティオーラフットボールクラブＵ－１２　松岡_11","カティオーラフットボールクラブＵ－１２　松岡",{"$f":"(\"11\")","v":"11"},"DF","檜垣　寛大","ヒガキ　カンタ",6,"男子",{"$f":"(\"0912110188\")","v":"0912110188"},"○"]
["カティオーラフットボールクラブＵ－１２　松岡_12","カティオーラフットボールクラブＵ－１２　松岡",{"$f":"(\"12\")","v":"12"},"GK","河野　響","カワノ　ヒビキ",6,"男子",{"$f":"(\"0905080257\")","v":"0905080257"}]
["カティオーラフットボールクラブＵ－１２　松岡_13","カティオーラフットボールクラブＵ－１２　松岡",{"$f":"(\"13\")","v":"13"},"MF","河野　吏玖","カワノ　リク",6,"男子",{"$f":"(\"1003310181\")","v":"1003310181"}]
["カティオーラフットボールクラブＵ－１２　松岡_14","カティオーラフットボールクラブＵ－１２　松岡",{"$f":"(\"14\")","v":"14"},"DF","仲摩　瑞希","ナカマ　ミズキ",6,"男子",{"$f":"(\"1001020126\")","v":"1001020126"}]
["森岡サッカースポーツ少年団_1","森岡サッカースポーツ少年団",{"$f":"(\"1\")","v":"1"},"GK","前田　凌","マエダ　リョウ",6,"男子",{"$f":"(\"0908110197\")","v":"0908110197"}]
["森岡サッカースポーツ少年団_2","森岡サッカースポーツ少年団",{"$f":"(\"2\")","v":"2"},"DF","佐藤　風薫助","サトウ　フクスケ",6,"男子",{"$f":"(\"0905270145\")","v":"0905270145"}]
["森岡サッカースポーツ少年団_3","森岡サッカースポーツ少年団",{"$f":"(\"3\")","v":"3"},"DF","山崎　琥大朗","ヤマサキ　コタロウ",4,"男子",{"$f":"(\"1111040039\")","v":"1111040039"}]
["森岡サッカースポーツ少年団_4","森岡サッカースポーツ少年団",{"$f":"(\"4\")","v":"4"},"MF","甲斐　蓮翔","カイ　レント",6,"男子",{"$f":"(\"0905210061\")","v":"0905210061"}]
["森岡サッカースポーツ少年団_5","森岡サッカースポーツ少年団",{"$f":"(\"5\")","v":"5"},"FW","高司　理公","タカツカ　リオウ",4,"男子",{"$f":"(\"1106040028\")","v":"1106040028"}]
["森岡サッカースポーツ少年団_6","森岡サッカースポーツ少年団",{"$f":"(\"6\")","v":"6"},"MF","佐藤　晴生吉","サトウ　セイキチ",4,"男子",{"$f":"(\"1108230040\")","v":"1108230040"}]
["森岡サッカースポーツ少年団_7","森岡サッカースポーツ少年団",{"$f":"(\"7\")","v":"7"},"MF","上田　孝騎","ウエダ　コウキ",5,"男子",{"$f":"(\"1009190150\")","v":"1009190150"}]
["森岡サッカースポーツ少年団_8","森岡サッカースポーツ少年団",{"$f":"(\"8\")","v":"8"},"MF","長岡　蒼空","ナガオカ　ソラ",4,"男子",{"$f":"(\"1107280035\")","v":"1107280035"}]
["森岡サッカースポーツ少年団_9","森岡サッカースポーツ少年団",{"$f":"(\"9\")","v":"9"},"FW","角谷　春樹","カクヤ　ハルキ",4,"男子",{"$f":"(\"1112030027\")","v":"1112030027"}]
["森岡サッカースポーツ少年団_10","森岡サッカースポーツ少年団",{"$f":"(\"10\")","v":"10"},"DF","野尻　大地","ノジリ　ダイチ",6,"男子",{"$f":"(\"0904150024\")","v":"0904150024"},"○"]
[{"$f":"CONCATENATE(B1153,\"_\",C1153)","v":"森岡サッカースポーツ少年団_11"},"森岡サッカースポーツ少年団",{"$f":"(\"11\")","v":"11"},"FW","平井　蒼斗","ヒライ　アオト",4,"男子",{"$f":"(\"1201210028\")","v":"1201210028"}]
["森岡サッカースポーツ少年団_12","森岡サッカースポーツ少年団",{"$f":"(\"12\")","v":"12"},"MF","長岡　聖空","ナガオカ　セイア",3,"男子",{"$f":"(\"1302270020\")","v":"1302270020"}]
["森岡サッカースポーツ少年団_14","森岡サッカースポーツ少年団",{"$f":"(\"14\")","v":"14"},"MF","大城　遼真","オオキ　リョウマ",6,"男子",{"$f":"(\"0912160179\")","v":"0912160179"}]
["由布川サッカースポーツ少年団_1","由布川サッカースポーツ少年団",{"$f":"(\"1\")","v":"1"},"GK","伊東　湊","イトウ　ミナト",6,"男子",{"$f":"(\"1001120184\")","v":"1001120184"}]
["由布川サッカースポーツ少年団_2","由布川サッカースポーツ少年団",{"$f":"(\"2\")","v":"2"},"DF","山田　陽喜","ヤマダ　ハルキ",5,"男子",{"$f":"(\"1004120043\")","v":"1004120043"}]
["由布川サッカースポーツ少年団_3","由布川サッカースポーツ少年団",{"$f":"(\"3\")","v":"3"},"MF","首藤　晴斗","シュトウ　ハルト",5,"男子",{"$f":"(\"1009280144\")","v":"1009280144"}]
["由布川サッカースポーツ少年団_5","由布川サッカースポーツ少年団",{"$f":"(\"5\")","v":"5"},"FW","片山　峻吾","カタヤマ　シュンゴ",4,"男子",{"$f":"(\"1107090115\")","v":"1107090115"}]
["由布川サッカースポーツ少年団_6","由布川サッカースポーツ少年団",{"$f":"(\"6\")","v":"6"},"FW","衛藤　蒼依","エトウ　アオイ",5,"女子小学生",{"$f":"(\"1009040031\")","v":"1009040031"}]
["由布川サッカースポーツ少年団_7","由布川サッカースポーツ少年団",{"$f":"(\"7\")","v":"7"},"FW","上野　桜汰","ウエノ　オウタ",5,"男子",{"$f":"(\"1103180022\")","v":"1103180022"}]
["由布川サッカースポーツ少年団_8","由布川サッカースポーツ少年団",{"$f":"(\"8\")","v":"8"},"MF","小川　真由","オガワ　マユ",5,"女子小学生",{"$f":"(\"1008170127\")","v":"1008170127"}]
["由布川サッカースポーツ少年団_9","由布川サッカースポーツ少年団",{"$f":"(\"9\")","v":"9"},"MF","黒木　渚冴","クロキ　ナギサ",6,"男子",{"$f":"(\"0911280145\")","v":"0911280145"},"○"]
["由布川サッカースポーツ少年団_10","由布川サッカースポーツ少年団",{"$f":"(\"10\")","v":"10"},"FW","髙倉　暖基","タカクラ　ハルキ",6,"男子",{"$f":"(\"0904280134\")","v":"0904280134"}]
["由布川サッカースポーツ少年団_11","由布川サッカースポーツ少年団",{"$f":"(\"11\")","v":"11"},"DF","大塚　憧希","オオツカ　ショウキ",5,"男子",{"$f":"(\"1102010046\")","v":"1102010046"}]
["由布川サッカースポーツ少年団_12","由布川サッカースポーツ少年団",{"$f":"(\"12\")","v":"12"},"DF","古野　大我","フルノ　タイガ",4,"男子",{"$f":"(\"1112010102\")","v":"1112010102"}]
["由布川サッカースポーツ少年団_16","由布川サッカースポーツ少年団",{"$f":"(\"16\")","v":"16"},"GK","建野　智哉","タテノ　トモヤ",5,"男子",{"$f":"(\"1010220027\")","v":"1010220027"}]
["ＫＩＮＧＳ　ＦＯＯＴＢＡＬＬＣＬＵＢ　Ｕ－１２_1","ＫＩＮＧＳ　ＦＯＯＴＢＡＬＬＣＬＵＢ　Ｕ－１２",{"$f":"(\"1\")","v":"1"},"GK","小濱　佳太","コハマ　ケイタ",6,"男子",{"$f":"(\"0907050110\")","v":"0907050110"}]
["ＫＩＮＧＳ　ＦＯＯＴＢＡＬＬＣＬＵＢ　Ｕ－１２_2","ＫＩＮＧＳ　ＦＯＯＴＢＡＬＬＣＬＵＢ　Ｕ－１２",{"$f":"(\"2\")","v":"2"},"DF","栗林　透我","クリバヤシ　トウガ",5,"男子",{"$f":"(\"1009150239\")","v":"1009150239"}]
["ＫＩＮＧＳ　ＦＯＯＴＢＡＬＬＣＬＵＢ　Ｕ－１２_3","ＫＩＮＧＳ　ＦＯＯＴＢＡＬＬＣＬＵＢ　Ｕ－１２",{"$f":"(\"3\")","v":"3"},"MF","石川　洸英","イシカワ　コウエイ",5,"男子",{"$f":"(\"1102160116\")","v":"1102160116"}]
["ＫＩＮＧＳ　ＦＯＯＴＢＡＬＬＣＬＵＢ　Ｕ－１２_4","ＫＩＮＧＳ　ＦＯＯＴＢＡＬＬＣＬＵＢ　Ｕ－１２",{"$f":"(\"4\")","v":"4"},"FW","伊藤　虹輝","イトウ　コウキ",6,"男子",{"$f":"(\"0911240203\")","v":"0911240203"}]
["ＫＩＮＧＳ　ＦＯＯＴＢＡＬＬＣＬＵＢ　Ｕ－１２_5","ＫＩＮＧＳ　ＦＯＯＴＢＡＬＬＣＬＵＢ　Ｕ－１２",{"$f":"(\"5\")","v":"5"},"MF","亀井　慶太","カメイ　ケイタ",6,"男子",{"$f":"(\"0907170248\")","v":"0907170248"}]
["ＫＩＮＧＳ　ＦＯＯＴＢＡＬＬＣＬＵＢ　Ｕ－１２_6","ＫＩＮＧＳ　ＦＯＯＴＢＡＬＬＣＬＵＢ　Ｕ－１２",{"$f":"(\"6\")","v":"6"},"MF","石川　遥翔","イシカワ　ハルト",6,"男子",{"$f":"(\"0911130190\")","v":"0911130190"}]
["ＫＩＮＧＳ　ＦＯＯＴＢＡＬＬＣＬＵＢ　Ｕ－１２_7","ＫＩＮＧＳ　ＦＯＯＴＢＡＬＬＣＬＵＢ　Ｕ－１２",{"$f":"(\"7\")","v":"7"},"MF","小野　渚","オノ　ナギサ",6,"男子",{"$f":"(\"0907120114\")","v":"0907120114"}]
["ＫＩＮＧＳ　ＦＯＯＴＢＡＬＬＣＬＵＢ　Ｕ－１２_8","ＫＩＮＧＳ　ＦＯＯＴＢＡＬＬＣＬＵＢ　Ｕ－１２",{"$f":"(\"8\")","v":"8"},"MF","下瀬　龍翔","シモセ　リュウト",6,"男子",{"$f":"(\"0910210229\")","v":"0910210229"}]
["ＫＩＮＧＳ　ＦＯＯＴＢＡＬＬＣＬＵＢ　Ｕ－１２_9","ＫＩＮＧＳ　ＦＯＯＴＢＡＬＬＣＬＵＢ　Ｕ－１２",{"$f":"(\"9\")","v":"9"},"DF","萱島　一平","カヤシマ　イッペイ",6,"男子",{"$f":"(\"0905300121\")","v":"0905300121"}]
["ＫＩＮＧＳ　ＦＯＯＴＢＡＬＬＣＬＵＢ　Ｕ－１２_10","ＫＩＮＧＳ　ＦＯＯＴＢＡＬＬＣＬＵＢ　Ｕ－１２",{"$f":"(\"10\")","v":"10"},"MF","城　大雅","ジョウ　ハルマサ",6,"男子",{"$f":"(\"0905290132\")","v":"0905290132"},"○"]
["ＫＩＮＧＳ　ＦＯＯＴＢＡＬＬＣＬＵＢ　Ｕ－１２_11","ＫＩＮＧＳ　ＦＯＯＴＢＡＬＬＣＬＵＢ　Ｕ－１２",{"$f":"(\"11\")","v":"11"},"MF","上野　磨央","ウエノ　マオ",6,"男子",{"$f":"(\"0910110157\")","v":"0910110157"}]
["ＫＩＮＧＳ　ＦＯＯＴＢＡＬＬＣＬＵＢ　Ｕ－１２_12","ＫＩＮＧＳ　ＦＯＯＴＢＡＬＬＣＬＵＢ　Ｕ－１２",{"$f":"(\"12\")","v":"12"},"MF","伏野　洸希","フシノ　コウキ",6,"男子",{"$f":"(\"0906170225\")","v":"0906170225"}]
["ＫＩＮＧＳ　ＦＯＯＴＢＡＬＬＣＬＵＢ　Ｕ－１２_13","ＫＩＮＧＳ　ＦＯＯＴＢＡＬＬＣＬＵＢ　Ｕ－１２",{"$f":"(\"13\")","v":"13"},"DF","伊藤　太我","イトウ　タイガ",5,"男子",{"$f":"(\"1004020168\")","v":"1004020168"}]
["ＫＩＮＧＳ　ＦＯＯＴＢＡＬＬＣＬＵＢ　Ｕ－１２_14","ＫＩＮＧＳ　ＦＯＯＴＢＡＬＬＣＬＵＢ　Ｕ－１２",{"$f":"(\"14\")","v":"14"},"FW","河野　悠亜","カワノ　ユウア",5,"男子",{"$f":"(\"1011300144\")","v":"1011300144"}]
["ＫＩＮＧＳ　ＦＯＯＴＢＡＬＬＣＬＵＢ　Ｕ－１２_15","ＫＩＮＧＳ　ＦＯＯＴＢＡＬＬＣＬＵＢ　Ｕ－１２",{"$f":"(\"15\")","v":"15"},"MF","古野　光臥","フルノ　コウガ",5,"男子",{"$f":"(\"1011020145\")","v":"1011020145"}]
["ＫＩＮＧＳ　ＦＯＯＴＢＡＬＬＣＬＵＢ　Ｕ－１２_16","ＫＩＮＧＳ　ＦＯＯＴＢＡＬＬＣＬＵＢ　Ｕ－１２",{"$f":"(\"16\")","v":"16"},"MF","児玉　陵空","コダマ　リク",5,"男子",{"$f":"(\"1008100244\")","v":"1008100244"}]
["スマイスＦＣ_1","スマイスＦＣ",{"$f":"(\"1\")","v":"1"},"GK","長友　颯汰","ナガトモ　ソウタ",6,"男子",{"$f":"(\"0909040203\")","v":"0909040203"}]
["スマイスＦＣ_2","スマイスＦＣ",{"$f":"(\"2\")","v":"2"},"DF","吉本　陽向","ヨシモト　ヒナタ",6,"男子",{"$f":"(\"0904040160\")","v":"0904040160"}]
["スマイスＦＣ_3","スマイスＦＣ",{"$f":"(\"3\")","v":"3"},"MF","吉﨑　一和","ヨシザキ　ヒナノ",6,"女子小学生",{"$f":"(\"0904220260\")","v":"0904220260"}]
["スマイスＦＣ_4","スマイスＦＣ",{"$f":"(\"4\")","v":"4"},"DF","佐藤　以織","サトウ　イオリ",6,"男子",{"$f":"(\"0905220254\")","v":"0905220254"}]
["スマイスＦＣ_5","スマイスＦＣ",{"$f":"(\"5\")","v":"5"},"MF","森　陽佐志","モリ　ヒサシ",6,"男子",{"$f":"(\"0905290228\")","v":"0905290228"}]
["スマイスＦＣ_6","スマイスＦＣ",{"$f":"(\"6\")","v":"6"},"DF","市原　海吏","イチハラ　カイリ",6,"男子",{"$f":"(\"0908200265\")","v":"0908200265"}]
["スマイスＦＣ_7","スマイスＦＣ",{"$f":"(\"7\")","v":"7"},"MF","大東　春斗","オオヒガシ　ハルト",6,"男子",{"$f":"(\"0910140269\")","v":"0910140269"}]
["スマイスＦＣ_8","スマイスＦＣ",{"$f":"(\"8\")","v":"8"},"DF","山岡　遼平","ヤマオカ　リョウヘイ",6,"男子",{"$f":"(\"0906050213\")","v":"0906050213"},"○"]
["スマイスＦＣ_9","スマイスＦＣ",{"$f":"(\"9\")","v":"9"},"FW","工藤　煌人","クドウ　アキト",6,"男子",{"$f":"(\"0906130214\")","v":"0906130214"}]
["スマイスＦＣ_10","スマイスＦＣ",{"$f":"(\"10\")","v":"10"},"FW","森永　涼太","モリナガ　リョウタ",6,"男子",{"$f":"(\"0908030241\")","v":"0908030241"}]
["スマイスＦＣ_11","スマイスＦＣ",{"$f":"(\"11\")","v":"11"},"MF","東川　颯真","ヒガシカワ　ソウマ",6,"男子",{"$f":"(\"1002180209\")","v":"1002180209"}]
["スマイスＦＣ_12","スマイスＦＣ",{"$f":"(\"12\")","v":"12"},"MF","野村　康晴","ノムラ　コウセイ",6,"男子",{"$f":"(\"0909110234\")","v":"0909110234"}]
["スマイスＦＣ_13","スマイスＦＣ",{"$f":"(\"13\")","v":"13"},"MF","荒金　奏太朗","アラカネ　ソウタロウ",6,"男子",{"$f":"(\"0909250295\")","v":"0909250295"}]
["スマイスＦＣ_14","スマイスＦＣ",{"$f":"(\"14\")","v":"14"},"MF","猪原　壮史","イハラ　ソウシ",6,"男子",{"$f":"(\"1003060114\")","v":"1003060114"}]
["スマイスＦＣ_15","スマイスＦＣ",{"$f":"(\"15\")","v":"15"},"FW","河野　龍翔","コウノ　リュウショウ",6,"男子",{"$f":"(\"0911080192\")","v":"0911080192"}]
["スマイスＦＣ_16","スマイスＦＣ",{"$f":"(\"16\")","v":"16"},"GK","大石　征澄","オオイシ　マサト",6,"男子",{"$f":"(\"1002210117\")","v":"1002210117"}]
["市浜レッドソックス_1","市浜レッドソックス",{"$f":"(\"1\")","v":"1"},"GK","嶋津　色音","シマヅ　イロト",5,"男子",{"$f":"(\"1006300089\")","v":"1006300089"}]
["市浜レッドソックス_2","市浜レッドソックス",{"$f":"(\"2\")","v":"2"},"DF","西村　駿佑","ニシムラ　シュンスケ",6,"男子",{"$f":"(\"0906190130\")","v":"0906190130"}]
["市浜レッドソックス_3","市浜レッドソックス",{"$f":"(\"3\")","v":"3"},"FW","衛藤　祥太","エトウ　ショウタ",5,"男子",{"$f":"(\"1012070119\")","v":"1012070119"}]
["市浜レッドソックス_4","市浜レッドソックス",{"$f":"(\"4\")","v":"4"},"MF","後藤　優弥","ゴトウ　ユウヤ",5,"男子",{"$f":"(\"1004140186\")","v":"1004140186"}]
["市浜レッドソックス_5","市浜レッドソックス",{"$f":"(\"5\")","v":"5"},"MF","高田　琥太郎","タカダ　コタロウ",6,"男子",{"$f":"(\"1002160154\")","v":"1002160154"}]
["市浜レッドソックス_6","市浜レッドソックス",{"$f":"(\"6\")","v":"6"},"FW","武生　岬","タキュウ　ミサキ",6,"男子",{"$f":"(\"0910290170\")","v":"0910290170"}]
["市浜レッドソックス_7","市浜レッドソックス",{"$f":"(\"7\")","v":"7"},"MF","木村　海惺","キムラ　カイセイ",6,"男子",{"$f":"(\"0910190110\")","v":"0910190110"}]
["市浜レッドソックス_8","市浜レッドソックス",{"$f":"(\"8\")","v":"8"},"DF","橘　実知","タチバナ　ミチ",6,"女子小学生",{"$f":"(\"0905050212\")","v":"0905050212"}]
["市浜レッドソックス_9","市浜レッドソックス",{"$f":"(\"9\")","v":"9"},"MF","穴見　恒輝","アナミ　コウキ",5,"男子",{"$f":"(\"1004300052\")","v":"1004300052"}]
["市浜レッドソックス_10","市浜レッドソックス",{"$f":"(\"10\")","v":"10"},"MF","川野　羚準","カワノ　リヒト",6,"男子",{"$f":"(\"0906180048\")","v":"0906180048"},"○"]
["市浜レッドソックス_11","市浜レッドソックス",{"$f":"(\"11\")","v":"11"},"FW","梶原　康太","カジワラ　コウタ",6,"男子",{"$f":"(\"0904120032\")","v":"0904120032"}]
["市浜レッドソックス_12","市浜レッドソックス",{"$f":"(\"12\")","v":"12"},"FW","五十川　蘭","イカガワ　ラン",5,"女子小学生",{"$f":"(\"1012200116\")","v":"1012200116"}]
["市浜レッドソックス_13","市浜レッドソックス",{"$f":"(\"13\")","v":"13"},"FW","小倉　遙隼","オグラ　ハルト",5,"男子",{"$f":"(\"1004050143\")","v":"1004050143"}]
["市浜レッドソックス_15","市浜レッドソックス",{"$f":"(\"15\")","v":"15"},"DF","吉良　瑛翔","キラ　エイト",5,"男子",{"$f":"(\"1008050186\")","v":"1008050186"}]
["県央おおのＪＦＣ_1","県央おおのＪＦＣ",{"$f":"(\"1\")","v":"1"},"GK","村上　莉久","ムラカミ　リク",6,"男子",{"$f":"(\"0909280127\")","v":"0909280127"}]
["県央おおのＪＦＣ_2","県央おおのＪＦＣ",{"$f":"(\"2\")","v":"2"},"MF","冨田　伊吹","トミタ　イブキ",4,"男子",{"$f":"(\"1110280132\")","v":"1110280132"}]
["県央おおのＪＦＣ_3","県央おおのＪＦＣ",{"$f":"(\"3\")","v":"3"},"MF","足立　希望","アダチ　ノゾム",4,"男子",{"$f":"(\"1202080088\")","v":"1202080088"}]
[{"$f":"CONCATENATE(B1217,\"_\",C1217)","v":"県央おおのＪＦＣ_4"},"県央おおのＪＦＣ",{"$f":"(\"4\")","v":"4"},"MF","河辺　光央","カワベ　コオ",4,"男子",{"$f":"(\"1110200097\")","v":"1110200097"}]
["県央おおのＪＦＣ_5","県央おおのＪＦＣ",{"$f":"(\"5\")","v":"5"},"DF","後藤　颯真","ゴトウ　ソウマ",6,"男子",{"$f":"(\"0907130010\")","v":"0907130010"}]
["県央おおのＪＦＣ_6","県央おおのＪＦＣ",{"$f":"(\"6\")","v":"6"},"DF","丹　陸人","タン　リクト",6,"男子",{"$f":"(\"0906100024\")","v":"0906100024"},"○"]
["県央おおのＪＦＣ_7","県央おおのＪＦＣ",{"$f":"(\"7\")","v":"7"},"FW","宮成　淳也","ミヤナリ　ジュンヤ",5,"男子",{"$f":"(\"1007120042\")","v":"1007120042"}]
["県央おおのＪＦＣ_8","県央おおのＪＦＣ",{"$f":"(\"8\")","v":"8"},"MF","深田　瑠唯","フカタ　ルイ",5,"女子小学生",{"$f":"(\"1009040156\")","v":"1009040156"}]
["県央おおのＪＦＣ_9","県央おおのＪＦＣ",{"$f":"(\"9\")","v":"9"},"MF","宮成　一慎","ミヤナリ　カズマ",5,"男子",{"$f":"(\"1007130211\")","v":"1007130211"}]
["県央おおのＪＦＣ_10","県央おおのＪＦＣ",{"$f":"(\"10\")","v":"10"},"MF","得丸　涼雅","トクマル　リョウマ",6,"男子",{"$f":"(\"0908130029\")","v":"0908130029"}]
["県央おおのＪＦＣ_11","県央おおのＪＦＣ",{"$f":"(\"11\")","v":"11"},"MF","仲町　駿祐","ナカマチ　シュンスケ",5,"男子",{"$f":"(\"1007130036\")","v":"1007130036"}]
["県央おおのＪＦＣ_14","県央おおのＪＦＣ",{"$f":"(\"14\")","v":"14"},"MF","森田　悠司","モリタ　ユウジ",3,"男子",{"$f":"(\"1207060037\")","v":"1207060037"}]
["県央おおのＪＦＣ_17","県央おおのＪＦＣ",{"$f":"(\"17\")","v":"17"},"GK","矢野　啓","ヤノ　ヒラク",4,"男子",{"$f":"(\"1107070120\")","v":"1107070120"}]
["ブルーウイングフットボールクラブ_1","ブルーウイングフットボールクラブ",{"$f":"(\"1\")","v":"1"},"GK","工藤　海斗","クドウ　カイト",6,"男子",{"$f":"(\"0910190200\")","v":"0910190200"}]
["ブルーウイングフットボールクラブ_2","ブルーウイングフットボールクラブ",{"$f":"(\"2\")","v":"2"},"DF","河崎　海斗","カワサキ　カイト",6,"男子",{"$f":"(\"0904160224\")","v":"0904160224"}]
["ブルーウイングフットボールクラブ_3","ブルーウイングフットボールクラブ",{"$f":"(\"3\")","v":"3"},"DF","久保　飛磨","クボ　アスマ",6,"男子",{"$f":"(\"1001210210\")","v":"1001210210"}]
["ブルーウイングフットボールクラブ_4","ブルーウイングフットボールクラブ",{"$f":"(\"4\")","v":"4"},"DF","吉田　綾斗","ヨシダ　アヤト",6,"男子",{"$f":"(\"0904210267\")","v":"0904210267"}]
["ブルーウイングフットボールクラブ_5","ブルーウイングフットボールクラブ",{"$f":"(\"5\")","v":"5"},"MF","藤澤　楠","フジサワ　ダン",6,"男子",{"$f":"(\"0909050170\")","v":"0909050170"}]
["ブルーウイングフットボールクラブ_6","ブルーウイングフットボールクラブ",{"$f":"(\"6\")","v":"6"},"DF","岩本　大空","イワモト　ツバサ",6,"男子",{"$f":"(\"0905290254\")","v":"0905290254"}]
["ブルーウイングフットボールクラブ_7","ブルーウイングフットボールクラブ",{"$f":"(\"7\")","v":"7"},"MF","廣瀬　統治","ヒロセ　スバル",6,"男子",{"$f":"(\"0904260117\")","v":"0904260117"}]
["ブルーウイングフットボールクラブ_8","ブルーウイングフットボールクラブ",{"$f":"(\"8\")","v":"8"},"MF","田村　瑛人","タムラ　エイト",5,"男子",{"$f":"(\"1008150127\")","v":"1008150127"}]
["ブルーウイングフットボールクラブ_9","ブルーウイングフットボールクラブ",{"$f":"(\"9\")","v":"9"},"MF","中道　祐槻","ナカミチ　ユヅキ",5,"男子",{"$f":"(\"1010090113\")","v":"1010090113"}]
["ブルーウイングフットボールクラブ_10","ブルーウイングフットボールクラブ",{"$f":"(\"10\")","v":"10"},"MF","久保田　蓮","クボタ　レン",6,"男子",{"$f":"(\"0905280152\")","v":"0905280152"},"○"]
["ブルーウイングフットボールクラブ_11","ブルーウイングフットボールクラブ",{"$f":"(\"11\")","v":"11"},"MF","佐々木　壮太","ササキ　ソウタ",6,"男子",{"$f":"(\"0904120152\")","v":"0904120152"}]
["ブルーウイングフットボールクラブ_12","ブルーウイングフットボールクラブ",{"$f":"(\"12\")","v":"12"},"GK","安部　凌真","アベ　リョウマ",6,"男子",{"$f":"(\"0907190202\")","v":"0907190202"}]
["ブルーウイングフットボールクラブ_13","ブルーウイングフットボールクラブ",{"$f":"(\"13\")","v":"13"},"FW","河野　彪駕","カワノ　ヒュウガ",5,"男子",{"$f":"(\"1005240011\")","v":"1005240011"}]
["ブルーウイングフットボールクラブ_14","ブルーウイングフットボールクラブ",{"$f":"(\"14\")","v":"14"},"MF","藤野　世那","フジノ　セナ",5,"男子",{"$f":"(\"1101300091\")","v":"1101300091"}]
["ブルーウイングフットボールクラブ_15","ブルーウイングフットボールクラブ",{"$f":"(\"15\")","v":"15"},"DF","伊賀　旺甫","イガ　オウスケ",5,"男子",{"$f":"(\"1102150163\")","v":"1102150163"}]
["ブルーウイングフットボールクラブ_16","ブルーウイングフットボールクラブ",{"$f":"(\"16\")","v":"16"},"MF","加藤　悠都","カトウ　ユウト",5,"男子",{"$f":"(\"1005280162\")","v":"1005280162"}]
["ようこくバンビーレＦＣ_1","ようこくバンビーレＦＣ",{"$f":"(\"1\")","v":"1"},"GK","中野　碧斗","ナカノ　アオト",6,"男子",{"$f":"(\"0905190231\")","v":"0905190231"}]
["ようこくバンビーレＦＣ_2","ようこくバンビーレＦＣ",{"$f":"(\"2\")","v":"2"},"DF","福良　太一","フクラ　タイチ",5,"男子",{"$f":"(\"1004090136\")","v":"1004090136"}]
["ようこくバンビーレＦＣ_3","ようこくバンビーレＦＣ",{"$f":"(\"3\")","v":"3"},"DF","宮下　斗真","ミヤシタ　トウマ",5,"男子",{"$f":"(\"1009250087\")","v":"1009250087"}]
["ようこくバンビーレＦＣ_5","ようこくバンビーレＦＣ",{"$f":"(\"5\")","v":"5"},"MF","大野　翔琉","オオノ　カケル",5,"男子",{"$f":"(\"1010060163\")","v":"1010060163"}]
["ようこくバンビーレＦＣ_6","ようこくバンビーレＦＣ",{"$f":"(\"6\")","v":"6"},"DF","大本　理生","オオモト　リオ",5,"男子",{"$f":"(\"1011280029\")","v":"1011280029"}]
["ようこくバンビーレＦＣ_7","ようこくバンビーレＦＣ",{"$f":"(\"7\")","v":"7"},"FW","山下　大輔","ヤマシタ　ダイスケ",5,"男子",{"$f":"(\"1006190100\")","v":"1006190100"}]
["ようこくバンビーレＦＣ_8","ようこくバンビーレＦＣ",{"$f":"(\"8\")","v":"8"},"MF","河野　陽真","コウノ　ハルマ",5,"男子",{"$f":"(\"1009140069\")","v":"1009140069"}]
["ようこくバンビーレＦＣ_9","ようこくバンビーレＦＣ",{"$f":"(\"9\")","v":"9"},"FW","山下　慶人","ヤマシタ　ケイト",5,"男子",{"$f":"(\"1102260012\")","v":"1102260012"}]
["ようこくバンビーレＦＣ_10","ようこくバンビーレＦＣ",{"$f":"(\"10\")","v":"10"},"DF","佐藤　昊介","サトウ　コウスケ",6,"男子",{"$f":"(\"0910100176\")","v":"0910100176"},"○"]
["ようこくバンビーレＦＣ_11","ようこくバンビーレＦＣ",{"$f":"(\"11\")","v":"11"},"MF","佐藤　晴斗","サトウ　ハルト",5,"男子",{"$f":"(\"1008050022\")","v":"1008050022"}]
["ようこくバンビーレＦＣ_14","ようこくバンビーレＦＣ",{"$f":"(\"14\")","v":"14"},"FW","大本　琉生","オオモト　ルイ",3,"男子",{"$f":"(\"1212020040\")","v":"1212020040"}]
["野津ＦＣ_1","野津ＦＣ",{"$f":"(\"1\")","v":"1"},"GK","柴田　琉生","シバタ　ルイ",5,"男子",{"$f":"(\"1102100087\")","v":"1102100087"}]
["野津ＦＣ_2","野津ＦＣ",{"$f":"(\"2\")","v":"2"},"MF","白根　知紘","シラネ　チヒロ",3,"男子",{"$f":"(\"1212070070\")","v":"1212070070"}]
["野津ＦＣ_5","野津ＦＣ",{"$f":"(\"5\")","v":"5"},"DF","川野　宏弥","カワノ　コウヤ",6,"男子",{"$f":"(\"0908240156\")","v":"0908240156"}]
["野津ＦＣ_6","野津ＦＣ",{"$f":"(\"6\")","v":"6"},"DF","神野　隼羽","カミノ　トワ",5,"男子",{"$f":"(\"1006260074\")","v":"1006260074"}]
["野津ＦＣ_7","野津ＦＣ",{"$f":"(\"7\")","v":"7"},"MF","長野　汰我","ナガノ　タイガ",6,"男子",{"$f":"(\"1003030116\")","v":"1003030116"},"○"]
["野津ＦＣ_8","野津ＦＣ",{"$f":"(\"8\")","v":"8"},"MF","吉良　大和","キラ　ヤマト",6,"男子",{"$f":"(\"1001270144\")","v":"1001270144"}]
["野津ＦＣ_9","野津ＦＣ",{"$f":"(\"9\")","v":"9"},"FW","高松　禾生","タカマツ　カイ",6,"男子",{"$f":"(\"0905300140\")","v":"0905300140"}]
["野津ＦＣ_10","野津ＦＣ",{"$f":"(\"10\")","v":"10"},"FW","河村　大輔","カワムラ　ダイスケ",5,"男子",{"$f":"(\"1012120056\")","v":"1012120056"}]
["野津ＦＣ_11","野津ＦＣ",{"$f":"(\"11\")","v":"11"},"MF","川野　晃汰","カワノ　コウタ",5,"男子",{"$f":"(\"1009280085\")","v":"1009280085"}]
["野津ＦＣ_13","野津ＦＣ",{"$f":"(\"13\")","v":"13"},"DF","岡部　安莉","オカベ　アンリ",3,"男子",{"$f":"(\"1208030097\")","v":"1208030097"}]
["野津ＦＣ_14","野津ＦＣ",{"$f":"(\"14\")","v":"14"},"FW","吉良　咲耶","キラ　サクヤ",3,"男子",{"$f":"(\"1208100034\")","v":"1208100034"}]
["野津ＦＣ_21","野津ＦＣ",{"$f":"(\"21\")","v":"21"},"GK","植田　琉生","ウエダ　ルイ",3,"男子",{"$f":"(\"1206090031\")","v":"1206090031"}]
["城東サッカースポーツ少年団_1","城東サッカースポーツ少年団",{"$f":"(\"1\")","v":"1"},"GK","河邊　太地","カワベ　タイチ",6,"男子",{"$f":"(\"1001150027\")","v":"1001150027"}]
["城東サッカースポーツ少年団_2","城東サッカースポーツ少年団",{"$f":"(\"2\")","v":"2"},"DF","重石　陽向","シゲイシ　ヒナタ",6,"男子",{"$f":"(\"0907040008\")","v":"0907040008"}]
["城東サッカースポーツ少年団_3","城東サッカースポーツ少年団",{"$f":"(\"3\")","v":"3"},"DF","下村　奏太","シモムラ　ソウタ",6,"男子",{"$f":"(\"1003070024\")","v":"1003070024"}]
["城東サッカースポーツ少年団_4","城東サッカースポーツ少年団",{"$f":"(\"4\")","v":"4"},"DF","黒木　隆成","クロキ　リュウセイ",6,"男子",{"$f":"(\"0905310135\")","v":"0905310135"}]
["城東サッカースポーツ少年団_5","城東サッカースポーツ少年団",{"$f":"(\"5\")","v":"5"},"MF","平野　丈仁","ヒラノ　タケト",6,"男子",{"$f":"(\"0906150089\")","v":"0906150089"}]
["城東サッカースポーツ少年団_6","城東サッカースポーツ少年団",{"$f":"(\"6\")","v":"6"},"FW","兼子　拓人","カネコ　タクト",5,"男子",{"$f":"(\"1012300008\")","v":"1012300008"}]
["城東サッカースポーツ少年団_7","城東サッカースポーツ少年団",{"$f":"(\"7\")","v":"7"},"MF","高瀬　悠太","タカセ　ユウタ",6,"男子",{"$f":"(\"0908010147\")","v":"0908010147"},"○"]
["城東サッカースポーツ少年団_8","城東サッカースポーツ少年団",{"$f":"(\"8\")","v":"8"},"MF","谷口　斗哉","タニグチ　トウヤ",5,"男子",{"$f":"(\"1101170098\")","v":"1101170098"}]
["城東サッカースポーツ少年団_9","城東サッカースポーツ少年団",{"$f":"(\"9\")","v":"9"},"MF","柿添　主水","カキゾエ　モンド",6,"男子",{"$f":"(\"0905020027\")","v":"0905020027"}]
["城東サッカースポーツ少年団_10","城東サッカースポーツ少年団",{"$f":"(\"10\")","v":"10"},"FW","佐藤　菜沙","サトウ　ナズナ",5,"女子小学生",{"$f":"(\"1011200059\")","v":"1011200059"}]
["城東サッカースポーツ少年団_11","城東サッカースポーツ少年団",{"$f":"(\"11\")","v":"11"},"MF","山中　直","ヤマナカ　ナオ",4,"男子",{"$f":"(\"1104190182\")","v":"1104190182"}]
["城東サッカースポーツ少年団_12","城東サッカースポーツ少年団",{"$f":"(\"12\")","v":"12"},"FW","下村　悠太","シモムラ　ユウタ",3,"男子",{"$f":"(\"1207220026\")","v":"1207220026"}]
["城東サッカースポーツ少年団_13","城東サッカースポーツ少年団",{"$f":"(\"13\")","v":"13"},"MF","内海　劉","ウツミ　リュウ",3,"男子",{"$f":"(\"1210200019\")","v":"1210200019"}]
["城東サッカースポーツ少年団_14","城東サッカースポーツ少年団",{"$f":"(\"14\")","v":"14"},"FW","市ノ瀬　新","イチノセ　アラタ",3,"男子",{"$f":"(\"1206220078\")","v":"1206220078"}]
["城東サッカースポーツ少年団_15","城東サッカースポーツ少年団",{"$f":"(\"15\")","v":"15"},"FW","佐藤　維摩","サトウ　ユイマ",3,"男子",{"$f":"(\"1205090099\")","v":"1205090099"}]
[{"$f":"CONCATENATE(B1281,\"_\",C1281)","v":"ヴェルスパ大分　Ｕ－１２_1"},"ヴェルスパ大分　Ｕ－１２",{"$f":"(\"1\")","v":"1"},"GK","大野　遥生","オオノ　ハルキ",5,"男子",{"$f":"(\"1005230115\")","v":"1005230115"}]
["ヴェルスパ大分　Ｕ－１２_2","ヴェルスパ大分　Ｕ－１２",{"$f":"(\"2\")","v":"2"},"DF","宮川　泰晴","ミヤカワ　タイセイ",5,"男子",{"$f":"(\"1006270146\")","v":"1006270146"}]
["ヴェルスパ大分　Ｕ－１２_3","ヴェルスパ大分　Ｕ－１２",{"$f":"(\"3\")","v":"3"},"FW","遠藤　太雅","エンドウ　タイガ",5,"男子",{"$f":"(\"1011240174\")","v":"1011240174"}]
["ヴェルスパ大分　Ｕ－１２_4","ヴェルスパ大分　Ｕ－１２",{"$f":"(\"4\")","v":"4"},"MF","日下　宗大","クサカ　ソウマ",6,"男子",{"$f":"(\"0911020199\")","v":"0911020199"}]
["ヴェルスパ大分　Ｕ－１２_5","ヴェルスパ大分　Ｕ－１２",{"$f":"(\"5\")","v":"5"},"DF","石井　瑛登","イシイ　エイト",5,"男子",{"$f":"(\"1010190176\")","v":"1010190176"}]
["ヴェルスパ大分　Ｕ－１２_6","ヴェルスパ大分　Ｕ－１２",{"$f":"(\"6\")","v":"6"},"MF","松垣　蒼空","マツガキ　ソラ",5,"男子",{"$f":"(\"1011270022\")","v":"1011270022"}]
["ヴェルスパ大分　Ｕ－１２_7","ヴェルスパ大分　Ｕ－１２",{"$f":"(\"7\")","v":"7"},"MF","本城　梛翔","ホンジョウ　ナギト",5,"男子",{"$f":"(\"1010230019\")","v":"1010230019"}]
["ヴェルスパ大分　Ｕ－１２_8","ヴェルスパ大分　Ｕ－１２",{"$f":"(\"8\")","v":"8"},"MF","足立　匠海","アダチ　タクミ",6,"男子",{"$f":"(\"1002030017\")","v":"1002030017"},"○"]
["ヴェルスパ大分　Ｕ－１２_9","ヴェルスパ大分　Ｕ－１２",{"$f":"(\"9\")","v":"9"},"FW","衞藤　蒼羽","エトウ　ソウワ",6,"男子",{"$f":"(\"0908210198\")","v":"0908210198"}]
["ヴェルスパ大分　Ｕ－１２_10","ヴェルスパ大分　Ｕ－１２",{"$f":"(\"10\")","v":"10"},"FW","百田　晃太朗","ヒャクダ　コウタロウ",6,"男子",{"$f":"(\"0907160128\")","v":"0907160128"}]
["ヴェルスパ大分　Ｕ－１２_11","ヴェルスパ大分　Ｕ－１２",{"$f":"(\"11\")","v":"11"},"FW","幸　洋太","ユキ　ヨウタ",6,"男子",{"$f":"(\"0907030067\")","v":"0907030067"}]
["ヴェルスパ大分　Ｕ－１２_12","ヴェルスパ大分　Ｕ－１２",{"$f":"(\"12\")","v":"12"},"DF","湯浅　聡","ユアサ　サトル",5,"男子",{"$f":"(\"1008150138\")","v":"1008150138"}]
["ヴェルスパ大分　Ｕ－１２_13","ヴェルスパ大分　Ｕ－１２",{"$f":"(\"13\")","v":"13"},"MF","桑山　廣大","クワヤマ　コウタ",5,"男子",{"$f":"(\"1103170146\")","v":"1103170146"}]
["ヴェルスパ大分　Ｕ－１２_14","ヴェルスパ大分　Ｕ－１２",{"$f":"(\"14\")","v":"14"},"FW","大庭　圭人","オオバ　ケイト",5,"男子",{"$f":"(\"1012120127\")","v":"1012120127"}]
["ヴェルスパ大分　Ｕ－１２_15","ヴェルスパ大分　Ｕ－１２",{"$f":"(\"15\")","v":"15"},"MF","小山　誠人","コヤマ　マコト",5,"男子",{"$f":"(\"1102280072\")","v":"1102280072"}]
["ＦＣ　ＲＥＧＡＴＥ_1","ＦＣ　ＲＥＧＡＴＥ",{"$f":"(\"1\")","v":"1"},"GK","後藤　快瑠","ゴトウ　カイル",5,"男子",{"$f":"(\"1005110163\")","v":"1005110163"}]
["ＦＣ　ＲＥＧＡＴＥ_2","ＦＣ　ＲＥＧＡＴＥ",{"$f":"(\"2\")","v":"2"},"MF","米田　壮志","ヨネダ　ソウシ",4,"男子",{"$f":"(\"1110120030\")","v":"1110120030"}]
["ＦＣ　ＲＥＧＡＴＥ_3","ＦＣ　ＲＥＧＡＴＥ",{"$f":"(\"3\")","v":"3"},"DF","西坂　空人","ニシザカ　ソラト",4,"男子",{"$f":"(\"1112220138\")","v":"1112220138"}]
["ＦＣ　ＲＥＧＡＴＥ_4","ＦＣ　ＲＥＧＡＴＥ",{"$f":"(\"4\")","v":"4"},"DF","三木　柊歩","ミキ　シュウト",4,"男子",{"$f":"(\"1201130066\")","v":"1201130066"}]
["ＦＣ　ＲＥＧＡＴＥ_5","ＦＣ　ＲＥＧＡＴＥ",{"$f":"(\"5\")","v":"5"},"MF","佐藤　稜真","サトウ　リョウマ",5,"男子",{"$f":"(\"1007100155\")","v":"1007100155"}]
["ＦＣ　ＲＥＧＡＴＥ_6","ＦＣ　ＲＥＧＡＴＥ",{"$f":"(\"6\")","v":"6"},"MF","志賀　優弥","シガ　ユウヤ",6,"男子",{"$f":"(\"0807120163\")","v":"0807120163"}]
["ＦＣ　ＲＥＧＡＴＥ_7","ＦＣ　ＲＥＧＡＴＥ",{"$f":"(\"7\")","v":"7"},"FW","杉山　由采","スギヤマ　ユイト",6,"男子",{"$f":"(\"0904070153\")","v":"0904070153"}]
["ＦＣ　ＲＥＧＡＴＥ_8","ＦＣ　ＲＥＧＡＴＥ",{"$f":"(\"8\")","v":"8"},"MF","藤川　成","フジカワ　ナル",5,"男子",{"$f":"(\"1010240021\")","v":"1010240021"}]
["ＦＣ　ＲＥＧＡＴＥ_9","ＦＣ　ＲＥＧＡＴＥ",{"$f":"(\"9\")","v":"9"},"FW","黒川　薫月","クロカワ　タツキ",5,"男子",{"$f":"(\"1010150016\")","v":"1010150016"}]
["ＦＣ　ＲＥＧＡＴＥ_10","ＦＣ　ＲＥＧＡＴＥ",{"$f":"(\"10\")","v":"10"},"DF","塩手　晴仁","シオテ　ハルヒト",6,"男子",{"$f":"(\"0910150247\")","v":"0910150247"},"○"]
["ＦＣ　ＲＥＧＡＴＥ_11","ＦＣ　ＲＥＧＡＴＥ",{"$f":"(\"11\")","v":"11"},"DF","池田　瀧矢","イケダ　ソウシ",5,"男子",{"$f":"(\"1004050140\")","v":"1004050140"}]
["ＦＣ　ＲＥＧＡＴＥ_12","ＦＣ　ＲＥＧＡＴＥ",{"$f":"(\"12\")","v":"12"},"FW","森山　佳恒","モリヤマ　ヨシヒサ",3,"男子",{"$f":"(\"1301010014\")","v":"1301010014"}]
["ＦＣ　ＲＥＧＡＴＥ_13","ＦＣ　ＲＥＧＡＴＥ",{"$f":"(\"13\")","v":"13"},"FW","佐藤　悠磨","サトウ　ユウマ",3,"男子",{"$f":"(\"1301160020\")","v":"1301160020"}]
["ＦＣ　ＲＥＧＡＴＥ_20","ＦＣ　ＲＥＧＡＴＥ",{"$f":"(\"20\")","v":"20"},"GK","柳井　侑也","ヤナイ　ユウヤ",5,"男子",{"$f":"(\"1009200170\")","v":"1009200170"}]
["大分トリニータタートルズ　キング_1","大分トリニータタートルズ　キング",{"$f":"(\"1\")","v":"1"},"GK","江藤　陽樹","エトウ　ハルキ",6,"男子",{"$f":"(\"0912300116\")","v":"0912300116"}]
["大分トリニータタートルズ　キング_2","大分トリニータタートルズ　キング",{"$f":"(\"2\")","v":"2"},"DF","佐藤　稜悟","サトウ　リョウゴ",5,"男子",{"$f":"(\"1012100091\")","v":"1012100091"}]
["大分トリニータタートルズ　キング_3","大分トリニータタートルズ　キング",{"$f":"(\"3\")","v":"3"},"FW","矢野　壮太郎","ヤノ　ソウタロウ",5,"男子",{"$f":"(\"1010200095\")","v":"1010200095"}]
["大分トリニータタートルズ　キング_4","大分トリニータタートルズ　キング",{"$f":"(\"4\")","v":"4"},"MF","野村　琉翔","ノムラ　リュウト",6,"男子",{"$f":"(\"1001070009\")","v":"1001070009"}]
["大分トリニータタートルズ　キング_5","大分トリニータタートルズ　キング",{"$f":"(\"5\")","v":"5"},"MF","荒井　応生","アライ　オウセイ",5,"男子",{"$f":"(\"1006190096\")","v":"1006190096"}]
["大分トリニータタートルズ　キング_6","大分トリニータタートルズ　キング",{"$f":"(\"6\")","v":"6"},"MF","後藤　璃杏","ゴトウ　リアン",6,"男子",{"$f":"(\"0912050171\")","v":"0912050171"}]
["大分トリニータタートルズ　キング_7","大分トリニータタートルズ　キング",{"$f":"(\"7\")","v":"7"},"DF","伊﨑　玄","イザキ　シズカ",6,"男子",{"$f":"(\"0908100235\")","v":"0908100235"}]
["大分トリニータタートルズ　キング_8","大分トリニータタートルズ　キング",{"$f":"(\"8\")","v":"8"},"FW","村上　駿斗","ムラカミ　ハヤト",6,"男子",{"$f":"(\"0908160180\")","v":"0908160180"}]
["大分トリニータタートルズ　キング_9","大分トリニータタートルズ　キング",{"$f":"(\"9\")","v":"9"},"FW","本室　碧聖","モトムロ　リクト",6,"男子",{"$f":"(\"0904220169\")","v":"0904220169"}]
["大分トリニータタートルズ　キング_10","大分トリニータタートルズ　キング",{"$f":"(\"10\")","v":"10"},"DF","石川　悠月","イシカワ　ユヅキ",6,"男子",{"$f":"(\"0908070151\")","v":"0908070151"},"○"]
["大分トリニータタートルズ　キング_11","大分トリニータタートルズ　キング",{"$f":"(\"11\")","v":"11"},"MF","楢田　悠人","ナラダ　ハルト",6,"男子",{"$f":"(\"1002260245\")","v":"1002260245"}]
["大分トリニータタートルズ　キング_12","大分トリニータタートルズ　キング",{"$f":"(\"12\")","v":"12"},"GK","竹本　蓮","タケモト　レン",5,"男子",{"$f":"(\"1009010090\")","v":"1009010090"}]
["大分トリニータタートルズ　キング_13","大分トリニータタートルズ　キング",{"$f":"(\"13\")","v":"13"},"DF","藤本　英太郎","フジモト　エイタロウ",5,"男子",{"$f":"(\"1006160251\")","v":"1006160251"}]
["大分トリニータタートルズ　ウルトラ_1","大分トリニータタートルズ　ウルトラ",{"$f":"(\"1\")","v":"1"},"GK","後藤　旺太","ゴトウ　オウタ",5,"男子",{"$f":"(\"1004180073\")","v":"1004180073"}]
["大分トリニータタートルズ　ウルトラ_2","大分トリニータタートルズ　ウルトラ",{"$f":"(\"2\")","v":"2"},"DF","麻生　凱斗","アソウ　カイト",5,"男子",{"$f":"(\"1008200091\")","v":"1008200091"}]
["大分トリニータタートルズ　ウルトラ_3","大分トリニータタートルズ　ウルトラ",{"$f":"(\"3\")","v":"3"},"DF","久野　隆貴","ヒサノ　リュウキ",5,"男子",{"$f":"(\"1008020240\")","v":"1008020240"}]
["大分トリニータタートルズ　ウルトラ_4","大分トリニータタートルズ　ウルトラ",{"$f":"(\"4\")","v":"4"},"MF","栗本　真帆","クリモト　マホ",5,"女子小学生",{"$f":"(\"1009240073\")","v":"1009240073"}]
["大分トリニータタートルズ　ウルトラ_5","大分トリニータタートルズ　ウルトラ",{"$f":"(\"5\")","v":"5"},"MF","諌山　永遠","イサヤマ　トワ",5,"男子",{"$f":"(\"1012150148\")","v":"1012150148"}]
["大分トリニータタートルズ　ウルトラ_6","大分トリニータタートルズ　ウルトラ",{"$f":"(\"6\")","v":"6"},"MF","三宮　直人","サンノミヤ　ナオト",5,"男子",{"$f":"(\"1012270195\")","v":"1012270195"}]
["大分トリニータタートルズ　ウルトラ_7","大分トリニータタートルズ　ウルトラ",{"$f":"(\"7\")","v":"7"},"FW","中野　祥汰","ナカノ　ショウタ",5,"男子",{"$f":"(\"1012160080\")","v":"1012160080"}]
["大分トリニータタートルズ　ウルトラ_8","大分トリニータタートルズ　ウルトラ",{"$f":"(\"8\")","v":"8"},"MF","河津　侑真","カワズ　ユウマ",5,"男子",{"$f":"(\"1103200059\")","v":"1103200059"}]
["大分トリニータタートルズ　ウルトラ_9","大分トリニータタートルズ　ウルトラ",{"$f":"(\"9\")","v":"9"},"FW","谷川　颯太","タニガワ　ソウタ",5,"男子",{"$f":"(\"1102210071\")","v":"1102210071"}]
["大分トリニータタートルズ　ウルトラ_10","大分トリニータタートルズ　ウルトラ",{"$f":"(\"10\")","v":"10"},"MF","藤野　和馬","フジノ　カズマ",5,"男子",{"$f":"(\"1103110069\")","v":"1103110069"},"○"]
["大分トリニータタートルズ　ウルトラ_11","大分トリニータタートルズ　ウルトラ",{"$f":"(\"11\")","v":"11"},"MF","三浦　蓮美","ミウラ　ハスミ",5,"男子",{"$f":"(\"1004070154\")","v":"1004070154"}]
["大分トリニータタートルズ　ウルトラ_12","大分トリニータタートルズ　ウルトラ",{"$f":"(\"12\")","v":"12"},"GK","小松　俊介","コマツ　シュンスケ",5,"男子",{"$f":"(\"1008090155\")","v":"1008090155"}]
["大分トリニータタートルズ　ウルトラ_13","大分トリニータタートルズ　ウルトラ",{"$f":"(\"13\")","v":"13"},"MF","野上　泰雅","ノガミ　タイガ",5,"男子",{"$f":"(\"1012050125\")","v":"1012050125"}]
["鶴崎ＳＳＳ_1","鶴崎ＳＳＳ",{"$f":"(\"1\")","v":"1"},"GK","竹永　涼夢","タケナガ　リム",6,"男子",{"$f":"(\"0905250031\")","v":"0905250031"}]
["鶴崎ＳＳＳ_2","鶴崎ＳＳＳ",{"$f":"(\"2\")","v":"2"},"DF","宇田　悠也","ウダ　ハルヤ",6,"男子",{"$f":"(\"0912300071\")","v":"0912300071"}]
["鶴崎ＳＳＳ_3","鶴崎ＳＳＳ",{"$f":"(\"3\")","v":"3"},"DF","阿部　想士朗","アベ　ソウシロウ",6,"男子",{"$f":"(\"1002220088\")","v":"1002220088"}]
["鶴崎ＳＳＳ_4","鶴崎ＳＳＳ",{"$f":"(\"4\")","v":"4"},"DF","廣田　惺我","ヒロタ　セイガ",6,"男子",{"$f":"(\"0912240042\")","v":"0912240042"}]
["鶴崎ＳＳＳ_5","鶴崎ＳＳＳ",{"$f":"(\"5\")","v":"5"},"FW","石田　玲凰","イシダ　レオ",4,"男子",{"$f":"(\"1107130080\")","v":"1107130080"}]
["鶴崎ＳＳＳ_6","鶴崎ＳＳＳ",{"$f":"(\"6\")","v":"6"},"FW","河合　奏風","カアイ　カナタ",5,"男子",{"$f":"(\"1008190212\")","v":"1008190212"}]
["鶴崎ＳＳＳ_7","鶴崎ＳＳＳ",{"$f":"(\"7\")","v":"7"},"MF","木村　颯克","キムラ　ソウカツ",6,"男子",{"$f":"(\"0905080062\")","v":"0905080062"}]
["鶴崎ＳＳＳ_8","鶴崎ＳＳＳ",{"$f":"(\"8\")","v":"8"},"FW","幸　大斗","ユキ　ダイト",5,"男子",{"$f":"(\"1008030041\")","v":"1008030041"}]
["鶴崎ＳＳＳ_9","鶴崎ＳＳＳ",{"$f":"(\"9\")","v":"9"},"FW","後藤　大輝","ゴトウ　ダイキ",5,"男子",{"$f":"(\"1004250106\")","v":"1004250106"}]
[{"$f":"CONCATENATE(B1345,\"_\",C1345)","v":"鶴崎ＳＳＳ_10"},"鶴崎ＳＳＳ",{"$f":"(\"10\")","v":"10"},"MF","岩﨑　尚叶","イワサキ　ナオト",6,"男子",{"$f":"(\"0910180023\")","v":"0910180023"},"○"]
["鶴崎ＳＳＳ_11","鶴崎ＳＳＳ",{"$f":"(\"11\")","v":"11"},"MF","山﨑　発","ヤマサキ　ハツ",6,"男子",{"$f":"(\"0909250044\")","v":"0909250044"}]
["鶴崎ＳＳＳ_12","鶴崎ＳＳＳ",{"$f":"(\"12\")","v":"12"},"FW","高岡　聖生","タカオカ　イブキ",4,"男子",{"$f":"(\"1104060126\")","v":"1104060126"}]
["鶴崎ＳＳＳ_16","鶴崎ＳＳＳ",{"$f":"(\"16\")","v":"16"},"GK","田村　知樹","タムラ　トモキ",5,"男子",{"$f":"(\"1005130006\")","v":"1005130006"}]
["スマイス日出_1","スマイス日出",{"$f":"(\"1\")","v":"1"},"GK","村井　倫伯","ムライ　トモノリ",6,"男子",{"$f":"(\"1003010104\")","v":"1003010104"}]
["スマイス日出_2","スマイス日出",{"$f":"(\"2\")","v":"2"},"FW","佐藤　結希","サトウ　ユウキ",6,"男子",{"$f":"(\"0911250196\")","v":"0911250196"}]
["スマイス日出_3","スマイス日出",{"$f":"(\"3\")","v":"3"},"DF","大石　玲恩","オオイシ　レオン",6,"男子",{"$f":"(\"0906080157\")","v":"0906080157"}]
["スマイス日出_4","スマイス日出",{"$f":"(\"4\")","v":"4"},"MF","岩尾　康佑","イワオ　コウスケ",6,"男子",{"$f":"(\"0911050143\")","v":"0911050143"}]
["スマイス日出_5","スマイス日出",{"$f":"(\"5\")","v":"5"},"FW","阿部　颯太","アベ　ソウタ",5,"男子",{"$f":"(\"1007100195\")","v":"1007100195"}]
["スマイス日出_6","スマイス日出",{"$f":"(\"6\")","v":"6"},"DF","和田　衛青","ワダ　エイセイ",6,"男子",{"$f":"(\"0906080158\")","v":"0906080158"}]
["スマイス日出_7","スマイス日出",{"$f":"(\"7\")","v":"7"},"MF","秦　友起","ハタ　ユウキ",5,"男子",{"$f":"(\"1007240150\")","v":"1007240150"}]
["スマイス日出_8","スマイス日出",{"$f":"(\"8\")","v":"8"},"MF","藤井　晴斗","フジイ　ハルト",5,"男子",{"$f":"(\"1010240129\")","v":"1010240129"}]
["スマイス日出_9","スマイス日出",{"$f":"(\"9\")","v":"9"},"FW","佐藤　寛太","サトウ　カンタ",5,"男子",{"$f":"(\"1005180201\")","v":"1005180201"}]
["スマイス日出_10","スマイス日出",{"$f":"(\"10\")","v":"10"},"MF","岩尾　健佑","イワオ　ケンスケ",6,"男子",{"$f":"(\"0911050103\")","v":"0911050103"},"○"]
["スマイス日出_11","スマイス日出",{"$f":"(\"11\")","v":"11"},"MF","重松　裕人","シゲマツ　ユウト",5,"男子",{"$f":"(\"1010260211\")","v":"1010260211"}]
["スマイス日出_12","スマイス日出",{"$f":"(\"12\")","v":"12"},"FW","大村　星和","オオムラ　セナ",5,"男子",{"$f":"(\"1101170177\")","v":"1101170177"}]
["スマイス日出_13","スマイス日出",{"$f":"(\"13\")","v":"13"},"FW","清水　煌太","シミズ　コウタ",5,"男子",{"$f":"(\"1005120216\")","v":"1005120216"}]
["スマイス日出_14","スマイス日出",{"$f":"(\"14\")","v":"14"},"DF","吉岡　大悟","ヨシオカ　ダイゴ",5,"男子",{"$f":"(\"1010010227\")","v":"1010010227"}]
["スマイス日出_16","スマイス日出",{"$f":"(\"16\")","v":"16"},"GK","堀　健琉","ホリ　タケル",5,"男子",{"$f":"(\"1009100131\")","v":"1009100131"}]
["ＦＣ　ＵＮＩＴＥ_1","ＦＣ　ＵＮＩＴＥ",{"$f":"(\"1\")","v":"1"},"GK","磯田　葵","イソダ　アオイ",5,"男子",{"$f":"(\"1007080037\")","v":"1007080037"}]
["ＦＣ　ＵＮＩＴＥ_3","ＦＣ　ＵＮＩＴＥ",{"$f":"(\"3\")","v":"3"},"MF","加藤　茉梨百","カトウ　マリモ",4,"女子小学生",{"$f":"(\"1105290030\")","v":"1105290030"}]
["ＦＣ　ＵＮＩＴＥ_4","ＦＣ　ＵＮＩＴＥ",{"$f":"(\"4\")","v":"4"},"DF","石見　絆騎","イシミ　ツナキ",5,"男子",{"$f":"(\"1012180031\")","v":"1012180031"}]
["ＦＣ　ＵＮＩＴＥ_5","ＦＣ　ＵＮＩＴＥ",{"$f":"(\"5\")","v":"5"},"DF","時枝　依吹","トキエダ　イブキ",5,"男子",{"$f":"(\"1101030027\")","v":"1101030027"}]
["ＦＣ　ＵＮＩＴＥ_6","ＦＣ　ＵＮＩＴＥ",{"$f":"(\"6\")","v":"6"},"MF","中島　大雅","ナカシマ　タイガ",5,"男子",{"$f":"(\"1010140036\")","v":"1010140036"}]
["ＦＣ　ＵＮＩＴＥ_7","ＦＣ　ＵＮＩＴＥ",{"$f":"(\"7\")","v":"7"},"MF","末弘　俊晶","スエヒロ　トシアキ",5,"男子",{"$f":"(\"1009230021\")","v":"1009230021"}]
["ＦＣ　ＵＮＩＴＥ_8","ＦＣ　ＵＮＩＴＥ",{"$f":"(\"8\")","v":"8"},"MF","橋本　陽馬","ハシモト　ハルマ",5,"男子",{"$f":"(\"1008220014\")","v":"1008220014"}]
["ＦＣ　ＵＮＩＴＥ_9","ＦＣ　ＵＮＩＴＥ",{"$f":"(\"9\")","v":"9"},"FW","時枝　愛斗","トキエダ　アイト",6,"男子",{"$f":"(\"0910200112\")","v":"0910200112"}]
["ＦＣ　ＵＮＩＴＥ_10","ＦＣ　ＵＮＩＴＥ",{"$f":"(\"10\")","v":"10"},"DF","酒井　一真","サカイ　カズマ",6,"男子",{"$f":"(\"0912040027\")","v":"0912040027"},"○"]
["ＦＣ　ＵＮＩＴＥ_11","ＦＣ　ＵＮＩＴＥ",{"$f":"(\"11\")","v":"11"},"FW","石見　魁音","イシミ　カイト",6,"男子",{"$f":"(\"0909180151\")","v":"0909180151"}]
["ＦＣ　ＵＮＩＴＥ_13","ＦＣ　ＵＮＩＴＥ",{"$f":"(\"13\")","v":"13"},"FW","中島　桜雅","ナカシマ　オウガ",3,"男子",{"$f":"(\"1204080002\")","v":"1204080002"}]
["太陽スポーツクラブ大分西_1","太陽スポーツクラブ大分西",{"$f":"(\"1\")","v":"1"},"GK","中島　光稀","ナカシマ　ミツキ",6,"男子",{"$f":"(\"0908280097\")","v":"0908280097"},"○"]
["太陽スポーツクラブ大分西_3","太陽スポーツクラブ大分西",{"$f":"(\"3\")","v":"3"},"DF","髙橋　宗悟","タカハシ　ソウゴ",6,"男子",{"$f":"(\"1002190068\")","v":"1002190068"}]
["太陽スポーツクラブ大分西_4","太陽スポーツクラブ大分西",{"$f":"(\"4\")","v":"4"},"DF","森山　琉貴","モリヤマ　リュウキ",6,"男子",{"$f":"(\"0910230082\")","v":"0910230082"}]
["太陽スポーツクラブ大分西_5","太陽スポーツクラブ大分西",{"$f":"(\"5\")","v":"5"},"FW","熊谷　碧","クマガエ　リク",6,"男子",{"$f":"(\"0911260083\")","v":"0911260083"}]
["太陽スポーツクラブ大分西_6","太陽スポーツクラブ大分西",{"$f":"(\"6\")","v":"6"},"DF","徳丸　朱里","トクマル　シュリ",6,"男子",{"$f":"(\"1001140035\")","v":"1001140035"}]
["太陽スポーツクラブ大分西_7","太陽スポーツクラブ大分西",{"$f":"(\"7\")","v":"7"},"MF","立花　彪琉","タチバナ　タケル",6,"男子",{"$f":"(\"0907040076\")","v":"0907040076"}]
["太陽スポーツクラブ大分西_9","太陽スポーツクラブ大分西",{"$f":"(\"9\")","v":"9"},"FW","菅原　凛空","スガハラ　リク",6,"男子",{"$f":"(\"0912290022\")","v":"0912290022"}]
["太陽スポーツクラブ大分西_10","太陽スポーツクラブ大分西",{"$f":"(\"10\")","v":"10"},"FW","坂本　空禅","サカモト　クウゼン",6,"男子",{"$f":"(\"0904080119\")","v":"0904080119"}]
["太陽スポーツクラブ大分西_13","太陽スポーツクラブ大分西",{"$f":"(\"13\")","v":"13"},"DF","石谷　柚太郎","イシタニ　ユウタロウ",5,"男子",{"$f":"(\"1006040110\")","v":"1006040110"}]
["太陽スポーツクラブ大分西_14","太陽スポーツクラブ大分西",{"$f":"(\"14\")","v":"14"},"DF","古野　巧人","フルノ　タクト",6,"男子",{"$f":"(\"1002150160\")","v":"1002150160"}]
["太陽スポーツクラブ大分西_15","太陽スポーツクラブ大分西",{"$f":"(\"15\")","v":"15"},"FW","金子　将大","カネコ　ショウタ",5,"男子",{"$f":"(\"1006190203\")","v":"1006190203"}]
["太陽スポーツクラブ大分西_16","太陽スポーツクラブ大分西",{"$f":"(\"16\")","v":"16"},"GK","久保﨑　兆","クボサキ　キザシ",5,"男子",{"$f":"(\"1007190077\")","v":"1007190077"}]
["太陽スポーツクラブ大分西_17","太陽スポーツクラブ大分西",{"$f":"(\"17\")","v":"17"},"MF","堀田　徠亜","ホリタ　ライア",5,"男子",{"$f":"(\"1005240121\")","v":"1005240121"}]
["太陽スポーツクラブ大分西_18","太陽スポーツクラブ大分西",{"$f":"(\"18\")","v":"18"},"FW","伊藤　凛人","イトウ　リント",5,"男子",{"$f":"(\"1010140204\")","v":"1010140204"}]
["太陽スポーツクラブ大分西_19","太陽スポーツクラブ大分西",{"$f":"(\"19\")","v":"19"},"MF","坂本　悠虎","サカモト　ハルト",5,"男子",{"$f":"(\"1004120117\")","v":"1004120117"}]
["太陽スポーツクラブ大分西_20","太陽スポーツクラブ大分西",{"$f":"(\"20\")","v":"20"},"DF","大道　琉生","オオミチ　リュウセイ",5,"男子",{"$f":"(\"1007060201\")","v":"1007060201"}]
["横瀬西ＦＣ．ＲｏｓａＣｌａｒｏ_1","横瀬西ＦＣ．ＲｏｓａＣｌａｒｏ",{"$f":"(\"1\")","v":"1"},"GK","吉良　真翔","キラ　マナト",4,"男子",{"$f":"(\"1112110017\")","v":"1112110017"}]
["横瀬西ＦＣ．ＲｏｓａＣｌａｒｏ_2","横瀬西ＦＣ．ＲｏｓａＣｌａｒｏ",{"$f":"(\"2\")","v":"2"},"MF","松村　夢生","マツムラ　メイ",6,"女子小学生",{"$f":"(\"0905100108\")","v":"0905100108"}]
["横瀬西ＦＣ．ＲｏｓａＣｌａｒｏ_3","横瀬西ＦＣ．ＲｏｓａＣｌａｒｏ",{"$f":"(\"3\")","v":"3"},"FW","後藤　依知花","ゴトウ　イチカ",3,"女子小学生",{"$f":"(\"1208080008\")","v":"1208080008"}]
["横瀬西ＦＣ．ＲｏｓａＣｌａｒｏ_4","横瀬西ＦＣ．ＲｏｓａＣｌａｒｏ",{"$f":"(\"4\")","v":"4"},"MF","森崎　祐輝","モリサキ　ユウキ",4,"男子",{"$f":"(\"1201060106\")","v":"1201060106"}]
["横瀬西ＦＣ．ＲｏｓａＣｌａｒｏ_5","横瀬西ＦＣ．ＲｏｓａＣｌａｒｏ",{"$f":"(\"5\")","v":"5"},"DF","荻本　琉煌","オギモト　リオン",5,"男子",{"$f":"(\"1004290023\")","v":"1004290023"}]
["横瀬西ＦＣ．ＲｏｓａＣｌａｒｏ_6","横瀬西ＦＣ．ＲｏｓａＣｌａｒｏ",{"$f":"(\"6\")","v":"6"},"DF","後藤　舜太","ゴトウ　シュンタ",5,"男子",{"$f":"(\"1103130024\")","v":"1103130024"}]
["横瀬西ＦＣ．ＲｏｓａＣｌａｒｏ_7","横瀬西ＦＣ．ＲｏｓａＣｌａｒｏ",{"$f":"(\"7\")","v":"7"},"MF","森崎　聖菜","モリサキ　セイナ",4,"女子小学生",{"$f":"(\"1112260042\")","v":"1112260042"}]
["横瀬西ＦＣ．ＲｏｓａＣｌａｒｏ_8","横瀬西ＦＣ．ＲｏｓａＣｌａｒｏ",{"$f":"(\"8\")","v":"8"},"DF","吉良　緋由莉","キラ　ヒヨリ",6,"女子小学生",{"$f":"(\"1001040146\")","v":"1001040146"}]
["横瀬西ＦＣ．ＲｏｓａＣｌａｒｏ_9","横瀬西ＦＣ．ＲｏｓａＣｌａｒｏ",{"$f":"(\"9\")","v":"9"},"DF","田部　葵空","タナベ　キラ",6,"男子",{"$f":"(\"1002250136\")","v":"1002250136"}]
["横瀬西ＦＣ．ＲｏｓａＣｌａｒｏ_10","横瀬西ＦＣ．ＲｏｓａＣｌａｒｏ",{"$f":"(\"10\")","v":"10"},"MF","小田巻　獅童","オダマキ　シドウ",6,"男子",{"$f":"(\"0911170001\")","v":"0911170001"},"○"]
["横瀬西ＦＣ．ＲｏｓａＣｌａｒｏ_11","横瀬西ＦＣ．ＲｏｓａＣｌａｒｏ",{"$f":"(\"11\")","v":"11"},"MF","吉田　悠馬","ヨシダ　ユウマ",6,"男子",{"$f":"(\"1001050117\")","v":"1001050117"}]
["横瀬西ＦＣ．ＲｏｓａＣｌａｒｏ_12","横瀬西ＦＣ．ＲｏｓａＣｌａｒｏ",{"$f":"(\"12\")","v":"12"},"MF","伊藤　舜狼","イトウ　シュンラン",4,"男子",{"$f":"(\"1107070119\")","v":"1107070119"}]
["横瀬西ＦＣ．ＲｏｓａＣｌａｒｏ_13","横瀬西ＦＣ．ＲｏｓａＣｌａｒｏ",{"$f":"(\"13\")","v":"13"},"DF","小石　宗太郎","コイシ　ソウタロウ",5,"男子",{"$f":"(\"1012260104\")","v":"1012260104"}]
["横瀬西ＦＣ．ＲｏｓａＣｌａｒｏ_14","横瀬西ＦＣ．ＲｏｓａＣｌａｒｏ",{"$f":"(\"14\")","v":"14"},"MF","後藤　謙太","ゴトウ　ケンタ",4,"男子",{"$f":"(\"1202020158\")","v":"1202020158"}]
["横瀬西ＦＣ．ＲｏｓａＣｌａｒｏ_15","横瀬西ＦＣ．ＲｏｓａＣｌａｒｏ",{"$f":"(\"15\")","v":"15"},"FW","河野　晃也","カワノ　テルヤ",4,"男子",{"$f":"(\"1006300197\")","v":"1006300197"}]
["Ｍ．Ｓ．Ｓ_1","Ｍ．Ｓ．Ｓ",{"$f":"(\"1\")","v":"1"},"GK","牧野　透青","マキノ　トア",6,"男子",{"$f":"(\"0904070181\")","v":"0904070181"}]
["Ｍ．Ｓ．Ｓ_4","Ｍ．Ｓ．Ｓ",{"$f":"(\"4\")","v":"4"},"DF","大住　皐貴","オオスミ　コウキ",6,"男子",{"$f":"(\"0904240160\")","v":"0904240160"},"○"]
["Ｍ．Ｓ．Ｓ_5","Ｍ．Ｓ．Ｓ",{"$f":"(\"5\")","v":"5"},"FW","友岡　琥春","トモオカ　コハル",6,"男子",{"$f":"(\"1002040186\")","v":"1002040186"}]
[{"$f":"CONCATENATE(B1409,\"_\",C1409)","v":"Ｍ．Ｓ．Ｓ_6"},"Ｍ．Ｓ．Ｓ",{"$f":"(\"6\")","v":"6"},"MF","堀　愛歩","ホリ　マナブ",6,"男子",{"$f":"(\"0908040022\")","v":"0908040022"}]
["Ｍ．Ｓ．Ｓ_7","Ｍ．Ｓ．Ｓ",{"$f":"(\"7\")","v":"7"},"MF","末廣　虎太郎","スエヒロ　コタロウ",5,"男子",{"$f":"(\"1006170004\")","v":"1006170004"}]
["Ｍ．Ｓ．Ｓ_8","Ｍ．Ｓ．Ｓ",{"$f":"(\"8\")","v":"8"},"MF","橋本　錦空","ハシモト　キング",5,"男子",{"$f":"(\"1011010204\")","v":"1011010204"}]
["Ｍ．Ｓ．Ｓ_9","Ｍ．Ｓ．Ｓ",{"$f":"(\"9\")","v":"9"},"FW","大住　拓真","オオスミ　タクマ",5,"男子",{"$f":"(\"1009300049\")","v":"1009300049"}]
["Ｍ．Ｓ．Ｓ_10","Ｍ．Ｓ．Ｓ",{"$f":"(\"10\")","v":"10"},"MF","葛城　蓮","カツラギ　レン",6,"男子",{"$f":"(\"0906030015\")","v":"0906030015"}]
["Ｍ．Ｓ．Ｓ_11","Ｍ．Ｓ．Ｓ",{"$f":"(\"11\")","v":"11"},"FW","河村　日那汰","カワムラ　ヒナタ",6,"男子",{"$f":"(\"0910060173\")","v":"0910060173"}]
["Ｍ．Ｓ．Ｓ_12","Ｍ．Ｓ．Ｓ",{"$f":"(\"12\")","v":"12"},"DF","坂本　航大","サカモト　コウタ",5,"男子",{"$f":"(\"1007270207\")","v":"1007270207"}]
["Ｍ．Ｓ．Ｓ_13","Ｍ．Ｓ．Ｓ",{"$f":"(\"13\")","v":"13"},"DF","兼田　毅竜","カネダ　キリュウ",5,"男子",{"$f":"(\"1011050059\")","v":"1011050059"}]
["Ｍ．Ｓ．Ｓ_16","Ｍ．Ｓ．Ｓ",{"$f":"(\"16\")","v":"16"},"GK","上野　壮琉","ウエノ　タケル",5,"男子",{"$f":"(\"1005260007\")","v":"1005260007"}]
["豊川サッカークラブ_1","豊川サッカークラブ",{"$f":"(\"1\")","v":"1"},"GK","中原　晴生","ナカハラ　ハルキ",3,"男子",{"$f":"(\"1212060009\")","v":"1212060009"}]
["豊川サッカークラブ_2","豊川サッカークラブ",{"$f":"(\"2\")","v":"2"},"DF","岩男　蘭","イワオ　ラン",5,"女子小学生",{"$f":"(\"1102190009\")","v":"1102190009"}]
["豊川サッカークラブ_3","豊川サッカークラブ",{"$f":"(\"3\")","v":"3"},"DF","井ノ口　新","イノクチ　アラタ",5,"男子",{"$f":"(\"1012170185\")","v":"1012170185"}]
["豊川サッカークラブ_4","豊川サッカークラブ",{"$f":"(\"4\")","v":"4"},"DF","松原　璃央","マツバラ　リオ",5,"男子",{"$f":"(\"1008120218\")","v":"1008120218"}]
["豊川サッカークラブ_5","豊川サッカークラブ",{"$f":"(\"5\")","v":"5"},"DF","清永　龍臣","キヨナガ　タツオミ",4,"男子",{"$f":"(\"1203230087\")","v":"1203230087"}]
["豊川サッカークラブ_6","豊川サッカークラブ",{"$f":"(\"6\")","v":"6"},"FW","小野　琉煌亜","オノ　ルキア",4,"男子",{"$f":"(\"1110120141\")","v":"1110120141"}]
["豊川サッカークラブ_8","豊川サッカークラブ",{"$f":"(\"8\")","v":"8"},"MF","岡部　聖来","オカベ　セラ",2,"男子",{"$f":"(\"1401290001\")","v":"1401290001"}]
["豊川サッカークラブ_9","豊川サッカークラブ",{"$f":"(\"9\")","v":"9"},"MF","井ノ口　菫","イノクチ　スミレ",3,"女子小学生",{"$f":"(\"1211100078\")","v":"1211100078"}]
["豊川サッカークラブ_10","豊川サッカークラブ",{"$f":"(\"10\")","v":"10"},"MF","庄部　瑛洸","ショウブ　エイコウ",6,"男子",{"$f":"(\"0905080015\")","v":"0905080015"},"○"]
["豊川サッカークラブ_11","豊川サッカークラブ",{"$f":"(\"11\")","v":"11"},"FW","井ノ口　遥","イノクチ　ハルカ",6,"女子小学生",{"$f":"(\"0905100240\")","v":"0905100240"}]
["リノスフットボールクラブ　Ｕ－１２_23","リノスフットボールクラブ　Ｕ－１２",{"$f":"(\"23\")","v":"23"},"MF","上田　佳汰","ウエダ　ケイタ",6,"男子",{"$f":"(\"1003240032\")","v":"1003240032"}]
["リノスフットボールクラブ　Ｕ－１２_25","リノスフットボールクラブ　Ｕ－１２",{"$f":"(\"25\")","v":"25"},"GK","桃田　偉吹","モモタ　イブキ",6,"男子",{"$f":"(\"0904100198\")","v":"0904100198"},"○"]
["リノスフットボールクラブ　Ｕ－１２_26","リノスフットボールクラブ　Ｕ－１２",{"$f":"(\"26\")","v":"26"},"MF","三浦　健","ミウラ　タケル",4,"男子",{"$f":"(\"1108280129\")","v":"1108280129"}]
["リノスフットボールクラブ　Ｕ－１２_31","リノスフットボールクラブ　Ｕ－１２",{"$f":"(\"31\")","v":"31"},"DF","大原　瑠斗","オオハラ　リュウト",5,"男子",{"$f":"(\"1005010090\")","v":"1005010090"}]
["リノスフットボールクラブ　Ｕ－１２_35","リノスフットボールクラブ　Ｕ－１２",{"$f":"(\"35\")","v":"35"},"MF","小泉　杏奈","コイズミ　アンナ",5,"女子小学生",{"$f":"(\"1005210032\")","v":"1005210032"}]
["リノスフットボールクラブ　Ｕ－１２_42","リノスフットボールクラブ　Ｕ－１２",{"$f":"(\"42\")","v":"42"},"FW","酒井　彩海","サカイ　アヤト",5,"男子",{"$f":"(\"1009150183\")","v":"1009150183"}]
["リノスフットボールクラブ　Ｕ－１２_43","リノスフットボールクラブ　Ｕ－１２",{"$f":"(\"43\")","v":"43"},"DF","赤石　昂輝","アカイシ　コウキ",4,"男子",{"$f":"(\"1110110145\")","v":"1110110145"}]
["リノスフットボールクラブ　Ｕ－１２_45","リノスフットボールクラブ　Ｕ－１２",{"$f":"(\"45\")","v":"45"},"MF","川端　翼惺","カワバタ　エルト",5,"男子",{"$f":"(\"1007120030\")","v":"1007120030"}]
["リノスフットボールクラブ　Ｕ－１２_46","リノスフットボールクラブ　Ｕ－１２",{"$f":"(\"46\")","v":"46"},"DF","西村　純平","ニシムラ　ジュンペイ",4,"男子",{"$f":"(\"1201240134\")","v":"1201240134"}]
["リノスフットボールクラブ　Ｕ－１２_49","リノスフットボールクラブ　Ｕ－１２",{"$f":"(\"49\")","v":"49"},"MF","吉村　菜花","ヨシムラ　ナノハ",6,"女子小学生",{"$f":"(\"1002110007\")","v":"1002110007"}]
["リノスフットボールクラブ　Ｕ－１２_50","リノスフットボールクラブ　Ｕ－１２",{"$f":"(\"50\")","v":"50"},"MF","菅　晃太朗","カン　コウタロウ",6,"男子",{"$f":"(\"0908270064\")","v":"0908270064"}]
["リノスフットボールクラブ　Ｕ－１２_54","リノスフットボールクラブ　Ｕ－１２",{"$f":"(\"54\")","v":"54"},"FW","藤田　直斗","フジタ　ナオト",5,"男子",{"$f":"(\"1004130088\")","v":"1004130088"}]
["リノスフットボールクラブ　Ｕ－１２_55","リノスフットボールクラブ　Ｕ－１２",{"$f":"(\"55\")","v":"55"},"FW","山下　和輝","ヤマシタ　カズキ",6,"男子",{"$f":"(\"1003060119\")","v":"1003060119"}]
["リノスフットボールクラブ　Ｕ－１２_57","リノスフットボールクラブ　Ｕ－１２",{"$f":"(\"57\")","v":"57"},"DF","稙田　瑛汰","ワサダ　エイタ",6,"男子",{"$f":"(\"0907060174\")","v":"0907060174"}]
["リノスフットボールクラブ　Ｕ－１２_58","リノスフットボールクラブ　Ｕ－１２",{"$f":"(\"58\")","v":"58"},"DF","赤石　拓翔","アカイシ　タクト",6,"男子",{"$f":"(\"0908250150\")","v":"0908250150"}]
["リノスフットボールクラブ　Ｕ－１２_60","リノスフットボールクラブ　Ｕ－１２",{"$f":"(\"60\")","v":"60"},"MF","都築　宗佑","ツヅキ　ソウスケ",6,"男子",{"$f":"(\"1001230148\")","v":"1001230148"}]
["朝日ＦＣ_1","朝日ＦＣ",{"$f":"(\"1\")","v":"1"},"GK","安部　湧貴","アベ　ユウキ",5,"男子",{"$f":"(\"1101120094\")","v":"1101120094"}]
["朝日ＦＣ_2","朝日ＦＣ",{"$f":"(\"2\")","v":"2"},"MF","窪　紗幸","クボ　サユキ",5,"女子小学生",{"$f":"(\"1007200191\")","v":"1007200191"}]
["朝日ＦＣ_4","朝日ＦＣ",{"$f":"(\"4\")","v":"4"},"MF","勘崎　心愛","カンザキ　ココミ",6,"女子小学生",{"$f":"(\"0908010173\")","v":"0908010173"}]
["朝日ＦＣ_6","朝日ＦＣ",{"$f":"(\"6\")","v":"6"},"MF","丸山　芽惟","マルヤマ　メイ",6,"男子",{"$f":"(\"0906130197\")","v":"0906130197"}]
["朝日ＦＣ_7","朝日ＦＣ",{"$f":"(\"7\")","v":"7"},"MF","加藤　慎吾","カトウ　シンゴ",6,"男子",{"$f":"(\"0910070169\")","v":"0910070169"}]
["朝日ＦＣ_8","朝日ＦＣ",{"$f":"(\"8\")","v":"8"},"DF","北林　凛成","キタバヤシ　リンセイ",5,"男子",{"$f":"(\"1007200103\")","v":"1007200103"}]
["朝日ＦＣ_9","朝日ＦＣ",{"$f":"(\"9\")","v":"9"},"MF","安波　進之介","ヤスナミ　シンノスケ",4,"男子",{"$f":"(\"1109230109\")","v":"1109230109"}]
["朝日ＦＣ_10","朝日ＦＣ",{"$f":"(\"10\")","v":"10"},"FW","吉水　蒼真","ヨシミズ　ソウマ",6,"男子",{"$f":"(\"1002030154\")","v":"1002030154"},"○"]
["朝日ＦＣ_11","朝日ＦＣ",{"$f":"(\"11\")","v":"11"},"MF","徳丸　心音","トクマル　ココネ",6,"女子小学生",{"$f":"(\"0908110181\")","v":"0908110181"}]
["朝日ＦＣ_12","朝日ＦＣ",{"$f":"(\"12\")","v":"12"},"FW","鈴木　奏志","スズキ　ソウシ",5,"男子",{"$f":"(\"1010020093\")","v":"1010020093"}]
["朝日ＦＣ_15","朝日ＦＣ",{"$f":"(\"15\")","v":"15"},"DF","内田　翔貴","ウチダ　ショウキ",5,"男子",{"$f":"(\"1004220111\")","v":"1004220111"}]
["スマイス　セレソン　スポーツクラブ_1","スマイス　セレソン　スポーツクラブ",{"$f":"(\"1\")","v":"1"},"GK","西川　理希","ニシカワ　リキ",6,"男子",{"$f":"(\"0905290234\")","v":"0905290234"}]
["スマイス　セレソン　スポーツクラブ_2","スマイス　セレソン　スポーツクラブ",{"$f":"(\"2\")","v":"2"},"DF","大石　楓太","オオイシ　フウタ",5,"男子",{"$f":"(\"1009030128\")","v":"1009030128"}]
["スマイス　セレソン　スポーツクラブ_3","スマイス　セレソン　スポーツクラブ",{"$f":"(\"3\")","v":"3"},"DF","福島　愛司","フクシマ　アイジ",6,"男子",{"$f":"(\"0906180018\")","v":"0906180018"}]
["スマイス　セレソン　スポーツクラブ_4","スマイス　セレソン　スポーツクラブ",{"$f":"(\"4\")","v":"4"},"DF","清原　裕翔","キヨハラ　ユウト",6,"男子",{"$f":"(\"0909080095\")","v":"0909080095"}]
["スマイス　セレソン　スポーツクラブ_5","スマイス　セレソン　スポーツクラブ",{"$f":"(\"5\")","v":"5"},"DF","長野　泰人","ナガノ　ヤスト",6,"男子",{"$f":"(\"1001220189\")","v":"1001220189"}]
["スマイス　セレソン　スポーツクラブ_6","スマイス　セレソン　スポーツクラブ",{"$f":"(\"6\")","v":"6"},"MF","藤田　晃己","フジタ　コウキ",6,"男子",{"$f":"(\"0906030018\")","v":"0906030018"}]
["スマイス　セレソン　スポーツクラブ_7","スマイス　セレソン　スポーツクラブ",{"$f":"(\"7\")","v":"7"},"MF","後藤　友星","ゴトウ　ユウセイ",6,"男子",{"$f":"(\"0912110002\")","v":"0912110002"}]
["スマイス　セレソン　スポーツクラブ_8","スマイス　セレソン　スポーツクラブ",{"$f":"(\"8\")","v":"8"},"MF","武田　有冴","タケダ　ユウゴ",6,"男子",{"$f":"(\"0908070057\")","v":"0908070057"}]
["スマイス　セレソン　スポーツクラブ_9","スマイス　セレソン　スポーツクラブ",{"$f":"(\"9\")","v":"9"},"FW","三ヶ尻　圭吾","ミカジリ　ケイゴ",6,"男子",{"$f":"(\"0904240131\")","v":"0904240131"}]
["スマイス　セレソン　スポーツクラブ_10","スマイス　セレソン　スポーツクラブ",{"$f":"(\"10\")","v":"10"},"MF","小林　風翔","コバヤシ　フウト",6,"男子",{"$f":"(\"0906070006\")","v":"0906070006"},"○"]
["スマイス　セレソン　スポーツクラブ_11","スマイス　セレソン　スポーツクラブ",{"$f":"(\"11\")","v":"11"},"FW","古屋　昌洋","コヤ　マサヒロ",6,"男子",{"$f":"(\"0908160139\")","v":"0908160139"}]
["スマイス　セレソン　スポーツクラブ_12","スマイス　セレソン　スポーツクラブ",{"$f":"(\"12\")","v":"12"},"DF","佐藤　大樹","サトウ　ダイキ",6,"男子",{"$f":"(\"0904210058\")","v":"0904210058"}]
["スマイス　セレソン　スポーツクラブ_13","スマイス　セレソン　スポーツクラブ",{"$f":"(\"13\")","v":"13"},"FW","簀戸　一颯","スト　イッサ",6,"男子",{"$f":"(\"0911190200\")","v":"0911190200"}]
["スマイス　セレソン　スポーツクラブ_14","スマイス　セレソン　スポーツクラブ",{"$f":"(\"14\")","v":"14"},"MF","河野　凌大","コウノ　リョウタ",6,"男子",{"$f":"(\"0912240114\")","v":"0912240114"}]
["スマイス　セレソン　スポーツクラブ_15","スマイス　セレソン　スポーツクラブ",{"$f":"(\"15\")","v":"15"},"MF","中川　侑哉","ナカガワ　ユウヤ",5,"男子",{"$f":"(\"1011010142\")","v":"1011010142"}]
["スマイス　セレソン　スポーツクラブ_17","スマイス　セレソン　スポーツクラブ",{"$f":"(\"17\")","v":"17"},"FW","嶋村　堪太","シマムラ　カンタ",5,"男子",{"$f":"(\"1010310097\")","v":"1010310097"}]
["ＦＣ中津ジュニア_1","ＦＣ中津ジュニア",{"$f":"(\"1\")","v":"1"},"GK","吉良　翼","キラ　タスク",6,"男子",{"$f":"(\"0904150018\")","v":"0904150018"}]
["ＦＣ中津ジュニア_2","ＦＣ中津ジュニア",{"$f":"(\"2\")","v":"2"},"DF","吉田　遼司","ヨシダ　リョウジ",6,"男子",{"$f":"(\"1002220082\")","v":"1002220082"}]
[{"$f":"CONCATENATE(B1473,\"_\",C1473)","v":"ＦＣ中津ジュニア_3"},"ＦＣ中津ジュニア",{"$f":"(\"3\")","v":"3"},"DF","森　裕聖","モリ　ユウセイ",6,"男子",{"$f":"(\"1002220101\")","v":"1002220101"}]
["ＦＣ中津ジュニア_4","ＦＣ中津ジュニア",{"$f":"(\"4\")","v":"4"},"DF","矢治　晴朗","ヤジ　セイア",6,"男子",{"$f":"(\"0904180142\")","v":"0904180142"}]
["ＦＣ中津ジュニア_5","ＦＣ中津ジュニア",{"$f":"(\"5\")","v":"5"},"MF","加々見　凪","カガミ　ナギ",6,"男子",{"$f":"(\"0912030088\")","v":"0912030088"}]
["ＦＣ中津ジュニア_6","ＦＣ中津ジュニア",{"$f":"(\"6\")","v":"6"},"MF","小倉　玲央","オグラ　レオ",6,"男子",{"$f":"(\"0905230178\")","v":"0905230178"}]
["ＦＣ中津ジュニア_7","ＦＣ中津ジュニア",{"$f":"(\"7\")","v":"7"},"MF","園　将翔","ソノ　マサト",6,"男子",{"$f":"(\"0908150081\")","v":"0908150081"}]
["ＦＣ中津ジュニア_8","ＦＣ中津ジュニア",{"$f":"(\"8\")","v":"8"},"MF","東　蒼太","ヒガシ　ソウタ",6,"男子",{"$f":"(\"0904170102\")","v":"0904170102"}]
["ＦＣ中津ジュニア_9","ＦＣ中津ジュニア",{"$f":"(\"9\")","v":"9"},"FW","矢治　圭移都","ヤジ　ケイト",6,"男子",{"$f":"(\"0904180141\")","v":"0904180141"}]
["ＦＣ中津ジュニア_10","ＦＣ中津ジュニア",{"$f":"(\"10\")","v":"10"},"FW","小幡　愛翔","オバタ　アイト",6,"男子",{"$f":"(\"0906230002\")","v":"0906230002"},"○"]
["ＦＣ中津ジュニア_11","ＦＣ中津ジュニア",{"$f":"(\"11\")","v":"11"},"MF","柳井田　駿","ヤナイダ　シュン",6,"男子",{"$f":"(\"1003210007\")","v":"1003210007"}]
["ＦＣ中津ジュニア_12","ＦＣ中津ジュニア",{"$f":"(\"12\")","v":"12"},"GK","末元　兼太","スエモト　ケンタ",6,"男子",{"$f":"(\"0911050157\")","v":"0911050157"}]
["ＦＣ中津ジュニア_13","ＦＣ中津ジュニア",{"$f":"(\"13\")","v":"13"},"MF","鈴木田　卓門","スズキダ　タカト",6,"男子",{"$f":"(\"1002130175\")","v":"1002130175"}]
["ＦＣ中津ジュニア_14","ＦＣ中津ジュニア",{"$f":"(\"14\")","v":"14"},"MF","島津　大河","シマヅ　タイガ",5,"男子",{"$f":"(\"1004060045\")","v":"1004060045"}]
["ＦＣ中津ジュニア_15","ＦＣ中津ジュニア",{"$f":"(\"15\")","v":"15"},"DF","上田　倫太郎","ウエダ　リンタロウ",5,"男子",{"$f":"(\"1011280107\")","v":"1011280107"}]
["ＦＣ中津ジュニア_16","ＦＣ中津ジュニア",{"$f":"(\"16\")","v":"16"},"DF","田中　湊人","タナカ　ミナト",5,"男子",{"$f":"(\"1007110142\")","v":"1007110142"}]
["ＦＣリーベル_1","ＦＣリーベル",{"$f":"(\"1\")","v":"1"},"GK","山田　恵生","ヤマダ　ケイセイ",6,"男子",{"$f":"(\"1002090168\")","v":"1002090168"}]
["ＦＣリーベル_2","ＦＣリーベル",{"$f":"(\"2\")","v":"2"},"FW","仮屋園　和空","カリヤゾノ　ワク",4,"男子",{"$f":"(\"1110110037\")","v":"1110110037"}]
["ＦＣリーベル_3","ＦＣリーベル",{"$f":"(\"3\")","v":"3"},"FW","田中　千聖","タナカ　チサト",4,"女子小学生",{"$f":"(\"1203170005\")","v":"1203170005"}]
["ＦＣリーベル_4","ＦＣリーベル",{"$f":"(\"4\")","v":"4"},"MF","岩尾　薫","イワオ　カオル",4,"男子",{"$f":"(\"1107190064\")","v":"1107190064"}]
["ＦＣリーベル_5","ＦＣリーベル",{"$f":"(\"5\")","v":"5"},"FW","明石　凌芽","アカシ　リョウガ",4,"男子",{"$f":"(\"1104130153\")","v":"1104130153"}]
["ＦＣリーベル_6","ＦＣリーベル",{"$f":"(\"6\")","v":"6"},"FW","下原　律希","シモバル　リツキ",4,"男子",{"$f":"(\"1111060031\")","v":"1111060031"}]
["ＦＣリーベル_7","ＦＣリーベル",{"$f":"(\"7\")","v":"7"},"FW","吉崎　晴登","ヨシザキ　ハルト",5,"男子",{"$f":"(\"1004200046\")","v":"1004200046"}]
["ＦＣリーベル_8","ＦＣリーベル",{"$f":"(\"8\")","v":"8"},"DF","仙道　涼太","センドウ　リョウタ",6,"男子",{"$f":"(\"0911300128\")","v":"0911300128"}]
["ＦＣリーベル_9","ＦＣリーベル",{"$f":"(\"9\")","v":"9"},"DF","島田　幹斗","シマダ　ミキト",5,"男子",{"$f":"(\"1010080035\")","v":"1010080035"}]
["ＦＣリーベル_10","ＦＣリーベル",{"$f":"(\"10\")","v":"10"},"FW","入沢　真生","イリサワ　マオ",6,"男子",{"$f":"(\"1002030180\")","v":"1002030180"}]
["ＦＣリーベル_11","ＦＣリーベル",{"$f":"(\"11\")","v":"11"},"MF","平野　蓮斗","ヒラノ　レント",6,"男子",{"$f":"(\"1001070172\")","v":"1001070172"},"○"]
["ＦＣリーベル_12","ＦＣリーベル",{"$f":"(\"12\")","v":"12"},"GK","植山　颯太","ウエヤマ　ソウタ",4,"男子",{"$f":"(\"1104150015\")","v":"1104150015"}]
["ＦＣリーベル_13","ＦＣリーベル",{"$f":"(\"13\")","v":"13"},"MF","園田　龍斗","ソノダ　リュウト",4,"男子",{"$f":"(\"1109030033\")","v":"1109030033"}]
["ＦＣリーベル_14","ＦＣリーベル",{"$f":"(\"14\")","v":"14"},"MF","三股　虎聖","ミマタ　コウセイ",5,"男子",{"$f":"(\"1007060023\")","v":"1007060023"}]
["ＦＣリーベル_15","ＦＣリーベル",{"$f":"(\"15\")","v":"15"},"FW","西邑　聖愛","ニシムラ　セイア",3,"男子",{"$f":"(\"1205160007\")","v":"1205160007"}]
["ＦＣリーベル_16","ＦＣリーベル",{"$f":"(\"16\")","v":"16"},"FW","園田　湊斗","ソノダ　ミナト",2,"男子",{"$f":"(\"1307220004\")","v":"1307220004"}]
["如水ジュニアサッカークラブ_1","如水ジュニアサッカークラブ",{"$f":"(\"1\")","v":"1"},"GK","中村　海渡","ナカムラ　カイト",6,"男子",{"$f":"(\"0912310064\")","v":"0912310064"}]
["如水ジュニアサッカークラブ_2","如水ジュニアサッカークラブ",{"$f":"(\"2\")","v":"2"},"FW","大新田　大輝","オオシンデン　ダイキ",4,"男子",{"$f":"(\"1105310148\")","v":"1105310148"}]
["如水ジュニアサッカークラブ_3","如水ジュニアサッカークラブ",{"$f":"(\"3\")","v":"3"},"FW","一木　玲来","イチギ　レイラ",6,"女子小学生",{"$f":"(\"1003240110\")","v":"1003240110"}]
["如水ジュニアサッカークラブ_4","如水ジュニアサッカークラブ",{"$f":"(\"4\")","v":"4"},"MF","木城　來覇","キシロ　ライハ",5,"男子",{"$f":"(\"1103220044\")","v":"1103220044"}]
["如水ジュニアサッカークラブ_5","如水ジュニアサッカークラブ",{"$f":"(\"5\")","v":"5"},"DF","平　隆綺","タイラ　リュウキ",6,"男子",{"$f":"(\"0904230203\")","v":"0904230203"}]
["如水ジュニアサッカークラブ_6","如水ジュニアサッカークラブ",{"$f":"(\"6\")","v":"6"},"MF","黒土　挨吾","クロツチ　アイゴ",5,"男子",{"$f":"(\"1005300033\")","v":"1005300033"}]
["如水ジュニアサッカークラブ_7","如水ジュニアサッカークラブ",{"$f":"(\"7\")","v":"7"},"FW","有川　莉巧","アリカワ　リク",6,"男子",{"$f":"(\"0904040154\")","v":"0904040154"}]
["如水ジュニアサッカークラブ_8","如水ジュニアサッカークラブ",{"$f":"(\"8\")","v":"8"},"MF","田脇　佑真","タワキ　ユウマ",6,"男子",{"$f":"(\"0905260137\")","v":"0905260137"}]
["如水ジュニアサッカークラブ_9","如水ジュニアサッカークラブ",{"$f":"(\"9\")","v":"9"},"FW","小川　裕聖","オガワ　ユウセイ",4,"男子",{"$f":"(\"1112190108\")","v":"1112190108"}]
["如水ジュニアサッカークラブ_10","如水ジュニアサッカークラブ",{"$f":"(\"10\")","v":"10"},"DF","河津　天翔","カワヅ　タカト",6,"男子",{"$f":"(\"0909140012\")","v":"0909140012"},"○"]
["如水ジュニアサッカークラブ_11","如水ジュニアサッカークラブ",{"$f":"(\"11\")","v":"11"},"DF","椎橋　世凪","シイバシ　セナ",4,"男子",{"$f":"(\"1108270102\")","v":"1108270102"}]
["如水ジュニアサッカークラブ_12","如水ジュニアサッカークラブ",{"$f":"(\"12\")","v":"12"},"GK","佐藤　翔","サトウ　カケル",4,"男子",{"$f":"(\"1106110121\")","v":"1106110121"}]
["如水ジュニアサッカークラブ_14","如水ジュニアサッカークラブ",{"$f":"(\"14\")","v":"14"},"DF","北村　優","キタムラ　ヒロ",5,"男子",{"$f":"(\"1004130055\")","v":"1004130055"}]
["如水ジュニアサッカークラブ_18","如水ジュニアサッカークラブ",{"$f":"(\"18\")","v":"18"},"MF","屋敷　健将","ヤシキ　ケンショウ",5,"男子",{"$f":"(\"1004220054\")","v":"1004220054"}]
["ａｎｉｍｏｓｅｌｅｃｔ　ｆｏｏｔｂａｌｌ　ｃｌｕｂ　Ｕ－１２_2","ａｎｉｍｏｓｅｌｅｃｔ　ｆｏｏｔｂａｌｌ　ｃｌｕｂ　Ｕ－１２",{"$f":"(\"2\")","v":"2"},"MF","吉廣　諒太郎","ヨシヒロ　リョウタロウ",4,"男子",{"$f":"(\"1104270055\")","v":"1104270055"}]
["ａｎｉｍｏｓｅｌｅｃｔ　ｆｏｏｔｂａｌｌ　ｃｌｕｂ　Ｕ－１２_3","ａｎｉｍｏｓｅｌｅｃｔ　ｆｏｏｔｂａｌｌ　ｃｌｕｂ　Ｕ－１２",{"$f":"(\"3\")","v":"3"},"MF","太郎良　直之","タロウラ　ナオユキ",4,"男子",{"$f":"(\"1108130138\")","v":"1108130138"}]
["ａｎｉｍｏｓｅｌｅｃｔ　ｆｏｏｔｂａｌｌ　ｃｌｕｂ　Ｕ－１２_4","ａｎｉｍｏｓｅｌｅｃｔ　ｆｏｏｔｂａｌｌ　ｃｌｕｂ　Ｕ－１２",{"$f":"(\"4\")","v":"4"},"DF","吉原　和希","ヨシハラ　カズキ",4,"男子",{"$f":"(\"1202280109\")","v":"1202280109"}]
["ａｎｉｍｏｓｅｌｅｃｔ　ｆｏｏｔｂａｌｌ　ｃｌｕｂ　Ｕ－１２_5","ａｎｉｍｏｓｅｌｅｃｔ　ｆｏｏｔｂａｌｌ　ｃｌｕｂ　Ｕ－１２",{"$f":"(\"5\")","v":"5"},"MF","幸　鼓太郎","ユキ　コタロウ",5,"男子",{"$f":"(\"1011260151\")","v":"1011260151"}]
["ａｎｉｍｏｓｅｌｅｃｔ　ｆｏｏｔｂａｌｌ　ｃｌｕｂ　Ｕ－１２_6","ａｎｉｍｏｓｅｌｅｃｔ　ｆｏｏｔｂａｌｌ　ｃｌｕｂ　Ｕ－１２",{"$f":"(\"6\")","v":"6"},"FW","林　虎空","ハヤシ　コア",4,"男子",{"$f":"(\"1105030133\")","v":"1105030133"}]
["ａｎｉｍｏｓｅｌｅｃｔ　ｆｏｏｔｂａｌｌ　ｃｌｕｂ　Ｕ－１２_7","ａｎｉｍｏｓｅｌｅｃｔ　ｆｏｏｔｂａｌｌ　ｃｌｕｂ　Ｕ－１２",{"$f":"(\"7\")","v":"7"},"DF","矢野　智絆","ヤノ　トモキ",4,"男子",{"$f":"(\"1104020039\")","v":"1104020039"}]
["ａｎｉｍｏｓｅｌｅｃｔ　ｆｏｏｔｂａｌｌ　ｃｌｕｂ　Ｕ－１２_8","ａｎｉｍｏｓｅｌｅｃｔ　ｆｏｏｔｂａｌｌ　ｃｌｕｂ　Ｕ－１２",{"$f":"(\"8\")","v":"8"},"FW","佐藤　日向","サトウ　ヒナタ",5,"男子",{"$f":"(\"1008220092\")","v":"1008220092"}]
["ａｎｉｍｏｓｅｌｅｃｔ　ｆｏｏｔｂａｌｌ　ｃｌｕｂ　Ｕ－１２_9","ａｎｉｍｏｓｅｌｅｃｔ　ｆｏｏｔｂａｌｌ　ｃｌｕｂ　Ｕ－１２",{"$f":"(\"9\")","v":"9"},"MF","藤川　維吹","フジカワ　イブキ",6,"男子",{"$f":"(\"1001190191\")","v":"1001190191"},"○"]
["ａｎｉｍｏｓｅｌｅｃｔ　ｆｏｏｔｂａｌｌ　ｃｌｕｂ　Ｕ－１２_10","ａｎｉｍｏｓｅｌｅｃｔ　ｆｏｏｔｂａｌｌ　ｃｌｕｂ　Ｕ－１２",{"$f":"(\"10\")","v":"10"},"MF","平川　颯人","ヒラカワ　ハヤト",6,"男子",{"$f":"(\"0907230134\")","v":"0907230134"}]
["ａｎｉｍｏｓｅｌｅｃｔ　ｆｏｏｔｂａｌｌ　ｃｌｕｂ　Ｕ－１２_11","ａｎｉｍｏｓｅｌｅｃｔ　ｆｏｏｔｂａｌｌ　ｃｌｕｂ　Ｕ－１２",{"$f":"(\"11\")","v":"11"},"MF","山口　倫","ヤマグチ　リン",6,"男子",{"$f":"(\"0912090016\")","v":"0912090016"}]
["ａｎｉｍｏｓｅｌｅｃｔ　ｆｏｏｔｂａｌｌ　ｃｌｕｂ　Ｕ－１２_12","ａｎｉｍｏｓｅｌｅｃｔ　ｆｏｏｔｂａｌｌ　ｃｌｕｂ　Ｕ－１２",{"$f":"(\"12\")","v":"12"},"MF","手嶋　純也","テシマ　ジュンヤ",6,"男子",{"$f":"(\"0909170149\")","v":"0909170149"}]
["ａｎｉｍｏｓｅｌｅｃｔ　ｆｏｏｔｂａｌｌ　ｃｌｕｂ　Ｕ－１２_13","ａｎｉｍｏｓｅｌｅｃｔ　ｆｏｏｔｂａｌｌ　ｃｌｕｂ　Ｕ－１２",{"$f":"(\"13\")","v":"13"},"MF","大谷　希望","オオタニ　ノゾミ",6,"女子小学生",{"$f":"(\"0907010017\")","v":"0907010017"}]
["ａｎｉｍｏｓｅｌｅｃｔ　ｆｏｏｔｂａｌｌ　ｃｌｕｂ　Ｕ－１２_16","ａｎｉｍｏｓｅｌｅｃｔ　ｆｏｏｔｂａｌｌ　ｃｌｕｂ　Ｕ－１２",{"$f":"(\"16\")","v":"16"},"GK","平川　瑛翔","ヒラカワ　エイト",4,"男子",{"$f":"(\"1107200120\")","v":"1107200120"}]
["ＦＣ．ＲＥ．ＳＴＡＲＴ　_4","ＦＣ．ＲＥ．ＳＴＡＲＴ　",{"$f":"(\"4\")","v":"4"},"DF","千原　悠真","チハラ　ユウマ",5,"男子",{"$f":"(\"1101310172\")","v":"1101310172"}]
["ＦＣ．ＲＥ．ＳＴＡＲＴ　_5","ＦＣ．ＲＥ．ＳＴＡＲＴ　",{"$f":"(\"5\")","v":"5"},"DF","坂本　稟太郎","サカモト　リンタロウ",3,"男子",{"$f":"(\"1209140017\")","v":"1209140017"}]
["ＦＣ．ＲＥ．ＳＴＡＲＴ　_6","ＦＣ．ＲＥ．ＳＴＡＲＴ　",{"$f":"(\"6\")","v":"6"},"DF","岡見　柊飛","オカミ　シュウト",3,"男子",{"$f":"(\"1212040024\")","v":"1212040024"}]
["ＦＣ．ＲＥ．ＳＴＡＲＴ　_7","ＦＣ．ＲＥ．ＳＴＡＲＴ　",{"$f":"(\"7\")","v":"7"},"MF","大井　敦牙","オオイ　タイガ",6,"男子",{"$f":"(\"1002150185\")","v":"1002150185"}]
["ＦＣ．ＲＥ．ＳＴＡＲＴ　_8","ＦＣ．ＲＥ．ＳＴＡＲＴ　",{"$f":"(\"8\")","v":"8"},"DF","藤木　駿","フジキ　シュン",6,"男子",{"$f":"(\"1002090228\")","v":"1002090228"}]
["ＦＣ．ＲＥ．ＳＴＡＲＴ　_9","ＦＣ．ＲＥ．ＳＴＡＲＴ　",{"$f":"(\"9\")","v":"9"},"MF","渡邉　凌大","ワタナベ　リョウタ",3,"男子",{"$f":"(\"1209150013\")","v":"1209150013"}]
["ＦＣ．ＲＥ．ＳＴＡＲＴ　_10","ＦＣ．ＲＥ．ＳＴＡＲＴ　",{"$f":"(\"10\")","v":"10"},"MF","坂本　乙羽沙","サカモト　ツバサ",6,"女子小学生",{"$f":"(\"1003310163\")","v":"1003310163"},"○"]
[{"$f":"CONCATENATE(B1537,\"_\",C1537)","v":"ＦＣ．ＲＥ．ＳＴＡＲＴ　_11"},"ＦＣ．ＲＥ．ＳＴＡＲＴ　",{"$f":"(\"11\")","v":"11"},"FW","横田　聡佑","ヨコタ　ソウスケ",3,"男子",{"$f":"(\"1303010009\")","v":"1303010009"}]
["ＦＣ．ＲＥ．ＳＴＡＲＴ　_13","ＦＣ．ＲＥ．ＳＴＡＲＴ　",{"$f":"(\"13\")","v":"13"},"GK","大井　煌己","オオイ　コウキ",3,"男子",{"$f":"(\"1205310019\")","v":"1205310019"}]
["ＦＣ．ＲＥ．ＳＴＡＲＴ　_15","ＦＣ．ＲＥ．ＳＴＡＲＴ　",{"$f":"(\"15\")","v":"15"},"GK","小田原　明楽","オダワラ　アキラ",3,"男子",{"$f":"(\"1210100029\")","v":"1210100029"}]

{"sheet":"審判員","index":18,"n_rows":2266,"n_cols":12,"rows_kept":2266,"cut":false,"hidden":true,"merged":[]}
["審判登録番号","氏名","資格","フリガナ","性別","技能区分","所属協会","第二登録協会",null,"選択肢より",null,"＜警告選択肢＞"]
["R001251601","佐々木　慎哉","１級","ササキ　シンヤ","男性","S審判","大分県",null,null,"警告",null,"反スポ"]
["R001265145","秋元　昭一","２級","アキモト　ショウイチ","男性","S審判","大分県",null,null,"退場",null,"ラフ"]
["R000879756","足達　実生","２級","アダチ　ジツオ","男性","S審判","大分県",null,null,null,null,"異議"]
["R001253502","安藤　博幸","２級","アンドウ　ヒロユキ","男性","S審判","大分県",null,null,null,null,"繰り返し"]
["R006221377","池添　将大","２級","イケゾエ　マサヒロ","男性","S審判","大分県",null,null,null,null,"遅延"]
["R001262333","諌本　秀樹","２級","イサモト　ヒデキ","男性","S審判","大分県",null,null,null,null,"距離"]
["R001254060","井上　大知","２級","イノウエ　ダイチ","男性","S審判","大分県",null,null,null,null,"無断入"]
["R001265172","岩尾　雅広","２級","イワオ　マサヒロ","男性","S審判","大分県",null,null,null,null,"無断去"]
["R001262546","岩崎　浩也","２級","イワサキ　ヒロヤ","男性","S審判","大分県",null,null,null,null,"＜退場選択肢＞"]
["R001265233","大野　髙洋","２級","オオノ　タカヒロ","男性","S審判","大分県",null,null,null,null,"不正"]
["R002530125","小畑　広大","２級","オバタ　コウダイ","男性","S審判","大分県",null,null,null,null,"乱暴"]
["R009212325","戒田　直樹","２級","カイダ　ナオキ","男性","S審判","大分県",null,null,null,null,"つば"]
["R010281800","河野　光喜","２級","カワノ　ミツキ","男性","S審判","大分県",null,null,null,null,"阻止(手)"]
["R001262971","木下　富喜","２級","キノシタ　トミヨシ","男性","S審判","大分県",null,null,null,null,"阻止(他)"]
["R001262999","木原　一心","２級","キハラ　カズシ","男性","S審判","大分県",null,null,null,null,"暴言"]
["R010259420","窪田　雅一","２級","クボタ　マサカズ","男性","S審判","大分県",null,null,null,null,"警告2"]
["R005528255","黒田　大貴","２級","クロダ　ダイキ","男性","S審判","大分県"]
["R001265349","小出　康博","２級","コイデ　ヤスヒロ","男性","S審判","大分県"]
["R001265376","後藤　樹明","２級","ゴトウ　シゲアキ","男性","S審判","大分県"]
["R000876616","後藤　晋平","２級","ゴトウ　シンペイ","男性","S審判","大分県"]
["R001265367","後藤　啓之","２級","ゴトウ　ヒロユキ","男性","S審判","大分県"]
["R010536851","酒井　駿","２級","サカイ　シュン","男性","S審判","大分県"]
["R001256943","笹原　年浩","２級","ササハラ　トシヒロ","男性","S審判","大分県"]
["R003255841","塩月　勇輝","２級","シオツキ　ユウキ","男性","S審判","大分県"]
["R001265385","須藤　健二","２級","ストウ　ケンジ","男性","S審判","大分県"]
["R001257818","関　太啓","２級","セキ　タカヒロ","男性","S審判","大分県"]
["R006221465","曽我　拓実","２級","ソガ　タクミ","男性","S審判","大分県"]
["R010052667","髙木　翔","２級","タカキ　カケル","男性","S審判","大分県"]
["R001257924","高木　哲也","２級","タカキ　テツヤ","男性","S審判","大分県"]
["R000892429","田中　博","２級","タナカ　ヒロシ","男性","S審判","大分県"]
["R001265428","坪井　和幸","２級","ツボイ　カズユキ","男性","S審判","大分県"]
["R001265437","寺林　豊","２級","テラバヤシ　ユタカ","男性","S審判","大分県"]
["R010250271","中尾　亜夢","２級","ナカオ　アユ","男性","S審判","大分県"]
["R006151032","中尾　優志","２級","ナカオ　ユウシ","男性","S審判","大分県"]
["R003317390","中園　健太郎","２級","ナカゾノ　ケンタロウ","男性","S審判","大分県"]
["R001265464","仲摩　則孝","２級","ナカマ　ノリタカ","男性","S審判","大分県"]
["R001265358","西田　亜矢","２級","ニシダ　アヤ","女性","S審判","大分県"]
["R010167733","原　大貴","２級","ハラ　ダイキ","男性","S審判","大分県"]
["R001265473","引地　弘幸","２級","ヒキチ　ヒロユキ","男性","S審判","大分県"]
["R001260140","福田　人志","２級","フクダ　ヒトシ","男性","S審判","大分県"]
["R001265534","前山　精治","２級","マエヤマ　セイジ","男性","S審判","大分県"]
["R001260593","増永　伸也","２級","マスナガ　ノブヤ","男性","S審判","大分県"]
["R001265552","松原　マヤ","２級","マツバラ　マヤ","女性","S審判","大分県"]
["R010264267","馬原　直人","２級","マバル　ナオト","男性","S審判","大分県"]
["R002331010","丸小野　聡暢","２級","マルオノ　トシノブ","男性","S審判","大分県"]
["R003422498","三ヶ尻　和也","２級","ミカジリ　カズヤ","男性","S審判","大分県"]
["R004793649","水江　真太郎","２級","ミズエ　シンタロウ","男性","S審判","大分県"]
["R001264632","湊　弘智","２級","ミナト　ヒロトモ","男性","S審判","大分県"]
["R008537139","矢羽田　崇","２級","ヤハタ　タカシ","男性","S審判","大分県"]
["R006093817","幸　壮一郎","２級","ユキ　ソウイチロウ","男性","S審判","大分県"]
["R001262023","和田　敬生","２級","ワダ　タカオ","男性","S審判","大分県"]
["R010093470","合澤　慎太郎","３級","アイザワ　シンタロウ","男性","S審判","大分県"]
["R001264881","赤山　千晶","３級","アカヤマ　チアキ","男性","S審判","大分県"]
["R001253007","秋元　貴生","３級","アキモト　タカオ","男性","S審判","大分県"]
["R001253025","秋吉　明","３級","アキヨシ　アキラ","男性","S審判","大分県"]
["R010376364","秋吉　慶汰","３級","アキヨシ　ケイタ","男性","S審判","大分県"]
["R010382666","秋吉　徹男","３級","アキヨシ　テツオ","男性","S審判","大分県"]
["R007960093","浅井　佑太","３級","アサイ　ユウタ","男性","S審判","大分県"]
["R010169055","朝来野　勇志","３級","アサクノ　ユウシ","男性","S審判","大分県"]
["R007728424","浅田　雄太","３級","アサダ　ユウタ","男性","S審判","大分県"]
["R003972391","朝比奈　義行","３級","アサヒナ　ヨシユキ","男性","S審判","大分県"]
["R003317336","朝吹　崇宏","３級","アサブキ　タカヒロ","男性","S審判","大分県"]
["R006933694","東　紘造","３級","アズマ　コウゾウ","男性","S審判","大分県"]
["R001253159","麻生　勝稔","３級","アソウ　カツトシ","男性","S審判","大分県"]
["R001265154","足立　英二","３級","アダチ　エイジ","男性","S審判","大分県"]
["R001253557","安達　信也","３級","アダチ　シンヤ","男性","S審判","大分県"]
["R010069871","足立　卓也","３級","アダチ　タクヤ","男性","S審判","大分県"]
["R010396578","足立　尚隆","３級","アダチ　ナオタカ","男性","S審判","大分県"]
["R010189040","阿地　孝","３級","アチ　タカシ","男性","S審判","大分県"]
["R010313745","穴井　大地","３級","アナイ　ダイチ","男性","S審判","大分県"]
["R010352942","姉川　光一朗","３級","アネカワ　コウイチロウ","男性","S審判","大分県"]
["R001262184","安部　一徳","３級","アベ　カズノリ","男性","S審判","大分県"]
["R006573784","安倍　和広","３級","アベ　カズヒロ","男性","S審判","大分県"]
["R009460436","安部　隆行","３級","アベ　タカユキ","男性","S審判","大分県"]
["R010189323","安部　孝之","３級","アベ　タカユキ","男性","S審判","大分県"]
["R007959103","安倍　達也","３級","アベ　タツヤ","男性","S審判","大分県"]
["R001262209","阿部　浩之","３級","アベ　ヒロユキ","男性","S審判","大分県"]
["R010281814","安部　正信","３級","アベ　マサノブ","男性","S審判","大分県"]
["R005336098","荒木　宗明","３級","アラキ　ムネアキ","男性","S審判","大分県"]
["R010189314","有村　惇志","３級","アリムラ　アツシ","男性","S審判","大分県"]
["R001251036","有村　季幸","３級","アリムラ　トシユキ","男性","S審判","大分県"]
["R008634229","安藤　昭徳","３級","アンドウ　アキノリ","男性","S審判","大分県"]
["R007003033","安藤　和洋","３級","アンドウ　カズヒロ","男性","S審判","大分県"]
["R001253496","安東　信二","３級","アンドウ　シンジ","男性","S審判","大分県"]
["R010013254","安藤　暢","３級","アンドウ　トオル","男性","S審判","大分県"]
["R010064829","安藤　英明","３級","アンドウ　ヒデアキ","男性","S審判","大分県"]
["R001253548","安藤　洋樹","３級","アンドウ　ヒロキ","男性","S審判","大分県"]
["R001262254","安東　幹雄","３級","アンドウ　ミキオ","男性","S審判","大分県"]
["R009547124","安藤　洋一","３級","アンドウ　ヨウイチ","男性","S審判","大分県"]
["R007960084","安部　武志","３級","アンベ　タケシ","男性","S審判","大分県"]
["R001262290","池江　浩一郎","３級","イケエ　コウイチロウ","男性","S審判","大分県"]
["R010306442","池田　達哉","３級","イケダ　タツヤ","男性","S審判","大分県"]
["R002384216","池田　浩","３級","イケダ　ヒロシ","男性","S審判","大分県"]
["R010093456","池邉　賢一","３級","イケベ　ケンイチ","男性","S審判","大分県"]
["R001262324","池辺　俊明","３級","イケベ　トシアキ","男性","S審判","大分県"]
["R010301990","池本　岬","３級","イケモト　ミサキ","男性","S審判","大分県"]
["R009408904","石井　洋平","３級","イシイ　ヨウヘイ","男性","S審判","大分県"]
["R001262379","石川　慎也","３級","イシカワ　シンヤ","男性","S審判","大分県"]
["R010027832","石川　裕明","３級","イシカワ　ヒロアキ","男性","S審判","大分県"]
["R001321238","イシバシ　眞和","３級","イシバシ　マサカズ","男性","S審判","大分県"]
["R004060329","石松　卓哉","３級","イシマツ　タクヤ","男性","S審判","大分県"]
["R001262397","石丸　泰幸","３級","イシマル　ヤスユキ","男性","S審判","大分県"]
["R007753129","石本　直也","３級","イシモト　ナオヤ","男性","S審判","大分県"]
["R010189276","石本　侑己","３級","イシモト　ユウキ","男性","S審判","大分県"]
["R001262403","石山　慎史","３級","イシヤマ　シンジ","男性","S審判","大分県"]
["R003421338","五十川　文明","３級","イソガワ　フミアキ","男性","S審判","大分県"]
["R010448235","礒辺　宏基","３級","イソベ　ヒロキ","男性","S審判","大分県"]
["R005467918","磯村　信一","３級","イソムラ　シンイチ","男性","S審判","大分県"]
["R008536972","板井　晋一","３級","イタイ　シンイチ","男性","S審判","大分県"]
["R010281826","板井　崇晃","３級","イタイ　タカアキ","男性","S審判","大分県"]
["R006093835","板井　龍法","３級","イタイ　タツノリ","男性","S審判","大分県"]
["R007686234","市田　翔太","３級","イチダ　ショウタ","男性","S審判","大分県"]
["R002384191","居塚　繁","３級","イヅカ　シゲル","男性","S審判","大分県"]
["R002531522","伊藤　宏充","３級","イトウ　ヒロミツ","男性","S審判","大分県"]
["R001262458","伊東　雅弘","３級","イトウ　マサヒロ","男性","S審判","大分県"]
["R006173919","井上　健次郎","３級","イノウエ　ケンジロウ","男性","S審判","大分県"]
["R010281875","井上　颯太","３級","イノウエ　ソウタ","男性","S審判","大分県"]
["R001254051","井上　直樹","３級","イノウエ　ナオキ","男性","S審判","大分県"]
["R001869093","井上　秀文","３級","イノウエ　ヒデフミ","男性","S審判","大分県"]
["R006574172","猪下　侑恭","３級","イノシタ　ユウスケ","男性","S審判","大分県"]
["R001262494","井堀　貴康","３級","イボリ　タカヤス","男性","S審判","大分県"]
["R001262500","今井　克人","３級","イマイ　カツヒト","男性","S審判","大分県"]
["R003677104","今宮　俊一","３級","イマミヤ　シュンイチ","男性","S審判","大分県"]
["R005603820","岩尾　潤一郎","３級","イワオ　ジュンイチロウ","男性","S審判","大分県"]
["R010096810","岩尾　瑞貴","３級","イワオ　ミズキ","男性","S審判","大分県"]
["R006664758","岩男　雄一郎","３級","イワオ　ユウイチロウ","男性","S審判","大分県"]
["R001254176","岩坂　康範","３級","イワサカ　ヤスノリ","男性","S審判","大分県"]
["R004778507","岩崎　彰範","３級","イワサキ　アキノリ","男性","S審判","大分県"]
["R007335297","岩丸　海斗","３級","イワマル　カイト","男性","S審判","大分県"]
["R001262573","上尾　泰裕","３級","ウエオ　ヤスヒロ","男性","S審判","大分県"]
["R004055390","植木　邦彦","３級","ウエキ　クニヒコ","男性","S審判","大分県"]
["R001254282","上田　大吾","３級","ウエダ　ダイゴ","男性","S審判","大分県"]
["R001262582","上田　輝彦","３級","ウエダ　テルヒコ","男性","S審判","大分県"]
["R010415888","上田　源典","３級","ウエダ　モトフミ","男性","S審判","大分県"]
["R010169040","上本　慎一郎","３級","ウエモト　シンイチロウ","男性","S審判","大分県"]
["R010189280","魚住　健人","３級","ウオズミ　タケト","男性","S審判","大分県"]
["R007003431","宇髙　篤史","３級","ウタカ　アツシ","男性","S審判","大分県"]
["R003421231","内丸　貴裕","３級","ウチマル　タカヒロ","男性","S審判","大分県"]
["R010396521","内山　隆寛","３級","ウチヤマ　タカヒロ","男性","S審判","大分県"]
["R010093443","内山田　光史","３級","ウチヤマダ　コウシ","男性","S審判","大分県"]
["R001262874","宇都宮　潤也","３級","ウツノミヤ　ジュンヤ","男性","S審判","大分県"]
["R005527609","宇都宮　貴之","３級","ウツノミヤ　タカユキ","男性","S審判","大分県"]
["R001265190","宇野　耕二","３級","ウノ　コウジ","男性","S審判","大分県"]
["R010193702","梅田　高志","３級","ウメダ　タカシ","男性","S審判","大分県"]
["R010189311","梅徳　里一","３級","ウメトク　リイチ","男性","S審判","大分県"]
["R010100691","浦本　雅志","３級","ウラモト　マサシ","男性","S審判","大分県"]
["R003421161","永路　尚道","３級","エイロ　ナオミチ","男性","S審判","大分県"]
["R010076621","江上　和希","３級","エガミ　カズキ","男性","S審判","大分県"]
["R005603361","江口　晃平","３級","エグチ　コウヘイ","男性","S審判","大分県"]
["R002530064","江崎　康平","３級","エサキ　コウヘイ","男性","S審判","大分県"]
["R001254538","江藤　修","３級","エトウ　オサム","男性","S審判","大分県"]
["R005603866","衛藤　圭典","３級","エトウ　ケイスケ","男性","S審判","大分県"]
["R001254510","衛藤　兼一","３級","エトウ　ケンイチ","男性","S審判","大分県"]
["R001262607","衛藤　俊明","３級","エトウ　トシアキ","男性","S審判","大分県"]
["R001254477","江藤　雅章","３級","エトウ　マサアキ","男性","S審判","大分県"]
["R009197619","恵美　圭介","３級","エミ　ケイスケ","男性","S審判","大分県"]
["R002384580","江良　信司","３級","エラ　シンジ","男性","S審判","大分県"]
["R010465606","大石　聖哉","３級","オオイシ　セイヤ","男性","S審判","大分県"]
["R001262625","大久保　邦彦","３級","オオクボ　クニヒコ","男性","S審判","大分県"]
["R008377616","大久保　稔生","３級","オオクボ　トシキ","男性","S審判","大分県"]
["R003421912","大久保　正明","３級","オオクボ　マサアキ","男性","S審判","大分県"]
["R010189324","大嶋　伊織","３級","オオシマ　イオリ","男性","S審判","大分県"]
["R006093738","大谷　伸二","３級","オオタニ　シンジ","男性","S審判","大分県"]
["R001265224","大塚　浩司","３級","オオツカ　コウジ","男性","S審判","大分県"]
["R005528121","大塚　勇司","３級","オオツカ　ユウジ","男性","S審判","大分県"]
["R008174019","大塚　良輝","３級","オオツカ　ヨシキ","男性","S審判","大分県"]
["R003351109","大津留　健太","３級","オオツル　ケンタ","男性","S審判","大分県"]
["R003317080","大津留　聖太","３級","オオツル　ショウタ","男性","S審判","大分県"]
["R010498317","大鶴　翔太郎","３級","オオツル　ショウタロウ","男性","S審判","大分県"]
["R010281884","大戸　聡平","３級","オオト　ソウヘイ","男性","S審判","大分県"]
["R001262670","大渡　年春","３級","オオト　トシハル","男性","S審判","大分県"]
["R003421222","大野　盛通","３級","オオノ　モリミチ","男性","S審判","大分県"]
["R010466988","大星　陸渡","３級","オオボシ　リクト","男性","S審判","大分県"]
["R010093494","大本　敏行","３級","オオモト　トシユキ","男性","S審判","大分県"]
["R007660573","岡　智史","３級","オカ　サトシ","男性","S審判","大分県"]
["R010313747","岡崎　俊介","３級","オカザキ　シュンスケ","男性","S審判","大分県"]
["R010444522","岡田　凌哉","３級","オカダ　リョウヤ","男性","S審判","大分県"]
["R006901613","岡部　明男","３級","オカベ　アキオ","男性","S審判","大分県"]
["R001254875","岡部　司","３級","オカベ　ツカサ","男性","S審判","大分県"]
["R007959088","岡本　遼","３級","オカモト　リョウ","男性","S審判","大分県"]
["R010538391","緒方　翔平","３級","オガタ　ショウヘイ","男性","S審判","大分県"]
["R001262698","緒方　崇","３級","オガタ　タカシ","男性","S審判","大分県"]
["R007075261","小川　翔太","３級","オガワ　ショウタ","男性","S審判","大分県"]
["R006573979","小川　雅和","３級","オガワ　マサカズ","男性","S審判","大分県"]
["R009460515","奥田　和彦","３級","オクダ　カズヒコ","男性","S審判","大分県"]
["R010100676","奥村　浩勝","３級","オクムラ　ヒロカツ","男性","S審判","大分県"]
["R003972355","小倉　正広","３級","オグラ　マサヒロ","男性","S審判","大分県"]
["R001262731","長田　敏明","３級","オサダ　トシアキ","男性","S審判","大分県"]
["R010189320","尾崎　勇","３級","オザキ　ユウ","男性","S審判","大分県"]
["R010099453","小関　啓太郎","３級","オゼキ　ケイタロウ","男性","S審判","大分県"]
["R007960109","小田　将大","３級","オダ　マサヒロ","男性","S審判","大分県"]
["R006901589","小田原　蓮","３級","オダワラ　レン","男性","S審判","大分県"]
["R010311884","越智　龍平","３級","オチ　リュウヘイ","男性","S審判","大分県"]
["R002996695","乙部　哲也","３級","オトベ　テツヤ","男性","S審判","大分県"]
["R007959954","オトメ　仁孝","３級","オトメ　ノリユキ","男性","S審判","大分県"]
["R002917661","小野　晃央","３級","オノ　アキオ","男性","S審判","大分県"]
["R001255184","小野　聡","３級","オノ　サトシ","男性","S審判","大分県"]
["R005603608","小野　智史","３級","オノ　サトシ","男性","S審判","大分県"]
["R001255193","小野　修太郎","３級","オノ　シュウタロウ","男性","S審判","大分県"]
["R001255139","小野　慎一","３級","オノ　シンイチ","男性","S審判","大分県"]
["R010255178","小野　智弘","３級","オノ　ノリヒロ","男性","S審判","大分県"]
["R001262786","小野　幸登","３級","オノ　ユキト","男性","S審判","大分県"]
["R010390125","小野　友美子","３級","オノ　ユミコ","女性","S審判","大分県"]
["R001262777","小野　亮一","３級","オノ　リョウイチ","男性","S審判","大分県"]
["R002996659","小畑　郁夫","３級","オバタ　イクオ","男性","S審判","大分県"]
["R000466941","小畑　克則","３級","オバタ　カツノリ","男性","S審判","大分県"]
["R008173700","甲斐　剛樹","３級","カイ　ゴウキ","男性","S審判","大分県"]
["R001265260","甲斐　正三","３級","カイ　ショウゾウ","男性","S審判","大分県"]
["R003258501","甲斐　真号","３級","カイ　シンゴ","男性","S審判","大分県"]
["R004794055","笠置　貴路","３級","カサキ　タカミチ","男性","S審判","大分県"]
["R001262829","笠置　忠照","３級","カサギ　タダアキ","男性","S審判","大分県"]
["R004793542","梶川　和志","３級","カジカワ　カズシ","男性","S審判","大分県"]
["R004055585","梶原　賢士","３級","カジワラ　ケンジ","男性","S審判","大分県"]
["R009198511","梶原　幸平","３級","カジワラ　コウヘイ","男性","S審判","大分県"]
["R001262838","梶原　誠司","３級","カジワラ　セイジ","男性","S審判","大分県"]
["R010099455","糟谷　浩志","３級","カスタニ　ヒロシ","男性","S審判","大分県"]
["R010261243","片山　幹彦","３級","カタヤマ　ミキヒコ","男性","S審判","大分県"]
["R004714642","加藤　敦士","３級","カトウ　アツシ","男性","S審判","大分県"]
["R007959608","加藤　恭介","３級","カトウ　キョウスケ","男性","S審判","大分県"]
["R010189342","加藤　拓己","３級","カトウ　タクミ","男性","S審判","大分県"]
["R009197929","加藤　泰広","３級","カトウ　ヤスヒロ","男性","S審判","大分県"]
["R010448916","金子　康二","３級","カネコ　コウジ","男性","S審判","大分県"]
["R010261482","金子　翔","３級","カネコ　ショウ","男性","S審判","大分県"]
["R010396582","金田　智朗","３級","カネダ　トモアキ","男性","S審判","大分県"]
["R010376294","株根　聖太","３級","カブネ　キヨタ","男性","S審判","大分県"]
["R009624779","株根　蒼太","３級","カブネ　ソウタ","男性","S審判","大分県"]
["R001262883","神川　基","３級","カミカワ　モトイ","男性","S審判","大分県"]
["R002996668","上西　亮次","３級","カミニシ　リョウジ","男性","S審判","大分県"]
["R010256872","鴨川　奨","３級","カモガワ　ショウ","男性","S審判","大分県"]
["R010120143","萱嶌　修平","３級","カヤシマ　シュウヘイ","男性","S審判","大分県"]
["R001255616","川井　勇介","３級","カワイ　ユウスケ","男性","S審判","大分県"]
["R007959963","川内　智弘","３級","カワウチ　トモヒロ","男性","S審判","大分県"]
["R006220952","川﨑　浩司","３級","カワサキ　コウジ","男性","S審判","大分県"]
["R010450022","川﨑　脩斗","３級","カワサキ　シュウト","男性","S審判","大分県"]
["R002917430","河津　裕徳","３級","カワヅ　ヒロノリ","男性","S審判","大分県"]
["R005103418","河野　貴裕","３級","カワノ　タカヒロ","男性","S審判","大分県"]
["R001255740","川野　剛","３級","カワノ　タケシ","男性","S審判","大分県"]
["R010391915","河野　晴輝","３級","カワノ　ハルキ","男性","S審判","大分県"]
["R001255713","河野　英樹","３級","カワノ　ヒデキ","男性","S審判","大分県"]
["R001262935","河野　裕明","３級","カワノ　ヒロアキ","男性","S審判","大分県"]
["R006094001","河野　祐司","３級","カワノ　ユウジ","男性","S審判","大分県"]
["R010214623","川畑　拓人","３級","カワバタ　タクト","男性","S審判","大分県"]
["R010388050","川端　大翔","３級","カワバタ　ヒロト","男性","S審判","大分県"]
["R010093459","川辺　祐介","３級","カワベ　ユウスケ","男性","S審判","大分県"]
["R003351145","川村　啓一郎","３級","カワムラ　ケイイチロウ","男性","S審判","大分県"]
["R001255935","川村　正樹","３級","カワムラ　マサキ","男性","S審判","大分県"]
["R004112020","川元　翔","３級","カワモト　ショウ","男性","S審判","大分県"]
["R003256053","菊地　謙一","３級","キクチ　ケンイチ","男性","S審判","大分県"]
["R007890271","菊地　玄","３級","キクチ　ゲン","男性","S審判","大分県"]
["R010376296","木島　悠","３級","キジマ　ユウ","男性","S審判","大分県"]
["R010465605","北村　真悟","３級","キタムラ　シンゴ","男性","S審判","大分県"]
["R007959583","吉川　一馬","３級","キッカワ　カズマ","男性","S審判","大分県"]
["R010074021","木津　洋孝","３級","キヅ　ヒロタカ","男性","S審判","大分県"]
["R007003468","木本　翔平","３級","キモト　ショウヘイ","男性","S審判","大分県"]
["R010465604","木本　大地","３級","キモト　ダイチ","男性","S審判","大分県"]
["R001256129","木本　信之","３級","キモト　ノブユキ","男性","S審判","大分県"]
["R001256138","木本　将斗","３級","キモト　マサト","男性","S審判","大分県"]
["R001251504","清原　雄太","３級","キヨハラ　ユウタ","男性","S審判","大分県"]
["R007003486","清松　隆浩","３級","キヨマツ　タカヒロ","男性","S審判","大分県"]
["R001263031","吉良　信輝","３級","キラ　ノブテル","男性","S審判","大分県"]
["R001263040","吉良　光峰","３級","キラ　ミツタカ","男性","S審判","大分県"]
["R001263068","切封　智和","３級","キリフ　トモカズ","男性","S審判","大分県"]
["R001263077","草野　学","３級","クサノ　マナブ","男性","S審判","大分県"]
["R010247785","楠本　未沙都","３級","クスモト　ミサト","女性","S審判","大分県"]
["R001263129","工藤　慎一","３級","クドウ　シンイチ","男性","S審判","大分県"]
["R003258413","工藤　隆貴","３級","クドウ　タカキ","男性","S審判","大分県"]
["R010189301","工藤　拓海","３級","クドウ　タクミ","男性","S審判","大分県"]
["R003351251","工藤　暢裕","３級","クドウ　ノブヒロ","男性","S審判","大分県"]
["R007002982","工藤　政野","３級","クドウ　マサノ","男性","S審判","大分県"]
["R001263110","工藤　康博","３級","クドウ　ヤスヒロ","男性","S審判","大分県"]
["R008798262","工藤　龍成","３級","クドウ　リュウセイ","男性","S審判","大分県"]
["R010465591","工藤　遼一","３級","クドウ　リョウイチ","男性","S審判","大分県"]
["R008479330","國友　達朗","３級","クニトモ　タツロウ","男性","S審判","大分県"]
["R003677131","久保　雅敬","３級","クボ　マサノリ","男性","S審判","大分県"]
["R001256305","久保田　英樹","３級","クボタ　ヒデキ","男性","S審判","大分県"]
["R001256314","久保山　守","３級","クボヤマ　マモル","男性","S審判","大分県"]
["R001263165","熊谷　浩之","３級","クマガエ　ヒロユキ","男性","S審判","大分県"]
["R007334890","熊谷　勇哉","３級","クマガエ　ユウヤ","男性","S審判","大分県"]
["R010538565","倉原　一輝","３級","クラハラ　カズキ","男性","S審判","大分県"]
["R010074028","栗井　勝","３級","クリイ　マサル","男性","S審判","大分県"]
["R001263183","桑原　栄二郎","３級","クワバラ　エイジロウ","男性","S審判","大分県"]
["R008634487","桑原　将吾","３級","クワバラ　ショウゴ","男性","S審判","大分県"]
["R001256402","小石川　悟","３級","コイシカワ　サトル","男性","S審判","大分県"]
["R001263192","小出　和明","３級","コイデ　カズアキ","男性","S審判","大分県"]
["R007003228","河野　晋也","３級","コウノ　シンヤ","男性","S審判","大分県"]
["R006220387","河野　翼","３級","コウノ　ツバサ","男性","S審判","大分県"]
["R010376271","古賀　嵐士","３級","コガ　アラシ","男性","S審判","大分県"]
["R010538323","古瀬　大騎","３級","コセ　ダイキ","男性","S審判","大分県"]
["R009546073","小玉　篤史","３級","コダマ　アツシ","男性","S審判","大分県"]
["R009198502","児玉　祥吾","３級","コダマ　ショウゴ","男性","S審判","大分県"]
["R010465584","児玉　雅樹","３級","コダマ　マサキ","男性","S審判","大分県"]
["R005405255","小手川　朋輝","３級","コテガワ　トモキ","男性","S審判","大分県"]
["R010080887","古西　譲司","３級","コニシ　ジョウジ","男性","S審判","大分県"]
["R004706704","小林　年晴","３級","コバヤシ　トシハル","男性","S審判","大分県"]
["R007728673","小林　亮介","３級","コバヤシ　リョウスケ","男性","S審判","大分県"]
["R001263314","近藤　健二","３級","コンドウ　ケンジ","男性","S審判","大分県"]
["R010376362","近藤　將平","３級","コンドウ　ショウヘイ","男性","S審判","大分県"]
["R006591364","近藤　裕之","３級","コンドウ　ヒロユキ","男性","S審判","大分県"]
["R001263305","近藤　靖彦","３級","コンドウ　ヤスヒコ","男性","S審判","大分県"]
["R010376355","合嶋　雄大","３級","ゴウジマ　ユウダイ","男性","S審判","大分県"]
["R009408852","後藤　憲治","３級","ゴトウ　ケンジ","男性","S審判","大分県"]
["R001263299","後藤　伸太郎","３級","ゴトウ　シンタロウ","男性","S審判","大分県"]
["R001251540","後藤　毅","３級","ゴトウ　タケシ","男性","S審判","大分県"]
["R010306452","後藤　知仁","３級","ゴトウ　トモヒト","男性","S審判","大分県"]
["R001256624","後藤　文生","３級","ゴトウ　フミオ","男性","S審判","大分県"]
["R010067947","後藤　美宇","３級","ゴトウ　ミウ","女性","S審判","大分県"]
["R001263271","後藤　稔","３級","ゴトウ　ミノル","男性","S審判","大分県"]
["R001263332","斎藤　克己","３級","サイトウ　カツミ","男性","S審判","大分県"]
["R001263369","酒井　清行","３級","サカイ　キヨユキ","男性","S審判","大分県"]
["R001251577","酒井　隆宏","３級","サカイ　タカヒロ","男性","S審判","大分県"]
["R001263350","酒井　祐三","３級","サカイ　ユウゾウ","男性","S審判","大分県"]
["R010356115","榊　謙治","３級","サカキ　ケンジ","男性","S審判","大分県"]
["R004714688","坂本　克也","３級","サカモト　カツヤ","男性","S審判","大分県"]
["R003350863","坂本　圭","３級","サカモト　ケイ","男性","S審判","大分県"]
["R001263402","坂本　淳吾","３級","サカモト　ジュンゴ","男性","S審判","大分県"]
["R006849191","坂本　大典","３級","サカモト　ダイスケ","男性","S審判","大分県"]
["R006574400","酒盛　政晴","３級","サカモリ　マサハル","男性","S審判","大分県"]
["R006664864","相良　章成","３級","サガラ　アキナリ","男性","S審判","大分県"]
["R002917500","迫　裕作","３級","サコ　ユウサク","男性","S審判","大分県"]
["R007335136","佐々木　秀樹","３級","ササキ　ヒデキ","男性","S審判","大分県"]
["R001263411","佐々木　正志","３級","ササキ　マサシ","男性","S審判","大分県"]
["R003677052","佐田　敬介","３級","サダ　ケイスケ","男性","S審判","大分県"]
["R001263448","佐藤　昭生","３級","サトウ　アキオ","男性","S審判","大分県"]
["R001263484","佐藤　一好","３級","サトウ　カズヨシ","男性","S審判","大分県"]
["R010261478","佐藤　賢太","３級","サトウ　ケンタ","男性","S審判","大分県"]
["R009460551","佐藤　慎二","３級","サトウ　シンジ","男性","S審判","大分県"]
["R005164394","佐藤　嵩隼","３級","サトウ　タカトシ","男性","S審判","大分県"]
["R008634706","佐藤　巨規","３級","サトウ　ナオキ","男性","S審判","大分県"]
["R010281827","佐藤　秀昭","３級","サトウ　ヒデアキ","男性","S審判","大分県"]
["R010189269","佐藤　寛季","３級","サトウ　ヒロキ","男性","S審判","大分県"]
["R007728512","佐藤　誠","３級","サトウ　マコト","男性","S審判","大分県"]
["R010396593","佐藤　諒","３級","サトウ　マコト","男性","S審判","大分県"]
["R007003291","佐藤　優介","３級","サトウ　ユウスケ","男性","S審判","大分県"]
["R010382660","佐藤　祐輔","３級","サトウ　ユウスケ","男性","S審判","大分県"]
["R010465594","佐藤　湧大","３級","サトウ　ユウト","男性","S審判","大分県"]
["R001263475","佐藤　隆太","３級","サトウ　リュウタ","男性","S審判","大分県"]
["R009552560","佐藤　亮","３級","サトウ　リョウ","男性","S審判","大分県"]
["R010096806","猿渡　崇史","３級","サルワタリ　タカシ","男性","S審判","大分県"]
["R001257252","三宮　仁","３級","サンノミヤ　ヒトシ","男性","S審判","大分県"]
["R007959936","塩田　誠","３級","シオタ　マコト","男性","S審判","大分県"]
["R001257322","師藤　一也","３級","シトウ　カズヤ","男性","S審判","大分県"]
["R010444495","志藤　圭史朗","３級","シトウ　ケイシロウ","男性","S審判","大分県"]
["R001257340","篠田　公成","３級","シノダ　キミナリ","男性","S審判","大分県"]
["R004326535","信田　卓也","３級","シノダ　タクヤ","男性","S審判","大分県"]
["R010073990","篠田　裕也","３級","シノダ　ユウヤ","男性","S審判","大分県"]
["R010189333","芝崎　駿","３級","シバサキ　カケル","男性","S審判","大分県"]
["R008634715","柴田　健一","３級","シバタ　ケンイチ","男性","S審判","大分県"]
["R010214543","柴田　峻佑","３級","シバタ　シュンスケ","男性","S審判","大分県"]
["R002938017","柴田　徹","３級","シバタ　トオル","男性","S審判","大分県"]
["R001263536","渋谷　崇","３級","シブヤ　タカシ","男性","S審判","大分県"]
["R003317114","島津　広光","３級","シマズ　ヒロミツ","男性","S審判","大分県"]
["R007686216","清水　圭二","３級","シミズ　ケイジ","男性","S審判","大分県"]
["R006910259","下原　優一","３級","シモハラ　ユウイチ","男性","S審判","大分県"]
["R006849182","志谷　進","３級","シヤ　ススム","男性","S審判","大分県"]
["R001263590","首藤　圭介","３級","シュトウ　ケイスケ","男性","S審判","大分県"]
["R001934616","首藤　貴弘","３級","シュトウ　タカヒロ","男性","S審判","大分県"]
["R010542204","生野　憲太朗","３級","ショウノ　ケンタロウ","男性","S審判","大分県"]
["R010538350","白石　健","３級","シライシ　ケン","男性","S審判","大分県"]
["R009554780","白江　直樹","３級","シラエ　ナオキ","男性","S審判","大分県"]
["R006849128","城全　晃孝","３級","シロゼン　アキタカ","男性","S審判","大分県"]
["R001263606","城全　孝成","３級","シロゼン　タカナリ","男性","S審判","大分県"]
["R001257641","秦　達郎","３級","シン　タツロウ","男性","S審判","大分県"]
["R001263633","秦　雅暢","３級","シン　マサノブ","男性","S審判","大分県"]
["R001257650","新貝　学","３級","シンガイ　マナブ","男性","S審判","大分県"]
["R009198335","城野　清","３級","ジョウノ　キヨシ","男性","S審判","大分県"]
["R004793834","末松　敬雅","３級","スエマツ　タカマサ","男性","S審判","大分県"]
["R008515571","菅川　智","３級","スガワ　サトシ","男性","S審判","大分県"]
["R007003024","杉崎　恭介","３級","スギサキ　キョウスケ","男性","S審判","大分県"]
["R002530860","鈴木　史朗","３級","スズキ　シロウ","男性","S審判","大分県"]
["R008798369","鈴木　優希","３級","スズキ　ユウキ","男性","S審判","大分県"]
["R010444486","須藤　哲也","３級","ストウ　テツヤ","男性","S審判","大分県"]
["R010468354","須藤　裕太","３級","スドウ　ユウタ","男性","S審判","大分県"]
["R008798013","隅田　哲平","３級","スミタ　テッペイ","男性","S審判","大分県"]
["R010027823","清家　大介","３級","セイケ　ダイスケ","男性","S審判","大分県"]
["R001263679","関　憲二","３級","セキ　ケンジ","男性","S審判","大分県"]
["R000896665","関　文雄","３級","セキ　フミオ","男性","S審判","大分県"]
["R008798174","関屋　俊侑","３級","セキヤ　トシユキ","男性","S審判","大分県"]
["R001263688","瀬口　篤","３級","セグチ　アツシ","男性","S審判","大分県"]
["R010376284","瀬戸口　雄","３級","セトグチ　ユウ","男性","S審判","大分県"]
["R007606238","相馬　大典","３級","ソウマ　ダイスケ","男性","S審判","大分県"]
["R010247795","曽我　彩夏","３級","ソガ　アヤカ","女性","S審判","大分県"]
["R001263697","曽我　大一郎","３級","ソガ　ダイイチロウ","男性","S審判","大分県"]
["R001263721","園　貴司","３級","ソノ　タカシ","男性","S審判","大分県"]
["R005987032","園　秀利","３級","ソノ　ヒデトシ","男性","S審判","大分県"]
["R005987430","平　和隆","３級","タイラ　カズタカ","男性","S審判","大分県"]
["R006664615","高柿　康平","３級","タカガキ　コウヘイ","男性","S審判","大分県"]
["R010465617","高田　侑弥","３級","タカダ　ユウヤ","男性","S審判","大分県"]
["R010376358","高野　賢吾","３級","タカノ　ケンゴ","男性","S審判","大分県"]
["R001258048","高橋　修一","３級","タカハシ　シユウイチ","男性","S審判","大分県"]
["R001263819","高橋　雅浩","３級","タカハシ　マサヒロ","男性","S審判","大分県"]
["R010540717","高橋　優斗","３級","タカハシ　ユウト","男性","S審判","大分県"]
["R001263785","高橋　芳洋","３級","タカハシ　ヨシヒロ","男性","S審判","大分県"]
["R005987120","高橋　涼太","３級","タカハシ　リョウタ","男性","S審判","大分県"]
["R001263846","高畑　徳治郎","３級","タカハタ　トクジロウ","男性","S審判","大分県"]
["R001263837","高畑　智秀","３級","タカハタ　トモヒデ","男性","S審判","大分県"]
["R002996738","高原　英司","３級","タカハラ　エイジ","男性","S審判","大分県"]
["R003258477","田上　和広","３級","タガミ　カズヒロ","男性","S審判","大分県"]
["R001262272","瀧山　理恵","３級","タキヤマ　リエ","女性","S審判","大分県"]
["R010391939","武石　新太","３級","タケイシ　アラタ","男性","S審判","大分県"]
["R010391953","武内　奨真","３級","タケウチ　ショウマ","男性","S審判","大分県"]
["R001263882","竹内　進","３級","タケウチ　ススム","男性","S審判","大分県"]
["R003972489","竹嶋　仁","３級","タケシマ　ヒトシ","男性","S審判","大分県"]
["R006220484","武智　正敏","３級","タケチ　マサトシ","男性","S審判","大分県"]
["R007754243","竹中　勇人","３級","タケナカ　ハヤト","男性","S審判","大分県"]
["R006030599","竹村　研一郎","３級","タケムラ　ケンイチロウ","男性","S審判","大分県"]
["R007335075","田坂　将和","３級","タサカ　マサカヅ","男性","S審判","大分県"]
["R010120124","田尻　貴志","３級","タジリ　タカシ","男性","S審判","大分県"]
["R004060170","立花　陽一郎","３級","タチバナ　ヨウイチロウ","男性","S審判","大分県"]
["R008626770","立川　大記","３級","タツカワ　タイキ","男性","S審判","大分県"]
["R009430578","立川　千紗","３級","タツカワ　チサ","女性","S審判","大分県"]
["R008627043","立川　充","３級","タツカワ　ミツル","男性","S審判","大分県"]
["R004683874","田中　貴大","３級","タナカ　タカヒロ","男性","S審判","大分県"]
["R001258394","田邉　義晶","３級","タナベ　ヨシアキラ","男性","S審判","大分県"]
["R005164677","田村　孝弘","３級","タムラ　タカヒロ","男性","S審判","大分県"]
["R010190756","垰　真樹","３級","タワ　マサキ","男性","S審判","大分県"]
["R004793579","團塚　晋之祐","３級","ダンヅカ　シンノスケ","男性","S審判","大分県"]
["R010448232","塚崎　高典","３級","ツカザキ　タカノリ","男性","S審判","大分県"]
["R001263961","津崎　雅彦","３級","ツザキ　マサヒコ","男性","S審判","大分県"]
["R005430057","辻　一陽","３級","ツジ　イチヨウ","男性","S審判","大分県"]
["R010281819","辻井　拓夢","３級","ツジイ　タクム","男性","S審判","大分県"]
["R001265419","津田　憲生","３級","ツダ　ノリオ","男性","S審判","大分県"]
["R010214478","堤　晴菜","３級","ツツミ　ハルナ","女性","S審判","大分県"]
["R001263998","堤　祐慈","３級","ツツミ　ユウジ","男性","S審判","大分県"]
["R002996677","坪根　晃","３級","ツボネ　アキラ","男性","S審判","大分県"]
["R010465621","坪根　弘希","３級","ツボネ　コウキ","男性","S審判","大分県"]
["R001264003","津守　一雄","３級","ツモリ　カズオ","男性","S審判","大分県"]
["R001264012","津守　正博","３級","ツモリ　マサヒロ","男性","S審判","大分県"]
["R010376298","鶴田　和也","３級","ツルタ　カズヤ","男性","S審判","大分県"]
["R009408782","手島　冠","３級","テシマ　カン","男性","S審判","大分県"]
["R001264058","寺岡　富夫","３級","テラオカ　トミオ","男性","S審判","大分県"]
["R001264049","寺岡　義彦","３級","テラオカ　ヨシヒコ","男性","S審判","大分県"]
["R010120117","寺次　良生","３級","テラジ　ヨシタカ","男性","S審判","大分県"]
["R004226749","寺本　義高","３級","テラモト　ヨシタカ","男性","S審判","大分県"]
["R004111340","唐下　直之","３級","トウゲ　ナオユキ","男性","S審判","大分県"]
["R010167725","東藤　正幸","３級","トウドウ　マサユキ","男性","S審判","大分県"]
["R004385653","徳永　尚也","３級","トクナガ　ナオヤ","男性","S審判","大分県"]
["R002848671","徳永　浩幸","３級","トクナガ　ヒロユキ","男性","S審判","大分県"]
["R010189300","徳光　将太","３級","トクミツ　ショウタ","男性","S審判","大分県"]
["R001258701","都甲　昌亨","３級","トコウ　マサユキ","男性","S審判","大分県"]
["R006220961","歳納　真人","３級","トシノ　マコト","男性","S審判","大分県"]
["R010376357","戸髙　航汰","３級","トダカ　コウタ","男性","S審判","大分県"]
["R001258738","戸髙　博秋","３級","トダカ　ヒロアキ","男性","S審判","大分県"]
["R003317354","戸伏　重治","３級","トブシ　シゲハル","男性","S審判","大分県"]
["R010539320","冨永　憲司","３級","トミナガ　ケンジ","男性","S審判","大分県"]
["R002935472","友成　義朗","３級","トモナリ　ヨシロウ","男性","S審判","大分県"]
["R010542171","内藤　翔悟","３級","ナイトウ　ショウゴ","男性","S審判","大分県"]
["R010261477","仲　慎太郎","３級","ナカ　シンタロウ","男性","S審判","大分県"]
["R002917722","中尾　倫彰","３級","ナカオ　ミチアキ","男性","S審判","大分県"]
["R002530046","中上　聡志","３級","ナカガミ　サトシ","男性","S審判","大分県"]
["R003317071","中島　圭太","３級","ナカシマ　ケイタ","男性","S審判","大分県"]
["R008634681","中島　康平","３級","ナカシマ　コウヘイ","男性","S審判","大分県"]
["R010190757","中島　佑介","３級","ナカシマ　ユウスケ","男性","S審判","大分県"]
["R010007829","中島　亮太","３級","ナカシマ　リョウタ","男性","S審判","大分県"]
["R002996686","中園　真栄","３級","ナカゾノ　マサハル","男性","S審判","大分県"]
["R001258969","中田　邦明","３級","ナカタ　クニアキ","男性","S審判","大分県"]
["R007728804","中根　龍馬","３級","ナカネ　リョウマ","男性","S審判","大分県"]
["R001264164","仲野　昭博","３級","ナカノ　アキヒロ","男性","S審判","大分県"]
["R005429893","中野　佐和三","３級","ナカノ　サワミ","男性","S審判","大分県"]
["R010248583","中野　翔梧","３級","ナカノ　ショウゴ","男性","S審判","大分県"]
["R003421310","中野　雄斗","３級","ナカノ　ユウト","男性","S審判","大分県"]
["R001264182","中原　圭介","３級","ナカハラ　ケイスケ","男性","S審判","大分県"]
["R010099448","中原　丈聖","３級","ナカハラ　ヒロマサ","男性","S審判","大分県"]
["R001265297","中村　圭一郎","３級","ナカムラ　ケイイチロウ","男性","S審判","大分県"]
["R010467628","中村　俊太","３級","ナカムラ　シュンタ","男性","S審判","大分県"]
["R007959990","中村　髙峰","３級","ナカムラ　タカネ","男性","S審判","大分県"]
["R010382275","中村　友海","３級","ナカムラ　ユウ","男性","S審判","大分県"]
["R010073993","仲村　陽一郎","３級","ナカムラ　ヨウイチロウ","男性","S審判","大分県"]
["R010189259","中山　修一","３級","ナカヤマ　シュウイチ","男性","S審判","大分県"]
["R010162720","中山　桃香","３級","ナカヤマ　モモカ","女性","S審判","大分県"]
["R010376274","永井　翔也","３級","ナガイ　ショウヤ","男性","S審判","大分県"]
["R004111580","永井　勇司","３級","ナガイ　ユージ","男性","S審判","大分県"]
["R001258871","長尾　信宏","３級","ナガオ　ノブヒロ","男性","S審判","大分県"]
["R001264128","長尾　寿郎","３級","ナガオ　ヒサオ","男性","S審判","大分県"]
["R010448233","長岡　傑","３級","ナガオカ　スグル","男性","S審判","大分県"]
["R001264137","永木　桂","３級","ナガキ　ケイ","男性","S審判","大分県"]
["R001258978","長田　義弘","３級","ナガタ　ヨシヒロ","男性","S審判","大分県"]
["R010074018","長門　崚太","３級","ナガト　リョウタ","男性","S審判","大分県"]
["R008798129","長野　佳太","３級","ナガノ　ケイタ","男性","S審判","大分県"]
["R010538360","長野　高志","３級","ナガノ　タカシ","男性","S審判","大分県"]
["R005164941","永松　真朗","３級","ナガマツ　マオ","男性","S審判","大分県"]
["R006889108","永松　真樹","３級","ナガマツ　マキ","女性","S審判","大分県"]
["R010306440","永芳　卓磨","３級","ナガヨシ　タクマ","男性","S審判","大分県"]
["R002908335","南里　秀樹","３級","ナンリ　ヒデキ","男性","S審判","大分県"]
["R001251975","西田　淳一","３級","ニシダ　ジュンイチ","男性","S審判","大分県"]
["R001264234","西村　誠","３級","ニシムラ　マコト","男性","S審判","大分県"]
["R009670176","西村　竜司","３級","ニシムラ　リュウジ","男性","S審判","大分県"]
["R006148515","西山　文朗","３級","ニシヤマ　フミアキ","男性","S審判","大分県"]
["R001259287","新田　祐一郎","３級","ニッタ　ユウイチロウ","男性","S審判","大分県"]
["R001264252","二ノ谷　徹","３級","ニノタニ　トオル","男性","S審判","大分県"]
["R010095349","二宮　慎太郎","３級","ニノミヤ　シンタロウ","男性","S審判","大分県"]
["R010281856","如法寺　雅俊","３級","ニョホウジ　マサトシ","男性","S審判","大分県"]
["R001264289","野田　洋平","３級","ノダ　ヨウヘイ","男性","S審判","大分県"]
["R010214556","野中　裕介","３級","ノナカ　ユウスケ","男性","S審判","大分県"]
["R007757994","野村　康佳","３級","ノムラ　ヤスヨシ","男性","S審判","大分県"]
["R009546055","吐合　直樹","３級","ハキアイ　ナオキ","男性","S審判","大分県"]
["R010027819","狭間　照央","３級","ハザマ　テルヒサ","男性","S審判","大分県"]
["R010540722","橋口　大諒","３級","ハシグチ　ヒロアキ","男性","S審判","大分県"]
["R001252017","橋本　伸太郎","３級","ハシモト　シンタロウ","男性","S審判","大分県"]
["R010376361","橋本　淳平","３級","ハシモト　ジュンペイ","男性","S審判","大分県"]
["R008797962","橋本　葉音","３級","ハシモト　ハノン","女性","S審判","大分県"]
["R010214541","羽田野　順一","３級","ハタノ　ジュンイチ","女性","S審判","大分県"]
["R001264304","羽田野　亘","３級","ハダノ　ワタル","男性","S審判","大分県"]
["R010376277","花宮　大聖","３級","ハナミヤ　タイセイ","男性","S審判","大分県"]
["R001259588","浜崎　陽介","３級","ハマサキ　ヨウスケ","男性","S審判","大分県"]
["R006221094","浜町　拓也","３級","ハママチ　タクヤ","男性","S審判","大分県"]
["R001259667","原　宏一","３級","ハラ　コウイチ","男性","S審判","大分県"]
["R005603802","原　俊輔","３級","ハラ　シュンスケ","男性","S審判","大分県"]
["R008174365","原　貴宏","３級","ハラ　タカヒロ","男性","S審判","大分県"]
["R007003413","原田　雅也","３級","ハラダ　マサヤ","男性","S審判","大分県"]
["R007211182","原田　龍太郎","３級","ハラダ　リュウタロウ","男性","S審判","大分県"]
["R010067952","半谷　風花","３級","ハンガイ　フウカ","女性","S審判","大分県"]
["R001264359","東　和弘","３級","ヒガシ　カズヒロ","男性","S審判","大分県"]
["R010376324","菱川　翔平","３級","ヒシカワ　ショウヘイ","男性","S審判","大分県"]
["R006147048","姫野　一陽","３級","ヒメノ　イチヨウ","男性","S審判","大分県"]
["R005528307","姫野　恵一","３級","ヒメノ　ケイイチ","男性","S審判","大分県"]
["R006220183","姫野　航平","３級","ヒメノ　コウヘイ","男性","S審判","大分県"]
["R010189272","姫野　佑太郎","３級","ヒメノ　ユウタロウ","男性","S審判","大分県"]
["R010313780","姫野　祐太朗","３級","ヒメノ　ユウタロウ","男性","S審判","大分県"]
["R010352963","平井　彩斗","３級","ヒライ　サイト","男性","S審判","大分県"]
["R001259870","平岡　正広","３級","ヒラオカ　マサヒロ","男性","S審判","大分県"]
["R003972513","平川　伸吾","３級","ヒラカワ　シンゴ","男性","S審判","大分県"]
["R010538358","平川　諒","３級","ヒラカワ　リョウ","男性","S審判","大分県"]
["R007003501","廣瀬　惣一朗","３級","ヒロセ　ソウイチロウ","男性","S審判","大分県"]
["R001264401","廣瀬　文明","３級","ヒロセ　フミアキ","男性","S審判","大分県"]
["R004386120","廣瀬　賢明","３級","ヒロセ　マサアキ","男性","S審判","大分県"]
["R001264410","廣田　寧孝","３級","ヒロタ　ヤスタカ","男性","S審判","大分県"]
["R001260070","廣戸　誠一","３級","ヒロト　セイイチ","男性","S審判","大分県"]
["R010376332","深津　弘毅","３級","フカヅ　コウキ","男性","S審判","大分県"]
["R009197691","深堀　祥司","３級","フカホリ　ショウジ","男性","S審判","大分県"]
["R010099458","福原　元希","３級","フクハラ　ゲンキ","男性","S審判","大分県"]
["R001264447","福元　研治","３級","フクモト　ケンジ","男性","S審判","大分県"]
["R010396500","藤井　健人","３級","フジイ　ケント","男性","S審判","大分県"]
["R008798183","藤田　和也","３級","フジタ　カズヤ","男性","S審判","大分県"]
["R008798217","藤本　勝爾","３級","フジモト　カツジ","男性","S審判","大分県"]
["R007753819","藤本　洋","３級","フジモト　ヒロシ","男性","S審判","大分県"]
["R007335288","藤原　大輔","３級","フジワラ　ダイスケ","男性","S審判","大分県"]
["R010027860","藤原　佑史朗","３級","フジワラ　ユウシロウ","男性","S審判","大分県"]
["R003421772","藤原　龍司","３級","フジワラ　リュウジ","男性","S審判","大分県"]
["R001264483","渕　辰雄","３級","フチ　タツオ","男性","S審判","大分県"]
["R004060189","古川　高","３級","フルカワ　タカシ","男性","S審判","大分県"]
["R001600205","古戸　雅崇","３級","フルト　マサタカ","男性","S審判","大分県"]
["R001264508","古畑　葵","３級","フルハタ　アオイ","男性","S審判","大分県"]
["R001264492","古畑　翼","３級","フルハタ　ツバサ","男性","S審判","大分県"]
["R005987050","星野　敦","３級","ホシノ　アツシ","男性","S審判","大分県"]
["R003351288","保月　寿智","３級","ホヅキ　トシアキ","男性","S審判","大分県"]
["R006112343","堀内　信敏","３級","ホリウチ　ノブトシ","男性","S審判","大分県"]
["R006574066","本田　和也","３級","ホンダ　カズヤ","男性","S審判","大分県"]
["R010120173","本多　太郎","３級","ホンダ　タロウ","男性","S審判","大分県"]
["R010127606","本戸　峰","３級","ホンド　ミネオ","男性","S審判","大分県"]
["R010540713","前川　綺輝","３級","マエカワ　アヤキ","男性","S審判","大分県"]
["R007003422","前田　篤史","３級","マエダ　トクフミ","男性","S審判","大分県"]
["R010512435","前田　裕哉","３級","マエダ　ユウヤ","男性","S審判","大分県"]
["R001260557","マガリェンス　リシャルドソン","３級","マガリェンス　リシャルドソン","男性","S審判","大分県"]
["R001264544","牧　和志","３級","マキ　カズシ","男性","S審判","大分県"]
["R007002733","柾木　洋平","３級","マサキ　ヨウヘイ","男性","S審判","大分県"]
["R010093436","松尾　達也","３級","マツオ　タツヤ","男性","S審判","大分県"]
["R004793816","松下　明史","３級","マツシタ　アキフミ","男性","S審判","大分県"]
["R004055479","松下　昌史","３級","マツシタ　マサフミ","男性","S審判","大分県"]
["R009546806","松下　稜河","３級","マツシタ　リヨウガ","男性","S審判","大分県"]
["R007335303","松田　稜","３級","マツダ　リョウ","男性","S審判","大分県"]
["R009408737","松原　亜衣","３級","マツバラ　アイ","女性","S審判","大分県"]
["R006220916","松原　慎也","３級","マツバラ　シンヤ","男性","S審判","大分県"]
["R010073975","松本　和也","３級","マツモト　カズヤ","男性","S審判","大分県"]
["R010540718","松本　徹平","３級","マツモト　テッペイ","男性","S審判","大分県"]
["R001264562","松本　光将","３級","マツモト　ミツマサ","男性","S審判","大分県"]
["R008481113","松山　和寛","３級","マツヤマ　カズヒロ","男性","S審判","大分県"]
["R006011372","松山　大二郎","３級","マツヤマ　ダイジロウ","男性","S審判","大分県"]
["R001264580","真鍋　裕一","３級","マナベ　ユウイチ","男性","S審判","大分県"]
["R008515535","丸尾　諭志","３級","マルオ　サトシ","男性","S審判","大分県"]
["R005405699","箕迫　雄介","３級","ミイサコ　ユウスケ","男性","S審判","大分県"]
["R010209402","三浦　龍一","３級","ミウラ　リュウイチ","男性","S審判","大分県"]
["R007003307","水口　裕太","３級","ミズグチ　ユウタ","女性","S審判","大分県"]
["R008174046","溝辺　宏輝","３級","ミゾベ　コウキ","男性","S審判","大分県"]
["R002917263","溝邊　祐幸","３級","ミゾベ　ヒロユキ","男性","S審判","大分県"]
["R001264605","御手洗　毅","３級","ミタライ　タケシ","男性","S審判","大分県"]
["R004793658","光根　明徳","３級","ミツネ　アキノリ","男性","S審判","大分県"]
["R001264669","美濃　誠","３級","ミノ　マコト","男性","S審判","大分県"]
["R004793764","三原　隼人","３級","ミハラ　ハヤト","男性","S審判","大分県"]
["R010306451","宮川　大志","３級","ミヤカワ　タイシ","男性","S審判","大分県"]
["R004112057","都　学志","３級","ミヤコ　サトシ","男性","S審判","大分県"]
["R001264687","宮迫　利範","３級","ミヤサコ　トシノリ","男性","S審判","大分県"]
["R004385495","宮﨑　隆史","３級","ミヤザキ　タカシ","男性","S審判","大分県"]
["R010099454","宮田　繁輝","３級","ミヤタ　シゲキ","男性","S審判","大分県"]
["R010444497","宮原　良介","３級","ミヤハラ　リョウスケ","男性","S審判","大分県"]
["R001252196","三好　美輝","３級","ミヨシ　ヨシテル","男性","S審判","大分県"]
["R010376894","向　拓磨","３級","ムコウ　タクマ","男性","S審判","大分県"]
["R010001968","宗岡　弦徳","３級","ムナオカ　ゲントク","男性","S審判","大分県"]
["R001264711","村上　一幸","３級","ムラカミ　カズユキ","男性","S審判","大分県"]
["R001265118","村上　貴志","３級","ムラカミ　タカシ","男性","S審判","大分県"]
["R003350854","毛藤　勇三","３級","モウトウ　ユウゾウ","男性","S審判","大分県"]
["R001252220","毛利　明博","３級","モウリ　アキヒロ","男性","S審判","大分県"]
["R007705326","用松　修平","３級","モチマツ　シュウヘイ","男性","S審判","大分県"]
["R008173861","本末　総治朗","３級","モトスエ　ソウジロウ","男性","S審判","大分県"]
["R002530851","本杉　拓也","３級","モトスギ　タクヤ","男性","S審判","大分県"]
["R010540719","本村　和也","３級","モトムラ　カズヤ","男性","S審判","大分県"]
["R010189258","森　健太","３級","モリ　ケンタ","男性","S審判","大分県"]
["R010027876","森　隆嗣","３級","モリ　リュウジ","男性","S審判","大分県"]
["R007002779","森下　洋一","３級","モリシタ　ヨウイチ","男性","S審判","大分県"]
["R008634636","森山　幸介","３級","モリヤマ　コウスケ","男性","S審判","大分県"]
["R001261398","森山　信浩","３級","モリヤマ　ノブヒロ","男性","S審判","大分県"]
["R008798457","薬師寺　翔","３級","ヤクシジ　ショウ","男性","S審判","大分県"]
["R008798314","薬師寺　亮太","３級","ヤクシジ　リョウタ","男性","S審判","大分県"]
["R010190754","八坂　柊","３級","ヤサカ　シュウ","男性","S審判","大分県"]
["R001264766","矢﨑　年勝","３級","ヤザキ　トシカツ","男性","S審判","大分県"]
["R001264775","屋敷　伴幸","３級","ヤシキ　トモユキ","男性","S審判","大分県"]
["R006093987","保田　薫","３級","ヤスダ　カオル","男性","S審判","大分県"]
["R005527308","柳井　孝則","３級","ヤナイ　タカノリ","男性","S審判","大分県"]
["R004793825","柳川　知也","３級","ヤナガワ　トモナリ","男性","S審判","大分県"]
["R001261477","柳本　剛","３級","ヤナギモト　タケシ","男性","S審判","大分県"]
["R009197594","柳元　哲哉","３級","ヤナギモト　テツヤ","男性","S審判","大分県"]
["R003972443","矢野　三千生","３級","ヤノ　ミチオ","男性","S審判","大分県"]
["R004747206","山　大祐","３級","ヤマ　ダイスケ","男性","S審判","大分県"]
["R001965713","山崎　和也","３級","ヤマサキ　カズヤ","男性","S審判","大分県"]
["R010240533","山﨑　典保","３級","ヤマサキ　ノリヤス","男性","S審判","大分県"]
["R010363046","山崎　雅人","３級","ヤマザキ　マサト","男性","S審判","大分県"]
["R006147145","山下　省二","３級","ヤマシタ　ショウジ","男性","S審判","大分県"]
["R007753606","山下　直一","３級","ヤマシタ　ナオカズ","男性","S審判","大分県"]
["R010189260","山下　泰明","３級","ヤマシタ　ヤスアキ","男性","S審判","大分県"]
["R010396589","山田　将来","３級","ヤマダ　マサキ","男性","S審判","大分県"]
["R004112011","山田　裕一","３級","ヤマダ　ユウイチ","男性","S審判","大分県"]
["R001252293","山中　早一郎","３級","ヤマナカ　ソウイチロウ","男性","S審判","大分県"]
["R001264809","山野内　哲朗","３級","ヤマノウチ　テツロウ","男性","S審判","大分県"]
["R005164358","山宮　俊寛","３級","ヤマミヤ　トシヒロ","男性","S審判","大分県"]
["R005603486","山本　篤","３級","ヤマモト　アツシ","男性","S審判","大分県"]
["R010189296","山本　和真","３級","ヤマモト　カズマ","男性","S審判","大分県"]
["R009581234","山本　翔平","３級","ヤマモト　ショウヘイ","男性","S審判","大分県"]
["R008626886","山本　真乃介","３級","ヤマモト　シンノスケ","男性","S審判","大分県"]
["R010281871","山本　青","３級","ヤマモト　ジョウ","男性","S審判","大分県"]
["R001252336","山本　貴志","３級","ヤマモト　タカシ","男性","S審判","大分県"]
["R010313746","山本　崇史","３級","ヤマモト　タカフミ","男性","S審判","大分県"]
["R003351093","山本　哲司","３級","ヤマモト　テツジ","男性","S審判","大分県"]
["R004111562","山本　悠司","３級","ヤマモト　ユージ","男性","S審判","大分県"]
["R001264836","幸　靖博","３級","ユキ　ヤスヒロ","男性","S審判","大分県"]
["R001261778","湯田　浩士","３級","ユダ　コウジ","男性","S審判","大分県"]
["R008515553","柚木　徹也","３級","ユルギ　テツヤ","男性","S審判","大分県"]
["R003421374","横山　解史","３級","ヨコヤマ　トキフミ","男性","S審判","大分県"]
["R010382662","吉賀　洸貴","３級","ヨシガ　コウキ","男性","S審判","大分県"]
["R001264854","吉田　栄治","３級","ヨシダ　エイジ","男性","S審判","大分県"]
["R003972665","吉田　大助","３級","ヨシダ　ダイスケ","男性","S審判","大分県"]
["R007090686","吉元　健太朗","３級","ヨシモト　ケンタロウ","男性","S審判","大分県"]
["R003421541","四元　厚次","３級","ヨツモト　コウジ","男性","S審判","大分県"]
["R001264872","脇　雄洋","３級","ワキ　カツヒロ","男性","S審判","大分県"]
["R006220378","和喜田　拓","３級","ワキタ　タク","男性","S審判","大分県"]
["R004386218","和才　幸司","３級","ワサイ　コウジ","男性","S審判","大分県"]
["R007757657","渡辺　敬亮","３級","ワタナベ　ケイスケ","男性","S審判","大分県"]
["R010113537","渡邉　鷹也","３級","ワタナベ　タカヤ","男性","S審判","大分県"]
["R010007794","渡邉　卓人","３級","ワタナベ　タクト","男性","S審判","大分県"]
["R001262111","渡辺　陽一郎","３級","ワタナベ　ヨウイチロウ","男性","S審判","大分県"]
["R001252390","渡里　賢人","３級","ワタリ　ケント","男性","S審判","大分県"]
["R007729070","和田　健一郎","３級","ワダ　ケンイチロウ","男性","S審判","大分県"]
["R001264890","和田　健二","３級","ワダ　ケンジ","男性","S審判","大分県"]
["R010090347","和田　行祐","３級","ワダ　コウスケ","男性","S審判","大分県"]
["R001869127","和田　浩","３級","ワダ　ヒロシ","男性","S審判","大分県"]
["R010352964","相澤　星空","４級","アイザワ　セナ","男性","S審判","大分県"]
["R010538349","藍島　司","４級","アイシマ　ツカサ","男性","S審判","大分県"]
["R010303870","相原　良哉","４級","アイバラ　リョウヤ","男性","S審判","大分県"]
["R010083876","相部　直輝","４級","アイベ　ナオキ","男性","S審判","大分県"]
["R010262588","青松　来樹","４級","アオマツ　ライキ","男性","S審判","大分県"]
["R010432641","青松　琉","４級","アオマツ　ルイ","男性","S審判","大分県"]
["R010120118","青山　義男","４級","アオヤマ　ヨシオ","男性","S審判","大分県"]
["R010189294","赤木　修二","４級","アカギ　シュウジ","男性","S審判","大分県"]
["R010448637","赤木　陽斗","４級","アカギ　ハルト","男性","S審判","大分県"]
["R010542183","赤坂　謙弥","４級","アカサカ　ケンヤ","男性","S審判","大分県"]
["R010396550","赤田　椋","４級","アカダ　リョウ","男性","S審判","大分県"]
["R001252947","赤星　勝","４級","アカホシ　マサル","男性","S審判","大分県"]
["R010538396","赤峰　功己","４級","アカミネ　イサミ","男性","S審判","大分県"]
["R008174028","赤嶺　一宇","４級","アカミネ　カズタカ","男性","S審判","大分県"]
["R010542186","赤峰　一弥","４級","アカミネ　カズヤ","男性","S審判","大分県"]
["R010467250","赤嶺　翔哉","４級","アカミネ　ショウヤ","男性","S審判","大分県"]
["R010093427","赤峯　慎太郎","４級","アカミネ　シンタロウ","男性","S審判","大分県"]
["R010445855","赤嶺　瞭","４級","アカミネ　リョウ","男性","S審判","大分県"]
["R010396556","阿賀　匠","４級","アガ　タクミ","男性","S審判","大分県"]
["R010386813","秋月　来望","４級","アキヅキ　クルミ","女性","S審判","大分県"]
["R005603884","秋月　将吾","４級","アキヅキ　ショウゴ","男性","S審判","大分県"]
["R001254990","朝山　睦夫","４級","アサヤマ　ムツオ","男性","S審判","大分県"]
["R010538302","麻生　元太","４級","アソウ　ゲンタ","男性","S審判","大分県"]
["R010538351","麻生　政裕","４級","アソウ　マサヒロ","男性","S審判","大分県"]
["R010001949","麻生　凜太郎","４級","アソウ　リンタロウ","男性","S審判","大分県"]
["R010467586","足立　桜太郎","４級","アダチ　オウタロウ","男性","S審判","大分県"]
["R010449911","安達　健太","４級","アダチ　ケンタ","男性","S審判","大分県"]
["R010538347","安達　隼平","４級","アダチ　シュンペイ","男性","S審判","大分県"]
["R010376316","安達　勉","４級","アダチ　ツトム","男性","S審判","大分県"]
["R010538384","足立　悠真","４級","アダチ　ユウマ","男性","S審判","大分県"]
["R010467631","足立　陸矩","４級","アダチ　リク","男性","S審判","大分県"]
["R010391961","穴井　康太","４級","アナイ　コウタ","男性","S審判","大分県"]
["R010281862","阿南　理奈","４級","アナミ　リナ","女性","S審判","大分県"]
["R010539283","穴見　倫太郎","４級","アナミ　リンタロウ","男性","S審判","大分県"]
["R010540699","阿南　幸輝","４級","アナン　コウキ","男性","S審判","大分県"]
["R010376330","阿南　広太朗","４級","アナン　コウタロウ","男性","S審判","大分県"]
["R010388048","阿部　佑京","４級","アベ　ウキョウ","男性","S審判","大分県"]
["R010539271","阿部　開世","４級","アベ　カイセイ","男性","S審判","大分県"]
["R010093439","阿部　和明","４級","アベ　カズアキ","男性","S審判","大分県"]
["R010376299","阿部　斡汰","４級","アベ　カンタ","男性","S審判","大分県"]
["R010396564","阿部　凱斗","４級","アベ　ガイト","男性","S審判","大分県"]
["R010396552","阿部　賢次","４級","アベ　ケンジ","男性","S審判","大分県"]
["R010167792","安部　航生","４級","アベ　コウキ","男性","S審判","大分県"]
["R010538373","阿部　航大","４級","アベ　コウダイ","男性","S審判","大分県"]
["R001253344","阿部　哲士","４級","アベ　サトシ","男性","S審判","大分県"]
["R010540696","安部　仁太","４級","アベ　ジンタ","男性","S審判","大分県"]
["R010027824","安部　太貴","４級","アベ　タイキ","男性","S審判","大分県"]
["R001253326","阿部　孝之","４級","アベ　タカユキ","男性","S審判","大分県"]
["R010376264","阿部　年男","４級","アベ　トシオ","男性","S審判","大分県"]
["R010167738","安倍　俊之","４級","アベ　トシユキ","男性","S審判","大分県"]
["R010445852","阿部　那紀","４級","アベ　トモキ","男性","S審判","大分県"]
["R010167799","安倍　虎ノ介","４級","アベ　トラノスケ","男性","S審判","大分県"]
["R010538320","阿部　渚","４級","アベ　ナギサ","男性","S審判","大分県"]
["R010549370","安部　美優","４級","アベ　ミユウ","女性","S審判","大分県"]
["R010314829","安部　湧紀","４級","アベ　ユウキ","男性","S審判","大分県"]
["R010259438","安部　陸翔","４級","アベ　リクト","男性","S審判","大分県"]
["R010415886","阿部　涼","４級","アベ　リョウ","男性","S審判","大分県"]
["R010350226","荒川　幸大","４級","アラカワ　コウタ","男性","S審判","大分県"]
["R010542167","荒金　洋一","４級","アラガネ　ヒロカズ","男性","S審判","大分県"]
["R001253423","荒巻　成志","４級","アラマキ　シゲユキ","男性","S審判","大分県"]
["R008798165","荒巻　恭貴","４級","アラマキ　ヤスタカ","男性","S審判","大分県"]
["R010552543","新本　崇翔","４級","アラモト　タカト","男性","S審判","大分県"]
["R007002715","有門　寿","４級","アリカド　ヒサシ","男性","S審判","大分県"]
["R010189315","有須田　和宏","４級","アリスダ　カズヒロ","男性","S審判","大分県"]
["R010538332","有田　祥太朗","４級","アリタ　ショウタロウ","男性","S審判","大分県"]
["R010396506","有田　伸司","４級","アリタ　シンジ","男性","S審判","大分県"]
["R010123024","有田　利広","４級","アリタ　トシヒロ","男性","S審判","大分県"]
["R010445844","有田　陽翔","４級","アリタ　ハルト","男性","S審判","大分県"]
["R010376343","有次　奏太朗","４級","アリツグ　ソウタロウ","男性","S審判","大分県"]
["R010519836","有馬　綾音","４級","アリマ　アヤネ","女性","S審判","大分県"]
["R006125763","有村　光史","４級","アリムラ　コウジ","男性","S審判","大分県"]
["R010552552","有村　連空瑠","４級","アリムラ　レアル","男性","S審判","大分県"]
["R010448639","有吉　敦弘","４級","アリヨシ　アツヒロ","男性","S審判","大分県"]
["R010189282","安達　羽海","４級","アンダチ　ウミ","女性","S審判","大分県"]
["R010214574","安達　巧馬","４級","アンダチ　タクマ","男性","S審判","大分県"]
["R010356117","安達　帆海","４級","アンダチ　ホノミ","女性","S審判","大分県"]
["R010546267","安藤　歩樹","４級","アンドウ　イブキ","男性","S審判","大分県"]
["R010243643","安道　健斗","４級","アンドウ　ケント","男性","S審判","大分県"]
["R007959158","安東　弘貴","４級","アンドウ　コウキ","男性","S審判","大分県"]
["R010357150","安藤　幸志郎","４級","アンドウ　コウシロウ","男性","S審判","大分県"]
["R010047303","安東　湖楠","４級","アンドウ　コナン","男性","S審判","大分県"]
["R010376281","安藤　繁","４級","アンドウ　シゲル","男性","S審判","大分県"]
["R010432650","安東　慎平","４級","アンドウ　シンペイ","男性","S審判","大分県"]
["R010453595","安東　壮大","４級","アンドウ　ソウダイ","男性","S審判","大分県"]
["R010243657","安藤　大河","４級","アンドウ　タイガ","男性","S審判","大分県"]
["R010453596","安藤　尊司","４級","アンドウ　タカジ","男性","S審判","大分県"]
["R010538292","安藤　卓也","４級","アンドウ　タクヤ","男性","S審判","大分県"]
["R010539276","安東　龍秀","４級","アンドウ　タツヒデ","男性","S審判","大分県"]
["R010444509","安東　翼輝","４級","アンドウ　ツバキ","男性","S審判","大分県"]
["R010352995","安東　恭範","４級","アンドウ　ヤスノリ","男性","S審判","大分県"]
["R010161902","安藤　幸歩","４級","アンドウ　ユキホ","女性","S審判","大分県"]
["R010416216","安藤　梨愛","４級","アンドウ　リア","女性","S審判","大分県"]
["R010538315","安藤　綾太","４級","アンドウ　リョウタ","男性","S審判","大分県"]
["R002530383","阿武　志郎","４級","アンノ　シロウ","男性","S審判","大分県"]
["R010540070","安養寺　伸也","４級","アンヨウジ　シンヤ","男性","S審判","大分県"]
["R001253584","飯倉　洋介","４級","イイクラ　ヨウスケ","男性","S審判","大分県"]
["R010538371","伊井野　大翔","４級","イイノ　ヒロト","男性","S審判","大分県"]
["R010281883","飯干　遼飛","４級","イイホシ　リョウト","男性","S審判","大分県"]
["R010352961","五十川　大雅","４級","イカガワ　タイガ","男性","S審判","大分県"]
["R010189286","伊賀　隆博","４級","イガ　タカヒロ","男性","S審判","大分県"]
["R010347366","池上　剛司","４級","イケガミ　ツヨシ","男性","S審判","大分県"]
["R006848873","池田　敏明","４級","イケダ　トシアキ","男性","S審判","大分県"]
["R010391943","池田　洋明","４級","イケダ　ヒロアキ","男性","S審判","大分県"]
["R005603662","池田　雅俊","４級","イケダ　マサトシ","男性","S審判","大分県"]
["R008649124","池田　愛都","４級","イケダ　マナト","男性","S審判","大分県"]
["R010347369","池田　未來都","４級","イケダ　ミクト","男性","S審判","大分県"]
["R006937229","池田　航","４級","イケダ　ワタル","男性","S審判","大分県"]
["R010396532","池永　壮佑","４級","イケナガ　ソウスケ","男性","S審判","大分県"]
["R010390444","池邉　楓","４級","イケベ　カエデ","男性","S審判","大分県"]
["R010189318","池邉　晋","４級","イケベ　シン","男性","S審判","大分県"]
["R010356113","池辺　青那","４級","イケベ　セナ","男性","S審判","大分県"]
["R010281879","池辺　雅也","４級","イケベ　マサヤ","男性","S審判","大分県"]
["R010448939","池部　愛和","４級","イケベ　マナト","男性","S審判","大分県"]
["R010263778","伊﨑　陸人","４級","イサキ　リクト","男性","S審判","大分県"]
["R010347367","諫山　鮎斗","４級","イサヤマ　アユト","男性","S審判","大分県"]
["R010538324","諌山　巧","４級","イサヤマ　タク","男性","S審判","大分県"]
["R001253681","石井　重人","４級","イシイ　シゲト","男性","S審判","大分県"]
["R010467695","石井　綾汰","４級","イシイ　リョウタ","男性","S審判","大分県"]
["R010391913","石井　伶弥","４級","イシイ　レイヤ","男性","S審判","大分県"]
["R010546324","石川　凰太","４級","イシカワ　オウタ","男性","S審判","大分県"]
["R009198399","石川　誠司","４級","イシカワ　セイジ","男性","S審判","大分県"]
["R010352993","石川　高光","４級","イシカワ　タカミツ","男性","S審判","大分県"]
["R010248588","石川　嶺瑠","４級","イシカワ　レアル","男性","S審判","大分県"]
["R010538393","石﨑　蒼大","４級","イシザキ　ソウタ","男性","S審判","大分県"]
["R010539281","石田　亮太","４級","イシダ　リョウタ","男性","S審判","大分県"]
["R001253751","石松　大輔","４級","イシマツ　ダイスケ","男性","S審判","大分県"]
["R010540725","石丸　皇","４級","イシマル　コウ","男性","S審判","大分県"]
["R010281873","石本　和廣","４級","イシモト　カズヒロ","男性","S審判","大分県"]
["R010546289","石本　知之介","４級","イシモト　シノスケ","男性","S審判","大分県"]
["R010214555","石本　渉","４級","イシモト　ワタル","男性","S審判","大分県"]
["R010415906","泉　颯飛","４級","イズミ　ソウト","男性","S審判","大分県"]
["R004714712","和泉　宜幸","４級","イズミ　ノブユキ","男性","S審判","大分県"]
["R010552538","和泉　宏幸","４級","イズミ　ヒロユキ","男性","S審判","大分県"]
["R010376313","泉　佑史朗","４級","イズミ　ユウシロウ","男性","S審判","大分県"]
["R010540697","板井　愛之助","４級","イタイ　アイノスケ","男性","S審判","大分県"]
["R010007837","板井　裕樹","４級","イタイ　ヒロキ","男性","S審判","大分県"]
["R010451966","市川　大馳","４級","イチカワ　ダイチ","男性","S審判","大分県"]
["R010552568","市川　嘉樹","４級","イチカワ　ヨシキ","男性","S審判","大分県"]
["R010255165","市原　佳典","４級","イチハラ　ケイスケ","男性","S審判","大分県"]
["R010546269","市原　龍生","４級","イチハラ　ルイ","男性","S審判","大分県"]
["R010189278","一丸　顕範","４級","イチマル　アキノリ","男性","S審判","大分県"]
["R010016111","一万田　陸","４級","イチマンダ　リク","男性","S審判","大分県"]
["R007090808","一法師　直喜","４級","イッポウシ　ナオキ","男性","S審判","大分県"]
["R010261617","井手　智貴","４級","イデ　トモキ","男性","S審判","大分県"]
["R010453585","出田　竣","４級","イデタ　シュン","男性","S審判","大分県"]
["R008797926","出田　武","４級","イデタ　タケシ","男性","S審判","大分県"]
["R010281846","伊藤　魁","４級","イトウ　カイ","男性","S審判","大分県"]
["R010259419","伊東　健一","４級","イトウ　ケンイチ","男性","S審判","大分県"]
["R010376272","伊藤　賢治","４級","イトウ　ケンジ","男性","S審判","大分県"]
["R010214557","伊東　健太郎","４級","イトウ　ケンタロウ","男性","S審判","大分県"]
["R010281832","伊藤　浩介","４級","イトウ　コウスケ","男性","S審判","大分県"]
["R010546276","伊東　将星","４級","イトウ　ショウセイ","男性","S審判","大分県"]
["R007959699","伊東　昇太郎","４級","イトウ　ショウタロウ","男性","S審判","大分県"]
["R010386818","伊藤　聖菜","４級","イトウ　セナ","女性","S審判","大分県"]
["R010243640","伊東　蒼馬","４級","イトウ　ソウマ","男性","S審判","大分県"]
["R010448920","伊藤　竜希","４級","イトウ　タツキ","男性","S審判","大分県"]
["R010448642","伊藤　光琉","４級","イトウ　ヒカル","男性","S審判","大分県"]
["R009408898","伊藤　秀征","４級","イトウ　ヒデマサ","男性","S審判","大分県"]
["R010416225","伊藤　大翔","４級","イトウ　ヒロト","男性","S審判","大分県"]
["R010281816","糸永　泰樹","４級","イトナガ　タイキ","男性","S審判","大分県"]
["R010539934","稲熊　勇成","４級","イナグマ　ユウセイ","男性","S審判","大分県","福岡県"]
["R010390419","稲吉　椋斗","４級","イナヨシ　リョウト","男性","S審判","大分県"]
["R010546317","犬塚　惺哉","４級","イヌツカ　セイヤ","男性","S審判","大分県"]
["R008523312","井上　海","４級","イノウエ　カイ","男性","S審判","大分県"]
["R010067951","井上　彩","４級","イノウエ　サヤカ","女性","S審判","大分県"]
["R010347361","井上　太凱","４級","イノウエ　タイガ","男性","S審判","大分県"]
["R010243651","井上　拓哉","４級","イノウエ　タクヤ","男性","S審判","大分県"]
["R010141818","井上　直之","４級","イノウエ　ナオユキ","男性","S審判","大分県"]
["R010396596","井上　凌汰","４級","イノウエ　リョウタ","男性","S審判","大分県"]
["R010376263","井上　航","４級","イノウエ　ワタル","男性","S審判","大分県"]
["R010396526","猪原　虹輝","４級","イハラ　コウキ","男性","S審判","大分県"]
["R010465598","井福　晃紀","４級","イフク　コウキ","男性","S審判","大分県"]
["R010451963","今井　優人","４級","イマイ　ユウト","男性","S審判","大分県"]
["R010538348","今田　優太","４級","イマダ　ユウタ","男性","S審判","大分県"]
["R010542169","今富　康平","４級","イマトミ　コウヘイ","男性","S審判","大分県"]
["R010386817","今村　咲羽","４級","イマムラ　サワ","女性","S審判","大分県"]
["R010141834","今村　蓮","４級","イマムラ　レン","男性","S審判","大分県"]
["R006220624","今本　展也","４級","イマモト　ノブヤ","男性","S審判","大分県"]
["R010444518","今山　碧雪","４級","イマヤマ　アユキ","男性","S審判","大分県"]
["R010354819","井元　禅","４級","イモト　ゼン","男性","S審判","大分県"]
["R010448932","岩男　柊人","４級","イワオ　シュウト","男性","S審判","大分県"]
["R010445832","岩尾　槙之助","４級","イワオ　シンノスケ","男性","S審判","大分県"]
["R010465585","岩男　冬喜","４級","イワオ　フユキ","男性","S審判","大分県"]
["R010352951","岩尾　誠","４級","イワオ　マコト","男性","S審判","大分県"]
["R010056098","岩尾　勇吾","４級","イワオ　ユウゴ","男性","S審判","大分県"]
["R010538374","岩坂　遥斗","４級","イワサカ　ハルト","男性","S審判","大分県"]
["R010465578","岩坂　浩行","４級","イワサカ　ヒロユキ","男性","S審判","大分県"]
["R010100663","岩崎　晋也","４級","イワサキ　シンヤ","男性","S審判","大分県"]
["R010465595","岩崎　俊","４級","イワサキ　スグル","男性","S審判","大分県"]
["R001254185","岩崎　利勝","４級","イワサキ　トシカツ","男性","S審判","大分県"]
["R007959176","岩田　進","４級","イワタ　ススム","男性","S審判","大分県"]
["R010376292","岩田　拓也","４級","イワタ　タクヤ","男性","S審判","大分県"]
["R010396598","岩田　和海","４級","イワタ　ノドカ","女性","S審判","大分県"]
["R010453588","岩田　晃輝","４級","イワタ　ミツキ","男性","S審判","大分県"]
["R010306436","岩田　優佑","４級","イワタ　ユウスケ","男性","S審判","大分県"]
["R010007818","岩戸　敦史","４級","イワト　アツシ","男性","S審判","大分県"]
["R010189261","岩永　和馬","４級","イワナガ　カズマ","男性","S審判","大分県"]
["R010376282","岩野　貴文","４級","イワノ　タカフミ","男性","S審判","大分県"]
["R010248570","岩丸　英治","４級","イワマル　エイジ","男性","S審判","大分県"]
["R010546284","岩丸　陽斗","４級","イワマル　ハルト","男性","S審判","大分県"]
["R006314464","岩丸　博季","４級","イワマル　ヒロキ","男性","S審判","大分県"]
["R010432625","石見　祐人","４級","イワミ　ユウト","男性","S審判","大分県"]
["R010448635","岩本　好誠","４級","イワモト　コウセイ","男性","S審判","大分県"]
["R010432609","岩本　将也","４級","イワモト　マサヤ","男性","S審判","大分県"]
["R004111410","上尾　雅彰","４級","ウエオ　マサアキ","男性","S審判","大分県"]
["R008480956","植垣　秀人","４級","ウエガキ　ヒデト","男性","S審判","大分県"]
["R010159752","植木　莉香","４級","ウエキ　リカ","女性","S審判","大分県"]
["R010391923","上栗　一将","４級","ウエクリ　カズマサ","男性","S審判","大分県"]
["R010453593","上園　大和","４級","ウエゾノ　ヤマト","男性","S審判","大分県"]
["R008797944","上田　晃","４級","ウエダ　アキラ","男性","S審判","大分県"]
["R010248034","上田　翔聖","４級","ウエダ　ショウセイ","男性","S審判","大分県"]
["R010552531","上田　龍汰","４級","ウエダ　リュウタ","男性","S審判","大分県"]
["R010552551","上野　海翔","４級","ウエノ　カイト","男性","S審判","大分県"]
["R001251133","上野　貴士","４級","ウエノ　タカシ","男性","S審判","大分県"]
["R010386808","上野　仁胡","４級","ウエノ　ニコ","女性","S審判","大分県"]
["R010313761","上野　亮司","４級","ウエノ　リョウジ","男性","S審判","大分県"]
["R010552534","上野　蓮","４級","ウエノ　レン","男性","S審判","大分県"]
["R010354664","上村　俊介","４級","ウエムラ　シュンスケ","男性","S審判","大分県"]
["R007959617","上屋　守","４級","ウエヤ　マモル","男性","S審判","大分県"]
["R010432630","臼井　宏亮","４級","ウスイ　コウスケ","男性","S審判","大分県"]
["R010448923","歌　好陸","４級","ウタ　コノム","男性","S審判","大分県"]
["R010448252","内田　花音","４級","ウチダ　カノン","女性","S審判","大分県"]
["R007728549","内田　公夫","４級","ウチダ　キミオ","男性","S審判","大分県"]
["R010542199","内田　真悟","４級","ウチダ　シンゴ","男性","S審判","大分県"]
["R010396563","内田　颯太","４級","ウチダ　ソウタ","男性","S審判","大分県"]
["R010552535","内田　徹","４級","ウチダ　トオル","男性","S審判","大分県"]
["R010549367","内田　真緒","４級","ウチダ　マオ","女性","S審判","大分県"]
["R010396587","内田　結也","４級","ウチダ　ユウヤ","男性","S審判","大分県"]
["R010376341","内海　優斗","４級","ウツミ　ユウト","男性","S審判","大分県"]
["R010391966","有働　洋匡","４級","ウドウ　ヒロタダ","男性","S審判","大分県"]
["R010542180","宇野　駿佑","４級","ウノ　シュンスケ","男性","S審判","大分県"]
["R010313767","梅木　裕斗","４級","ウメキ　ユウト","男性","S審判","大分県"]
["R010214530","梅木　悠也","４級","ウメキ　ユウヤ","男性","S審判","大分県"]
["R010120178","梅田　竜一","４級","ウメダ　リュウイチ","男性","S審判","大分県"]
["R010128054","梅津　瑠暉","４級","ウメヅ　ルキ","男性","S審判","大分県"]
["R010448930","梅本　琉成","４級","ウメモト　リュウセイ","男性","S審判","大分県"]
["R006093729","浦部　信哉","４級","ウラベ　シンヤ","男性","S審判","大分県"]
["R010357998","浦邊　剛史","４級","ウラベ　ツヨシ","男性","S審判","大分県"]
["R010352945","瓜生　一裕","４級","ウリウ　カズヒロ","男性","S審判","大分県"]
["R001254431","漆間　大士","４級","ウルマ　ダイシ","男性","S審判","大分県"]
["R010542179","永路　拓実","４級","エイロ　タクミ","男性","S審判","大分県"]
["R010391964","江頭　京佑","４級","エガシラ　キョウスケ","男性","S審判","大分県"]
["R010255169","江頭　徳也","４級","エガシラ　ノリヤ","男性","S審判","大分県"]
["R010538307","江上　颯太","４級","エガミ　ソウタ","男性","S審判","大分県"]
["R010120137","江上　智啓","４級","エガミ　トモヒロ","男性","S審判","大分県"]
["R010538296","江川　題磯","４級","エガワ　ダイキ","男性","S審判","大分県"]
["R010391938","江口　大貴","４級","エグチ　ダイキ","男性","S審判","大分県"]
["R010546298","江口　光翔","４級","エグチ　ヒロト","男性","S審判","大分県"]
["R010468356","江口　烈史","４級","エグチ　ヤスフミ","男性","S審判","大分県"]
["R010002119","江隈　健斗","４級","エグマ　ケント","男性","S審判","大分県"]
["R010445849","江島　迅人","４級","エシマ　ハヤト","男性","S審判","大分県"]
["R010169060","江島　礼奈斗","４級","エシマ　レナト","男性","S審判","大分県"]
["R010538368","衛藤　朱翔","４級","エトウ　アヤト","男性","S審判","大分県"]
["R010552544","衛藤　庵","４級","エトウ　イオリ","男性","S審判","大分県"]
["R004653305","衛藤　和憲","４級","エトウ　カズノリ","男性","S審判","大分県"]
["R008634274","江藤　恭平","４級","エトウ　キョウヘイ","男性","S審判","大分県"]
["R010444502","衞藤　公助","４級","エトウ　コウスケ","男性","S審判","大分県"]
["R010396518","江藤　真一","４級","エトウ　シンイチ","男性","S審判","大分県"]
["R010552564","恵藤　蒼太","４級","エトウ　ソウタ","男性","S審判","大分県"]
["R010465589","江藤　貴司","４級","エトウ　タカシ","男性","S審判","大分県"]
["R010467579","江藤　大智","４級","エトウ　ダイチ","男性","S審判","大分県"]
["R007959796","衛藤　智成","４級","エトウ　トモナリ","男性","S審判","大分県"]
["R010393994","衛藤　七海","４級","エトウ　ナナミ","女性","S審判","大分県"]
["R007728983","衛藤　秀高","４級","エトウ　ヒデタカ","男性","S審判","大分県"]
["R010444516","江藤　璃大","４級","エトウ　リオ","男性","S審判","大分県"]
["R010432648","衛藤　亮佑","４級","エトウ　リョウスケ","男性","S審判","大分県"]
["R010391940","江藤　蓮","４級","エトウ　レン","男性","S審判","大分県"]
["R010538319","江戸　利樹","４級","エド　リキ","男性","S審判","大分県"]
["R010354795","遠藤　翔大","４級","エンドウ　ショウタ","男性","S審判","大分県"]
["R003350881","遠藤　朝春","４級","エンドウ　トモハル","男性","S審判","大分県"]
["R010352962","遠藤　優翔","４級","エンドウ　ユウト","男性","S審判","大分県"]
["R010432619","遠藤　之仁","４級","エンドウ　ユキヒト","男性","S審判","大分県"]
["R001254583","大芦　佳宏","４級","オオアシ　ヨシヒロ","男性","S審判","大分県"]
["R010189313","大石　周弥","４級","オオイシ　シュウヤ","男性","S審判","大分県"]
["R010313760","大石　琢斗","４級","オオイシ　タクト","男性","S審判","大分県"]
["R010027883","大石　拓也","４級","オオイシ　タクヤ","男性","S審判","大分県"]
["R010027821","大石　正雄","４級","オオイシ　マサオ","男性","S審判","大分県"]
["R010538325","大石　雅宣","４級","オオイシ　マサノリ","男性","S審判","大分県"]
["R010453598","大川内　太陸","４級","オオカワウチ　タク","男性","S審判","大分県"]
["R005430163","大久保　広紀","４級","オオクボ　ヒロノリ","男性","S審判","大分県"]
["R010351382","大久保　優心","４級","オオクボ　ユウシン","男性","S審判","大分県"]
["R010546336","大久保　律輝","４級","オオクボ　リツキ","男性","S審判","大分県"]
["R010538299","大倉　舜佑","４級","オオクラ　シュンスケ","男性","S審判","大分県"]
["R010542173","大島　和暖","４級","オオシマ　カノン","男性","S審判","大分県"]
["R010465581","大島　孝太","４級","オオシマ　コウタ","男性","S審判","大分県"]
["R010540701","太田　陽己","４級","オオタ　ハルキ","男性","S審判","大分県"]
["R010248567","太田　祐希","４級","オオタ　ユウキ","男性","S審判","大分県"]
["R010159132","大谷　幸希","４級","オオタニ　コウキ","男性","S審判","大分県"]
["R010388043","大谷　宗太郎","４級","オオタニ　ソウタロウ","男性","S審判","大分県"]
["R010465580","大津　俊一","４級","オオツ　シュンイチ","男性","S審判","大分県"]
["R010376317","大津　匠司","４級","オオツ　ショウジ","男性","S審判","大分県"]
["R010396538","大塚　紀彰","４級","オオツカ　キショウ","男性","S審判","大分県"]
["R010167737","大塚　誠也","４級","オオツカ　セイヤ","男性","S審判","大分県"]
["R005528130","大塚　丈司","４級","オオツカ　タケシ","男性","S審判","大分県"]
["R010281805","大塚　雅基","４級","オオツカ　マサキ","男性","S審判","大分県"]
["R010415890","大塚　涼平","４級","オオツカ　リョウヘイ","男性","S審判","大分県"]
["R010159757","大津留　康代","４級","オオツル　ヤスヨ","女性","S審判","大分県"]
["R010546288","大戸　朝陽","４級","オオト　アサヒ","男性","S審判","大分県"]
["R010243638","大友　開晴","４級","オオトモ　カイセイ","男性","S審判","大分県"]
["R010314820","大友　尋平","４級","オオトモ　ジンペイ","男性","S審判","大分県"]
["R010390431","大友　響姫","４級","オオトモ　ヒビキ","女性","S審判","大分県"]
["R010465607","大野　春佑","４級","オオノ　シュンスケ","男性","S審判","大分県"]
["R010538317","大原　光人","４級","オオハラ　ヒロト","男性","S審判","大分県"]
["R010444521","大庭　弘暉","４級","オオバ　コウキ","男性","S審判","大分県"]
["R010538289","大場　将公","４級","オオバ　マサヒロ","男性","S審判","大分県"]
["R010546281","大室　響","４級","オオムロ　ヒビキ","男性","S審判","大分県"]
["R010546319","大森　宗樹","４級","オオモリ　ソウジュ","男性","S審判","大分県"]
["R010214576","大屋　楓真","４級","オオヤ　フウマ","男性","S審判","大分県"]
["R010214611","岡　正一郎","４級","オカ　ショウイチロウ","男性","S審判","大分県"]
["R010549366","岡　誉","４級","オカ　ホマレ","女性","S審判","大分県"]
["R010539277","岡崎　碧","４級","オカザキ　アオイ","男性","S審判","大分県"]
["R010538342","岡崎　広夢","４級","オカザキ　ヒロム","男性","S審判","大分県"]
["R010255182","岡田　一輝","４級","オカダ　カズキ","男性","S審判","大分県"]
["R010083849","岡田　幸太郎","４級","オカダ　コウタロウ","男性","S審判","大分県"]
["R005987412","岡田　隆行","４級","オカダ　タカユキ","男性","S審判","大分県"]
["R010538361","岡田　凜空","４級","オカダ　リク","男性","S審判","大分県"]
["R005603200","岡田　涼平","４級","オカダ　リョウヘイ","男性","S審判","大分県"]
["R010552577","岡野　直人","４級","オカノ　ナオト","男性","S審判","大分県"]
["R010391965","岡野　凜平","４級","オカノ　リンペイ","男性","S審判","大分県"]
["R010248029","岡部　純大","４級","オカベ　ジュンダイ","男性","S審判","大分県"]
["R010391957","岡部　巧武","４級","オカベ　タクム","男性","S審判","大分県"]
["R010513151","岡村　勇輝","４級","オカムラ　ユウキ","男性","S審判","大分県"]
["R010538298","岡本　和也","４級","オカモト　カズヤ","男性","S審判","大分県"]
["R010538377","岡本　健司","４級","オカモト　ケンジ","男性","S審判","大分県"]
["R010546287","岡本　颯真","４級","オカモト　ソウマ","男性","S審判","大分県"]
["R010453578","岡本　登揮","４級","オカモト　トウキ","男性","S審判","大分県"]
["R010376290","岡本　英明","４級","オカモト　ヒデアキ","男性","S審判","大分県"]
["R010538294","岡本　優","４級","オカモト　ユウ","男性","S審判","大分県"]
["R010214449","岡本　陸","４級","オカモト　リク","男性","S審判","大分県"]
["R010538549","緒方　謙伍","４級","オガタ　ケンゴ","男性","S審判","大分県"]
["R010415912","小川　杏汰","４級","オガワ　キョウタ","男性","S審判","大分県"]
["R010542213","小川　騎立","４級","オガワ　キリュウ","男性","S審判","大分県"]
["R006901570","小川　健二","４級","オガワ　ケンジ","男性","S審判","大分県"]
["R010255177","小川　航平","４級","オガワ　コウヘイ","男性","S審判","大分県"]
["R010465920","小川　遥暉","４級","オガワ　ハルキ","男性","S審判","大分県"]
["R010391951","荻本　翔","４級","オギモト　ショウ","男性","S審判","大分県"]
["R010314808","於久　流絆晟","４級","オク　ルキア","男性","S審判","大分県"]
["R010376269","奥薗　将太","４級","オクゾノ　ショウタ","男性","S審判","大分県"]
["R010351378","奥田　翔太","４級","オクダ　ショウタ","男性","S審判","大分県"]
["R010546302","奥田　哲平","４級","オクダ　テッペイ","男性","S審判","大分県"]
["R001254972","奥野　真一郎","４級","オクノ　シンイチロウ","男性","S審判","大分県"]
["R010189264","小栗　貴成","４級","オグリ　タカナリ","男性","S審判","大分県"]
["R010415897","長田　知樹","４級","オサダ　トモキ","男性","S審判","大分県"]
["R010099447","小澤　剛史","４級","オザワ　タケフミ","男性","S審判","大分県"]
["R010501273","押田　卓","４級","オシダ　スグル","男性","S審判","大分県"]
["R009546064","小田　邦昭","４級","オダ　クニアキ","男性","S審判","大分県"]
["R010167750","小田　晴日","４級","オダ　ハルヒ","男性","S審判","大分県"]
["R010465611","小田巻　裕二","４級","オダマキ　ユウジ","男性","S審判","大分県"]
["R010358202","小野　敦司","４級","オノ　アツジ","男性","S審判","大分県"]
["R010546323","小野　奏音","４級","オノ　カナト","男性","S審判","大分県"]
["R010549371","小野　華凜","４級","オノ　カリン","女性","S審判","大分県"]
["R010538304","小野　柑太","４級","オノ　カンタ","男性","S審判","大分県"]
["R004385936","小野　耕一","４級","オノ　コウイチ","男性","S審判","大分県"]
["R010214597","小野　煌平","４級","オノ　コウヘイ","男性","S審判","大分県"]
["R010281854","小野　翔希","４級","オノ　ショウキ","男性","S審判","大分県"]
["R010281828","小野　将司","４級","オノ　ショウジ","男性","S審判","大分県"]
["R010465619","小野　翔馬","４級","オノ　ショウマ","男性","S審判","大分県"]
["R010248584","小野　天海","４級","オノ　テンカ","男性","S審判","大分県"]
["R010388059","小野　翔希斗","４級","オノ　トキト","男性","S審判","大分県"]
["R010539289","小野　陽大","４級","オノ　ハルキ","男性","S審判","大分県"]
["R010538295","小野　輝","４級","オノ　ヒカル","男性","S審判","大分県"]
["R010313764","小野　仁志","４級","オノ　ヒトシ","男性","S審判","大分県"]
["R010120112","小野　広道","４級","オノ　ヒロミチ","男性","S審判","大分県"]
["R010093504","小野　裕希","４級","オノ　ユウキ","男性","S審判","大分県"]
["R010100673","小野　裕司","４級","オノ　ユウジ","男性","S審判","大分県"]
["R010467578","小野　悠太郎","４級","オノ　ユウタロウ","男性","S審判","大分県"]
["R010445846","小野　佑馬","４級","オノ　ユウマ","男性","S審判","大分県"]
["R010445830","小野　陽祐","４級","オノ　ヨウスケ","男性","S審判","大分県"]
["R010376315","小野　祥弘","４級","オノ　ヨシヒロ","男性","S審判","大分県"]
["R010354804","小野　龍ノ介","４級","オノ　リュウノスケ","男性","S審判","大分県"]
["R010539275","小野　羚稀","４級","オノ　レイキ","男性","S審判","大分県"]
["R010432633","小野　蓮央","４級","オノ　レオ","男性","S審判","大分県"]
["R010357148","小野　蓮斗","４級","オノ　レント","男性","S審判","大分県"]
["R010538329","小原　世楠","４級","オハラ　セナ","男性","S審判","大分県"]
["R010167812","小原　優斗","４級","オハラ　ユウト","男性","S審判","大分県"]
["R006574048","尾林　秀章","４級","オバヤシ　ヒデアキ","男性","S審判","大分県"]
["R010352968","尾本　想太","４級","オモト　ソウタ","男性","S審判","大分県"]
["R010363047","オン　ビョンフン","４級","オン　ビョンフン","男性","S審判","大分県"]
["R010388040","甲斐　照","４級","カイ　アキラ","男性","S審判","大分県"]
["R005164446","甲斐　一翠","４級","カイ　イッスイ","男性","S審判","大分県"]
["R005164613","甲斐　英治","４級","カイ　エイジ","男性","S審判","大分県"]
["R005987388","甲斐　直樹","４級","カイ　ナオキ","男性","S審判","大分県"]
["R006314455","甲斐　竜二","４級","カイ　リュウジ","男性","S審判","大分県"]
["R010391942","甲斐　龍成","４級","カイ　リュウセイ","男性","S審判","大分県"]
["R001255281","甲斐　亮介","４級","カイ　リョウスケ","男性","S審判","大分県"]
["R010214529","加賀　寿一","４級","カガ　トシカズ","男性","S審判","大分県"]
["R010262594","香川　航汰","４級","カガワ　コウタ","男性","S審判","大分県"]
["R010448236","香川　千璃","４級","カガワ　センリ","男性","S審判","大分県"]
["R010189343","香川　真弓","４級","カガワ　マユミ","女性","S審判","大分県"]
["R005987397","香川　豊","４級","カガワ　ユタカ","男性","S審判","大分県"]
["R010390414","垣内　太陽","４級","カキウチ　タイヨウ","男性","S審判","大分県"]
["R010552565","加隈　歩夢","４級","カクマ　アユム","男性","S審判","大分県"]
["R010465596","角谷　直樹","４級","カクヤ　ナオキ","男性","S審判","大分県"]
["R010347377","鹿毛　雅人","４級","カゲ　マサト","男性","S審判","大分県"]
["R009545913","笠村　大","４級","カサムラ　ヒロシ","男性","S審判","大分県"]
["R010214467","笠村　凜","４級","カサムラ　リン","女性","S審判","大分県"]
["R010007813","加治　周也","４級","カジ　シュウヤ","男性","S審判","大分県"]
["R001255342","梶川　正和","４級","カジカワ　マサカズ","男性","S審判","大分県"]
["R010281841","梶原　明空","４級","カジワラ　アス","男性","S審判","大分県"]
["R010007838","梶原　孝平","４級","カジワラ　コウヘイ","男性","S審判","大分県"]
["R010120174","梶原　規史","４級","カジワラ　ノリフミ","男性","S審判","大分県"]
["R010313766","片山　達郎","４級","カタヤマ　タツロウ","男性","S審判","大分県"]
["R008634593","片山　雄一","４級","カタヤマ　ユウイチ","男性","S審判","大分県"]
["R010214621","加田　真","４級","カダ　マコ","女性","S審判","大分県"]
["R010156504","勝木　翔也","４級","カツキ　ショウヤ","男性","S審判","大分県"]
["R010444517","香月　隆之介","４級","カツキ　リュウノスケ","男性","S審判","大分県"]
["R010167782","葛城　征吾","４級","カツラギ　セイゴ","男性","S審判","大分県"]
["R010465592","加藤　大樹","４級","カトウ　ダイキ","男性","S審判","大分県"]
["R010396549","加藤　晴久","４級","カトウ　ハルヒサ","男性","S審判","大分県"]
["R010448241","加藤　大","４級","カトウ　フトシ","男性","S審判","大分県"]
["R010468357","加藤　史章","４級","カトウ　フミアキ","男性","S審判","大分県"]
["R010552546","金江　徹平","４級","カナエ　テッペイ","男性","S審判","大分県"]
["R010538326","金丸　顕和","４級","カナマル　ケント","男性","S審判","大分県"]
["R010448925","金丸　大海","４級","カナマル　タイカイ","男性","S審判","大分県"]
["R010255162","金山　斗和","４級","カナヤマ　トワ","男性","S審判","大分県"]
["R010546300","金子　周太","４級","カネコ　シュウタ","男性","S審判","大分県"]
["R010465586","上江　啓太","４級","カミエ　ケイタ","男性","S審判","大分県"]
["R010540038","上城　司","４級","カミジョウ　ツカサ","男性","S審判","大分県"]
["R010027818","紙谷　昌弥","４級","カミタニ　マサヤ","男性","S審判","大分県"]
["R010542198","神原　和希","４級","カミハラ　カズキ","男性","S審判","大分県"]
["R010546275","上村　叶多","４級","カミムラ　カナタ","男性","S審判","大分県"]
["R010549369","亀井　友花","４級","カメイ　トモカ","女性","S審判","大分県"]
["R010467574","亀谷　柊斗","４級","カメヤ　シュウト","男性","S審判","大分県"]
["R005603282","亀山　万生","４級","カメヤマ　タカオ","男性","S審判","大分県"]
["R010352950","萱島　良太","４級","カヤシマ　リョウタ","男性","S審判","大分県"]
["R002917476","河井　寛次郎","４級","カワイ　カンジロウ","男性","S審判","大分県"]
["R010538403","河合　咲太","４級","カワイ　ショウタ","男性","S審判","大分県"]
["R010386814","河合　瑠彩","４級","カワイ　ルア","女性","S審判","大分県"]
["R010445833","河内　竜樹","４級","カワウチ　タツキ","男性","S審判","大分県"]
["R010552537","川上　郁央","４級","カワカミ　イクオ","男性","S審判","大分県"]
["R010248572","川口　航平","４級","カワグチ　コウヘイ","男性","S審判","大分県"]
["R010314824","川口　俊輔","４級","カワグチ　シュンスケ","男性","S審判","大分県"]
["R010352965","川口　翼","４級","カワグチ　ツバサ","男性","S審判","大分県"]
["R010248569","川口　勇騎","４級","カワグチ　ユウキ","男性","S審判","大分県"]
["R010281803","川嶋　佳菜","４級","カワシマ　カナ","女性","S審判","大分県"]
["R010448924","川尻　暁斗","４級","カワジリ　アキト","男性","S審判","大分県"]
["R010347373","河津　柊志","４級","カワズ　シュウジ","男性","S審判","大分県"]
["R010415898","河津　魁羅","４級","カワヅ　カイラ","男性","S審判","大分県"]
["R010386810","川手　茉央","４級","カワテ　マオ","女性","S審判","大分県"]
["R010421578","川浪　尚人","４級","カワナミ　ナオト","男性","S審判","大分県"]
["R010159751","川浪　実歩","４級","カワナミ　マホ","女性","S審判","大分県"]
["R010546290","河野　優生","４級","カワノ　ウキ","男性","S審判","大分県"]
["R010538397","河野　栄磨","４級","カワノ　エイマ","男性","S審判","大分県"]
["R010451956","川野　快斗","４級","カワノ　カイト","男性","S審判","大分県"]
["R010448942","河野　楓","４級","カワノ　カエデ","女性","S審判","大分県"]
["R010189268","河野　功寛","４級","カワノ　カツヒロ","男性","S審判","大分県"]
["R006220606","河野　成利","４級","カワノ　シゲトシ","男性","S審判","大分県"]
["R010539287","河野　松介","４級","カワノ　ショウスケ","男性","S審判","大分県"]
["R010396561","川野　陣","４級","カワノ　ジン","男性","S審判","大分県"]
["R010432651","河野　太陽","４級","カワノ　タイヨウ","男性","S審判","大分県"]
["R010415887","河野　拓巳","４級","カワノ　タクミ","男性","S審判","大分県"]
["R010189263","河野　徹郎","４級","カワノ　テツロウ","男性","S審判","大分県"]
["R010027894","河野　斗馬","４級","カワノ　トウマ","男性","S審判","大分県"]
["R010390422","河野　桐也","４級","カワノ　トウヤ","男性","S審判","大分県"]
["R010538375","河野　虎之介","４級","カワノ　トラノスケ","男性","S審判","大分県"]
["R010538388","河野　夏","４級","カワノ　ナツ","男性","S審判","大分県"]
["R010396562","川野　迅翔","４級","カワノ　ハヤト","男性","S審判","大分県"]
["R010546297","河野　聖","４級","カワノ　ヒジリ","男性","S審判","大分県"]
["R010376293","河野　仁志","４級","カワノ　ヒトシ","男性","S審判","大分県"]
["R010214628","川野　裕貴","４級","カワノ　ユウキ","男性","S審判","大分県"]
["R010542203","河野　祐輔","４級","カワノ　ユウスケ","男性","S審判","大分県"]
["R010262595","川野　竜聖","４級","カワノ　リュウセイ","男性","S審判","大分県"]
["R010467836","川野　流楓","４級","カワノ　ルカ","男性","S審判","大分県"]
["R010549365","川端　沙雪","４級","カワバタ　サユキ","女性","S審判","大分県"]
["R010357147","川端　正倫","４級","カワバタ　マサミチ","男性","S審判","大分県"]
["R010468327","川辺　湊太","４級","カワベ　ソウタ","男性","S審判","大分県"]
["R009198487","川邉　太一朗","４級","カワベ　タイチロウ","男性","S審判","大分県"]
["R010396583","川邊　智己","４級","カワベ　トモキ","男性","S審判","大分県"]
["R010352999","川邉　裕也","４級","カワベ　ユウヤ","男性","S審判","大分県"]
["R005405264","河村　航大","４級","カワムラ　コウダイ","男性","S審判","大分県"]
["R010396560","河村　長雲","４級","カワムラ　チョウウン","男性","S審判","大分県"]
["R006220129","河村　哲二","４級","カワムラ　テツジ","男性","S審判","大分県"]
["R001255908","河村　信善","４級","カワムラ　ノブヨシ","男性","S審判","大分県"]
["R010396525","河村　陽平","４級","カワムラ　ヨウヘイ","男性","S審判","大分県"]
["R010539272","河室　大地","４級","カワムロ　ダイチ","男性","S審判","大分県"]
["R010546340","神崎　来実","４級","カンザキ　クルミ","女性","S審判","大分県"]
["R010396520","神崎　大輔","４級","カンザキ　ダイスケ","男性","S審判","大分県"]
["R008798101","神田　毅","４級","カンダ　タケシ","男性","S審判","大分県"]
["R010396529","神田　武志","４級","カンダ　タケシ","男性","S審判","大分県"]
["R010449910","神田　裕","４級","カンダ　ユタカ","男性","S審判","大分県"]
["R010542195","木内　諭貴久","４級","キウチ　ユキヒサ","男性","S審判","大分県"]
["R001255953","菊田　興太郎","４級","キクタ　コウタロウ","男性","S審判","大分県"]
["R010432646","菊池　敏志","４級","キクチ　サトシ","男性","S審判","大分県"]
["R003972586","菊地　誠","４級","キクチ　マコト","男性","S審判","大分県"]
["R010214551","菊地　隆之輔","４級","キクチ　リュウノスケ","男性","S審判","大分県"]
["R010538345","菊屋　令","４級","キクヤ　リョウ","男性","S審判","大分県"]
["R001255980","木嶋　高行","４級","キシマ　タカユキ","男性","S審判","大分県"]
["R010546303","北川　奏","４級","キタガワ　カナデ","男性","S審判","大分県"]
["R010313776","北河　祐一","４級","キタガワ　ユウイチ","男性","S審判","大分県"]
["R008798147","キタニ　大希","４級","キタニ　ダイキ","男性","S審判","大分県"]
["R010542197","木付　晴翔","４級","キツキ　ハルト","男性","S審判","大分県"]
["R010214583","木津　浩太","４級","キヅ　コウタ","男性","S審判","大分県"]
["R010214584","木津　春歌","４級","キヅ　ハルカ","女性","S審判","大分県"]
["R010538331","木戸　航大","４級","キド　コウダイ","男性","S審判","大分県"]
["R010546304","衣笠　勇輝","４級","キヌガサ　ユウキ","男性","S審判","大分県"]
["R001256031","木下　和夫","４級","キノシタ　カズオ","男性","S審判","大分県"]
["R010546305","木下　敬介","４級","キノシタ　ケイスケ","男性","S審判","大分県"]
["R010396543","木下　広貴","４級","キノシタ　コウキ","男性","S審判","大分県"]
["R010444512","木下　泰暉","４級","キノシタ　タイキ","男性","S審判","大分県"]
["R008798138","木下　秀紀","４級","キノシタ　ヒデキ","男性","S審判","大分県"]
["R010356143","木原　将和","４級","キハラ　マサカズ","男性","S審判","大分県"]
["R010542211","岐部　匠","４級","キベ　タクミ","男性","S審判","大分県"]
["R001256068","岐部　裕二","４級","キベ　ユウジ","男性","S審判","大分県"]
["R010248580","木村　一平","４級","キムラ　イッペイ","男性","S審判","大分県"]
["R010451957","木村　勇斗","４級","キムラ　ハヤト","男性","S審判","大分県"]
["R010552550","木村　翔瑛","４級","キムラ　ヒエイ","男性","S審判","大分県"]
["R010538369","木本　心","４級","キモト　シン","男性","S審判","大分県"]
["R010448240","木本　博昭","４級","キモト　ヒロアキ","男性","S審判","大分県"]
["R010552562","清末　歩夢","４級","キヨスエ　アユム","男性","S審判","大分県"]
["R010538337","清末　七翔","４級","キヨスエ　ナナト","男性","S審判","大分県"]
["R010552571","清末　隆生","４級","キヨスエ　リュウセイ","男性","S審判","大分県"]
["R010281797","清原　勇二","４級","キヨハラ　ユウジ","男性","S審判","大分県"]
["R010415896","清原　耀","４級","キヨハラ　ヨウ","男性","S審判","大分県"]
["R010261615","吉良　匡弘","４級","キラ　マサヒロ","男性","S審判","大分県"]
["R001256183","吉良　陽平","４級","キラ　ヨウヘイ","男性","S審判","大分県"]
["R010455154","切封　蹴人","４級","キリフ　シュウト","男性","S審判","大分県"]
["R010189291","釘宮　孝史","４級","クギミヤ　タカシ","男性","S審判","大分県"]
["R010248041","釘宮　翼","４級","クギミヤ　ツバサ","男性","S審判","大分県"]
["R010354661","日下　拓人","４級","クサカ　タクト","男性","S審判","大分県"]
["R010313754","櫛野　理弘","４級","クシノ　ミチヒロ","男性","S審判","大分県"]
["R010539278","楠田　優","４級","クスダ　ユウ","男性","S審判","大分県"]
["R010334503","楠　明日香","４級","クスノキ　アスカ","女性","S審判","大分県"]
["R010542190","楠木　裕二","４級","クスノキ　ユウジ","男性","S審判","大分県"]
["R010351368","楠元　和馬","４級","クスモト　カズマ","男性","S審判","大分県"]
["R010376336","沓掛　聖和","４級","クツカケ　セナ","男性","S審判","大分県"]
["R010538387","工藤　元気","４級","クドウ　ゲンキ","男性","S審判","大分県"]
["R010261616","工藤　大昌","４級","クドウ　タイショウ","男性","S審判","大分県"]
["R009546116","工藤　忠弘","４級","クドウ　タダヒロ","男性","S審判","大分県"]
["R001256253","工藤　洋","４級","クドウ　ヒロシ","男性","S審判","大分県"]
["R001256244","工藤　光範","４級","クドウ　ミツノリ","男性","S審判","大分県"]
["R010083877","工藤　大和","４級","クドウ　ヤマト","男性","S審判","大分県"]
["R010396522","工藤　竜世","４級","クドウ　リュウセイ","男性","S審判","大分県"]
["R010538367","工藤　凌成","４級","クドウ　リョウセイ","男性","S審判","大分県"]
["R010162988","国広　雄陽","４級","クニヒロ　ユウヒ","男性","S審判","大分県"]
["R010214468","久保　花暖","４級","クボ　カノン","女性","S審判","大分県"]
["R010465620","久保　宏太","４級","クボ　コウタ","男性","S審判","大分県"]
["R008793249","久保　茂樹","４級","クボ　シゲキ","男性","S審判","大分県"]
["R010376344","久保　翔太郎","４級","クボ　ショウタロウ","男性","S審判","大分県"]
["R010540700","久保　颯香","４級","クボ　フウガ","男性","S審判","大分県"]
["R010396541","久保　幸弥","４級","クボ　ユキヤ","男性","S審判","大分県"]
["R010352939","久保田　智史","４級","クボタ　サトシ","男性","S審判","大分県"]
["R010027820","久保山　崇","４級","クボヤマ　タカシ","男性","S審判","大分県"]
["R010450128","熊井　貴司","４級","クマイ　タカシ","男性","S審判","大分県"]
["R010450129","熊井　優斗","４級","クマイ　ユウト","男性","S審判","大分県"]
["R010546306","倉田　煌大","４級","クラタ　コウダイ","男性","S審判","大分県"]
["R010391937","倉盛　雅基","４級","クラモリ　マサキ","男性","S審判","大分県"]
["R010448643","栗井　蓮","４級","クリイ　レン","男性","S審判","大分県"]
["R010552553","栗山　隼人","４級","クリヤマ　ハヤト","男性","S審判","大分県"]
["R010444503","黒木　祥悟","４級","クロキ　ショウゴ","男性","S審判","大分県"]
["R010513913","黒木　大治郎","４級","クロキ　ダイジロウ","男性","S審判","大分県"]
["R010281807","黒木　一輝","４級","クロギ　カズキ","男性","S審判","大分県"]
["R010386822","黒田　珠樺","４級","クロダ　ジュカ","女性","S審判","大分県"]
["R010546307","黒田　侑希","４級","クロダ　ユウキ","男性","S審判","大分県"]
["R010501305","桑野　宏幸","４級","クワノ　ヒロユキ","男性","S審判","大分県"]
["R010520028","桑原　率","４級","クワハラ　リツ","男性","S審判","大分県"]
["R010248040","桑原　誓良","４級","クワバラ　セイラ","男性","S審判","大分県"]
["R001256387","桑原　剛志","４級","クワバラ　ツヨシ","男性","S審判","大分県"]
["R010432618","桑原　優人","４級","クワバラ　ユウト","男性","S審判","大分県"]
["R010538366","桑原　力飛","４級","クワバラ　リキト","男性","S審判","大分県"]
["R010542184","小石　圭亮","４級","コイシ　ケイスケ","男性","S審判","大分県"]
["R010519835","小泉　碧美","４級","コイズミ　アミ","女性","S審判","大分県"]
["R010214595","小泉　斗眞","４級","コイズミ　トウマ","男性","S審判","大分県"]
["R010255153","小岩　晴久","４級","コイワ　ハルヒサ","男性","S審判","大分県"]
["R010391959","高　昇辰","４級","コウ　スンジン","男性","S審判","大分県"]
["R010189321","神志那　公市","４級","コウジナ　コウイチ","男性","S審判","大分県"]
["R010281843","江田　秀斗","４級","コウダ　シュウト","男性","S審判","大分県"]
["R010546274","河野　泰良","４級","コウノ　タイラ","男性","S審判","大分県"]
["R001255670","河野　千恵子","４級","コウノ　チエコ","女性","S審判","大分県"]
["R010376319","河野　匡視","４級","コウノ　マサシ","男性","S審判","大分県"]
["R010189273","高麗　勇輝","４級","コウライ　ユウキ","男性","S審判","大分県"]
["R010347375","古賀　奏太郎","４級","コガ　ソウタロウ","男性","S審判","大分県"]
["R010396510","古賀　時宗","４級","コガ　トキムネ","男性","S審判","大分県"]
["R002530277","古賀　博喜","４級","コガ　ヒロキ","男性","S審判","大分県"]
["R006574206","古賀　雅則","４級","コガ　マサノリ","男性","S審判","大分県"]
["R010162996","小越　憲太郎","４級","コゴシ　ケンタロウ","男性","S審判","大分県"]
["R010396586","小杉　青空","４級","コスギ　ソラ","男性","S審判","大分県"]
["R010386815","児玉　一穂","４級","コダマ　イチホ","女性","S審判","大分県"]
["R010357149","児玉　空悟","４級","コダマ　クウゴ","男性","S審判","大分県"]
["R010444511","兒玉　朔都","４級","コダマ　サクト","男性","S審判","大分県"]
["R010313775","児玉　伸","４級","コダマ　シン","男性","S審判","大分県"]
["R010552559","児玉　准哉","４級","コダマ　ジュンヤ","男性","S審判","大分県"]
["R010259431","兒玉　颯斗","４級","コダマ　ハヤテ","男性","S審判","大分県"]
["R010159131","児玉　勇翔","４級","コダマ　ハヤト","男性","S審判","大分県"]
["R010169042","児玉　悠介","４級","コダマ　ユウスケ","男性","S審判","大分県"]
["R010445239","児玉　佑太","４級","コダマ　ユウタ","男性","S審判","大分県"]
["R010538305","児玉　龍飛","４級","コダマ　リント","男性","S審判","大分県"]
["R010448922","児玉　留己也","４級","コダマ　ルミヤ","男性","S審判","大分県"]
["R005528060","小手川　洋介","４級","コテガワ　ヨウスケ","男性","S審判","大分県"]
["R010467696","小手川　蓮","４級","コテガワ　レン","男性","S審判","大分県"]
["R010450132","小洞　晴哉","４級","コドウ　ハルヤ","男性","S審判","大分県"]
["R010552579","木場　漸","４級","コバ　ゼン","男性","S審判","大分県"]
["R010448940","小林　神月","４級","コバヤシ　カヅキ","男性","S審判","大分県"]
["R004226712","小林　覚","４級","コバヤシ　サトル","男性","S審判","大分県"]
["R010546326","小林　昴琉","４級","コバヤシ　スバル","男性","S審判","大分県"]
["R010255174","小林　亮太","４級","コバヤシ　リョウタ","男性","S審判","大分県"]
["R010538355","小深田　大晟","４級","コブカタ　タイセイ","男性","S審判","大分県"]
["R010549364","小松　由奈","４級","コマツ　ユナ","女性","S審判","大分県"]
["R010261603","古屋　友晟","４級","コヤ　ユウセイ","男性","S審判","大分県"]
["R010542166","古谷　悠汰","４級","コヤ　ユウタ","男性","S審判","大分県"]
["R010546292","小山　純平","４級","コヤマ　ジュンペイ","男性","S審判","大分県"]
["R010347385","小山　大輝","４級","コヤマ　タイキ","男性","S審判","大分県"]
["R006664855","近藤　孝司","４級","コンドウ　コウジ","男性","S審判","大分県"]
["R010540721","近藤　拓海","４級","コンドウ　タクミ","男性","S審判","大分県"]
["R010509969","合谷　佑木","４級","ゴウタニ　ユウキ","男性","S審判","大分県"]
["R009546091","五所　睦雄","４級","ゴショ　ムツオ","男性","S審判","大分県"]
["R010539279","後藤　彰臣","４級","ゴトウ　アキオミ","男性","S審判","大分県"]
["R010432627","後藤　英斗","４級","ゴトウ　エイト","男性","S審判","大分県"]
["R010163001","後藤　快斗","４級","ゴトウ　カイト","男性","S審判","大分県"]
["R001256572","後藤　儀一郎","４級","ゴトウ　ギイチロウ","男性","S審判","大分県"]
["R010067950","後藤　恵子","４級","ゴトウ　ケイコ","女性","S審判","大分県"]
["R010354802","後藤　圭梧","４級","ゴトウ　ケイゴ","男性","S審判","大分県"]
["R005987519","後藤　慶太郎","４級","ゴトウ　ケイタロウ","男性","S審判","大分県"]
["R010552541","後藤　滉稀","４級","ゴトウ　コウキ","男性","S審判","大分県"]
["R001256590","後藤　幸治","４級","ゴトウ　コウジ","男性","S審判","大分県"]
["R003421426","後藤　茂好","４級","ゴトウ　シゲヨシ","男性","S審判","大分県"]
["R003256044","後藤　真一","４級","ゴトウ　シンイチ","男性","S審判","大分県"]
["R001256606","後藤　信也","４級","ゴトウ　シンヤ","男性","S審判","大分県"]
["R010432636","後藤　正剛","４級","ゴトウ　セイゴウ","男性","S審判","大分県"]
["R010255175","後藤　颯太","４級","ゴトウ　ソウタ","男性","S審判","大分県"]
["R010193704","後藤　健文","４級","ゴトウ　タケフミ","男性","S審判","大分県"]
["R005603671","後藤　達也","４級","ゴトウ　タツヤ","男性","S審判","大分県"]
["R010539321","後藤　大輝","４級","ゴトウ　ダイキ","男性","S審判","大分県"]
["R001256554","後藤　寿","４級","ゴトウ　ヒサシ","男性","S審判","大分県"]
["R007090978","後藤　洋彰","４級","ゴトウ　ヒロアキ","男性","S審判","大分県"]
["R010538293","後藤　寛貴","４級","ゴトウ　ヒロキ","男性","S審判","大分県"]
["R010303884","後藤　文太","４級","ゴトウ　ブンタ","男性","S審判","大分県"]
["R010396547","後藤　真弥","４級","ゴトウ　マヒロ","男性","S審判","大分県"]
["R010538300","後藤　睦希","４級","ゴトウ　ムツキ","男性","S審判","大分県"]
["R010354663","後藤　大和","４級","ゴトウ　ヤマト","男性","S審判","大分県"]
["R010396571","後藤　勇飛","４級","ゴトウ　ユウヒ","男性","S審判","大分県"]
["R010120116","後藤　芳健","４級","ゴトウ　ヨシカツ","男性","S審判","大分県"]
["R010001964","後藤　亮一","４級","ゴトウ　リョウイチ","男性","S審判","大分県"]
["R010538364","後藤　凛太朗","４級","ゴトウ　リンタロウ","男性","S審判","大分県"]
["R010538336","後藤　涼之介","４級","ゴドウ　シュンノスケ","男性","S審判","大分県"]
["R010539282","佐伯　圭介","４級","サイキ　ケイスケ","男性","S審判","大分県"]
["R010552532","佐伯　正一","４級","サイキ　シヨウイチ","男性","S審判","大分県"]
["R010467244","齋藤　健智","４級","サイトウ　タケトモ","男性","S審判","大分県"]
["R010376289","齋藤　俊孝","４級","サイトウ　トシタカ","男性","S審判","大分県"]
["R010540709","斉藤　晄吏","４級","サイトウ　ヒカリ","男性","S審判","大分県"]
["R010468352","斉藤　祐輔","４級","サイトウ　ユウスケ","男性","S審判","大分県"]
["R008173685","斎藤　亮真","４級","サイトウ　リョウマ","男性","S審判","大分県"]
["R010546329","西耒　龍界","４級","サイライ　リョウカ","男性","S審判","大分県"]
["R010552567","酒井　碧海","４級","サカイ　アオト","男性","S審判","大分県"]
["R010448935","酒井　洸太","４級","サカイ　コウタ","男性","S審判","大分県"]
["R006932525","酒井　泰峰","４級","サカイ　ヤスタカ","男性","S審判","大分県"]
["R010546308","酒井　渉","４級","サカイ　ワタル","男性","S審判","大分県"]
["R010538308","榊原　隆之輔","４級","サカキバラ　リュウノスケ","男性","S審判","大分県"]
["R010189326","坂田　大樹","４級","サカタ　ダイキ","男性","S審判","大分県"]
["R010542182","坂元　達啓","４級","サカモト　タツヒロ","男性","S審判","大分県"]
["R010388052","坂本　晴陽","４級","サカモト　ハル","男性","S審判","大分県"]
["R010071981","坂本　璃王","４級","サカモト　リオ","男性","S審判","大分県"]
["R010283833","坂本　莉音","４級","サカモト　リオン","女性","S審判","大分県"]
["R010421577","坂本　陸","４級","サカモト　リク","男性","S審判","大分県"]
["R008173746","相良　宣雄","４級","サガラ　ヨシオ","男性","S審判","大分県"]
["R010444490","櫻井　貴寛","４級","サクライ　タカヒロ","男性","S審判","大分県"]
["R010542194","迫　聖一郎","４級","サコ　セイイチロウ","男性","S審判","大分県"]
["R010432604","佐々木　匠実","４級","ササキ　タクミ","男性","S審判","大分県"]
["R010281874","指原　健太郎","４級","サシハラ　ケンタロウ","男性","S審判","大分県"]
["R010214626","指原　徹志","４級","サシハラ　テツシ","男性","S審判","大分県"]
["R010396573","佐田　惇","４級","サダ　アツシ","男性","S審判","大分県"]
["R010189039","目　匡弘","４級","サッカ　タダヒロ","男性","S審判","大分県"]
["R010259437","佐藤　愛莉","４級","サトウ　アイリ","女性","S審判","大分県"]
["R001257076","佐藤　明","４級","サトウ　アキラ","男性","S審判","大分県"]
["R010538390","佐藤　歩虎","４級","サトウ　アユト","男性","S審判","大分県"]
["R010540710","佐藤　應之佑","４級","サトウ　オウノスケ","男性","S審判","大分県"]
["R010448943","佐藤　凱翔","４級","サトウ　カイト","男性","S審判","大分県"]
["R010376318","佐藤　一史","４級","サトウ　カズシ","男性","S審判","大分県"]
["R010432647","佐藤　亨志郎","４級","サトウ　キョウシロウ","男性","S審判","大分県"]
["R010396579","佐藤　健司","４級","サトウ　ケンジ","男性","S審判","大分県"]
["R010552536","佐藤　航輝","４級","サトウ　コウキ","男性","S審判","大分県"]
["R010552574","佐藤　洸輝","４級","サトウ　コウキ","男性","S審判","大分県"]
["R010396604","佐藤　耕輔","４級","サトウ　コウスケ","男性","S審判","大分県"]
["R010540704","佐藤　愁哲","４級","サトウ　シュウト","男性","S審判","大分県"]
["R010432632","佐藤　秀哉","４級","サトウ　シュウヤ","男性","S審判","大分県"]
["R010538354","佐藤　秀弥","４級","サトウ　シユウヤ","男性","S審判","大分県"]
["R010432602","佐藤　翔太","４級","サトウ　ショウタ","男性","S審判","大分県"]
["R004386306","佐藤　慎也","４級","サトウ　シンヤ","男性","S審判","大分県"]
["R010262644","佐藤　颯","４級","サトウ　ソウ","男性","S審判","大分県"]
["R001257085","佐藤　武吉","４級","サトウ　タケヨシ","男性","S審判","大分県"]
["R010552561","佐藤　哲也","４級","サトウ　テツヤ","男性","S審判","大分県"]
["R010189325","佐藤　遥哉","４級","サトウ　ハルヤ","男性","S審判","大分県"]
["R001257137","佐藤　秀勝","４級","サトウ　ヒデカツ","男性","S審判","大分県"]
["R010538322","佐藤　浩樹","４級","サトウ　ヒロキ","男性","S審判","大分県"]
["R010354658","佐藤　史典","４級","サトウ　フミノリ","男性","S審判","大分県"]
["R010376310","佐藤　雅斗吏","４級","サトウ　マサトシ","男性","S審判","大分県"]
["R010465577","佐藤　守","４級","サトウ　マモル","男性","S審判","大分県"]
["R005603389","佐藤　光雄","４級","サトウ　ミツオ","男性","S審判","大分県"]
["R010465593","佐藤　祐親","４級","サトウ　ユウシン","男性","S審判","大分県"]
["R010391925","佐藤　祐介","４級","サトウ　ユウスケ","男性","S審判","大分県"]
["R010538353","佐藤　悠星","４級","サトウ　ユウセイ","男性","S審判","大分県"]
["R010396516","佐藤　侑大","４級","サトウ　ユウタ","男性","S審判","大分県"]
["R010243660","佐藤　勇仁","４級","サトウ　ユウト","男性","S審判","大分県"]
["R010444501","佐藤　悠登","４級","サトウ　ユウト","男性","S審判","大分県"]
["R010538306","佐藤　悠人","４級","サトウ　ユウト","男性","S審判","大分県"]
["R010069874","佐藤　佑哉","４級","サトウ　ユウヤ","男性","S審判","大分県"]
["R010314823","佐藤　善成","４級","サトウ　ヨシナリ","男性","S審判","大分県"]
["R007729210","佐藤　教春","４級","サトウ　ヨシハル","男性","S審判","大分県"]
["R010451955","佐藤　璃空","４級","サトウ　リク","男性","S審判","大分県"]
["R010552573","佐藤　陸","４級","サトウ　リク","男性","S審判","大分県"]
["R010453590","佐藤　羚矢","４級","サトウ　レイヤ","男性","S審判","大分県"]
["R010453594","佐藤　伶凰","４級","サトウ　レオ","男性","S審判","大分県"]
["R010396509","佐藤　蓮太","４級","サトウ　レンタ","男性","S審判","大分県"]
["R010388045","實松　祐輝","４級","サネマツ　ユウキ","男性","S審判","大分県"]
["R010448933","佐野　大葵","４級","サノ　ダイキ","男性","S審判","大分県"]
["R010214533","鮫島　裕貴","４級","サメジマ　ユウキ","男性","S審判","大分県"]
["R010376311","澤井　駿樂","４級","サワイ　シュンガク","男性","S審判","大分県"]
["R010390432","沢田　奏太","４級","サワダ　ソウタ","男性","S審判","大分県"]
["R010376331","澤田　弘教","４級","サワダ　ヒロノリ","男性","S審判","大分県"]
["R010396568","澤永　悠樹","４級","サワナガ　ユウキ","男性","S審判","大分県"]
["R010358004","澤藤　慎之助","４級","サワフジ　シンノスケ","男性","S審判","大分県"]
["R010540720","三堂　楽斗","４級","サンドウ　ガクト","男性","S審判","大分県"]
["R010415891","三ノ宮　真吾","４級","サンノミヤ　シンゴ","男性","S審判","大分県"]
["R010448919","三ノ宮　琉偉","４級","サンノミヤ　ルイ","男性","S審判","大分県"]
["R010100659","財前　友担","４級","ザイゼン　トモヒロ","男性","S審判","大分県"]
["R010432654","財前　飛向","４級","ザイゼン　ヒナタ","男性","S審判","大分県"]
["R010538386","財津　亮介","４級","ザイツ　リョウスケ","男性","S審判","大分県"]
["R005603291","椎原　健夫","４級","シイハラ　タケオ","男性","S審判","大分県"]
["R010540712","汐先　悠介","４級","シオサキ　ユウスケ","男性","S審判","大分県"]
["R010542200","鹿内　克彦","４級","シカナイ　カツヒコ","男性","S審判","大分県"]
["R010281801","志賀　泰二","４級","シガ　タイジ","男性","S審判","大分県"]
["R010552555","敷嶋　義郎","４級","シキシマ　ヨシオ","男性","S審判","大分県"]
["R010391927","重　遥大","４級","シゲ　ハルヒト","男性","S審判","大分県"]
["R010542188","重住　優成","４級","シゲズミ　ユウヤ","男性","S審判","大分県"]
["R001257304","重藤　光","４級","シゲフジ　ヒカル","男性","S審判","大分県"]
["R010391920","重松　剛史","４級","シゲマツ　タケシ","男性","S審判","大分県"]
["R010538301","重光　日向","４級","シゲミツ　ヒナタ","男性","S審判","大分県"]
["R010540695","柴田　峻徳","４級","シバタ　シュントク","男性","S審判","大分県"]
["R010450024","柴田　毅","４級","シバタ　ツヨシ","男性","S審判","大分県"]
["R010415895","島　拓朗","４級","シマ　タクロウ","男性","S審判","大分県"]
["R010539273","島岡　歩","４級","シマオカ　アユム","男性","S審判","大分県"]
["R010167757","嶋岡　烈士","４級","シマオカ　レツ","男性","S審判","大分県"]
["R007959592","島崎　雄大","４級","シマザキ　ユウダイ","男性","S審判","大分県"]
["R001257447","島谷　真司","４級","シマタニ　シンジ","男性","S審判","大分県"]
["R010356121","嶌田　幸志","４級","シマダ　コウシ","男性","S審判","大分県"]
["R010313749","嶋田　尚祐","４級","シマダ　ナオヒロ","男性","S審判","大分県"]
["R010445837","嶋田　祐也","４級","シマダ　ユウヤ","男性","S審判","大分県"]
["R010391958","島田　蓮平","４級","シマダ　レンペイ","男性","S審判","大分県"]
["R010391963","島津　悠揮","４級","シマツ　ユウキ","男性","S審判","大分県"]
["R010465614","島畑　欣史","４級","シマハタ　ヨシフミ","男性","S審判","大分県"]
["R010396565","清水　和","４級","シミズ　カズ","男性","S審判","大分県"]
["R005986981","清水　聖徳","４級","シミズ　セイトク","男性","S審判","大分県"]
["R010069898","清水　樹生","４級","シミズ　タツキ","男性","S審判","大分県"]
["R010189304","清水　哲也","４級","シミズ　テツヤ","男性","S審判","大分県"]
["R010255172","清水　寛人","４級","シミズ　ヒロト","男性","S審判","大分県"]
["R010421576","清水　碧倭","４級","シミズ　ヘキヤ","男性","S審判","大分県"]
["R010303857","清水　羅偉","４級","シミズ　ライ","男性","S審判","大分県"]
["R010093497","七五三　正寿","４級","シメ　マサトシ","男性","S審判","大分県"]
["R010453576","周藤　彼方","４級","シュウトウ　カナタ","男性","S審判","大分県"]
["R010467838","宿利　一冴","４級","シュクリ　イッサ","男性","S審判","大分県"]
["R010465612","首藤　貴志","４級","シュトウ　タカシ","男性","S審判","大分県"]
["R010352940","首藤　保","４級","シュトウ　タモツ","男性","S審判","大分県"]
["R008643838","首藤　翼","４級","シュトウ　ツバサ","男性","S審判","大分県"]
["R007002645","首藤　晴美","４級","シュトウ　ハルミ","男性","S審判","大分県"]
["R010354788","首藤　弘樹","４級","シュトウ　ヒロキ","男性","S審判","大分県"]
["R010376326","首藤　博貴","４級","シュトウ　ヒロキ","男性","S審判","大分県"]
["R010376340","首藤　正叡","４級","シュトウ　マサユキ","男性","S審判","大分県"]
["R010432614","首藤　唯斗","４級","シュトウ　ユイト","男性","S審判","大分県"]
["R010356122","首藤　航","４級","シュトウ　ワタル","男性","S審判","大分県"]
["R010162994","首藤　光翼","４級","シュドウ　コウタ","男性","S審判","大分県"]
["R005527362","庄司　誠","４級","ショウジ　マコト","男性","S審判","大分県"]
["R009460533","庄部　正人","４級","ショウブ　マサト","男性","S審判","大分県"]
["R010546309","庄部　優汰","４級","ショウブ　ユウタ","男性","S審判","大分県"]
["R010445243","庄司　壮甫","４級","シヨウジ　ソウスケ","男性","S審判","大分県"]
["R010352971","白石　琥太郎","４級","シライシ　コタロウ","男性","S審判","大分県"]
["R010259417","白岩　孝啓","４級","シライワ　タカヒロ","男性","S審判","大分県"]
["R010354662","秦　琥太郎","４級","シン　コタロウ","男性","S審判","大分県"]
["R010350238","秦　鼓乃実","４級","シン　コノミ","女性","S審判","大分県"]
["R010306453","秦　翔平","４級","シン　ショウヘイ","男性","S審判","大分県"]
["R010444489","秦　拓真","４級","シン　タクマ","男性","S審判","大分県"]
["R010451965","秦　龍也","４級","シン　タツヤ","男性","S審判","大分県"]
["R010451964","秦　翼早","４級","シン　ツバサ","男性","S審判","大分県"]
["R010546283","新納　奏太","４級","シンノウ　カナタ","男性","S審判","大分県"]
["R010347368","新原　優翔","４級","シンバル　マサト","男性","S審判","大分県"]
["R009567863","新村　亘未","４級","シンムラ　ワタル","男性","S審判","大分県"]
["R006123774","軸丸　耕平","４級","ジクマル　コウヘイ","男性","S審判","大分県"]
["R010313772","軸丸　翔矢","４級","ジクマル　ショウヤ","男性","S審判","大分県"]
["R010303859","字室　航平","４級","ジムロ　コウヘイ","男性","S審判","大分県"]
["R010542212","上崎　俊介","４級","ジョウザキ　シュンスケ","男性","S審判","大分県"]
["R010467245","城野　皇我","４級","ジョウノ　オウガ","男性","S審判","大分県"]
["R010347371","城野　雅翔","４級","ジョウノ　マサト","男性","S審判","大分県"]
["R007959167","須浦　清隆","４級","スウラ　キヨタカ","男性","S審判","大分県"]
["R010449909","末　洸樹","４級","スエ　ヒロキ","男性","S審判","大分県"]
["R010189331","末崎　智也","４級","スエザキ　トモヤ","男性","S審判","大分県"]
["R004055424","末綱　海人","４級","スエツナ　カイト","男性","S審判","大分県"]
["R001257711","末綱　航大","４級","スエツナ　コウダイ","男性","S審判","大分県"]
["R006148463","末綱　太舟","４級","スエツナ　タイシュウ","男性","S審判","大分県"]
["R010546310","末綱　倖成","４級","スエツナ　ユキナリ","男性","S審判","大分県"]
["R009545995","末永　成久","４級","スエナガ　ナルヒサ","男性","S審判","大分県"]
["R010552569","末成　隼","４級","スエナリ　シュン","男性","S審判","大分県"]
["R010546311","末弘　智亮","４級","スエヒロ　トモアキ","男性","S審判","大分県"]
["R010546318","末元　隼太","４級","スエモト　シュンタ","男性","S審判","大分県"]
["R010390421","菅　左京","４級","スガ　サキョウ","男性","S審判","大分県"]
["R007959820","菅　博幸","４級","スガ　ヒロユキ","男性","S審判","大分県"]
["R010542209","菅田　和真","４級","スガタ　カズマ","男性","S審判","大分県"]
["R010453579","菅原　颯太","４級","スガハラ　ハヤタ","男性","S審判","大分県"]
["R010453587","菅原　悠貴","４級","スガハラ　ユウキ","男性","S審判","大分県"]
["R010448634","菅川　青空","４級","スガワ　ソラ","男性","S審判","大分県"]
["R008798004","杉崎　誠","４級","スギサキ　マコト","男性","S審判","大分県"]
["R005528103","杉野　岳士","４級","スギノ　タケシ","男性","S審判","大分県"]
["R006220369","杉本　哲太","４級","スギモト　テッタ","男性","S審判","大分県"]
["R010281838","鈴江　真士","４級","スズエ　マナト","男性","S審判","大分県"]
["R010281839","鈴江　涼生","４級","スズエ　リョウセイ","男性","S審判","大分県"]
["R010214548","鈴木　公大","４級","スズキ　コウダイ","男性","S審判","大分県"]
["R010465610","須藤　聡","４級","ストウ　ソウ","男性","S審判","大分県"]
["R010067965","須藤　夏羽","４級","スドウ　ナツハ","女性","S審判","大分県"]
["R010247793","須藤　美羽","４級","スドウ　ミウ","女性","S審判","大分県"]
["R007959185","巣野　哲平","４級","スノ　テッペイ","男性","S審判","大分県"]
["R010214540","隅田　渚斗","４級","スミタ　ナギト","男性","S審判","大分県"]
["R010356124","隅田　波希","４級","スミタ　ナミキ","男性","S審判","大分県"]
["R010303863","住田　翔","４級","スミタ　リョウ","男性","S審判","大分県"]
["R010162998","圖師　好至朗","４級","ズシ　コウシロウ","男性","S審判","大分県"]
["R003258422","関　一昭","４級","セキ　カズアキ","男性","S審判","大分県"]
["R001257809","関　正二","４級","セキ　ショウジ","男性","S審判","大分県"]
["R010352992","関　翼","４級","セキ　ツバサ","男性","S審判","大分県"]
["R010189267","関　雅人","４級","セキ　マサト","男性","S審判","大分県"]
["R010542176","関谷　彰太","４級","セキヤ　ショウタ","男性","S審判","大分県"]
["R007959750","関谷　僚人","４級","セキヤ　トモヒト","男性","S審判","大分県"]
["R009533653","瀬田　英明","４級","セタ　ヒデアキ","男性","S審判","大分県"]
["R010354812","瀬戸　天我","４級","セト　テンガ","男性","S審判","大分県"]
["R010120162","曽根　文武","４級","ソネ　フミタケ","男性","S審判","大分県"]
["R001257854","曽根崎　照紀","４級","ソネザキ　テルキ","男性","S審判","大分県"]
["R005987458","曽根田　康寿","４級","ソネダ　ヤストシ","男性","S審判","大分県"]
["R010262639","園　文来","４級","ソノ　アヤト","男性","S審判","大分県"]
["R010386816","園　ひなの","４級","ソノ　ヒナノ","女性","S審判","大分県"]
["R010465921","園　大翔","４級","ソノ　ヒロト","男性","S審判","大分県"]
["R010306443","園田　純直","４級","ソノダ　スミタダ","男性","S審判","大分県"]
["R010546282","染矢　優心","４級","ソメヤ　ユウシン","男性","S審判","大分県"]
["R010391935","平　拓巳","４級","タイラ　タクミ","男性","S審判","大分県"]
["R010552570","高井　皓介","４級","タカイ　コウスケ","男性","S審判","大分県"]
["R010552558","高井　颯太","４級","タカイ　ソウタ","男性","S審判","大分県"]
["R010189295","高榎　健太郎","４級","タカエノキ　ケンタロウ","男性","S審判","大分県"]
["R008174037","高榎　祐太郎","４級","タカエノキ　ユウタロウ","男性","S審判","大分県"]
["R010546296","高木　勲","４級","タカキ　イサオ","男性","S審判","大分県"]
["R010259428","高木　伸","４級","タカキ　シン","男性","S審判","大分県"]
["R010465602","髙木　大誠","４級","タカキ　タイセイ","男性","S審判","大分県"]
["R010546328","高木　悠成","４級","タカキ　ユウセイ","男性","S審判","大分県"]
["R001257942","高倉　一城","４級","タカクラ　カズキ","男性","S審判","大分県"]
["R010314802","高倉　左京","４級","タカクラ　サキョウ","男性","S審判","大分県"]
["R010071976","高倉　凛","４級","タカクラ　リン","男性","S審判","大分県"]
["R010027898","髙瀬　瑛里","４級","タカセ　エイリ","男性","S審判","大分県"]
["R010391932","高瀬　大雅","４級","タカセ　タイガ","男性","S審判","大分県"]
["R010468412","高田　雅博","４級","タカダ　マサヒロ","男性","S審判","大分県"]
["R010467246","高田　蓮心","４級","タカダ　レンシン","男性","S審判","大分県"]
["R010376369","高月　隆成","４級","タカツキ　リュウセイ","男性","S審判","大分県"]
["R003578487","髙野　大輔","４級","タカノ　ダイスケ","男性","S審判","大分県"]
["R008798156","高橋　洸介","４級","タカハシ　コウスケ","男性","S審判","大分県"]
["R010093479","高橋　晃平","４級","タカハシ　コウヘイ","男性","S審判","大分県"]
["R010432626","高橋　昊","４級","タカハシ　ソラ","女性","S審判","大分県"]
["R010465587","高橋　大寿","４級","タカハシ　ダイジュ","男性","S審判","大分県"]
["R010189346","高橋　敏也","４級","タカハシ　トシヤ","男性","S審判","大分県"]
["R010538314","髙橋　陽","４級","タカハシ　ハル","男性","S審判","大分県"]
["R010444508","高橋　飛向","４級","タカハシ　ヒナタ","男性","S審判","大分県"]
["R007334924","高橋　央明","４級","タカハシ　ヒロアキ","男性","S審判","大分県"]
["R007767432","高橋　瑞紀","４級","タカハシ　ミズキ","女性","S審判","大分県"]
["R010542177","高橋　優","４級","タカハシ　ユウ","男性","S審判","大分県"]
["R003256062","高橋　由資","４級","タカハシ　ユウスケ","男性","S審判","大分県"]
["R006220697","高橋　勇也","４級","タカハシ　ユウヤ","男性","S審判","大分県"]
["R010352959","髙橋　涼介","４級","タカハシ　リョウスケ","男性","S審判","大分県"]
["R010552540","高橋　良太","４級","タカハシ　リョウタ","男性","S審判","大分県"]
["R010056101","高橋　蓮","４級","タカハシ　レン","男性","S審判","大分県"]
["R010546268","高畑　星耶","４級","タカハタ　セイヤ","男性","S審判","大分県"]
["R010538402","高濱　蒼太","４級","タカハマ　ソウタ","男性","S審判","大分県"]
["R001258136","高原　啓司","４級","タカハラ　ケイジ","男性","S審判","大分県"]
["R010240538","高原　悠太","４級","タカハラ　ユウタ","男性","S審判","大分県"]
["R010546321","髙藤　雅留","４級","タカフジ　マサル","男性","S審判","大分県"]
["R010386811","高松　芹羽","４級","タカマツ　セリハ","女性","S審判","大分県"]
["R010538383","髙村　龍冴","４級","タカムラ　リュウザ","男性","S審判","大分県"]
["R010539274","高牟禮　大晃","４級","タカムレ　ヒロアキ","男性","S審判","大分県"]
["R010350232","髙本　澪奈","４級","タカモト　レイナ","女性","S審判","大分県"]
["R010255176","高森　宗治","４級","タカモリ　ムネハル","男性","S審判","大分県"]
["R010391919","高山　湧也","４級","タカヤマ　ユウヤ","男性","S審判","大分県"]
["R009533440","田上　龍真","４級","タガミ　タツマサ","男性","S審判","大分県"]
["R010259435","田川　乃々香","４級","タガワ　ノノカ","女性","S審判","大分県"]
["R010448928","田北　豊将","４級","タキタ　ホウショウ","男性","S審判","大分県"]
["R010259424","瀧水　蓮太郎","４級","タキミズ　レンタロウ","男性","S審判","大分県"]
["R010538309","田口　碧依","４級","タグチ　アオイ","男性","S審判","大分県"]
["R010539286","竹井　琥太朗","４級","タケイ　コタロウ","男性","S審判","大分県"]
["R010255180","武石　優作","４級","タケイシ　ユウサク","男性","S審判","大分県"]
["R010501304","武内　友多哉","４級","タケウチ　トモタカ","男性","S審判","大分県"]
["R010396553","竹内　璃音","４級","タケウチ　リオン","男性","S審判","大分県"]
["R010546279","竹嶋　優","４級","タケシマ　ユウ","男性","S審判","大分県"]
["R010546278","竹嶋　凌平","４級","タケシマ　リョウヘイ","男性","S審判","大分県"]
["R008616162","竹田　豪","４級","タケダ　ゴウ","男性","S審判","大分県"]
["R007335127","竹中　啓司","４級","タケナカ　ケイジ","男性","S審判","大分県"]
["R010396591","竹中　太志","４級","タケナカ　タイシ","男性","S審判","大分県"]
["R010542181","竹本　哲也","４級","タケモト　テツヤ","男性","S審判","大分県"]
["R010546332","竹本　優希","４級","タケモト　ユウキ","男性","S審判","大分県"]
["R010432615","田﨑　逸正","４級","タサキ　イッセイ","男性","S審判","大分県"]
["R010546320","田崎　大翔","４級","タサキ　ダイト","男性","S審判","大分県"]
["R010538316","田島　李凰","４級","タシマ　リオウ","男性","S審判","大分県"]
["R010306446","多嶋田　尚平","４級","タシマダ　ショウヘイ","男性","S審判","大分県"]
["R004371818","田代　修三","４級","タシロ　シュウゾウ","男性","S審判","大分県"]
["R010303886","田代　翔太郎","４級","タシロ　ショウタロウ","男性","S審判","大分県"]
["R010542205","但馬　廉","４級","タジマ　レン","男性","S審判","大分県"]
["R010465923","多田羅　朔","４級","タタラ　サク","男性","S審判","大分県"]
["R010388057","立花　稜大","４級","タチバナ　リョウタ","男性","S審判","大分県"]
["R010396537","建野　年也","４級","タテノ　トシナリ","男性","S審判","大分県"]
["R010162985","帯刀　悠","４級","タテワキ　ユウ","男性","S審判","大分県"]
["R009460542","田中　友浩","４級","タナカ　トモヒロ","男性","S審判","大分県"]
["R010376342","田中　陽澄","４級","タナカ　ハルト","男性","S審判","大分県"]
["R010303862","田中　真輝","４級","タナカ　マサキ","男性","S審判","大分県"]
["R010376323","田中　真樹","４級","タナカ　マサキ","男性","S審判","大分県"]
["R010189067","田中　靖之","４級","タナカ　ヤスユキ","男性","S審判","大分県"]
["R010056104","田中　雄大","４級","タナカ　ユウダイ","男性","S審判","大分県"]
["R010538395","田中　悠陽","４級","タナカ　ユウヒ","男性","S審判","大分県"]
["R010546335","田中　琉偉","４級","タナカ　ルイ","男性","S審判","大分県"]
["R010538400","田辺　逞登","４級","タナベ　タクト","男性","S審判","大分県"]
["R010538404","田邉　秀和","４級","タナベ　ヒデカズ","男性","S審判","大分県"]
["R007728503","田邊　政治","４級","タナベ　マサハル","男性","S審判","大分県"]
["R010542175","谷川　勝利","４級","タニガワ　カツトシ","男性","S審判","大分県"]
["R010444515","谷川　滉樹","４級","タニガワ　コウキ","男性","S審判","大分県"]
["R008798484","谷川　潤弥","４級","タニガワ　ジュンヤ","男性","S審判","大分県"]
["R010540026","谷口　大将","４級","タニグチ　ダイスケ","男性","S審判","大分県"]
["R010352981","谷口　直也","４級","タニグチ　ナオヤ","男性","S審判","大分県"]
["R010214471","田野　愛華","４級","タノ　アイカ","女性","S審判","大分県"]
["R010167790","田野　翔大","４級","タノ　ショウタ","男性","S審判","大分県"]
["R010540711","田之畑　絢也","４級","タノハタ　ジュンヤ","男性","S審判","大分県"]
["R010391947","田畑　篤郎","４級","タバタ　アツロウ","男性","S審判","大分県"]
["R010450146","玉浦　想","４級","タマウラ　ソウ","男性","S審判","大分県"]
["R010357152","玉城　宗馬","４級","タマシロ　ソウマ","男性","S審判","大分県"]
["R010549368","田村　音羽","４級","タムラ　オトハ","女性","S審判","大分県"]
["R008797704","田村　健二","４級","タムラ　ケンジ","男性","S審判","大分県"]
["R010281809","田村　拓也","４級","タムラ　タクヤ","男性","S審判","大分県"]
["R006111195","伊達　秀憲","４級","ダテ　ヒデノリ","男性","S審判","大分県"]
["R001251753","伊達　洋介","４級","ダテ　ヨウスケ","男性","S審判","大分県"]
["R010546333","壇　直助","４級","ダン　ナオスケ","男性","S審判","大分県"]
["R001258455","千原　秀介","４級","チハラ　シュウスケ","男性","S審判","大分県"]
["R010396504","忠願寺　慶祐","４級","チュウガンジ　ケイスケ","男性","S審判","大分県"]
["R010354820","長木　環和","４級","チョウキ　カンナ","男性","S審判","大分県"]
["R010546312","通正　純之介","４級","ツウショウ　ジュンノスケ","男性","S審判","大分県"]
["R010552542","塚崎　春輝","４級","ツカザキ　ハルキ","男性","S審判","大分県"]
["R010540698","塚本　迅平","４級","ツカモト　ジンペイ","男性","S審判","大分県"]
["R010214610","津崎　祐二","４級","ツザキ　ユウジ","男性","S審判","大分県"]
["R010552563","津崎　亮佑","４級","ツザキ　リョウスケ","男性","S審判","大分県"]
["R010538312","辻　翔貴","４級","ツジ　ショウキ","男性","S審判","大分県"]
["R001258491","辻　道弘","４級","ツジ　ミチヒロ","男性","S審判","大分県"]
["R010093455","津田　敬太","４級","ツダ　ケイタ","男性","S審判","大分県"]
["R010189345","筒井　愛","４級","ツツイ　アイ","女性","S審判","大分県"]
["R008360148","堤　哲郎","４級","ツツミ　テツロウ","男性","S審判","大分県"]
["R010552566","都築　正虎","４級","ツヅキ　マサトラ","男性","S審判","大分県"]
["R008651794","都竹　創","４級","ツヅク　ハジメ","男性","S審判","大分県"]
["R005405723","恒松　和也","４級","ツネマツ　カズヤ","男性","S審判","大分県"]
["R010303858","角田　海斗","４級","ツノダ　カイト","男性","S審判","大分県"]
["R010391929","津村　真生","４級","ツムラ　マサキ","男性","S審判","大分県"]
["R006937089","津守　翔太","４級","ツモリ　ショウタ","男性","S審判","大分県"]
["R010303879","津谷　海登","４級","ツヤ　カイト","男性","S審判","大分県"]
["R010444498","都留　祐也","４級","ツル　ユウヤ","男性","S審判","大分県"]
["R010538394","鶴河　翔太","４級","ツルカワ　ショウタ","男性","S審判","大分県"]
["R010552530","鶴田　翔一","４級","ツルタ　ショウイチ","男性","S審判","大分県"]
["R010538399","鶴原　聖季","４級","ツルハラ　イブキ","男性","S審判","大分県"]
["R010444506","鶴原　楓也","４級","ツルハラ　フウヤ","男性","S審判","大分県"]
["R001258613","出口　功","４級","デグチ　イサオ","男性","S審判","大分県"]
["R010542189","藤内　勇一朗","４級","トウナイ　ユイチロウ","男性","S審判","大分県"]
["R010243644","遠山　隼都","４級","トオヤマ　ハヤト","男性","S審判","大分県"]
["R010542168","時松　辰行","４級","トキマツ　タツユキ","男性","S審判","大分県"]
["R010552548","徳留　滉人","４級","トクドメ　ヒロト","男性","S審判","大分県"]
["R010093499","徳丸　淳治","４級","トクマル　ジュンジ","男性","S審判","大分県"]
["R010538380","得丸　宗志","４級","トクマル　ソウシ","男性","S審判","大分県"]
["R010376314","徳丸　太陽","４級","トクマル　タイヨウ","男性","S審判","大分県"]
["R010255154","得丸　拓実","４級","トクマル　タクミ","男性","S審判","大分県"]
["R001258695","徳丸　英明","４級","トクマル　ヒデアキ","男性","S審判","大分県"]
["R010552560","徳丸　聖人","４級","トクマル　マサト","男性","S審判","大分県"]
["R001258686","得丸　政徳","４級","トクマル　マサノリ","男性","S審判","大分県"]
["R010391941","渡久地　蒔人","４級","トグチ　マキト","男性","S審判","大分県"]
["R010379064","都甲　空","４級","トゴウ　ソラ","男性","S審判","大分県"]
["R010445854","利光　蒼志","４級","トシミツ　ソウシ","男性","S審判","大分県"]
["R010159150","戸田　汐音","４級","トダ　シオン","男性","S審判","大分県"]
["R010046512","十時　優介","４級","トトキ　ユウスケ","男性","S審判","大分県"]
["R010415910","笘川　銀雅","４級","トマカワ　ギンガ","男性","S審判","大分県"]
["R010027867","富田　靖夫","４級","トミタ　ヤスオ","男性","S審判","大分県"]
["R010027830","富永　渉太","４級","トミナガ　ショウタ","男性","S審判","大分県"]
["R001258765","富永　佳幸","４級","トミナガ　ヨシユキ","男性","S審判","大分県"]
["R005405608","冨吉　弘一","４級","トミヨシ　コウイチ","男性","S審判","大分県"]
["R010281868","友田　裕斗","４級","トモダ　ユウト","男性","S審判","大分県"]
["R010415915","友永　弥","４級","トモナガ　ワタル","男性","S審判","大分県"]
["R010100678","友松　誠二","４級","トモマツ　セイジ","男性","S審判","大分県"]
["R010313755","豊島　勇樹","４級","トヨシマ　ユウキ","男性","S審判","大分県"]
["R010552576","豊田　亜紀","４級","トヨダ　アキ","女性","S審判","大分県"]
["R010448248","豊田　颯花","４級","トヨダ　サヤカ","女性","S審判","大分県"]
["R003421170","豊田　裕司","４級","トヨダ　ヒロシ","男性","S審判","大分県"]
["R010546299","豊永　優介","４級","トヨナガ　ユウスケ","男性","S審判","大分県"]
["R010168000","仲　恭平","４級","ナカ　キョウヘイ","男性","S審判","大分県"]
["R010445845","仲　尚樹","４級","ナカ　ナオキ","男性","S審判","大分県"]
["R010539280","中尾　颯太","４級","ナカオ　ソウタ","男性","S審判","大分県"]
["R010120161","中尾　雅俊","４級","ナカオ　マサトシ","男性","S審判","大分県"]
["R010390441","中岡　駿","４級","ナカオカ　シュン","男性","S審判","大分県"]
["R004793931","中川　勝裕","４級","ナカガワ　カツヒロ","男性","S審判","大分県"]
["R001258880","中川　俊哉","４級","ナカガワ　トシヤ","男性","S審判","大分県"]
["R010432640","中川　陽斗","４級","ナカガワ　ハルト","男性","S審判","大分県"]
["R010263774","中川　蓮太","４級","ナカガワ　レンタ","男性","S審判","大分県"]
["R010448251","中倉　咲姫","４級","ナカクラ　サキ","女性","S審判","大分県"]
["R010549363","中倉　舞姫","４級","ナカクラ　マイ","女性","S審判","大分県"]
["R002530329","中島　大成","４級","ナカシマ　オオナリ","男性","S審判","大分県"]
["R010388049","中島　魁利","４級","ナカシマ　カイリ","男性","S審判","大分県"]
["R010162981","中島　柊","４級","ナカシマ　シュウ","男性","S審判","大分県"]
["R010396594","中島　忠伸","４級","ナカシマ　タダノブ","男性","S審判","大分県"]
["R010396533","中嶋　哲也","４級","ナカシマ　テツヤ","男性","S審判","大分県"]
["R010167786","中島　湧友","４級","ナカシマ　ユウト","男性","S審判","大分県"]
["R010546327","中島　陸斗","４級","ナカシマ　リクト","男性","S審判","大分県"]
["R010214567","中嶋　完","４級","ナカジマ　タモツ","男性","S審判","大分県"]
["R001258914","中嶋　結孝","４級","ナカジマ　ユウコウ","男性","S審判","大分県"]
["R010281836","仲宗根　玄昌","４級","ナカソネ　ゲンショウ","男性","S審判","大分県"]
["R010083855","中津留　海翔","４級","ナカツル　カイト","男性","S審判","大分県"]
["R006125602","中津留　正三","４級","ナカツル　ショウゾウ","男性","S審判","大分県"]
["R010432607","中津留　蓮","４級","ナカツル　レン","男性","S審判","大分県"]
["R007334942","中津留　治将","４級","ナカヅル　ハルマサ","男性","S審判","大分県"]
["R002917412","中西　智彦","４級","ナカニシ　トモヒコ","男性","S審判","大分県"]
["R010546313","中根　漸","４級","ナカネ　ゼン","男性","S審判","大分県"]
["R001259038","中根　幹雄","４級","ナカネ　ミキオ","男性","S審判","大分県"]
["R010056094","中根　武蔵","４級","ナカネ　ムサシ","男性","S審判","大分県"]
["R010281799","中野　明","４級","ナカノ　アキラ","男性","S審判","大分県"]
["R010542202","中野　匠","４級","ナカノ　タクミ","男性","S審判","大分県"]
["R001259056","中野　俊宏","４級","ナカノ　トシヒロ","男性","S審判","大分県"]
["R010093448","中野　智博","４級","ナカノ　トモヒロ","男性","S審判","大分県"]
["R010078598","中野　浩志","４級","ナカノ　ヒロシ","男性","S審判","大分県"]
["R010281853","中野　竜太","４級","ナカノ　リュウタ","男性","S審判","大分県"]
["R006574394","中畑　光宏","４級","ナカハタ　ミツヒロ","男性","S審判","大分県"]
["R010396575","中原　壱春","４級","ナカハラ　イチハル","男性","S審判","大分県"]
["R010546291","中原　笙","４級","ナカハラ　ショウ","男性","S審判","大分県"]
["R010261596","中平　康士朗","４級","ナカヒラ　コウシロウ","男性","S審判","大分県"]
["R001251896","中間　敏彦","４級","ナカマ　トシヒコ","男性","S審判","大分県"]
["R010354814","中溝　遥","４級","ナカミゾ　ハル","男性","S審判","大分県"]
["R010354801","中道　裕斗","４級","ナカミチ　ユウト","男性","S審判","大分県"]
["R010016109","仲村　晃和","４級","ナカムラ　アキト","男性","S審判","大分県"]
["R010391933","中村　出海","４級","ナカムラ　イズミ","男性","S審判","大分県"]
["R010538378","中村　海晴","４級","ナカムラ　カイセイ","男性","S審判","大分県"]
["R003316948","中村　冴里","４級","ナカムラ　サエリ","女性","S審判","大分県"]
["R010467694","中邑　惺良","４級","ナカムラ　セラ","男性","S審判","大分県"]
["R010432643","中村　奏太","４級","ナカムラ　ソウタ","男性","S審判","大分県"]
["R009197585","中村　智美","４級","ナカムラ　トモミ","女性","S審判","大分県"]
["R001251911","中村　真彦","４級","ナカムラ　マサヒコ","男性","S審判","大分県"]
["R010444500","中村　洋三","４級","ナカムラ　ヨウゾウ","男性","S審判","大分県"]
["R009198274","中村　洋太","４級","ナカムラ　ヨウタ","男性","S審判","大分県"]
["R010448938","中村　怜音","４級","ナカムラ　レオン","男性","S審判","大分県"]
["R010538407","中谷　翔","４級","ナカヤ　ショウ","男性","S審判","大分県"]
["R010376273","中山　忍","４級","ナカヤマ　シノブ","男性","S審判","大分県"]
["R010542206","中渡瀬　翔和","４級","ナカワタセ　トワ","男性","S審判","大分県"]
["R010376280","中渡瀬　真樹","４級","ナカワタセ　マキ","男性","S審判","大分県"]
["R010167747","永井　啓太朗","４級","ナガイ　ケイタロウ","男性","S審判","大分県"]
["R010352943","永井　秀","４級","ナガイ　シュウ","男性","S審判","大分県"]
["R010240580","永井　智大","４級","ナガイ　トモヒロ","男性","S審判","大分県"]
["R010546316","永井　陽","４級","ナガイ　ハル","男性","S審判","大分県"]
["R010538398","長井　瑠之介","４級","ナガイ　リュウノスケ","男性","S審判","大分県"]
["R010214609","長尾　浩希","４級","ナガオ　コウキ","男性","S審判","大分県"]
["R010281817","永尾　透","４級","ナガオ　トオル","男性","S審判","大分県"]
["R010376366","長岡　範","４級","ナガオカ　ススム","男性","S審判","大分県"]
["R010448231","永岡　才拓","４級","ナガオカ　タカヒロ","男性","S審判","大分県"]
["R010445848","長岡　巧磨","４級","ナガオカ　タクマ","男性","S審判","大分県"]
["R010465608","長岡　大介","４級","ナガオカ　ダイスケ","男性","S審判","大分県"]
["R010390438","永田　壮一郎","４級","ナガタ　ソウイチロウ","男性","S審判","大分県"]
["R010546277","永田　悠一郎","４級","ナガタ　ユウイチロウ","男性","S審判","大分県"]
["R010448244","長田　佳洋","４級","ナガタ　ヨシヒロ","男性","S審判","大分県"]
["R010214622","永冨　真依","４級","ナガトミ　マイ","女性","S審判","大分県"]
["R010538406","長野　新","４級","ナガノ　アラタ","男性","S審判","大分県"]
["R010465597","長野　武史","４級","ナガノ　タケシ","男性","S審判","大分県"]
["R010448245","永野　暁希","４級","ナガノ　トシキ","男性","S審判","大分県"]
["R010388058","長野　優飛","４級","ナガノ　ユウヒ","男性","S審判","大分県"]
["R010259414","永松　和寿","４級","ナガマツ　カズトシ","男性","S審判","大分県"]
["R005528264","永松　裕史","４級","ナガマツ　ヒロシ","男性","S審判","大分県"]
["R010396535","永松　正規","４級","ナガマツ　マサキ","男性","S審判","大分県"]
["R010465582","永松　賢俊","４級","ナガマツ　マサトシ","男性","S審判","大分県"]
["R010390434","長溝　遥","４級","ナガミゾ　ハル","男性","S審判","大分県"]
["R005527353","永山　正樹","４級","ナガヤマ　マサキ","男性","S審判","大分県"]
["R010193705","長山　祐介","４級","ナガヤマ　ユウスケ","男性","S審判","大分県"]
["R005987403","流川　新","４級","ナガレカワ　アラタ","男性","S審判","大分県"]
["R010027829","奈須　大和","４級","ナス　ヤマト","男性","S審判","大分県"]
["R009072295","奈須野　安侑里","４級","ナスノ　アユリ","女性","S審判","大分県"]
["R010546273","奈須野　友登","４級","ナスノ　ユウト","男性","S審判","大分県"]
["R010542210","奈良　虎汰郎","４級","ナラ　コタロウ","男性","S審判","大分県"]
["R010453582","楢崎　嵩斗","４級","ナラサキ　シュウト","男性","S審判","大分県"]
["R010538327","成松　怜音","４級","ナリマツ　レオ","男性","S審判","大分県"]
["R010542208","鳴海　翔丸","４級","ナルミ　ショウマル","男性","S審判","大分県"]
["R010538356","縄田　遊乃亮","４級","ナワタ　ユウノスケ","男性","S審判","大分県"]
["R010542193","南里　仁士","４級","ナンリ　ヒロト","男性","S審判","大分県"]
["R010356119","新名　翔太","４級","ニイナ　ショウタ","男性","S審判","大分県"]
["R010356118","新名　拓哉","４級","ニイナ　タクヤ","男性","S審判","大分県"]
["R010358010","新納　永遠","４級","ニイノ　トワ","男性","S審判","大分県"]
["R010314809","西尾　圭翔","４級","ニシオ　ケイト","男性","S審判","大分県"]
["R004386023","西尾　拓之","４級","ニシオ　ヒロユキ","男性","S審判","大分県"]
["R010303856","西尾　陸","４級","ニシオ　リク","男性","S審判","大分県"]
["R001251957","西岡　京一郎","４級","ニシオカ　ケイイチロウ","男性","S審判","大分県"]
["R010538313","西角　航兵","４級","ニシカド　コウヘイ","男性","S審判","大分県"]
["R010453597","西角　陽佑","４級","ニシカド　ヨウスケ","男性","S審判","大分県"]
["R010393995","西田　愛奈","４級","ニシダ　アイナ","女性","S審判","大分県"]
["R010396501","西田　翔","４級","ニシダ　ショウ","男性","S審判","大分県"]
["R010391944","西野　凌平","４級","ニシノ　リョウヘイ","男性","S審判","大分県"]
["R010465601","西山　純平","４級","ニシヤマ　ジュンペイ","男性","S審判","大分県"]
["R010448937","新田　莉生","４級","ニッタ　リオ","男性","S審判","大分県"]
["R010261590","二宮　叶汰","４級","ニノミヤ　カナタ","男性","S審判","大分県"]
["R010261589","二宮　慶太","４級","ニノミヤ　ケイタ","男性","S審判","大分県"]
["R010465600","二宮　鯛介","４級","ニノミヤ　タイスケ","男性","S審判","大分県"]
["R010538405","二宮　拓篤","４級","ニノミヤ　タクマ","男性","S審判","大分県"]
["R010281837","二宮　大己","４級","ニノミヤ　ダイキ","男性","S審判","大分県"]
["R010096809","二宮　大作","４級","ニノミヤ　ダイサク","男性","S審判","大分県"]
["R004055664","二宮　康彰","４級","ニノミヤ　ヤスアキ","男性","S審判","大分県"]
["R010432638","仁部屋　透晃","４級","ニブヤ　トウキ","男性","S審判","大分県"]
["R010396551","丹生　良三","４級","ニュウ　リョウゾウ","男性","S審判","大分県"]
["R010306454","入田　裕治","４級","ニュウタ　ユウジ","男性","S審判","大分県"]
["R010390433","庭瀬　元希","４級","ニワセ　ゲンキ","男性","S審判","大分県"]
["R010444496","大戸　匠","４級","ネギ　タクミ","男性","S審判","大分県"]
["R010376301","野上　拳跳","４級","ノガミ　ケント","男性","S審判","大分県"]
["R010552556","野上　哲弘","４級","ノガミ　ヨシヒロ","男性","S審判","大分県"]
["R010027878","野口　一輝","４級","ノグチ　カズキ","男性","S審判","大分県"]
["R010396600","野口　源若","４級","ノグチ　ゲンワ","男性","S審判","大分県"]
["R002917333","野口　康二郎","４級","ノグチ　コウジロウ","男性","S審判","大分県"]
["R010027885","野口　智隆","４級","ノグチ　トモタカ","男性","S審判","大分県"]
["R010432606","野口　我太生","４級","ノグチ　ワタル","男性","S審判","大分県"]
["R010453583","野尻　慎之助","４級","ノジリ　シンノスケ","男性","S審判","大分県"]
["R005527830","野尻　崇","４級","ノジリ　タカシ","男性","S審判","大分県"]
["R010540708","野尻　拓弥","４級","ノジリ　タクヤ","男性","S審判","大分県"]
["R010306450","野田　啓佑","４級","ノダ　ケイスケ","男性","S審判","大分県"]
["R010214592","野田　航平","４級","ノダ　コウヘイ","男性","S審判","大分県"]
["R010080607","野田　晶生","４級","ノダ　マサオ","男性","S審判","大分県"]
["R010445241","野中　慎之介","４級","ノナカ　シンノスケ","男性","S審判","大分県"]
["R010453577","野々下　蒼斗","４級","ノノシタ　アオト","男性","S審判","大分県"]
["R001259436","野村　辰寿","４級","ノムラ　タツヒサ","男性","S審判","大分県"]
["R006125736","野村　哲也","４級","ノムラ　テツヤ","男性","S審判","大分県"]
["R010354811","野村　春希","４級","ノムラ　ハルキ","男性","S審判","大分県"]
["R010540707","野村　陸翔","４級","ノムラ　リクト","男性","S審判","大分県"]
["R010303877","野村　凌","４級","ノムラ　リョウ","男性","S審判","大分県"]
["R010430157","野元　雅矢","４級","ノモト　マサヤ","男性","S審判","大分県"]
["R010388042","野依　桂","４級","ノヨリ　ケイ","男性","S審判","大分県"]
["R006544278","則次　祐介","４級","ノリツギ　ユウスケ","男性","S審判","大分県"]
["R004714721","袴田　真吾","４級","ハカマダ　シンゴ","男性","S審判","大分県"]
["R010552557","羽迫　吏久","４級","ハサコ　リク","男性","S審判","大分県"]
["R010450135","挾間　裕生","４級","ハザマ　ユウキ","男性","S審判","大分県"]
["R010352972","間　勇翔","４級","ハザマ　ユウショウ","男性","S審判","大分県"]
["R010396567","狹間　優人","４級","ハザマ　ユウト","男性","S審判","大分県"]
["R010314814","橋口　一斗","４級","ハシグチ　イット","男性","S審判","大分県"]
["R010396540","橋本　壮旦","４級","ハシモト　ソウタ","男性","S審判","大分県"]
["R006221012","橋本　敏邦","４級","ハシモト　トシクニ","男性","S審判","大分県"]
["R007959440","橋本　伸忠","４級","ハシモト　ノブタダ","男性","S審判","大分県"]
["R010546293","橋本　祐司","４級","ハシモト　ユウジ","男性","S審判","大分県"]
["R007729098","長谷　明治","４級","ハセ　アキハル","男性","S審判","大分県"]
["R010445839","秦　碧空","４級","ハタ　アオイ","男性","S審判","大分県"]
["R010432639","畑　央斗","４級","ハタ　ヒロト","男性","S審判","大分県"]
["R010248571","畑中　恒輝","４級","ハタナカ　コウキ","男性","S審判","大分県"]
["R010542178","畑中　康祐","４級","ハタナカ　コウスケ","男性","S審判","大分県"]
["R010100679","畑中　祝勝","４級","ハタナカ　ノリカツ","男性","S審判","大分県"]
["R010314826","畑中　大和","４級","ハタナカ　ヤマト","男性","S審判","大分県"]
["R010546322","畑中　陽介","４級","ハタナカ　ヨウスケ","男性","S審判","大分県"]
["R010352984","畑野　新司","４級","ハタノ　シンジ","男性","S審判","大分県"]
["R010281859","羽田野　凪","４級","ハタノ　ナギ","男性","S審判","大分県"]
["R010007845","波多野　政美","４級","ハタノ　マサミ","男性","S審判","大分県"]
["R010347358","畑辺　康年","４級","ハタベ　ヤストシ","男性","S審判","大分県"]
["R010542191","羽立　智宣","４級","ハダテ　トモノリ","男性","S審判","大分県"]
["R010544476","羽田野　天空","４級","ハダノ　ソラ","男性","S審判","大分県"]
["R010376287","羽田野　裕之","４級","ハダノ　ヒロユキ","男性","S審判","大分県"]
["R010169052","羽田野　将斗","４級","ハダノ　マサト","男性","S審判","大分県"]
["R003421116","波津久　雄平","４級","ハツク　ユウヘイ","男性","S審判","大分県"]
["R010538343","花木　賢斗","４級","ハナキ　ケント","男性","S審判","大分県"]
["R010468361","花田　俊介","４級","ハナダ　シュンスケ","男性","S審判","大分県"]
["R010386809","花宮　うの","４級","ハナミヤ　ウノ","女性","S審判","大分県"]
["R010468353","花宮　龍之介","４級","ハナミヤ　リュウノスケ","男性","S審判","大分県"]
["R001259579","濱崎　賢一","４級","ハマサキ　ケンイチ","男性","S審判","大分県"]
["R010390420","浜崎　颯太","４級","ハマサキ　ソウタ","男性","S審判","大分県"]
["R010352977","濱砂　樹","４級","ハマスナ　イツキ","男性","S審判","大分県"]
["R010093435","濱田　尚希","４級","ハマダ　ナオキ","男性","S審判","大分県"]
["R010467633","濱野　秀一郎","４級","ハマノ　シュウイチロウ","男性","S審判","大分県"]
["R006221100","浜町　隆蒔","４級","ハママチ　リュウジ","男性","S審判","大分県"]
["R010540706","早木　悠登","４級","ハヤキ　ユウト","男性","S審判","大分県"]
["R010453586","林　勇陽","４級","ハヤシ　ユウヒ","男性","S審判","大分県"]
["R010396503","林田　健太","４級","ハヤシダ　ケンタ","男性","S審判","大分県"]
["R008626965","原　海斗","４級","ハラ　カイト","男性","S審判","大分県"]
["R009528800","原　和将","４級","ハラ　カズマサ","男性","S審判","大分県"]
["R006937113","原　大恭","４級","ハラ　ダイスケ","男性","S審判","大分県"]
["R006220095","原　正佳","４級","ハラ　マサヨシ","男性","S審判","大分県"]
["R010243653","原田　圭","４級","ハラダ　ケイ","男性","S審判","大分県"]
["R010259430","原田　光清","４級","ハラダ　コウセイ","男性","S審判","大分県"]
["R010542170","原田　剛","４級","ハラダ　ゴウ","男性","S審判","大分県"]
["R010432628","原田　隼大","４級","ハラダ　シュンタ","男性","S審判","大分県"]
["R010100690","原田　拓弥","４級","ハラダ　タクミ","男性","S審判","大分県"]
["R001259685","原田　健士","４級","ハラダ　タケシ","男性","S審判","大分県"]
["R004747215","原田　宗法","４級","ハラダ　ムネノリ","男性","S審判","大分県"]
["R010189330","原田　裕規","４級","ハラダ　ユウキ","男性","S審判","大分県"]
["R010432649","原田　琉唯","４級","ハラダ　ルイ","男性","S審判","大分県"]
["R010552578","針宮　孝典","４級","ハリミヤ　タカノリ","男性","S審判","大分県"]
["R010376309","馬場　一颯","４級","ババ　カズサ","男性","S審判","大分県"]
["R010540705","馬場　晴大","４級","ババ　ハルト","男性","S審判","大分県"]
["R004111605","馬場　睦紀","４級","ババ　ムツキ","男性","S審判","大分県"]
["R010376345","東　大晟","４級","ヒガシ　タイセイ","男性","S審判","大分県"]
["R010546334","東　拓海","４級","ヒガシ　タクミ","男性","S審判","大分県"]
["R010453600","東　喜礼","４級","ヒガシ　ハルノリ","男性","S審判","大分県"]
["R010391930","東方　優也","４級","ヒガシカタ　ユウヤ","男性","S審判","大分県"]
["R010538330","疋田　和正","４級","ヒキタ　カズマサ","男性","S審判","大分県"]
["R010468362","疋田　真吾","４級","ヒキダ　シンゴ","男性","S審判","大分県"]
["R010546331","樋口　咲哉","４級","ヒグチ　サクヤ","男性","S審判","大分県"]
["R010376333","日隈　駿","４級","ヒグマ　シュン","男性","S審判","大分県"]
["R010542201","肥後　克匡","４級","ヒゴ　カツマサ","男性","S審判","大分県"]
["R010313751","日坂　仁哉","４級","ヒサカ　マサヤ","男性","S審判","大分県"]
["R003350890","久田　祥孝","４級","ヒサダ　ヤスタカ","男性","S審判","大分県"]
["R010448934","久恒　碧哉","４級","ヒサツネ　リクヤ","男性","S審判","大分県"]
["R009533422","日高　世那","４級","ヒダカ　セナ","男性","S審判","大分県"]
["R010538346","日野　一平","４級","ヒノ　イッペイ","男性","S審判","大分県"]
["R010432629","日野　開智","４級","ヒノ　カイチ","男性","S審判","大分県"]
["R004111368","日野　崇","４級","ヒノ　タカシ","男性","S審判","大分県"]
["R010189332","姫野　賢吾","４級","ヒメノ　ケンゴ","男性","S審判","大分県"]
["R010390435","姫野　柊斗","４級","ヒメノ　シュウト","男性","S審判","大分県"]
["R010542172","姫野　祥吾","４級","ヒメノ　ショウゴ","男性","S審判","大分県"]
["R010351361","姫野　聖太","４級","ヒメノ　セイタ","男性","S審判","大分県"]
["R010352969","姫野　聖也","４級","ヒメノ　セイヤ","男性","S審判","大分県"]
["R010243665","姫野　青空","４級","ヒメノ　ソラ","男性","S審判","大分県"]
["R010449907","姫野　太一","４級","ヒメノ　タイチ","男性","S審判","大分県"]
["R007959194","姫野　貴裕","４級","ヒメノ　タカヒロ","男性","S審判","大分県"]
["R010027875","姫野　太輔","４級","ヒメノ　ダイスケ","男性","S審判","大分県"]
["R010214596","姫野　晴人","４級","ヒメノ　ハルヒト","男性","S審判","大分県"]
["R010376279","姫野　雅俊","４級","ヒメノ　マサトシ","男性","S審判","大分県"]
["R009430435","姫野　真智代","４級","ヒメノ　マチヨ","女性","S審判","大分県"]
["R010453580","姫野　雄太","４級","ヒメノ　ユウタ","男性","S審判","大分県"]
["R010542187","兵頭　哲也","４級","ヒョウドウ　テツヤ","男性","S審判","大分県"]
["R010396576","平井　康寛","４級","ヒライ　ヤスヒロ","男性","S審判","大分県"]
["R010259426","平川　功ニ","４級","ヒラカワ　コウジ","男性","S審判","大分県"]
["R001259898","平川　孝幸","４級","ヒラカワ　タカユキ","男性","S審判","大分県"]
["R010444519","平川　龍大","４級","ヒラカワ　リョウタ","男性","S審判","大分県"]
["R010432600","平沼　鉄生","４級","ヒラヌマ　テッセイ","男性","S審判","大分県"]
["R001259986","平野　雅也","４級","ヒラノ　マサヤ","男性","S審判","大分県"]
["R010468351","平野　雅幸","４級","ヒラノ　マサユキ","男性","S審判","大分県"]
["R008174064","平野　道弘","４級","ヒラノ　ミチヒロ","男性","S審判","大分県"]
["R010248581","平野　靖成","４級","ヒラノ　ヤスナリ","男性","S審判","大分県"]
["R010376335","平野　泰寛","４級","ヒラノ　ヤスヒロ","男性","S審判","大分県"]
["R004386193","平畠　数大","４級","ヒラハタ　カズヒロ","男性","S審判","大分県"]
["R010214604","平林　昭二","４級","ヒラバヤシ　ショウジ","男性","S審判","大分県"]
["R010352938","平林　拓朗","４級","ヒラバヤシ　タクロウ","男性","S審判","大分県"]
["R001260016","平原　晃","４級","ヒラバラ　アキラ","男性","S審判","大分県"]
["R008797953","平原　悟","４級","ヒラバラ　サトル","男性","S審判","大分県"]
["R010159158","平松　孝汰朗","４級","ヒラマツ　コウタロウ","男性","S審判","大分県"]
["R010542207","平松　敬章","４級","ヒラマツ　タカアキ","男性","S審判","大分県"]
["R010450133","平山　雄太","４級","ヒラヤマ　コウタ","男性","S審判","大分県"]
["R010376295","平山　鷹也","４級","ヒラヤマ　タカヤ","男性","S審判","大分県"]
["R010467837","平山　大悟","４級","ヒラヤマ　ダイゴ","男性","S審判","大分県"]
["R010262652","廣瀬　長治","４級","ヒロセ　タケハル","男性","S審判","大分県"]
["R010390436","廣瀬　丈倖","４級","ヒロセ　トモユキ","男性","S審判","大分県"]
["R010069886","廣瀬　直軌","４級","ヒロセ　ナオキ","男性","S審判","大分県"]
["R008798253","廣瀬　尚人","４級","ヒロセ　ナオト","男性","S審判","大分県"]
["R006872296","廣瀬　光雄","４級","ヒロセ　ミツオ","男性","S審判","大分県"]
["R010351380","廣瀬　有気","４級","ヒロセ　ユウキ","男性","S審判","大分県"]
["R010449912","廣瀬　龍治","４級","ヒロセ　リュウジ","男性","S審判","大分県"]
["R010552575","廣瀬　亮","４級","ヒロセ　リョウ","男性","S審判","大分県"]
["R010538365","廣田　琉我","４級","ヒロタ　リュウガ","男性","S審判","大分県"]
["R010552539","廣峯　功一","４級","ヒロミネ　コウイチ","男性","S審判","大分県"]
["R010538370","深田　勝弥","４級","フカタ　カツヤ","男性","S審判","大分県"]
["R010538359","深野　達也","４級","フカノ　タツヤ","男性","S審判","大分県"]
["R010093449","深見　精二","４級","フカミ　セイジ","男性","S審判","大分県"]
["R010394158","福島　莉聖","４級","フクシマ　リセ","女性","S審判","大分県"]
["R010465622","福田　航陽","４級","フクダ　コウヨウ","男性","S審判","大分県"]
["R010281831","福田　紫月","４級","フクダ　シヅキ","男性","S審判","大分県"]
["R010501257","福田　知行","４級","フクダ　トモユキ","男性","S審判","大分県"]
["R010444513","福田　瑞樹","４級","フクダ　ミズキ","男性","S審判","大分県"]
["R010391917","福田　芳樹","４級","フクダ　ヨシキ","男性","S審判","大分県"]
["R010453589","福永　大起","４級","フクナガ　ダイキ","男性","S審判","大分県"]
["R010552547","福元　陸駆","４級","フクモト　リク","男性","S審判","大分県"]
["R010214568","藤井　俊輔","４級","フジイ　シュンスケ","男性","S審判","大分県"]
["R009408825","藤井　康之","４級","フジイ　ヤスユキ","男性","S審判","大分県"]
["R010352952","藤岡　典之","４級","フジオカ　ノリユキ","男性","S審判","大分県"]
["R010445838","藤川　碧冬","４級","フジカワ　アオト","男性","S審判","大分県"]
["R010313762","藤澤　康秀","４級","フジサワ　ヤスヒデ","男性","S審判","大分県"]
["R008173667","藤末　学","４級","フジスエ　マナブ","男性","S審判","大分県"]
["R010352946","藤田　翔","４級","フジタ　カケル","男性","S審判","大分県"]
["R010444499","藤田　恭輔","４級","フジタ　キョウスケ","男性","S審判","大分県"]
["R010358014","藤田　聖也","４級","フジタ　セイヤ","男性","S審判","大分県"]
["R010432652","藤田　大幹","４級","フジタ　タイキ","男性","S審判","大分県"]
["R010391946","藤田　輝","４級","フジタ　ヒカル","男性","S審判","大分県"]
["R006220837","藤高　豊彦","４級","フジタカ　トヨヒコ","男性","S審判","大分県"]
["R006123862","藤並　敬大","４級","フジナミ　タカヒロ","男性","S審判","大分県"]
["R010445245","藤並　優月","４級","フジナミ　ユヅキ","男性","S審判","大分県"]
["R010396574","藤野　聖也","４級","フジノ　セイヤ","男性","S審判","大分県"]
["R010396505","藤野　哲哉","４級","フジノ　テツヤ","男性","S審判","大分県"]
["R007090941","藤野　誠","４級","フジノ　マコト","男性","S審判","大分県"]
["R010396545","藤松　秀那","４級","フジマツ　シュウナ","男性","S審判","大分県"]
["R003351233","藤松　竜也","４級","フジマツ　タツヤ","男性","S審判","大分県"]
["R010214617","藤本　宏平","４級","フジモト　コウヘイ","男性","S審判","大分県"]
["R010303865","藤本　諒哉","４級","フジモト　リョウヤ","男性","S審判","大分県"]
["R010467576","藤由　陵司","４級","フジヨシ　リョウジ","男性","S審判","大分県"]
["R010552572","藤原　昌","４級","フジワラ　アキラ","男性","S審判","大分県"]
["R010421581","藤原　翔大","４級","フジワラ　ショウタ","男性","S審判","大分県"]
["R010448931","藤原　迅","４級","フジワラ　ジン","男性","S審判","大分県"]
["R005467945","藤原　妙子","４級","フジワラ　タエコ","女性","S審判","大分県"]
["R010281867","藤原　茅花紗","４級","フジワラ　ツバサ","女性","S審判","大分県"]
["R010352967","藤原　遥斗","４級","フジワラ　ハルト","男性","S審判","大分県"]
["R007959547","藤原　宏","４級","フジワラ　ヒロシ","男性","S審判","大分県"]
["R010540715","二木　彪太郎","４級","フタツキ　コタロウ","男性","S審判","大分県"]
["R010376304","渕上　力輝","４級","フチガミ　リキ","男性","S審判","大分県"]
["R010396555","渕野　椋斗","４級","フチノ　リョウト","男性","S審判","大分県"]
["R010539285","冨米野　祐輔","４級","フメノ　ユウスケ","男性","S審判","大分県"]
["R010243661","古川　大翔","４級","フルカワ　ヒロト","男性","S審判","大分県"]
["R010538352","古代　峻也","４級","フルシロ　シュンヤ","男性","S審判","大分県"]
["R010468338","古田　健悟","４級","フルタ　ケンゴ","男性","S審判","大分県"]
["R010432642","古寺　明日架","４級","フルテラ　アスカ","男性","S審判","大分県"]
["R010396566","古野　渉","４級","フルノ　ワタル","男性","S審判","大分県"]
["R001260405","古畑　親治","４級","フルハタ　シンジ","男性","S審判","大分県"]
["R002678009","保明　栄治","４級","ホアキ　エイジ","男性","S審判","大分県"]
["R010214547","帆足　大","４級","ホアシ　ダイ","男性","S審判","大分県"]
["R010314803","帆足　優莉","４級","ホアシ　ユウリ","男性","S審判","大分県"]
["R010347384","宝珠　史洋","４級","ホウス　フミヒロ","男性","S審判","大分県"]
["R010444504","法野　功太郎","４級","ホウノ　コウタロウ","男性","S審判","大分県"]
["R010448927","外池　健流","４級","ホカイケ　タケル","男性","S審判","大分県"]
["R010056105","星野　杏","４級","ホシノ　キョウ","男性","S審判","大分県"]
["R009484728","星野　嵐","４級","ホシノ　ラン","男性","S審判","大分県"]
["R010542174","邉　拓哉","４級","ホトリ　タクヤ","男性","S審判","大分県"]
["R010444520","堀　悠佑","４級","ホリ　ユウスケ","男性","S審判","大分県"]
["R010356144","堀　優太","４級","ホリ　ユウタ","男性","S審判","大分県"]
["R010448646","堀田　憲利","４級","ホリタ　ケント","男性","S審判","大分県"]
["R010538385","堀田　東寿","４級","ホリタ　トウシュウ","男性","S審判","大分県"]
["R010376308","堀部　奏人","４級","ホリベ　カナト","男性","S審判","大分県"]
["R010448636","本郷　魁正","４級","ホンゴウ　カイセイ","男性","S審判","大分県"]
["R010354651","本城　瑛翔","４級","ホンジョウ　アキト","男性","S審判","大分県"]
["R010552533","本田　敬恭","４級","ホンダ　ケイスケ","男性","S審判","大分県"]
["R001258899","本田　淳仁","４級","ホンダ　ジュンジ","男性","S審判","大分県"]
["R010540716","眞榮城　倫希","４級","マエシロ　トモキ","男性","S審判","大分県"]
["R010314830","前園　健晴","４級","マエゾノ　ケンセイ","男性","S審判","大分県"]
["R006220192","前田　貴浩","４級","マエダ　タカヒロ","男性","S審判","大分県"]
["R010546301","前田　達也","４級","マエダ　タツヤ","男性","S審判","大分県"]
["R010432653","マガリェンス　アルナウド","４級","マガリェンス　アルナウド","男性","S審判","大分県"]
["R010467248","牧　耕成","４級","マキ　コウセイ","男性","S審判","大分県"]
["R010467247","牧　俊成","４級","マキ　シュンセイ","男性","S審判","大分県"]
["R010093496","牧　大佑","４級","マキ　ダイスケ","男性","S審判","大分県"]
["R010538362","牧　優空","４級","マキ　ユラ","男性","S審判","大分県"]
["R008793276","牧野　翔","４級","マキノ　カケル","男性","S審判","大分県"]
["R010449558","桝永　真斗","４級","マスナガ　マナト","男性","S審判","大分県"]
["R010214601","増野　凌雅","４級","マスノ　リョウガ","男性","S審判","大分県"]
["R010467242","鱒村　昂一","４級","マスムラ　コウイチ","男性","S審判","大分県"]
["R010432611","松尾　歩","４級","マツオ　アユム","男性","S審判","大分県"]
["R007753660","松尾　和文","４級","マツオ　カズフミ","男性","S審判","大分県"]
["R005528097","松尾　国洋","４級","マツオ　クニヒロ","男性","S審判","大分県"]
["R007334951","松尾　賢一","４級","マツオ　ケンイチ","男性","S審判","大分県"]
["R010444487","松尾　征吾","４級","マツオ　セイゴ","男性","S審判","大分県"]
["R010448941","松尾　晴登","４級","マツオ　ハルト","男性","S審判","大分県"]
["R010007816","松尾　勇","４級","マツオ　ユウ","男性","S審判","大分県"]
["R010391936","松尾　涼真","４級","マツオ　リョウマ","男性","S審判","大分県"]
["R010390430","松尾　玲桜馬","４級","マツオ　レオマ","男性","S審判","大分県"]
["R010465583","松岡　辰倫","４級","マツオカ　タツノリ","男性","S審判","大分県"]
["R010465616","松川　貴大","４級","マツカワ　タカヒロ","男性","S審判","大分県"]
["R010415908","松坂　童夢","４級","マツザカ　ドウム","男性","S審判","大分県"]
["R010538334","松崎　朱音","４級","マツザキ　アヤネ","女性","S審判","大分県"]
["R010546314","松崎　壮悟","４級","マツザキ　ショウゴ","男性","S審判","大分県"]
["R010396597","松﨑　裕太郎","４級","マツザキ　ユウタロウ","男性","S審判","大分県"]
["R010390425","松下　昂玄","４級","マツシタ　アキハル","男性","S審判","大分県"]
["R010390437","松下　昊稀","４級","マツシタ　コウキ","男性","S審判","大分県"]
["R010546338","松下　琴春","４級","マツシタ　コハル","女性","S審判","大分県"]
["R010390426","松下　真也","４級","マツシタ　シンヤ","男性","S審判","大分県"]
["R007959723","松下　立夫","４級","マツシタ　タテオ","男性","S審判","大分県"]
["R010552545","松島　大真","４級","マツシマ　ダイシン","男性","S審判","大分県"]
["R010448936","松高　蓮","４級","マツタカ　レン","男性","S審判","大分県"]
["R010311808","松田　信行","４級","マツダ　ノブユキ","男性","S審判","大分県"]
["R010539288","松田　晴輝","４級","マツダ　ハルキ","男性","S審判","大分県"]
["R010214585","松胴　敦","４級","マツドウ　アツシ","男性","S審判","大分県"]
["R010552549","松原　樹","４級","マツバラ　イツキ","男性","S審判","大分県"]
["R010376327","松原　舜","４級","マツバラ　シュン","男性","S審判","大分県"]
["R010432598","松原　巧","４級","マツバラ　タクミ","男性","S審判","大分県"]
["R007002991","松原　広幸","４級","マツバラ　ヒロユキ","男性","S審判","大分県"]
["R004714970","松原　政司","４級","マツバラ　マサシ","男性","S審判","大分県"]
["R010347359","松原　唯衣","４級","マツバラ　ユイ","女性","S審判","大分県"]
["R010354652","松村　晟直","４級","マツムラ　セイマ","男性","S審判","大分県"]
["R010416214","松村　未来","４級","マツムラ　ミク","女性","S審判","大分県"]
["R010542165","松村　優希","４級","マツムラ　ユウキ","男性","S審判","大分県"]
["R010538291","松本　元希","４級","マツモト　ゲンキ","男性","S審判","大分県"]
["R010093445","松本　侑樹","４級","マツモト　ユウキ","男性","S審判","大分県"]
["R004793940","松本　祐輔","４級","マツモト　ユウスケ","男性","S審判","大分県"]
["R010388044","松屋　海","４級","マツヤ　カイ","男性","S審判","大分県"]
["R010546270","松山　琉維","４級","マツヤマ　ルイ","男性","S審判","大分県"]
["R010451954","松雪　浩俊","４級","マツユキ　ヒロトシ","男性","S審判","大分県"]
["R010007817","松吉　宏剛","４級","マツヨシ　ヒロマサ","男性","S審判","大分県"]
["R010358003","三浦　櫂斗","４級","ミウラ　カイト","男性","S審判","大分県"]
["R008634283","三浦　憲太郎","４級","ミウラ　ケンタロウ","男性","S審判","大分県"]
["R010281804","三浦　建人","４級","ミウラ　ケント","男性","S審判","大分県"]
["R010376286","三浦　弘大","４級","ミウラ　コウダイ","男性","S審判","大分県"]
["R010467585","三浦　舜平","４級","ミウラ　シュンペイ","男性","S審判","大分県"]
["R010453592","三浦　大雅","４級","ミウラ　タイガ","男性","S審判","大分県"]
["R010120131","三浦　哲郎","４級","ミウラ　テツロウ","男性","S審判","大分県"]
["R010538321","三浦　朋尚","４級","ミウラ　トモヒサ","男性","S審判","大分県"]
["R010432617","三浦　永遠","４級","ミウラ　トワ","男性","S審判","大分県"]
["R010445836","三浦　隼","４級","ミウラ　ハヤト","男性","S審判","大分県"]
["R010451960","三浦　颯仁","４級","ミウラ　ハヤト","男性","S審判","大分県"]
["R006932437","三浦　雄大","４級","ミウラ　ユウダイ","男性","S審判","大分県"]
["R010538372","三浦　吏琥","４級","ミウラ　リク","男性","S審判","大分県"]
["R006125772","三重野　英人","４級","ミエノ　ヒデト","男性","S審判","大分県"]
["R010451962","三ヶ尻　匠吾","４級","ミカジリ　ショウゴ","男性","S審判","大分県"]
["R008523181","三木　慎博","４級","ミキ　ノリヒロ","男性","S審判","大分県"]
["R010542192","右田　茂之","４級","ミギタ　シゲユキ","男性","S審判","大分県"]
["R010391914","三代　賢司","４級","ミシロ　ケンジ","男性","S審判","大分県"]
["R010453591","三代　脩","４級","ミシロ　シュウ","男性","S審判","大分県"]
["R004060374","水島　義規","４級","ミズシマ　ヨシノリ","男性","S審判","大分県"]
["R010539946","水城　莉緒斗","４級","ミズシロ　リオト","男性","S審判","大分県"]
["R010465615","水野　裕通","４級","ミズノ　ヒロミチ","男性","S審判","大分県"]
["R010449908","溝辺　哲也","４級","ミゾベ　テツヤ","男性","S審判","大分県"]
["R010538363","溝邉　陸馬","４級","ミゾベ　リクマ","男性","S審判","大分県"]
["R010467630","御手洗　慶吾","４級","ミタライ　ケイゴ","男性","S審判","大分県"]
["R004794073","御手洗　佑太","４級","ミタライ　ユウタ","男性","S審判","大分県"]
["R010386812","道久　絵理","４級","ミチヒサ　エリ","女性","S審判","大分県"]
["R010542196","道脇　陽介","４級","ミチワキ　ヨウスケ","男性","S審判","大分県"]
["R010376283","三井　雄大","４級","ミツイ　ユウダイ","男性","S審判","大分県"]
["R010465590","満永　啓祐","４級","ミツナガ　ケイスケ","男性","S審判","大分県"]
["R010546295","光長　好男","４級","ミツナガ　ヨシオ","男性","S審判","大分県"]
["R002917494","三笘　晋也","４級","ミトマ　シンヤ","男性","S審判","大分県"]
["R001261060","三苫　靖","４級","ミトマ　ヤスシ","男性","S審判","大分県"]
["R010350225","南　佳織","４級","ミナミ　カオリ","女性","S審判","大分県"]
["R010552554","南　煌大","４級","ミナミ　コウダイ","男性","S審判","大分県"]
["R010467693","南　創太","４級","ミナミ　ソウタ","男性","S審判","大分県"]
["R010352957","南　岳嗣","４級","ミナミ　タケシ","男性","S審判","大分県"]
["R010214563","峰尾　勝","４級","ミネオ　マサル","男性","S審判","大分県"]
["R003677432","三原　将弥","４級","ミハラ　マサヤ","男性","S審判","大分県"]
["R010376288","三股　正直","４級","ミマタ　タダナオ","男性","S審判","大分県"]
["R010376890","宮井　翔太","４級","ミヤイ　ショウタ","男性","S審判","大分県"]
["R010468360","宮迫　悟","４級","ミヤサコ　サトル","男性","S審判","大分県"]
["R010449906","宮崎　翼","４級","ミヤザキ　ツバサ","男性","S審判","大分県"]
["R004793852","宮崎　友雅","４級","ミヤザキ　トモマサ","男性","S審判","大分県"]
["R010465624","宮崎　裕司","４級","ミヤザキ　ユウジ","男性","S審判","大分県"]
["R010396588","宮里　直太郎","４級","ミヤザト　ナオタロウ","男性","S審判","大分県"]
["R010538357","宮成　亨治","４級","ミヤナリ　コウジ","男性","S審判","大分県"]
["R010402786","宮房　舞太朗","４級","ミヤフサ　ブンタロウ","男性","S審判","大分県","大分県"]
["R010261610","宮部　俊輝","４級","ミヤベ　トシキ","男性","S審判","大分県"]
["R010465579","宮本　圭一郎","４級","ミヤモト　ケイイチロウ","男性","S審判","大分県"]
["R010352966","宮本　健介","４級","ミヤモト　ケンスケ","男性","S審判","大分県"]
["R010390429","宮本　晄汰","４級","ミヤモト　コウタ","男性","S審判","大分県"]
["R010356116","宮本　崇史","４級","ミヤモト　タカシ","男性","S審判","大分県"]
["R010465928","宮本　大吾","４級","ミヤモト　ダイゴ","男性","S審判","大分県"]
["R010354797","宮本　陽紀","４級","ミヤモト　ハルキ","男性","S審判","大分県"]
["R010415889","宮本　遼一","４級","ミヤモト　リョウイチ","男性","S審判","大分県"]
["R010546285","宮本　怜旺","４級","ミヤモト　レオ","男性","S審判","大分県"]
["R010538328","宮脇　大芽","４級","ミヤワキ　タイガ","男性","S審判","大分県"]
["R010347376","三善　李空","４級","ミヨシ　リク","男性","S審判","大分県"]
["R010314817","向井　翔夢","４級","ムカイ　ツバサ","男性","S審判","大分県"]
["R010538333","武藤　匠海","４級","ムトウ　タクミ","男性","S審判","大分県"]
["R010247786","宗岡　胡桃","４級","ムナオカ　クルミ","女性","S審判","大分県"]
["R004793755","宗岡　亮次","４級","ムナオカ　リョウジ","男性","S審判","大分県"]
["R010358006","村井　栄仁","４級","ムライ　エイト","男性","S審判","大分県"]
["R010354655","村岡　拓海","４級","ムラオカ　タクミ","男性","S審判","大分県"]
["R010214582","村上　叶恋","４級","ムラカミ　カレン","女性","S審判","大分県"]
["R010314806","村上　煌誠","４級","ムラカミ　コウセイ","男性","S審判","大分県"]
["R010313763","村上　瑳彩","４級","ムラカミ　サアヤ","女性","S審判","大分県"]
["R010347370","村上　紫叶","４級","ムラカミ　シド","男性","S審判","大分県"]
["R010376898","村上　滉心","４級","ムラカミ　ヒロト","男性","S審判","大分県"]
["R001261237","村上　康哉","４級","ムラカミ　ヤスヤ","男性","S審判","大分県"]
["R010128051","村上　悠晟","４級","ムラカミ　ユウセイ","男性","S審判","大分県"]
["R001737174","村上　洋平","４級","ムラカミ　ヨウヘイ","男性","S審判","大分県"]
["R010546325","村田　龍二","４級","ムラタ　リュウジ","男性","S審判","大分県"]
["R010303878","村松　凌","４級","ムラマツ　リョウ","男性","S審判","大分県"]
["R010162976","村本　輝","４級","ムラモト　ヒカル","男性","S審判","大分県"]
["R008797908","村谷　祐一","４級","ムラヤ　ユウイチ","男性","S審判","大分県"]
["R010214562","村山　武志","４級","ムラヤマ　タケシ","男性","S審判","大分県"]
["R010468355","室　元樹","４級","ムロ　ゲンキ","男性","S審判","大分県"]
["R010314810","用松　聖登","４級","モチマツ　マサト","男性","S審判","大分県"]
["R010540714","本川　晴斗","４級","モトカワ　ハルト","男性","S審判","大分県"]
["R010306448","元木　勇太","４級","モトキ　ユウタ","男性","S審判","大分県"]
["R003421684","本野　秀貴","４級","モトノ　ヒデタカ","男性","S審判","大分県"]
["R010546272","百田　凌基","４級","モモタ　リョウキ","男性","S審判","大分県"]
["R010451959","森　綾斗","４級","モリ　アヤト","男性","S審判","大分県"]
["R010214605","森　恭子","４級","モリ　キョウコ","女性","S審判","大分県"]
["R010390423","森　健太朗","４級","モリ　ケンタロウ","男性","S審判","大分県"]
["R010538340","森　弦世","４級","モリ　ゲンセイ","男性","S審判","大分県"]
["R010465588","森　秀太","４級","モリ　シュウタ","男性","S審判","大分県"]
["R010553464","森　寛希","４級","モリ　ヒロキ","男性","S審判","大分県"]
["R010538303","森　凛桜","４級","モリ　リサ","女性","S審判","大分県"]
["R010214606","森　凛人","４級","モリ　リト","男性","S審判","大分県"]
["R010281811","森崎　敬三","４級","モリサキ　ケイゾウ","男性","S審判","大分県"]
["R010540702","森崎　陽輝","４級","モリサキ　ハルキ","男性","S審判","大分県"]
["R010448918","森崎　瑠聖","４級","モリサキ　リュウセイ","男性","S審判","大分県"]
["R010421575","森崎　瑠菜","４級","モリサキ　ルナ","女性","S審判","大分県"]
["R010261595","森迫　遥希","４級","モリサコ　ハルキ","男性","S審判","大分県"]
["R010415902","森下　柊飛","４級","モリシタ　シュウト","男性","S審判","大分県"]
["R010069888","森下　晴悟","４級","モリシタ　セイゴ","男性","S審判","大分県"]
["R010546286","森下　春翔","４級","モリシタ　ハルト","男性","S審判","大分県"]
["R009547081","森田　章吾","４級","モリタ　ショウゴ","男性","S審判","大分県"]
["R010391928","森田　尚貴","４級","モリタ　ナオキ","男性","S審判","大分県"]
["R010546280","盛田　柚九","４級","モリタ　ユズキ","男性","S審判","大分県"]
["R010259432","森永　和彦","４級","モリナガ　カズヒコ","男性","S審判","大分県"]
["R010538339","森永　悠太","４級","モリナガ　ユウタ","男性","S審判","大分県"]
["R010415904","森光　皇介","４級","モリミツ　オウスケ","男性","S審判","大分県"]
["R010538310","森山　藍琉","４級","モリヤマ　アイル","男性","S審判","大分県"]
["R010416219","森山　敦能","４級","モリヤマ　アツヒサ","男性","S審判","大分県"]
["R010448946","森山　大翔","４級","モリヤマ　ダイト","男性","S審判","大分県"]
["R010540723","森山　悠太","４級","モリヤマ　ユウタ","男性","S審判","大分県"]
["R010465599","薬師寺　康平","４級","ヤクシジ　コウヘイ","男性","S審判","大分県"]
["R010352985","薬師寺　章伊","４級","ヤクシジ　ショウイ","男性","S審判","大分県"]
["R009554735","八坂　直輝","４級","ヤサカ　ナオキ","男性","S審判","大分県"]
["R009460472","八坂　秀青","４級","ヤサカ　ヒデハル","男性","S審判","大分県"]
["R010396581","矢治　弘志郎","４級","ヤジ　コウシロウ","男性","S審判","大分県"]
["R007757602","保田　拓海","４級","ヤスダ　タクミ","男性","S審判","大分県"]
["R001261413","安永　正宏","４級","ヤスナガ　マサヒロ","男性","S審判","大分県"]
["R010093501","安波　俊英","４級","ヤスナミ　トシヒデ","男性","S審判","大分県"]
["R010376892","安久　克也","４級","ヤスヒサ　カツヤ","男性","S審判","大分県"]
["R010100689","保本　忠広","４級","ヤスモト　タダヒロ","男性","S審判","大分県"]
["R010314816","矢田　彩都","４級","ヤダ　アヤト","男性","S審判","大分県"]
["R010027880","柳井　颯太","４級","ヤナイ　ソウタ","男性","S審判","大分県"]
["R010467577","矢内　蒼丸","４級","ヤナイ　ソウマ","男性","S審判","大分県"]
["R010538290","柳井　雅貴","４級","ヤナイ　マサタカ","男性","S審判","大分県"]
["R010303889","柳　侑吾","４級","ヤナギ　ユウゴ","男性","S審判","大分県"]
["R010453584","柳本　龍成","４級","ヤナモト　リュウセイ","男性","S審判","大分県"]
["R010538389","矢野　伊織","４級","ヤノ　イオリ","男性","S審判","大分県"]
["R010415909","矢野　想翔","４級","ヤノ　ソウハ","男性","S審判","大分県"]
["R010281882","矢野　巽也","４級","ヤノ　タツヤ","男性","S審判","大分県"]
["R010255171","矢野　十央南","４級","ヤノ　トオナ","男性","S審判","大分県"]
["R010445840","矢野　虎乃介","４級","ヤノ　トラノスケ","男性","S審判","大分県"]
["R010542185","矢野　裕","４級","ヤノ　ユウ","男性","S審判","大分県"]
["R010078599","矢野　祐樹","４級","ヤノ　ユウキ","男性","S審判","大分県"]
["R010281830","矢野　譲","４級","ヤノ　ユズル","男性","S審判","大分県"]
["R010388051","矢野　陵太","４級","ヤノ　リョウタ","男性","S審判","大分県"]
["R010391952","矢羽田　澪音","４級","ヤハタ　レオン","男性","S審判","大分県"]
["R010352990","矢部　泰史","４級","ヤベ　タイシ","男性","S審判","大分県"]
["R010159134","山岡　航大","４級","ヤマオカ　コウダイ","男性","S審判","大分県"]
["R010354810","山岸　琥生","４級","ヤマギシ　コウ","男性","S審判","大分県"]
["R010538379","山口　翔大","４級","ヤマグチ　ショウタ","男性","S審判","大分県"]
["R010540724","山口　大空","４級","ヤマグチ　タク","男性","S審判","大分県"]
["R010553465","山口　優希翔","４級","ヤマグチ　ユキト","男性","S審判","大分県"]
["R010467642","山口　琉成","４級","ヤマグチ　リュウセイ","男性","S審判","大分県"]
["R010303867","山崎　健治","４級","ヤマサキ　ケンジ","男性","S審判","大分県"]
["R008174338","山﨑　爽暉","４級","ヤマサキ　ソウキ","男性","S審判","大分県"]
["R006220873","山崎　武志","４級","ヤマサキ　タケシ","男性","S審判","大分県"]
["R010553468","山崎　博文","４級","ヤマサキ　ヒロフミ","男性","S審判","大分県"]
["R010466473","山崎　哲也","４級","ヤマザキ　テツヤ","男性","S審判","大分県"]
["R010248576","山下　瞬亮","４級","ヤマシタ　シュンスケ","男性","S審判","大分県"]
["R010465613","山下　翔","４級","ヤマシタ　ショウ","男性","S審判","大分県"]
["R007090792","山下　寛明","４級","ヤマシタ　ヒロアキ","男性","S審判","大分県"]
["R010376893","山下　靖之","４級","ヤマシタ　ヤスユキ","男性","S審判","大分県"]
["R010396554","山下　勇翔","４級","ヤマシタ　ユウト","男性","S審判","大分県"]
["R010376896","山下　竜二","４級","ヤマシタ　リュウジ","男性","S審判","大分県"]
["R010358001","山添　陽生","４級","ヤマゾエ　ハルキ","男性","S審判","大分県"]
["R010214542","山田　宏和","４級","ヤマダ　ヒロカズ","男性","S審判","大分県"]
["R010396544","山田　結和","４級","ヤマダ　ユウト","男性","S審判","大分県"]
["R010303876","山西　翼","４級","ヤマニシ　ツバサ","男性","S審判","大分県"]
["R006220101","山根　雄治","４級","ヤマネ　ユウジ","男性","S審判","大分県"]
["R010546271","山野　流星心","４級","ヤマノ　スバル","男性","S審判","大分県"]
["R010445831","山野　裕斗","４級","ヤマノ　ユウト","男性","S審判","大分県"]
["R010390428","山村　一聡","４級","ヤマムラ　イッソウ","男性","S審判","大分県"]
["R010546339","山村　千代花","４級","ヤマムラ　チヨカ","女性","S審判","大分県"]
["R010538311","山村　悠己","４級","ヤマムラ　ユウキ","男性","S審判","大分県"]
["R010445843","山本　海璃","４級","ヤマモト　カイリ","男性","S審判","大分県"]
["R006872612","ヤマモト　一夫","４級","ヤマモト　カズオ","男性","S審判","大分県"]
["R006125639","山本　一広","４級","ヤマモト　カズヒロ","男性","S審判","大分県"]
["R010538335","山本　恵太郎","４級","ヤマモト　ケイタロウ","男性","S審判","大分県"]
["R005603228","山本　康平","４級","ヤマモト　コウヘイ","男性","S審判","大分県"]
["R010303888","山本　祥二","４級","ヤマモト　ショウジ","男性","S審判","大分県"]
["R010189317","山本　純平","４級","ヤマモト　ジュンペイ","男性","S審判","大分県"]
["R010376891","山本　空","４級","ヤマモト　ソラ","男性","S審判","大分県"]
["R009533608","山本　達之介","４級","ヤマモト　タツノスケ","男性","S審判","大分県"]
["R010542530","山本　太郎","４級","ヤマモト　タロウ","男性","S審判","大分県"]
["R010538381","山本　成彦","４級","ヤマモト　ノリヒコ","男性","S審判","大分県"]
["R010400187","山本　隼斗","４級","ヤマモト　ハヤト","男性","S審判","大分県"]
["R010539284","山本　成人","４級","ヤマモト　マサト","男性","S審判","大分県"]
["R010169047","山本　政之介","４級","ヤマモト　マサノスケ","男性","S審判","大分県"]
["R010546337","山本　獅王","４級","ヤマモト　レオ","男性","S審判","大分県"]
["R010214619","山矢　修冬","４級","ヤマヤ　シュウト","男性","S審判","大分県"]
["R005164312","矢幡　裕一","４級","ヤワタ　ユウイチ","男性","S審判","大分県"]
["R010169045","湯浅　翼","４級","ユアサ　ツバサ","男性","S審判","大分県"]
["R010448921","湯浅　諒","４級","ユアサ　リョウ","男性","S審判","大分県"]
["R010396590","幸　凱斗","４級","ユキ　カイト","男性","S審判","大分県"]
["R010465609","幸重　将輝","４級","ユキシゲ　マサキ","男性","S審判","大分県"]
["R010214620","雪野　知花","４級","ユキノ　チカ","女性","S審判","大分県"]
["R010352958","油野　陣大","４級","ユノ　ジンタ","男性","S審判","大分県"]
["R010261479","柚木　貴博","４級","ユノキ　タカヒロ","男性","S審判","大分県"]
["R010540703","湯ノ口　悠斗","４級","ユノクチ　ユウト","男性","S審判","大分県"]
["R010546330","用正　蓮歩","４級","ヨウショウ　レアル","男性","S審判","大分県"]
["R010214553","横尾　茂","４級","ヨコオ　シゲル","男性","S審判","大分県"]
["R010354817","横尾　夏希","４級","ヨコオ　ナツキ","男性","S審判","大分県"]
["R010376889","横尾　侑磨","４級","ヨコオ　ユウマ","男性","S審判","大分県"]
["R010538392","横飛　明","４級","ヨコトビ　アキラ","男性","S審判","大分県"]
["R010396519","横野　陸斗","４級","ヨコノ　リクト","男性","S審判","大分県"]
["R010391956","横道　俊輔","４級","ヨコミチ　シュンスケ","男性","S審判","大分県"]
["R010546315","吉井　琉輝斗","４級","ヨシイ　ルキト","男性","S審判","大分県"]
["R010553467","吉岡　大河","４級","ヨシオカ　タイガ","男性","S審判","大分県"]
["R010281855","吉川　哲平","４級","ヨシカワ　テッペイ","男性","S審判","大分県"]
["R010352978","吉川　徳彦","４級","ヨシカワ　ノリヒコ","男性","S審判","大分県"]
["R009430268","吉川　美里","４級","ヨシカワ　ミサト","女性","S審判","大分県"]
["R010465603","吉﨑　巧真","４級","ヨシザキ　タクマ","男性","S審判","大分県"]
["R003421480","吉武　毅","４級","ヨシタケ　ツヨシ","男性","S審判","大分県"]
["R010390427","吉田　蒼威","４級","ヨシダ　アオイ","男性","S審判","大分県"]
["R010542528","吉田　光騎","４級","ヨシダ　コウキ","男性","S審判","大分県"]
["R010538401","吉田　光","４級","ヨシダ　ヒカル","男性","S審判","大分県"]
["R010448929","吉田　匡","４級","ヨシダ　マサシ","男性","S審判","大分県"]
["R010553466","吉田　将志","４級","ヨシダ　マサシ","男性","S審判","大分県"]
["R010546341","吉田　桃花","４級","ヨシダ　モモカ","女性","S審判","大分県"]
["R010448644","吉永　優希","４級","ヨシナガ　ユウキ","男性","S審判","大分県"]
["R005603875","吉野　公司","４級","ヨシノ　コウジ","男性","S審判","大分県"]
["R010448917","吉野　大峨","４級","ヨシノ　タイガ","男性","S審判","大分県"]
["R010071979","吉野　遥紀","４級","ヨシノ　ハルキ","男性","S審判","大分県"]
["R008798466","吉原　喬樹","４級","ヨシハラ　タカキ","男性","S審判","大分県"]
["R010448638","吉廣　愛琉","４級","ヨシヒロ　アイル","男性","S審判","大分県"]
["R010396508","吉弘　周平","４級","ヨシヒロ　シュウヘイ","男性","S審判","大分県"]
["R010396595","吉廣　心太郎","４級","ヨシヒロ　シンタロウ","男性","S審判","大分県"]
["R010120134","吉廣　年男","４級","ヨシヒロ　トシオ","男性","S審判","大分県"]
["R010415907","吉弘　怜大","４級","ヨシヒロ　レオ","男性","S審判","大分県"]
["R010546294","吉松　敬次郎","４級","ヨシマツ　ケイジロウ","男性","S審判","大分県"]
["R001261918","吉松　健","４級","ヨシマツ　タケシ","男性","S審判","大分県"]
["R010538338","吉村　純平","４級","ヨシムラ　ジュンペイ","男性","S審判","大分県"]
["R010189303","吉村　一","４級","ヨシムラ　ハジメ","男性","S審判","大分県"]
["R010432635","吉村　由人","４級","ヨシムラ　ヨシト","男性","S審判","大分県"]
["R001261936","佳元　省三","４級","ヨシモト　ショウゾウ","男性","S審判","大分県"]
["R009533644","米倉　孝一","４級","ヨネクラ　コウイチ","男性","S審判","大分県"]
["R010396542","米澤　邦彦","４級","ヨネザワ　クニヒコ","男性","S審判","大分県"]
["R010451961","米田　剛","４級","ヨネダ　ゴウ","男性","S審判","大分県"]
["R001261972","米田　尚司","４級","ヨネダ　ショウジ","男性","S審判","大分県"]
["R010538376","米丸　碧","４級","ヨネマル　アオ","男性","S審判","大分県"]
["R010162992","若林　歩夢","４級","ワカバヤシ　アユム","男性","S審判","大分県"]
["R010281870","若林　大暉","４級","ワカバヤシ　ダイキ","男性","S審判","大分県"]
["R010520027","若林　真有","４級","ワカバヤシ　マユ","女性","S審判","大分県"]
["R010391934","若松　遼真","４級","ワカマツ　リョウマ","男性","S審判","大分県"]
["R010262616","渡邊　一星","４級","ワタナベ　イッセイ","男性","S審判","大分県"]
["R010444510","渡邊　瑛太","４級","ワタナベ　エイタ","男性","S審判","大分県"]
["R010538344","渡辺　佳歩","４級","ワタナベ　カホ","女性","S審判","大分県"]
["R010538318","渡辺　敢太","４級","ワタナベ　カンタ","男性","S審判","大分県"]
["R010444491","渡邉　直耶","４級","ワタナベ　ナオヤ","男性","S審判","大分県"]
["R010538382","渡辺　陽斗","４級","ワタナベ　ヒナト","男性","S審判","大分県"]
["R010390424","渡邉　寛人","４級","ワタナベ　ヒロト","男性","S審判","大分県"]
["R001262096","渡辺　寛幸","４級","ワタナベ　ヒロユキ","男性","S審判","大分県"]
["R010542531","渡邉　風汰","４級","ワタナベ　フウタ","男性","S審判","大分県"]
["R010189289","渡邉　優憲","４級","ワタナベ　マサノリ","男性","S審判","大分県"]
["R009659544","渡邉　友輔","４級","ワタナベ　ユウスケ","男性","S審判","大分県"]
["R010538297","渡邉　優太","４級","ワタナベ　ユウタ","男性","S審判","大分県"]
["R010538341","渡辺　吉紀","４級","ワタナベ　ヨシノリ","男性","S審判","大分県"]
["R010542529","輪田　真理","４級","ワダ　マリ","女性","S審判","大分県"]
["R010306435","和田　優作","４級","ワダ　ユウサク","男性","S審判","大分県"]
["R010243637","和間　翔","４級","ワマ　ツバサ","男性","S審判","大分県"]