{"text_format":"1","workbook":"xlsx","n_sheets":21,"sheets":["出場チーム","抽選方法","組み合わせ","全日程スケジュール","累積警告・退場","2019年度優秀選手","決勝【Match No,51】","準決勝②【Match No,50】","準決勝①【Match No,49】","２次リーグ組み合わせ・結果","１次リーグ組み合わせ・結果","２次リーグ（佐伯）","２次リーグ（大分）","１次リーグ（速杵国東）","１次リーグ（津久見・臼杵）","１次リーグ（日田）","１次リーグ（豊肥）","１次リーグ（中津）","１次リーグ（宇佐高田）","選手名簿","審判員"],"not_rendered":{"charts":0,"images":1,"macros":1,"external_links":0,"defined_names":18,"comments":0,"pivot_tables":0},"unopened":[],"bounds":{"document_bytes":16777216,"sheet_cells":100000,"rows_first":2000,"rows_last":500,"rows_between":2000,"halvings":0,"cell_chars":16384,"cell_head_chars":4096},"cells_cut":0,"cells_raw":0,"read":"whole","date_system":"1900"}

{"sheet":"出場チーム","index":0,"n_rows":59,"n_cols":13,"rows_kept":59,"cut":false,"hidden":false,"merged":[[55,2,55,5],[51,10,51,12],[52,10,52,12],[53,2,53,5],[51,2,51,5],[51,6,51,9],[55,10,55,12],[54,6,54,9],[52,6,52,9],[53,6,53,9],[53,10,53,12],[59,10,59,12],[56,2,56,5],[57,2,57,5],[52,2,52,5],[57,10,57,12],[54,10,54,12],[59,6,59,9],[58,10,58,12],[59,2,59,5],[54,2,54,5],[58,2,58,5],[55,6,55,9],[56,6,56,9],[57,6,57,9],[58,6,58,9],[56,10,56,12],[49,10,49,12],[0,1,0,9],[24,8,25,8],[10,1,26,1],[50,2,50,5],[49,2,49,5],[50,10,50,12],[22,8,23,8],[50,6,50,9],[49,6,49,9],[10,8,12,8],[13,8,15,8],[16,8,18,8],[19,8,21,8],[0,10,0,11]]}
[null,"OFA 第 51 回大分県少年サッカー大会　兼　KYFA 九州U-12サッカー大会大分県大会",null,null,null,null,null,null,null,null,"抽選会"]
[]
["１．日時　　2020年1月19日(日) 午後6時00分（18:00）～"]
[]
["２．場所　　大分市　昭和電工ドーム　地下会議室 408"]
[]
["３．参加チーム",null,36,"チーム"]
[]
[null,"Aブロック(フリー)",null,null,null,null,null,null,"Bブロック(奇数)"]
["抽選順","地区","チーム名","申込","参加料","抽選会",null,"抽選順","地区","チーム名","申込","参加料","抽選会"]
[20,"大分","明野東サッカースポーツ少年団","〇","〇","〇",null,3,"中津","中津沖代ＪＳＣ","〇","〇","〇"]
[21,null,"由布川サッカースポーツ少年団","〇","〇","〇",null,4,null,"ＦＣ中津ジュニア","〇","〇","〇"]
[22,null,"ＫＩＮＧＳ　ＦＯＯＴＢＡＬＬＣＬＵＢ　Ｕ－１２","〇","〇","〇",null,14,null,"Ｓｈｙｎｔ　ＦＣ","〇","〇","〇"]
[23,null,"別保ＳＦＣ","〇","〇","〇",null,5,"速杵国東","ＦＣ安岐","〇","〇","〇"]
[24,null,"大道サッカースポーツ少年団","〇","〇","〇",null,6,null,"日出サッカースポーツ少年団","〇","〇","〇"]
[25,null,"ＦＣ　ＲＥＧＡＴＥ","〇","〇","〇",null,15,null,"八坂少年サッカークラブ","〇","〇","〇"]
[26,null,"判田サッカースポーツ少年団","〇","〇","〇",null,7,"日田","太陽スポーツクラブ大分西","〇","〇","〇"]
[27,null,"ＭＳＳ","〇","〇","〇",null,8,null,"ＦＣアリアーレ","〇","〇","〇"]
[28,null,"カティオーラフットボールクラブＵ－１２","〇","〇","〇",null,16,null,"玖珠サッカースポーツ少年団","〇","〇","〇"]
[29,null,"明治サッカースポーツ少年団","〇","〇","〇",null,17,"別府","緑丘サッカースポーツ少年団","〇","〇","〇"]
[30,null,"ドリームキッズフットボールクラブ","〇","〇","〇",null,18,null,"スマイス・セレソン","〇","〇","〇"]
[31,null,"日岡サッカースポーツ少年団","〇","〇","〇",null,19,null,"別府フットボールクラブ．ミネルバＵ－１２","〇","〇","〇"]
[32,null,"ブルーウイングフットボールクラブ","〇","〇","〇",null,1,"佐伯","弥生少年サッカークラブ","〇","〇","〇"]
[33,null,"スマイス　セレソン　スポーツクラブ","〇","〇","〇",null,2,null,"鶴見少年サッカークラブ","〇","〇","〇"]
[34,null,"リノスフットボールクラブ　Ｕ－１２","〇","〇","〇",null,9,"宇佐高田","ＦＣ　ＷＡＹＳ","〇","〇","〇"]
[35,null,"碩田サッカースポーツ少年団","〇","〇","〇",null,10,null,"四日市南ＳＳＣ","〇","〇","〇"]
[36,null,"大分トリニータＵ－１２","〇","〇","〇",null,13,"豊肥","竹田直入ＦＣ","〇","〇","〇"]
[null,null,null,null,null,null,null,11,"臼杵","臼杵ＳＳＳ","〇","〇","〇"]
[null,null,null,null,null,null,null,12,"津久見","千怒サッカースポーツ少年団","〇","〇","〇"]
[]
[]
["４．会議次第"]
["　　①ジュニア委員長あいさつ"]
["　　②審判部より"]
["　　　・1次リーグ/2次リーグは、帯同審判員（大分県協会所属の3級以上）を帯同する事。"]
["　　　　（各チームにて責任を持って準備しておく事。）"]
["　　③要項の確認、質問、諸注意"]
["　　④抽選"]
[]
["５．その他"]
["　　①大会期間中は、常に選手証及び、指導者資格証、審判資格証を携帯し、必要に応じて提示すること。"]
["　　　指導者資格証、審判資格証を有していない、ベンチ入り予定の指導者については、顔写真の確認出来る証明書(免許証等)を携帯しておく事。"]
["　　②領収証は、｢振込みの際の領収証」にかえさせていただきます。"]
["　　③「駐車証」を」車内に表示すること。"]
["　　④各会場にて、各パートの第1試合開始70分前に、各パートのマッチコーディネーションミーティング(MCM)を、3チーム同時に行います。"]
["       チーム代表者は必ずユニホームを持参(FP/GKの正副全て現物を。写真等不可。)にて参加願います。"]
[]
[]
["６．試合会場"]
[null,null,"会場",null,null,null,"住所",null,null,null,"電話番号"]
["1次ﾘｰｸﾞ","速杵国東","ﾌｯﾄﾎﾞｰﾙｾﾝﾀｰ大分きつき(杵築市営ｻｯｶｰ場)",null,null,null,"杵築市山香町大字野原700-5",null,null,null,"0977-28-5600"]
["1次ﾘｰｸﾞ","豊肥","ｻﾝ・ｽﾎﾟｰﾂﾗﾝﾄﾞみえ",null,null,null,"豊後大野市三重町百枝1086番地",null,null,null,"0974-22-7678"]
["1次ﾘｰｸﾞ","津久見・臼杵","吉四六ﾗﾝﾄﾞ陸上競技場",null,null,null,"臼杵市野津町大字原326番地",null,null,null,"0974-32-7757"]
["1次ﾘｰｸﾞ","日田","玖珠町総合運動公園",null,null,null,"玖珠町大字山田90番地",null,null,null,"0973-72-6880\n(玖珠町B&G海洋ｾﾝﾀｰ)"]
["1次ﾘｰｸﾞ","宇佐高田","宇佐市平成の森公園",null,null,null,"宇佐市院内町原口146-1",null,null,null,"0978-42-5894\n(管理事務所)"]
["1次ﾘｰｸﾞ","中津","永添運動公園人工芝多目的ｸﾞﾗｳﾝﾄﾞ",null,null,null,"中津市大字永添2065番地の1",null,null,null,"0979-22-3154"]
["2次ﾘｰｸﾞ","佐伯","佐伯市総合運動公園多目的ｸﾞﾗｳﾝﾄﾞ(人工芝)",null,null,null,"佐伯市大字長谷2614番地",null,null,null,"0972-25-1335\n(管理事務所 総合体育館内)"]
["2次ﾘｰｸﾞ","大分","大在東グラウンド",null,null,null,"大分市大在浜2丁目",null,null,null,"津守一雄\n(大分地区ジュニア委員長)\n090-7472-7249"]
["準決勝・決勝","サブA","大分ｽﾎﾟｰﾂ公園だいぎんｻｯｶｰ･ﾗｸﾞﾋﾞｰ場　Aｺｰﾄ",null,null,null,"大分市大字松岡6841番地",null,null,null,"097-528-7700\n(管理事務所)"]

{"sheet":"抽選方法","index":1,"n_rows":10,"n_cols":10,"rows_kept":10,"cut":false,"hidden":true,"merged":[]}
["No,",null,null,null,null,null,null,null,null,"抽選順"]
[1,"2次リーグ開催の","佐伯①","佐伯②",null,"を　＊3の",null,null,"で、2ブロックで分ける","1,2"]
[2,"各地区地元開催の","①","②",null,"を　＊1の",null,null,"で、2ブロックで分ける","3,4,5,6,7,8,9,10"]
[3,null,"臼杵","津久見",null,"を　＊1の",null,null,"で、2ブロックで分ける","11,12"]
[4,null,"豊肥",null,null,"を　＊1の",null,null,"に入れる",13]
[5,null,null,null,null,null,null,null,"残り1枠は、豊肥会場決定"]
[6,null,"中津③","速杵国東③","日田③","を　＊3の",null,null,"で、4ブロックで分ける","14,15,16"]
[7,"審議",null,null,null,null,null,null,"3チームパート内に大分以外が入っていない所があれば、別府限定"]
[8,"地元開催の無い","別府①","別府②","別府③","を　＊3の",null,null,"で、4ブロックで分ける（限定個所優先）","17,18,19"]
[9,null,"大分",null,null,"を　フリー抽選",null,null,"のパートに入ったチームは、2次リーグ地元開催","20～36"]

{"sheet":"組み合わせ","index":2,"n_rows":111,"n_cols":188,"rows_kept":111,"cut":false,"hidden":false,"merged":[[92,49,93,60],[92,61,93,72],[48,73,77,76],[48,69,77,72],[48,65,77,68],[48,57,77,60],[0,163,0,182],[0,0,0,162],[4,19,4,64],[47,93,47,96],[39,115,40,118],[48,105,77,108],[48,97,77,100],[39,79,40,82],[39,83,40,102],[48,61,77,64],[48,109,77,112],[35,107,36,110],[47,105,47,108],[47,101,47,104],[47,97,47,100],[39,47,40,66],[37,79,38,82],[35,105,36,106],[48,141,77,144],[48,129,77,132],[48,117,77,120],[48,113,77,116],[47,141,47,144],[27,39,28,40],[27,105,28,106],[29,39,30,40],[47,121,47,124],[48,137,77,140],[47,125,47,128],[47,129,47,132],[48,121,77,124],[47,133,47,136],[48,125,77,128],[29,111,30,112],[33,107,34,110],[33,111,34,112],[47,109,47,112],[31,111,32,112],[29,107,30,110],[35,111,36,112],[31,107,32,110],[47,113,47,116],[2,0,2,182],[17,23,19,50],[17,145,18,182],[16,69,17,76],[20,75,21,76],[21,145,22,161],[9,145,10,161],[25,105,26,112],[22,69,23,70],[22,71,23,74],[22,75,23,76],[26,77,28,82],[27,111,28,112],[27,35,28,38],[27,33,28,34],[20,39,21,50],[20,111,21,122],[6,122,6,158],[7,68,7,104],[11,145,12,182],[14,67,15,78],[7,111,7,118],[7,119,7,121],[7,122,7,158],[7,65,7,67],[31,35,32,38],[27,107,28,110],[29,57,30,68],[31,105,32,106],[29,105,30,106],[31,39,32,40],[29,35,30,38],[29,93,30,104],[7,57,7,64],[29,0,43,0],[26,113,28,118],[26,5,28,10],[26,11,28,32],[26,41,28,46],[26,47,28,68],[25,33,26,40],[9,0,28,0],[31,33,32,34],[29,21,30,32],[35,39,36,40],[35,7,36,10],[35,11,36,30],[33,35,34,38],[23,31,24,42],[33,55,34,66],[9,59,10,96],[33,39,34,40],[32,43,32,66],[29,33,30,34],[32,7,32,30],[37,11,38,30],[35,35,36,38],[23,145,24,182],[26,119,28,140],[17,95,19,122],[32,115,32,138],[35,115,36,118],[26,83,28,104],[35,119,36,138],[23,103,24,114],[18,69,19,70],[33,105,34,106],[18,71,19,74],[18,75,19,76],[32,79,32,102],[20,69,21,70],[20,71,21,74],[29,129,30,140],[48,53,77,56],[48,13,77,16],[48,1,77,4],[48,9,77,12],[48,5,77,8],[48,25,77,28],[88,0,89,0],[86,0,87,0],[78,9,85,12],[78,1,85,4],[44,0,85,0],[78,5,85,8],[47,9,47,12],[88,1,89,12],[48,21,77,24],[88,25,89,36],[47,1,47,4],[47,5,47,8],[86,25,87,36],[88,49,89,60],[47,37,47,40],[47,41,47,44],[47,45,47,48],[48,45,77,48],[88,61,89,72],[88,85,89,96],[47,17,47,20],[47,49,47,52],[47,13,47,16],[47,77,47,80],[86,13,87,24],[47,25,47,28],[47,57,47,60],[47,61,47,64],[47,69,47,72],[78,65,85,68],[78,69,85,72],[78,25,85,28],[47,29,47,32],[47,33,47,36],[78,61,85,64],[78,85,85,88],[47,73,47,76],[78,81,85,84],[78,57,85,60],[78,45,85,48],[86,49,87,60],[86,61,87,72],[88,73,89,84],[47,89,47,92],[88,13,89,24],[78,49,85,52],[78,13,85,16],[78,73,85,76],[78,77,85,80],[78,53,85,56],[48,29,77,32],[48,89,77,92],[48,17,77,20],[48,33,77,36],[48,37,77,40],[48,41,77,44],[48,85,77,88],[48,81,77,84],[48,77,77,80],[48,49,77,52],[78,21,85,24],[78,37,85,40],[78,41,85,44],[78,29,85,32],[78,33,85,36],[47,21,47,24],[4,3,4,15],[5,65,5,67],[6,119,6,121],[5,11,5,13],[5,57,5,64],[6,14,6,50],[5,14,5,50],[6,111,6,118],[6,65,6,67],[6,68,6,104],[4,16,4,18],[5,68,5,104],[6,11,6,13],[6,57,6,64],[5,3,5,10],[6,3,6,10],[15,145,16,161],[88,109,89,120],[88,121,89,132],[88,133,89,144],[78,141,85,144],[86,121,87,132],[86,133,87,144],[47,117,47,120],[33,79,34,90],[86,73,87,84],[78,89,85,92],[88,97,89,108],[35,83,36,102],[48,101,77,104],[78,97,85,100],[78,133,85,136],[48,133,77,136],[86,109,87,120],[37,119,38,138],[33,91,34,102],[33,115,34,126],[33,127,34,138],[39,119,40,138],[37,115,38,118],[47,137,47,140],[78,101,85,104],[78,105,85,108],[86,97,87,108],[47,81,47,84],[78,129,85,132],[78,137,85,140],[78,109,85,112],[78,113,85,116],[86,85,87,96],[78,117,85,120],[78,121,85,124],[78,125,85,128],[78,93,85,96],[48,93,77,96],[47,65,47,68],[37,83,38,102],[35,79,36,82],[47,85,47,88],[35,33,36,34],[33,43,34,54],[37,47,38,66],[39,7,40,10],[39,11,40,30],[33,7,34,18],[33,19,34,30],[33,33,34,34],[39,43,40,46],[35,43,36,46],[35,47,36,66],[37,7,38,10],[37,43,38,46],[47,53,47,56],[7,3,7,10],[7,11,7,13],[7,14,7,50],[9,49,10,58],[106,37,107,48],[108,37,109,48],[110,37,111,48],[94,49,95,60],[96,49,97,60],[98,49,99,60],[100,49,101,60],[102,49,103,60],[104,49,105,60],[106,49,107,60],[94,37,95,48],[96,37,97,48],[98,37,99,48],[100,37,101,48],[102,37,103,48],[104,37,105,48],[88,37,89,48],[86,1,87,12],[86,37,87,48],[78,17,85,20],[110,61,111,72],[108,49,109,60],[110,49,111,60],[94,61,95,72],[96,61,97,72],[98,61,99,72],[100,61,101,72],[102,61,103,72],[104,61,105,72],[106,61,107,72],[108,61,109,72]]}
[{"$f":"出場チーム!B1","v":"OFA 第 51 回大分県少年サッカー大会　兼　KYFA 九州U-12サッカー大会大分県大会"},null,null,null,null,null,null,null,null,null,null,null,null,null,null,null,null,null,null,null,null,null,null,null,null,null,null,null,null,null,null,null,null,null,null,null,null,null,null,null,null,null,null,null,null,null,null,null,null,null,null,null,null,null,null,null,null,null,null,null,null,null,null,null,null,null,null,null,null,null,null,null,null,null,null,null,null,null,null,null,null,null,null,null,null,null,null,null,null,null,null,null,null,null,null,null,null,null,null,null,null,null,null,null,null,null,null,null,null,null,null,null,null,null,null,null,null,null,null,null,null,null,null,null,null,null,null,null,null,null,null,null,null,null,null,null,null,null,null,null,null,null,null,null,null,null,null,null,null,null,null,null,null,null,null,null,null,null,null,null,null,null,null,"組み合わせ"]
[]
["期日：2020（令和2）年1月26日（日）・2月2日（日）・9日（日）"]
["《会場》"]
["決勝・準決勝",null,null,"サブA",null,null,null,null,null,null,null,null,null,null,null,null,"→",null,null,{"$f":"VLOOKUP(D5,出場チーム!$B$51:$F$59,2,FALSE)","v":"大分ｽﾎﾟｰﾂ公園だいぎんｻｯｶｰ･ﾗｸﾞﾋﾞｰ場　Aｺｰﾄ"}]
["2次リーグ",null,null,"佐伯",null,null,null,null,null,null,null,"→",null,null,{"$f":"VLOOKUP(D6,出場チーム!$B$51:$F$59,2,FALSE)","v":"佐伯市総合運動公園多目的ｸﾞﾗｳﾝﾄﾞ(人工芝)"},null,null,null,null,null,null,null,null,null,null,null,null,null,null,null,null,null,null,null,null,null,null,null,null,null,null,null,null,null,null,null,null,null,null,null,null,null,null,null,null,null,null,"大分",null,null,null,null,null,null,null,"→",null,null,{"$f":"VLOOKUP(BF6,出場チーム!$B$51:$F$59,2,FALSE)","v":"大在東グラウンド"}]
["1次リーグ",null,null,"速杵国東",null,null,null,null,null,null,null,"→",null,null,{"$f":"VLOOKUP(D7,出場チーム!$B$51:$F$59,2,FALSE)","v":"ﾌｯﾄﾎﾞｰﾙｾﾝﾀｰ大分きつき(杵築市営ｻｯｶｰ場)"},null,null,null,null,null,null,null,null,null,null,null,null,null,null,null,null,null,null,null,null,null,null,null,null,null,null,null,null,null,null,null,null,null,null,null,null,null,null,null,null,null,null,"日田",null,null,null,null,null,null,null,"→",null,null,{"$f":"VLOOKUP(BF7,出場チーム!$B$51:$F$59,2,FALSE)","v":"玖珠町総合運動公園"},null,null,null,null,null,null,null,null,null,null,null,null,null,null,null,null,null,null,null,null,null,null,null,null,null,null,null,null,null,null,null,null,null,null,null,null,null,null,null,null,null,null,"中津",null,null,null,null,null,null,null,"→",null,null,{"$f":"VLOOKUP(DH7,出場チーム!$B$51:$F$59,2,FALSE)","v":"永添運動公園人工芝多目的ｸﾞﾗｳﾝﾄﾞ"}]
[null,null,null,"津久見・臼杵",null,null,null,null,null,null,null,"→",null,null,{"$f":"VLOOKUP(D8,出場チーム!$B$51:$F$59,2,FALSE)","v":"吉四六ﾗﾝﾄﾞ陸上競技場"},null,null,null,null,null,null,null,null,null,null,null,null,null,null,null,null,null,null,null,null,null,null,null,null,null,null,null,null,null,null,null,null,null,null,null,null,null,null,null,null,null,null,"豊肥",null,null,null,null,null,null,null,"→",null,null,{"$f":"VLOOKUP(BF8,出場チーム!$B$51:$F$59,2,FALSE)","v":"ｻﾝ・ｽﾎﾟｰﾂﾗﾝﾄﾞみえ"},null,null,null,null,null,null,null,null,null,null,null,null,null,null,null,null,null,null,null,null,null,null,null,null,null,null,null,null,null,null,null,null,null,null,null,null,null,null,null,null,null,null,"宇佐高田",null,null,null,null,null,null,null,"→",null,null,{"$f":"VLOOKUP(DH8,出場チーム!$B$51:$F$59,2,FALSE)","v":"宇佐市平成の森公園"}]
[]
["2/9（日）\n\n決勝\n\n準決勝\n\n大会3日目",null,null,null,null,null,null,null,null,null,null,null,null,null,null,null,null,null,null,null,null,null,null,null,null,null,null,null,null,null,null,null,null,null,null,null,null,null,null,null,null,null,null,null,null,null,null,null,null,"＜優勝＞",null,null,null,null,null,null,null,null,null,"カティオーラフットボールクラブＵ－１２",null,null,null,null,null,null,null,null,null,null,null,null,null,null,null,null,null,null,null,null,null,null,null,null,null,null,null,null,null,null,null,null,null,null,null,null,null,null,null,null,null,null,null,null,null,null,null,null,null,null,null,null,null,null,null,null,null,null,null,null,null,null,null,null,null,null,null,null,null,null,null,null,null,null,null,null,null,null,null,null,null,null,null,null,null,"＜準優勝＞"]
[]
[null,null,null,null,null,null,null,null,null,null,null,null,null,null,null,null,null,null,null,null,null,null,null,null,null,null,null,null,null,null,null,null,null,null,null,null,null,null,null,null,null,null,null,null,null,null,null,null,null,null,null,null,null,null,null,null,null,null,null,null,null,null,null,null,null,null,null,null,null,null,null,null,null,null,null,null,null,null,null,null,null,null,null,null,null,null,null,null,null,null,null,null,null,null,null,null,null,null,null,null,null,null,null,null,null,null,null,null,null,null,null,null,null,null,null,null,null,null,null,null,null,null,null,null,null,null,null,null,null,null,null,null,null,null,null,null,null,null,null,null,null,null,null,null,null,"由布川サッカースポーツ少年団"]
[]
[]
[null,null,null,null,null,null,null,null,null,null,null,null,null,null,null,null,null,null,null,null,null,null,null,null,null,null,null,null,null,null,null,null,null,null,null,null,null,null,null,null,null,null,null,null,null,null,null,null,null,null,null,null,null,null,null,null,null,null,null,null,null,null,null,null,null,null,null,{"$f":"D5","v":"サブA"}]
[null,null,null,null,null,null,null,null,null,null,null,null,null,null,null,null,null,null,null,null,null,null,null,null,null,null,null,null,null,null,null,null,null,null,null,null,null,null,null,null,null,null,null,null,null,null,null,null,null,null,null,null,null,null,null,null,null,null,null,null,null,null,null,null,null,null,null,null,null,null,null,null,null,null,null,null,null,null,null,null,null,null,null,null,null,null,null,null,null,null,null,null,null,null,null,null,null,null,null,null,null,null,null,null,null,null,null,null,null,null,null,null,null,null,null,null,null,null,null,null,null,null,null,null,null,null,null,null,null,null,null,null,null,null,null,null,null,null,null,null,null,null,null,null,null,"＜３位＞"]
[null,null,null,null,null,null,null,null,null,null,null,null,null,null,null,null,null,null,null,null,null,null,null,null,null,null,null,null,null,null,null,null,null,null,null,null,null,null,null,null,null,null,null,null,null,null,null,null,null,null,null,null,null,null,null,null,null,null,null,null,null,null,null,null,null,null,null,null,null,"13:15～"]
[null,null,null,null,null,null,null,null,null,null,null,null,null,null,null,null,null,null,null,null,null,null,null,"由布川サッカースポーツ少年団",null,null,null,null,null,null,null,null,null,null,null,null,null,null,null,null,null,null,null,null,null,null,null,null,null,null,null,null,null,null,null,null,null,null,null,null,null,null,null,null,null,null,null,null,null,null,null,null,null,null,null,null,null,null,null,null,null,null,null,null,null,null,null,null,null,null,null,null,null,null,null,"カティオーラフットボールクラブＵ－１２",null,null,null,null,null,null,null,null,null,null,null,null,null,null,null,null,null,null,null,null,null,null,null,null,null,null,null,null,null,null,null,null,null,null,null,null,null,null,null,null,null,null,null,null,null,null,null,null,null,"ブルーウイングフットボールクラブ"]
[null,null,null,null,null,null,null,null,null,null,null,null,null,null,null,null,null,null,null,null,null,null,null,null,null,null,null,null,null,null,null,null,null,null,null,null,null,null,null,null,null,null,null,null,null,null,null,null,null,null,null,null,null,null,null,null,null,null,null,null,null,null,null,null,null,null,null,null,null,1,null,"前半",null,null,null,0]
[]
[null,null,null,null,null,null,null,null,null,null,null,null,null,null,null,null,null,null,null,null,null,null,null,null,null,null,null,null,null,null,null,null,null,null,null,null,null,null,null,"（　由布市　）",null,null,null,null,null,null,null,null,null,null,null,null,null,null,null,null,null,null,null,null,null,null,null,null,null,null,null,null,null,1,null,"後半",null,null,null,4,null,null,null,null,null,null,null,null,null,null,null,null,null,null,null,null,null,null,null,null,null,null,null,null,null,null,null,null,null,null,null,null,null,null,null,"（　大分市　）"]
[null,null,null,null,null,null,null,null,null,null,null,null,null,null,null,null,null,null,null,null,null,null,null,null,null,null,null,null,null,null,null,null,null,null,null,null,null,null,null,null,null,null,null,null,null,null,null,null,null,null,null,null,null,null,null,null,null,null,null,null,null,null,null,null,null,null,null,null,null,null,null,null,null,null,null,null,null,null,null,null,null,null,null,null,null,null,null,null,null,null,null,null,null,null,null,null,null,null,null,null,null,null,null,null,null,null,null,null,null,null,null,null,null,null,null,null,null,null,null,null,null,null,null,null,null,null,null,null,null,null,null,null,null,null,null,null,null,null,null,null,null,null,null,null,null,"＜３位＞"]
[null,null,null,null,null,null,null,null,null,null,null,null,null,null,null,null,null,null,null,null,null,null,null,null,null,null,null,null,null,null,null,null,null,null,null,null,null,null,null,null,null,null,null,null,null,null,null,null,null,null,null,null,null,null,null,null,null,null,null,null,null,null,null,null,null,null,null,null,null,null,null,"PK"]
[null,null,null,null,null,null,null,null,null,null,null,null,null,null,null,null,null,null,null,null,null,null,null,null,null,null,null,null,null,null,null,{"$f":"D5","v":"サブA"},null,null,null,null,null,null,null,null,null,null,null,null,null,null,null,null,null,null,null,null,null,null,null,null,null,null,null,null,null,null,null,null,null,null,null,null,null,null,null,null,null,null,null,null,null,null,null,null,null,null,null,null,null,null,null,null,null,null,null,null,null,null,null,null,null,null,null,null,null,null,null,{"$f":"D5","v":"サブA"},null,null,null,null,null,null,null,null,null,null,null,null,null,null,null,null,null,null,null,null,null,null,null,null,null,null,null,null,null,null,null,null,null,null,null,null,null,null,null,null,null,"ＫＩＮＧＳ　ＦＯＯＴＢＡＬＬＣＬＵＢ　Ｕ－１２"]
[]
[null,null,null,null,null,null,null,null,null,null,null,null,null,null,null,null,null,null,null,null,null,null,null,null,null,null,null,null,null,null,null,null,null,"9:30～",null,null,null,null,null,null,null,null,null,null,null,null,null,null,null,null,null,null,null,null,null,null,null,null,null,null,null,null,null,null,null,null,null,null,null,null,null,null,null,null,null,null,null,null,null,null,null,null,null,null,null,null,null,null,null,null,null,null,null,null,null,null,null,null,null,null,null,null,null,null,null,"10:30～"]
[null,null,null,null,null,"Aパート\n1位",null,null,null,null,null,"由布川サッカースポーツ少年団",null,null,null,null,null,null,null,null,null,null,null,null,null,null,null,null,null,null,null,null,null,null,null,null,null,null,null,null,null,"Bパート\n1位",null,null,null,null,null,"ＫＩＮＧＳ　ＦＯＯＴＢＡＬＬＣＬＵＢ　Ｕ－１２",null,null,null,null,null,null,null,null,null,null,null,null,null,null,null,null,null,null,null,null,null,null,null,null,null,null,null,null,null,"Cパート\n1位",null,null,null,null,null,"ブルーウイングフットボールクラブ",null,null,null,null,null,null,null,null,null,null,null,null,null,null,null,null,null,null,null,null,null,null,null,null,null,null,null,null,null,"Dパート\n1位",null,null,null,null,null,"カティオーラフットボールクラブＵ－１２"]
[null,null,null,null,null,null,null,null,null,null,null,null,null,null,null,null,null,null,null,null,null,null,null,null,null,null,null,null,null,null,null,null,null,3,null,"前半",null,null,null,0,null,null,null,null,null,null,null,null,null,null,null,null,null,null,null,null,null,null,null,null,null,null,null,null,null,null,null,null,null,null,null,null,null,null,null,null,null,null,null,null,null,null,null,null,null,null,null,null,null,null,null,null,null,null,null,null,null,null,null,null,null,null,null,null,null,0,null,"前半",null,null,null,0]
[]
["2/2（日）\n\n2次リーグ\n\n大会2日目",null,null,null,null,null,null,null,null,null,null,null,null,null,null,null,null,null,null,null,null,"（　由布市　）",null,null,null,null,null,null,null,null,null,null,null,1,null,"後半",null,null,null,1,null,null,null,null,null,null,null,null,null,null,null,null,null,null,null,null,null,"（　大分市　）",null,null,null,null,null,null,null,null,null,null,null,null,null,null,null,null,null,null,null,null,null,null,null,null,null,null,null,null,null,null,null,null,null,null,null,"（　大分市　）",null,null,null,null,null,null,null,null,null,null,null,0,null,"後半",null,null,null,0,null,null,null,null,null,null,null,null,null,null,null,null,null,null,null,null,null,"（　大分市　）"]
[]
[null,null,null,null,null,null,null,null,null,null,null,null,null,null,null,null,null,null,null,null,null,null,null,null,null,null,null,null,null,null,null,null,null,null,null,"延前",null,null,null,null,null,null,null,null,null,null,null,null,null,null,null,null,null,null,null,null,null,null,null,null,null,null,null,null,null,null,null,null,null,null,null,null,null,null,null,null,null,null,null,null,null,null,null,null,null,null,null,null,null,null,null,null,null,null,null,null,null,null,null,null,null,null,null,null,null,0,null,"延前",null,null,null,0]
[null,null,null,null,null,null,null,"2次リーグ　Aパート",null,null,null,null,null,null,null,null,null,null,null,null,null,null,null,null,null,null,null,null,null,null,null,null,null,null,null,null,null,null,null,null,null,null,null,"2次リーグ　Bパート",null,null,null,null,null,null,null,null,null,null,null,null,null,null,null,null,null,null,null,null,null,null,null,null,null,null,null,null,null,null,null,null,null,null,null,"2次リーグ　Cパート",null,null,null,null,null,null,null,null,null,null,null,null,null,null,null,null,null,null,null,null,null,null,null,null,null,null,null,null,null,null,null,null,null,null,null,"2次リーグ　Dパート"]
[null,null,null,null,null,null,null,"会場：",null,null,null,null,null,null,null,null,null,null,null,{"$f":"D6","v":"佐伯"},null,null,null,null,null,null,null,null,null,null,null,null,null,null,null,"延後",null,null,null,null,null,null,null,"会場：",null,null,null,null,null,null,null,null,null,null,null,{"$f":"BF6","v":"大分"},null,null,null,null,null,null,null,null,null,null,null,null,null,null,null,null,null,null,null,null,null,null,null,"会場：",null,null,null,null,null,null,null,null,null,null,null,{"$f":"D6","v":"佐伯"},null,null,null,null,null,null,null,null,null,null,null,null,null,0,null,"延後",null,null,null,0,null,null,null,"会場：",null,null,null,null,null,null,null,null,null,null,null,{"$f":"BF6","v":"大分"}]
[]
[null,null,null,null,null,null,null,"A",null,null,null,"ドリームキッズフットボールクラブ",null,null,null,null,null,null,null,null,null,null,null,null,null,null,null,null,null,null,null,null,null,null,null,"PK",null,null,null,null,null,null,null,"D",null,null,null,"ＫＩＮＧＳ　ＦＯＯＴＢＡＬＬＣＬＵＢ　Ｕ－１２",null,null,null,null,null,null,null,null,null,null,null,null,null,null,null,null,null,null,null,null,null,null,null,null,null,null,null,null,null,null,null,"G",null,null,null,"大分トリニータＵ－１２",null,null,null,null,null,null,null,null,null,null,null,null,null,null,null,null,null,null,null,null,null,1,null,"PK",null,null,null,3,null,null,null,"J",null,null,null,"別府フットボールクラブ．ミネルバＵ－１２"]
[]
[null,null,null,null,null,null,null,"B",null,null,null,"由布川サッカースポーツ少年団",null,null,null,null,null,null,null,null,null,null,null,null,null,null,null,null,null,null,null,null,null,null,null,null,null,null,null,null,null,null,null,"E",null,null,null,"スマイス・セレソン",null,null,null,null,null,null,null,null,null,null,null,null,null,null,null,null,null,null,null,null,null,null,null,null,null,null,null,null,null,null,null,"H",null,null,null,"中津沖代ＪＳＣ",null,null,null,null,null,null,null,null,null,null,null,null,null,null,null,null,null,null,null,null,null,null,null,null,null,null,null,null,null,null,null,"K",null,null,null,"カティオーラフットボールクラブＵ－１２"]
[]
[null,null,null,null,null,null,null,"C",null,null,null,"弥生少年サッカークラブ",null,null,null,null,null,null,null,null,null,null,null,null,null,null,null,null,null,null,null,null,null,null,null,null,null,null,null,null,null,null,null,"F",null,null,null,"ＦＣ　ＷＡＹＳ",null,null,null,null,null,null,null,null,null,null,null,null,null,null,null,null,null,null,null,null,null,null,null,null,null,null,null,null,null,null,null,"I",null,null,null,"ブルーウイングフットボールクラブ",null,null,null,null,null,null,null,null,null,null,null,null,null,null,null,null,null,null,null,null,null,null,null,null,null,null,null,null,null,null,null,"L",null,null,null,"太陽スポーツクラブ大分西"]
[]
[]
[]
[]
["1/26（日）\n\n1次リーグ\n\n大会1日目"]
[]
[]
[null,"A1",null,null,null,"A2",null,null,null,"A3",null,null,null,"B1",null,null,null,"B2",null,null,null,"B3",null,null,null,"C1",null,null,null,"C2",null,null,null,"C3",null,null,null,"D1",null,null,null,"D2",null,null,null,"D3",null,null,null,"E1",null,null,null,"E2",null,null,null,"E3",null,null,null,"F1",null,null,null,"F2",null,null,null,"F3",null,null,null,"G1",null,null,null,"G2",null,null,null,"G3",null,null,null,"H1",null,null,null,"H2",null,null,null,"H3",null,null,null,"I1",null,null,null,"I2",null,null,null,"I3",null,null,null,"J1",null,null,null,"J2",null,null,null,"J3",null,null,null,"K1",null,null,null,"K2",null,null,null,"K3",null,null,null,"L1",null,null,null,"L2",null,null,null,"L3",null,null,null,null,null,null,null,null,null,null,null,null,null,null,null,null,null,null,null,null,null,null,null,null,null,null,null,null,null,null,null,null,null,null,null,null,null,null,null,null,null,null,null,"抽選番号入力","チーム名入力（偶数）","地区入力"]
[null,{"$f":"IF(ISERROR(VLOOKUP(B48,$GD:$GF,2,FALSE))=TRUE,\"\",VLOOKUP(B48,$GD:$GF,2,FALSE))","v":"竹田直入ＦＣ"},null,null,null,{"$f":"IF(ISERROR(VLOOKUP(F48,$GD:$GF,2,FALSE))=TRUE,\"\",VLOOKUP(F48,$GD:$GF,2,FALSE))","v":"ドリームキッズフットボールクラブ"},null,null,null,{"$f":"IF(ISERROR(VLOOKUP(J48,$GD:$GF,2,FALSE))=TRUE,\"\",VLOOKUP(J48,$GD:$GF,2,FALSE))","v":"八坂少年サッカークラブ"},null,null,null,{"$f":"IF(ISERROR(VLOOKUP(N48,$GD:$GF,2,FALSE))=TRUE,\"\",VLOOKUP(N48,$GD:$GF,2,FALSE))","v":"ＦＣ中津ジュニア"},null,null,null,{"$f":"IF(ISERROR(VLOOKUP(R48,$GD:$GF,2,FALSE))=TRUE,\"\",VLOOKUP(R48,$GD:$GF,2,FALSE))","v":"由布川サッカースポーツ少年団"},null,null,null,{"$f":"IF(ISERROR(VLOOKUP(V48,$GD:$GF,2,FALSE))=TRUE,\"\",VLOOKUP(V48,$GD:$GF,2,FALSE))","v":"緑丘サッカースポーツ少年団"},null,null,null,{"$f":"IF(ISERROR(VLOOKUP(Z48,$GD:$GF,2,FALSE))=TRUE,\"\",VLOOKUP(Z48,$GD:$GF,2,FALSE))","v":"臼杵ＳＳＳ"},null,null,null,{"$f":"IF(ISERROR(VLOOKUP(AD48,$GD:$GF,2,FALSE))=TRUE,\"\",VLOOKUP(AD48,$GD:$GF,2,FALSE))","v":"碩田サッカースポーツ少年団"},null,null,null,{"$f":"IF(ISERROR(VLOOKUP(AH48,$GD:$GF,2,FALSE))=TRUE,\"\",VLOOKUP(AH48,$GD:$GF,2,FALSE))","v":"弥生少年サッカークラブ"},null,null,null,{"$f":"IF(ISERROR(VLOOKUP(AL48,$GD:$GF,2,FALSE))=TRUE,\"\",VLOOKUP(AL48,$GD:$GF,2,FALSE))","v":"日出サッカースポーツ少年団"},null,null,null,{"$f":"IF(ISERROR(VLOOKUP(AP48,$GD:$GF,2,FALSE))=TRUE,\"\",VLOOKUP(AP48,$GD:$GF,2,FALSE))","v":"ＫＩＮＧＳ　ＦＯＯＴＢＡＬＬＣＬＵＢ　Ｕ－１２"},null,null,null,{"$f":"IF(ISERROR(VLOOKUP(AT48,$GD:$GF,2,FALSE))=TRUE,\"\",VLOOKUP(AT48,$GD:$GF,2,FALSE))","v":"ＦＣ　ＲＥＧＡＴＥ"},null,null,null,{"$f":"IF(ISERROR(VLOOKUP(AX48,$GD:$GF,2,FALSE))=TRUE,\"\",VLOOKUP(AX48,$GD:$GF,2,FALSE))","v":"ＦＣアリアーレ"},null,null,null,{"$f":"IF(ISERROR(VLOOKUP(BB48,$GD:$GF,2,FALSE))=TRUE,\"\",VLOOKUP(BB48,$GD:$GF,2,FALSE))","v":"スマイス　セレソン　スポーツクラブ"},null,null,null,{"$f":"IF(ISERROR(VLOOKUP(BF48,$GD:$GF,2,FALSE))=TRUE,\"\",VLOOKUP(BF48,$GD:$GF,2,FALSE))","v":"スマイス・セレソン"},null,null,null,{"$f":"IF(ISERROR(VLOOKUP(BJ48,$GD:$GF,2,FALSE))=TRUE,\"\",VLOOKUP(BJ48,$GD:$GF,2,FALSE))","v":"ＦＣ　ＷＡＹＳ"},null,null,null,{"$f":"IF(ISERROR(VLOOKUP(BN48,$GD:$GF,2,FALSE))=TRUE,\"\",VLOOKUP(BN48,$GD:$GF,2,FALSE))","v":"リノスフットボールクラブ　Ｕ－１２"},null,null,null,{"$f":"IF(ISERROR(VLOOKUP(BR48,$GD:$GF,2,FALSE))=TRUE,\"\",VLOOKUP(BR48,$GD:$GF,2,FALSE))","v":"Ｓｈｙｎｔ　ＦＣ"},null,null,null,{"$f":"IF(ISERROR(VLOOKUP(BV48,$GD:$GF,2,FALSE))=TRUE,\"\",VLOOKUP(BV48,$GD:$GF,2,FALSE))","v":"ＦＣ安岐"},null,null,null,{"$f":"IF(ISERROR(VLOOKUP(BZ48,$GD:$GF,2,FALSE))=TRUE,\"\",VLOOKUP(BZ48,$GD:$GF,2,FALSE))","v":"大分トリニータＵ－１２"},null,null,null,{"$f":"IF(ISERROR(VLOOKUP(CD48,$GD:$GF,2,FALSE))=TRUE,\"\",VLOOKUP(CD48,$GD:$GF,2,FALSE))","v":"大道サッカースポーツ少年団"},null,null,null,{"$f":"IF(ISERROR(VLOOKUP(CH48,$GD:$GF,2,FALSE))=TRUE,\"\",VLOOKUP(CH48,$GD:$GF,2,FALSE))","v":"中津沖代ＪＳＣ"},null,null,null,{"$f":"IF(ISERROR(VLOOKUP(CL48,$GD:$GF,2,FALSE))=TRUE,\"\",VLOOKUP(CL48,$GD:$GF,2,FALSE))","v":"日岡サッカースポーツ少年団"},null,null,null,{"$f":"IF(ISERROR(VLOOKUP(CP48,$GD:$GF,2,FALSE))=TRUE,\"\",VLOOKUP(CP48,$GD:$GF,2,FALSE))","v":"玖珠サッカースポーツ少年団"},null,null,null,{"$f":"IF(ISERROR(VLOOKUP(CT48,$GD:$GF,2,FALSE))=TRUE,\"\",VLOOKUP(CT48,$GD:$GF,2,FALSE))","v":"四日市南ＳＳＣ"},null,null,null,{"$f":"IF(ISERROR(VLOOKUP(CX48,$GD:$GF,2,FALSE))=TRUE,\"\",VLOOKUP(CX48,$GD:$GF,2,FALSE))","v":"ブルーウイングフットボールクラブ"},null,null,null,{"$f":"IF(ISERROR(VLOOKUP(DB48,$GD:$GF,2,FALSE))=TRUE,\"\",VLOOKUP(DB48,$GD:$GF,2,FALSE))","v":"鶴見少年サッカークラブ"},null,null,null,{"$f":"IF(ISERROR(VLOOKUP(DF48,$GD:$GF,2,FALSE))=TRUE,\"\",VLOOKUP(DF48,$GD:$GF,2,FALSE))","v":"別保ＳＦＣ"},null,null,null,{"$f":"IF(ISERROR(VLOOKUP(DJ48,$GD:$GF,2,FALSE))=TRUE,\"\",VLOOKUP(DJ48,$GD:$GF,2,FALSE))","v":"明治サッカースポーツ少年団"},null,null,null,{"$f":"IF(ISERROR(VLOOKUP(DN48,$GD:$GF,2,FALSE))=TRUE,\"\",VLOOKUP(DN48,$GD:$GF,2,FALSE))","v":"別府フットボールクラブ．ミネルバＵ－１２"},null,null,null,{"$f":"IF(ISERROR(VLOOKUP(DR48,$GD:$GF,2,FALSE))=TRUE,\"\",VLOOKUP(DR48,$GD:$GF,2,FALSE))","v":"千怒サッカースポーツ少年団"},null,null,null,{"$f":"IF(ISERROR(VLOOKUP(DV48,$GD:$GF,2,FALSE))=TRUE,\"\",VLOOKUP(DV48,$GD:$GF,2,FALSE))","v":"カティオーラフットボールクラブＵ－１２"},null,null,null,{"$f":"IF(ISERROR(VLOOKUP(DZ48,$GD:$GF,2,FALSE))=TRUE,\"\",VLOOKUP(DZ48,$GD:$GF,2,FALSE))","v":"ＭＳＳ"},null,null,null,{"$f":"IF(ISERROR(VLOOKUP(ED48,$GD:$GF,2,FALSE))=TRUE,\"\",VLOOKUP(ED48,$GD:$GF,2,FALSE))","v":"太陽スポーツクラブ大分西"},null,null,null,{"$f":"IF(ISERROR(VLOOKUP(EH48,$GD:$GF,2,FALSE))=TRUE,\"\",VLOOKUP(EH48,$GD:$GF,2,FALSE))","v":"判田サッカースポーツ少年団"},null,null,null,{"$f":"IF(ISERROR(VLOOKUP(EL48,$GD:$GF,2,FALSE))=TRUE,\"\",VLOOKUP(EL48,$GD:$GF,2,FALSE))","v":"明野東サッカースポーツ少年団"},null,null,null,null,null,null,null,null,null,null,null,null,null,null,null,null,null,null,null,null,null,null,null,null,null,null,null,null,null,null,null,null,null,null,null,null,null,null,null,null,null,null,20,"L3",{"$f":"出場チーム!C11","v":"明野東サッカースポーツ少年団"},"大分"]
[null,null,null,null,null,null,null,null,null,null,null,null,null,null,null,null,null,null,null,null,null,null,null,null,null,null,null,null,null,null,null,null,null,null,null,null,null,null,null,null,null,null,null,null,null,null,null,null,null,null,null,null,null,null,null,null,null,null,null,null,null,null,null,null,null,null,null,null,null,null,null,null,null,null,null,null,null,null,null,null,null,null,null,null,null,null,null,null,null,null,null,null,null,null,null,null,null,null,null,null,null,null,null,null,null,null,null,null,null,null,null,null,null,null,null,null,null,null,null,null,null,null,null,null,null,null,null,null,null,null,null,null,null,null,null,null,null,null,null,null,null,null,null,null,null,null,null,null,null,null,null,null,null,null,null,null,null,null,null,null,null,null,null,null,null,null,null,null,null,null,null,null,null,null,null,null,null,null,null,null,null,null,null,null,21,"B2",{"$f":"出場チーム!C12","v":"由布川サッカースポーツ少年団"},"大分"]
[null,null,null,null,null,null,null,null,null,null,null,null,null,null,null,null,null,null,null,null,null,null,null,null,null,null,null,null,null,null,null,null,null,null,null,null,null,null,null,null,null,null,null,null,null,null,null,null,null,null,null,null,null,null,null,null,null,null,null,null,null,null,null,null,null,null,null,null,null,null,null,null,null,null,null,null,null,null,null,null,null,null,null,null,null,null,null,null,null,null,null,null,null,null,null,null,null,null,null,null,null,null,null,null,null,null,null,null,null,null,null,null,null,null,null,null,null,null,null,null,null,null,null,null,null,null,null,null,null,null,null,null,null,null,null,null,null,null,null,null,null,null,null,null,null,null,null,null,null,null,null,null,null,null,null,null,null,null,null,null,null,null,null,null,null,null,null,null,null,null,null,null,null,null,null,null,null,null,null,null,null,null,null,null,22,"D2",{"$f":"出場チーム!C13","v":"ＫＩＮＧＳ　ＦＯＯＴＢＡＬＬＣＬＵＢ　Ｕ－１２"},"大分"]
[null,null,null,null,null,null,null,null,null,null,null,null,null,null,null,null,null,null,null,null,null,null,null,null,null,null,null,null,null,null,null,null,null,null,null,null,null,null,null,null,null,null,null,null,null,null,null,null,null,null,null,null,null,null,null,null,null,null,null,null,null,null,null,null,null,null,null,null,null,null,null,null,null,null,null,null,null,null,null,null,null,null,null,null,null,null,null,null,null,null,null,null,null,null,null,null,null,null,null,null,null,null,null,null,null,null,null,null,null,null,null,null,null,null,null,null,null,null,null,null,null,null,null,null,null,null,null,null,null,null,null,null,null,null,null,null,null,null,null,null,null,null,null,null,null,null,null,null,null,null,null,null,null,null,null,null,null,null,null,null,null,null,null,null,null,null,null,null,null,null,null,null,null,null,null,null,null,null,null,null,null,null,null,null,23,"J1",{"$f":"出場チーム!C14","v":"別保ＳＦＣ"},"大分"]
[null,null,null,null,null,null,null,null,null,null,null,null,null,null,null,null,null,null,null,null,null,null,null,null,null,null,null,null,null,null,null,null,null,null,null,null,null,null,null,null,null,null,null,null,null,null,null,null,null,null,null,null,null,null,null,null,null,null,null,null,null,null,null,null,null,null,null,null,null,null,null,null,null,null,null,null,null,null,null,null,null,null,null,null,null,null,null,null,null,null,null,null,null,null,null,null,null,null,null,null,null,null,null,null,null,null,null,null,null,null,null,null,null,null,null,null,null,null,null,null,null,null,null,null,null,null,null,null,null,null,null,null,null,null,null,null,null,null,null,null,null,null,null,null,null,null,null,null,null,null,null,null,null,null,null,null,null,null,null,null,null,null,null,null,null,null,null,null,null,null,null,null,null,null,null,null,null,null,null,null,null,null,null,null,24,"G3",{"$f":"出場チーム!C15","v":"大道サッカースポーツ少年団"},"大分"]
[null,null,null,null,null,null,null,null,null,null,null,null,null,null,null,null,null,null,null,null,null,null,null,null,null,null,null,null,null,null,null,null,null,null,null,null,null,null,null,null,null,null,null,null,null,null,null,null,null,null,null,null,null,null,null,null,null,null,null,null,null,null,null,null,null,null,null,null,null,null,null,null,null,null,null,null,null,null,null,null,null,null,null,null,null,null,null,null,null,null,null,null,null,null,null,null,null,null,null,null,null,null,null,null,null,null,null,null,null,null,null,null,null,null,null,null,null,null,null,null,null,null,null,null,null,null,null,null,null,null,null,null,null,null,null,null,null,null,null,null,null,null,null,null,null,null,null,null,null,null,null,null,null,null,null,null,null,null,null,null,null,null,null,null,null,null,null,null,null,null,null,null,null,null,null,null,null,null,null,null,null,null,null,null,25,"D3",{"$f":"出場チーム!C16","v":"ＦＣ　ＲＥＧＡＴＥ"},"大分"]
[null,null,null,null,null,null,null,null,null,null,null,null,null,null,null,null,null,null,null,null,null,null,null,null,null,null,null,null,null,null,null,null,null,null,null,null,null,null,null,null,null,null,null,null,null,null,null,null,null,null,null,null,null,null,null,null,null,null,null,null,null,null,null,null,null,null,null,null,null,null,null,null,null,null,null,null,null,null,null,null,null,null,null,null,null,null,null,null,null,null,null,null,null,null,null,null,null,null,null,null,null,null,null,null,null,null,null,null,null,null,null,null,null,null,null,null,null,null,null,null,null,null,null,null,null,null,null,null,null,null,null,null,null,null,null,null,null,null,null,null,null,null,null,null,null,null,null,null,null,null,null,null,null,null,null,null,null,null,null,null,null,null,null,null,null,null,null,null,null,null,null,null,null,null,null,null,null,null,null,null,null,null,null,null,26,"L2",{"$f":"出場チーム!C17","v":"判田サッカースポーツ少年団"},"大分"]
[null,null,null,null,null,null,null,null,null,null,null,null,null,null,null,null,null,null,null,null,null,null,null,null,null,null,null,null,null,null,null,null,null,null,null,null,null,null,null,null,null,null,null,null,null,null,null,null,null,null,null,null,null,null,null,null,null,null,null,null,null,null,null,null,null,null,null,null,null,null,null,null,null,null,null,null,null,null,null,null,null,null,null,null,null,null,null,null,null,null,null,null,null,null,null,null,null,null,null,null,null,null,null,null,null,null,null,null,null,null,null,null,null,null,null,null,null,null,null,null,null,null,null,null,null,null,null,null,null,null,null,null,null,null,null,null,null,null,null,null,null,null,null,null,null,null,null,null,null,null,null,null,null,null,null,null,null,null,null,null,null,null,null,null,null,null,null,null,null,null,null,null,null,null,null,null,null,null,null,null,null,null,null,null,27,"K3",{"$f":"出場チーム!C18","v":"ＭＳＳ"},"大分"]
[null,null,null,null,null,null,null,null,null,null,null,null,null,null,null,null,null,null,null,null,null,null,null,null,null,null,null,null,null,null,null,null,null,null,null,null,null,null,null,null,null,null,null,null,null,null,null,null,null,null,null,null,null,null,null,null,null,null,null,null,null,null,null,null,null,null,null,null,null,null,null,null,null,null,null,null,null,null,null,null,null,null,null,null,null,null,null,null,null,null,null,null,null,null,null,null,null,null,null,null,null,null,null,null,null,null,null,null,null,null,null,null,null,null,null,null,null,null,null,null,null,null,null,null,null,null,null,null,null,null,null,null,null,null,null,null,null,null,null,null,null,null,null,null,null,null,null,null,null,null,null,null,null,null,null,null,null,null,null,null,null,null,null,null,null,null,null,null,null,null,null,null,null,null,null,null,null,null,null,null,null,null,null,null,28,"K2",{"$f":"出場チーム!C19","v":"カティオーラフットボールクラブＵ－１２"},"大分"]
[null,null,null,null,null,null,null,null,null,null,null,null,null,null,null,null,null,null,null,null,null,null,null,null,null,null,null,null,null,null,null,null,null,null,null,null,null,null,null,null,null,null,null,null,null,null,null,null,null,null,null,null,null,null,null,null,null,null,null,null,null,null,null,null,null,null,null,null,null,null,null,null,null,null,null,null,null,null,null,null,null,null,null,null,null,null,null,null,null,null,null,null,null,null,null,null,null,null,null,null,null,null,null,null,null,null,null,null,null,null,null,null,null,null,null,null,null,null,null,null,null,null,null,null,null,null,null,null,null,null,null,null,null,null,null,null,null,null,null,null,null,null,null,null,null,null,null,null,null,null,null,null,null,null,null,null,null,null,null,null,null,null,null,null,null,null,null,null,null,null,null,null,null,null,null,null,null,null,null,null,null,null,null,null,29,"J2",{"$f":"出場チーム!C20","v":"明治サッカースポーツ少年団"},"大分"]
[null,null,null,null,null,null,null,null,null,null,null,null,null,null,null,null,null,null,null,null,null,null,null,null,null,null,null,null,null,null,null,null,null,null,null,null,null,null,null,null,null,null,null,null,null,null,null,null,null,null,null,null,null,null,null,null,null,null,null,null,null,null,null,null,null,null,null,null,null,null,null,null,null,null,null,null,null,null,null,null,null,null,null,null,null,null,null,null,null,null,null,null,null,null,null,null,null,null,null,null,null,null,null,null,null,null,null,null,null,null,null,null,null,null,null,null,null,null,null,null,null,null,null,null,null,null,null,null,null,null,null,null,null,null,null,null,null,null,null,null,null,null,null,null,null,null,null,null,null,null,null,null,null,null,null,null,null,null,null,null,null,null,null,null,null,null,null,null,null,null,null,null,null,null,null,null,null,null,null,null,null,null,null,null,30,"A2",{"$f":"出場チーム!C21","v":"ドリームキッズフットボールクラブ"},"大分"]
[null,null,null,null,null,null,null,null,null,null,null,null,null,null,null,null,null,null,null,null,null,null,null,null,null,null,null,null,null,null,null,null,null,null,null,null,null,null,null,null,null,null,null,null,null,null,null,null,null,null,null,null,null,null,null,null,null,null,null,null,null,null,null,null,null,null,null,null,null,null,null,null,null,null,null,null,null,null,null,null,null,null,null,null,null,null,null,null,null,null,null,null,null,null,null,null,null,null,null,null,null,null,null,null,null,null,null,null,null,null,null,null,null,null,null,null,null,null,null,null,null,null,null,null,null,null,null,null,null,null,null,null,null,null,null,null,null,null,null,null,null,null,null,null,null,null,null,null,null,null,null,null,null,null,null,null,null,null,null,null,null,null,null,null,null,null,null,null,null,null,null,null,null,null,null,null,null,null,null,null,null,null,null,null,31,"H2",{"$f":"出場チーム!C22","v":"日岡サッカースポーツ少年団"},"大分"]
[null,null,null,null,null,null,null,null,null,null,null,null,null,null,null,null,null,null,null,null,null,null,null,null,null,null,null,null,null,null,null,null,null,null,null,null,null,null,null,null,null,null,null,null,null,null,null,null,null,null,null,null,null,null,null,null,null,null,null,null,null,null,null,null,null,null,null,null,null,null,null,null,null,null,null,null,null,null,null,null,null,null,null,null,null,null,null,null,null,null,null,null,null,null,null,null,null,null,null,null,null,null,null,null,null,null,null,null,null,null,null,null,null,null,null,null,null,null,null,null,null,null,null,null,null,null,null,null,null,null,null,null,null,null,null,null,null,null,null,null,null,null,null,null,null,null,null,null,null,null,null,null,null,null,null,null,null,null,null,null,null,null,null,null,null,null,null,null,null,null,null,null,null,null,null,null,null,null,null,null,null,null,null,null,32,"I2",{"$f":"出場チーム!C23","v":"ブルーウイングフットボールクラブ"},"大分"]
[null,null,null,null,null,null,null,null,null,null,null,null,null,null,null,null,null,null,null,null,null,null,null,null,null,null,null,null,null,null,null,null,null,null,null,null,null,null,null,null,null,null,null,null,null,null,null,null,null,null,null,null,null,null,null,null,null,null,null,null,null,null,null,null,null,null,null,null,null,null,null,null,null,null,null,null,null,null,null,null,null,null,null,null,null,null,null,null,null,null,null,null,null,null,null,null,null,null,null,null,null,null,null,null,null,null,null,null,null,null,null,null,null,null,null,null,null,null,null,null,null,null,null,null,null,null,null,null,null,null,null,null,null,null,null,null,null,null,null,null,null,null,null,null,null,null,null,null,null,null,null,null,null,null,null,null,null,null,null,null,null,null,null,null,null,null,null,null,null,null,null,null,null,null,null,null,null,null,null,null,null,null,null,null,33,"E2",{"$f":"出場チーム!C24","v":"スマイス　セレソン　スポーツクラブ"},"大分"]
[null,null,null,null,null,null,null,null,null,null,null,null,null,null,null,null,null,null,null,null,null,null,null,null,null,null,null,null,null,null,null,null,null,null,null,null,null,null,null,null,null,null,null,null,null,null,null,null,null,null,null,null,null,null,null,null,null,null,null,null,null,null,null,null,null,null,null,null,null,null,null,null,null,null,null,null,null,null,null,null,null,null,null,null,null,null,null,null,null,null,null,null,null,null,null,null,null,null,null,null,null,null,null,null,null,null,null,null,null,null,null,null,null,null,null,null,null,null,null,null,null,null,null,null,null,null,null,null,null,null,null,null,null,null,null,null,null,null,null,null,null,null,null,null,null,null,null,null,null,null,null,null,null,null,null,null,null,null,null,null,null,null,null,null,null,null,null,null,null,null,null,null,null,null,null,null,null,null,null,null,null,null,null,null,34,"F2",{"$f":"出場チーム!C25","v":"リノスフットボールクラブ　Ｕ－１２"},"大分"]
[null,null,null,null,null,null,null,null,null,null,null,null,null,null,null,null,null,null,null,null,null,null,null,null,null,null,null,null,null,null,null,null,null,null,null,null,null,null,null,null,null,null,null,null,null,null,null,null,null,null,null,null,null,null,null,null,null,null,null,null,null,null,null,null,null,null,null,null,null,null,null,null,null,null,null,null,null,null,null,null,null,null,null,null,null,null,null,null,null,null,null,null,null,null,null,null,null,null,null,null,null,null,null,null,null,null,null,null,null,null,null,null,null,null,null,null,null,null,null,null,null,null,null,null,null,null,null,null,null,null,null,null,null,null,null,null,null,null,null,null,null,null,null,null,null,null,null,null,null,null,null,null,null,null,null,null,null,null,null,null,null,null,null,null,null,null,null,null,null,null,null,null,null,null,null,null,null,null,null,null,null,null,null,null,35,"C2",{"$f":"出場チーム!C26","v":"碩田サッカースポーツ少年団"},"大分"]
[null,null,null,null,null,null,null,null,null,null,null,null,null,null,null,null,null,null,null,null,null,null,null,null,null,null,null,null,null,null,null,null,null,null,null,null,null,null,null,null,null,null,null,null,null,null,null,null,null,null,null,null,null,null,null,null,null,null,null,null,null,null,null,null,null,null,null,null,null,null,null,null,null,null,null,null,null,null,null,null,null,null,null,null,null,null,null,null,null,null,null,null,null,null,null,null,null,null,null,null,null,null,null,null,null,null,null,null,null,null,null,null,null,null,null,null,null,null,null,null,null,null,null,null,null,null,null,null,null,null,null,null,null,null,null,null,null,null,null,null,null,null,null,null,null,null,null,null,null,null,null,null,null,null,null,null,null,null,null,null,null,null,null,null,null,null,null,null,null,null,null,null,null,null,null,null,null,null,null,null,null,null,null,null,36,"G2",{"$f":"出場チーム!C27","v":"大分トリニータＵ－１２"},"大分"]
[]
[]
[]
[null,null,null,null,null,null,null,null,null,null,null,null,null,null,null,null,null,null,null,null,null,null,null,null,null,null,null,null,null,null,null,null,null,null,null,null,null,null,null,null,null,null,null,null,null,null,null,null,null,null,null,null,null,null,null,null,null,null,null,null,null,null,null,null,null,null,null,null,null,null,null,null,null,null,null,null,null,null,null,null,null,null,null,null,null,null,null,null,null,null,null,null,null,null,null,null,null,null,null,null,null,null,null,null,null,null,null,null,null,null,null,null,null,null,null,null,null,null,null,null,null,null,null,null,null,null,null,null,null,null,null,null,null,null,null,null,null,null,null,null,null,null,null,null,null,null,null,null,null,null,null,null,null,null,null,null,null,null,null,null,null,null,null,null,null,null,null,null,null,null,null,null,null,null,null,null,null,null,null,null,null,null,null,null,null,"抽選番号入力","チーム名入力（奇数）","地区入力"]
[null,null,null,null,null,null,null,null,null,null,null,null,null,null,null,null,null,null,null,null,null,null,null,null,null,null,null,null,null,null,null,null,null,null,null,null,null,null,null,null,null,null,null,null,null,null,null,null,null,null,null,null,null,null,null,null,null,null,null,null,null,null,null,null,null,null,null,null,null,null,null,null,null,null,null,null,null,null,null,null,null,null,null,null,null,null,null,null,null,null,null,null,null,null,null,null,null,null,null,null,null,null,null,null,null,null,null,null,null,null,null,null,null,null,null,null,null,null,null,null,null,null,null,null,null,null,null,null,null,null,null,null,null,null,null,null,null,null,null,null,null,null,null,null,null,null,null,null,null,null,null,null,null,null,null,null,null,null,null,null,null,null,null,null,null,null,null,null,null,null,null,null,null,null,null,null,null,null,null,null,null,null,null,null,3,"H1",{"$f":"出場チーム!J11","v":"中津沖代ＪＳＣ"},"中津"]
[null,null,null,null,null,null,null,null,null,null,null,null,null,null,null,null,null,null,null,null,null,null,null,null,null,null,null,null,null,null,null,null,null,null,null,null,null,null,null,null,null,null,null,null,null,null,null,null,null,null,null,null,null,null,null,null,null,null,null,null,null,null,null,null,null,null,null,null,null,null,null,null,null,null,null,null,null,null,null,null,null,null,null,null,null,null,null,null,null,null,null,null,null,null,null,null,null,null,null,null,null,null,null,null,null,null,null,null,null,null,null,null,null,null,null,null,null,null,null,null,null,null,null,null,null,null,null,null,null,null,null,null,null,null,null,null,null,null,null,null,null,null,null,null,null,null,null,null,null,null,null,null,null,null,null,null,null,null,null,null,null,null,null,null,null,null,null,null,null,null,null,null,null,null,null,null,null,null,null,null,null,null,null,null,4,"B1",{"$f":"出場チーム!J12","v":"ＦＣ中津ジュニア"},"中津"]
[null,null,null,null,null,null,null,null,null,null,null,null,null,null,null,null,null,null,null,null,null,null,null,null,null,null,null,null,null,null,null,null,null,null,null,null,null,null,null,null,null,null,null,null,null,null,null,null,null,null,null,null,null,null,null,null,null,null,null,null,null,null,null,null,null,null,null,null,null,null,null,null,null,null,null,null,null,null,null,null,null,null,null,null,null,null,null,null,null,null,null,null,null,null,null,null,null,null,null,null,null,null,null,null,null,null,null,null,null,null,null,null,null,null,null,null,null,null,null,null,null,null,null,null,null,null,null,null,null,null,null,null,null,null,null,null,null,null,null,null,null,null,null,null,null,null,null,null,null,null,null,null,null,null,null,null,null,null,null,null,null,null,null,null,null,null,null,null,null,null,null,null,null,null,null,null,null,null,null,null,null,null,null,null,14,"F3",{"$f":"出場チーム!J13","v":"Ｓｈｙｎｔ　ＦＣ"},"中津"]
[null,null,null,null,null,null,null,null,null,null,null,null,null,null,null,null,null,null,null,null,null,null,null,null,null,null,null,null,null,null,null,null,null,null,null,null,null,null,null,null,null,null,null,null,null,null,null,null,null,null,null,null,null,null,null,null,null,null,null,null,null,null,null,null,null,null,null,null,null,null,null,null,null,null,null,null,null,null,null,null,null,null,null,null,null,null,null,null,null,null,null,null,null,null,null,null,null,null,null,null,null,null,null,null,null,null,null,null,null,null,null,null,null,null,null,null,null,null,null,null,null,null,null,null,null,null,null,null,null,null,null,null,null,null,null,null,null,null,null,null,null,null,null,null,null,null,null,null,null,null,null,null,null,null,null,null,null,null,null,null,null,null,null,null,null,null,null,null,null,null,null,null,null,null,null,null,null,null,null,null,null,null,null,null,5,"G1",{"$f":"出場チーム!J14","v":"ＦＣ安岐"},"速杵国東"]
[null,null,null,null,null,null,null,null,null,null,null,null,null,null,null,null,null,null,null,null,null,null,null,null,null,null,null,null,null,null,null,null,null,null,null,null,null,null,null,null,null,null,null,null,null,null,null,null,null,null,null,null,null,null,null,null,null,null,null,null,null,null,null,null,null,null,null,null,null,null,null,null,null,null,null,null,null,null,null,null,null,null,null,null,null,null,null,null,null,null,null,null,null,null,null,null,null,null,null,null,null,null,null,null,null,null,null,null,null,null,null,null,null,null,null,null,null,null,null,null,null,null,null,null,null,null,null,null,null,null,null,null,null,null,null,null,null,null,null,null,null,null,null,null,null,null,null,null,null,null,null,null,null,null,null,null,null,null,null,null,null,null,null,null,null,null,null,null,null,null,null,null,null,null,null,null,null,null,null,null,null,null,null,null,6,"D1",{"$f":"出場チーム!J15","v":"日出サッカースポーツ少年団"},"速杵国東"]
[null,null,null,null,null,null,null,null,null,null,null,null,null,null,null,null,null,null,null,null,null,null,null,null,null,null,null,null,null,null,null,null,null,null,null,null,null,null,null,null,null,null,null,null,null,null,null,null,null,null,null,null,null,null,null,null,null,null,null,null,null,null,null,null,null,null,null,null,null,null,null,null,null,null,null,null,null,null,null,null,null,null,null,null,null,null,null,null,null,null,null,null,null,null,null,null,null,null,null,null,null,null,null,null,null,null,null,null,null,null,null,null,null,null,null,null,null,null,null,null,null,null,null,null,null,null,null,null,null,null,null,null,null,null,null,null,null,null,null,null,null,null,null,null,null,null,null,null,null,null,null,null,null,null,null,null,null,null,null,null,null,null,null,null,null,null,null,null,null,null,null,null,null,null,null,null,null,null,null,null,null,null,null,null,15,"A3",{"$f":"出場チーム!J16","v":"八坂少年サッカークラブ"},"速杵国東"]
[null,null,null,null,null,null,null,null,null,null,null,null,null,null,null,null,null,null,null,null,null,null,null,null,null,null,null,null,null,null,null,null,null,null,null,null,null,null,null,null,null,null,null,null,null,null,null,null,null,null,null,null,null,null,null,null,null,null,null,null,null,null,null,null,null,null,null,null,null,null,null,null,null,null,null,null,null,null,null,null,null,null,null,null,null,null,null,null,null,null,null,null,null,null,null,null,null,null,null,null,null,null,null,null,null,null,null,null,null,null,null,null,null,null,null,null,null,null,null,null,null,null,null,null,null,null,null,null,null,null,null,null,null,null,null,null,null,null,null,null,null,null,null,null,null,null,null,null,null,null,null,null,null,null,null,null,null,null,null,null,null,null,null,null,null,null,null,null,null,null,null,null,null,null,null,null,null,null,null,null,null,null,null,null,7,"L1",{"$f":"出場チーム!J17","v":"太陽スポーツクラブ大分西"},"日田"]
[null,null,null,null,null,null,null,null,null,null,null,null,null,null,null,null,null,null,null,null,null,null,null,null,null,null,null,null,null,null,null,null,null,null,null,null,null,null,null,null,null,null,null,null,null,null,null,null,null,null,null,null,null,null,null,null,null,null,null,null,null,null,null,null,null,null,null,null,null,null,null,null,null,null,null,null,null,null,null,null,null,null,null,null,null,null,null,null,null,null,null,null,null,null,null,null,null,null,null,null,null,null,null,null,null,null,null,null,null,null,null,null,null,null,null,null,null,null,null,null,null,null,null,null,null,null,null,null,null,null,null,null,null,null,null,null,null,null,null,null,null,null,null,null,null,null,null,null,null,null,null,null,null,null,null,null,null,null,null,null,null,null,null,null,null,null,null,null,null,null,null,null,null,null,null,null,null,null,null,null,null,null,null,null,8,"E1",{"$f":"出場チーム!J18","v":"ＦＣアリアーレ"},"日田"]
[null,null,null,null,null,null,null,null,null,null,null,null,null,null,null,null,null,null,null,null,null,null,null,null,null,null,null,null,null,null,null,null,null,null,null,null,null,null,null,null,null,null,null,null,null,null,null,null,null,null,null,null,null,null,null,null,null,null,null,null,null,null,null,null,null,null,null,null,null,null,null,null,null,null,null,null,null,null,null,null,null,null,null,null,null,null,null,null,null,null,null,null,null,null,null,null,null,null,null,null,null,null,null,null,null,null,null,null,null,null,null,null,null,null,null,null,null,null,null,null,null,null,null,null,null,null,null,null,null,null,null,null,null,null,null,null,null,null,null,null,null,null,null,null,null,null,null,null,null,null,null,null,null,null,null,null,null,null,null,null,null,null,null,null,null,null,null,null,null,null,null,null,null,null,null,null,null,null,null,null,null,null,null,null,16,"H3",{"$f":"出場チーム!J19","v":"玖珠サッカースポーツ少年団"},"日田"]
[null,{"$f":"IF(ISERROR(VLOOKUP(B48,$GD:$GF,3,FALSE))=TRUE,\"\",VLOOKUP(B48,$GD:$GF,3,FALSE))","v":"豊肥"},null,null,null,{"$f":"IF(ISERROR(VLOOKUP(F48,$GD:$GF,3,FALSE))=TRUE,\"\",VLOOKUP(F48,$GD:$GF,3,FALSE))","v":"大分"},null,null,null,{"$f":"IF(ISERROR(VLOOKUP(J48,$GD:$GF,3,FALSE))=TRUE,\"\",VLOOKUP(J48,$GD:$GF,3,FALSE))","v":"速杵国東"},null,null,null,{"$f":"IF(ISERROR(VLOOKUP(N48,$GD:$GF,3,FALSE))=TRUE,\"\",VLOOKUP(N48,$GD:$GF,3,FALSE))","v":"中津"},null,null,null,{"$f":"IF(ISERROR(VLOOKUP(R48,$GD:$GF,3,FALSE))=TRUE,\"\",VLOOKUP(R48,$GD:$GF,3,FALSE))","v":"大分"},null,null,null,{"$f":"IF(ISERROR(VLOOKUP(V48,$GD:$GF,3,FALSE))=TRUE,\"\",VLOOKUP(V48,$GD:$GF,3,FALSE))","v":"別府"},null,null,null,{"$f":"IF(ISERROR(VLOOKUP(Z48,$GD:$GF,3,FALSE))=TRUE,\"\",VLOOKUP(Z48,$GD:$GF,3,FALSE))","v":"臼杵"},null,null,null,{"$f":"IF(ISERROR(VLOOKUP(AD48,$GD:$GF,3,FALSE))=TRUE,\"\",VLOOKUP(AD48,$GD:$GF,3,FALSE))","v":"大分"},null,null,null,{"$f":"IF(ISERROR(VLOOKUP(AH48,$GD:$GF,3,FALSE))=TRUE,\"\",VLOOKUP(AH48,$GD:$GF,3,FALSE))","v":"佐伯"},null,null,null,{"$f":"IF(ISERROR(VLOOKUP(AL48,$GD:$GF,3,FALSE))=TRUE,\"\",VLOOKUP(AL48,$GD:$GF,3,FALSE))","v":"速杵国東"},null,null,null,{"$f":"IF(ISERROR(VLOOKUP(AP48,$GD:$GF,3,FALSE))=TRUE,\"\",VLOOKUP(AP48,$GD:$GF,3,FALSE))","v":"大分"},null,null,null,{"$f":"IF(ISERROR(VLOOKUP(AT48,$GD:$GF,3,FALSE))=TRUE,\"\",VLOOKUP(AT48,$GD:$GF,3,FALSE))","v":"大分"},null,null,null,{"$f":"IF(ISERROR(VLOOKUP(AX48,$GD:$GF,3,FALSE))=TRUE,\"\",VLOOKUP(AX48,$GD:$GF,3,FALSE))","v":"日田"},null,null,null,{"$f":"IF(ISERROR(VLOOKUP(BB48,$GD:$GF,3,FALSE))=TRUE,\"\",VLOOKUP(BB48,$GD:$GF,3,FALSE))","v":"大分"},null,null,null,{"$f":"IF(ISERROR(VLOOKUP(BF48,$GD:$GF,3,FALSE))=TRUE,\"\",VLOOKUP(BF48,$GD:$GF,3,FALSE))","v":"別府"},null,null,null,{"$f":"IF(ISERROR(VLOOKUP(BJ48,$GD:$GF,3,FALSE))=TRUE,\"\",VLOOKUP(BJ48,$GD:$GF,3,FALSE))","v":"宇佐高田"},null,null,null,{"$f":"IF(ISERROR(VLOOKUP(BN48,$GD:$GF,3,FALSE))=TRUE,\"\",VLOOKUP(BN48,$GD:$GF,3,FALSE))","v":"大分"},null,null,null,{"$f":"IF(ISERROR(VLOOKUP(BR48,$GD:$GF,3,FALSE))=TRUE,\"\",VLOOKUP(BR48,$GD:$GF,3,FALSE))","v":"中津"},null,null,null,{"$f":"IF(ISERROR(VLOOKUP(BV48,$GD:$GF,3,FALSE))=TRUE,\"\",VLOOKUP(BV48,$GD:$GF,3,FALSE))","v":"速杵国東"},null,null,null,{"$f":"IF(ISERROR(VLOOKUP(BZ48,$GD:$GF,3,FALSE))=TRUE,\"\",VLOOKUP(BZ48,$GD:$GF,3,FALSE))","v":"大分"},null,null,null,{"$f":"IF(ISERROR(VLOOKUP(CD48,$GD:$GF,3,FALSE))=TRUE,\"\",VLOOKUP(CD48,$GD:$GF,3,FALSE))","v":"大分"},null,null,null,{"$f":"IF(ISERROR(VLOOKUP(CH48,$GD:$GF,3,FALSE))=TRUE,\"\",VLOOKUP(CH48,$GD:$GF,3,FALSE))","v":"中津"},null,null,null,{"$f":"IF(ISERROR(VLOOKUP(CL48,$GD:$GF,3,FALSE))=TRUE,\"\",VLOOKUP(CL48,$GD:$GF,3,FALSE))","v":"大分"},null,null,null,{"$f":"IF(ISERROR(VLOOKUP(CP48,$GD:$GF,3,FALSE))=TRUE,\"\",VLOOKUP(CP48,$GD:$GF,3,FALSE))","v":"日田"},null,null,null,{"$f":"IF(ISERROR(VLOOKUP(CT48,$GD:$GF,3,FALSE))=TRUE,\"\",VLOOKUP(CT48,$GD:$GF,3,FALSE))","v":"宇佐高田"},null,null,null,{"$f":"IF(ISERROR(VLOOKUP(CX48,$GD:$GF,3,FALSE))=TRUE,\"\",VLOOKUP(CX48,$GD:$GF,3,FALSE))","v":"大分"},null,null,null,{"$f":"IF(ISERROR(VLOOKUP(DB48,$GD:$GF,3,FALSE))=TRUE,\"\",VLOOKUP(DB48,$GD:$GF,3,FALSE))","v":"佐伯"},null,null,null,{"$f":"IF(ISERROR(VLOOKUP(DF48,$GD:$GF,3,FALSE))=TRUE,\"\",VLOOKUP(DF48,$GD:$GF,3,FALSE))","v":"大分"},null,null,null,{"$f":"IF(ISERROR(VLOOKUP(DJ48,$GD:$GF,3,FALSE))=TRUE,\"\",VLOOKUP(DJ48,$GD:$GF,3,FALSE))","v":"大分"},null,null,null,{"$f":"IF(ISERROR(VLOOKUP(DN48,$GD:$GF,3,FALSE))=TRUE,\"\",VLOOKUP(DN48,$GD:$GF,3,FALSE))","v":"別府"},null,null,null,{"$f":"IF(ISERROR(VLOOKUP(DR48,$GD:$GF,3,FALSE))=TRUE,\"\",VLOOKUP(DR48,$GD:$GF,3,FALSE))","v":"津久見"},null,null,null,{"$f":"IF(ISERROR(VLOOKUP(DV48,$GD:$GF,3,FALSE))=TRUE,\"\",VLOOKUP(DV48,$GD:$GF,3,FALSE))","v":"大分"},null,null,null,{"$f":"IF(ISERROR(VLOOKUP(DZ48,$GD:$GF,3,FALSE))=TRUE,\"\",VLOOKUP(DZ48,$GD:$GF,3,FALSE))","v":"大分"},null,null,null,{"$f":"IF(ISERROR(VLOOKUP(ED48,$GD:$GF,3,FALSE))=TRUE,\"\",VLOOKUP(ED48,$GD:$GF,3,FALSE))","v":"日田"},null,null,null,{"$f":"IF(ISERROR(VLOOKUP(EH48,$GD:$GF,3,FALSE))=TRUE,\"\",VLOOKUP(EH48,$GD:$GF,3,FALSE))","v":"大分"},null,null,null,{"$f":"IF(ISERROR(VLOOKUP(EL48,$GD:$GF,3,FALSE))=TRUE,\"\",VLOOKUP(EL48,$GD:$GF,3,FALSE))","v":"大分"},null,null,null,null,null,null,null,null,null,null,null,null,null,null,null,null,null,null,null,null,null,null,null,null,null,null,null,null,null,null,null,null,null,null,null,null,null,null,null,null,null,null,17,"B3",{"$f":"出場チーム!J20","v":"緑丘サッカースポーツ少年団"},"別府"]
[null,null,null,null,null,null,null,null,null,null,null,null,null,null,null,null,null,null,null,null,null,null,null,null,null,null,null,null,null,null,null,null,null,null,null,null,null,null,null,null,null,null,null,null,null,null,null,null,null,null,null,null,null,null,null,null,null,null,null,null,null,null,null,null,null,null,null,null,null,null,null,null,null,null,null,null,null,null,null,null,null,null,null,null,null,null,null,null,null,null,null,null,null,null,null,null,null,null,null,null,null,null,null,null,null,null,null,null,null,null,null,null,null,null,null,null,null,null,null,null,null,null,null,null,null,null,null,null,null,null,null,null,null,null,null,null,null,null,null,null,null,null,null,null,null,null,null,null,null,null,null,null,null,null,null,null,null,null,null,null,null,null,null,null,null,null,null,null,null,null,null,null,null,null,null,null,null,null,null,null,null,null,null,null,18,"E3",{"$f":"出場チーム!J21","v":"スマイス・セレソン"},"別府"]
[null,null,null,null,null,null,null,null,null,null,null,null,null,null,null,null,null,null,null,null,null,null,null,null,null,null,null,null,null,null,null,null,null,null,null,null,null,null,null,null,null,null,null,null,null,null,null,null,null,null,null,null,null,null,null,null,null,null,null,null,null,null,null,null,null,null,null,null,null,null,null,null,null,null,null,null,null,null,null,null,null,null,null,null,null,null,null,null,null,null,null,null,null,null,null,null,null,null,null,null,null,null,null,null,null,null,null,null,null,null,null,null,null,null,null,null,null,null,null,null,null,null,null,null,null,null,null,null,null,null,null,null,null,null,null,null,null,null,null,null,null,null,null,null,null,null,null,null,null,null,null,null,null,null,null,null,null,null,null,null,null,null,null,null,null,null,null,null,null,null,null,null,null,null,null,null,null,null,null,null,null,null,null,null,19,"J3",{"$f":"出場チーム!J22","v":"別府フットボールクラブ．ミネルバＵ－１２"},"別府"]
[null,null,null,null,null,null,null,null,null,null,null,null,null,null,null,null,null,null,null,null,null,null,null,null,null,null,null,null,null,null,null,null,null,null,null,null,null,null,null,null,null,null,null,null,null,null,null,null,null,null,null,null,null,null,null,null,null,null,null,null,null,null,null,null,null,null,null,null,null,null,null,null,null,null,null,null,null,null,null,null,null,null,null,null,null,null,null,null,null,null,null,null,null,null,null,null,null,null,null,null,null,null,null,null,null,null,null,null,null,null,null,null,null,null,null,null,null,null,null,null,null,null,null,null,null,null,null,null,null,null,null,null,null,null,null,null,null,null,null,null,null,null,null,null,null,null,null,null,null,null,null,null,null,null,null,null,null,null,null,null,null,null,null,null,null,null,null,null,null,null,null,null,null,null,null,null,null,null,null,null,null,null,null,null,1,"C3",{"$f":"出場チーム!J23","v":"弥生少年サッカークラブ"},"佐伯"]
[null,null,null,null,null,null,null,null,null,null,null,null,null,null,null,null,null,null,null,null,null,null,null,null,null,null,null,null,null,null,null,null,null,null,null,null,null,null,null,null,null,null,null,null,null,null,null,null,null,null,null,null,null,null,null,null,null,null,null,null,null,null,null,null,null,null,null,null,null,null,null,null,null,null,null,null,null,null,null,null,null,null,null,null,null,null,null,null,null,null,null,null,null,null,null,null,null,null,null,null,null,null,null,null,null,null,null,null,null,null,null,null,null,null,null,null,null,null,null,null,null,null,null,null,null,null,null,null,null,null,null,null,null,null,null,null,null,null,null,null,null,null,null,null,null,null,null,null,null,null,null,null,null,null,null,null,null,null,null,null,null,null,null,null,null,null,null,null,null,null,null,null,null,null,null,null,null,null,null,null,null,null,null,null,2,"I3",{"$f":"出場チーム!J24","v":"鶴見少年サッカークラブ"},"佐伯"]
[null,null,null,null,null,null,null,null,null,null,null,null,null,null,null,null,null,null,null,null,null,null,null,null,null,null,null,null,null,null,null,null,null,null,null,null,null,null,null,null,null,null,null,null,null,null,null,null,null,null,null,null,null,null,null,null,null,null,null,null,null,null,null,null,null,null,null,null,null,null,null,null,null,null,null,null,null,null,null,null,null,null,null,null,null,null,null,null,null,null,null,null,null,null,null,null,null,null,null,null,null,null,null,null,null,null,null,null,null,null,null,null,null,null,null,null,null,null,null,null,null,null,null,null,null,null,null,null,null,null,null,null,null,null,null,null,null,null,null,null,null,null,null,null,null,null,null,null,null,null,null,null,null,null,null,null,null,null,null,null,null,null,null,null,null,null,null,null,null,null,null,null,null,null,null,null,null,null,null,null,null,null,null,null,9,"F1",{"$f":"出場チーム!J25","v":"ＦＣ　ＷＡＹＳ"},"宇佐高田"]
[null,null,null,null,null,null,null,null,null,null,null,null,null,null,null,null,null,null,null,null,null,null,null,null,null,null,null,null,null,null,null,null,null,null,null,null,null,null,null,null,null,null,null,null,null,null,null,null,null,null,null,null,null,null,null,null,null,null,null,null,null,null,null,null,null,null,null,null,null,null,null,null,null,null,null,null,null,null,null,null,null,null,null,null,null,null,null,null,null,null,null,null,null,null,null,null,null,null,null,null,null,null,null,null,null,null,null,null,null,null,null,null,null,null,null,null,null,null,null,null,null,null,null,null,null,null,null,null,null,null,null,null,null,null,null,null,null,null,null,null,null,null,null,null,null,null,null,null,null,null,null,null,null,null,null,null,null,null,null,null,null,null,null,null,null,null,null,null,null,null,null,null,null,null,null,null,null,null,null,null,null,null,null,null,10,"I1",{"$f":"出場チーム!J26","v":"四日市南ＳＳＣ"},"宇佐高田"]
[null,null,null,null,null,null,null,null,null,null,null,null,null,null,null,null,null,null,null,null,null,null,null,null,null,null,null,null,null,null,null,null,null,null,null,null,null,null,null,null,null,null,null,null,null,null,null,null,null,null,null,null,null,null,null,null,null,null,null,null,null,null,null,null,null,null,null,null,null,null,null,null,null,null,null,null,null,null,null,null,null,null,null,null,null,null,null,null,null,null,null,null,null,null,null,null,null,null,null,null,null,null,null,null,null,null,null,null,null,null,null,null,null,null,null,null,null,null,null,null,null,null,null,null,null,null,null,null,null,null,null,null,null,null,null,null,null,null,null,null,null,null,null,null,null,null,null,null,null,null,null,null,null,null,null,null,null,null,null,null,null,null,null,null,null,null,null,null,null,null,null,null,null,null,null,null,null,null,null,null,null,null,null,null,13,"A1",{"$f":"出場チーム!J27","v":"竹田直入ＦＣ"},"豊肥"]
["会場",{"$f":"IF(B79=\"\",\"\",IF(B79=\"津久見\",\"津久見・臼杵\",IF(B79=\"臼杵\",\"津久見・臼杵\",B79)))","v":"豊肥"},null,null,null,null,null,null,null,null,null,null,null,{"$f":"IF(N79=\"\",\"\",IF(N79=\"津久見\",\"津久見・臼杵\",IF(N79=\"臼杵\",\"津久見・臼杵\",N79)))","v":"中津"},null,null,null,null,null,null,null,null,null,null,null,{"$f":"IF(Z79=\"\",\"\",IF(Z79=\"津久見\",\"津久見・臼杵\",IF(Z79=\"臼杵\",\"津久見・臼杵\",Z79)))","v":"津久見・臼杵"},null,null,null,null,null,null,null,null,null,null,null,{"$f":"IF(AL79=\"\",\"\",IF(AL79=\"津久見\",\"津久見・臼杵\",IF(AL79=\"臼杵\",\"津久見・臼杵\",AL79)))","v":"速杵国東"},null,null,null,null,null,null,null,null,null,null,null,{"$f":"IF(AX79=\"\",\"\",IF(AX79=\"津久見\",\"津久見・臼杵\",IF(AX79=\"臼杵\",\"津久見・臼杵\",AX79)))","v":"日田"},null,null,null,null,null,null,null,null,null,null,null,{"$f":"IF(BJ79=\"\",\"\",IF(BJ79=\"津久見\",\"津久見・臼杵\",IF(BJ79=\"臼杵\",\"津久見・臼杵\",BJ79)))","v":"宇佐高田"},null,null,null,null,null,null,null,null,null,null,null,{"$f":"IF(BV79=\"\",\"\",IF(BV79=\"津久見\",\"津久見・臼杵\",IF(BV79=\"臼杵\",\"津久見・臼杵\",BV79)))","v":"速杵国東"},null,null,null,null,null,null,null,null,null,null,null,{"$f":"IF(CH79=\"\",\"\",IF(CH79=\"津久見\",\"津久見・臼杵\",IF(CH79=\"臼杵\",\"津久見・臼杵\",CH79)))","v":"中津"},null,null,null,null,null,null,null,null,null,null,null,{"$f":"IF(CT79=\"\",\"\",IF(CT79=\"津久見\",\"津久見・臼杵\",IF(CT79=\"臼杵\",\"津久見・臼杵\",CT79)))","v":"宇佐高田"},null,null,null,null,null,null,null,null,null,null,null,{"$f":"IF(DF79=\"\",\"\",IF(DF79=\"津久見\",\"津久見・臼杵\",IF(DF79=\"臼杵\",\"津久見・臼杵\",DF79)))","v":"大分"},null,null,null,null,null,null,null,null,null,null,null,{"$f":"IF(DR79=\"\",\"\",IF(DR79=\"津久見\",\"津久見・臼杵\",IF(DR79=\"臼杵\",\"津久見・臼杵\",DR79)))","v":"津久見・臼杵"},null,null,null,null,null,null,null,null,null,null,null,{"$f":"IF(ED79=\"\",\"\",IF(ED79=\"津久見\",\"津久見・臼杵\",IF(ED79=\"臼杵\",\"津久見・臼杵\",ED79)))","v":"日田"},null,null,null,null,null,null,null,null,null,null,null,null,null,null,null,null,null,null,null,null,null,null,null,null,null,null,null,null,null,null,null,null,null,null,null,null,null,null,null,null,null,null,null,null,null,null,null,null,null,null,11,"C1",{"$f":"出場チーム!J28","v":"臼杵ＳＳＳ"},"臼杵"]
[null,null,null,null,null,null,null,null,null,null,null,null,null,null,null,null,null,null,null,null,null,null,null,null,null,null,null,null,null,null,null,null,null,null,null,null,null,null,null,null,null,null,null,null,null,null,null,null,null,null,null,null,null,null,null,null,null,null,null,null,null,null,null,null,null,null,null,null,null,null,null,null,null,null,null,null,null,null,null,null,null,null,null,null,null,null,null,null,null,null,null,null,null,null,null,null,null,null,null,null,null,null,null,null,null,null,null,null,null,null,null,null,null,null,null,null,null,null,null,null,null,null,null,null,null,null,null,null,null,null,null,null,null,null,null,null,null,null,null,null,null,null,null,null,null,null,null,null,null,null,null,null,null,null,null,null,null,null,null,null,null,null,null,null,null,null,null,null,null,null,null,null,null,null,null,null,null,null,null,null,null,null,null,null,12,"K1",{"$f":"出場チーム!J29","v":"千怒サッカースポーツ少年団"},"津久見"]
["パート","A",null,null,null,null,null,null,null,null,null,null,null,"B",null,null,null,null,null,null,null,null,null,null,null,"C",null,null,null,null,null,null,null,null,null,null,null,"D",null,null,null,null,null,null,null,null,null,null,null,"E",null,null,null,null,null,null,null,null,null,null,null,"F",null,null,null,null,null,null,null,null,null,null,null,"G",null,null,null,null,null,null,null,null,null,null,null,"H",null,null,null,null,null,null,null,null,null,null,null,"I",null,null,null,null,null,null,null,null,null,null,null,"J",null,null,null,null,null,null,null,null,null,null,null,"K",null,null,null,null,null,null,null,null,null,null,null,"L"]
[]
[]
[]
[null,null,null,null,null,null,null,null,null,null,null,null,null,null,null,null,null,null,null,null,null,null,null,null,null,null,null,null,null,null,null,null,null,null,null,null,null,null,null,null,null,null,null,null,null,null,null,null,null,"パート",null,null,null,null,null,null,null,null,null,null,null,"パート"]
[]
[null,null,null,null,null,null,null,null,null,null,null,null,null,null,null,null,null,null,null,null,null,null,null,null,null,null,null,null,null,null,null,null,null,null,null,null,null,"中津",null,null,null,null,null,null,null,null,null,null,null,"B",null,null,null,null,null,null,null,null,null,null,null,"H"]
[]
[null,null,null,null,null,null,null,null,null,null,null,null,null,null,null,null,null,null,null,null,null,null,null,null,null,null,null,null,null,null,null,null,null,null,null,null,null,"速杵国東",null,null,null,null,null,null,null,null,null,null,null,"D",null,null,null,null,null,null,null,null,null,null,null,"G"]
[]
[null,null,null,null,null,null,null,null,null,null,null,null,null,null,null,null,null,null,null,null,null,null,null,null,null,null,null,null,null,null,null,null,null,null,null,null,null,"日田",null,null,null,null,null,null,null,null,null,null,null,"E",null,null,null,null,null,null,null,null,null,null,null,"L"]
[]
[null,null,null,null,null,null,null,null,null,null,null,null,null,null,null,null,null,null,null,null,null,null,null,null,null,null,null,null,null,null,null,null,null,null,null,null,null,"別府"]
[]
[null,null,null,null,null,null,null,null,null,null,null,null,null,null,null,null,null,null,null,null,null,null,null,null,null,null,null,null,null,null,null,null,null,null,null,null,null,"佐伯"]
[]
[null,null,null,null,null,null,null,null,null,null,null,null,null,null,null,null,null,null,null,null,null,null,null,null,null,null,null,null,null,null,null,null,null,null,null,null,null,"宇佐高田",null,null,null,null,null,null,null,null,null,null,null,"F",null,null,null,null,null,null,null,null,null,null,null,"I"]
[]
[null,null,null,null,null,null,null,null,null,null,null,null,null,null,null,null,null,null,null,null,null,null,null,null,null,null,null,null,null,null,null,null,null,null,null,null,null,"豊肥",null,null,null,null,null,null,null,null,null,null,null,"A",null,null,null,null,null,null,null,null,null,null,null,"J"]
[]
[null,null,null,null,null,null,null,null,null,null,null,null,null,null,null,null,null,null,null,null,null,null,null,null,null,null,null,null,null,null,null,null,null,null,null,null,null,"津久見・臼杵",null,null,null,null,null,null,null,null,null,null,null,"C",null,null,null,null,null,null,null,null,null,null,null,"K"]
[]
[null,null,null,null,null,null,null,null,null,null,null,null,null,null,null,null,null,null,null,null,null,null,null,null,null,null,null,null,null,null,null,null,null,null,null,null,null,"大分"]

{"sheet":"全日程スケジュール","index":3,"n_rows":80,"n_cols":18,"rows_kept":80,"cut":false,"hidden":false,"merged":[[70,0,74,0],[40,11,40,12],[6,0,7,0],[41,0,42,0],[41,1,42,1],[71,1,74,1],[71,2,74,2],[64,6,65,7],[67,6,67,7],[68,6,69,7],[66,2,69,2],[60,3,60,12],[62,3,62,10],[66,3,66,10],[64,3,65,5],[68,3,69,5],[73,3,74,5],[73,8,74,10],[64,8,65,10],[68,8,69,10],[66,1,69,1],[53,3,53,12],[26,0,27,0],[66,0,69,0],[75,3,75,12],[70,3,70,12],[59,3,59,12],[73,6,74,7],[72,6,72,7],[71,3,71,10],[32,1,33,1],[32,2,33,2],[22,1,23,1],[22,2,23,2],[26,1,27,1],[26,2,27,2],[63,6,63,7],[47,2,48,2],[43,1,44,1],[43,2,44,2],[61,3,61,12],[62,2,65,2],[62,1,65,1],[4,10,4,12],[10,2,11,2],[5,11,5,12],[6,1,7,1],[6,2,7,2],[20,5,20,7],[16,1,17,1],[16,2,17,2],[18,3,18,17],[5,16,5,17],[8,1,9,1],[8,2,9,2],[10,1,11,1],[4,15,4,17],[5,3,5,5],[5,13,5,15],[5,6,5,7],[5,8,5,10],[20,15,20,17],[12,1,13,1],[12,2,13,2],[14,1,15,1],[14,2,15,2],[20,10,20,12],[0,0,0,9],[51,0,52,0],[51,1,52,1],[51,2,52,2],[49,2,50,2],[45,1,46,1],[41,2,42,2],[45,2,46,2],[4,5,4,7],[8,0,9,0],[10,0,11,0],[24,1,25,1],[49,0,50,0],[45,0,46,0],[47,0,48,0],[49,1,50,1],[47,1,48,1],[43,0,44,0],[40,3,40,5],[40,6,40,7],[40,8,40,10],[12,0,13,0],[14,0,15,0],[0,10,0,12],[16,0,17,0],[32,0,33,0],[22,0,23,0],[60,0,65,0],[39,10,39,12],[34,3,34,17],[21,13,21,15],[21,16,21,17],[21,6,21,7],[21,8,21,10],[21,11,21,12],[21,3,21,5],[39,5,39,7],[24,2,25,2],[28,2,29,2],[30,0,31,0],[30,1,31,1],[30,2,31,2],[28,0,29,0],[24,0,25,0],[28,1,29,1]]}
[{"$f":"出場チーム!B1","v":"OFA 第 51 回大分県少年サッカー大会　兼　KYFA 九州U-12サッカー大会大分県大会"},null,null,null,null,null,null,null,null,null,"全日程スケジュール"]
[]
[null,"（１）期日","1月27日（日）1次リーグ"]
[null,"（２）日程","各会場にて、各パートの第1試合開始70分前に、各パートのマッチコーディネーションミーティング(MCM)を、3チーム同時に行います。"]
[null,null,null,"会場：",{"$f":"組み合わせ!D7","v":"速杵国東"},{"$f":"VLOOKUP(E5,出場チーム!$B$51:$F$59,2,FALSE)","v":"ﾌｯﾄﾎﾞｰﾙｾﾝﾀｰ大分きつき(杵築市営ｻｯｶｰ場)"},null,null,"会場：",{"$f":"組み合わせ!BF7","v":"日田"},{"$f":"VLOOKUP(J5,出場チーム!$B$51:$F$59,2,FALSE)","v":"玖珠町総合運動公園"},null,null,"会場：",{"$f":"組み合わせ!DH7","v":"中津"},{"$f":"VLOOKUP(O5,出場チーム!$B$51:$F$59,2,FALSE)","v":"永添運動公園人工芝多目的ｸﾞﾗｳﾝﾄﾞ"}]
[null,"８：３０～","会場設営","設営担当者or対応協会",null,null,"審判員",null,"設営担当者or対応協会",null,null,"審判員",null,"設営担当者or対応協会",null,null,"審判員"]
["①","１０：００～","１次リーグ",null,null,null,"R：本部","A1：②帯同",null,null,null,"R：本部","A1：②帯同",null,null,null,"R：本部","A1：②帯同"]
[null,null,null,{"$f":"'１次リーグ（速杵国東）'!$B$12","v":"日出サッカースポーツ少年団"},"vs",{"$f":"'１次リーグ（速杵国東）'!$J$12","v":"ＫＩＮＧＳ　ＦＯＯＴＢＡＬＬＣＬＵＢ　Ｕ－１２"},"4th：本部","A2：②帯同",{"$f":"'１次リーグ（日田）'!$B$12","v":"ＦＣアリアーレ"},"vs",{"$f":"'１次リーグ（日田）'!$J$12","v":"スマイス　セレソン　スポーツクラブ"},"4th：本部","A2：②帯同",{"$f":"'１次リーグ（中津）'!$B$12","v":"ＦＣ中津ジュニア"},"vs",{"$f":"'１次リーグ（中津）'!$J$12","v":"由布川サッカースポーツ少年団"},"4th：本部","A2：②帯同"]
["②","１１：００～","〃",null,null,null,"R：本部","A1：①帯同",null,null,null,"R：本部","A1：①帯同",null,null,null,"R：本部","A1：①帯同"]
[null,null,null,{"$f":"'１次リーグ（速杵国東）'!$N$12","v":"ＦＣ安岐"},"vs",{"$f":"'１次リーグ（速杵国東）'!$V$12","v":"大分トリニータＵ－１２"},"4th：本部","A2：①帯同",{"$f":"'１次リーグ（日田）'!$N$12","v":"太陽スポーツクラブ大分西"},"vs",{"$f":"'１次リーグ（日田）'!$V$12","v":"判田サッカースポーツ少年団"},"4th：本部","A2：①帯同",{"$f":"'１次リーグ（中津）'!$N$12","v":"中津沖代ＪＳＣ"},"vs",{"$f":"'１次リーグ（中津）'!$V$12","v":"日岡サッカースポーツ少年団"},"4th：本部","A2：①帯同"]
["③","１２：００～","〃",null,null,null,"R：本部","A1：④帯同",null,null,null,"R：本部","A1：④帯同",null,null,null,"R：本部","A1：④帯同"]
[null,null,null,{"$f":"'１次リーグ（速杵国東）'!$B$30","v":"ＫＩＮＧＳ　ＦＯＯＴＢＡＬＬＣＬＵＢ　Ｕ－１２"},"vs",{"$f":"'１次リーグ（速杵国東）'!$J$30","v":"ＦＣ　ＲＥＧＡＴＥ"},"4th：本部","A2：④帯同",{"$f":"'１次リーグ（日田）'!$B$30","v":"スマイス　セレソン　スポーツクラブ"},"vs",{"$f":"'１次リーグ（日田）'!$J$30","v":"スマイス・セレソン"},"4th：本部","A2：④帯同",{"$f":"'１次リーグ（中津）'!$B$30","v":"由布川サッカースポーツ少年団"},"vs",{"$f":"'１次リーグ（中津）'!$J$30","v":"緑丘サッカースポーツ少年団"},"4th：本部","A2：④帯同"]
["④","１３：００～","〃",null,null,null,"R：本部","A1：③帯同",null,null,null,"R：本部","A1：③帯同",null,null,null,"R：本部","A1：③帯同"]
[null,null,null,{"$f":"'１次リーグ（速杵国東）'!$N$30","v":"大分トリニータＵ－１２"},"vs",{"$f":"'１次リーグ（速杵国東）'!$V$30","v":"大道サッカースポーツ少年団"},"4th：本部","A2：③帯同",{"$f":"'１次リーグ（日田）'!$N$30","v":"判田サッカースポーツ少年団"},"vs",{"$f":"'１次リーグ（日田）'!$V$30","v":"明野東サッカースポーツ少年団"},"4th：本部","A2：③帯同",{"$f":"'１次リーグ（中津）'!$N$30","v":"日岡サッカースポーツ少年団"},"vs",{"$f":"'１次リーグ（中津）'!$V$30","v":"玖珠サッカースポーツ少年団"},"4th：本部","A2：③帯同"]
["⑤","１４：００～","〃",null,null,null,"R：本部","A1：⑥帯同",null,null,null,"R：本部","A1：⑥帯同",null,null,null,"R：本部","A1：⑥帯同"]
[null,null,null,{"$f":"'１次リーグ（速杵国東）'!$B$48","v":"ＦＣ　ＲＥＧＡＴＥ"},"vs",{"$f":"'１次リーグ（速杵国東）'!$J$48","v":"日出サッカースポーツ少年団"},"4th：本部","A2：⑥帯同",{"$f":"'１次リーグ（日田）'!$B$48","v":"スマイス・セレソン"},"vs",{"$f":"'１次リーグ（日田）'!$J$48","v":"ＦＣアリアーレ"},"4th：本部","A2：⑥帯同",{"$f":"'１次リーグ（中津）'!$B$48","v":"緑丘サッカースポーツ少年団"},"vs",{"$f":"'１次リーグ（中津）'!$J$48","v":"ＦＣ中津ジュニア"},"4th：本部","A2：⑥帯同"]
["⑥","１５：００～","〃",null,null,null,"R：本部","A1：⑤帯同",null,null,null,"R：本部","A1：⑤帯同",null,null,null,"R：本部","A1：⑤帯同"]
[null,null,null,{"$f":"'１次リーグ（速杵国東）'!$N$48","v":"大道サッカースポーツ少年団"},"vs",{"$f":"'１次リーグ（速杵国東）'!$V$48","v":"ＦＣ安岐"},"4th：本部","A2：⑤帯同",{"$f":"'１次リーグ（日田）'!$N$48","v":"明野東サッカースポーツ少年団"},"vs",{"$f":"'１次リーグ（日田）'!$V$48","v":"太陽スポーツクラブ大分西"},"4th：本部","A2：⑤帯同",{"$f":"'１次リーグ（中津）'!$N$48","v":"玖珠サッカースポーツ少年団"},"vs",{"$f":"'１次リーグ（中津）'!$V$48","v":"中津沖代ＪＳＣ"},"4th：本部","A2：⑤帯同"]
[null,null,"片付け","⑥で試合をしたチームでフラッグ・本部・ゴール等を片付けます。"]
[]
[null,null,null,"会場：",{"$f":"組み合わせ!D8","v":"津久見・臼杵"},{"$f":"VLOOKUP(E21,出場チーム!$B$51:$F$59,2,FALSE)","v":"吉四六ﾗﾝﾄﾞ陸上競技場"},null,null,"会場：",{"$f":"組み合わせ!BF8","v":"豊肥"},{"$f":"VLOOKUP(J21,出場チーム!$B$51:$F$59,2,FALSE)","v":"ｻﾝ・ｽﾎﾟｰﾂﾗﾝﾄﾞみえ"},null,null,"会場：",{"$f":"組み合わせ!DH8","v":"宇佐高田"},{"$f":"VLOOKUP(O21,出場チーム!$B$51:$F$59,2,FALSE)","v":"宇佐市平成の森公園"}]
[null,"８：３０～","会場設営","設営担当者or対応協会",null,null,"審判員",null,"設営担当者or対応協会",null,null,"審判員",null,"設営担当者or対応協会",null,null,"審判員"]
["①","１０：００～","１次リーグ",null,null,null,"R：本部","A1：②帯同",null,null,null,"R：本部","A1：②帯同",null,null,null,"R：本部","A1：②帯同"]
[null,null,null,{"$f":"'１次リーグ（津久見・臼杵）'!$B$12","v":"臼杵ＳＳＳ"},"vs",{"$f":"'１次リーグ（津久見・臼杵）'!$J$12","v":"碩田サッカースポーツ少年団"},"4th：本部","A2：②帯同",{"$f":"'１次リーグ（豊肥）'!$B$12","v":"竹田直入ＦＣ"},"vs",{"$f":"'１次リーグ（豊肥）'!$J$12","v":"ドリームキッズフットボールクラブ"},"4th：本部","A2：②帯同",{"$f":"'１次リーグ（宇佐高田）'!$B$12","v":"ＦＣ　ＷＡＹＳ"},"vs",{"$f":"'１次リーグ（宇佐高田）'!$J$12","v":"リノスフットボールクラブ　Ｕ－１２"},"4th：本部","A2：②帯同"]
["②","１１：００～","〃",null,null,null,"R：本部","A1：①帯同",null,null,null,"R：本部","A1：①帯同",null,null,null,"R：本部","A1：①帯同"]
[null,null,null,{"$f":"'１次リーグ（津久見・臼杵）'!$N$12","v":"千怒サッカースポーツ少年団"},"vs",{"$f":"'１次リーグ（津久見・臼杵）'!$V$12","v":"カティオーラフットボールクラブＵ－１２"},"4th：本部","A2：①帯同",{"$f":"'１次リーグ（豊肥）'!$N$12","v":"別保ＳＦＣ"},"vs",{"$f":"'１次リーグ（豊肥）'!$V$12","v":"明治サッカースポーツ少年団"},"4th：本部","A2：①帯同",{"$f":"'１次リーグ（宇佐高田）'!$N$12","v":"四日市南ＳＳＣ"},"vs",{"$f":"'１次リーグ（宇佐高田）'!$V$12","v":"ブルーウイングフットボールクラブ"},"4th：本部","A2：①帯同"]
["③","１２：００～","〃",null,null,null,"R：本部","A1：④帯同",null,null,null,"R：本部","A1：④帯同",null,null,null,"R：本部","A1：④帯同"]
[null,null,null,{"$f":"'１次リーグ（津久見・臼杵）'!$B$30","v":"碩田サッカースポーツ少年団"},"vs",{"$f":"'１次リーグ（津久見・臼杵）'!$J$30","v":"弥生少年サッカークラブ"},"4th：本部","A2：④帯同",{"$f":"'１次リーグ（豊肥）'!$B$30","v":"ドリームキッズフットボールクラブ"},"vs",{"$f":"'１次リーグ（豊肥）'!$J$30","v":"八坂少年サッカークラブ"},"4th：本部","A2：④帯同",{"$f":"'１次リーグ（宇佐高田）'!$B$30","v":"リノスフットボールクラブ　Ｕ－１２"},"vs",{"$f":"'１次リーグ（宇佐高田）'!$J$30","v":"Ｓｈｙｎｔ　ＦＣ"},"4th：本部","A2：④帯同"]
["④","１３：００～","〃",null,null,null,"R：本部","A1：③帯同",null,null,null,"R：本部","A1：③帯同",null,null,null,"R：本部","A1：③帯同"]
[null,null,null,{"$f":"'１次リーグ（津久見・臼杵）'!$N$30","v":"カティオーラフットボールクラブＵ－１２"},"vs",{"$f":"'１次リーグ（津久見・臼杵）'!$V$30","v":"ＭＳＳ"},"4th：本部","A2：③帯同",{"$f":"'１次リーグ（豊肥）'!$N$30","v":"明治サッカースポーツ少年団"},"vs",{"$f":"'１次リーグ（豊肥）'!$V$30","v":"別府フットボールクラブ．ミネルバＵ－１２"},"4th：本部","A2：③帯同",{"$f":"'１次リーグ（宇佐高田）'!$N$30","v":"ブルーウイングフットボールクラブ"},"vs",{"$f":"'１次リーグ（宇佐高田）'!$V$30","v":"鶴見少年サッカークラブ"},"4th：本部","A2：③帯同"]
["⑤","１４：００～","〃",null,null,null,"R：本部","A1：⑥帯同",null,null,null,"R：本部","A1：⑥帯同",null,null,null,"R：本部","A1：⑥帯同"]
[null,null,null,{"$f":"'１次リーグ（津久見・臼杵）'!$B$48","v":"弥生少年サッカークラブ"},"vs",{"$f":"'１次リーグ（津久見・臼杵）'!$J$48","v":"臼杵ＳＳＳ"},"4th：本部","A2：⑥帯同",{"$f":"'１次リーグ（豊肥）'!$B$48","v":"八坂少年サッカークラブ"},"vs",{"$f":"'１次リーグ（豊肥）'!$J$48","v":"竹田直入ＦＣ"},"4th：本部","A2：⑥帯同",{"$f":"'１次リーグ（宇佐高田）'!$B$48","v":"Ｓｈｙｎｔ　ＦＣ"},"vs",{"$f":"'１次リーグ（宇佐高田）'!$J$48","v":"ＦＣ　ＷＡＹＳ"},"4th：本部","A2：⑥帯同"]
["⑥","１５：００～","〃",null,null,null,"R：本部","A1：⑤帯同",null,null,null,"R：本部","A1：⑤帯同",null,null,null,"R：本部","A1：⑤帯同"]
[null,null,null,{"$f":"'１次リーグ（津久見・臼杵）'!$N$48","v":"ＭＳＳ"},"vs",{"$f":"'１次リーグ（津久見・臼杵）'!$V$48","v":"千怒サッカースポーツ少年団"},"4th：本部","A2：⑤帯同",{"$f":"'１次リーグ（豊肥）'!$N$48","v":"別府フットボールクラブ．ミネルバＵ－１２"},"vs",{"$f":"'１次リーグ（豊肥）'!$V$48","v":"別保ＳＦＣ"},"4th：本部","A2：⑤帯同",{"$f":"'１次リーグ（宇佐高田）'!$N$48","v":"鶴見少年サッカークラブ"},"vs",{"$f":"'１次リーグ（宇佐高田）'!$V$48","v":"四日市南ＳＳＣ"},"4th：本部","A2：⑤帯同"]
[null,null,"片付け","⑥で試合をしたチームでフラッグ・本部・ゴール等を片付けます。"]
[]
[]
[null,"（１）期日","2月3日（日）2次リーグ"]
[null,"（２）日程","各会場にて、各パートの第1試合開始70分前に、各パートのマッチコーディネーションミーティング(MCM)を、3チーム同時に行います。"]
[null,null,null,"会場：",{"$f":"組み合わせ!D6","v":"佐伯"},{"$f":"VLOOKUP(E40,出場チーム!$B$51:$F$59,2,FALSE)","v":"佐伯市総合運動公園多目的ｸﾞﾗｳﾝﾄﾞ(人工芝)"},null,null,"会場：",{"$f":"組み合わせ!BF6","v":"大分"},{"$f":"VLOOKUP(J40,出場チーム!$B$51:$F$59,2,FALSE)","v":"大在東グラウンド"}]
[null,"８：３０～","会場設営","設営担当者or対応協会",null,null,"審判員",null,"設営担当者or対応協会",null,null,"審判員"]
["①","１０：００～","２次リーグ",null,null,null,"R：本部","A1：②帯同",null,null,null,"R：本部","A1：②帯同"]
[null,null,null,{"$f":"'２次リーグ（佐伯）'!$B$12","v":"ドリームキッズフットボールクラブ"},"vs",{"$f":"'２次リーグ（佐伯）'!$J$12","v":"由布川サッカースポーツ少年団"},"4th：本部","A2：②帯同",{"$f":"'２次リーグ（大分）'!$B$12","v":"ＫＩＮＧＳ　ＦＯＯＴＢＡＬＬＣＬＵＢ　Ｕ－１２"},"vs",{"$f":"'２次リーグ（大分）'!$J$12","v":"スマイス・セレソン"},"4th：本部","A2：②帯同"]
["②","１１：００～","〃",null,null,null,"R：本部","A1：①帯同",null,null,null,"R：本部","A1：①帯同"]
[null,null,null,{"$f":"'２次リーグ（佐伯）'!$N$12","v":"大分トリニータＵ－１２"},"vs",{"$f":"'２次リーグ（佐伯）'!$V$12","v":"中津沖代ＪＳＣ"},"4th：本部","A2：①帯同",{"$f":"'２次リーグ（大分）'!$N$12","v":"別府フットボールクラブ．ミネルバＵ－１２"},"vs",{"$f":"'２次リーグ（大分）'!$V$12","v":"カティオーラフットボールクラブＵ－１２"},"4th：本部","A2：①帯同"]
["③","１２：００～","〃",null,null,null,"R：本部","A1：④帯同",null,null,null,"R：本部","A1：④帯同"]
[null,null,null,{"$f":"'２次リーグ（佐伯）'!$B$30","v":"由布川サッカースポーツ少年団"},"vs",{"$f":"'２次リーグ（佐伯）'!$J$30","v":"弥生少年サッカークラブ"},"4th：本部","A2：④帯同",{"$f":"'２次リーグ（大分）'!$B$30","v":"スマイス・セレソン"},"vs",{"$f":"'２次リーグ（大分）'!$J$30","v":"ＦＣ　ＷＡＹＳ"},"4th：本部","A2：④帯同"]
["④","１３：００～","〃",null,null,null,"R：本部","A1：③帯同",null,null,null,"R：本部","A1：③帯同"]
[null,null,null,{"$f":"'２次リーグ（佐伯）'!$N$30","v":"中津沖代ＪＳＣ"},"vs",{"$f":"'２次リーグ（佐伯）'!$V$30","v":"ブルーウイングフットボールクラブ"},"4th：本部","A2：③帯同",{"$f":"'２次リーグ（大分）'!$N$30","v":"カティオーラフットボールクラブＵ－１２"},"vs",{"$f":"'２次リーグ（大分）'!$V$30","v":"太陽スポーツクラブ大分西"},"4th：本部","A2：③帯同"]
["⑤","１４：００～","〃",null,null,null,"R：本部","A1：⑥帯同",null,null,null,"R：本部","A1：⑥帯同"]
[null,null,null,{"$f":"'２次リーグ（佐伯）'!$B$48","v":"弥生少年サッカークラブ"},"vs",{"$f":"'２次リーグ（佐伯）'!$J$48","v":"ドリームキッズフットボールクラブ"},"4th：本部","A2：⑥帯同",{"$f":"'２次リーグ（大分）'!$B$48","v":"ＦＣ　ＷＡＹＳ"},"vs",{"$f":"'２次リーグ（大分）'!$J$48","v":"ＫＩＮＧＳ　ＦＯＯＴＢＡＬＬＣＬＵＢ　Ｕ－１２"},"4th：本部","A2：⑥帯同"]
["⑥","１５：００～","〃",null,null,null,"R：本部","A1：⑤帯同",null,null,null,"R：本部","A1：⑤帯同"]
[null,null,null,{"$f":"'２次リーグ（佐伯）'!$N$48","v":"ブルーウイングフットボールクラブ"},"vs",{"$f":"'２次リーグ（佐伯）'!$V$48","v":"大分トリニータＵ－１２"},"4th：本部","A2：⑤帯同",{"$f":"'２次リーグ（大分）'!$N$48","v":"太陽スポーツクラブ大分西"},"vs",{"$f":"'２次リーグ（大分）'!$V$48","v":"別府フットボールクラブ．ミネルバＵ－１２"},"4th：本部","A2：⑤帯同"]
[null,null,"片付け","⑥で試合をしたチームでフラッグ・本部・ゴール等を片付けます。"]
[]
[]
[null,"（１）期日","2月10日（日）準決勝(代表決定戦) / 決勝(順位決定戦)"]
[null,"（２）日程"]
[null,null,null,"会場：",{"$f":"組み合わせ!D5","v":"サブA"},{"$f":"VLOOKUP(E59,出場チーム!$B$51:$F$59,2,FALSE)","v":"大分ｽﾎﾟｰﾂ公園だいぎんｻｯｶｰ･ﾗｸﾞﾋﾞｰ場　Aｺｰﾄ"}]
[null,"８：００～","会場設営","大会役員でしますが、ゴール移動など加勢をチーム関係者にもお願いします。"]
["①","８：２０～","MCM","準決勝①【Match No,49】マッチコーディネーションミーティング"]
[null,"９：２０～","MCM","準決勝②【Match No,50】マッチコーディネーションミーティング"]
[null,"９：３０～","準決勝\n①","【Match No,49】",null,null,null,null,null,null,null,"主審","審判委員会"]
[null,null,null,null,{"$f":"組み合わせ!V30","v":"（　由布市　）"},null,{"$f":"組み合わせ!D5","v":"サブA"},null,null,{"$f":"組み合わせ!BF30","v":"（　大分市　）"},null,"副審","審判委員会"]
[null,null,null,{"$f":"組み合わせ!$L$27","v":"由布川サッカースポーツ少年団"},null,null,"vs",null,{"$f":"組み合わせ!$AV$27","v":"ＫＩＮＧＳ　ＦＯＯＴＢＡＬＬＣＬＵＢ　Ｕ－１２"},null,null,"副審","審判委員会"]
[null,null,null,null,null,null,null,null,null,null,null,"4審","審判委員会"]
[null,"１０：３０～","準決勝\n②","【Match No,50】",null,null,null,null,null,null,null,"主審","審判委員会"]
[null,null,null,null,{"$f":"組み合わせ!CP30","v":"（　大分市　）"},null,{"$f":"組み合わせ!D5","v":"サブA"},null,null,{"$f":"組み合わせ!DZ30","v":"（　大分市　）"},null,"副審","審判委員会"]
[null,null,null,{"$f":"組み合わせ!CF27","v":"ブルーウイングフットボールクラブ"},null,null,"vs",null,{"$f":"組み合わせ!DP27","v":"カティオーラフットボールクラブＵ－１２"},null,null,"副審","審判委員会"]
[null,null,null,null,null,null,null,null,null,null,null,"4審","審判委員会"]
["②","１１：５０～","MCM","決勝【Match No,51】マッチコーディネーションミーティング"]
[null,"１３：００～","決勝","【Match No,51】",null,null,null,null,null,null,null,"主審","審判委員会"]
[null,null,null,null,{"$f":"組み合わせ!AN21","v":"（　由布市　）"},null,{"$f":"組み合わせ!BP15","v":"サブA"},null,null,{"$f":"組み合わせ!DH21","v":"（　大分市　）"},null,"副審","審判委員会"]
[null,null,null,{"$f":"組み合わせ!X18","v":"由布川サッカースポーツ少年団"},null,null,"vs",null,{"$f":"組み合わせ!CR18","v":"カティオーラフットボールクラブＵ－１２"},null,null,"副審","審判委員会"]
[null,null,null,null,null,null,null,null,null,null,null,"4審","審判委員会"]
[null,"１４：００～","表彰","優勝・準優勝・３位チーム・優秀選手の表彰をします。"]
[]
[]
["《問い合わせ》委員長　安東　携帯　０９０－８６６８−０６９７"]
["※指導者以外の問い合わせは、ご遠慮願います。"]

{"sheet":"累積警告・退場","index":4,"n_rows":45,"n_cols":32,"rows_kept":45,"cut":false,"hidden":false,"merged":[[13,2,14,2],[19,1,20,1],[24,1,44,1],[4,1,6,1],[7,1,9,1],[10,1,12,1],[13,1,16,1],[17,1,18,1],[41,2,44,2],[32,2,33,2]]}
["×",null,{"$f":"出場チーム!B1","v":"OFA 第 51 回大分県少年サッカー大会　兼　KYFA 九州U-12サッカー大会大分県大会"},null,null,null,null,null,"累積警告・退場",null,null,null,null,null,null,null,null,null,null,null,null,null,null,null,null,null,null,null,null,"警告/退場",null,"＜警告選択肢＞"]
[null,null,null,null,null,null,null,null,null,null,null,null,null,null,null,null,null,null,null,null,null,null,null,null,null,null,null,null,null,"警告",null,"反スポ"]
[null,null,null,"地区大会",null,null,null,"1次ﾘｰｸﾞ①",null,null,null,"1次ﾘｰｸﾞ②",null,null,null,"2次ﾘｰｸﾞ①",null,null,null,"2次ﾘｰｸﾞ②",null,null,null,"準決勝",null,null,null,null,null,"退場",null,"ラフ"]
["敗戦","地区","チーム名","背番号","氏名","警告/退場","内容","背番号","氏名","警告/退場","内容","背番号","氏名","警告/退場","内容","背番号","氏名","警告/退場","内容","背番号","氏名","警告/退場","内容","背番号","氏名","警告/退場","内容",null,null,"警告(累積2枚目次節出場停止）",null,"異議"]
[null,"中津",{"$f":"出場チーム!J11","v":"中津沖代ＪＳＣ"},"-",null,null,null,null,null,null,null,null,null,null,null,null,null,null,null,null,null,null,null,null,null,null,null,null,null,"警告→退場(次節出場停止）",null,"繰り返し"]
[null,null,{"$f":"出場チーム!J12","v":"ＦＣ中津ジュニア"},"-"]
[null,null,{"$f":"出場チーム!J13","v":"Ｓｈｙｎｔ　ＦＣ"},"-",null,null,null,null,null,null,null,null,null,null,null,null,null,null,null,null,null,null,null,null,null,null,null,null,null,null,null,"遅延"]
[null,"速杵国東",{"$f":"出場チーム!J14","v":"ＦＣ安岐"},"-",null,null,null,null,null,null,null,null,null,null,null,null,null,null,null,null,null,null,null,null,null,null,null,null,null,null,null,"距離"]
[null,null,{"$f":"出場チーム!J15","v":"日出サッカースポーツ少年団"},"-",null,null,null,null,null,null,null,null,null,null,null,null,null,null,null,null,null,null,null,null,null,null,null,null,null,null,null,"無断入"]
[null,null,{"$f":"出場チーム!J16","v":"八坂少年サッカークラブ"},"-",null,null,null,null,null,null,null,null,null,null,null,null,null,null,null,null,null,null,null,null,null,null,null,null,null,null,null,"無断去"]
[null,"日田",{"$f":"出場チーム!J17","v":"太陽スポーツクラブ大分西"},"-",null,null,null,null,null,null,null,null,null,null,null,null,null,null,null,null,null,null,null,null,null,null,null,null,null,null,null,"＜退場選択肢＞"]
[null,null,{"$f":"出場チーム!J18","v":"ＦＣアリアーレ"},"-",null,null,null,null,null,null,null,null,null,null,null,null,null,null,null,null,null,null,null,null,null,null,null,null,null,null,null,"不正"]
[null,null,{"$f":"出場チーム!J19","v":"玖珠サッカースポーツ少年団"},"-",null,null,null,null,null,null,null,null,null,null,null,null,null,null,null,null,null,null,null,null,null,null,null,null,null,null,null,"乱暴"]
[null,"別府",{"$f":"出場チーム!J20","v":"緑丘サッカースポーツ少年団"},10,{"$f":"IF(D14=\"\",\"\",VLOOKUP(CONCATENATE($C$14,\"_\",D14),選手名簿!$A:$H,5,FALSE))","v":"松尾　遼磨"},"警告","異議",null,null,null,null,null,null,null,null,null,null,null,null,null,null,null,null,null,null,null,null,null,null,null,null,"つば"]
[null,null,null,11,{"$f":"IF(D15=\"\",\"\",VLOOKUP(CONCATENATE($C$14,\"_\",D15),選手名簿!$A:$H,5,FALSE))","v":"古川　修士"},"警告","反スポ"]
[null,null,{"$f":"出場チーム!J21","v":"スマイス・セレソン"},"-",null,null,null,null,null,null,null,null,null,null,null,null,null,null,null,null,null,null,null,null,null,null,null,null,null,null,null,"阻止(手)"]
[null,null,{"$f":"出場チーム!J22","v":"別府フットボールクラブ．ミネルバＵ－１２"},"-",null,null,null,null,null,null,null,1,"大野　弥生","警告","反スポ",null,null,null,null,null,null,null,null,null,null,null,null,null,null,null,null,"阻止(他)"]
[null,"佐伯",{"$f":"出場チーム!J23","v":"弥生少年サッカークラブ"},"-",null,null,null,null,null,null,null,null,null,null,null,null,null,null,null,null,null,null,null,null,null,null,null,null,null,null,null,"暴言"]
[null,null,{"$f":"出場チーム!J24","v":"鶴見少年サッカークラブ"},"-",null,null,null,null,null,null,null,null,null,null,null,null,null,null,null,null,null,null,null,null,null,null,null,null,null,null,null,"警告2"]
[null,"宇佐高田",{"$f":"出場チーム!J25","v":"ＦＣ　ＷＡＹＳ"},"-"]
[null,null,{"$f":"出場チーム!J26","v":"四日市南ＳＳＣ"},"-"]
[null,"豊肥",{"$f":"出場チーム!J27","v":"竹田直入ＦＣ"},"-"]
[null,"臼杵",{"$f":"出場チーム!J28","v":"臼杵ＳＳＳ"},"-"]
[null,"津久見",{"$f":"出場チーム!J29","v":"千怒サッカースポーツ少年団"},"-"]
[null,"大分",{"$f":"出場チーム!C11","v":"明野東サッカースポーツ少年団"},"-",null,null,null,15,"岩坂　遥斗","警告","反スポ"]
[null,null,{"$f":"出場チーム!C12","v":"由布川サッカースポーツ少年団"},"-"]
[null,null,{"$f":"出場チーム!C13","v":"ＫＩＮＧＳ　ＦＯＯＴＢＡＬＬＣＬＵＢ　Ｕ－１２"},"-"]
[null,null,{"$f":"出場チーム!C14","v":"別保ＳＦＣ"},"-"]
[null,null,{"$f":"出場チーム!C15","v":"大道サッカースポーツ少年団"},"-"]
[null,null,{"$f":"出場チーム!C16","v":"ＦＣ　ＲＥＧＡＴＥ"},"-"]
[null,null,{"$f":"出場チーム!C17","v":"判田サッカースポーツ少年団"},"-"]
[null,null,{"$f":"出場チーム!C18","v":"ＭＳＳ"},10,{"$f":"IF(D32=\"\",\"\",VLOOKUP(CONCATENATE($C$32,\"_\",D32),選手名簿!$A:$H,5,FALSE))","v":"中川　天蒼"},"警告","ラフ"]
[null,null,{"$f":"出場チーム!C19","v":"カティオーラフットボールクラブＵ－１２"},"-",null,null,null,null,null,null,null,null,null,null,null,null,null,null,null,8,"村上　温俊","警告","異議"]
[null,null,null,null,null,null,null,null,null,null,null,null,null,null,null,null,null,null,null,8,"村上　温俊","警告→退場(次節出場停止）","反スポ"]
[null,null,{"$f":"出場チーム!C20","v":"明治サッカースポーツ少年団"},"-"]
[null,null,{"$f":"出場チーム!C21","v":"ドリームキッズフットボールクラブ"},"-",null,null,null,null,null,null,null,11,"山下　紫凰","警告","反スポ"]
[null,null,{"$f":"出場チーム!C22","v":"日岡サッカースポーツ少年団"},5,{"$f":"IF(D37=\"\",\"\",VLOOKUP(CONCATENATE($C$37,\"_\",D37),選手名簿!$A:$H,5,FALSE))","v":"後藤　塁"},"警告","無断去"]
[null,null,{"$f":"出場チーム!C23","v":"ブルーウイングフットボールクラブ"},"-"]
[null,null,{"$f":"出場チーム!C24","v":"スマイス　セレソン　スポーツクラブ"},"-",null,null,null,null,null,null,null,6,"由利　倖大","警告","反スポ"]
[null,null,{"$f":"出場チーム!C25","v":"リノスフットボールクラブ　Ｕ－１２"},"-"]
[null,null,{"$f":"出場チーム!C26","v":"碩田サッカースポーツ少年団"},"-"]
[null,null,{"$f":"出場チーム!C27","v":"大分トリニータＵ－１２"},"-",null,null,null,4,"斉藤　晄吏","警告","無断入"]
[null,null,null,"-",null,null,null,5,"有村　凌史郎","警告","無断入"]
[null,null,null,"-",null,null,null,8,"河野　歩夢","警告","無断去"]
[null,null,null,"-",null,null,null,15,"柴田　峻徳","警告","無断去"]

{"sheet":"2019年度優秀選手","index":5,"n_rows":26,"n_cols":11,"rows_kept":26,"cut":false,"hidden":false,"merged":[]}
["（一社）大分県サッカー協会　ジュニア委員会"]
["2019年度　優秀選手名簿",null,null,null,null,null,"女子"]
[]
["№","地区","選手氏名","ふりがな","所属チーム",null,"№","地区","選手氏名","ふりがな","所属チーム"]
[1,"大分","中川　天蒼","なかがわ　そら","ＭＳＳ",null,1,"大分","谷崎　舞","たにざき　まい","東大分サッカースポーツ少年団"]
[2,"大分","木許　央雅","きもと　おうが","大分トリニータＵ－１２",null,2,"大分","小泉　凜空","こいずみ　りく","豊府サッカースポーツ少年団"]
[3,"大分","渡邊　丈輝","わたなべ　ともき","ＭＳＳ",null,3,"中津","小洞　千咲","こどう　ちさき","中津豊南フットボールクラブ"]
[4,"大分","奈良　三志朗","なら　さんしろう","ブルーウイングフットボールクラブ",null,4,"日田","中山　凉","なかやま　すず","太陽スポーツクラブ大分西"]
[5,"大分","奈須　心勇","なす　しゆう","寒田少年サッカークラブ",null,5,"速杵国東","安部　椛恋","あべ　かれん","くにさき東ＦＣ"]
[6,"大分","江藤　翼","えとう　つばさ","由布川サッカースポーツ少年団",null,6,"佐伯","山村　千代花","やまむら　ちよか","佐伯リベロフットボールクラブ"]
[7,"大分","吉廣　幸太郎","よしひろ　こうたろう","由布川サッカースポーツ少年団",null,7,"宇佐高田","辻　麻鈴","つじ　まりん","四日市北ＪＦＣ"]
[8,"大分","司城　大輝","つかさき　だいき","カティオーラフットボールクラブＵ－１２",null,8,"別府","田中　桜子","たなか　さくらこ","鶴見ジュニアサッカークラブ"]
[9,"大分","原田　高虎","はらだ　たかとら","大分トリニータＵ－１２",null,9,"臼杵","三浦　來海","みうら　くるみ","市浜レッドソックス"]
[10,"大分","中西　俊喜","なかにし　としき","ＭＳＳ",null,10,"津久見","小松　由奈","こまつ　ゆな","千怒サッカースポーツ少年団"]
[11,"中津","長岡　観太","ながおか　かんた","中津沖代ＪＳＣ",null,11,"津久見","松下　琴春","まつした　こはる","千怒サッカースポーツ少年団"]
[12,"中津","梅津　爽蒼","うめづ　そら","ＦＣ中津ジュニア",null,null,"※豊肥地区該当無し"]
[13,"日田","吉野　可亜斗","よしの　かあと","ＦＣアリアーレ"]
[14,"日田","古賀　貫太郎","こが　かんたろう","ＦＣアリアーレ"]
[15,"速杵国東","元木　漣","もとき　れん","きつきＦＣ"]
[16,"速杵国東","金江　徹平","かなえ　てっぺい","ＦＣ安岐"]
[17,"佐伯","菅田　雄斗","すがた　ゆうと","弥生少年サッカークラブ"]
[18,"宇佐高田","今仁　雅治","いまに　まさはる","ＦＣ　ＷＡＹＳ"]
[19,"別府","大室　響","おおむろ　ひびき","スマイス・セレソン"]
[20,"豊肥","日坂　春翔","ひさか　はると","ＦＣ大野"]
[21,"臼杵","谷口　洸斗","たにぐち　こうと","臼杵ＳＳＳ"]
[22,"津久見","軸丸　大輝","じくまる　だいき","千怒サッカースポーツ少年団"]

{"sheet":"決勝【Match No,51】","index":6,"n_rows":71,"n_cols":36,"rows_kept":71,"cut":false,"hidden":false,"merged":[[70,8,72,14],[70,15,72,21],[70,22,72,28],[70,29,72,35],[58,29,58,30],[60,0,60,3],[60,5,60,9],[60,12,60,16],[60,18,60,33],[69,8,69,14],[56,3,56,4],[56,5,56,17],[56,21,56,22],[56,23,56,35],[57,3,57,4],[57,5,57,17],[57,21,57,22],[57,23,57,35],[69,15,69,21],[69,22,69,28],[69,29,69,35],[58,3,58,5],[58,7,58,8],[58,11,58,13],[58,16,58,17],[58,20,58,21],[58,24,58,26],[53,3,53,4],[53,5,53,17],[53,21,53,22],[53,23,53,35],[54,3,54,4],[54,5,54,17],[54,21,54,22],[54,23,54,35],[55,3,55,4],[55,5,55,17],[55,21,55,22],[55,23,55,35],[50,27,50,28],[51,0,51,2],[51,3,51,4],[51,5,51,17],[51,18,51,20],[51,21,51,22],[51,23,51,35],[52,3,52,4],[52,5,52,17],[52,21,52,22],[52,23,52,35],[50,7,50,8],[50,9,50,10],[50,11,50,12],[50,13,50,14],[50,15,50,16],[50,19,50,20],[50,21,50,22],[50,23,50,24],[50,25,50,26],[48,27,48,28],[49,7,49,8],[49,9,49,10],[49,11,49,12],[49,13,49,14],[49,15,49,16],[49,19,49,20],[49,21,49,22],[49,23,49,24],[49,25,49,26],[49,27,49,28],[48,7,48,8],[48,9,48,10],[48,11,48,12],[48,13,48,14],[48,15,48,16],[48,19,48,20],[48,21,48,22],[48,23,48,24],[48,25,48,26],[46,27,46,28],[47,7,47,8],[47,9,47,10],[47,11,47,12],[47,13,47,14],[47,15,47,16],[47,19,47,20],[47,21,47,22],[47,23,47,24],[47,25,47,26],[47,27,47,28],[46,7,46,8],[46,9,46,10],[46,11,46,12],[46,13,46,14],[46,15,46,16],[46,19,46,20],[46,21,46,22],[46,23,46,24],[46,25,46,26],[44,4,44,8],[44,12,44,16],[44,22,44,26],[44,30,44,34],[45,0,45,6],[45,7,45,8],[45,9,45,10],[45,11,45,12],[45,13,45,14],[45,15,45,16],[45,17,45,18],[45,19,45,20],[45,21,45,22],[45,23,45,24],[45,25,45,26],[45,27,45,28],[45,29,45,35],[41,4,41,8],[41,12,41,16],[41,22,41,26],[41,30,41,34],[42,4,42,8],[42,12,42,16],[42,22,42,26],[42,30,42,34],[43,4,43,8],[43,12,43,16],[43,22,43,26],[43,30,43,34],[38,4,38,8],[38,12,38,16],[38,22,38,26],[38,30,38,34],[39,4,39,8],[39,12,39,16],[39,22,39,26],[39,30,39,34],[40,4,40,8],[40,12,40,16],[40,22,40,26],[40,30,40,34],[35,28,36,34],[36,17,36,18],[37,4,37,8],[37,12,37,16],[37,22,37,26],[37,30,37,34],[35,2,36,8],[35,9,36,9],[35,10,36,16],[35,17,35,18],[30,11,30,15],[30,20,30,24],[31,11,31,15],[31,20,31,24],[35,20,36,26],[35,27,36,27],[32,11,32,15],[32,20,32,24],[33,11,33,15],[33,20,33,24],[34,11,34,15],[34,17,34,18],[34,20,34,24],[25,11,25,15],[25,20,25,24],[26,11,26,15],[26,20,26,24],[27,11,27,15],[27,20,27,24],[28,11,28,15],[28,20,28,24],[29,11,29,15],[29,20,29,24],[20,11,20,15],[20,20,20,24],[21,11,21,15],[21,20,21,24],[22,11,22,15],[22,20,22,24],[23,16,23,19],[24,11,24,15],[24,20,24,24],[15,11,15,15],[15,20,15,24],[16,11,16,15],[16,20,16,24],[17,11,17,15],[17,20,17,24],[18,11,18,15],[18,20,18,24],[19,11,19,15],[19,20,19,24],[13,34,13,35],[14,0,14,1],[14,2,14,3],[14,4,14,5],[14,6,14,7],[14,8,14,9],[14,26,14,27],[14,28,14,29],[14,30,14,31],[14,32,14,33],[14,34,14,35],[12,26,12,33],[13,0,13,1],[13,2,13,3],[13,4,13,5],[13,6,13,7],[13,8,13,9],[13,17,13,18],[13,26,13,27],[13,28,13,29],[13,30,13,31],[13,32,13,33],[7,0,7,2],[7,11,7,14],[7,15,11,15],[7,17,7,18],[10,13,10,14],[10,11,10,12],[11,17,11,18],[12,2,12,9],[7,20,11,20],[9,12,9,14],[9,17,9,18],[8,1,8,10],[8,11,8,14],[8,17,8,18],[9,21,9,23],[5,18,5,19],[5,21,5,25],[5,26,5,30],[5,31,5,35],[7,32,7,35],[10,17,10,18],[10,21,10,22],[10,23,10,24],[8,32,8,35],[7,21,7,23],[8,22,8,31],[1,28,2,29],[1,31,1,35],[2,0,2,1],[2,14,2,15],[2,16,2,17],[2,18,2,26],[2,31,2,35],[3,31,3,35],[4,0,4,1],[4,2,6,8],[4,11,4,12],[4,18,4,19],[5,0,5,1],[5,11,5,12],[5,13,5,14],[6,0,6,1],[6,11,6,12],[6,13,6,14],[6,18,6,19],[6,26,6,30],[3,18,3,26],[3,28,3,29],[0,0,0,5],[0,6,0,9],[0,10,0,11],[1,0,1,1],[1,2,3,13],[1,15,1,16],[3,0,3,1],[3,14,3,15],[3,16,3,17]]}
["公式記録",null,null,null,null,null,"Match No：",null,null,null,51]
["大",null,"OFA 第 51 回大分県少年サッカー大会\n　兼　KYFA 九州U-12サッカー大会大分県大会",null,null,null,null,null,null,null,null,null,null,null,"第",3,null,"日",null,null,null,null,null,null,null,null,null,"競技","40分",null,"記","安東　信二"]
["会",null,null,null,null,null,null,null,null,null,null,null,null,null,"1回戦",null,"2回戦",null,"2020年　2月9日（日）",null,null,null,null,null,null,null,null,"時間",null,null,"録","松下　省吾"]
["名",null,null,null,null,null,null,null,null,null,null,null,null,null,"準決勝",null,"決勝",null,"試合開始　13時15分～",null,null,null,null,null,null,null,null,"延長",null,null,"者","中野観司郎、伊東雅弘"]
["会",null,"大分県大分スポーツ公園\n昭和電工サッカー・ラグビー場\nＡコート",null,null,null,null,null,null,"天","晴","風",null,"強","弱","無","芝","状","良好",null,"審","主審",null,null,null,null,"副審",null,null,null,null,"第4の審判員"]
[null,null,null,null,null,null,null,null,null,null,"曇","気温",null,7.7,null,"℃",null,null,"不良",null,null,"曽我　拓実",null,null,null,null,"清家　大介",null,null,null,null,"後藤　樹明"]
["場",null,null,null,null,null,null,null,null,"候","雨","湿度",null,52.8,null,"％","土","態","泥沼",null,"判",null,null,null,null,null,"菊地　謙一"]
["【チーム名】",null,null,null,null,null,null,null,null,null,null,null,null,null,null,{"$f":"IF(Q8=\"\",\"\",SUM(Q8:Q11))","v":2},1,"前半",null,0,{"$f":"IF(T8=\"\",\"\",SUM(T8:T11))","v":4},"【チーム名】"]
[null,{"$f":"組み合わせ!L27","v":"由布川サッカースポーツ少年団"},null,null,null,null,null,null,null,null,null,{"$f":"組み合わせ!V30","v":"（　由布市　）"},null,null,null,null,1,"後半",null,4,null,null,{"$f":"組み合わせ!DP27","v":"カティオーラフットボールクラブＵ－１２"},null,null,null,null,null,null,null,null,null,{"$f":"組み合わせ!DZ30","v":"（　大分市　）"}]
[null,null,null,null,null,null,null,null,null,null,null,null,"kick off",null,null,null,null,"延前",null,null,null,"kick off"]
[null,null,null,null,null,null,null,null,null,null,null,"背番号",null,"PK",null,null,null,"延後",null,null,null,"PK",null,"背番号"]
[null,null,null,null,null,null,null,null,null,null,null,"○","×","先","後",null,null,"ＰＫ戦",null,null,null,"先","後","○","×"]
[null,null,"シュート（得点者は○印）",null,null,null,null,null,null,null,"学",null,null,null,null,null,"背",null,null,"背",null,null,null,null,null,"学","シュート（得点者は○印）"]
["合",null,"延",null,"延",null,"後",null,"前",null,null,null,"選","手","名",null,"番","位置",null,"番",null,"選","手","名",null,null,"前",null,"後",null,"延",null,"延",null,"合"]
["計",null,"後",null,"前",null,"半",null,"半",null,"年",null,null,null,null,null,"号",null,null,"号",null,null,null,null,null,"年","半",null,"半",null,"前",null,"後",null,"計"]
[null,{"$f":"SUM(D16,F16,H16,J16)","v":0},null,null,null,null,null,null,null,null,{"$f":"IF(Q16=\"\",\"\",VLOOKUP(CONCATENATE($B$9,\"_\",Q16),選手名簿!$A:$H,7,FALSE))","v":5},{"$f":"IF(Q16=\"\",\"\",VLOOKUP(CONCATENATE($B$9,\"_\",Q16),選手名簿!$A:$H,5,FALSE))","v":"衛藤　庵"},null,null,null,null,16,{"$f":"IF(Q16=\"\",\"\",VLOOKUP(CONCATENATE($B$9,\"_\",Q16),選手名簿!$A:$H,4,FALSE))","v":"GK"},{"$f":"IF(T16=\"\",\"\",VLOOKUP(CONCATENATE($W$9,\"_\",T16),選手名簿!$A:$H,4,FALSE))","v":"GK"},1,{"$f":"IF(T16=\"\",\"\",VLOOKUP(CONCATENATE($W$9,\"_\",T16),選手名簿!$A:$H,5,FALSE))","v":"工藤　渉"},null,null,null,null,{"$f":"IF(T16=\"\",\"\",VLOOKUP(CONCATENATE($W$9,\"_\",T16),選手名簿!$A:$H,7,FALSE))","v":6},null,null,null,null,null,null,null,null,null,{"$f":"SUM(AB16,AD16,AF16,AH16)","v":0}]
[null,1,null,null,null,null,null,null,null,1,{"$f":"IF(Q17=\"\",\"\",VLOOKUP(CONCATENATE($B$9,\"_\",Q17),選手名簿!$A:$H,7,FALSE))","v":6},{"$f":"IF(Q17=\"\",\"\",VLOOKUP(CONCATENATE($B$9,\"_\",Q17),選手名簿!$A:$H,5,FALSE))","v":"後藤　颯太"},null,null,null,null,1,{"$f":"IF(Q17=\"\",\"\",VLOOKUP(CONCATENATE($B$9,\"_\",Q17),選手名簿!$A:$H,4,FALSE))","v":"DF"},{"$f":"IF(T17=\"\",\"\",VLOOKUP(CONCATENATE($W$9,\"_\",T17),選手名簿!$A:$H,4,FALSE))","v":"DF"},6,{"$f":"IF(T17=\"\",\"\",VLOOKUP(CONCATENATE($W$9,\"_\",T17),選手名簿!$A:$H,5,FALSE))","v":"吉元　俊輔"},null,null,null,null,{"$f":"IF(T17=\"\",\"\",VLOOKUP(CONCATENATE($W$9,\"_\",T17),選手名簿!$A:$H,7,FALSE))","v":6},null,null,null,null,null,null,null,null,null,0]
[null,0,null,null,null,null,null,null,null,null,{"$f":"IF(Q18=\"\",\"\",VLOOKUP(CONCATENATE($B$9,\"_\",Q18),選手名簿!$A:$H,7,FALSE))","v":6},{"$f":"IF(Q18=\"\",\"\",VLOOKUP(CONCATENATE($B$9,\"_\",Q18),選手名簿!$A:$H,5,FALSE))","v":"上野　悠陽"},null,null,null,null,4,{"$f":"IF(Q18=\"\",\"\",VLOOKUP(CONCATENATE($B$9,\"_\",Q18),選手名簿!$A:$H,4,FALSE))","v":"DF"},{"$f":"IF(T18=\"\",\"\",VLOOKUP(CONCATENATE($W$9,\"_\",T18),選手名簿!$A:$H,4,FALSE))","v":"MF"},7,{"$f":"IF(T18=\"\",\"\",VLOOKUP(CONCATENATE($W$9,\"_\",T18),選手名簿!$A:$H,5,FALSE))","v":"司城　大輝"},null,null,null,null,{"$f":"IF(T18=\"\",\"\",VLOOKUP(CONCATENATE($W$9,\"_\",T18),選手名簿!$A:$H,7,FALSE))","v":6},null,1,"③",3,null,null,null,null,null,4]
[null,0,null,null,null,null,null,null,null,null,{"$f":"IF(Q19=\"\",\"\",VLOOKUP(CONCATENATE($B$9,\"_\",Q19),選手名簿!$A:$H,7,FALSE))","v":6},{"$f":"IF(Q19=\"\",\"\",VLOOKUP(CONCATENATE($B$9,\"_\",Q19),選手名簿!$A:$H,5,FALSE))","v":"吉廣　幸太郎"},null,null,null,null,8,{"$f":"IF(Q19=\"\",\"\",VLOOKUP(CONCATENATE($B$9,\"_\",Q19),選手名簿!$A:$H,4,FALSE))","v":"MF"},{"$f":"IF(T19=\"\",\"\",VLOOKUP(CONCATENATE($W$9,\"_\",T19),選手名簿!$A:$H,4,FALSE))","v":"MF"},9,{"$f":"IF(T19=\"\",\"\",VLOOKUP(CONCATENATE($W$9,\"_\",T19),選手名簿!$A:$H,5,FALSE))","v":"松田　翔空"},null,null,null,null,{"$f":"IF(T19=\"\",\"\",VLOOKUP(CONCATENATE($W$9,\"_\",T19),選手名簿!$A:$H,7,FALSE))","v":6},null,null,null,1,null,null,null,null,null,1]
[null,0,null,null,null,null,null,null,null,null,{"$f":"IF(Q20=\"\",\"\",VLOOKUP(CONCATENATE($B$9,\"_\",Q20),選手名簿!$A:$H,7,FALSE))","v":5},{"$f":"IF(Q20=\"\",\"\",VLOOKUP(CONCATENATE($B$9,\"_\",Q20),選手名簿!$A:$H,5,FALSE))","v":"小野　友真"},null,null,null,null,3,{"$f":"IF(Q20=\"\",\"\",VLOOKUP(CONCATENATE($B$9,\"_\",Q20),選手名簿!$A:$H,4,FALSE))","v":"FW"},{"$f":"IF(T20=\"\",\"\",VLOOKUP(CONCATENATE($W$9,\"_\",T20),選手名簿!$A:$H,4,FALSE))","v":"MF"},10,{"$f":"IF(T20=\"\",\"\",VLOOKUP(CONCATENATE($W$9,\"_\",T20),選手名簿!$A:$H,5,FALSE))","v":"松場　次元"},null,null,null,null,{"$f":"IF(T20=\"\",\"\",VLOOKUP(CONCATENATE($W$9,\"_\",T20),選手名簿!$A:$H,7,FALSE))","v":6},null,null,null,null,null,null,null,null,null,0]
[null,9,null,null,null,null,"①",4,"①",5,{"$f":"IF(Q21=\"\",\"\",VLOOKUP(CONCATENATE($B$9,\"_\",Q21),選手名簿!$A:$H,7,FALSE))","v":6},{"$f":"IF(Q21=\"\",\"\",VLOOKUP(CONCATENATE($B$9,\"_\",Q21),選手名簿!$A:$H,5,FALSE))","v":"江藤　翼"},null,null,null,null,9,{"$f":"IF(Q21=\"\",\"\",VLOOKUP(CONCATENATE($B$9,\"_\",Q21),選手名簿!$A:$H,4,FALSE))","v":"FW"},{"$f":"IF(T21=\"\",\"\",VLOOKUP(CONCATENATE($W$9,\"_\",T21),選手名簿!$A:$H,4,FALSE))","v":"MF"},14,{"$f":"IF(T21=\"\",\"\",VLOOKUP(CONCATENATE($W$9,\"_\",T21),選手名簿!$A:$H,5,FALSE))","v":"渡辺　碧海"},null,null,null,null,{"$f":"IF(T21=\"\",\"\",VLOOKUP(CONCATENATE($W$9,\"_\",T21),選手名簿!$A:$H,7,FALSE))","v":5},null,null,null,null,null,null,null,null,null,0]
[null,2,null,null,null,null,null,1,null,1,{"$f":"IF(Q22=\"\",\"\",VLOOKUP(CONCATENATE($B$9,\"_\",Q22),選手名簿!$A:$H,7,FALSE))","v":6},{"$f":"IF(Q22=\"\",\"\",VLOOKUP(CONCATENATE($B$9,\"_\",Q22),選手名簿!$A:$H,5,FALSE))","v":"陣内　奏心"},null,null,null,null,10,{"$f":"IF(Q22=\"\",\"\",VLOOKUP(CONCATENATE($B$9,\"_\",Q22),選手名簿!$A:$H,4,FALSE))","v":"FW"},{"$f":"IF(T22=\"\",\"\",VLOOKUP(CONCATENATE($W$9,\"_\",T22),選手名簿!$A:$H,4,FALSE))","v":"FW"},8,{"$f":"IF(T22=\"\",\"\",VLOOKUP(CONCATENATE($W$9,\"_\",T22),選手名簿!$A:$H,5,FALSE))","v":"村上　温俊"},null,null,null,null,{"$f":"IF(T22=\"\",\"\",VLOOKUP(CONCATENATE($W$9,\"_\",T22),選手名簿!$A:$H,7,FALSE))","v":6},null,1,"①",3,null,null,null,null,null,4]
[null,1,null,null,null,null,null,null,null,1,{"$f":"IF(Q23=\"\",\"\",VLOOKUP(CONCATENATE($B$9,\"_\",Q23),選手名簿!$A:$H,7,FALSE))","v":6},{"$f":"IF(Q23=\"\",\"\",VLOOKUP(CONCATENATE($B$9,\"_\",Q23),選手名簿!$A:$H,5,FALSE))","v":"佐藤　亮仁"},null,null,null,null,11,{"$f":"IF(Q23=\"\",\"\",VLOOKUP(CONCATENATE($B$9,\"_\",Q23),選手名簿!$A:$H,4,FALSE))","v":"FW"},{"$f":"IF(T23=\"\",\"\",VLOOKUP(CONCATENATE($W$9,\"_\",T23),選手名簿!$A:$H,4,FALSE))","v":"FW"},15,{"$f":"IF(T23=\"\",\"\",VLOOKUP(CONCATENATE($W$9,\"_\",T23),選手名簿!$A:$H,5,FALSE))","v":"奥　祐翔"},null,null,null,null,{"$f":"IF(T23=\"\",\"\",VLOOKUP(CONCATENATE($W$9,\"_\",T23),選手名簿!$A:$H,7,FALSE))","v":6},null,1,null,null,null,null,null,null,null,1]
[null,null,null,null,null,null,null,null,null,null,null,null,null,null,null,null,"交替要員"]
[null,{"$f":"SUM(D25,F25,H25,J25)","v":0},null,null,null,null,null,null,null,null,{"$f":"IF(Q25=\"\",\"\",VLOOKUP(CONCATENATE($B$9,\"_\",Q25),選手名簿!$A:$H,7,FALSE))","v":5},{"$f":"IF(Q25=\"\",\"\",VLOOKUP(CONCATENATE($B$9,\"_\",Q25),選手名簿!$A:$H,5,FALSE))","v":"荒巻　而志"},null,null,null,null,2,{"$f":"IF(Q25=\"\",\"\",VLOOKUP(CONCATENATE($B$9,\"_\",Q25),選手名簿!$A:$H,4,FALSE))","v":"MF"},{"$f":"IF(T25=\"\",\"\",VLOOKUP(CONCATENATE($W$9,\"_\",T25),選手名簿!$A:$H,4,FALSE))","v":"FW"},2,{"$f":"IF(T25=\"\",\"\",VLOOKUP(CONCATENATE($W$9,\"_\",T25),選手名簿!$A:$H,5,FALSE))","v":"幸重　徹平"},null,null,null,null,{"$f":"IF(T25=\"\",\"\",VLOOKUP(CONCATENATE($W$9,\"_\",T25),選手名簿!$A:$H,7,FALSE))","v":6},null,null,null,null,null,null,null,null,null,{"$f":"SUM(AB25,AD25,AF25,AH25)","v":0}]
[null,0,null,null,null,null,null,null,null,null,{"$f":"IF(Q26=\"\",\"\",VLOOKUP(CONCATENATE($B$9,\"_\",Q26),選手名簿!$A:$H,7,FALSE))","v":5},{"$f":"IF(Q26=\"\",\"\",VLOOKUP(CONCATENATE($B$9,\"_\",Q26),選手名簿!$A:$H,5,FALSE))","v":"今田　優太"},null,null,null,null,5,{"$f":"IF(Q26=\"\",\"\",VLOOKUP(CONCATENATE($B$9,\"_\",Q26),選手名簿!$A:$H,4,FALSE))","v":"MF"},{"$f":"IF(T26=\"\",\"\",VLOOKUP(CONCATENATE($W$9,\"_\",T26),選手名簿!$A:$H,4,FALSE))","v":"DF"},3,{"$f":"IF(T26=\"\",\"\",VLOOKUP(CONCATENATE($W$9,\"_\",T26),選手名簿!$A:$H,5,FALSE))","v":"小田　晴之介"},null,null,null,null,{"$f":"IF(T26=\"\",\"\",VLOOKUP(CONCATENATE($W$9,\"_\",T26),選手名簿!$A:$H,7,FALSE))","v":6},null,null,null,null,null,null,null,null,null,0]
[null,0,null,null,null,null,null,null,null,null,{"$f":"IF(Q27=\"\",\"\",VLOOKUP(CONCATENATE($B$9,\"_\",Q27),選手名簿!$A:$H,7,FALSE))","v":5},{"$f":"IF(Q27=\"\",\"\",VLOOKUP(CONCATENATE($B$9,\"_\",Q27),選手名簿!$A:$H,5,FALSE))","v":"塚崎　春輝"},null,null,null,null,6,{"$f":"IF(Q27=\"\",\"\",VLOOKUP(CONCATENATE($B$9,\"_\",Q27),選手名簿!$A:$H,4,FALSE))","v":"DF"},{"$f":"IF(T27=\"\",\"\",VLOOKUP(CONCATENATE($W$9,\"_\",T27),選手名簿!$A:$H,4,FALSE))","v":"DF"},4,{"$f":"IF(T27=\"\",\"\",VLOOKUP(CONCATENATE($W$9,\"_\",T27),選手名簿!$A:$H,5,FALSE))","v":"野尻　憲慎"},null,null,null,null,{"$f":"IF(T27=\"\",\"\",VLOOKUP(CONCATENATE($W$9,\"_\",T27),選手名簿!$A:$H,7,FALSE))","v":5},null,null,null,null,null,null,null,null,null,0]
[null,0,null,null,null,null,null,null,null,null,{"$f":"IF(Q28=\"\",\"\",VLOOKUP(CONCATENATE($B$9,\"_\",Q28),選手名簿!$A:$H,7,FALSE))","v":6},{"$f":"IF(Q28=\"\",\"\",VLOOKUP(CONCATENATE($B$9,\"_\",Q28),選手名簿!$A:$H,5,FALSE))","v":"甲斐　琉聖"},null,null,null,null,7,{"$f":"IF(Q28=\"\",\"\",VLOOKUP(CONCATENATE($B$9,\"_\",Q28),選手名簿!$A:$H,4,FALSE))","v":"MF"},{"$f":"IF(T28=\"\",\"\",VLOOKUP(CONCATENATE($W$9,\"_\",T28),選手名簿!$A:$H,4,FALSE))","v":"DF"},5,{"$f":"IF(T28=\"\",\"\",VLOOKUP(CONCATENATE($W$9,\"_\",T28),選手名簿!$A:$H,5,FALSE))","v":"奥田　智己"},null,null,null,null,{"$f":"IF(T28=\"\",\"\",VLOOKUP(CONCATENATE($W$9,\"_\",T28),選手名簿!$A:$H,7,FALSE))","v":6},null,null,null,null,null,null,null,null,null,0]
[null,0,null,null,null,null,null,null,null,null,{"$f":"IF(Q29=\"\",\"\",VLOOKUP(CONCATENATE($B$9,\"_\",Q29),選手名簿!$A:$H,7,FALSE))","v":4},{"$f":"IF(Q29=\"\",\"\",VLOOKUP(CONCATENATE($B$9,\"_\",Q29),選手名簿!$A:$H,5,FALSE))","v":"髙倉　暖基"},null,null,null,null,12,{"$f":"IF(Q29=\"\",\"\",VLOOKUP(CONCATENATE($B$9,\"_\",Q29),選手名簿!$A:$H,4,FALSE))","v":"MF"},{"$f":"IF(T29=\"\",\"\",VLOOKUP(CONCATENATE($W$9,\"_\",T29),選手名簿!$A:$H,4,FALSE))","v":"MF"},11,{"$f":"IF(T29=\"\",\"\",VLOOKUP(CONCATENATE($W$9,\"_\",T29),選手名簿!$A:$H,5,FALSE))","v":"佐藤　悠晴"},null,null,null,null,{"$f":"IF(T29=\"\",\"\",VLOOKUP(CONCATENATE($W$9,\"_\",T29),選手名簿!$A:$H,7,FALSE))","v":6},null,null,null,null,null,null,null,null,null,0]
[null,0,null,null,null,null,null,null,null,null,{"$f":"IF(Q30=\"\",\"\",VLOOKUP(CONCATENATE($B$9,\"_\",Q30),選手名簿!$A:$H,7,FALSE))","v":4},{"$f":"IF(Q30=\"\",\"\",VLOOKUP(CONCATENATE($B$9,\"_\",Q30),選手名簿!$A:$H,5,FALSE))","v":"黒木　渚冴"},null,null,null,null,13,{"$f":"IF(Q30=\"\",\"\",VLOOKUP(CONCATENATE($B$9,\"_\",Q30),選手名簿!$A:$H,4,FALSE))","v":"FW"},{"$f":"IF(T30=\"\",\"\",VLOOKUP(CONCATENATE($W$9,\"_\",T30),選手名簿!$A:$H,4,FALSE))","v":"GK"},12,{"$f":"IF(T30=\"\",\"\",VLOOKUP(CONCATENATE($W$9,\"_\",T30),選手名簿!$A:$H,5,FALSE))","v":"花宮　蓮"},null,null,null,null,{"$f":"IF(T30=\"\",\"\",VLOOKUP(CONCATENATE($W$9,\"_\",T30),選手名簿!$A:$H,7,FALSE))","v":5},null,null,null,null,null,null,null,null,null,0]
[null,0,null,null,null,null,null,null,null,null,{"$f":"IF(Q31=\"\",\"\",VLOOKUP(CONCATENATE($B$9,\"_\",Q31),選手名簿!$A:$H,7,FALSE))","v":4},{"$f":"IF(Q31=\"\",\"\",VLOOKUP(CONCATENATE($B$9,\"_\",Q31),選手名簿!$A:$H,5,FALSE))","v":"荒巻　乃得"},null,null,null,null,14,{"$f":"IF(Q31=\"\",\"\",VLOOKUP(CONCATENATE($B$9,\"_\",Q31),選手名簿!$A:$H,4,FALSE))","v":"FW"},{"$f":"IF(T31=\"\",\"\",VLOOKUP(CONCATENATE($W$9,\"_\",T31),選手名簿!$A:$H,4,FALSE))","v":"FW"},13,{"$f":"IF(T31=\"\",\"\",VLOOKUP(CONCATENATE($W$9,\"_\",T31),選手名簿!$A:$H,5,FALSE))","v":"玉井　祐彰"},null,null,null,null,{"$f":"IF(T31=\"\",\"\",VLOOKUP(CONCATENATE($W$9,\"_\",T31),選手名簿!$A:$H,7,FALSE))","v":6},null,null,null,null,null,null,null,null,null,0]
[null,0,null,null,null,null,null,null,null,null,{"$f":"IF(Q32=\"\",\"\",VLOOKUP(CONCATENATE($B$9,\"_\",Q32),選手名簿!$A:$H,7,FALSE))","v":4},{"$f":"IF(Q32=\"\",\"\",VLOOKUP(CONCATENATE($B$9,\"_\",Q32),選手名簿!$A:$H,5,FALSE))","v":"伊東　湊"},null,null,null,null,15,{"$f":"IF(Q32=\"\",\"\",VLOOKUP(CONCATENATE($B$9,\"_\",Q32),選手名簿!$A:$H,4,FALSE))","v":"DF"},{"$f":"IF(T32=\"\",\"\",VLOOKUP(CONCATENATE($W$9,\"_\",T32),選手名簿!$A:$H,4,FALSE))","v":""},null,{"$f":"IF(T32=\"\",\"\",VLOOKUP(CONCATENATE($W$9,\"_\",T32),選手名簿!$A:$H,5,FALSE))","v":""},null,null,null,null,{"$f":"IF(T32=\"\",\"\",VLOOKUP(CONCATENATE($W$9,\"_\",T32),選手名簿!$A:$H,7,FALSE))","v":""},null,null,null,null,null,null,null,null,null,0]
[null,0,null,null,null,null,null,null,null,null,{"$f":"IF(Q33=\"\",\"\",VLOOKUP(CONCATENATE($B$9,\"_\",Q33),選手名簿!$A:$H,7,FALSE))","v":""},{"$f":"IF(Q33=\"\",\"\",VLOOKUP(CONCATENATE($B$9,\"_\",Q33),選手名簿!$A:$H,5,FALSE))","v":""},null,null,null,null,null,{"$f":"IF(Q33=\"\",\"\",VLOOKUP(CONCATENATE($B$9,\"_\",Q33),選手名簿!$A:$H,4,FALSE))","v":""},{"$f":"IF(T33=\"\",\"\",VLOOKUP(CONCATENATE($W$9,\"_\",T33),選手名簿!$A:$H,4,FALSE))","v":""},null,{"$f":"IF(T33=\"\",\"\",VLOOKUP(CONCATENATE($W$9,\"_\",T33),選手名簿!$A:$H,5,FALSE))","v":""},null,null,null,null,{"$f":"IF(T33=\"\",\"\",VLOOKUP(CONCATENATE($W$9,\"_\",T33),選手名簿!$A:$H,7,FALSE))","v":""},null,null,null,null,null,null,null,null,null,0]
[null,0,null,null,null,null,null,null,null,null,{"$f":"IF(Q34=\"\",\"\",VLOOKUP(CONCATENATE($B$9,\"_\",Q34),選手名簿!$A:$H,7,FALSE))","v":""},{"$f":"IF(Q34=\"\",\"\",VLOOKUP(CONCATENATE($B$9,\"_\",Q34),選手名簿!$A:$H,5,FALSE))","v":""},null,null,null,null,null,{"$f":"IF(Q34=\"\",\"\",VLOOKUP(CONCATENATE($B$9,\"_\",Q34),選手名簿!$A:$H,4,FALSE))","v":""},{"$f":"IF(T34=\"\",\"\",VLOOKUP(CONCATENATE($W$9,\"_\",T34),選手名簿!$A:$H,4,FALSE))","v":""},null,{"$f":"IF(T34=\"\",\"\",VLOOKUP(CONCATENATE($W$9,\"_\",T34),選手名簿!$A:$H,5,FALSE))","v":""},null,null,null,null,{"$f":"IF(T34=\"\",\"\",VLOOKUP(CONCATENATE($W$9,\"_\",T34),選手名簿!$A:$H,7,FALSE))","v":""},null,null,null,null,null,null,null,null,null,0]
[null,null,null,{"$f":"SUM(D16:D23,D25:D34)","v":0},null,{"$f":"SUM(F16:F23,F25:F34)","v":0},null,{"$f":"SUM(H16:H23,H25:H34)","v":5},null,{"$f":"SUM(J16:J23,J25:J34)","v":8},"小計",{"$f":"SUM(D35,F35,H35,J35)","v":13},null,null,null,null,"合計","シュート数",null,"合計",{"$f":"SUM(AB35,AD35,AF35,AH35)","v":10},null,null,null,null,"小計",null,{"$f":"SUM(AB16:AB23,AB25:AB34)","v":3},null,{"$f":"SUM(AD16:AD23,AD25:AD34)","v":7},null,{"$f":"SUM(AF16:AF23,AF25:AF34)","v":0},null,{"$f":"SUM(AH16:AH23,AH25:AH34)","v":0}]
[null,null,"OUT",null,null,null,null,null,null,"→","IN",null,null,null,null,null,null,"交代",null,null,"OUT",null,null,null,null,null,null,"→","IN"]
[null,null,null,null,null,null,null,null,null,null,null,null,null,null,null,null,null,"選手"]
[21,"分",3,"番",{"$f":"IF(C38=\"\",\"\",VLOOKUP(CONCATENATE($B$9,\"_\",C38),選手名簿!$A:$H,5,FALSE))","v":"小野　友真"},null,null,null,null,"→",7,"番",{"$f":"IF(K38=\"\",\"\",VLOOKUP(CONCATENATE($B$9,\"_\",K38),選手名簿!$A:$H,5,FALSE))","v":"甲斐　琉聖"},null,null,null,null,null,null,"分",null,"番",{"$f":"IF(U38=\"\",\"\",VLOOKUP(CONCATENATE($W$9,\"_\",U38),選手名簿!$A:$H,5,FALSE))","v":""},null,null,null,null,"→",null,"番",{"$f":"IF(AC38=\"\",\"\",VLOOKUP(CONCATENATE($W$9,\"_\",AC38),選手名簿!$A:$H,5,FALSE))","v":""}]
[null,"分",null,"番",{"$f":"IF(C39=\"\",\"\",VLOOKUP(CONCATENATE($B$9,\"_\",C39),選手名簿!$A:$H,5,FALSE))","v":""},null,null,null,null,"→",null,"番",{"$f":"IF(K39=\"\",\"\",VLOOKUP(CONCATENATE($B$9,\"_\",K39),選手名簿!$A:$H,5,FALSE))","v":""},null,null,null,null,null,null,"分",null,"番",{"$f":"IF(U39=\"\",\"\",VLOOKUP(CONCATENATE($W$9,\"_\",U39),選手名簿!$A:$H,5,FALSE))","v":""},null,null,null,null,"→",null,"番",{"$f":"IF(AC39=\"\",\"\",VLOOKUP(CONCATENATE($W$9,\"_\",AC39),選手名簿!$A:$H,5,FALSE))","v":""}]
[null,"分",null,"番",{"$f":"IF(C40=\"\",\"\",VLOOKUP(CONCATENATE($B$9,\"_\",C40),選手名簿!$A:$H,5,FALSE))","v":""},null,null,null,null,"→",null,"番",{"$f":"IF(K40=\"\",\"\",VLOOKUP(CONCATENATE($B$9,\"_\",K40),選手名簿!$A:$H,5,FALSE))","v":""},null,null,null,null,null,null,"分",null,"番",{"$f":"IF(U40=\"\",\"\",VLOOKUP(CONCATENATE($W$9,\"_\",U40),選手名簿!$A:$H,5,FALSE))","v":""},null,null,null,null,"→",null,"番",{"$f":"IF(AC40=\"\",\"\",VLOOKUP(CONCATENATE($W$9,\"_\",AC40),選手名簿!$A:$H,5,FALSE))","v":""}]
[null,"分",null,"番",{"$f":"IF(C41=\"\",\"\",VLOOKUP(CONCATENATE($B$9,\"_\",C41),選手名簿!$A:$H,5,FALSE))","v":""},null,null,null,null,"→",null,"番",{"$f":"IF(K41=\"\",\"\",VLOOKUP(CONCATENATE($B$9,\"_\",K41),選手名簿!$A:$H,5,FALSE))","v":""},null,null,null,null,null,null,"分",null,"番",{"$f":"IF(U41=\"\",\"\",VLOOKUP(CONCATENATE($W$9,\"_\",U41),選手名簿!$A:$H,5,FALSE))","v":""},null,null,null,null,"→",null,"番",{"$f":"IF(AC41=\"\",\"\",VLOOKUP(CONCATENATE($W$9,\"_\",AC41),選手名簿!$A:$H,5,FALSE))","v":""}]
[null,"分",null,"番",{"$f":"IF(C42=\"\",\"\",VLOOKUP(CONCATENATE($B$9,\"_\",C42),選手名簿!$A:$H,5,FALSE))","v":""},null,null,null,null,"→",null,"番",{"$f":"IF(K42=\"\",\"\",VLOOKUP(CONCATENATE($B$9,\"_\",K42),選手名簿!$A:$H,5,FALSE))","v":""},null,null,null,null,null,null,"分",null,"番",{"$f":"IF(U42=\"\",\"\",VLOOKUP(CONCATENATE($W$9,\"_\",U42),選手名簿!$A:$H,5,FALSE))","v":""},null,null,null,null,"→",null,"番",{"$f":"IF(AC42=\"\",\"\",VLOOKUP(CONCATENATE($W$9,\"_\",AC42),選手名簿!$A:$H,5,FALSE))","v":""}]
[null,"分",null,"番",{"$f":"IF(C43=\"\",\"\",VLOOKUP(CONCATENATE($B$9,\"_\",C43),選手名簿!$A:$H,5,FALSE))","v":""},null,null,null,null,"→",null,"番",{"$f":"IF(K43=\"\",\"\",VLOOKUP(CONCATENATE($B$9,\"_\",K43),選手名簿!$A:$H,5,FALSE))","v":""},null,null,null,null,null,null,"分",null,"番",{"$f":"IF(U43=\"\",\"\",VLOOKUP(CONCATENATE($W$9,\"_\",U43),選手名簿!$A:$H,5,FALSE))","v":""},null,null,null,null,"→",null,"番",{"$f":"IF(AC43=\"\",\"\",VLOOKUP(CONCATENATE($W$9,\"_\",AC43),選手名簿!$A:$H,5,FALSE))","v":""}]
[null,"分",null,"番",{"$f":"IF(C44=\"\",\"\",VLOOKUP(CONCATENATE($B$9,\"_\",C44),選手名簿!$A:$H,5,FALSE))","v":""},null,null,null,null,"→",null,"番",{"$f":"IF(K44=\"\",\"\",VLOOKUP(CONCATENATE($B$9,\"_\",K44),選手名簿!$A:$H,5,FALSE))","v":""},null,null,null,null,null,null,"分",null,"番",{"$f":"IF(U44=\"\",\"\",VLOOKUP(CONCATENATE($W$9,\"_\",U44),選手名簿!$A:$H,5,FALSE))","v":""},null,null,null,null,"→",null,"番",{"$f":"IF(AC44=\"\",\"\",VLOOKUP(CONCATENATE($W$9,\"_\",AC44),選手名簿!$A:$H,5,FALSE))","v":""}]
[null,"分",null,"番",{"$f":"IF(C45=\"\",\"\",VLOOKUP(CONCATENATE($B$9,\"_\",C45),選手名簿!$A:$H,5,FALSE))","v":""},null,null,null,null,"→",null,"番",{"$f":"IF(K45=\"\",\"\",VLOOKUP(CONCATENATE($B$9,\"_\",K45),選手名簿!$A:$H,5,FALSE))","v":""},null,null,null,null,null,null,"分",null,"番",{"$f":"IF(U45=\"\",\"\",VLOOKUP(CONCATENATE($W$9,\"_\",U45),選手名簿!$A:$H,5,FALSE))","v":""},null,null,null,null,"→",null,"番",{"$f":"IF(AC45=\"\",\"\",VLOOKUP(CONCATENATE($W$9,\"_\",AC45),選手名簿!$A:$H,5,FALSE))","v":""}]
["警告（Ｃ）・退場（Ｓ）など",null,null,null,null,null,null,"合計",null,"延後",null,"延前",null,"後半",null,"前半",null,"チーム\n合計",null,"前半",null,"後半",null,"延前",null,"延後",null,"合計",null,"警告（Ｃ）・退場（Ｓ）など"]
[null,null,null,null,null,null,null,{"$f":"SUM(J47:Q47)","v":5},null,null,null,null,null,2,null,3,null,"Ｇ","Ｋ",4,null,4,null,null,null,null,null,{"$f":"SUM(T47:AA47)","v":8}]
[null,null,null,null,null,null,null,{"$f":"SUM(J48:Q48)","v":4},null,null,null,null,null,1,null,3,null,"Ｃ","Ｋ",1,null,1,null,null,null,null,null,{"$f":"SUM(T48:AA48)","v":2}]
[null,null,null,null,null,null,null,{"$f":"SUM(J49:Q49)","v":1},null,null,null,null,null,1,null,0,null,"直接","ＦＫ",0,null,1,null,null,null,null,null,{"$f":"SUM(T49:AA49)","v":1}]
[null,null,null,null,null,null,null,{"$f":"SUM(J50:Q50)","v":1},null,null,null,null,null,0,null,1,null,"間接","ＦＫ",0,null,0,null,null,null,null,null,{"$f":"SUM(T50:AA50)","v":0}]
[null,null,null,null,null,null,null,{"$f":"SUM(J51:Q51)","v":0},null,null,null,null,null,0,null,0,null,"Ｐ","Ｋ",0,null,0,null,null,null,null,null,{"$f":"SUM(T51:AA51)","v":0}]
["時間",null,null,"得点者",null,"得　　点　　経　　過",null,null,null,null,null,null,null,null,null,null,null,null,"時間",null,null,"得点者",null,"得　　点　　経　　過"]
[null,3,"分",9,null,"9～S",null,null,null,null,null,null,null,null,null,null,null,null,null,25,"分",7,null,"7FK　S"]
[null,27,"分",9,null,"8　→　9S",null,null,null,null,null,null,null,null,null,null,null,null,null,33,"分",7,null,"7～S"]
[null,null,"分",null,null,null,null,null,null,null,null,null,null,null,null,null,null,null,null,35,"分",7,null,"7～S"]
[null,null,"分",null,null,null,null,null,null,null,null,null,null,null,null,null,null,null,null,40,"分",8,null,"9　→　8S"]
[null,null,"分",null,null,null,null,null,null,null,null,null,null,null,null,null,null,null,null,null,"分"]
[null,null,"分",null,null,null,null,null,null,null,null,null,null,null,null,null,null,null,null,null,"分"]
[" ",null,null,"《略号例》",null,null,null,"ドリブル",null,"～",null,"ゴロのパス",null,null,"→",null,"浮き球",null,"∩",null,"混戦",null,"×",null,"ヘディング",null,null,"H",null,"シュート",null,"S"]
[]
["戦評者氏名",null,null,null,"（",null,null,null,null,null,"）",null,"勤務先または所属",null,null,null,null,"（",null,null,null,null,null,null,null,null,null,null,null,null,null,null,null,null,"　）"]
[]
[]
[]
[]
[]
[]
[]
[]
[null,null,null,null,null,null,null,null,"M   C",null,null,null,null,null,null,"ウェルフェアオフィサー",null,null,null,null,null,null,"会　場　長",null,null,null,null,null,null,"主　　審"]
[null,null,null,null,null,null,null,null,"仲野　昭博",null,null,null,null,null,null,"山野内　哲朗",null,null,null,null,null,null,"安東　幹雄",null,null,null,null,null,null,"曽我　拓実"]

{"sheet":"準決勝②【Match No,50】","index":7,"n_rows":71,"n_cols":36,"rows_kept":71,"cut":false,"hidden":false,"merged":[[70,8,72,14],[70,15,72,21],[70,22,72,28],[70,29,72,35],[58,29,58,30],[60,0,60,3],[60,5,60,9],[60,12,60,16],[60,18,60,33],[69,8,69,14],[56,3,56,4],[56,5,56,17],[56,21,56,22],[56,23,56,35],[57,3,57,4],[57,5,57,17],[57,21,57,22],[57,23,57,35],[69,15,69,21],[69,22,69,28],[69,29,69,35],[58,3,58,5],[58,7,58,8],[58,11,58,13],[58,16,58,17],[58,20,58,21],[58,24,58,26],[53,3,53,4],[53,5,53,17],[53,21,53,22],[53,23,53,35],[54,3,54,4],[54,5,54,17],[54,21,54,22],[54,23,54,35],[55,3,55,4],[55,5,55,17],[55,21,55,22],[55,23,55,35],[50,27,50,28],[51,0,51,2],[51,3,51,4],[51,5,51,17],[51,18,51,20],[51,21,51,22],[51,23,51,35],[52,3,52,4],[52,5,52,17],[52,21,52,22],[52,23,52,35],[50,7,50,8],[50,9,50,10],[50,11,50,12],[50,13,50,14],[50,15,50,16],[50,19,50,20],[50,21,50,22],[50,23,50,24],[50,25,50,26],[48,27,48,28],[49,7,49,8],[49,9,49,10],[49,11,49,12],[49,13,49,14],[49,15,49,16],[49,19,49,20],[49,21,49,22],[49,23,49,24],[49,25,49,26],[49,27,49,28],[48,7,48,8],[48,9,48,10],[48,11,48,12],[48,13,48,14],[48,15,48,16],[48,19,48,20],[48,21,48,22],[48,23,48,24],[48,25,48,26],[46,27,46,28],[47,7,47,8],[47,9,47,10],[47,11,47,12],[47,13,47,14],[47,15,47,16],[47,19,47,20],[47,21,47,22],[47,23,47,24],[47,25,47,26],[47,27,47,28],[46,7,46,8],[46,9,46,10],[46,11,46,12],[46,13,46,14],[46,15,46,16],[46,19,46,20],[46,21,46,22],[46,23,46,24],[46,25,46,26],[44,4,44,8],[44,12,44,16],[44,22,44,26],[44,30,44,34],[45,0,45,6],[45,7,45,8],[45,9,45,10],[45,11,45,12],[45,13,45,14],[45,15,45,16],[45,17,45,18],[45,19,45,20],[45,21,45,22],[45,23,45,24],[45,25,45,26],[45,27,45,28],[45,29,45,35],[41,4,41,8],[41,12,41,16],[41,22,41,26],[41,30,41,34],[42,4,42,8],[42,12,42,16],[42,22,42,26],[42,30,42,34],[43,4,43,8],[43,12,43,16],[43,22,43,26],[43,30,43,34],[38,4,38,8],[38,12,38,16],[38,22,38,26],[38,30,38,34],[39,4,39,8],[39,12,39,16],[39,22,39,26],[39,30,39,34],[40,4,40,8],[40,12,40,16],[40,22,40,26],[40,30,40,34],[35,28,36,34],[36,17,36,18],[37,4,37,8],[37,12,37,16],[37,22,37,26],[37,30,37,34],[35,2,36,8],[35,9,36,9],[35,10,36,16],[35,17,35,18],[30,11,30,15],[30,20,30,24],[31,11,31,15],[31,20,31,24],[35,20,36,26],[35,27,36,27],[32,11,32,15],[32,20,32,24],[33,11,33,15],[33,20,33,24],[34,11,34,15],[34,17,34,18],[34,20,34,24],[25,11,25,15],[25,20,25,24],[26,11,26,15],[26,20,26,24],[27,11,27,15],[27,20,27,24],[28,11,28,15],[28,20,28,24],[29,11,29,15],[29,20,29,24],[20,11,20,15],[20,20,20,24],[21,11,21,15],[21,20,21,24],[22,11,22,15],[22,20,22,24],[23,16,23,19],[24,11,24,15],[24,20,24,24],[15,11,15,15],[15,20,15,24],[16,11,16,15],[16,20,16,24],[17,11,17,15],[17,20,17,24],[18,11,18,15],[18,20,18,24],[19,11,19,15],[19,20,19,24],[13,34,13,35],[14,0,14,1],[14,2,14,3],[14,4,14,5],[14,6,14,7],[14,8,14,9],[14,26,14,27],[14,28,14,29],[14,30,14,31],[14,32,14,33],[14,34,14,35],[12,26,12,33],[13,0,13,1],[13,2,13,3],[13,4,13,5],[13,6,13,7],[13,8,13,9],[13,17,13,18],[13,26,13,27],[13,28,13,29],[13,30,13,31],[13,32,13,33],[7,0,7,2],[7,11,7,14],[7,15,11,15],[7,17,7,18],[10,13,10,14],[10,11,10,12],[11,17,11,18],[12,2,12,9],[7,20,11,20],[9,12,9,14],[9,17,9,18],[8,1,8,10],[8,11,8,14],[8,17,8,18],[9,9,9,11],[9,21,9,23],[5,18,5,19],[5,21,5,25],[5,26,5,30],[5,31,5,35],[7,32,7,35],[10,17,10,18],[10,21,10,22],[10,23,10,24],[8,32,8,35],[7,21,7,23],[8,22,8,31],[9,24,9,26],[1,28,2,29],[1,31,1,35],[2,0,2,1],[2,14,2,15],[2,16,2,17],[2,18,2,26],[2,31,2,35],[3,31,3,35],[4,0,4,1],[4,2,6,8],[4,11,4,12],[4,18,4,19],[5,0,5,1],[5,11,5,12],[5,13,5,14],[6,0,6,1],[6,11,6,12],[6,13,6,14],[6,18,6,19],[6,26,6,30],[3,18,3,26],[3,28,3,29],[0,0,0,5],[0,6,0,9],[0,10,0,11],[1,0,1,1],[1,2,3,13],[1,15,1,16],[3,0,3,1],[3,14,3,15],[3,16,3,17]]}
["公式記録",null,null,null,null,null,"Match No：",null,null,null,50]
["大",null,"OFA 第 51 回大分県少年サッカー大会\n　兼　KYFA 九州U-12サッカー大会大分県大会",null,null,null,null,null,null,null,null,null,null,null,"第",3,null,"日",null,null,null,null,null,null,null,null,null,"競技","40分",null,"記","中野観司郎"]
["会",null,null,null,null,null,null,null,null,null,null,null,null,null,"1回戦",null,"2回戦",null,"2020年　2月9日（日）",null,null,null,null,null,null,null,null,"時間",null,null,"録","安東　信二"]
["名",null,null,null,null,null,null,null,null,null,null,null,null,null,"準決勝",null,"決勝",null,"試合開始　10時30分～",null,null,null,null,null,null,null,null,"延長","10分",null,"者","松下　省吾,榊　謙治"]
["会",null,"大分県大分スポーツ公園\n昭和電工サッカー・ラグビー場\nＡコート",null,null,null,null,null,null,"天","晴","風",null,"強","弱","無","芝","状","良好",null,"審","主審",null,null,null,null,"副審",null,null,null,null,"第4の審判員"]
[null,null,null,null,null,null,null,null,null,null,"曇","気温",null,5.6,null,"℃",null,null,"不良",null,null,"後藤　樹明",null,null,null,null,"足立　卓也",null,null,null,null,"菊地　謙一"]
["場",null,null,null,null,null,null,null,null,"候","雨","湿度",null,70.599999999999994,null,"％","土","態","泥沼",null,"判",null,null,null,null,null,"深津　弘毅"]
["【チーム名】",null,null,null,null,null,null,null,null,null,null,null,null,null,null,{"$f":"IF(Q8=\"\",\"\",SUM(Q8:Q11))","v":0},0,"前半",null,0,{"$f":"IF(T8=\"\",\"\",SUM(T8:T11))","v":0},"【チーム名】"]
[null,{"$f":"組み合わせ!CF27","v":"ブルーウイングフットボールクラブ"},null,null,null,null,null,null,null,null,null,{"$f":"組み合わせ!CP30","v":"（　大分市　）"},null,null,null,null,0,"後半",null,0,null,null,{"$f":"組み合わせ!DP27","v":"カティオーラフットボールクラブＵ－１２"},null,null,null,null,null,null,null,null,null,{"$f":"組み合わせ!DZ30","v":"（　大分市　）"}]
[null,null,null,null,null,null,null,null,null,"延長戦kick off",null,null,"kick off",null,null,null,0,"延前",null,0,null,"kick off",null,null,"延長戦kick off"]
[null,null,null,null,null,null,null,null,null,7,10,"背番号",null,"PK",null,null,0,"延後",null,0,null,"PK",null,"背番号",null,7,10,6]
[null,null,null,null,null,null,null,null,null,"○","×","○","×","先","後",null,1,"ＰＫ戦",null,3,null,"先","後","○","×","○","○","○"]
[null,null,"シュート（得点者は○印）",null,null,null,null,null,null,null,"学",null,null,null,null,null,"背",null,null,"背",null,null,null,null,null,"学","シュート（得点者は○印）"]
["合",null,"延",null,"延",null,"後",null,"前",null,null,null,"選","手","名",null,"番","位置",null,"番",null,"選","手","名",null,null,"前",null,"後",null,"延",null,"延",null,"合"]
["計",null,"後",null,"前",null,"半",null,"半",null,"年",null,null,null,null,null,"号",null,null,"号",null,null,null,null,null,"年","半",null,"半",null,"前",null,"後",null,"計"]
[null,{"$f":"SUM(D16,F16,H16,J16)","v":0},null,null,null,null,null,null,null,null,{"$f":"IF(Q16=\"\",\"\",VLOOKUP(CONCATENATE($B$9,\"_\",Q16),選手名簿!$A:$H,7,FALSE))","v":6},{"$f":"IF(Q16=\"\",\"\",VLOOKUP(CONCATENATE($B$9,\"_\",Q16),選手名簿!$A:$H,5,FALSE))","v":"安藤　亮太"},null,null,null,null,12,{"$f":"IF(Q16=\"\",\"\",VLOOKUP(CONCATENATE($B$9,\"_\",Q16),選手名簿!$A:$H,4,FALSE))","v":"GK"},{"$f":"IF(T16=\"\",\"\",VLOOKUP(CONCATENATE($W$9,\"_\",T16),選手名簿!$A:$H,4,FALSE))","v":"GK"},1,{"$f":"IF(T16=\"\",\"\",VLOOKUP(CONCATENATE($W$9,\"_\",T16),選手名簿!$A:$H,5,FALSE))","v":"工藤　渉"},null,null,null,null,{"$f":"IF(T16=\"\",\"\",VLOOKUP(CONCATENATE($W$9,\"_\",T16),選手名簿!$A:$H,7,FALSE))","v":6},null,null,null,null,null,null,null,null,null,{"$f":"SUM(AB16,AD16,AF16,AH16)","v":0}]
[null,4,null,2,null,1,null,null,null,1,{"$f":"IF(Q17=\"\",\"\",VLOOKUP(CONCATENATE($B$9,\"_\",Q17),選手名簿!$A:$H,7,FALSE))","v":6},{"$f":"IF(Q17=\"\",\"\",VLOOKUP(CONCATENATE($B$9,\"_\",Q17),選手名簿!$A:$H,5,FALSE))","v":"竹尾　日輝"},null,null,null,null,4,{"$f":"IF(Q17=\"\",\"\",VLOOKUP(CONCATENATE($B$9,\"_\",Q17),選手名簿!$A:$H,4,FALSE))","v":"DF"},{"$f":"IF(T17=\"\",\"\",VLOOKUP(CONCATENATE($W$9,\"_\",T17),選手名簿!$A:$H,4,FALSE))","v":"DF"},4,{"$f":"IF(T17=\"\",\"\",VLOOKUP(CONCATENATE($W$9,\"_\",T17),選手名簿!$A:$H,5,FALSE))","v":"野尻　憲慎"},null,null,null,null,{"$f":"IF(T17=\"\",\"\",VLOOKUP(CONCATENATE($W$9,\"_\",T17),選手名簿!$A:$H,7,FALSE))","v":5},null,null,null,1,null,null,null,null,null,1]
[null,0,null,null,null,null,null,null,null,null,{"$f":"IF(Q18=\"\",\"\",VLOOKUP(CONCATENATE($B$9,\"_\",Q18),選手名簿!$A:$H,7,FALSE))","v":5},{"$f":"IF(Q18=\"\",\"\",VLOOKUP(CONCATENATE($B$9,\"_\",Q18),選手名簿!$A:$H,5,FALSE))","v":"古川　士道"},null,null,null,null,16,{"$f":"IF(Q18=\"\",\"\",VLOOKUP(CONCATENATE($B$9,\"_\",Q18),選手名簿!$A:$H,4,FALSE))","v":"DF"},{"$f":"IF(T18=\"\",\"\",VLOOKUP(CONCATENATE($W$9,\"_\",T18),選手名簿!$A:$H,4,FALSE))","v":"DF"},6,{"$f":"IF(T18=\"\",\"\",VLOOKUP(CONCATENATE($W$9,\"_\",T18),選手名簿!$A:$H,5,FALSE))","v":"吉元　俊輔"},null,null,null,null,{"$f":"IF(T18=\"\",\"\",VLOOKUP(CONCATENATE($W$9,\"_\",T18),選手名簿!$A:$H,7,FALSE))","v":6},null,null,null,null,null,null,null,null,null,0]
[null,1,null,null,null,null,null,1,null,null,{"$f":"IF(Q19=\"\",\"\",VLOOKUP(CONCATENATE($B$9,\"_\",Q19),選手名簿!$A:$H,7,FALSE))","v":6},{"$f":"IF(Q19=\"\",\"\",VLOOKUP(CONCATENATE($B$9,\"_\",Q19),選手名簿!$A:$H,5,FALSE))","v":"加島　一冴"},null,null,null,null,8,{"$f":"IF(Q19=\"\",\"\",VLOOKUP(CONCATENATE($B$9,\"_\",Q19),選手名簿!$A:$H,4,FALSE))","v":"MF"},{"$f":"IF(T19=\"\",\"\",VLOOKUP(CONCATENATE($W$9,\"_\",T19),選手名簿!$A:$H,4,FALSE))","v":"MF"},7,{"$f":"IF(T19=\"\",\"\",VLOOKUP(CONCATENATE($W$9,\"_\",T19),選手名簿!$A:$H,5,FALSE))","v":"司城　大輝"},null,null,null,null,{"$f":"IF(T19=\"\",\"\",VLOOKUP(CONCATENATE($W$9,\"_\",T19),選手名簿!$A:$H,7,FALSE))","v":6},null,2,null,3,null,1,null,1,null,7]
[null,2,null,1,null,null,null,1,null,null,{"$f":"IF(Q20=\"\",\"\",VLOOKUP(CONCATENATE($B$9,\"_\",Q20),選手名簿!$A:$H,7,FALSE))","v":6},{"$f":"IF(Q20=\"\",\"\",VLOOKUP(CONCATENATE($B$9,\"_\",Q20),選手名簿!$A:$H,5,FALSE))","v":"諸永　徠斗"},null,null,null,null,9,{"$f":"IF(Q20=\"\",\"\",VLOOKUP(CONCATENATE($B$9,\"_\",Q20),選手名簿!$A:$H,4,FALSE))","v":"MF"},{"$f":"IF(T20=\"\",\"\",VLOOKUP(CONCATENATE($W$9,\"_\",T20),選手名簿!$A:$H,4,FALSE))","v":"MF"},9,{"$f":"IF(T20=\"\",\"\",VLOOKUP(CONCATENATE($W$9,\"_\",T20),選手名簿!$A:$H,5,FALSE))","v":"松田　翔空"},null,null,null,null,{"$f":"IF(T20=\"\",\"\",VLOOKUP(CONCATENATE($W$9,\"_\",T20),選手名簿!$A:$H,7,FALSE))","v":6},null,null,null,3,null,null,null,null,null,3]
[null,6,null,null,null,1,null,2,null,3,{"$f":"IF(Q21=\"\",\"\",VLOOKUP(CONCATENATE($B$9,\"_\",Q21),選手名簿!$A:$H,7,FALSE))","v":6},{"$f":"IF(Q21=\"\",\"\",VLOOKUP(CONCATENATE($B$9,\"_\",Q21),選手名簿!$A:$H,5,FALSE))","v":"奈良　三志朗"},null,null,null,null,10,{"$f":"IF(Q21=\"\",\"\",VLOOKUP(CONCATENATE($B$9,\"_\",Q21),選手名簿!$A:$H,4,FALSE))","v":"MF"},{"$f":"IF(T21=\"\",\"\",VLOOKUP(CONCATENATE($W$9,\"_\",T21),選手名簿!$A:$H,4,FALSE))","v":"MF"},10,{"$f":"IF(T21=\"\",\"\",VLOOKUP(CONCATENATE($W$9,\"_\",T21),選手名簿!$A:$H,5,FALSE))","v":"松場　次元"},null,null,null,null,{"$f":"IF(T21=\"\",\"\",VLOOKUP(CONCATENATE($W$9,\"_\",T21),選手名簿!$A:$H,7,FALSE))","v":6},null,null,null,2,null,1,null,null,null,3]
[null,0,null,null,null,null,null,null,null,null,{"$f":"IF(Q22=\"\",\"\",VLOOKUP(CONCATENATE($B$9,\"_\",Q22),選手名簿!$A:$H,7,FALSE))","v":6},{"$f":"IF(Q22=\"\",\"\",VLOOKUP(CONCATENATE($B$9,\"_\",Q22),選手名簿!$A:$H,5,FALSE))","v":"池口　海"},null,null,null,null,7,{"$f":"IF(Q22=\"\",\"\",VLOOKUP(CONCATENATE($B$9,\"_\",Q22),選手名簿!$A:$H,4,FALSE))","v":"FW"},{"$f":"IF(T22=\"\",\"\",VLOOKUP(CONCATENATE($W$9,\"_\",T22),選手名簿!$A:$H,4,FALSE))","v":"MF"},14,{"$f":"IF(T22=\"\",\"\",VLOOKUP(CONCATENATE($W$9,\"_\",T22),選手名簿!$A:$H,5,FALSE))","v":"渡辺　碧海"},null,null,null,null,{"$f":"IF(T22=\"\",\"\",VLOOKUP(CONCATENATE($W$9,\"_\",T22),選手名簿!$A:$H,7,FALSE))","v":5},null,null,null,null,null,null,null,null,null,0]
[null,3,null,1,null,null,null,2,null,null,{"$f":"IF(Q23=\"\",\"\",VLOOKUP(CONCATENATE($B$9,\"_\",Q23),選手名簿!$A:$H,7,FALSE))","v":5},{"$f":"IF(Q23=\"\",\"\",VLOOKUP(CONCATENATE($B$9,\"_\",Q23),選手名簿!$A:$H,5,FALSE))","v":"村岡　俊"},null,null,null,null,18,{"$f":"IF(Q23=\"\",\"\",VLOOKUP(CONCATENATE($B$9,\"_\",Q23),選手名簿!$A:$H,4,FALSE))","v":"FW"},{"$f":"IF(T23=\"\",\"\",VLOOKUP(CONCATENATE($W$9,\"_\",T23),選手名簿!$A:$H,4,FALSE))","v":"FW"},15,{"$f":"IF(T23=\"\",\"\",VLOOKUP(CONCATENATE($W$9,\"_\",T23),選手名簿!$A:$H,5,FALSE))","v":"奥　祐翔"},null,null,null,null,{"$f":"IF(T23=\"\",\"\",VLOOKUP(CONCATENATE($W$9,\"_\",T23),選手名簿!$A:$H,7,FALSE))","v":6},null,null,null,1,null,null,null,null,null,1]
[null,null,null,null,null,null,null,null,null,null,null,null,null,null,null,null,"交替要員"]
[null,{"$f":"SUM(D25,F25,H25,J25)","v":0},null,null,null,null,null,null,null,null,{"$f":"IF(Q25=\"\",\"\",VLOOKUP(CONCATENATE($B$9,\"_\",Q25),選手名簿!$A:$H,7,FALSE))","v":6},{"$f":"IF(Q25=\"\",\"\",VLOOKUP(CONCATENATE($B$9,\"_\",Q25),選手名簿!$A:$H,5,FALSE))","v":"麻生　珂珠"},null,null,null,null,1,{"$f":"IF(Q25=\"\",\"\",VLOOKUP(CONCATENATE($B$9,\"_\",Q25),選手名簿!$A:$H,4,FALSE))","v":"GK"},{"$f":"IF(T25=\"\",\"\",VLOOKUP(CONCATENATE($W$9,\"_\",T25),選手名簿!$A:$H,4,FALSE))","v":"FW"},2,{"$f":"IF(T25=\"\",\"\",VLOOKUP(CONCATENATE($W$9,\"_\",T25),選手名簿!$A:$H,5,FALSE))","v":"幸重　徹平"},null,null,null,null,{"$f":"IF(T25=\"\",\"\",VLOOKUP(CONCATENATE($W$9,\"_\",T25),選手名簿!$A:$H,7,FALSE))","v":6},null,null,null,null,null,null,null,null,null,{"$f":"SUM(AB25,AD25,AF25,AH25)","v":0}]
[null,0,null,null,null,null,null,null,null,null,{"$f":"IF(Q26=\"\",\"\",VLOOKUP(CONCATENATE($B$9,\"_\",Q26),選手名簿!$A:$H,7,FALSE))","v":6},{"$f":"IF(Q26=\"\",\"\",VLOOKUP(CONCATENATE($B$9,\"_\",Q26),選手名簿!$A:$H,5,FALSE))","v":"渡邊　秀哉"},null,null,null,null,2,{"$f":"IF(Q26=\"\",\"\",VLOOKUP(CONCATENATE($B$9,\"_\",Q26),選手名簿!$A:$H,4,FALSE))","v":"MF"},{"$f":"IF(T26=\"\",\"\",VLOOKUP(CONCATENATE($W$9,\"_\",T26),選手名簿!$A:$H,4,FALSE))","v":"DF"},3,{"$f":"IF(T26=\"\",\"\",VLOOKUP(CONCATENATE($W$9,\"_\",T26),選手名簿!$A:$H,5,FALSE))","v":"小田　晴之介"},null,null,null,null,{"$f":"IF(T26=\"\",\"\",VLOOKUP(CONCATENATE($W$9,\"_\",T26),選手名簿!$A:$H,7,FALSE))","v":6},null,null,null,null,null,null,null,null,null,0]
[null,0,null,null,null,null,null,null,null,null,{"$f":"IF(Q27=\"\",\"\",VLOOKUP(CONCATENATE($B$9,\"_\",Q27),選手名簿!$A:$H,7,FALSE))","v":6},{"$f":"IF(Q27=\"\",\"\",VLOOKUP(CONCATENATE($B$9,\"_\",Q27),選手名簿!$A:$H,5,FALSE))","v":"宮本　陽向"},null,null,null,null,3,{"$f":"IF(Q27=\"\",\"\",VLOOKUP(CONCATENATE($B$9,\"_\",Q27),選手名簿!$A:$H,4,FALSE))","v":"DF"},{"$f":"IF(T27=\"\",\"\",VLOOKUP(CONCATENATE($W$9,\"_\",T27),選手名簿!$A:$H,4,FALSE))","v":"DF"},5,{"$f":"IF(T27=\"\",\"\",VLOOKUP(CONCATENATE($W$9,\"_\",T27),選手名簿!$A:$H,5,FALSE))","v":"奥田　智己"},null,null,null,null,{"$f":"IF(T27=\"\",\"\",VLOOKUP(CONCATENATE($W$9,\"_\",T27),選手名簿!$A:$H,7,FALSE))","v":6},null,null,null,null,null,null,null,null,null,0]
[null,0,null,null,null,null,null,null,null,null,{"$f":"IF(Q28=\"\",\"\",VLOOKUP(CONCATENATE($B$9,\"_\",Q28),選手名簿!$A:$H,7,FALSE))","v":6},{"$f":"IF(Q28=\"\",\"\",VLOOKUP(CONCATENATE($B$9,\"_\",Q28),選手名簿!$A:$H,5,FALSE))","v":"久保田　隼斗"},null,null,null,null,5,{"$f":"IF(Q28=\"\",\"\",VLOOKUP(CONCATENATE($B$9,\"_\",Q28),選手名簿!$A:$H,4,FALSE))","v":"DF"},{"$f":"IF(T28=\"\",\"\",VLOOKUP(CONCATENATE($W$9,\"_\",T28),選手名簿!$A:$H,4,FALSE))","v":"MF"},11,{"$f":"IF(T28=\"\",\"\",VLOOKUP(CONCATENATE($W$9,\"_\",T28),選手名簿!$A:$H,5,FALSE))","v":"佐藤　悠晴"},null,null,null,null,{"$f":"IF(T28=\"\",\"\",VLOOKUP(CONCATENATE($W$9,\"_\",T28),選手名簿!$A:$H,7,FALSE))","v":6},null,null,null,null,null,null,null,null,null,0]
[null,0,null,null,null,null,null,null,null,null,{"$f":"IF(Q29=\"\",\"\",VLOOKUP(CONCATENATE($B$9,\"_\",Q29),選手名簿!$A:$H,7,FALSE))","v":6},{"$f":"IF(Q29=\"\",\"\",VLOOKUP(CONCATENATE($B$9,\"_\",Q29),選手名簿!$A:$H,5,FALSE))","v":"田村　蓮人"},null,null,null,null,6,{"$f":"IF(Q29=\"\",\"\",VLOOKUP(CONCATENATE($B$9,\"_\",Q29),選手名簿!$A:$H,4,FALSE))","v":"DF"},{"$f":"IF(T29=\"\",\"\",VLOOKUP(CONCATENATE($W$9,\"_\",T29),選手名簿!$A:$H,4,FALSE))","v":"GK"},12,{"$f":"IF(T29=\"\",\"\",VLOOKUP(CONCATENATE($W$9,\"_\",T29),選手名簿!$A:$H,5,FALSE))","v":"花宮　蓮"},null,null,null,null,{"$f":"IF(T29=\"\",\"\",VLOOKUP(CONCATENATE($W$9,\"_\",T29),選手名簿!$A:$H,7,FALSE))","v":5},null,null,null,null,null,null,null,null,null,0]
[null,0,null,null,null,null,null,null,null,null,{"$f":"IF(Q30=\"\",\"\",VLOOKUP(CONCATENATE($B$9,\"_\",Q30),選手名簿!$A:$H,7,FALSE))","v":6},{"$f":"IF(Q30=\"\",\"\",VLOOKUP(CONCATENATE($B$9,\"_\",Q30),選手名簿!$A:$H,5,FALSE))","v":"神野　蒼太"},null,null,null,null,11,{"$f":"IF(Q30=\"\",\"\",VLOOKUP(CONCATENATE($B$9,\"_\",Q30),選手名簿!$A:$H,4,FALSE))","v":"MF"},{"$f":"IF(T30=\"\",\"\",VLOOKUP(CONCATENATE($W$9,\"_\",T30),選手名簿!$A:$H,4,FALSE))","v":"FW"},13,{"$f":"IF(T30=\"\",\"\",VLOOKUP(CONCATENATE($W$9,\"_\",T30),選手名簿!$A:$H,5,FALSE))","v":"玉井　祐彰"},null,null,null,null,{"$f":"IF(T30=\"\",\"\",VLOOKUP(CONCATENATE($W$9,\"_\",T30),選手名簿!$A:$H,7,FALSE))","v":6},null,null,null,null,null,null,null,null,null,0]
[null,0,null,null,null,null,null,null,null,null,{"$f":"IF(Q31=\"\",\"\",VLOOKUP(CONCATENATE($B$9,\"_\",Q31),選手名簿!$A:$H,7,FALSE))","v":6},{"$f":"IF(Q31=\"\",\"\",VLOOKUP(CONCATENATE($B$9,\"_\",Q31),選手名簿!$A:$H,5,FALSE))","v":"秋廣　涼介"},null,null,null,null,13,{"$f":"IF(Q31=\"\",\"\",VLOOKUP(CONCATENATE($B$9,\"_\",Q31),選手名簿!$A:$H,4,FALSE))","v":"FW"},{"$f":"IF(T31=\"\",\"\",VLOOKUP(CONCATENATE($W$9,\"_\",T31),選手名簿!$A:$H,4,FALSE))","v":""},null,{"$f":"IF(T31=\"\",\"\",VLOOKUP(CONCATENATE($W$9,\"_\",T31),選手名簿!$A:$H,5,FALSE))","v":""},null,null,null,null,{"$f":"IF(T31=\"\",\"\",VLOOKUP(CONCATENATE($W$9,\"_\",T31),選手名簿!$A:$H,7,FALSE))","v":""},null,null,null,null,null,null,null,null,null,0]
[null,0,null,null,null,null,null,null,null,null,{"$f":"IF(Q32=\"\",\"\",VLOOKUP(CONCATENATE($B$9,\"_\",Q32),選手名簿!$A:$H,7,FALSE))","v":6},{"$f":"IF(Q32=\"\",\"\",VLOOKUP(CONCATENATE($B$9,\"_\",Q32),選手名簿!$A:$H,5,FALSE))","v":"筒井　悠太"},null,null,null,null,14,{"$f":"IF(Q32=\"\",\"\",VLOOKUP(CONCATENATE($B$9,\"_\",Q32),選手名簿!$A:$H,4,FALSE))","v":"FW"},{"$f":"IF(T32=\"\",\"\",VLOOKUP(CONCATENATE($W$9,\"_\",T32),選手名簿!$A:$H,4,FALSE))","v":""},null,{"$f":"IF(T32=\"\",\"\",VLOOKUP(CONCATENATE($W$9,\"_\",T32),選手名簿!$A:$H,5,FALSE))","v":""},null,null,null,null,{"$f":"IF(T32=\"\",\"\",VLOOKUP(CONCATENATE($W$9,\"_\",T32),選手名簿!$A:$H,7,FALSE))","v":""},null,null,null,null,null,null,null,null,null,0]
[null,0,null,null,null,null,null,null,null,null,{"$f":"IF(Q33=\"\",\"\",VLOOKUP(CONCATENATE($B$9,\"_\",Q33),選手名簿!$A:$H,7,FALSE))","v":6},{"$f":"IF(Q33=\"\",\"\",VLOOKUP(CONCATENATE($B$9,\"_\",Q33),選手名簿!$A:$H,5,FALSE))","v":"板井　惺央"},null,null,null,null,15,{"$f":"IF(Q33=\"\",\"\",VLOOKUP(CONCATENATE($B$9,\"_\",Q33),選手名簿!$A:$H,4,FALSE))","v":"MF"},{"$f":"IF(T33=\"\",\"\",VLOOKUP(CONCATENATE($W$9,\"_\",T33),選手名簿!$A:$H,4,FALSE))","v":""},null,{"$f":"IF(T33=\"\",\"\",VLOOKUP(CONCATENATE($W$9,\"_\",T33),選手名簿!$A:$H,5,FALSE))","v":""},null,null,null,null,{"$f":"IF(T33=\"\",\"\",VLOOKUP(CONCATENATE($W$9,\"_\",T33),選手名簿!$A:$H,7,FALSE))","v":""},null,null,null,null,null,null,null,null,null,0]
[null,0,null,null,null,null,null,null,null,null,{"$f":"IF(Q34=\"\",\"\",VLOOKUP(CONCATENATE($B$9,\"_\",Q34),選手名簿!$A:$H,7,FALSE))","v":5},{"$f":"IF(Q34=\"\",\"\",VLOOKUP(CONCATENATE($B$9,\"_\",Q34),選手名簿!$A:$H,5,FALSE))","v":"廣川　敬太"},null,null,null,null,17,{"$f":"IF(Q34=\"\",\"\",VLOOKUP(CONCATENATE($B$9,\"_\",Q34),選手名簿!$A:$H,4,FALSE))","v":"MF"},{"$f":"IF(T34=\"\",\"\",VLOOKUP(CONCATENATE($W$9,\"_\",T34),選手名簿!$A:$H,4,FALSE))","v":""},null,{"$f":"IF(T34=\"\",\"\",VLOOKUP(CONCATENATE($W$9,\"_\",T34),選手名簿!$A:$H,5,FALSE))","v":""},null,null,null,null,{"$f":"IF(T34=\"\",\"\",VLOOKUP(CONCATENATE($W$9,\"_\",T34),選手名簿!$A:$H,7,FALSE))","v":""},null,null,null,null,null,null,null,null,null,0]
[null,null,null,{"$f":"SUM(D16:D23,D25:D34)","v":4},null,{"$f":"SUM(F16:F23,F25:F34)","v":2},null,{"$f":"SUM(H16:H23,H25:H34)","v":6},null,{"$f":"SUM(J16:J23,J25:J34)","v":4},"小計",{"$f":"SUM(D35,F35,H35,J35)","v":16},null,null,null,null,"合計","シュート数",null,"合計",{"$f":"SUM(AB35,AD35,AF35,AH35)","v":15},null,null,null,null,"小計",null,{"$f":"SUM(AB16:AB23,AB25:AB34)","v":2},null,{"$f":"SUM(AD16:AD23,AD25:AD34)","v":10},null,{"$f":"SUM(AF16:AF23,AF25:AF34)","v":2},null,{"$f":"SUM(AH16:AH23,AH25:AH34)","v":1}]
[null,null,"OUT",null,null,null,null,null,null,"→","IN",null,null,null,null,null,null,"交代",null,null,"OUT",null,null,null,null,null,null,"→","IN"]
[null,null,null,null,null,null,null,null,null,null,null,null,null,null,null,null,null,"選手"]
[null,"分",null,"番",{"$f":"IF(C38=\"\",\"\",VLOOKUP(CONCATENATE($B$9,\"_\",C38),選手名簿!$A:$H,5,FALSE))","v":""},null,null,null,null,"→",null,"番",{"$f":"IF(K38=\"\",\"\",VLOOKUP(CONCATENATE($B$9,\"_\",K38),選手名簿!$A:$H,5,FALSE))","v":""},null,null,null,null,null,null,"分",null,"番",{"$f":"IF(U38=\"\",\"\",VLOOKUP(CONCATENATE($W$9,\"_\",U38),選手名簿!$A:$H,5,FALSE))","v":""},null,null,null,null,"→",null,"番",{"$f":"IF(AC38=\"\",\"\",VLOOKUP(CONCATENATE($W$9,\"_\",AC38),選手名簿!$A:$H,5,FALSE))","v":""}]
[null,"分",null,"番",{"$f":"IF(C39=\"\",\"\",VLOOKUP(CONCATENATE($B$9,\"_\",C39),選手名簿!$A:$H,5,FALSE))","v":""},null,null,null,null,"→",null,"番",{"$f":"IF(K39=\"\",\"\",VLOOKUP(CONCATENATE($B$9,\"_\",K39),選手名簿!$A:$H,5,FALSE))","v":""},null,null,null,null,null,null,"分",null,"番",{"$f":"IF(U39=\"\",\"\",VLOOKUP(CONCATENATE($W$9,\"_\",U39),選手名簿!$A:$H,5,FALSE))","v":""},null,null,null,null,"→",null,"番",{"$f":"IF(AC39=\"\",\"\",VLOOKUP(CONCATENATE($W$9,\"_\",AC39),選手名簿!$A:$H,5,FALSE))","v":""}]
[null,"分",null,"番",{"$f":"IF(C40=\"\",\"\",VLOOKUP(CONCATENATE($B$9,\"_\",C40),選手名簿!$A:$H,5,FALSE))","v":""},null,null,null,null,"→",null,"番",{"$f":"IF(K40=\"\",\"\",VLOOKUP(CONCATENATE($B$9,\"_\",K40),選手名簿!$A:$H,5,FALSE))","v":""},null,null,null,null,null,null,"分",null,"番",{"$f":"IF(U40=\"\",\"\",VLOOKUP(CONCATENATE($W$9,\"_\",U40),選手名簿!$A:$H,5,FALSE))","v":""},null,null,null,null,"→",null,"番",{"$f":"IF(AC40=\"\",\"\",VLOOKUP(CONCATENATE($W$9,\"_\",AC40),選手名簿!$A:$H,5,FALSE))","v":""}]
[null,"分",null,"番",{"$f":"IF(C41=\"\",\"\",VLOOKUP(CONCATENATE($B$9,\"_\",C41),選手名簿!$A:$H,5,FALSE))","v":""},null,null,null,null,"→",null,"番",{"$f":"IF(K41=\"\",\"\",VLOOKUP(CONCATENATE($B$9,\"_\",K41),選手名簿!$A:$H,5,FALSE))","v":""},null,null,null,null,null,null,"分",null,"番",{"$f":"IF(U41=\"\",\"\",VLOOKUP(CONCATENATE($W$9,\"_\",U41),選手名簿!$A:$H,5,FALSE))","v":""},null,null,null,null,"→",null,"番",{"$f":"IF(AC41=\"\",\"\",VLOOKUP(CONCATENATE($W$9,\"_\",AC41),選手名簿!$A:$H,5,FALSE))","v":""}]
[null,"分",null,"番",{"$f":"IF(C42=\"\",\"\",VLOOKUP(CONCATENATE($B$9,\"_\",C42),選手名簿!$A:$H,5,FALSE))","v":""},null,null,null,null,"→",null,"番",{"$f":"IF(K42=\"\",\"\",VLOOKUP(CONCATENATE($B$9,\"_\",K42),選手名簿!$A:$H,5,FALSE))","v":""},null,null,null,null,null,null,"分",null,"番",{"$f":"IF(U42=\"\",\"\",VLOOKUP(CONCATENATE($W$9,\"_\",U42),選手名簿!$A:$H,5,FALSE))","v":""},null,null,null,null,"→",null,"番",{"$f":"IF(AC42=\"\",\"\",VLOOKUP(CONCATENATE($W$9,\"_\",AC42),選手名簿!$A:$H,5,FALSE))","v":""}]
[null,"分",null,"番",{"$f":"IF(C43=\"\",\"\",VLOOKUP(CONCATENATE($B$9,\"_\",C43),選手名簿!$A:$H,5,FALSE))","v":""},null,null,null,null,"→",null,"番",{"$f":"IF(K43=\"\",\"\",VLOOKUP(CONCATENATE($B$9,\"_\",K43),選手名簿!$A:$H,5,FALSE))","v":""},null,null,null,null,null,null,"分",null,"番",{"$f":"IF(U43=\"\",\"\",VLOOKUP(CONCATENATE($W$9,\"_\",U43),選手名簿!$A:$H,5,FALSE))","v":""},null,null,null,null,"→",null,"番",{"$f":"IF(AC43=\"\",\"\",VLOOKUP(CONCATENATE($W$9,\"_\",AC43),選手名簿!$A:$H,5,FALSE))","v":""}]
[null,"分",null,"番",{"$f":"IF(C44=\"\",\"\",VLOOKUP(CONCATENATE($B$9,\"_\",C44),選手名簿!$A:$H,5,FALSE))","v":""},null,null,null,null,"→",null,"番",{"$f":"IF(K44=\"\",\"\",VLOOKUP(CONCATENATE($B$9,\"_\",K44),選手名簿!$A:$H,5,FALSE))","v":""},null,null,null,null,null,null,"分",null,"番",{"$f":"IF(U44=\"\",\"\",VLOOKUP(CONCATENATE($W$9,\"_\",U44),選手名簿!$A:$H,5,FALSE))","v":""},null,null,null,null,"→",null,"番",{"$f":"IF(AC44=\"\",\"\",VLOOKUP(CONCATENATE($W$9,\"_\",AC44),選手名簿!$A:$H,5,FALSE))","v":""}]
[null,"分",null,"番",{"$f":"IF(C45=\"\",\"\",VLOOKUP(CONCATENATE($B$9,\"_\",C45),選手名簿!$A:$H,5,FALSE))","v":""},null,null,null,null,"→",null,"番",{"$f":"IF(K45=\"\",\"\",VLOOKUP(CONCATENATE($B$9,\"_\",K45),選手名簿!$A:$H,5,FALSE))","v":""},null,null,null,null,null,null,"分",null,"番",{"$f":"IF(U45=\"\",\"\",VLOOKUP(CONCATENATE($W$9,\"_\",U45),選手名簿!$A:$H,5,FALSE))","v":""},null,null,null,null,"→",null,"番",{"$f":"IF(AC45=\"\",\"\",VLOOKUP(CONCATENATE($W$9,\"_\",AC45),選手名簿!$A:$H,5,FALSE))","v":""}]
["警告（Ｃ）・退場（Ｓ）など",null,null,null,null,null,null,"合計",null,"延後",null,"延前",null,"後半",null,"前半",null,"チーム\n合計",null,"前半",null,"後半",null,"延前",null,"延後",null,"合計",null,"警告（Ｃ）・退場（Ｓ）など"]
[null,null,null,null,null,null,null,{"$f":"SUM(J47:Q47)","v":10},null,0,null,2,null,5,null,3,null,"Ｇ","Ｋ",3,null,4,null,1,null,1,null,{"$f":"SUM(T47:AA47)","v":9}]
[null,null,null,null,null,null,null,{"$f":"SUM(J48:Q48)","v":5},null,1,null,1,null,3,null,0,null,"Ｃ","Ｋ",3,null,3,null,2,null,1,null,{"$f":"SUM(T48:AA48)","v":9}]
[null,null,null,null,null,null,null,{"$f":"SUM(J49:Q49)","v":4},null,0,null,0,null,1,null,3,null,"直接","ＦＫ",0,null,0,null,0,null,0,null,{"$f":"SUM(T49:AA49)","v":0}]
[null,null,null,null,null,null,null,{"$f":"SUM(J50:Q50)","v":0},null,0,null,0,null,0,null,0,null,"間接","ＦＫ",0,null,0,null,0,null,1,null,{"$f":"SUM(T50:AA50)","v":1}]
[null,null,null,null,null,null,null,{"$f":"SUM(J51:Q51)","v":0},null,0,null,0,null,0,null,0,null,"Ｐ","Ｋ",0,null,0,null,0,null,0,null,{"$f":"SUM(T51:AA51)","v":0}]
["時間",null,null,"得点者",null,"得　　点　　経　　過",null,null,null,null,null,null,null,null,null,null,null,null,"時間",null,null,"得点者",null,"得　　点　　経　　過"]
[null,null,"分",null,null,null,null,null,null,null,null,null,null,null,null,null,null,null,null,null,"分"]
[null,null,"分",null,null,null,null,null,null,null,null,null,null,null,null,null,null,null,null,null,"分"]
[null,null,"分",null,null,null,null,null,null,null,null,null,null,null,null,null,null,null,null,null,"分"]
[null,null,"分",null,null,null,null,null,null,null,null,null,null,null,null,null,null,null,null,null,"分"]
[null,null,"分",null,null,null,null,null,null,null,null,null,null,null,null,null,null,null,null,null,"分"]
[null,null,"分",null,null,null,null,null,null,null,null,null,null,null,null,null,null,null,null,null,"分"]
[" ",null,null,"《略号例》",null,null,null,"ドリブル",null,"～",null,"ゴロのパス",null,null,"→",null,"浮き球",null,"∩",null,"混戦",null,"×",null,"ヘディング",null,null,"H",null,"シュート",null,"S"]
[]
["戦評者氏名",null,null,null,"（",null,null,null,null,null,"）",null,"勤務先または所属",null,null,null,null,"（",null,null,null,null,null,null,null,null,null,null,null,null,null,null,null,null,"　）"]
[]
[]
[]
[]
[]
[]
[]
[]
[null,null,null,null,null,null,null,null,"M   C",null,null,null,null,null,null,"ウェルフェアオフィサー",null,null,null,null,null,null,"会　場　長",null,null,null,null,null,null,"主　　審"]
[null,null,null,null,null,null,null,null,"伊東　雅弘",null,null,null,null,null,null,"山野内　哲朗",null,null,null,null,null,null,"安東　幹雄",null,null,null,null,null,null,"後藤　樹明"]

{"sheet":"準決勝①【Match No,49】","index":8,"n_rows":71,"n_cols":36,"rows_kept":71,"cut":false,"hidden":false,"merged":[[13,17,13,18],[11,17,11,18],[0,0,0,5],[10,13,10,14],[1,0,1,1],[0,10,0,11],[5,13,5,14],[1,2,3,13],[0,6,0,9],[5,11,5,12],[6,13,6,14],[6,0,6,1],[10,11,10,12],[9,12,9,14],[3,0,3,1],[4,2,6,8],[6,11,6,12],[8,11,8,14],[5,0,5,1],[7,11,7,14],[7,0,7,2],[8,1,8,10],[1,15,1,16],[2,0,2,1],[2,16,2,17],[2,14,2,15],[7,15,11,15],[9,17,9,18],[10,17,10,18],[7,17,7,18],[3,14,3,15],[3,16,3,17],[8,17,8,18],[4,11,4,12],[4,0,4,1],[9,9,9,11],[42,4,42,8],[21,11,21,15],[20,11,20,15],[41,4,41,8],[41,12,41,16],[14,0,14,1],[12,2,12,9],[14,4,14,5],[44,4,44,8],[44,12,44,16],[39,4,39,8],[43,4,43,8],[40,4,40,8],[37,4,37,8],[13,8,13,9],[35,10,36,16],[13,0,13,1],[18,11,18,15],[13,2,13,3],[14,2,14,3],[13,4,13,5],[13,6,13,7],[15,11,15,15],[19,11,19,15],[16,11,16,15],[17,11,17,15],[54,3,54,4],[51,3,51,4],[48,11,48,12],[50,11,50,12],[49,7,49,8],[45,7,45,8],[49,9,49,10],[48,9,48,10],[51,5,51,17],[50,13,50,14],[53,3,53,4],[45,0,45,6],[45,11,45,12],[48,15,48,16],[48,13,48,14],[46,15,46,16],[45,13,45,14],[46,7,46,8],[46,9,46,10],[46,11,46,12],[47,15,47,16],[45,17,45,18],[45,9,45,10],[52,3,52,4],[54,23,54,35],[54,21,54,22],[43,22,43,26],[25,20,25,24],[35,9,36,9],[32,11,32,15],[27,11,27,15],[42,22,42,26],[34,11,34,15],[29,20,29,24],[38,12,38,16],[27,20,27,24],[39,30,39,34],[38,22,38,26],[43,30,43,34],[40,22,40,26],[40,30,40,34],[42,30,42,34],[41,22,41,26],[45,27,45,28],[53,21,53,22],[52,21,52,22],[47,9,47,10],[47,11,47,12],[21,20,21,24],[22,11,22,15],[24,20,24,24],[39,12,39,16],[20,20,20,24],[45,21,45,22],[33,20,33,24],[35,20,36,26],[22,20,22,24],[26,20,26,24],[28,20,28,24],[33,11,33,15],[35,17,35,18],[36,17,36,18],[37,12,37,16],[42,12,42,16],[43,12,43,16],[58,3,58,5],[58,7,58,8],[60,0,60,3],[60,5,60,9],[60,12,60,16],[70,22,72,28],[70,15,72,21],[58,24,58,26],[60,18,60,33],[58,11,58,13],[69,22,69,28],[58,29,58,30],[69,15,69,21],[58,20,58,21],[58,16,58,17],[69,8,69,14],[70,8,72,14],[69,29,69,35],[70,29,72,35],[57,23,57,35],[56,3,56,4],[57,3,57,4],[56,21,56,22],[56,23,56,35],[55,23,55,35],[56,5,56,17],[55,5,55,17],[57,5,57,17],[57,21,57,22],[55,21,55,22],[55,3,55,4],[52,5,52,17],[53,5,53,17],[54,5,54,17],[31,20,31,24],[32,20,32,24],[34,20,34,24],[47,7,47,8],[14,32,14,33],[45,25,45,26],[46,25,46,26],[14,28,14,29],[14,26,14,27],[48,25,48,26],[34,17,34,18],[45,29,45,35],[45,19,45,20],[45,23,45,24],[50,27,50,28],[35,27,36,27],[49,15,49,16],[49,11,49,12],[46,13,46,14],[46,23,46,24],[50,15,50,16],[51,0,51,2],[14,8,14,9],[14,6,14,7],[46,27,46,28],[47,27,47,28],[24,11,24,15],[25,11,25,15],[26,11,26,15],[31,11,31,15],[23,16,23,19],[28,11,28,15],[47,13,47,14],[48,7,48,8],[50,7,50,8],[50,9,50,10],[49,13,49,14],[45,15,45,16],[30,11,30,15],[29,11,29,15],[40,12,40,16],[48,19,48,20],[47,19,47,20],[35,2,36,8],[38,4,38,8],[14,34,14,35],[44,30,44,34],[14,30,14,31],[44,22,44,26],[18,20,18,24],[19,20,19,24],[30,20,30,24],[53,23,53,35],[16,20,16,24],[15,20,15,24],[17,20,17,24],[52,23,52,35],[51,21,51,22],[51,23,51,35],[49,21,49,22],[50,21,50,22],[51,18,51,20],[49,23,49,24],[50,23,50,24],[48,21,48,22],[37,22,37,26],[39,22,39,26],[49,25,49,26],[50,25,50,26],[1,28,2,29],[7,32,7,35],[3,28,3,29],[2,18,2,26],[4,18,4,19],[5,18,5,19],[6,18,6,19],[3,18,3,26],[1,31,1,35],[2,31,2,35],[7,20,11,20],[5,21,5,25],[5,26,5,30],[5,31,5,35],[6,26,6,30],[3,31,3,35],[7,21,7,23],[8,32,8,35],[9,24,9,26],[13,32,13,33],[13,28,13,29],[12,26,12,33],[13,34,13,35],[13,30,13,31],[8,22,8,31],[9,21,9,23],[10,23,10,24],[10,21,10,22],[13,26,13,27],[35,28,36,34],[38,30,38,34],[41,30,41,34],[37,30,37,34],[49,19,49,20],[50,19,50,20],[46,21,46,22],[46,19,46,20],[49,27,49,28],[48,27,48,28],[47,21,47,22],[47,25,47,26],[47,23,47,24],[48,23,48,24]]}
["公式記録",null,null,null,null,null,"Match No：",null,null,null,49]
["大",null,"OFA 第 51 回大分県少年サッカー大会\n　兼　KYFA 九州U-12サッカー大会大分県大会",null,null,null,null,null,null,null,null,null,null,null,"第",3,null,"日",null,null,null,null,null,null,null,null,null,"競技","40分",null,"記","松下　省吾"]
["会",null,null,null,null,null,null,null,null,null,null,null,null,null,"1回戦",null,"2回戦",null,"2020年　2月9日（日）",null,null,null,null,null,null,null,null,"時間",null,null,"録","中野観司郎"]
["名",null,null,null,null,null,null,null,null,null,null,null,null,null,"準決勝",null,"決勝",null,"試合開始　9時30分～",null,null,null,null,null,null,null,null,"延長","10分",null,"者","安東　信二,榊　謙治"]
["会",null,"大分県大分スポーツ公園\n昭和電工サッカー・ラグビー場\nＡコート",null,null,null,null,null,null,"天","晴","風",null,"強","弱","無","芝","状","良好",null,"審","主審",null,null,null,null,"副審",null,null,null,null,"第4の審判員"]
[null,null,null,null,null,null,null,null,null,null,"曇","気温",null,7.1,null,"℃",null,null,"不良",null,null,"曽我　拓実",null,null,null,null,"清家　大介",null,null,null,null,"毛藤　勇三"]
["場",null,null,null,null,null,null,null,null,"候","雨","湿度",null,62.5,null,"％","土","態","泥沼",null,"判",null,null,null,null,null,"佐藤　慎二"]
["【チーム名】",null,null,null,null,null,null,null,null,null,null,null,null,null,null,{"$f":"IF(Q8=\"\",\"\",SUM(Q8:Q11))","v":4},3,"前半",null,0,{"$f":"IF(T8=\"\",\"\",SUM(T8:T11))","v":1},"【チーム名】"]
[null,{"$f":"組み合わせ!L27","v":"由布川サッカースポーツ少年団"},null,null,null,null,null,null,null,null,null,{"$f":"組み合わせ!V30","v":"（　由布市　）"},null,null,null,null,1,"後半",null,1,null,null,{"$f":"組み合わせ!AV27","v":"ＫＩＮＧＳ　ＦＯＯＴＢＡＬＬＣＬＵＢ　Ｕ－１２"},null,null,null,null,null,null,null,null,null,{"$f":"組み合わせ!BF30","v":"（　大分市　）"}]
[null,null,null,null,null,null,null,null,null,"延長戦kick off",null,null,"kick off",null,null,null,null,"延前",null,null,null,"kick off",null,null,"延長戦kick off"]
[null,null,null,null,null,null,null,null,null,null,null,"背番号",null,"PK",null,null,null,"延後",null,null,null,"PK",null,"背番号"]
[null,null,null,null,null,null,null,null,null,null,null,"○","×","先","後",null,null,"ＰＫ戦",null,null,null,"先","後","○","×"]
[null,null,"シュート（得点者は○印）",null,null,null,null,null,null,null,"学",null,null,null,null,null,"背",null,null,"背",null,null,null,null,null,"学","シュート（得点者は○印）"]
["合",null,"延",null,"延",null,"後",null,"前",null,null,null,"選","手","名",null,"番","位置",null,"番",null,"選","手","名",null,null,"前",null,"後",null,"延",null,"延",null,"合"]
["計",null,"後",null,"前",null,"半",null,"半",null,"年",null,null,null,null,null,"号",null,null,"号",null,null,null,null,null,"年","半",null,"半",null,"前",null,"後",null,"計"]
[null,{"$f":"SUM(D16,F16,H16,J16)","v":0},null,null,null,null,null,null,null,null,{"$f":"IF(Q16=\"\",\"\",VLOOKUP(CONCATENATE($B$9,\"_\",Q16),選手名簿!$A:$H,7,FALSE))","v":5},{"$f":"IF(Q16=\"\",\"\",VLOOKUP(CONCATENATE($B$9,\"_\",Q16),選手名簿!$A:$H,5,FALSE))","v":"衛藤　庵"},null,null,null,null,16,{"$f":"IF(Q16=\"\",\"\",VLOOKUP(CONCATENATE($B$9,\"_\",Q16),選手名簿!$A:$H,4,FALSE))","v":"GK"},"GK",1,{"$f":"IF(T16=\"\",\"\",VLOOKUP(CONCATENATE($W$9,\"_\",T16),選手名簿!$A:$H,5,FALSE))","v":"宇佐川　蓮太郎"},null,null,null,null,{"$f":"IF(T16=\"\",\"\",VLOOKUP(CONCATENATE($W$9,\"_\",T16),選手名簿!$A:$H,7,FALSE))","v":6},null,null,null,null,null,null,null,null,null,{"$f":"SUM(AB16,AD16,AF16,AH16)","v":0}]
[null,0,null,null,null,null,null,null,null,null,{"$f":"IF(Q17=\"\",\"\",VLOOKUP(CONCATENATE($B$9,\"_\",Q17),選手名簿!$A:$H,7,FALSE))","v":6},{"$f":"IF(Q17=\"\",\"\",VLOOKUP(CONCATENATE($B$9,\"_\",Q17),選手名簿!$A:$H,5,FALSE))","v":"後藤　颯太"},null,null,null,null,1,{"$f":"IF(Q17=\"\",\"\",VLOOKUP(CONCATENATE($B$9,\"_\",Q17),選手名簿!$A:$H,4,FALSE))","v":"DF"},{"$f":"IF(T17=\"\",\"\",VLOOKUP(CONCATENATE($W$9,\"_\",T17),選手名簿!$A:$H,4,FALSE))","v":"DF"},3,{"$f":"IF(T17=\"\",\"\",VLOOKUP(CONCATENATE($W$9,\"_\",T17),選手名簿!$A:$H,5,FALSE))","v":"橋本　蹄弥"},null,null,null,null,{"$f":"IF(T17=\"\",\"\",VLOOKUP(CONCATENATE($W$9,\"_\",T17),選手名簿!$A:$H,7,FALSE))","v":6},null,null,null,null,null,null,null,null,null,0]
[null,0,null,null,null,null,null,null,null,null,{"$f":"IF(Q18=\"\",\"\",VLOOKUP(CONCATENATE($B$9,\"_\",Q18),選手名簿!$A:$H,7,FALSE))","v":6},{"$f":"IF(Q18=\"\",\"\",VLOOKUP(CONCATENATE($B$9,\"_\",Q18),選手名簿!$A:$H,5,FALSE))","v":"上野　悠陽"},null,null,null,null,4,{"$f":"IF(Q18=\"\",\"\",VLOOKUP(CONCATENATE($B$9,\"_\",Q18),選手名簿!$A:$H,4,FALSE))","v":"DF"},{"$f":"IF(T18=\"\",\"\",VLOOKUP(CONCATENATE($W$9,\"_\",T18),選手名簿!$A:$H,4,FALSE))","v":"DF"},10,{"$f":"IF(T18=\"\",\"\",VLOOKUP(CONCATENATE($W$9,\"_\",T18),選手名簿!$A:$H,5,FALSE))","v":"篠田　怜央"},null,null,null,null,{"$f":"IF(T18=\"\",\"\",VLOOKUP(CONCATENATE($W$9,\"_\",T18),選手名簿!$A:$H,7,FALSE))","v":6},null,2,null,null,null,null,null,null,null,2]
[null,2,null,null,null,null,null,1,"①",1,{"$f":"IF(Q19=\"\",\"\",VLOOKUP(CONCATENATE($B$9,\"_\",Q19),選手名簿!$A:$H,7,FALSE))","v":6},{"$f":"IF(Q19=\"\",\"\",VLOOKUP(CONCATENATE($B$9,\"_\",Q19),選手名簿!$A:$H,5,FALSE))","v":"甲斐　琉聖"},null,null,null,null,7,{"$f":"IF(Q19=\"\",\"\",VLOOKUP(CONCATENATE($B$9,\"_\",Q19),選手名簿!$A:$H,4,FALSE))","v":"MF"},{"$f":"IF(T19=\"\",\"\",VLOOKUP(CONCATENATE($W$9,\"_\",T19),選手名簿!$A:$H,4,FALSE))","v":"MF"},6,{"$f":"IF(T19=\"\",\"\",VLOOKUP(CONCATENATE($W$9,\"_\",T19),選手名簿!$A:$H,5,FALSE))","v":"岡本　有人"},null,null,null,null,{"$f":"IF(T19=\"\",\"\",VLOOKUP(CONCATENATE($W$9,\"_\",T19),選手名簿!$A:$H,7,FALSE))","v":6},null,null,null,1,null,null,null,null,null,1]
[null,2,null,null,null,null,null,null,"①",2,{"$f":"IF(Q20=\"\",\"\",VLOOKUP(CONCATENATE($B$9,\"_\",Q20),選手名簿!$A:$H,7,FALSE))","v":6},{"$f":"IF(Q20=\"\",\"\",VLOOKUP(CONCATENATE($B$9,\"_\",Q20),選手名簿!$A:$H,5,FALSE))","v":"吉廣　幸太郎"},null,null,null,null,8,{"$f":"IF(Q20=\"\",\"\",VLOOKUP(CONCATENATE($B$9,\"_\",Q20),選手名簿!$A:$H,4,FALSE))","v":"MF"},{"$f":"IF(T20=\"\",\"\",VLOOKUP(CONCATENATE($W$9,\"_\",T20),選手名簿!$A:$H,4,FALSE))","v":"MF"},8,{"$f":"IF(T20=\"\",\"\",VLOOKUP(CONCATENATE($W$9,\"_\",T20),選手名簿!$A:$H,5,FALSE))","v":"高橋　翔空"},null,null,null,null,{"$f":"IF(T20=\"\",\"\",VLOOKUP(CONCATENATE($W$9,\"_\",T20),選手名簿!$A:$H,7,FALSE))","v":6},null,null,null,1,null,null,null,null,null,1]
[null,7,null,null,null,null,"①",3,"①",4,{"$f":"IF(Q21=\"\",\"\",VLOOKUP(CONCATENATE($B$9,\"_\",Q21),選手名簿!$A:$H,7,FALSE))","v":6},{"$f":"IF(Q21=\"\",\"\",VLOOKUP(CONCATENATE($B$9,\"_\",Q21),選手名簿!$A:$H,5,FALSE))","v":"江藤　翼"},null,null,null,null,9,{"$f":"IF(Q21=\"\",\"\",VLOOKUP(CONCATENATE($B$9,\"_\",Q21),選手名簿!$A:$H,4,FALSE))","v":"FW"},{"$f":"IF(T21=\"\",\"\",VLOOKUP(CONCATENATE($W$9,\"_\",T21),選手名簿!$A:$H,4,FALSE))","v":"MF"},9,{"$f":"IF(T21=\"\",\"\",VLOOKUP(CONCATENATE($W$9,\"_\",T21),選手名簿!$A:$H,5,FALSE))","v":"児玉　敦志"},null,null,null,null,{"$f":"IF(T21=\"\",\"\",VLOOKUP(CONCATENATE($W$9,\"_\",T21),選手名簿!$A:$H,7,FALSE))","v":6},null,1,"①",3,null,null,null,null,null,4]
[null,0,null,null,null,null,null,null,null,null,{"$f":"IF(Q22=\"\",\"\",VLOOKUP(CONCATENATE($B$9,\"_\",Q22),選手名簿!$A:$H,7,FALSE))","v":6},{"$f":"IF(Q22=\"\",\"\",VLOOKUP(CONCATENATE($B$9,\"_\",Q22),選手名簿!$A:$H,5,FALSE))","v":"陣内　奏心"},null,null,null,null,10,{"$f":"IF(Q22=\"\",\"\",VLOOKUP(CONCATENATE($B$9,\"_\",Q22),選手名簿!$A:$H,4,FALSE))","v":"FW"},{"$f":"IF(T22=\"\",\"\",VLOOKUP(CONCATENATE($W$9,\"_\",T22),選手名簿!$A:$H,4,FALSE))","v":"FW"},7,{"$f":"IF(T22=\"\",\"\",VLOOKUP(CONCATENATE($W$9,\"_\",T22),選手名簿!$A:$H,5,FALSE))","v":"友永　蒼士"},null,null,null,null,{"$f":"IF(T22=\"\",\"\",VLOOKUP(CONCATENATE($W$9,\"_\",T22),選手名簿!$A:$H,7,FALSE))","v":6},null,null,null,null,null,null,null,null,null,0]
[null,1,null,null,null,null,null,1,null,null,{"$f":"IF(Q23=\"\",\"\",VLOOKUP(CONCATENATE($B$9,\"_\",Q23),選手名簿!$A:$H,7,FALSE))","v":6},{"$f":"IF(Q23=\"\",\"\",VLOOKUP(CONCATENATE($B$9,\"_\",Q23),選手名簿!$A:$H,5,FALSE))","v":"佐藤　亮仁"},null,null,null,null,11,{"$f":"IF(Q23=\"\",\"\",VLOOKUP(CONCATENATE($B$9,\"_\",Q23),選手名簿!$A:$H,4,FALSE))","v":"FW"},{"$f":"IF(T23=\"\",\"\",VLOOKUP(CONCATENATE($W$9,\"_\",T23),選手名簿!$A:$H,4,FALSE))","v":"FW"},11,{"$f":"IF(T23=\"\",\"\",VLOOKUP(CONCATENATE($W$9,\"_\",T23),選手名簿!$A:$H,5,FALSE))","v":"姫野　陽斗"},null,null,null,null,{"$f":"IF(T23=\"\",\"\",VLOOKUP(CONCATENATE($W$9,\"_\",T23),選手名簿!$A:$H,7,FALSE))","v":6},null,null,null,null,null,null,null,null,null,0]
[null,null,null,null,null,null,null,null,null,null,null,null,null,null,null,null,"交替要員"]
[null,{"$f":"SUM(D25,F25,H25,J25)","v":0},null,null,null,null,null,null,null,null,{"$f":"IF(Q25=\"\",\"\",VLOOKUP(CONCATENATE($B$9,\"_\",Q25),選手名簿!$A:$H,7,FALSE))","v":5},{"$f":"IF(Q25=\"\",\"\",VLOOKUP(CONCATENATE($B$9,\"_\",Q25),選手名簿!$A:$H,5,FALSE))","v":"荒巻　而志"},null,null,null,null,2,{"$f":"IF(Q25=\"\",\"\",VLOOKUP(CONCATENATE($B$9,\"_\",Q25),選手名簿!$A:$H,4,FALSE))","v":"MF"},{"$f":"IF(T25=\"\",\"\",VLOOKUP(CONCATENATE($W$9,\"_\",T25),選手名簿!$A:$H,4,FALSE))","v":"MF"},2,{"$f":"IF(T25=\"\",\"\",VLOOKUP(CONCATENATE($W$9,\"_\",T25),選手名簿!$A:$H,5,FALSE))","v":"新名　桜晟"},null,null,null,null,{"$f":"IF(T25=\"\",\"\",VLOOKUP(CONCATENATE($W$9,\"_\",T25),選手名簿!$A:$H,7,FALSE))","v":6},null,null,null,null,null,null,null,null,null,{"$f":"SUM(AB25,AD25,AF25,AH25)","v":0}]
[null,0,null,null,null,null,null,null,null,null,{"$f":"IF(Q26=\"\",\"\",VLOOKUP(CONCATENATE($B$9,\"_\",Q26),選手名簿!$A:$H,7,FALSE))","v":5},{"$f":"IF(Q26=\"\",\"\",VLOOKUP(CONCATENATE($B$9,\"_\",Q26),選手名簿!$A:$H,5,FALSE))","v":"小野　友真"},null,null,null,null,3,{"$f":"IF(Q26=\"\",\"\",VLOOKUP(CONCATENATE($B$9,\"_\",Q26),選手名簿!$A:$H,4,FALSE))","v":"FW"},{"$f":"IF(T26=\"\",\"\",VLOOKUP(CONCATENATE($W$9,\"_\",T26),選手名簿!$A:$H,4,FALSE))","v":"MF"},4,{"$f":"IF(T26=\"\",\"\",VLOOKUP(CONCATENATE($W$9,\"_\",T26),選手名簿!$A:$H,5,FALSE))","v":"村上　綜梧"},null,null,null,null,{"$f":"IF(T26=\"\",\"\",VLOOKUP(CONCATENATE($W$9,\"_\",T26),選手名簿!$A:$H,7,FALSE))","v":6},null,null,null,null,null,null,null,null,null,0]
[null,0,null,null,null,null,null,null,null,null,{"$f":"IF(Q27=\"\",\"\",VLOOKUP(CONCATENATE($B$9,\"_\",Q27),選手名簿!$A:$H,7,FALSE))","v":5},{"$f":"IF(Q27=\"\",\"\",VLOOKUP(CONCATENATE($B$9,\"_\",Q27),選手名簿!$A:$H,5,FALSE))","v":"今田　優太"},null,null,null,null,5,{"$f":"IF(Q27=\"\",\"\",VLOOKUP(CONCATENATE($B$9,\"_\",Q27),選手名簿!$A:$H,4,FALSE))","v":"MF"},{"$f":"IF(T27=\"\",\"\",VLOOKUP(CONCATENATE($W$9,\"_\",T27),選手名簿!$A:$H,4,FALSE))","v":"FW"},5,{"$f":"IF(T27=\"\",\"\",VLOOKUP(CONCATENATE($W$9,\"_\",T27),選手名簿!$A:$H,5,FALSE))","v":"式村　龍馬"},null,null,null,null,{"$f":"IF(T27=\"\",\"\",VLOOKUP(CONCATENATE($W$9,\"_\",T27),選手名簿!$A:$H,7,FALSE))","v":6},null,null,null,null,null,null,null,null,null,0]
[null,0,null,null,null,null,null,null,null,null,{"$f":"IF(Q28=\"\",\"\",VLOOKUP(CONCATENATE($B$9,\"_\",Q28),選手名簿!$A:$H,7,FALSE))","v":5},{"$f":"IF(Q28=\"\",\"\",VLOOKUP(CONCATENATE($B$9,\"_\",Q28),選手名簿!$A:$H,5,FALSE))","v":"塚崎　春輝"},null,null,null,null,6,{"$f":"IF(Q28=\"\",\"\",VLOOKUP(CONCATENATE($B$9,\"_\",Q28),選手名簿!$A:$H,4,FALSE))","v":"DF"},{"$f":"IF(T28=\"\",\"\",VLOOKUP(CONCATENATE($W$9,\"_\",T28),選手名簿!$A:$H,4,FALSE))","v":"GK"},12,{"$f":"IF(T28=\"\",\"\",VLOOKUP(CONCATENATE($W$9,\"_\",T28),選手名簿!$A:$H,5,FALSE))","v":"小野　拓海"},null,null,null,null,{"$f":"IF(T28=\"\",\"\",VLOOKUP(CONCATENATE($W$9,\"_\",T28),選手名簿!$A:$H,7,FALSE))","v":5},null,null,null,null,null,null,null,null,null,0]
[null,0,null,null,null,null,null,null,null,null,{"$f":"IF(Q29=\"\",\"\",VLOOKUP(CONCATENATE($B$9,\"_\",Q29),選手名簿!$A:$H,7,FALSE))","v":4},{"$f":"IF(Q29=\"\",\"\",VLOOKUP(CONCATENATE($B$9,\"_\",Q29),選手名簿!$A:$H,5,FALSE))","v":"髙倉　暖基"},null,null,null,null,12,{"$f":"IF(Q29=\"\",\"\",VLOOKUP(CONCATENATE($B$9,\"_\",Q29),選手名簿!$A:$H,4,FALSE))","v":"MF"},{"$f":"IF(T29=\"\",\"\",VLOOKUP(CONCATENATE($W$9,\"_\",T29),選手名簿!$A:$H,4,FALSE))","v":"MF"},13,{"$f":"IF(T29=\"\",\"\",VLOOKUP(CONCATENATE($W$9,\"_\",T29),選手名簿!$A:$H,5,FALSE))","v":"若杉　駿輝"},null,null,null,null,{"$f":"IF(T29=\"\",\"\",VLOOKUP(CONCATENATE($W$9,\"_\",T29),選手名簿!$A:$H,7,FALSE))","v":6},null,null,null,null,null,null,null,null,null,0]
[null,0,null,null,null,null,null,null,null,null,{"$f":"IF(Q30=\"\",\"\",VLOOKUP(CONCATENATE($B$9,\"_\",Q30),選手名簿!$A:$H,7,FALSE))","v":4},{"$f":"IF(Q30=\"\",\"\",VLOOKUP(CONCATENATE($B$9,\"_\",Q30),選手名簿!$A:$H,5,FALSE))","v":"黒木　渚冴"},null,null,null,null,13,{"$f":"IF(Q30=\"\",\"\",VLOOKUP(CONCATENATE($B$9,\"_\",Q30),選手名簿!$A:$H,4,FALSE))","v":"FW"},{"$f":"IF(T30=\"\",\"\",VLOOKUP(CONCATENATE($W$9,\"_\",T30),選手名簿!$A:$H,4,FALSE))","v":"FW"},14,{"$f":"IF(T30=\"\",\"\",VLOOKUP(CONCATENATE($W$9,\"_\",T30),選手名簿!$A:$H,5,FALSE))","v":"佐藤　凛乃丞"},null,null,null,null,{"$f":"IF(T30=\"\",\"\",VLOOKUP(CONCATENATE($W$9,\"_\",T30),選手名簿!$A:$H,7,FALSE))","v":5},null,null,null,null,null,null,null,null,null,0]
[null,0,null,null,null,null,null,null,null,null,{"$f":"IF(Q31=\"\",\"\",VLOOKUP(CONCATENATE($B$9,\"_\",Q31),選手名簿!$A:$H,7,FALSE))","v":4},{"$f":"IF(Q31=\"\",\"\",VLOOKUP(CONCATENATE($B$9,\"_\",Q31),選手名簿!$A:$H,5,FALSE))","v":"荒巻　乃得"},null,null,null,null,14,{"$f":"IF(Q31=\"\",\"\",VLOOKUP(CONCATENATE($B$9,\"_\",Q31),選手名簿!$A:$H,4,FALSE))","v":"FW"},{"$f":"IF(T31=\"\",\"\",VLOOKUP(CONCATENATE($W$9,\"_\",T31),選手名簿!$A:$H,4,FALSE))","v":"MF"},15,{"$f":"IF(T31=\"\",\"\",VLOOKUP(CONCATENATE($W$9,\"_\",T31),選手名簿!$A:$H,5,FALSE))","v":"甲斐　勇聖"},null,null,null,null,{"$f":"IF(T31=\"\",\"\",VLOOKUP(CONCATENATE($W$9,\"_\",T31),選手名簿!$A:$H,7,FALSE))","v":5},null,null,null,null,null,null,null,null,null,0]
[null,0,null,null,null,null,null,null,null,null,{"$f":"IF(Q32=\"\",\"\",VLOOKUP(CONCATENATE($B$9,\"_\",Q32),選手名簿!$A:$H,7,FALSE))","v":4},{"$f":"IF(Q32=\"\",\"\",VLOOKUP(CONCATENATE($B$9,\"_\",Q32),選手名簿!$A:$H,5,FALSE))","v":"伊東　湊"},null,null,null,null,15,{"$f":"IF(Q32=\"\",\"\",VLOOKUP(CONCATENATE($B$9,\"_\",Q32),選手名簿!$A:$H,4,FALSE))","v":"DF"},{"$f":"IF(T32=\"\",\"\",VLOOKUP(CONCATENATE($W$9,\"_\",T32),選手名簿!$A:$H,4,FALSE))","v":"MF"},16,{"$f":"IF(T32=\"\",\"\",VLOOKUP(CONCATENATE($W$9,\"_\",T32),選手名簿!$A:$H,5,FALSE))","v":"平川　幹大"},null,null,null,null,{"$f":"IF(T32=\"\",\"\",VLOOKUP(CONCATENATE($W$9,\"_\",T32),選手名簿!$A:$H,7,FALSE))","v":5},null,null,null,null,null,null,null,null,null,0]
[null,0,null,null,null,null,null,null,null,null,{"$f":"IF(Q33=\"\",\"\",VLOOKUP(CONCATENATE($B$9,\"_\",Q33),選手名簿!$A:$H,7,FALSE))","v":""},{"$f":"IF(Q33=\"\",\"\",VLOOKUP(CONCATENATE($B$9,\"_\",Q33),選手名簿!$A:$H,5,FALSE))","v":""},null,null,null,null,null,{"$f":"IF(Q33=\"\",\"\",VLOOKUP(CONCATENATE($B$9,\"_\",Q33),選手名簿!$A:$H,4,FALSE))","v":""},{"$f":"IF(T33=\"\",\"\",VLOOKUP(CONCATENATE($W$9,\"_\",T33),選手名簿!$A:$H,4,FALSE))","v":"MF"},17,{"$f":"IF(T33=\"\",\"\",VLOOKUP(CONCATENATE($W$9,\"_\",T33),選手名簿!$A:$H,5,FALSE))","v":"藤戸　瑛太"},null,null,null,null,{"$f":"IF(T33=\"\",\"\",VLOOKUP(CONCATENATE($W$9,\"_\",T33),選手名簿!$A:$H,7,FALSE))","v":5},null,null,null,null,null,null,null,null,null,0]
[null,0,null,null,null,null,null,null,null,null,{"$f":"IF(Q34=\"\",\"\",VLOOKUP(CONCATENATE($B$9,\"_\",Q34),選手名簿!$A:$H,7,FALSE))","v":""},{"$f":"IF(Q34=\"\",\"\",VLOOKUP(CONCATENATE($B$9,\"_\",Q34),選手名簿!$A:$H,5,FALSE))","v":""},null,null,null,null,null,{"$f":"IF(Q34=\"\",\"\",VLOOKUP(CONCATENATE($B$9,\"_\",Q34),選手名簿!$A:$H,4,FALSE))","v":""},{"$f":"IF(T34=\"\",\"\",VLOOKUP(CONCATENATE($W$9,\"_\",T34),選手名簿!$A:$H,4,FALSE))","v":"DF"},18,{"$f":"IF(T34=\"\",\"\",VLOOKUP(CONCATENATE($W$9,\"_\",T34),選手名簿!$A:$H,5,FALSE))","v":"芋岡　翼"},null,null,null,null,{"$f":"IF(T34=\"\",\"\",VLOOKUP(CONCATENATE($W$9,\"_\",T34),選手名簿!$A:$H,7,FALSE))","v":5},null,null,null,null,null,null,null,null,null,0]
[null,null,null,{"$f":"SUM(D16:D23,D25:D34)","v":0},null,{"$f":"SUM(F16:F23,F25:F34)","v":0},null,{"$f":"SUM(H16:H23,H25:H34)","v":5},null,{"$f":"SUM(J16:J23,J25:J34)","v":7},"小計",{"$f":"SUM(D35,F35,H35,J35)","v":12},null,null,null,null,"合計","シュート数",null,"合計",{"$f":"SUM(AB35,AD35,AF35,AH35)","v":8},null,null,null,null,"小計",null,{"$f":"SUM(AB16:AB23,AB25:AB34)","v":3},null,{"$f":"SUM(AD16:AD23,AD25:AD34)","v":5},null,{"$f":"SUM(AF16:AF23,AF25:AF34)","v":0},null,{"$f":"SUM(AH16:AH23,AH25:AH34)","v":0}]
[null,null,"OUT",null,null,null,null,null,null,"→","IN",null,null,null,null,null,null,"交代",null,null,"OUT",null,null,null,null,null,null,"→","IN"]
[null,null,null,null,null,null,null,null,null,null,null,null,null,null,null,null,null,"選手"]
[32,"分",11,"番",{"$f":"IF(C38=\"\",\"\",VLOOKUP(CONCATENATE($B$9,\"_\",C38),選手名簿!$A:$H,5,FALSE))","v":"佐藤　亮仁"},null,null,null,null,"→",3,"番",{"$f":"IF(K38=\"\",\"\",VLOOKUP(CONCATENATE($B$9,\"_\",K38),選手名簿!$A:$H,5,FALSE))","v":"小野　友真"},null,null,null,null,null,28,"分",3,"番",{"$f":"IF(U38=\"\",\"\",VLOOKUP(CONCATENATE($W$9,\"_\",U38),選手名簿!$A:$H,5,FALSE))","v":"橋本　蹄弥"},null,null,null,null,"→",14,"番",{"$f":"IF(AC38=\"\",\"\",VLOOKUP(CONCATENATE($W$9,\"_\",AC38),選手名簿!$A:$H,5,FALSE))","v":"佐藤　凛乃丞"}]
[null,"分",null,"番",{"$f":"IF(C39=\"\",\"\",VLOOKUP(CONCATENATE($B$9,\"_\",C39),選手名簿!$A:$H,5,FALSE))","v":""},null,null,null,null,"→",null,"番",{"$f":"IF(K39=\"\",\"\",VLOOKUP(CONCATENATE($B$9,\"_\",K39),選手名簿!$A:$H,5,FALSE))","v":""},null,null,null,null,null,null,"分",null,"番",{"$f":"IF(U39=\"\",\"\",VLOOKUP(CONCATENATE($W$9,\"_\",U39),選手名簿!$A:$H,5,FALSE))","v":""},null,null,null,null,"→",null,"番",{"$f":"IF(AC39=\"\",\"\",VLOOKUP(CONCATENATE($W$9,\"_\",AC39),選手名簿!$A:$H,5,FALSE))","v":""}]
[null,"分",null,"番",{"$f":"IF(C40=\"\",\"\",VLOOKUP(CONCATENATE($B$9,\"_\",C40),選手名簿!$A:$H,5,FALSE))","v":""},null,null,null,null,"→",null,"番",{"$f":"IF(K40=\"\",\"\",VLOOKUP(CONCATENATE($B$9,\"_\",K40),選手名簿!$A:$H,5,FALSE))","v":""},null,null,null,null,null,null,"分",null,"番",{"$f":"IF(U40=\"\",\"\",VLOOKUP(CONCATENATE($W$9,\"_\",U40),選手名簿!$A:$H,5,FALSE))","v":""},null,null,null,null,"→",null,"番",{"$f":"IF(AC40=\"\",\"\",VLOOKUP(CONCATENATE($W$9,\"_\",AC40),選手名簿!$A:$H,5,FALSE))","v":""}]
[null,"分",null,"番",{"$f":"IF(C41=\"\",\"\",VLOOKUP(CONCATENATE($B$9,\"_\",C41),選手名簿!$A:$H,5,FALSE))","v":""},null,null,null,null,"→",null,"番",{"$f":"IF(K41=\"\",\"\",VLOOKUP(CONCATENATE($B$9,\"_\",K41),選手名簿!$A:$H,5,FALSE))","v":""},null,null,null,null,null,null,"分",null,"番",{"$f":"IF(U41=\"\",\"\",VLOOKUP(CONCATENATE($W$9,\"_\",U41),選手名簿!$A:$H,5,FALSE))","v":""},null,null,null,null,"→",null,"番",{"$f":"IF(AC41=\"\",\"\",VLOOKUP(CONCATENATE($W$9,\"_\",AC41),選手名簿!$A:$H,5,FALSE))","v":""}]
[null,"分",null,"番",{"$f":"IF(C42=\"\",\"\",VLOOKUP(CONCATENATE($B$9,\"_\",C42),選手名簿!$A:$H,5,FALSE))","v":""},null,null,null,null,"→",null,"番",{"$f":"IF(K42=\"\",\"\",VLOOKUP(CONCATENATE($B$9,\"_\",K42),選手名簿!$A:$H,5,FALSE))","v":""},null,null,null,null,null,null,"分",null,"番",{"$f":"IF(U42=\"\",\"\",VLOOKUP(CONCATENATE($W$9,\"_\",U42),選手名簿!$A:$H,5,FALSE))","v":""},null,null,null,null,"→",null,"番",{"$f":"IF(AC42=\"\",\"\",VLOOKUP(CONCATENATE($W$9,\"_\",AC42),選手名簿!$A:$H,5,FALSE))","v":""}]
[null,"分",null,"番",{"$f":"IF(C43=\"\",\"\",VLOOKUP(CONCATENATE($B$9,\"_\",C43),選手名簿!$A:$H,5,FALSE))","v":""},null,null,null,null,"→",null,"番",{"$f":"IF(K43=\"\",\"\",VLOOKUP(CONCATENATE($B$9,\"_\",K43),選手名簿!$A:$H,5,FALSE))","v":""},null,null,null,null,null,null,"分",null,"番",{"$f":"IF(U43=\"\",\"\",VLOOKUP(CONCATENATE($W$9,\"_\",U43),選手名簿!$A:$H,5,FALSE))","v":""},null,null,null,null,"→",null,"番",{"$f":"IF(AC43=\"\",\"\",VLOOKUP(CONCATENATE($W$9,\"_\",AC43),選手名簿!$A:$H,5,FALSE))","v":""}]
[null,"分",null,"番",{"$f":"IF(C44=\"\",\"\",VLOOKUP(CONCATENATE($B$9,\"_\",C44),選手名簿!$A:$H,5,FALSE))","v":""},null,null,null,null,"→",null,"番",{"$f":"IF(K44=\"\",\"\",VLOOKUP(CONCATENATE($B$9,\"_\",K44),選手名簿!$A:$H,5,FALSE))","v":""},null,null,null,null,null,null,"分",null,"番",{"$f":"IF(U44=\"\",\"\",VLOOKUP(CONCATENATE($W$9,\"_\",U44),選手名簿!$A:$H,5,FALSE))","v":""},null,null,null,null,"→",null,"番",{"$f":"IF(AC44=\"\",\"\",VLOOKUP(CONCATENATE($W$9,\"_\",AC44),選手名簿!$A:$H,5,FALSE))","v":""}]
[null,"分",null,"番",{"$f":"IF(C45=\"\",\"\",VLOOKUP(CONCATENATE($B$9,\"_\",C45),選手名簿!$A:$H,5,FALSE))","v":""},null,null,null,null,"→",null,"番",{"$f":"IF(K45=\"\",\"\",VLOOKUP(CONCATENATE($B$9,\"_\",K45),選手名簿!$A:$H,5,FALSE))","v":""},null,null,null,null,null,null,"分",null,"番",{"$f":"IF(U45=\"\",\"\",VLOOKUP(CONCATENATE($W$9,\"_\",U45),選手名簿!$A:$H,5,FALSE))","v":""},null,null,null,null,"→",null,"番",{"$f":"IF(AC45=\"\",\"\",VLOOKUP(CONCATENATE($W$9,\"_\",AC45),選手名簿!$A:$H,5,FALSE))","v":""}]
["警告（Ｃ）・退場（Ｓ）など",null,null,null,null,null,null,"合計",null,"延後",null,"延前",null,"後半",null,"前半",null,"チーム\n合計",null,"前半",null,"後半",null,"延前",null,"延後",null,"合計",null,"警告（Ｃ）・退場（Ｓ）など"]
[null,null,null,null,null,null,null,{"$f":"SUM(J47:Q47)","v":9},null,null,null,null,null,6,null,3,null,"Ｇ","Ｋ",4,null,5,null,null,null,null,null,{"$f":"SUM(T47:AA47)","v":9}]
[null,null,null,null,null,null,null,{"$f":"SUM(J48:Q48)","v":4},null,null,null,null,null,1,null,3,null,"Ｃ","Ｋ",1,null,1,null,null,null,null,null,{"$f":"SUM(T48:AA48)","v":2}]
[null,null,null,null,null,null,null,{"$f":"SUM(J49:Q49)","v":1},null,null,null,null,null,1,null,0,null,"直接","ＦＫ",3,null,1,null,null,null,null,null,{"$f":"SUM(T49:AA49)","v":4}]
[null,null,null,null,null,null,null,{"$f":"SUM(J50:Q50)","v":0},null,null,null,null,null,0,null,0,null,"間接","ＦＫ",0,null,1,null,null,null,null,null,{"$f":"SUM(T50:AA50)","v":1}]
[null,null,null,null,null,null,null,{"$f":"SUM(J51:Q51)","v":0},null,null,null,null,null,0,null,0,null,"Ｐ","Ｋ",0,null,0,null,null,null,null,null,{"$f":"SUM(T51:AA51)","v":0}]
["時間",null,null,"得点者",null,"得　　点　　経　　過",null,null,null,null,null,null,null,null,null,null,null,null,"時間",null,null,"得点者",null,"得　　点　　経　　過"]
[null,3,"分",8,null,"4CK　∩　8HS",null,null,null,null,null,null,null,null,null,null,null,null,null,28,"分",9,null,"9～S"]
[null,9,"分",7,null,"9　∩　7S",null,null,null,null,null,null,null,null,null,null,null,null,null,null,"分"]
[null,19,"分",9,null,"4CK　∩　9S",null,null,null,null,null,null,null,null,null,null,null,null,null,null,"分"]
[null,26,"分",9,null,"9～S",null,null,null,null,null,null,null,null,null,null,null,null,null,null,"分"]
[null,null,"分",null,null,null,null,null,null,null,null,null,null,null,null,null,null,null,null,null,"分"]
[null,null,"分",null,null,null,null,null,null,null,null,null,null,null,null,null,null,null,null,null,"分"]
[" ",null,null,"《略号例》",null,null,null,"ドリブル",null,"～",null,"ゴロのパス",null,null,"→",null,"浮き球",null,"∩",null,"混戦",null,"×",null,"ヘディング",null,null,"H",null,"シュート",null,"S"]
[]
["戦評者氏名",null,null,null,"（",null,null,null,null,null,"）",null,"勤務先または所属",null,null,null,null,"（",null,null,null,null,null,null,null,null,null,null,null,null,null,null,null,null,"　）"]
[]
[]
[]
[]
[]
[]
[]
[]
[null,null,null,null,null,null,null,null,"M   C",null,null,null,null,null,null,"ウェルフェアオフィサー",null,null,null,null,null,null,"会　場　長",null,null,null,null,null,null,"主　　審"]
[null,null,null,null,null,null,null,null,"津守　一雄",null,null,null,null,null,null,"仲野　昭博",null,null,null,null,null,null,"安東　幹雄",null,null,null,null,null,null,"曽我　拓実"]

{"sheet":"２次リーグ組み合わせ・結果","index":9,"n_rows":59,"n_cols":53,"rows_kept":59,"cut":false,"hidden":false,"merged":[[4,0,4,2],[4,3,4,8],[4,9,4,14],[4,31,4,36],[4,37,4,42],[4,28,4,30],[0,0,0,26],[2,0,2,2],[2,3,2,14],[2,31,2,42],[3,0,3,2],[3,3,3,8],[3,9,3,14],[3,31,3,36],[3,37,3,42],[3,28,3,30],[0,28,0,54],[2,28,2,30],[11,0,11,2],[11,12,11,14],[11,40,11,42],[10,0,10,2],[10,28,10,30],[7,3,7,8],[7,9,7,14],[7,31,7,36],[7,37,7,42],[5,28,7,30],[11,28,11,30],[6,3,6,8],[6,9,6,14],[6,31,6,36],[6,37,6,42],[5,0,7,2],[5,3,5,8],[5,9,5,14],[5,31,5,36],[5,37,5,42],[13,12,13,14],[13,31,13,32],[12,33,12,35],[12,37,12,39],[12,40,12,42],[13,33,13,35],[13,37,13,39],[13,40,13,42],[12,28,13,28],[12,29,13,30],[12,12,12,14],[12,31,12,32],[14,0,15,0],[14,1,15,2],[14,3,14,4],[14,5,14,7],[14,9,14,11],[13,3,13,4],[13,5,13,7],[13,9,13,11],[12,0,13,0],[12,1,13,2],[12,3,12,4],[12,5,12,7],[12,9,12,11],[15,3,15,4],[15,5,15,7],[15,9,15,11],[15,12,15,14],[15,31,15,32],[15,33,15,35],[15,37,15,39],[15,40,15,42],[14,29,15,30],[14,12,14,14],[14,31,14,32],[14,33,14,35],[14,37,14,39],[14,40,14,42],[14,28,15,28],[17,3,17,4],[17,5,17,7],[17,9,17,11],[17,12,17,14],[17,31,17,32],[16,0,17,0],[16,1,17,2],[16,3,16,4],[16,5,16,7],[16,9,16,11],[16,12,16,14],[16,31,16,32],[16,28,17,28],[16,29,17,30],[19,12,19,14],[19,31,19,32],[18,33,18,35],[18,37,18,39],[18,40,18,42],[19,33,19,35],[19,37,19,39],[19,40,19,42],[18,28,19,28],[18,29,19,30],[18,12,18,14],[18,31,18,32],[20,0,21,0],[20,1,21,2],[20,3,20,4],[20,5,20,7],[20,9,20,11],[19,3,19,4],[19,5,19,7],[19,9,19,11],[18,0,19,0],[18,1,19,2],[18,3,18,4],[18,5,18,7],[18,9,18,11],[21,3,21,4],[21,5,21,7],[21,9,21,11],[21,12,21,14],[21,31,21,32],[21,33,21,35],[21,37,21,39],[20,28,21,28],[21,40,21,42],[20,29,21,30],[20,12,20,14],[20,31,20,32],[20,33,20,35],[20,37,20,39],[20,40,20,42],[23,31,23,32],[23,33,23,35],[22,28,23,28],[22,29,23,30],[22,33,22,35],[23,37,23,39],[22,40,22,42],[23,40,23,42],[22,0,23,0],[22,1,23,2],[22,3,22,4],[22,5,22,7],[22,9,22,11],[22,12,22,14],[22,31,22,32],[22,37,22,39],[44,0,44,2],[44,3,44,5],[44,6,44,8],[44,9,44,11],[44,18,44,19],[44,20,44,21],[44,22,44,23],[46,1,46,2],[23,3,23,4],[23,5,23,7],[23,9,23,11],[23,12,23,14],[45,0,46,0],[45,1,45,2],[45,12,46,12],[45,13,46,13],[45,14,46,14],[45,15,46,15],[47,23,48,23],[47,24,48,25],[47,16,48,16],[47,17,48,17],[47,18,48,18],[47,19,48,19],[47,20,48,21],[47,22,48,22],[45,22,46,22],[45,23,46,23],[45,24,46,25],[45,16,46,16],[45,17,46,17],[45,18,46,18],[45,19,46,19],[45,20,46,21],[47,1,47,2],[47,12,48,12],[47,13,48,13],[47,14,48,14],[49,18,50,18],[49,19,50,19],[49,20,50,21],[49,22,50,22],[48,1,48,2],[47,15,48,15],[49,15,50,15],[49,16,50,16],[49,17,50,17],[49,0,50,0],[49,1,49,2],[49,12,50,12],[49,13,50,13],[49,14,50,14],[50,1,50,2],[44,50,44,51],[44,52,44,53],[44,28,44,30],[44,31,44,33],[44,34,44,36],[44,37,44,39],[44,46,44,47],[44,48,44,49],[49,24,50,25],[44,24,44,25],[45,51,46,51],[45,52,46,53],[45,44,46,44],[45,45,46,45],[45,46,46,46],[45,47,46,47],[45,48,46,49],[47,0,48,0],[45,50,46,50],[45,28,46,28],[45,29,45,30],[45,40,46,40],[45,41,46,41],[45,42,46,42],[45,43,46,43],[46,29,46,30],[47,51,48,51],[47,52,48,53],[47,44,48,44],[47,45,48,45],[47,46,48,46],[47,47,48,47],[47,48,48,49],[47,50,48,50],[47,28,48,28],[47,29,47,30],[47,40,48,40],[47,41,48,41],[47,42,48,42],[47,43,48,43],[48,29,48,30],[49,23,50,23],[52,18,52,19],[52,20,52,21],[49,51,50,51],[49,52,50,53],[49,44,50,44],[49,45,50,45],[49,46,50,46],[49,47,50,47],[49,48,50,49],[49,50,50,50],[49,28,50,28],[49,29,49,30],[49,40,50,40],[49,41,50,41],[49,42,50,42],[49,43,50,43],[50,29,50,30],[52,28,52,30],[52,31,52,33],[52,34,52,36],[52,37,52,39],[52,46,52,47],[52,48,52,49],[53,0,54,0],[53,1,53,2],[53,12,54,12],[53,13,54,13],[53,14,54,14],[53,15,54,15],[54,1,54,2],[52,0,52,2],[52,3,52,5],[52,6,52,8],[52,9,52,11],[57,0,58,0],[57,1,57,2],[57,12,58,12],[57,13,58,13],[57,14,58,14],[57,15,58,15],[58,1,58,2],[55,16,56,16],[55,17,56,17],[55,0,56,0],[55,1,55,2],[55,12,56,12],[55,13,56,13],[55,14,56,14],[55,15,56,15],[56,1,56,2],[53,51,54,51],[53,52,54,53],[53,44,54,44],[53,45,54,45],[53,46,54,46],[53,47,54,47],[53,48,54,49],[53,50,54,50],[57,16,58,16],[57,17,58,17],[57,18,58,18],[57,19,58,19],[57,20,58,21],[57,22,58,22],[55,18,56,18],[55,19,56,19],[55,20,56,21],[55,22,56,22],[53,16,54,16],[53,17,54,17],[53,18,54,18],[53,19,54,19],[53,20,54,21],[53,22,54,22],[57,23,58,23],[57,24,58,25],[55,23,56,23],[55,24,56,25],[53,23,54,23],[53,24,54,25],[52,22,52,23],[52,24,52,25],[57,28,58,28],[57,29,57,30],[57,40,58,40],[57,41,58,41],[57,42,58,42],[57,43,58,43],[58,29,58,30],[53,28,54,28],[53,29,53,30],[53,40,54,40],[53,41,54,41],[53,42,54,42],[53,43,54,43],[54,29,54,30],[55,28,56,28],[55,29,55,30],[55,40,56,40],[55,41,56,41],[55,42,56,42],[55,43,56,43],[56,29,56,30],[17,33,17,35],[17,37,17,39],[16,40,16,42],[17,40,17,42],[16,33,16,35],[16,37,16,39],[57,51,58,51],[57,52,58,53],[57,44,58,44],[57,45,58,45],[57,46,58,46],[57,47,58,47],[57,48,58,49],[57,50,58,50],[55,51,56,51],[55,52,56,53],[55,44,56,44],[55,45,56,45],[55,46,56,46],[55,47,56,47],[55,48,56,49],[55,50,56,50],[52,50,52,51],[52,52,52,53]]}
["＜２次リーグ組み合わせ・結果＞"]
[]
["会場",null,null,{"$f":"'２次リーグ（佐伯）'!B4","v":"佐伯"},null,null,null,null,null,null,null,null,null,null,null,null,null,null,null,null,null,null,null,null,null,null,null,null,"会場",null,null,{"$f":"'２次リーグ（大分）'!B4","v":"大分"}]
["グループ",null,null,{"$f":"'２次リーグ（佐伯）'!B6","v":"2次リーグ　Aパート"},null,null,null,null,null,{"$f":"'２次リーグ（佐伯）'!N6","v":"2次リーグ　Cパート"},null,null,null,null,null,null,null,null,null,null,null,null,null,null,null,null,null,null,"グループ",null,null,{"$f":"'２次リーグ（大分）'!B6","v":"2次リーグ　Bパート"},null,null,null,null,null,{"$f":"'２次リーグ（大分）'!N6","v":"2次リーグ　Dパート"}]
["MCM",null,null,"08:50:00",null,null,null,null,null,"09:50:00",null,null,null,null,null,null,null,null,null,null,null,null,null,null,null,null,null,null,"MCM",null,null,"08:50:00",null,null,null,null,null,"09:50:00"]
["チーム",null,null,{"$f":"'２次リーグ（佐伯）'!C7","v":"ドリームキッズフットボールクラブ"},null,null,null,null,null,{"$f":"'２次リーグ（佐伯）'!O7","v":"大分トリニータＵ－１２"},null,null,null,null,null,null,null,null,null,null,null,null,null,null,null,null,null,null,"チーム",null,null,{"$f":"'２次リーグ（大分）'!C7","v":"ＫＩＮＧＳ　ＦＯＯＴＢＡＬＬＣＬＵＢ　Ｕ－１２"},null,null,null,null,null,{"$f":"'２次リーグ（大分）'!O7","v":"別府フットボールクラブ．ミネルバＵ－１２"}]
[null,null,null,{"$f":"'２次リーグ（佐伯）'!C8","v":"由布川サッカースポーツ少年団"},null,null,null,null,null,{"$f":"'２次リーグ（佐伯）'!O8","v":"中津沖代ＪＳＣ"},null,null,null,null,null,null,null,null,null,null,null,null,null,null,null,null,null,null,null,null,null,{"$f":"'２次リーグ（大分）'!C8","v":"スマイス・セレソン"},null,null,null,null,null,{"$f":"'２次リーグ（大分）'!O8","v":"カティオーラフットボールクラブＵ－１２"}]
[null,null,null,{"$f":"'２次リーグ（佐伯）'!C9","v":"弥生少年サッカークラブ"},null,null,null,null,null,{"$f":"'２次リーグ（佐伯）'!O9","v":"ブルーウイングフットボールクラブ"},null,null,null,null,null,null,null,null,null,null,null,null,null,null,null,null,null,null,null,null,null,{"$f":"'２次リーグ（大分）'!C9","v":"ＦＣ　ＷＡＹＳ"},null,null,null,null,null,{"$f":"'２次リーグ（大分）'!O9","v":"太陽スポーツクラブ大分西"}]
[]
[]
["【組合せ・時間割】",null,null,null,null,null,null,null,null,null,null,null,null,null,null,null,null,null,null,null,null,null,null,null,null,null,null,null,"【組合せ・時間割】"]
["試合時間",null,null,null,null,null,null,null,"対戦相手",null,null,null,"副審",null,null,null,null,null,null,null,null,null,null,null,null,null,null,null,"試合時間",null,null,null,null,null,null,null,"対戦相手",null,null,null,"副審"]
["①","10:00:00",null,"チーム名",null,{"$f":"D6","v":"ドリームキッズフットボールクラブ"},null,null,"-",{"$f":"D7","v":"由布川サッカースポーツ少年団"},null,null,{"$f":"J6","v":"大分トリニータＵ－１２"},null,null,null,null,null,null,null,null,null,null,null,null,null,null,null,"①","10:00:00",null,"チーム名",null,{"$f":"AF6","v":"ＫＩＮＧＳ　ＦＯＯＴＢＡＬＬＣＬＵＢ　Ｕ－１２"},null,null,"-",{"$f":"AF7","v":"スマイス・セレソン"},null,null,{"$f":"AL6","v":"別府フットボールクラブ．ミネルバＵ－１２"}]
[null,null,null,"得失点",null,1,null,null,"-",2,null,null,{"$f":"J7","v":"中津沖代ＪＳＣ"},null,null,null,null,null,null,null,null,null,null,null,null,null,null,null,null,null,null,"得失点",null,2,null,null,"-",0,null,null,{"$f":"AL7","v":"カティオーラフットボールクラブＵ－１２"}]
["②","11:00:00",null,"チーム名",null,{"$f":"J6","v":"大分トリニータＵ－１２"},null,null,"-",{"$f":"J7","v":"中津沖代ＪＳＣ"},null,null,{"$f":"D6","v":"ドリームキッズフットボールクラブ"},null,null,null,null,null,null,null,null,null,null,null,null,null,null,null,"②","11:00:00",null,"チーム名",null,{"$f":"AL6","v":"別府フットボールクラブ．ミネルバＵ－１２"},null,null,"-",{"$f":"AL7","v":"カティオーラフットボールクラブＵ－１２"},null,null,{"$f":"AF6","v":"ＫＩＮＧＳ　ＦＯＯＴＢＡＬＬＣＬＵＢ　Ｕ－１２"}]
[null,null,null,"得失点",null,5,null,null,"-",1,null,null,{"$f":"D7","v":"由布川サッカースポーツ少年団"},null,null,null,null,null,null,null,null,null,null,null,null,null,null,null,null,null,null,"得失点",null,1,null,null,"-",5,null,null,{"$f":"AF7","v":"スマイス・セレソン"}]
["③","12:00:00",null,"チーム名",null,{"$f":"D7","v":"由布川サッカースポーツ少年団"},null,null,"-",{"$f":"D8","v":"弥生少年サッカークラブ"},null,null,{"$f":"J7","v":"中津沖代ＪＳＣ"},null,null,null,null,null,null,null,null,null,null,null,null,null,null,null,"③","12:00:00",null,"チーム名",null,{"$f":"AF7","v":"スマイス・セレソン"},null,null,"-",{"$f":"AF8","v":"ＦＣ　ＷＡＹＳ"},null,null,{"$f":"AL7","v":"カティオーラフットボールクラブＵ－１２"}]
[null,null,null,"得失点",null,1,null,null,"-",0,null,null,{"$f":"J8","v":"ブルーウイングフットボールクラブ"},null,null,null,null,null,null,null,null,null,null,null,null,null,null,null,null,null,null,"得失点",null,0,null,null,"-",1,null,null,{"$f":"AL8","v":"太陽スポーツクラブ大分西"}]
["④","13:00:00",null,"チーム名",null,{"$f":"J7","v":"中津沖代ＪＳＣ"},null,null,"-",{"$f":"J8","v":"ブルーウイングフットボールクラブ"},null,null,{"$f":"D7","v":"由布川サッカースポーツ少年団"},null,null,null,null,null,null,null,null,null,null,null,null,null,null,null,"④","13:00:00",null,"チーム名",null,{"$f":"AL7","v":"カティオーラフットボールクラブＵ－１２"},null,null,"-",{"$f":"AL8","v":"太陽スポーツクラブ大分西"},null,null,{"$f":"AF7","v":"スマイス・セレソン"}]
[null,null,null,"得失点",null,0,null,null,"-",1,null,null,{"$f":"D8","v":"弥生少年サッカークラブ"},null,null,null,null,null,null,null,null,null,null,null,null,null,null,null,null,null,null,"得失点",null,5,null,null,"-",0,null,null,{"$f":"AF8","v":"ＦＣ　ＷＡＹＳ"}]
["⑤","14:00:00",null,"チーム名",null,{"$f":"D8","v":"弥生少年サッカークラブ"},null,null,"-",{"$f":"D6","v":"ドリームキッズフットボールクラブ"},null,null,{"$f":"J8","v":"ブルーウイングフットボールクラブ"},null,null,null,null,null,null,null,null,null,null,null,null,null,null,null,"⑤","14:00:00",null,"チーム名",null,{"$f":"AF8","v":"ＦＣ　ＷＡＹＳ"},null,null,"-",{"$f":"AF6","v":"ＫＩＮＧＳ　ＦＯＯＴＢＡＬＬＣＬＵＢ　Ｕ－１２"},null,null,{"$f":"AL8","v":"太陽スポーツクラブ大分西"}]
[null,null,null,"得失点",null,0,null,null,"-",0,null,null,{"$f":"J6","v":"大分トリニータＵ－１２"},null,null,null,null,null,null,null,null,null,null,null,null,null,null,null,null,null,null,"得失点",null,2,null,null,"-",2,null,null,{"$f":"AL6","v":"別府フットボールクラブ．ミネルバＵ－１２"}]
["⑥","15:00:00",null,"チーム名",null,{"$f":"J8","v":"ブルーウイングフットボールクラブ"},null,null,"-",{"$f":"J6","v":"大分トリニータＵ－１２"},null,null,{"$f":"D8","v":"弥生少年サッカークラブ"},null,null,null,null,null,null,null,null,null,null,null,null,null,null,null,"⑥","15:00:00",null,"チーム名",null,{"$f":"AL8","v":"太陽スポーツクラブ大分西"},null,null,"-",{"$f":"AL6","v":"別府フットボールクラブ．ミネルバＵ－１２"},null,null,{"$f":"AF8","v":"ＦＣ　ＷＡＹＳ"}]
[null,null,null,"得失点",null,3,null,null,"-",0,null,null,{"$f":"D6","v":"ドリームキッズフットボールクラブ"},null,null,null,null,null,null,null,null,null,null,null,null,null,null,null,null,null,null,"得失点",null,1,null,null,"-",1,null,null,{"$f":"AF6","v":"ＫＩＮＧＳ　ＦＯＯＴＢＡＬＬＣＬＵＢ　Ｕ－１２"}]
[]
[]
[]
[]
[]
[]
[]
[]
[]
[]
[]
[]
[]
[]
[]
[]
[]
[]
[null,null,null,null,null,"勝点表","勝",3,null,"引分",1,null,"負",0,null,null,null,null,null,null,null,null,null,null,null,null,null,null,null,null,null,null,null,"勝点表","勝",3,null,"引分",1,null,"負",0]
[]
[{"$f":"D4","v":"2次リーグ　Aパート"},null,null,{"$f":"A46","v":"ドリームキッズフットボールクラブ"},null,null,{"$f":"A48","v":"由布川サッカースポーツ少年団"},null,null,{"$f":"A50","v":"弥生少年サッカークラブ"},null,null,"勝","引\n分","敗","得\n点","失\n点","勝\n点","勝点\n順位",null,"得失\n点差",null,"得失\n順位",null,"ﾄｰﾀﾙ\n順位",null,null,null,{"$f":"AF4","v":"2次リーグ　Bパート"},null,null,{"$f":"AC46","v":"ＫＩＮＧＳ　ＦＯＯＴＢＡＬＬＣＬＵＢ　Ｕ－１２"},null,null,{"$f":"AC48","v":"スマイス・セレソン"},null,null,{"$f":"AC50","v":"ＦＣ　ＷＡＹＳ"},null,null,"勝","引\n分","敗","得\n点","失\n点","勝\n点","勝点\n順位",null,"得失\n点差",null,"得失\n順位",null,"ﾄｰﾀﾙ\n順位"]
[{"$f":"D6","v":"ドリームキッズフットボールクラブ"},"星取表",null,null,null,null,null,{"$f":"IF(G47=\"\",\"\",IF(G47>I47,\"○\",IF(G47<I47,\"●\",IF(G47=I47,\"△\"))))","v":"●"},null,null,{"$f":"IF(J47=\"\",\"\",IF(J47>L47,\"○\",IF(J47<L47,\"●\",IF(J47=L47,\"△\"))))","v":"△"},null,{"$f":"COUNTIF(D46:L46,\"○\")","v":0},{"$f":"COUNTIF(D46:L46,\"△\")+COUNTIF(D46:L46,\"▲\")","v":1},{"$f":"COUNTIF(D46:L46,\"●\")","v":1},{"$f":"SUM(D47,G47,J47)","v":1},{"$f":"SUM(F47,I47,L47)","v":2},{"$f":"(M46*3)+(N46*1)","v":1},{"$f":"RANK(R46,R$46:R$51)","v":2},"位",{"$f":"P46-Q46","v":-1},null,{"$f":"RANK(U46,U$46:U$51)","v":2},"位",2,null,null,null,{"$f":"AF6","v":"ＫＩＮＧＳ　ＦＯＯＴＢＡＬＬＣＬＵＢ　Ｕ－１２"},"星取表",null,null,null,null,null,{"$f":"IF(AI47=\"\",\"\",IF(AI47>AK47,\"○\",IF(AI47<AK47,\"●\",IF(AI47=AK47,\"△\"))))","v":"○"},null,null,{"$f":"IF(AL47=\"\",\"\",IF(AL47>AN47,\"○\",IF(AL47<AN47,\"●\",IF(AL47=AN47,\"△\"))))","v":"△"},null,{"$f":"COUNTIF(AF46:AN46,\"○\")","v":1},{"$f":"COUNTIF(AF46:AN46,\"△\")+COUNTIF(AF46:AN46,\"▲\")","v":1},{"$f":"COUNTIF(AF46:AN46,\"●\")","v":0},{"$f":"SUM(AF47,AI47,AL47)","v":4},{"$f":"SUM(AH47,AK47,AN47)","v":2},{"$f":"(AO46*3)+(AP46*1)","v":4},{"$f":"RANK(AT46,$AT$46:$AT$51)","v":1},"位",{"$f":"AR46-AS46","v":2},null,{"$f":"RANK(AW46,$AW$46:$AX$51)","v":1},"位",1]
[null,"得失点",null,null,null,null,{"$f":"F14","v":1},"-",{"$f":"J14","v":2},{"$f":"J22","v":0},"-",{"$f":"F22","v":0},null,null,null,null,null,null,null,null,null,null,null,null,null,null,null,null,null,"得失点",null,null,null,null,{"$f":"AH14","v":2},"-",{"$f":"AL14","v":0},{"$f":"AL22","v":2},"-",{"$f":"AH22","v":2}]
[{"$f":"D7","v":"由布川サッカースポーツ少年団"},"星取表",null,null,{"$f":"IF(D49=\"\",\"\",IF(D49>F49,\"○\",IF(D49<F49,\"●\",IF(D49=F49,\"△\"))))","v":"○"},null,null,null,null,null,{"$f":"IF(J49=\"\",\"\",IF(J49>L49,\"○\",IF(J49<L49,\"●\",IF(J49=L49,\"△\"))))","v":"○"},null,{"$f":"COUNTIF(D48:L48,\"○\")","v":2},{"$f":"COUNTIF(D48:L48,\"△\")+COUNTIF(D48:L48,\"▲\")","v":0},{"$f":"COUNTIF(D48:L48,\"●\")","v":0},{"$f":"SUM(D49,G49,J49)","v":3},{"$f":"SUM(F49,I49,L49)","v":1},{"$f":"(M48*3)+(N48*1)","v":6},{"$f":"RANK(R48,R$46:R$51)","v":1},"位",{"$f":"P48-Q48","v":2},null,{"$f":"RANK(U48,U$46:U$51)","v":1},"位",1,null,null,null,{"$f":"AF7","v":"スマイス・セレソン"},"星取表",null,null,{"$f":"IF(AF49=\"\",\"\",IF(AF49>AH49,\"○\",IF(AF49<AH49,\"●\",IF(AF49=AH49,\"△\"))))","v":"●"},null,null,null,null,null,{"$f":"IF(AL49=\"\",\"\",IF(AL49>AN49,\"○\",IF(AL49<AN49,\"●\",IF(AL49=AN49,\"△\"))))","v":"●"},null,{"$f":"COUNTIF(AF48:AN48,\"○\")","v":0},{"$f":"COUNTIF(AF48:AN48,\"△\")+COUNTIF(AF48:AN48,\"▲\")","v":0},{"$f":"COUNTIF(AF48:AN48,\"●\")","v":2},{"$f":"SUM(AF49,AI49,AL49)","v":0},{"$f":"SUM(AH49,AK49,AN49)","v":3},{"$f":"(AO48*3)+(AP48*1)","v":0},{"$f":"RANK(AT48,$AT$46:$AT$51)","v":3},"位",{"$f":"AR48-AS48","v":-3},null,{"$f":"RANK(AW48,$AW$46:$AX$51)","v":3},"位",3]
[null,"得失点",null,{"$f":"I47","v":2},"-",{"$f":"G47","v":1},null,null,null,{"$f":"F18","v":1},"-",{"$f":"J18","v":0},null,null,null,null,null,null,null,null,null,null,null,null,null,null,null,null,null,"得失点",null,{"$f":"AK47","v":0},"-",{"$f":"AI47","v":2},null,null,null,{"$f":"AH18","v":0},"-",{"$f":"AL18","v":1}]
[{"$f":"D8","v":"弥生少年サッカークラブ"},"星取表",null,null,{"$f":"IF(D51=\"\",\"\",IF(D51>F51,\"○\",IF(D51<F51,\"●\",IF(D51=F51,\"△\"))))","v":"△"},null,null,{"$f":"IF(G51=\"\",\"\",IF(G51>I51,\"○\",IF(G51<I51,\"●\",IF(G51=I51,\"△\"))))","v":"●"},null,null,null,null,{"$f":"COUNTIF(D50:L50,\"○\")","v":0},{"$f":"COUNTIF(D50:L50,\"△\")+COUNTIF(D50:L50,\"▲\")","v":1},{"$f":"COUNTIF(D50:L50,\"●\")","v":1},{"$f":"SUM(D51,G51,J51)","v":0},{"$f":"SUM(F51,I51,L51)","v":1},{"$f":"(M50*3)+(N50*1)","v":1},{"$f":"RANK(R50,R$46:R$51)","v":2},"位",{"$f":"P50-Q50","v":-1},null,{"$f":"RANK(U50,U$46:U$51)","v":2},"位",3,null,null,null,{"$f":"AF8","v":"ＦＣ　ＷＡＹＳ"},"星取表",null,null,{"$f":"IF(AF51=\"\",\"\",IF(AF51>AH51,\"○\",IF(AF51<AH51,\"●\",IF(AF51=AH51,\"△\"))))","v":"△"},null,null,{"$f":"IF(AI51=\"\",\"\",IF(AI51>AK51,\"○\",IF(AI51<AK51,\"●\",IF(AI51=AK51,\"△\"))))","v":"○"},null,null,null,null,{"$f":"COUNTIF(AF50:AN50,\"○\")","v":1},{"$f":"COUNTIF(AF50:AN50,\"△\")+COUNTIF(AF50:AN50,\"▲\")","v":1},{"$f":"COUNTIF(AF50:AN50,\"●\")","v":0},{"$f":"SUM(AF51,AI51,AL51)","v":3},{"$f":"SUM(AH51,AK51,AN51)","v":2},{"$f":"(AO50*3)+(AP50*1)","v":4},{"$f":"RANK(AT50,$AT$46:$AT$51)","v":1},"位",{"$f":"AR50-AS50","v":1},null,{"$f":"RANK(AW50,$AW$46:$AX$51)","v":2},"位",2]
[null,"得失点",null,{"$f":"L47","v":0},"-",{"$f":"J47","v":0},{"$f":"L49","v":0},"-",{"$f":"J49","v":1},null,null,null,null,null,null,null,null,null,null,null,null,null,null,null,null,null,null,null,null,"得失点",null,{"$f":"AN47","v":2},"-",{"$f":"AL47","v":2},{"$f":"AN49","v":1},"-",{"$f":"AL49","v":0}]
[]
[{"$f":"J4","v":"2次リーグ　Cパート"},null,null,{"$f":"A54","v":"大分トリニータＵ－１２"},null,null,{"$f":"A56","v":"中津沖代ＪＳＣ"},null,null,{"$f":"A58","v":"ブルーウイングフットボールクラブ"},null,null,"勝","引\n分","敗","得\n点","失\n点","勝\n点","勝点\n順位",null,"得失\n点差",null,"得失\n順位",null,"ﾄｰﾀﾙ\n順位",null,null,null,{"$f":"AL4","v":"2次リーグ　Dパート"},null,null,{"$f":"AC54","v":"別府フットボールクラブ．ミネルバＵ－１２"},null,null,{"$f":"AC56","v":"カティオーラフットボールクラブＵ－１２"},null,null,{"$f":"AC58","v":"太陽スポーツクラブ大分西"},null,null,"勝","引\n分","敗","得\n点","失\n点","勝\n点","勝点\n順位",null,"得失\n点差",null,"得失\n順位",null,"ﾄｰﾀﾙ\n順位"]
[{"$f":"J6","v":"大分トリニータＵ－１２"},"星取表",null,null,null,null,null,{"$f":"IF(G55=\"\",\"\",IF(G55>I55,\"○\",IF(G55<I55,\"●\",IF(G55=I55,\"△\"))))","v":"○"},null,null,{"$f":"IF(J55=\"\",\"\",IF(J55>L55,\"○\",IF(J55<L55,\"●\",IF(J55=L55,\"△\"))))","v":"●"},null,{"$f":"COUNTIF(D54:L54,\"○\")","v":1},{"$f":"COUNTIF(D54:L54,\"△\")+COUNTIF(D54:L54,\"▲\")","v":0},{"$f":"COUNTIF(D54:L54,\"●\")","v":1},{"$f":"SUM(D55,G55,J55)","v":5},{"$f":"SUM(F55,I55,L55)","v":4},{"$f":"(M54*3)+(N54*1)","v":3},{"$f":"RANK(R54,$R$54:$R$59)","v":2},"位",{"$f":"P54-Q54","v":1},null,{"$f":"RANK(U54,$U$54:$V$59)","v":2},"位",2,null,null,null,{"$f":"AL6","v":"別府フットボールクラブ．ミネルバＵ－１２"},"星取表",null,null,null,null,null,{"$f":"IF(AI55=\"\",\"\",IF(AI55>AK55,\"○\",IF(AI55<AK55,\"●\",IF(AI55=AK55,\"△\"))))","v":"●"},null,null,{"$f":"IF(AL55=\"\",\"\",IF(AL55>AN55,\"○\",IF(AL55<AN55,\"●\",IF(AL55=AN55,\"△\"))))","v":"△"},null,{"$f":"COUNTIF(AF54:AN54,\"○\")","v":0},{"$f":"COUNTIF(AF54:AN54,\"△\")+COUNTIF(AF54:AN54,\"▲\")","v":1},{"$f":"COUNTIF(AF54:AN54,\"●\")","v":1},{"$f":"SUM(AF55,AI55,AL55)","v":2},{"$f":"SUM(AH55,AK55,AN55)","v":6},{"$f":"(AO54*3)+(AP54*1)","v":1},{"$f":"RANK(AT54,$AT$54:$AT$59)","v":2},"位",{"$f":"AR54-AS54","v":-4},null,{"$f":"RANK(AW54,$AW$54:$AX$59)","v":2},"位",2]
[null,"得失点",null,null,null,null,{"$f":"F16","v":5},"-",{"$f":"J16","v":1},{"$f":"J24","v":0},"-",{"$f":"F24","v":3},null,null,null,null,null,null,null,null,null,null,null,null,null,null,null,null,null,"得失点",null,null,null,null,{"$f":"AH16","v":1},"-",{"$f":"AL16","v":5},{"$f":"AL24","v":1},"-",{"$f":"AH24","v":1}]
[{"$f":"J7","v":"中津沖代ＪＳＣ"},"星取表",null,null,{"$f":"IF(D57=\"\",\"\",IF(D57>F57,\"○\",IF(D57<F57,\"●\",IF(D57=F57,\"△\"))))","v":"●"},null,null,null,null,null,{"$f":"IF(J57=\"\",\"\",IF(J57>L57,\"○\",IF(J57<L57,\"●\",IF(J57=L57,\"△\"))))","v":"●"},null,{"$f":"COUNTIF(D56:L56,\"○\")","v":0},{"$f":"COUNTIF(D56:L56,\"△\")+COUNTIF(D56:L56,\"▲\")","v":0},{"$f":"COUNTIF(D56:L56,\"●\")","v":2},{"$f":"SUM(D57,G57,J57)","v":1},{"$f":"SUM(F57,I57,L57)","v":6},{"$f":"(M56*3)+(N56*1)","v":0},{"$f":"RANK(R56,$R$54:$R$59)","v":3},"位",{"$f":"P56-Q56","v":-5},null,{"$f":"RANK(U56,$U$54:$V$59)","v":3},"位",3,null,null,null,{"$f":"AL7","v":"カティオーラフットボールクラブＵ－１２"},"星取表",null,null,{"$f":"IF(AF57=\"\",\"\",IF(AF57>AH57,\"○\",IF(AF57<AH57,\"●\",IF(AF57=AH57,\"△\"))))","v":"○"},null,null,null,null,null,{"$f":"IF(AL57=\"\",\"\",IF(AL57>AN57,\"○\",IF(AL57<AN57,\"●\",IF(AL57=AN57,\"△\"))))","v":"○"},null,{"$f":"COUNTIF(AF56:AN56,\"○\")","v":2},{"$f":"COUNTIF(AF56:AN56,\"△\")+COUNTIF(AF56:AN56,\"▲\")","v":0},{"$f":"COUNTIF(AF56:AN56,\"●\")","v":0},{"$f":"SUM(AF57,AI57,AL57)","v":10},{"$f":"SUM(AH57,AK57,AN57)","v":1},{"$f":"(AO56*3)+(AP56*1)","v":6},{"$f":"RANK(AT56,$AT$54:$AT$59)","v":1},"位",{"$f":"AR56-AS56","v":9},null,{"$f":"RANK(AW56,$AW$54:$AX$59)","v":1},"位",1]
[null,"得失点",null,{"$f":"I55","v":1},"-",{"$f":"G55","v":5},null,null,null,{"$f":"F20","v":0},"-",{"$f":"J20","v":1},null,null,null,null,null,null,null,null,null,null,null,null,null,null,null,null,null,"得失点",null,{"$f":"AK55","v":5},"-",{"$f":"AI55","v":1},null,null,null,{"$f":"AH20","v":5},"-",{"$f":"AL20","v":0}]
[{"$f":"J8","v":"ブルーウイングフットボールクラブ"},"星取表",null,null,{"$f":"IF(D59=\"\",\"\",IF(D59>F59,\"○\",IF(D59<F59,\"●\",IF(D59=F59,\"△\"))))","v":"○"},null,null,{"$f":"IF(G59=\"\",\"\",IF(G59>I59,\"○\",IF(G59<I59,\"●\",IF(G59=I59,\"△\"))))","v":"○"},null,null,null,null,{"$f":"COUNTIF(D58:L58,\"○\")","v":2},{"$f":"COUNTIF(D58:L58,\"△\")+COUNTIF(D58:L58,\"▲\")","v":0},{"$f":"COUNTIF(D58:L58,\"●\")","v":0},{"$f":"SUM(D59,G59,J59)","v":4},{"$f":"SUM(F59,I59,L59)","v":0},{"$f":"(M58*3)+(N58*1)","v":6},{"$f":"RANK(R58,$R$54:$R$59)","v":1},"位",{"$f":"P58-Q58","v":4},null,{"$f":"RANK(U58,$U$54:$V$59)","v":1},"位",1,null,null,null,{"$f":"AL8","v":"太陽スポーツクラブ大分西"},"星取表",null,null,{"$f":"IF(AF59=\"\",\"\",IF(AF59>AH59,\"○\",IF(AF59<AH59,\"●\",IF(AF59=AH59,\"△\"))))","v":"△"},null,null,{"$f":"IF(AI59=\"\",\"\",IF(AI59>AK59,\"○\",IF(AI59<AK59,\"●\",IF(AI59=AK59,\"△\"))))","v":"●"},null,null,null,null,{"$f":"COUNTIF(AF58:AN58,\"○\")","v":0},{"$f":"COUNTIF(AF58:AN58,\"△\")+COUNTIF(AF58:AN58,\"▲\")","v":1},{"$f":"COUNTIF(AF58:AN58,\"●\")","v":1},{"$f":"SUM(AF59,AI59,AL59)","v":1},{"$f":"SUM(AH59,AK59,AN59)","v":6},{"$f":"(AO58*3)+(AP58*1)","v":1},{"$f":"RANK(AT58,$AT$54:$AT$59)","v":2},"位",{"$f":"AR58-AS58","v":-5},null,{"$f":"RANK(AW58,$AW$54:$AX$59)","v":3},"位",3]
[null,"得失点",null,{"$f":"L55","v":3},"-",{"$f":"J55","v":0},{"$f":"L57","v":1},"-",{"$f":"J57","v":0},null,null,null,null,null,null,null,null,null,null,null,null,null,null,null,null,null,null,null,null,"得失点",null,{"$f":"AN55","v":1},"-",{"$f":"AL55","v":1},{"$f":"AN57","v":0},"-",{"$f":"AL57","v":5}]

{"sheet":"１次リーグ組み合わせ・結果","index":10,"n_rows":75,"n_cols":81,"rows_kept":75,"cut":false,"hidden":false,"merged":[[74,1,74,2],[74,29,74,30],[73,42,74,42],[73,43,74,43],[73,44,74,44],[73,45,74,45],[71,51,72,51],[71,52,72,53],[72,1,72,2],[72,29,72,30],[71,42,72,42],[71,43,72,43],[71,44,72,44],[71,45,72,45],[73,0,74,0],[73,1,73,2],[73,12,74,12],[73,13,74,13],[73,14,74,14],[73,15,74,15],[73,16,74,16],[73,17,74,17],[73,18,74,18],[73,19,74,19],[73,20,74,21],[73,22,74,22],[73,46,74,46],[73,47,74,47],[73,23,74,23],[73,24,74,25],[73,28,74,28],[73,29,73,30],[73,40,74,40],[73,41,74,41],[73,48,74,49],[73,50,74,50],[73,51,74,51],[73,52,74,53],[69,48,70,49],[69,50,70,50],[69,51,70,51],[69,52,70,53],[70,1,70,2],[70,29,70,30],[69,42,70,42],[69,43,70,43],[69,44,70,44],[69,45,70,45],[71,0,72,0],[71,1,71,2],[71,12,72,12],[71,13,72,13],[71,14,72,14],[71,15,72,15],[71,16,72,16],[71,17,72,17],[71,18,72,18],[71,19,72,19],[71,20,72,21],[71,22,72,22],[71,46,72,46],[71,47,72,47],[71,23,72,23],[71,24,72,25],[71,28,72,28],[71,29,71,30],[71,40,72,40],[71,41,72,41],[71,48,72,49],[71,50,72,50],[69,0,70,0],[69,1,69,2],[69,12,70,12],[69,13,70,13],[69,14,70,14],[69,15,70,15],[69,16,70,16],[69,17,70,17],[69,18,70,18],[69,19,70,19],[69,20,70,21],[69,22,70,22],[69,46,70,46],[69,47,70,47],[69,23,70,23],[69,24,70,25],[69,28,70,28],[69,29,69,30],[69,40,70,40],[69,41,70,41],[57,51,58,51],[57,52,58,53],[58,1,58,2],[58,29,58,30],[57,42,58,42],[57,43,58,43],[57,44,58,44],[57,45,58,45],[68,0,68,2],[68,3,68,5],[68,6,68,8],[68,9,68,11],[68,18,68,19],[68,20,68,21],[68,22,68,23],[68,24,68,25],[68,28,68,30],[68,31,68,33],[68,34,68,36],[68,37,68,39],[68,46,68,47],[68,48,68,49],[68,50,68,51],[68,52,68,53],[66,1,66,2],[66,29,66,30],[65,42,66,42],[65,43,66,43],[65,44,66,44],[65,45,66,45],[63,51,64,51],[63,52,64,53],[55,48,56,49],[55,50,56,50],[55,51,56,51],[55,52,56,53],[56,1,56,2],[56,29,56,30],[55,42,56,42],[55,43,56,43],[55,44,56,44],[55,45,56,45],[57,0,58,0],[57,1,57,2],[57,12,58,12],[57,13,58,13],[57,14,58,14],[57,15,58,15],[57,16,58,16],[57,17,58,17],[57,18,58,18],[57,19,58,19],[57,20,58,21],[57,22,58,22],[57,46,58,46],[57,47,58,47],[57,23,58,23],[57,24,58,25],[57,28,58,28],[57,29,57,30],[57,40,58,40],[57,41,58,41],[57,48,58,49],[57,50,58,50],[53,40,54,40],[53,41,54,41],[53,48,54,49],[53,50,54,50],[53,51,54,51],[53,52,54,53],[54,1,54,2],[54,29,54,30],[53,42,54,42],[53,43,54,43],[53,44,54,44],[53,45,54,45],[55,0,56,0],[55,1,55,2],[55,12,56,12],[55,13,56,13],[55,14,56,14],[55,15,56,15],[55,16,56,16],[55,17,56,17],[55,18,56,18],[55,19,56,19],[55,20,56,21],[55,22,56,22],[55,46,56,46],[55,47,56,47],[55,23,56,23],[55,24,56,25],[55,28,56,28],[55,29,55,30],[55,40,56,40],[55,41,56,41],[52,0,52,2],[52,3,52,5],[52,6,52,8],[52,9,52,11],[52,18,52,19],[52,20,52,21],[52,22,52,23],[52,24,52,25],[52,28,52,30],[52,31,52,33],[52,34,52,36],[52,37,52,39],[53,0,54,0],[53,1,53,2],[53,12,54,12],[53,13,54,13],[53,14,54,14],[53,15,54,15],[53,16,54,16],[53,17,54,17],[53,18,54,18],[53,19,54,19],[53,20,54,21],[53,22,54,22],[53,23,54,23],[53,24,54,25],[53,28,54,28],[53,29,53,30],[63,42,64,42],[63,43,64,43],[63,44,64,44],[63,45,64,45],[65,0,66,0],[65,1,65,2],[65,12,66,12],[65,13,66,13],[65,14,66,14],[65,15,66,15],[65,16,66,16],[65,17,66,17],[65,18,66,18],[65,19,66,19],[65,20,66,21],[65,22,66,22],[63,0,64,0],[63,22,64,22],[65,46,66,46],[65,47,66,47],[65,23,66,23],[65,24,66,25],[65,28,66,28],[65,29,65,30],[65,40,66,40],[65,41,66,41],[65,48,66,49],[65,50,66,50],[65,51,66,51],[65,52,66,53],[61,48,62,49],[61,50,62,50],[61,51,62,51],[61,52,62,53],[62,1,62,2],[62,29,62,30],[61,42,62,42],[61,43,62,43],[61,44,62,44],[61,45,62,45],[63,1,63,2],[63,12,64,12],[63,13,64,13],[63,14,64,14],[63,15,64,15],[63,16,64,16],[63,17,64,17],[63,18,64,18],[63,19,64,19],[63,20,64,21],[63,46,64,46],[63,47,64,47],[63,23,64,23],[63,24,64,25],[63,28,64,28],[63,29,63,30],[63,40,64,40],[63,41,64,41],[63,48,64,49],[63,50,64,50],[61,0,62,0],[61,1,61,2],[61,12,62,12],[61,13,62,13],[61,14,62,14],[61,15,62,15],[61,16,62,16],[61,17,62,17],[61,18,62,18],[61,19,62,19],[61,20,62,21],[61,22,62,22],[61,46,62,46],[61,47,62,47],[61,23,62,23],[61,24,62,25],[61,28,62,28],[61,29,61,30],[61,40,62,40],[61,41,62,41],[64,1,64,2],[64,29,64,30],[49,48,50,49],[49,50,50,50],[49,51,50,51],[49,52,50,53],[50,1,50,2],[50,29,50,30],[49,42,50,42],[49,43,50,43],[49,44,50,44],[49,45,50,45],[60,0,60,2],[60,3,60,5],[60,6,60,8],[60,9,60,11],[60,18,60,19],[60,20,60,21],[60,22,60,23],[60,24,60,25],[60,28,60,30],[60,31,60,33],[60,34,60,36],[60,37,60,39],[60,46,60,47],[60,48,60,49],[60,50,60,51],[60,52,60,53],[52,46,52,47],[52,48,52,49],[52,50,52,51],[52,52,52,53],[53,46,54,46],[53,47,54,47],[47,40,48,40],[47,41,48,41],[47,48,48,49],[47,50,48,50],[47,51,48,51],[47,52,48,53],[48,1,48,2],[48,29,48,30],[47,42,48,42],[47,43,48,43],[47,44,48,44],[47,45,48,45],[49,0,50,0],[49,1,49,2],[49,12,50,12],[49,13,50,13],[49,14,50,14],[49,15,50,15],[49,16,50,16],[49,17,50,17],[49,18,50,18],[49,19,50,19],[49,20,50,21],[49,22,50,22],[49,46,50,46],[49,47,50,47],[49,23,50,23],[49,24,50,25],[49,28,50,28],[49,29,49,30],[49,40,50,40],[49,41,50,41],[45,28,46,28],[45,29,45,30],[45,40,46,40],[45,41,46,41],[45,48,46,49],[45,50,46,50],[45,51,46,51],[45,52,46,53],[46,1,46,2],[46,29,46,30],[45,42,46,42],[45,43,46,43],[45,44,46,44],[45,45,46,45],[47,0,48,0],[47,1,47,2],[47,12,48,12],[47,13,48,13],[47,14,48,14],[47,15,48,15],[47,16,48,16],[47,17,48,17],[47,18,48,18],[47,19,48,19],[47,20,48,21],[47,22,48,22],[47,46,48,46],[47,47,48,47],[47,23,48,23],[47,24,48,25],[47,28,48,28],[47,29,47,30],[44,0,44,2],[44,3,44,5],[44,6,44,8],[44,9,44,11],[44,18,44,19],[44,20,44,21],[44,22,44,23],[44,24,44,25],[44,28,44,30],[44,31,44,33],[44,34,44,36],[44,37,44,39],[44,46,44,47],[44,48,44,49],[44,50,44,51],[44,52,44,53],[45,0,46,0],[45,1,45,2],[45,12,46,12],[45,13,46,13],[45,14,46,14],[45,15,46,15],[45,16,46,16],[45,17,46,17],[45,18,46,18],[45,19,46,19],[45,20,46,21],[45,22,46,22],[45,46,46,46],[45,47,46,47],[45,23,46,23],[45,24,46,25],[22,31,22,32],[22,33,22,35],[23,21,23,23],[23,24,23,26],[23,31,23,32],[23,33,23,35],[22,37,22,39],[22,40,22,42],[22,43,22,44],[22,45,22,47],[22,49,22,51],[22,52,22,54],[23,37,23,39],[23,40,23,42],[23,43,23,44],[23,45,23,47],[23,49,23,51],[23,52,23,54],[22,0,23,0],[22,1,23,2],[22,3,22,4],[22,5,22,7],[22,9,22,11],[22,12,22,14],[23,3,23,4],[23,5,23,7],[23,9,23,11],[23,12,23,14],[22,15,22,16],[22,17,22,19],[22,21,22,23],[22,24,22,26],[22,28,23,28],[22,29,23,30],[23,15,23,16],[23,17,23,19],[20,40,20,42],[20,43,20,44],[20,45,20,47],[20,49,20,51],[20,52,20,54],[21,15,21,16],[21,17,21,19],[21,21,21,23],[21,24,21,26],[21,31,21,32],[21,33,21,35],[21,37,21,39],[21,40,21,42],[21,43,21,44],[21,45,21,47],[21,49,21,51],[21,52,21,54],[20,0,21,0],[20,1,21,2],[20,3,20,4],[20,5,20,7],[20,9,20,11],[20,12,20,14],[21,3,21,4],[21,5,21,7],[21,9,21,11],[21,12,21,14],[20,15,20,16],[20,17,20,19],[20,21,20,23],[20,24,20,26],[20,31,20,32],[20,33,20,35],[20,37,20,39],[19,17,19,19],[18,31,18,32],[18,33,18,35],[19,21,19,23],[19,24,19,26],[19,31,19,32],[19,33,19,35],[18,37,18,39],[18,40,18,42],[18,43,18,44],[18,45,18,47],[18,49,18,51],[18,52,18,54],[19,37,19,39],[19,40,19,42],[19,43,19,44],[19,45,19,47],[19,49,19,51],[19,52,19,54],[16,45,16,47],[16,49,16,51],[16,52,16,54],[17,15,17,16],[17,17,17,19],[17,21,17,23],[17,24,17,26],[17,31,17,32],[17,33,17,35],[17,37,17,39],[17,40,17,42],[17,43,17,44],[17,45,17,47],[17,49,17,51],[17,52,17,54],[18,0,19,0],[18,1,19,2],[18,3,18,4],[18,5,18,7],[18,9,18,11],[18,12,18,14],[19,3,19,4],[19,5,19,7],[19,9,19,11],[19,12,19,14],[18,15,18,16],[18,17,18,19],[18,21,18,23],[18,24,18,26],[18,28,19,28],[18,29,19,30],[19,15,19,16],[15,33,15,35],[14,37,14,39],[14,40,14,42],[14,43,14,44],[14,45,14,47],[14,49,14,51],[14,52,14,54],[15,37,15,39],[15,40,15,42],[15,43,15,44],[15,45,15,47],[15,49,15,51],[15,52,15,54],[16,0,17,0],[16,1,17,2],[16,3,16,4],[16,5,16,7],[16,9,16,11],[16,12,16,14],[17,3,17,4],[17,5,17,7],[17,9,17,11],[17,12,17,14],[16,15,16,16],[16,17,16,19],[16,21,16,23],[16,24,16,26],[16,31,16,32],[16,33,16,35],[16,37,16,39],[16,40,16,42],[16,43,16,44],[12,43,12,44],[12,45,12,47],[12,49,12,51],[12,52,12,54],[13,15,13,16],[13,17,13,19],[13,21,13,23],[13,24,13,26],[13,52,13,54],[14,0,15,0],[14,1,15,2],[14,3,14,4],[14,5,14,7],[14,9,14,11],[14,12,14,14],[15,3,15,4],[15,5,15,7],[15,9,15,11],[15,12,15,14],[14,15,14,16],[14,17,14,19],[14,21,14,23],[14,24,14,26],[14,28,15,28],[14,29,15,30],[15,15,15,16],[15,17,15,19],[14,31,14,32],[14,33,14,35],[15,21,15,23],[15,24,15,26],[15,31,15,32],[12,0,13,0],[12,1,13,2],[12,3,12,4],[12,5,12,7],[12,9,12,11],[12,12,12,14],[13,3,13,4],[13,5,13,7],[13,9,13,11],[13,12,13,14],[12,15,12,16],[12,17,12,19],[12,21,12,23],[12,24,12,26],[12,31,12,32],[12,33,12,35],[12,37,12,39],[10,0,10,2],[4,0,4,2],[4,3,4,8],[4,9,4,14],[4,15,4,20],[4,21,4,26],[5,0,7,2],[5,3,5,8],[5,9,5,14],[5,15,5,20],[4,49,4,54],[11,0,11,2],[11,12,11,14],[11,24,11,26],[11,28,11,30],[11,40,11,42],[11,52,11,54],[2,28,2,30],[3,0,3,2],[3,3,3,8],[3,9,3,14],[5,31,5,36],[5,37,5,42],[5,43,5,48],[5,49,5,54],[6,3,6,8],[6,9,6,14],[6,15,6,20],[6,21,6,26],[6,31,6,36],[6,37,6,42],[6,43,6,48],[6,49,6,54],[7,3,7,8],[7,9,7,14],[7,15,7,20],[7,21,7,26],[7,31,7,36],[7,37,7,42],[7,43,7,48],[7,49,7,54],[7,65,7,70],[7,71,7,76],[7,77,7,82],[5,56,7,58],[5,59,5,64],[5,65,5,70],[5,71,5,76],[5,77,5,82],[6,59,6,64],[13,80,13,82],[0,56,0,82],[2,56,2,58],[3,56,3,58],[3,59,3,64],[3,65,3,70],[3,71,3,76],[3,15,3,20],[3,21,3,26],[6,65,6,70],[6,71,6,76],[6,77,6,82],[7,59,7,64],[3,28,3,30],[4,31,4,36],[4,37,4,42],[4,43,4,48],[5,21,5,26],[5,28,7,30],[3,77,3,82],[0,0,0,26],[0,28,0,54],[2,0,2,2],[12,73,12,75],[12,77,12,79],[12,80,12,82],[13,59,13,60],[13,61,13,63],[13,65,13,67],[13,68,13,70],[13,71,13,72],[13,73,13,75],[13,77,13,79],[11,68,11,70],[11,80,11,82],[12,56,13,56],[12,57,13,58],[12,59,12,60],[12,61,12,63],[12,65,12,67],[12,68,12,70],[12,71,12,72],[16,71,16,72],[16,73,16,75],[16,77,16,79],[16,80,16,82],[17,59,17,60],[17,61,17,63],[17,65,17,67],[17,68,17,70],[17,71,17,72],[17,73,17,75],[16,59,16,60],[16,61,16,63],[16,65,16,67],[16,68,16,70],[14,80,14,82],[15,59,15,60],[15,61,15,63],[15,65,15,67],[15,68,15,70],[15,71,15,72],[15,73,15,75],[15,77,15,79],[15,80,15,82],[14,59,14,60],[14,61,14,63],[14,65,14,67],[14,68,14,70],[14,71,14,72],[14,73,14,75],[14,77,14,79],[18,77,18,79],[18,80,18,82],[19,59,19,60],[19,61,19,63],[19,65,19,67],[19,68,19,70],[19,71,19,72],[19,73,19,75],[19,77,19,79],[19,80,19,82],[17,77,17,79],[17,80,17,82],[18,59,18,60],[18,61,18,63],[18,65,18,67],[18,68,18,70],[18,71,18,72],[18,73,18,75],[21,77,21,79],[21,80,21,82],[22,59,22,60],[22,61,22,63],[22,65,22,67],[22,68,22,70],[22,71,22,72],[22,73,22,75],[22,77,22,79],[22,80,22,82],[20,71,20,72],[20,73,20,75],[20,77,20,79],[20,80,20,82],[21,59,21,60],[21,61,21,63],[21,65,21,67],[21,68,21,70],[21,71,21,72],[21,73,21,75],[20,59,20,60],[20,61,20,63],[20,65,20,67],[20,68,20,70],[44,78,44,79],[44,80,44,81],[45,68,46,68],[45,69,46,69],[45,70,46,70],[45,71,46,71],[45,72,46,72],[23,77,23,79],[23,80,23,82],[44,56,44,58],[44,59,44,61],[44,62,44,64],[44,65,44,67],[44,74,44,75],[44,76,44,77],[22,57,23,58],[22,56,23,56],[23,59,23,60],[23,61,23,63],[23,65,23,67],[23,68,23,70],[23,71,23,72],[23,73,23,75],[49,70,50,70],[49,71,50,71],[47,71,48,71],[47,72,48,72],[47,73,48,73],[47,74,48,74],[47,75,48,75],[47,68,48,68],[47,69,48,69],[47,70,48,70],[45,74,46,74],[45,75,46,75],[45,76,46,77],[45,73,46,73],[45,78,46,78],[45,79,46,79],[45,80,46,81],[4,65,4,70],[4,71,4,76],[4,77,4,82],[60,80,60,81],[61,68,62,68],[61,69,62,69],[61,70,62,70],[61,71,62,71],[61,72,62,72],[61,73,62,73],[61,74,62,74],[49,80,50,81],[60,59,60,61],[60,62,60,64],[60,65,60,67],[60,74,60,75],[60,76,60,77],[60,78,60,79],[49,72,50,72],[49,73,50,73],[52,59,52,61],[49,74,50,74],[49,75,50,75],[49,76,50,77],[49,78,50,78],[47,78,48,78],[47,79,48,79],[47,76,48,77],[49,79,50,79],[47,80,48,81],[49,68,50,68],[49,69,50,69],[53,70,54,70],[53,71,54,71],[52,62,52,64],[52,65,52,67],[52,74,52,75],[52,76,52,77],[52,78,52,79],[52,80,52,81],[65,76,66,77],[65,78,66,78],[65,79,66,79],[63,79,64,79],[63,80,64,81],[65,80,66,81],[65,68,66,68],[65,69,66,69],[65,70,66,70],[65,71,66,71],[65,72,66,72],[63,72,64,72],[63,71,64,71],[63,73,64,73],[63,74,64,74],[63,75,64,75],[63,76,64,77],[63,78,64,78],[63,68,64,68],[63,69,64,69],[63,70,64,70],[61,75,62,75],[61,76,62,77],[61,78,62,78],[68,59,68,61],[68,62,68,64],[68,65,68,67],[55,79,56,79],[57,76,58,77],[57,78,58,78],[57,79,58,79],[65,73,66,73],[65,74,66,74],[65,75,66,75],[57,80,58,81],[55,80,56,81],[53,74,54,74],[55,73,56,73],[55,74,56,74],[55,75,56,75],[55,76,56,77],[55,78,56,78],[53,75,54,75],[53,76,54,77],[53,79,54,79],[53,80,54,81],[55,68,56,68],[55,69,56,69],[55,70,56,70],[55,71,56,71],[55,72,56,72],[53,72,54,72],[53,73,54,73],[53,78,54,78],[53,68,54,68],[53,69,54,69],[68,80,68,81],[69,68,70,68],[69,69,70,69],[69,70,70,70],[69,71,70,71],[69,72,70,72],[68,74,68,75],[57,74,58,74],[57,75,58,75],[57,73,58,73],[68,76,68,77],[68,78,68,79],[57,68,58,68],[57,69,58,69],[57,70,58,70],[57,71,58,71],[57,72,58,72],[61,79,62,79],[61,80,62,81],[71,68,72,68],[71,69,72,69],[71,70,72,70],[71,71,72,71],[71,78,72,78],[71,79,72,79],[71,80,72,81],[69,80,70,81],[69,78,70,78],[69,79,70,79],[71,72,72,72],[71,73,72,73],[69,73,70,73],[69,74,70,74],[69,75,70,75],[69,76,70,77],[71,75,72,75],[71,76,72,77],[71,57,71,58],[71,56,72,56],[70,57,70,58],[69,57,69,58],[69,56,70,56],[57,57,57,58],[57,56,58,56],[72,57,72,58],[58,57,58,58],[68,56,68,58],[73,78,74,78],[73,79,74,79],[73,80,74,81],[74,57,74,58],[2,3,2,14],[2,15,2,26],[2,31,2,42],[2,43,2,54],[2,59,2,70],[2,71,2,82],[73,71,74,71],[73,72,74,72],[73,73,74,73],[73,74,74,74],[73,75,74,75],[73,76,74,77],[73,56,74,56],[73,57,73,58],[73,68,74,68],[73,69,74,69],[73,70,74,70],[71,74,72,74],[48,57,48,58],[45,57,45,58],[45,56,46,56],[46,57,46,58],[47,56,48,56]],"merged_total":1053,"flags":["merged_cut"]}
["＜１次リーグ組み合わせ・結果＞",null,null,null,null,null,null,null,null,null,null,null,null,null,null,null,null,null,null,null,null,null,null,null,null,null,null,null,"＜１次リーグ組み合わせ・結果＞",null,null,null,null,null,null,null,null,null,null,null,null,null,null,null,null,null,null,null,null,null,null,null,null,null,null,null,"＜１次リーグ組み合わせ・結果＞"]
[]
["会場",null,null,{"$f":"'１次リーグ（速杵国東）'!B4","v":"速杵国東"},null,null,null,null,null,null,null,null,null,null,null,{"$f":"'１次リーグ（津久見・臼杵）'!B4","v":"津久見・臼杵"},null,null,null,null,null,null,null,null,null,null,null,null,"会場",null,null,{"$f":"'１次リーグ（日田）'!B4","v":"日田"},null,null,null,null,null,null,null,null,null,null,null,{"$f":"'１次リーグ（豊肥）'!B4","v":"豊肥"},null,null,null,null,null,null,null,null,null,null,null,null,"会場",null,null,{"$f":"'１次リーグ（中津）'!B4","v":"中津"},null,null,null,null,null,null,null,null,null,null,null,{"$f":"'１次リーグ（宇佐高田）'!B4","v":"宇佐高田"}]
["グループ",null,null,{"$f":"'１次リーグ（速杵国東）'!B6","v":"D"},null,null,null,null,null,{"$f":"'１次リーグ（速杵国東）'!N6","v":"G"},null,null,null,null,null,{"$f":"'１次リーグ（津久見・臼杵）'!B6","v":"C"},null,null,null,null,null,{"$f":"'１次リーグ（津久見・臼杵）'!N6","v":"K"},null,null,null,null,null,null,"グループ",null,null,{"$f":"'１次リーグ（日田）'!B6","v":"E"},null,null,null,null,null,{"$f":"'１次リーグ（日田）'!N6","v":"L"},null,null,null,null,null,{"$f":"'１次リーグ（豊肥）'!B6","v":"A"},null,null,null,null,null,{"$f":"'１次リーグ（豊肥）'!N6","v":"J"},null,null,null,null,null,null,"グループ",null,null,{"$f":"'１次リーグ（中津）'!B6","v":"B"},null,null,null,null,null,{"$f":"'１次リーグ（中津）'!N6","v":"H"},null,null,null,null,null,{"$f":"'１次リーグ（宇佐高田）'!B6","v":"F"},null,null,null,null,null,{"$f":"'１次リーグ（宇佐高田）'!N6","v":"I"}]
["MCM",null,null,"08:50:00",null,null,null,null,null,"09:50:00",null,null,null,null,null,"08:50:00",null,null,null,null,null,"09:50:00",null,null,null,null,null,null,"MCM",null,null,"08:50:00",null,null,null,null,null,"09:50:00",null,null,null,null,null,"08:50:00",null,null,null,null,null,"09:50:00",null,null,null,null,null,null,"MCM",null,null,"08:50:00",null,null,null,null,null,"09:50:00",null,null,null,null,null,"08:50:00",null,null,null,null,null,"09:50:00"]
["チーム",null,null,{"$f":"'１次リーグ（速杵国東）'!C7","v":"日出サッカースポーツ少年団"},null,null,null,null,null,{"$f":"'１次リーグ（速杵国東）'!O7","v":"ＦＣ安岐"},null,null,null,null,null,{"$f":"'１次リーグ（津久見・臼杵）'!C7","v":"臼杵ＳＳＳ"},null,null,null,null,null,{"$f":"'１次リーグ（津久見・臼杵）'!O7","v":"千怒サッカースポーツ少年団"},null,null,null,null,null,null,"チーム",null,null,{"$f":"'１次リーグ（日田）'!C7","v":"ＦＣアリアーレ"},null,null,null,null,null,{"$f":"'１次リーグ（日田）'!O7","v":"太陽スポーツクラブ大分西"},null,null,null,null,null,{"$f":"'１次リーグ（豊肥）'!C7","v":"竹田直入ＦＣ"},null,null,null,null,null,{"$f":"'１次リーグ（豊肥）'!O7","v":"別保ＳＦＣ"},null,null,null,null,null,null,"チーム",null,null,{"$f":"'１次リーグ（中津）'!C7","v":"ＦＣ中津ジュニア"},null,null,null,null,null,{"$f":"'１次リーグ（中津）'!O7","v":"中津沖代ＪＳＣ"},null,null,null,null,null,{"$f":"'１次リーグ（宇佐高田）'!C7","v":"ＦＣ　ＷＡＹＳ"},null,null,null,null,null,{"$f":"'１次リーグ（宇佐高田）'!O7","v":"四日市南ＳＳＣ"}]
[null,null,null,{"$f":"'１次リーグ（速杵国東）'!C8","v":"ＫＩＮＧＳ　ＦＯＯＴＢＡＬＬＣＬＵＢ　Ｕ－１２"},null,null,null,null,null,{"$f":"'１次リーグ（速杵国東）'!O8","v":"大分トリニータＵ－１２"},null,null,null,null,null,{"$f":"'１次リーグ（津久見・臼杵）'!C8","v":"碩田サッカースポーツ少年団"},null,null,null,null,null,{"$f":"'１次リーグ（津久見・臼杵）'!O8","v":"カティオーラフットボールクラブＵ－１２"},null,null,null,null,null,null,null,null,null,{"$f":"'１次リーグ（日田）'!C8","v":"スマイス　セレソン　スポーツクラブ"},null,null,null,null,null,{"$f":"'１次リーグ（日田）'!O8","v":"判田サッカースポーツ少年団"},null,null,null,null,null,{"$f":"'１次リーグ（豊肥）'!C8","v":"ドリームキッズフットボールクラブ"},null,null,null,null,null,{"$f":"'１次リーグ（豊肥）'!O8","v":"明治サッカースポーツ少年団"},null,null,null,null,null,null,null,null,null,{"$f":"'１次リーグ（中津）'!C8","v":"由布川サッカースポーツ少年団"},null,null,null,null,null,{"$f":"'１次リーグ（中津）'!O8","v":"日岡サッカースポーツ少年団"},null,null,null,null,null,{"$f":"'１次リーグ（宇佐高田）'!C8","v":"リノスフットボールクラブ　Ｕ－１２"},null,null,null,null,null,{"$f":"'１次リーグ（宇佐高田）'!O8","v":"ブルーウイングフットボールクラブ"}]
[null,null,null,{"$f":"'１次リーグ（速杵国東）'!C9","v":"ＦＣ　ＲＥＧＡＴＥ"},null,null,null,null,null,{"$f":"'１次リーグ（速杵国東）'!O9","v":"大道サッカースポーツ少年団"},null,null,null,null,null,{"$f":"'１次リーグ（津久見・臼杵）'!C9","v":"弥生少年サッカークラブ"},null,null,null,null,null,{"$f":"'１次リーグ（津久見・臼杵）'!O9","v":"ＭＳＳ"},null,null,null,null,null,null,null,null,null,{"$f":"'１次リーグ（日田）'!C9","v":"スマイス・セレソン"},null,null,null,null,null,{"$f":"'１次リーグ（日田）'!O9","v":"明野東サッカースポーツ少年団"},null,null,null,null,null,{"$f":"'１次リーグ（豊肥）'!C9","v":"八坂少年サッカークラブ"},null,null,null,null,null,{"$f":"'１次リーグ（豊肥）'!O9","v":"別府フットボールクラブ．ミネルバＵ－１２"},null,null,null,null,null,null,null,null,null,{"$f":"'１次リーグ（中津）'!C9","v":"緑丘サッカースポーツ少年団"},null,null,null,null,null,{"$f":"'１次リーグ（中津）'!O9","v":"玖珠サッカースポーツ少年団"},null,null,null,null,null,{"$f":"'１次リーグ（宇佐高田）'!C9","v":"Ｓｈｙｎｔ　ＦＣ"},null,null,null,null,null,{"$f":"'１次リーグ（宇佐高田）'!O9","v":"鶴見少年サッカークラブ"}]
[]
[]
["【組合せ・時間割】",null,null,null,null,null,null,null,null,null,null,null,null,null,null,null,null,null,null,null,null,null,null,null,null,null,null,null,"【組合せ・時間割】",null,null,null,null,null,null,null,null,null,null,null,null,null,null,null,null,null,null,null,null,null,null,null,null,null,null,null,"【組合せ・時間割】"]
["試合時間",null,null,null,null,null,null,null,"対戦相手",null,null,null,"副審",null,null,null,null,null,null,null,"対戦相手",null,null,null,"副審",null,null,null,"試合時間",null,null,null,null,null,null,null,"対戦相手",null,null,null,"副審",null,null,null,null,null,null,null,"対戦相手",null,null,null,"副審",null,null,null,"試合時間",null,null,null,null,null,null,null,"対戦相手",null,null,null,"副審",null,null,null,null,null,null,null,"対戦相手",null,null,null,"副審"]
["①","10:00:00",null,"チーム名",null,{"$f":"D6","v":"日出サッカースポーツ少年団"},null,null,"-",{"$f":"D7","v":"ＫＩＮＧＳ　ＦＯＯＴＢＡＬＬＣＬＵＢ　Ｕ－１２"},null,null,{"$f":"J6","v":"ＦＣ安岐"},null,null,"チーム名",null,{"$f":"P6","v":"臼杵ＳＳＳ"},null,null,"-",{"$f":"P7","v":"碩田サッカースポーツ少年団"},null,null,{"$f":"V6","v":"千怒サッカースポーツ少年団"},null,null,null,"①","10:00:00",null,"チーム名",null,{"$f":"AF6","v":"ＦＣアリアーレ"},null,null,"-",{"$f":"AF7","v":"スマイス　セレソン　スポーツクラブ"},null,null,{"$f":"AL6","v":"太陽スポーツクラブ大分西"},null,null,"チーム名",null,{"$f":"AR6","v":"竹田直入ＦＣ"},null,null,"-",{"$f":"AR7","v":"ドリームキッズフットボールクラブ"},null,null,{"$f":"AX6","v":"別保ＳＦＣ"},null,null,null,"①","10:00:00",null,"チーム名",null,{"$f":"BH6","v":"ＦＣ中津ジュニア"},null,null,"-",{"$f":"BH7","v":"由布川サッカースポーツ少年団"},null,null,{"$f":"BN6","v":"中津沖代ＪＳＣ"},null,null,"チーム名",null,{"$f":"BT6","v":"ＦＣ　ＷＡＹＳ"},null,null,"-",{"$f":"BT7","v":"リノスフットボールクラブ　Ｕ－１２"},null,null,{"$f":"BZ6","v":"四日市南ＳＳＣ"}]
[null,null,null,"得失点",null,1,null,null,"-",10,null,null,{"$f":"J7","v":"大分トリニータＵ－１２"},null,null,"得失点",null,3,null,null,"-",4,null,null,{"$f":"V7","v":"カティオーラフットボールクラブＵ－１２"},null,null,null,null,null,null,"得失点",null,0,null,null,"-",2,null,null,{"$f":"AL7","v":"判田サッカースポーツ少年団"},null,null,"得失点",null,0,null,null,"-",4,null,null,{"$f":"AX7","v":"明治サッカースポーツ少年団"},null,null,null,null,null,null,"得失点",null,0,null,null,"-",2,null,null,{"$f":"BN7","v":"日岡サッカースポーツ少年団"},null,null,"得失点",null,4,null,null,"-",2,null,null,{"$f":"BZ7","v":"ブルーウイングフットボールクラブ"}]
["②","11:00:00",null,"チーム名",null,{"$f":"J6","v":"ＦＣ安岐"},null,null,"-",{"$f":"J7","v":"大分トリニータＵ－１２"},null,null,{"$f":"D6","v":"日出サッカースポーツ少年団"},null,null,"チーム名",null,{"$f":"V6","v":"千怒サッカースポーツ少年団"},null,null,"-",{"$f":"V7","v":"カティオーラフットボールクラブＵ－１２"},null,null,{"$f":"P6","v":"臼杵ＳＳＳ"},null,null,null,"②","11:00:00",null,"チーム名",null,{"$f":"AL6","v":"太陽スポーツクラブ大分西"},null,null,"-",{"$f":"AL7","v":"判田サッカースポーツ少年団"},null,null,{"$f":"AF6","v":"ＦＣアリアーレ"},null,null,"チーム名",null,{"$f":"AX6","v":"別保ＳＦＣ"},null,null,"-",{"$f":"AX7","v":"明治サッカースポーツ少年団"},null,null,{"$f":"AR6","v":"竹田直入ＦＣ"},null,null,null,"②","11:00:00",null,"チーム名",null,{"$f":"BN6","v":"中津沖代ＪＳＣ"},null,null,"-",{"$f":"BN7","v":"日岡サッカースポーツ少年団"},null,null,{"$f":"BH6","v":"ＦＣ中津ジュニア"},null,null,"チーム名",null,{"$f":"BZ6","v":"四日市南ＳＳＣ"},null,null,"-",{"$f":"BZ7","v":"ブルーウイングフットボールクラブ"},null,null,{"$f":"BT6","v":"ＦＣ　ＷＡＹＳ"}]
[null,null,null,"得失点",null,0,null,null,"-",6,null,null,{"$f":"D7","v":"ＫＩＮＧＳ　ＦＯＯＴＢＡＬＬＣＬＵＢ　Ｕ－１２"},null,null,"得失点",null,0,null,null,"-",15,null,null,{"$f":"P7","v":"碩田サッカースポーツ少年団"},null,null,null,null,null,null,"得失点",null,5,null,null,"-",0,null,null,{"$f":"AF7","v":"スマイス　セレソン　スポーツクラブ"},null,null,"得失点",null,3,null,null,"-",3,null,null,{"$f":"AR7","v":"ドリームキッズフットボールクラブ"},null,null,null,null,null,null,"得失点",null,6,null,null,"-",1,null,null,{"$f":"BH7","v":"由布川サッカースポーツ少年団"},null,null,"得失点",null,0,null,null,"-",3,null,null,{"$f":"BT7","v":"リノスフットボールクラブ　Ｕ－１２"}]
["③","12:00:00",null,"チーム名",null,{"$f":"D7","v":"ＫＩＮＧＳ　ＦＯＯＴＢＡＬＬＣＬＵＢ　Ｕ－１２"},null,null,"-",{"$f":"D8","v":"ＦＣ　ＲＥＧＡＴＥ"},null,null,{"$f":"J7","v":"大分トリニータＵ－１２"},null,null,"チーム名",null,{"$f":"P7","v":"碩田サッカースポーツ少年団"},null,null,"-",{"$f":"P8","v":"弥生少年サッカークラブ"},null,null,{"$f":"V7","v":"カティオーラフットボールクラブＵ－１２"},null,null,null,"③","12:00:00",null,"チーム名",null,{"$f":"AF7","v":"スマイス　セレソン　スポーツクラブ"},null,null,"-",{"$f":"AF8","v":"スマイス・セレソン"},null,null,{"$f":"AL7","v":"判田サッカースポーツ少年団"},null,null,"チーム名",null,{"$f":"AR7","v":"ドリームキッズフットボールクラブ"},null,null,"-",{"$f":"AR8","v":"八坂少年サッカークラブ"},null,null,{"$f":"AX7","v":"明治サッカースポーツ少年団"},null,null,null,"③","12:00:00",null,"チーム名",null,{"$f":"BH7","v":"由布川サッカースポーツ少年団"},null,null,"-",{"$f":"BH8","v":"緑丘サッカースポーツ少年団"},null,null,{"$f":"BN7","v":"日岡サッカースポーツ少年団"},null,null,"チーム名",null,{"$f":"BT7","v":"リノスフットボールクラブ　Ｕ－１２"},null,null,"-",{"$f":"BT8","v":"Ｓｈｙｎｔ　ＦＣ"},null,null,{"$f":"BZ7","v":"ブルーウイングフットボールクラブ"}]
[null,null,null,"得失点",null,3,null,null,"-",1,null,null,{"$f":"J8","v":"大道サッカースポーツ少年団"},null,null,"得失点",null,0,null,null,"-",4,null,null,{"$f":"V8","v":"ＭＳＳ"},null,null,null,null,null,null,"得失点",null,0,null,null,"-",4,null,null,{"$f":"AL8","v":"明野東サッカースポーツ少年団"},null,null,"得失点",null,3,null,null,"-",0,null,null,{"$f":"AX8","v":"別府フットボールクラブ．ミネルバＵ－１２"},null,null,null,null,null,null,"得失点",null,5,null,null,"-",2,null,null,{"$f":"BN8","v":"玖珠サッカースポーツ少年団"},null,null,"得失点",null,0,null,null,"-",0,null,null,{"$f":"BZ8","v":"鶴見少年サッカークラブ"}]
["④","13:00:00",null,"チーム名",null,{"$f":"J7","v":"大分トリニータＵ－１２"},null,null,"-",{"$f":"J8","v":"大道サッカースポーツ少年団"},null,null,{"$f":"D7","v":"ＫＩＮＧＳ　ＦＯＯＴＢＡＬＬＣＬＵＢ　Ｕ－１２"},null,null,"チーム名",null,{"$f":"V7","v":"カティオーラフットボールクラブＵ－１２"},null,null,"-",{"$f":"V8","v":"ＭＳＳ"},null,null,{"$f":"P7","v":"碩田サッカースポーツ少年団"},null,null,null,"④","13:00:00",null,"チーム名",null,{"$f":"AL7","v":"判田サッカースポーツ少年団"},null,null,"-",{"$f":"AL8","v":"明野東サッカースポーツ少年団"},null,null,{"$f":"AF7","v":"スマイス　セレソン　スポーツクラブ"},null,null,"チーム名",null,{"$f":"AX7","v":"明治サッカースポーツ少年団"},null,null,"-",{"$f":"AX8","v":"別府フットボールクラブ．ミネルバＵ－１２"},null,null,{"$f":"AR7","v":"ドリームキッズフットボールクラブ"},null,null,null,"④","13:00:00",null,"チーム名",null,{"$f":"BN7","v":"日岡サッカースポーツ少年団"},null,null,"-",{"$f":"BN8","v":"玖珠サッカースポーツ少年団"},null,null,{"$f":"BH7","v":"由布川サッカースポーツ少年団"},null,null,"チーム名",null,{"$f":"BZ7","v":"ブルーウイングフットボールクラブ"},null,null,"-",{"$f":"BZ8","v":"鶴見少年サッカークラブ"},null,null,{"$f":"BT7","v":"リノスフットボールクラブ　Ｕ－１２"}]
[null,null,null,"得失点",null,4,null,null,"-",0,null,null,{"$f":"D8","v":"ＦＣ　ＲＥＧＡＴＥ"},null,null,"得失点",null,2,null,null,"-",1,null,null,{"$f":"P8","v":"弥生少年サッカークラブ"},null,null,null,null,null,null,"得失点",null,2,null,null,"-",3,null,null,{"$f":"AF8","v":"スマイス・セレソン"},null,null,"得失点",null,0,null,null,"-",6,null,null,{"$f":"AR8","v":"八坂少年サッカークラブ"},null,null,null,null,null,null,"得失点",null,1,null,null,"-",2,null,null,{"$f":"BH8","v":"緑丘サッカースポーツ少年団"},null,null,"得失点",null,4,null,null,"-",1,null,null,{"$f":"BT8","v":"Ｓｈｙｎｔ　ＦＣ"}]
["⑤","14:00:00",null,"チーム名",null,{"$f":"D8","v":"ＦＣ　ＲＥＧＡＴＥ"},null,null,"-",{"$f":"D6","v":"日出サッカースポーツ少年団"},null,null,{"$f":"J8","v":"大道サッカースポーツ少年団"},null,null,"チーム名",null,{"$f":"P8","v":"弥生少年サッカークラブ"},null,null,"-",{"$f":"P6","v":"臼杵ＳＳＳ"},null,null,{"$f":"V8","v":"ＭＳＳ"},null,null,null,"⑤","14:00:00",null,"チーム名",null,{"$f":"AF8","v":"スマイス・セレソン"},null,null,"-",{"$f":"AF6","v":"ＦＣアリアーレ"},null,null,{"$f":"AL8","v":"明野東サッカースポーツ少年団"},null,null,"チーム名",null,{"$f":"AR8","v":"八坂少年サッカークラブ"},null,null,"-",{"$f":"AR6","v":"竹田直入ＦＣ"},null,null,{"$f":"AX8","v":"別府フットボールクラブ．ミネルバＵ－１２"},null,null,null,"⑤","14:00:00",null,"チーム名",null,{"$f":"BH8","v":"緑丘サッカースポーツ少年団"},null,null,"-",{"$f":"BH6","v":"ＦＣ中津ジュニア"},null,null,{"$f":"BN8","v":"玖珠サッカースポーツ少年団"},null,null,"チーム名",null,{"$f":"BT8","v":"Ｓｈｙｎｔ　ＦＣ"},null,null,"-",{"$f":"BT6","v":"ＦＣ　ＷＡＹＳ"},null,null,{"$f":"BZ8","v":"鶴見少年サッカークラブ"}]
[null,null,null,"得失点",null,1,null,null,"-",2,null,null,{"$f":"J6","v":"ＦＣ安岐"},null,null,"得失点",null,5,null,null,"-",0,null,null,{"$f":"V6","v":"千怒サッカースポーツ少年団"},null,null,null,null,null,null,"得失点",null,3,null,null,"-",1,null,null,{"$f":"AL6","v":"太陽スポーツクラブ大分西"},null,null,"得失点",null,0,null,null,"-",1,null,null,{"$f":"AX6","v":"別保ＳＦＣ"},null,null,null,null,null,null,"得失点",null,1,null,null,"-",6,null,null,{"$f":"BN6","v":"中津沖代ＪＳＣ"},null,null,"得失点",null,1,null,null,"-",1,null,null,{"$f":"BZ6","v":"四日市南ＳＳＣ"}]
["⑥","15:00:00",null,"チーム名",null,{"$f":"J8","v":"大道サッカースポーツ少年団"},null,null,"-",{"$f":"J6","v":"ＦＣ安岐"},null,null,{"$f":"D8","v":"ＦＣ　ＲＥＧＡＴＥ"},null,null,"チーム名",null,{"$f":"V8","v":"ＭＳＳ"},null,null,"-",{"$f":"V6","v":"千怒サッカースポーツ少年団"},null,null,{"$f":"P8","v":"弥生少年サッカークラブ"},null,null,null,"⑥","15:00:00",null,"チーム名",null,{"$f":"AL8","v":"明野東サッカースポーツ少年団"},null,null,"-",{"$f":"AL6","v":"太陽スポーツクラブ大分西"},null,null,{"$f":"AF8","v":"スマイス・セレソン"},null,null,"チーム名",null,{"$f":"AX8","v":"別府フットボールクラブ．ミネルバＵ－１２"},null,null,"-",{"$f":"AX6","v":"別保ＳＦＣ"},null,null,{"$f":"AR8","v":"八坂少年サッカークラブ"},null,null,null,"⑥","15:00:00",null,"チーム名",null,{"$f":"BN8","v":"玖珠サッカースポーツ少年団"},null,null,"-",{"$f":"BN6","v":"中津沖代ＪＳＣ"},null,null,{"$f":"BH8","v":"緑丘サッカースポーツ少年団"},null,null,"チーム名",null,{"$f":"BZ8","v":"鶴見少年サッカークラブ"},null,null,"-",{"$f":"BZ6","v":"四日市南ＳＳＣ"},null,null,{"$f":"BT8","v":"Ｓｈｙｎｔ　ＦＣ"}]
[null,null,null,"得失点",null,4,null,null,"-",0,null,null,{"$f":"D6","v":"日出サッカースポーツ少年団"},null,null,"得失点",null,8,null,null,"-",0,null,null,{"$f":"P6","v":"臼杵ＳＳＳ"},null,null,null,null,null,null,"得失点",null,1,null,null,"-",3,null,null,{"$f":"AF6","v":"ＦＣアリアーレ"},null,null,"得失点",null,3,null,null,"-",0,null,null,{"$f":"AR6","v":"竹田直入ＦＣ"},null,null,null,null,null,null,"得失点",null,1,null,null,"-",6,null,null,{"$f":"BH6","v":"ＦＣ中津ジュニア"},null,null,"得失点",null,0,null,null,"-",8,null,null,{"$f":"BT6","v":"ＦＣ　ＷＡＹＳ"}]
[]
[]
[]
[]
[]
[]
[]
[]
[]
[]
[]
[]
[]
[]
[]
[]
[]
[]
[null,null,null,null,null,"勝点表","勝",3,null,"引分",1,null,"負",0,null,null,null,null,null,null,null,null,null,null,null,null,null,null,null,null,null,null,null,"勝点表","勝",3,null,"引分",1,null,"負",0,null,null,null,null,null,null,null,null,null,null,null,null,null,null,null,null,null,null,null,"勝点表","勝",3,null,"引分",1,null,"負",0]
[]
[{"$f":"D4","v":"D"},null,null,{"$f":"A46","v":"日出サッカースポーツ少年団"},null,null,{"$f":"A48","v":"ＫＩＮＧＳ　ＦＯＯＴＢＡＬＬＣＬＵＢ　Ｕ－１２"},null,null,{"$f":"A50","v":"ＦＣ　ＲＥＧＡＴＥ"},null,null,"勝","引\n分","敗","得\n点","失\n点","勝\n点","勝点\n順位",null,"得失\n点差",null,"得失\n順位",null,"ﾄｰﾀﾙ\n順位",null,null,null,{"$f":"AF4","v":"E"},null,null,{"$f":"AC46","v":"ＦＣアリアーレ"},null,null,{"$f":"AC48","v":"スマイス　セレソン　スポーツクラブ"},null,null,{"$f":"AC50","v":"スマイス・セレソン"},null,null,"勝","引\n分","敗","得\n点","失\n点","勝\n点","勝点\n順位",null,"得失\n点差",null,"得失\n順位",null,"ﾄｰﾀﾙ\n順位",null,null,null,{"$f":"BH4","v":"B"},null,null,{"$f":"BE46","v":"ＦＣ中津ジュニア"},null,null,{"$f":"BE48","v":"由布川サッカースポーツ少年団"},null,null,{"$f":"BE50","v":"緑丘サッカースポーツ少年団"},null,null,"勝","引\n分","敗","得\n点","失\n点","勝\n点","勝点\n順位",null,"得失\n点差",null,"得失\n順位",null,"ﾄｰﾀﾙ\n順位"]
[{"$f":"D6","v":"日出サッカースポーツ少年団"},"星取表",null,null,null,null,null,{"$f":"IF(G47=\"\",\"\",IF(G47>I47,\"○\",IF(G47<I47,\"●\",IF(G47=I47,\"△\"))))","v":"●"},null,null,{"$f":"IF(J47=\"\",\"\",IF(J47>L47,\"○\",IF(J47<L47,\"●\",IF(J47=L47,\"△\"))))","v":"○"},null,{"$f":"COUNTIF(D46:L46,\"○\")","v":1},{"$f":"COUNTIF(D46:L46,\"△\")+COUNTIF(D46:L46,\"▲\")","v":0},{"$f":"COUNTIF(D46:L46,\"●\")","v":1},{"$f":"SUM(D47,G47,J47)","v":3},{"$f":"SUM(F47,I47,L47)","v":11},{"$f":"(M46*3)+(N46*1)","v":3},{"$f":"RANK(R46,R$46:R$51)","v":2},"位",{"$f":"P46-Q46","v":-8},null,{"$f":"RANK(U46,U$46:U$51)","v":3},"位",2,null,null,null,{"$f":"AF6","v":"ＦＣアリアーレ"},"星取表",null,null,null,null,null,{"$f":"IF(AI47=\"\",\"\",IF(AI47>AK47,\"○\",IF(AI47<AK47,\"●\",IF(AI47=AK47,\"△\"))))","v":"●"},null,null,{"$f":"IF(AL47=\"\",\"\",IF(AL47>AN47,\"○\",IF(AL47<AN47,\"●\",IF(AL47=AN47,\"△\"))))","v":"●"},null,{"$f":"COUNTIF(AF46:AN46,\"○\")","v":0},{"$f":"COUNTIF(AF46:AN46,\"△\")+COUNTIF(AF46:AN46,\"▲\")","v":0},{"$f":"COUNTIF(AF46:AN46,\"●\")","v":2},{"$f":"SUM(AF47,AI47,AL47)","v":1},{"$f":"SUM(AH47,AK47,AN47)","v":5},{"$f":"(AO46*3)+(AP46*1)","v":0},{"$f":"RANK(AT46,AT$46:AT$51)","v":3},"位",{"$f":"AR46-AS46","v":-4},null,{"$f":"RANK(AW46,AW$46:AW$51)","v":3},"位",3,null,null,null,{"$f":"BH6","v":"ＦＣ中津ジュニア"},"星取表",null,null,null,null,null,{"$f":"IF(BK47=\"\",\"\",IF(BK47>BM47,\"○\",IF(BK47<BM47,\"●\",IF(BK47=BM47,\"△\"))))","v":"●"},null,null,{"$f":"IF(BN47=\"\",\"\",IF(BN47>BP47,\"○\",IF(BN47<BP47,\"●\",IF(BN47=BP47,\"△\"))))","v":"○"},null,{"$f":"COUNTIF(BH46:BP46,\"○\")","v":1},{"$f":"COUNTIF(BH46:BP46,\"△\")+COUNTIF(BH46:BP46,\"▲\")","v":0},{"$f":"COUNTIF(BH46:BP46,\"●\")","v":1},{"$f":"SUM(BH47,BK47,BN47)","v":6},{"$f":"SUM(BJ47,BM47,BP47)","v":3},{"$f":"(BQ46*3)+(BR46*1)","v":3},{"$f":"RANK(BV46,BV$46:BV$51)","v":2},"位",{"$f":"BT46-BU46","v":3},null,{"$f":"RANK(BY46,BY$46:BY$51)","v":2},"位",2]
[null,"得失点",null,null,null,null,{"$f":"F14","v":1},"-",{"$f":"J14","v":10},{"$f":"J22","v":2},"-",{"$f":"F22","v":1},null,null,null,null,null,null,null,null,null,null,null,null,null,null,null,null,null,"得失点",null,null,null,null,{"$f":"AH14","v":0},"-",{"$f":"AL14","v":2},{"$f":"AL22","v":1},"-",{"$f":"AH22","v":3},null,null,null,null,null,null,null,null,null,null,null,null,null,null,null,null,null,"得失点",null,null,null,null,{"$f":"BJ14","v":0},"-",{"$f":"BN14","v":2},{"$f":"BN22","v":6},"-",{"$f":"BJ22","v":1}]
[{"$f":"D7","v":"ＫＩＮＧＳ　ＦＯＯＴＢＡＬＬＣＬＵＢ　Ｕ－１２"},"星取表",null,null,{"$f":"IF(D49=\"\",\"\",IF(D49>F49,\"○\",IF(D49<F49,\"●\",IF(D49=F49,\"△\"))))","v":"○"},null,null,null,null,null,{"$f":"IF(J49=\"\",\"\",IF(J49>L49,\"○\",IF(J49<L49,\"●\",IF(J49=L49,\"△\"))))","v":"○"},null,{"$f":"COUNTIF(D48:L48,\"○\")","v":2},{"$f":"COUNTIF(D48:L48,\"△\")+COUNTIF(D48:L48,\"▲\")","v":0},{"$f":"COUNTIF(D48:L48,\"●\")","v":0},{"$f":"SUM(D49,G49,J49)","v":13},{"$f":"SUM(F49,I49,L49)","v":2},{"$f":"(M48*3)+(N48*1)","v":6},{"$f":"RANK(R48,R$46:R$51)","v":1},"位",{"$f":"P48-Q48","v":11},null,{"$f":"RANK(U48,U$46:U$51)","v":1},"位",1,null,null,null,{"$f":"AF7","v":"スマイス　セレソン　スポーツクラブ"},"星取表",null,null,{"$f":"IF(AF49=\"\",\"\",IF(AF49>AH49,\"○\",IF(AF49<AH49,\"●\",IF(AF49=AH49,\"△\"))))","v":"○"},null,null,null,null,null,{"$f":"IF(AL49=\"\",\"\",IF(AL49>AN49,\"○\",IF(AL49<AN49,\"●\",IF(AL49=AN49,\"△\"))))","v":"●"},null,{"$f":"COUNTIF(AF48:AN48,\"○\")","v":1},{"$f":"COUNTIF(AF48:AN48,\"△\")+COUNTIF(AF48:AN48,\"▲\")","v":0},{"$f":"COUNTIF(AF48:AN48,\"●\")","v":1},{"$f":"SUM(AF49,AI49,AL49)","v":2},{"$f":"SUM(AH49,AK49,AN49)","v":4},{"$f":"(AO48*3)+(AP48*1)","v":3},{"$f":"RANK(AT48,AT$46:AT$51)","v":2},"位",{"$f":"AR48-AS48","v":-2},null,{"$f":"RANK(AW48,AW$46:AW$51)","v":2},"位",2,null,null,null,{"$f":"BH7","v":"由布川サッカースポーツ少年団"},"星取表",null,null,{"$f":"IF(BH49=\"\",\"\",IF(BH49>BJ49,\"○\",IF(BH49<BJ49,\"●\",IF(BH49=BJ49,\"△\"))))","v":"○"},null,null,null,null,null,{"$f":"IF(BN49=\"\",\"\",IF(BN49>BP49,\"○\",IF(BN49<BP49,\"●\",IF(BN49=BP49,\"△\"))))","v":"○"},null,{"$f":"COUNTIF(BH48:BP48,\"○\")","v":2},{"$f":"COUNTIF(BH48:BP48,\"△\")+COUNTIF(BH48:BP48,\"▲\")","v":0},{"$f":"COUNTIF(BH48:BP48,\"●\")","v":0},{"$f":"SUM(BH49,BK49,BN49)","v":7},{"$f":"SUM(BJ49,BM49,BP49)","v":2},{"$f":"(BQ48*3)+(BR48*1)","v":6},{"$f":"RANK(BV48,BV$46:BV$51)","v":1},"位",{"$f":"BT48-BU48","v":5},null,{"$f":"RANK(BY48,BY$46:BY$51)","v":1},"位",1]
[null,"得失点",null,{"$f":"I47","v":10},"-",{"$f":"G47","v":1},null,null,null,{"$f":"F18","v":3},"-",{"$f":"J18","v":1},null,null,null,null,null,null,null,null,null,null,null,null,null,null,null,null,null,"得失点",null,{"$f":"AK47","v":2},"-",{"$f":"AI47","v":0},null,null,null,{"$f":"AH18","v":0},"-",{"$f":"AL18","v":4},null,null,null,null,null,null,null,null,null,null,null,null,null,null,null,null,null,"得失点",null,{"$f":"BM47","v":2},"-",{"$f":"BK47","v":0},null,null,null,{"$f":"BJ18","v":5},"-",{"$f":"BN18","v":2}]
[{"$f":"D8","v":"ＦＣ　ＲＥＧＡＴＥ"},"星取表",null,null,{"$f":"IF(D51=\"\",\"\",IF(D51>F51,\"○\",IF(D51<F51,\"●\",IF(D51=F51,\"△\"))))","v":"●"},null,null,{"$f":"IF(G51=\"\",\"\",IF(G51>I51,\"○\",IF(G51<I51,\"●\",IF(G51=I51,\"△\"))))","v":"●"},null,null,null,null,{"$f":"COUNTIF(D50:L50,\"○\")","v":0},{"$f":"COUNTIF(D50:L50,\"△\")+COUNTIF(D50:L50,\"▲\")","v":0},{"$f":"COUNTIF(D50:L50,\"●\")","v":2},{"$f":"SUM(D51,G51,J51)","v":2},{"$f":"SUM(F51,I51,L51)","v":5},{"$f":"(M50*3)+(N50*1)","v":0},{"$f":"RANK(R50,R$46:R$51)","v":3},"位",{"$f":"P50-Q50","v":-3},null,{"$f":"RANK(U50,U$46:U$51)","v":2},"位",3,null,null,null,{"$f":"AF8","v":"スマイス・セレソン"},"星取表",null,null,{"$f":"IF(AF51=\"\",\"\",IF(AF51>AH51,\"○\",IF(AF51<AH51,\"●\",IF(AF51=AH51,\"△\"))))","v":"○"},null,null,{"$f":"IF(AI51=\"\",\"\",IF(AI51>AK51,\"○\",IF(AI51<AK51,\"●\",IF(AI51=AK51,\"△\"))))","v":"○"},null,null,null,null,{"$f":"COUNTIF(AF50:AN50,\"○\")","v":2},{"$f":"COUNTIF(AF50:AN50,\"△\")+COUNTIF(AF50:AN50,\"▲\")","v":0},{"$f":"COUNTIF(AF50:AN50,\"●\")","v":0},{"$f":"SUM(AF51,AI51,AL51)","v":7},{"$f":"SUM(AH51,AK51,AN51)","v":1},{"$f":"(AO50*3)+(AP50*1)","v":6},{"$f":"RANK(AT50,AT$46:AT$51)","v":1},"位",{"$f":"AR50-AS50","v":6},null,{"$f":"RANK(AW50,AW$46:AW$51)","v":1},"位",1,null,null,null,{"$f":"BH8","v":"緑丘サッカースポーツ少年団"},"星取表",null,null,{"$f":"IF(BH51=\"\",\"\",IF(BH51>BJ51,\"○\",IF(BH51<BJ51,\"●\",IF(BH51=BJ51,\"△\"))))","v":"●"},null,null,{"$f":"IF(BK51=\"\",\"\",IF(BK51>BM51,\"○\",IF(BK51<BM51,\"●\",IF(BK51=BM51,\"△\"))))","v":"●"},null,null,null,null,{"$f":"COUNTIF(BH50:BP50,\"○\")","v":0},{"$f":"COUNTIF(BH50:BP50,\"△\")+COUNTIF(BH50:BP50,\"▲\")","v":0},{"$f":"COUNTIF(BH50:BP50,\"●\")","v":2},{"$f":"SUM(BH51,BK51,BN51)","v":3},{"$f":"SUM(BJ51,BM51,BP51)","v":11},{"$f":"(BQ50*3)+(BR50*1)","v":0},{"$f":"RANK(BV50,BV$46:BV$51)","v":3},"位",{"$f":"BT50-BU50","v":-8},null,{"$f":"RANK(BY50,BY$46:BY$51)","v":3},"位",3]
[null,"得失点",null,{"$f":"L47","v":1},"-",{"$f":"J47","v":2},{"$f":"L49","v":1},"-",{"$f":"J49","v":3},null,null,null,null,null,null,null,null,null,null,null,null,null,null,null,null,null,null,null,null,"得失点",null,{"$f":"AN47","v":3},"-",{"$f":"AL47","v":1},{"$f":"AN49","v":4},"-",{"$f":"AL49","v":0},null,null,null,null,null,null,null,null,null,null,null,null,null,null,null,null,null,null,null,null,"得失点",null,{"$f":"BP47","v":1},"-",{"$f":"BN47","v":6},{"$f":"BP49","v":2},"-",{"$f":"BN49","v":5}]
[]
[{"$f":"J4","v":"G"},null,null,{"$f":"A54","v":"ＦＣ安岐"},null,null,{"$f":"A56","v":"大分トリニータＵ－１２"},null,null,{"$f":"A58","v":"大道サッカースポーツ少年団"},null,null,"勝","引\n分","敗","得\n点","失\n点","勝\n点","勝点\n順位",null,"得失\n点差",null,"得失\n順位",null,"ﾄｰﾀﾙ\n順位",null,null,null,{"$f":"AL4","v":"L"},null,null,{"$f":"AC54","v":"太陽スポーツクラブ大分西"},null,null,{"$f":"AC56","v":"判田サッカースポーツ少年団"},null,null,{"$f":"AC58","v":"明野東サッカースポーツ少年団"},null,null,"勝","引\n分","敗","得\n点","失\n点","勝\n点","勝点\n順位",null,"得失\n点差",null,"得失\n順位",null,"ﾄｰﾀﾙ\n順位",null,null,null,{"$f":"BN4","v":"H"},null,null,{"$f":"BE54","v":"中津沖代ＪＳＣ"},null,null,{"$f":"BE56","v":"日岡サッカースポーツ少年団"},null,null,{"$f":"BE58","v":"玖珠サッカースポーツ少年団"},null,null,"勝","引\n分","敗","得\n点","失\n点","勝\n点","勝点\n順位",null,"得失\n点差",null,"得失\n順位",null,"ﾄｰﾀﾙ\n順位"]
[{"$f":"J6","v":"ＦＣ安岐"},"星取表",null,null,null,null,null,{"$f":"IF(G55=\"\",\"\",IF(G55>I55,\"○\",IF(G55<I55,\"●\",IF(G55=I55,\"△\"))))","v":"●"},null,null,{"$f":"IF(J55=\"\",\"\",IF(J55>L55,\"○\",IF(J55<L55,\"●\",IF(J55=L55,\"△\"))))","v":"●"},null,{"$f":"COUNTIF(D54:L54,\"○\")","v":0},{"$f":"COUNTIF(D54:L54,\"△\")+COUNTIF(D54:L54,\"▲\")","v":0},{"$f":"COUNTIF(D54:L54,\"●\")","v":2},{"$f":"SUM(D55,G55,J55)","v":0},{"$f":"SUM(F55,I55,L55)","v":10},{"$f":"(M54*3)+(N54*1)","v":0},{"$f":"RANK(R54,$R$54:$R$59)","v":3},"位",{"$f":"P54-Q54","v":-10},null,{"$f":"RANK(U54,$U$54:$V$59)","v":3},"位",3,null,null,null,{"$f":"AL6","v":"太陽スポーツクラブ大分西"},"星取表",null,null,null,null,null,{"$f":"IF(AI55=\"\",\"\",IF(AI55>AK55,\"○\",IF(AI55<AK55,\"●\",IF(AI55=AK55,\"△\"))))","v":"○"},null,null,{"$f":"IF(AL55=\"\",\"\",IF(AL55>AN55,\"○\",IF(AL55<AN55,\"●\",IF(AL55=AN55,\"△\"))))","v":"○"},null,{"$f":"COUNTIF(AF54:AN54,\"○\")","v":2},{"$f":"COUNTIF(AF54:AN54,\"△\")+COUNTIF(AF54:AN54,\"▲\")","v":0},{"$f":"COUNTIF(AF54:AN54,\"●\")","v":0},{"$f":"SUM(AF55,AI55,AL55)","v":8},{"$f":"SUM(AH55,AK55,AN55)","v":1},{"$f":"(AO54*3)+(AP54*1)","v":6},{"$f":"RANK(AT54,$AT$54:$AT$59)","v":1},"位",{"$f":"AR54-AS54","v":7},null,{"$f":"RANK(AW54,$AW$54:$AW$59)","v":1},"位",1,null,null,null,{"$f":"BN6","v":"中津沖代ＪＳＣ"},"星取表",null,null,null,null,null,{"$f":"IF(BK55=\"\",\"\",IF(BK55>BM55,\"○\",IF(BK55<BM55,\"●\",IF(BK55=BM55,\"△\"))))","v":"○"},null,null,{"$f":"IF(BN55=\"\",\"\",IF(BN55>BP55,\"○\",IF(BN55<BP55,\"●\",IF(BN55=BP55,\"△\"))))","v":"○"},null,{"$f":"COUNTIF(BH54:BP54,\"○\")","v":2},{"$f":"COUNTIF(BH54:BP54,\"△\")+COUNTIF(BH54:BP54,\"▲\")","v":0},{"$f":"COUNTIF(BH54:BP54,\"●\")","v":0},{"$f":"SUM(BH55,BK55,BN55)","v":12},{"$f":"SUM(BJ55,BM55,BP55)","v":2},{"$f":"(BQ54*3)+(BR54*1)","v":6},{"$f":"RANK(BV54,$BV$54:$BV$59)","v":1},"位",{"$f":"BT54-BU54","v":10},null,{"$f":"RANK(BY54,$BY$54:$BY$59)","v":1},"位",1]
[null,"得失点",null,null,null,null,{"$f":"F16","v":0},"-",{"$f":"J16","v":6},{"$f":"J24","v":0},"-",{"$f":"F24","v":4},null,null,null,null,null,null,null,null,null,null,null,null,null,null,null,null,null,"得失点",null,null,null,null,{"$f":"AH16","v":5},"-",{"$f":"AL16","v":0},{"$f":"AL24","v":3},"-",{"$f":"AH24","v":1},null,null,null,null,null,null,null,null,null,null,null,null,null,null,null,null,null,"得失点",null,null,null,null,{"$f":"BJ16","v":6},"-",{"$f":"BN16","v":1},{"$f":"BN24","v":6},"-",{"$f":"BJ24","v":1}]
[{"$f":"J7","v":"大分トリニータＵ－１２"},"星取表",null,null,{"$f":"IF(D57=\"\",\"\",IF(D57>F57,\"○\",IF(D57<F57,\"●\",IF(D57=F57,\"△\"))))","v":"○"},null,null,null,null,null,{"$f":"IF(J57=\"\",\"\",IF(J57>L57,\"○\",IF(J57<L57,\"●\",IF(J57=L57,\"△\"))))","v":"○"},null,{"$f":"COUNTIF(D56:L56,\"○\")","v":2},{"$f":"COUNTIF(D56:L56,\"△\")+COUNTIF(D56:L56,\"▲\")","v":0},{"$f":"COUNTIF(D56:L56,\"●\")","v":0},{"$f":"SUM(D57,G57,J57)","v":10},{"$f":"SUM(F57,I57,L57)","v":0},{"$f":"(M56*3)+(N56*1)","v":6},{"$f":"RANK(R56,$R$54:$R$59)","v":1},"位",{"$f":"P56-Q56","v":10},null,{"$f":"RANK(U56,$U$54:$V$59)","v":1},"位",1,null,null,null,{"$f":"AL7","v":"判田サッカースポーツ少年団"},"星取表",null,null,{"$f":"IF(AF57=\"\",\"\",IF(AF57>AH57,\"○\",IF(AF57<AH57,\"●\",IF(AF57=AH57,\"△\"))))","v":"●"},null,null,null,null,null,{"$f":"IF(AL57=\"\",\"\",IF(AL57>AN57,\"○\",IF(AL57<AN57,\"●\",IF(AL57=AN57,\"△\"))))","v":"●"},null,{"$f":"COUNTIF(AF56:AN56,\"○\")","v":0},{"$f":"COUNTIF(AF56:AN56,\"△\")+COUNTIF(AF56:AN56,\"▲\")","v":0},{"$f":"COUNTIF(AF56:AN56,\"●\")","v":2},{"$f":"SUM(AF57,AI57,AL57)","v":2},{"$f":"SUM(AH57,AK57,AN57)","v":8},{"$f":"(AO56*3)+(AP56*1)","v":0},{"$f":"RANK(AT56,$AT$54:$AT$59)","v":3},"位",{"$f":"AR56-AS56","v":-6},null,{"$f":"RANK(AW56,$AW$54:$AW$59)","v":3},"位",3,null,null,null,{"$f":"BN7","v":"日岡サッカースポーツ少年団"},"星取表",null,null,{"$f":"IF(BH57=\"\",\"\",IF(BH57>BJ57,\"○\",IF(BH57<BJ57,\"●\",IF(BH57=BJ57,\"△\"))))","v":"●"},null,null,null,null,null,{"$f":"IF(BN57=\"\",\"\",IF(BN57>BP57,\"○\",IF(BN57<BP57,\"●\",IF(BN57=BP57,\"△\"))))","v":"●"},null,{"$f":"COUNTIF(BH56:BP56,\"○\")","v":0},{"$f":"COUNTIF(BH56:BP56,\"△\")+COUNTIF(BH56:BP56,\"▲\")","v":0},{"$f":"COUNTIF(BH56:BP56,\"●\")","v":2},{"$f":"SUM(BH57,BK57,BN57)","v":2},{"$f":"SUM(BJ57,BM57,BP57)","v":8},{"$f":"(BQ56*3)+(BR56*1)","v":0},{"$f":"RANK(BV56,$BV$54:$BV$59)","v":3},"位",{"$f":"BT56-BU56","v":-6},null,{"$f":"RANK(BY56,$BY$54:$BY$59)","v":3},"位",3]
[null,"得失点",null,{"$f":"I55","v":6},"-",{"$f":"G55","v":0},null,null,null,{"$f":"F20","v":4},"-",{"$f":"J20","v":0},null,null,null,null,null,null,null,null,null,null,null,null,null,null,null,null,null,"得失点",null,{"$f":"AK55","v":0},"-",{"$f":"AI55","v":5},null,null,null,{"$f":"AH20","v":2},"-",{"$f":"AL20","v":3},null,null,null,null,null,null,null,null,null,null,null,null,null,null,null,null,null,"得失点",null,{"$f":"BM55","v":1},"-",{"$f":"BK55","v":6},null,null,null,{"$f":"BJ20","v":1},"-",{"$f":"BN20","v":2}]
[{"$f":"J8","v":"大道サッカースポーツ少年団"},"星取表",null,null,{"$f":"IF(D59=\"\",\"\",IF(D59>F59,\"○\",IF(D59<F59,\"●\",IF(D59=F59,\"△\"))))","v":"○"},null,null,{"$f":"IF(G59=\"\",\"\",IF(G59>I59,\"○\",IF(G59<I59,\"●\",IF(G59=I59,\"△\"))))","v":"●"},null,null,null,null,{"$f":"COUNTIF(D58:L58,\"○\")","v":1},{"$f":"COUNTIF(D58:L58,\"△\")+COUNTIF(D58:L58,\"▲\")","v":0},{"$f":"COUNTIF(D58:L58,\"●\")","v":1},{"$f":"SUM(D59,G59,J59)","v":4},{"$f":"SUM(F59,I59,L59)","v":4},{"$f":"(M58*3)+(N58*1)","v":3},{"$f":"RANK(R58,$R$54:$R$59)","v":2},"位",{"$f":"P58-Q58","v":0},null,{"$f":"RANK(U58,$U$54:$V$59)","v":2},"位",2,null,null,null,{"$f":"AL8","v":"明野東サッカースポーツ少年団"},"星取表",null,null,{"$f":"IF(AF59=\"\",\"\",IF(AF59>AH59,\"○\",IF(AF59<AH59,\"●\",IF(AF59=AH59,\"△\"))))","v":"●"},null,null,{"$f":"IF(AI59=\"\",\"\",IF(AI59>AK59,\"○\",IF(AI59<AK59,\"●\",IF(AI59=AK59,\"△\"))))","v":"○"},null,null,null,null,{"$f":"COUNTIF(AF58:AN58,\"○\")","v":1},{"$f":"COUNTIF(AF58:AN58,\"△\")+COUNTIF(AF58:AN58,\"▲\")","v":0},{"$f":"COUNTIF(AF58:AN58,\"●\")","v":1},{"$f":"SUM(AF59,AI59,AL59)","v":4},{"$f":"SUM(AH59,AK59,AN59)","v":5},{"$f":"(AO58*3)+(AP58*1)","v":3},{"$f":"RANK(AT58,$AT$54:$AT$59)","v":2},"位",{"$f":"AR58-AS58","v":-1},null,{"$f":"RANK(AW58,$AW$54:$AW$59)","v":2},"位",2,null,null,null,{"$f":"BN8","v":"玖珠サッカースポーツ少年団"},"星取表",null,null,{"$f":"IF(BH59=\"\",\"\",IF(BH59>BJ59,\"○\",IF(BH59<BJ59,\"●\",IF(BH59=BJ59,\"△\"))))","v":"●"},null,null,{"$f":"IF(BK59=\"\",\"\",IF(BK59>BM59,\"○\",IF(BK59<BM59,\"●\",IF(BK59=BM59,\"△\"))))","v":"○"},null,null,null,null,{"$f":"COUNTIF(BH58:BP58,\"○\")","v":1},{"$f":"COUNTIF(BH58:BP58,\"△\")+COUNTIF(BH58:BP58,\"▲\")","v":0},{"$f":"COUNTIF(BH58:BP58,\"●\")","v":1},{"$f":"SUM(BH59,BK59,BN59)","v":3},{"$f":"SUM(BJ59,BM59,BP59)","v":7},{"$f":"(BQ58*3)+(BR58*1)","v":3},{"$f":"RANK(BV58,$BV$54:$BV$59)","v":2},"位",{"$f":"BT58-BU58","v":-4},null,{"$f":"RANK(BY58,$BY$54:$BY$59)","v":2},"位",2]
[null,"得失点",null,{"$f":"L55","v":4},"-",{"$f":"J55","v":0},{"$f":"L57","v":0},"-",{"$f":"J57","v":4},null,null,null,null,null,null,null,null,null,null,null,null,null,null,null,null,null,null,null,null,"得失点",null,{"$f":"AN55","v":1},"-",{"$f":"AL55","v":3},{"$f":"AN57","v":3},"-",{"$f":"AL57","v":2},null,null,null,null,null,null,null,null,null,null,null,null,null,null,null,null,null,null,null,null,"得失点",null,{"$f":"BP55","v":1},"-",{"$f":"BN55","v":6},{"$f":"BP57","v":2},"-",{"$f":"BN57","v":1}]
[]
[{"$f":"P4","v":"C"},null,null,{"$f":"A62","v":"臼杵ＳＳＳ"},null,null,{"$f":"A64","v":"碩田サッカースポーツ少年団"},null,null,{"$f":"A66","v":"弥生少年サッカークラブ"},null,null,"勝","引\n分","敗","得\n点","失\n点","勝\n点","勝点\n順位",null,"得失\n点差",null,"得失\n順位",null,"ﾄｰﾀﾙ\n順位",null,null,null,{"$f":"AR4","v":"A"},null,null,{"$f":"AC62","v":"竹田直入ＦＣ"},null,null,{"$f":"AC64","v":"ドリームキッズフットボールクラブ"},null,null,{"$f":"AC66","v":"八坂少年サッカークラブ"},null,null,"勝","引\n分","敗","得\n点","失\n点","勝\n点","勝点\n順位",null,"得失\n点差",null,"得失\n順位",null,"ﾄｰﾀﾙ\n順位",null,null,null,{"$f":"BT4","v":"F"},null,null,{"$f":"BE62","v":"ＦＣ　ＷＡＹＳ"},null,null,{"$f":"BE64","v":"リノスフットボールクラブ　Ｕ－１２"},null,null,{"$f":"BE66","v":"Ｓｈｙｎｔ　ＦＣ"},null,null,"勝","引\n分","敗","得\n点","失\n点","勝\n点","勝点\n順位",null,"得失\n点差",null,"得失\n順位",null,"ﾄｰﾀﾙ\n順位"]
[{"$f":"P6","v":"臼杵ＳＳＳ"},"星取表",null,null,null,null,null,{"$f":"IF(G63=\"\",\"\",IF(G63>I63,\"○\",IF(G63<I63,\"●\",IF(G63=I63,\"△\"))))","v":"●"},null,null,{"$f":"IF(J63=\"\",\"\",IF(J63>L63,\"○\",IF(J63<L63,\"●\",IF(J63=L63,\"△\"))))","v":"●"},null,{"$f":"COUNTIF(D62:L62,\"○\")","v":0},{"$f":"COUNTIF(D62:L62,\"△\")+COUNTIF(D62:L62,\"▲\")","v":0},{"$f":"COUNTIF(D62:L62,\"●\")","v":2},{"$f":"SUM(D63,G63,J63)","v":3},{"$f":"SUM(F63,I63,L63)","v":9},{"$f":"(M62*3)+(N62*1)","v":0},{"$f":"RANK(R62,$R$62:$R$67)","v":3},"位",{"$f":"P62-Q62","v":-6},null,{"$f":"RANK(U62,$U$62:$V$67)","v":3},"位",3,null,null,null,{"$f":"AR6","v":"竹田直入ＦＣ"},"星取表",null,null,null,null,null,{"$f":"IF(AI63=\"\",\"\",IF(AI63>AK63,\"○\",IF(AI63<AK63,\"●\",IF(AI63=AK63,\"△\"))))","v":"●"},null,null,{"$f":"IF(AL63=\"\",\"\",IF(AL63>AN63,\"○\",IF(AL63<AN63,\"●\",IF(AL63=AN63,\"△\"))))","v":"○"},null,{"$f":"COUNTIF(AF62:AN62,\"○\")","v":1},{"$f":"COUNTIF(AF62:AN62,\"△\")+COUNTIF(AF62:AN62,\"▲\")","v":0},{"$f":"COUNTIF(AF62:AN62,\"●\")","v":1},{"$f":"SUM(AF63,AI63,AL63)","v":1},{"$f":"SUM(AH63,AK63,AN63)","v":4},{"$f":"(AO62*3)+(AP62*1)","v":3},{"$f":"RANK(AT62,$AT$62:$AT$67)","v":2},"位",{"$f":"AR62-AS62","v":-3},null,{"$f":"RANK(AW62,$AW$62:$AW$67)","v":2},"位",2,null,null,null,{"$f":"BT6","v":"ＦＣ　ＷＡＹＳ"},"星取表",null,null,null,null,null,{"$f":"IF(BK63=\"\",\"\",IF(BK63>BM63,\"○\",IF(BK63<BM63,\"●\",IF(BK63=BM63,\"△\"))))","v":"○"},null,null,{"$f":"IF(BN63=\"\",\"\",IF(BN63>BP63,\"○\",IF(BN63<BP63,\"●\",IF(BN63=BP63,\"△\"))))","v":"△"},null,{"$f":"COUNTIF(BH62:BP62,\"○\")","v":1},{"$f":"COUNTIF(BH62:BP62,\"△\")+COUNTIF(BH62:BP62,\"▲\")","v":1},{"$f":"COUNTIF(BH62:BP62,\"●\")","v":0},{"$f":"SUM(BH63,BK63,BN63)","v":5},{"$f":"SUM(BJ63,BM63,BP63)","v":3},{"$f":"(BQ62*3)+(BR62*1)","v":4},{"$f":"RANK(BV62,$BV$62:$BV$67)","v":1},"位",{"$f":"BT62-BU62","v":2},null,{"$f":"RANK(BY62,$BY$62:$BY$67)","v":1},"位",1]
[null,"得失点",null,null,null,null,{"$f":"R14","v":3},"-",{"$f":"V14","v":4},{"$f":"V22","v":0},"-",{"$f":"R22","v":5},null,null,null,null,null,null,null,null,null,null,null,null,null,null,null,null,null,"得失点",null,null,null,null,{"$f":"AT14","v":0},"-",{"$f":"AX14","v":4},{"$f":"AX22","v":1},"-",{"$f":"AT22","v":0},null,null,null,null,null,null,null,null,null,null,null,null,null,null,null,null,null,"得失点",null,null,null,null,{"$f":"BV14","v":4},"-",{"$f":"BZ14","v":2},{"$f":"BZ22","v":1},"-",{"$f":"BV22","v":1}]
[{"$f":"P7","v":"碩田サッカースポーツ少年団"},"星取表",null,null,{"$f":"IF(D65=\"\",\"\",IF(D65>F65,\"○\",IF(D65<F65,\"●\",IF(D65=F65,\"△\"))))","v":"○"},null,null,null,null,null,{"$f":"IF(J65=\"\",\"\",IF(J65>L65,\"○\",IF(J65<L65,\"●\",IF(J65=L65,\"△\"))))","v":"●"},null,{"$f":"COUNTIF(D64:L64,\"○\")","v":1},{"$f":"COUNTIF(D64:L64,\"△\")+COUNTIF(D64:L64,\"▲\")","v":0},{"$f":"COUNTIF(D64:L64,\"●\")","v":1},{"$f":"SUM(D65,G65,J65)","v":4},{"$f":"SUM(F65,I65,L65)","v":7},{"$f":"(M64*3)+(N64*1)","v":3},{"$f":"RANK(R64,$R$62:$R$67)","v":2},"位",{"$f":"P64-Q64","v":-3},null,{"$f":"RANK(U64,$U$62:$V$67)","v":2},"位",2,null,null,null,{"$f":"AR7","v":"ドリームキッズフットボールクラブ"},"星取表",null,null,{"$f":"IF(AF65=\"\",\"\",IF(AF65>AH65,\"○\",IF(AF65<AH65,\"●\",IF(AF65=AH65,\"△\"))))","v":"○"},null,null,null,null,null,{"$f":"IF(AL65=\"\",\"\",IF(AL65>AN65,\"○\",IF(AL65<AN65,\"●\",IF(AL65=AN65,\"△\"))))","v":"○"},null,{"$f":"COUNTIF(AF64:AN64,\"○\")","v":2},{"$f":"COUNTIF(AF64:AN64,\"△\")+COUNTIF(AF64:AN64,\"▲\")","v":0},{"$f":"COUNTIF(AF64:AN64,\"●\")","v":0},{"$f":"SUM(AF65,AI65,AL65)","v":7},{"$f":"SUM(AH65,AK65,AN65)","v":0},{"$f":"(AO64*3)+(AP64*1)","v":6},{"$f":"RANK(AT64,$AT$62:$AT$67)","v":1},"位",{"$f":"AR64-AS64","v":7},null,{"$f":"RANK(AW64,$AW$62:$AW$67)","v":1},"位",1,null,null,null,{"$f":"BT7","v":"リノスフットボールクラブ　Ｕ－１２"},"星取表",null,null,{"$f":"IF(BH65=\"\",\"\",IF(BH65>BJ65,\"○\",IF(BH65<BJ65,\"●\",IF(BH65=BJ65,\"△\"))))","v":"●"},null,null,null,null,null,{"$f":"IF(BN65=\"\",\"\",IF(BN65>BP65,\"○\",IF(BN65<BP65,\"●\",IF(BN65=BP65,\"△\"))))","v":"△"},null,{"$f":"COUNTIF(BH64:BP64,\"○\")","v":0},{"$f":"COUNTIF(BH64:BP64,\"△\")+COUNTIF(BH64:BP64,\"▲\")","v":1},{"$f":"COUNTIF(BH64:BP64,\"●\")","v":1},{"$f":"SUM(BH65,BK65,BN65)","v":2},{"$f":"SUM(BJ65,BM65,BP65)","v":4},{"$f":"(BQ64*3)+(BR64*1)","v":1},{"$f":"RANK(BV64,$BV$62:$BV$67)","v":3},"位",{"$f":"BT64-BU64","v":-2},null,{"$f":"RANK(BY64,$BY$62:$BY$67)","v":3},"位",3]
[null,"得失点",null,{"$f":"I63","v":4},"-",{"$f":"G63","v":3},null,null,null,{"$f":"R18","v":0},"-",{"$f":"V18","v":4},null,null,null,null,null,null,null,null,null,null,null,null,null,null,null,null,null,"得失点",null,{"$f":"AK63","v":4},"-",{"$f":"AI63","v":0},null,null,null,{"$f":"AT18","v":3},"-",{"$f":"AX18","v":0},null,null,null,null,null,null,null,null,null,null,null,null,null,null,null,null,null,"得失点",null,{"$f":"BM63","v":2},"-",{"$f":"BK63","v":4},null,null,null,{"$f":"BV18","v":0},"-",{"$f":"BZ18","v":0}]
[{"$f":"P8","v":"弥生少年サッカークラブ"},"星取表",null,null,{"$f":"IF(D67=\"\",\"\",IF(D67>F67,\"○\",IF(D67<F67,\"●\",IF(D67=F67,\"△\"))))","v":"○"},null,null,{"$f":"IF(G67=\"\",\"\",IF(G67>I67,\"○\",IF(G67<I67,\"●\",IF(G67=I67,\"△\"))))","v":"○"},null,null,null,null,{"$f":"COUNTIF(D66:L66,\"○\")","v":2},{"$f":"COUNTIF(D66:L66,\"△\")+COUNTIF(D66:L66,\"▲\")","v":0},{"$f":"COUNTIF(D66:L66,\"●\")","v":0},{"$f":"SUM(D67,G67,J67)","v":9},{"$f":"SUM(F67,I67,L67)","v":0},{"$f":"(M66*3)+(N66*1)","v":6},{"$f":"RANK(R66,$R$62:$R$67)","v":1},"位",{"$f":"P66-Q66","v":9},null,{"$f":"RANK(U66,$U$62:$V$67)","v":1},"位",1,null,null,null,{"$f":"AR8","v":"八坂少年サッカークラブ"},"星取表",null,null,{"$f":"IF(AF67=\"\",\"\",IF(AF67>AH67,\"○\",IF(AF67<AH67,\"●\",IF(AF67=AH67,\"△\"))))","v":"●"},null,null,{"$f":"IF(AI67=\"\",\"\",IF(AI67>AK67,\"○\",IF(AI67<AK67,\"●\",IF(AI67=AK67,\"△\"))))","v":"●"},null,null,null,null,{"$f":"COUNTIF(AF66:AN66,\"○\")","v":0},{"$f":"COUNTIF(AF66:AN66,\"△\")+COUNTIF(AF66:AN66,\"▲\")","v":0},{"$f":"COUNTIF(AF66:AN66,\"●\")","v":2},{"$f":"SUM(AF67,AI67,AL67)","v":0},{"$f":"SUM(AH67,AK67,AN67)","v":4},{"$f":"(AO66*3)+(AP66*1)","v":0},{"$f":"RANK(AT66,$AT$62:$AT$67)","v":3},"位",{"$f":"AR66-AS66","v":-4},null,{"$f":"RANK(AW66,$AW$62:$AW$67)","v":3},"位",3,null,null,null,{"$f":"BT8","v":"Ｓｈｙｎｔ　ＦＣ"},"星取表",null,null,{"$f":"IF(BH67=\"\",\"\",IF(BH67>BJ67,\"○\",IF(BH67<BJ67,\"●\",IF(BH67=BJ67,\"△\"))))","v":"△"},null,null,{"$f":"IF(BK67=\"\",\"\",IF(BK67>BM67,\"○\",IF(BK67<BM67,\"●\",IF(BK67=BM67,\"△\"))))","v":"△"},null,null,null,null,{"$f":"COUNTIF(BH66:BP66,\"○\")","v":0},{"$f":"COUNTIF(BH66:BP66,\"△\")+COUNTIF(BH66:BP66,\"▲\")","v":2},{"$f":"COUNTIF(BH66:BP66,\"●\")","v":0},{"$f":"SUM(BH67,BK67,BN67)","v":1},{"$f":"SUM(BJ67,BM67,BP67)","v":1},{"$f":"(BQ66*3)+(BR66*1)","v":2},{"$f":"RANK(BV66,$BV$62:$BV$67)","v":2},"位",{"$f":"BT66-BU66","v":0},null,{"$f":"RANK(BY66,$BY$62:$BY$67)","v":2},"位",2]
[null,"得失点",null,{"$f":"L63","v":5},"-",{"$f":"J63","v":0},{"$f":"L65","v":4},"-",{"$f":"J65","v":0},null,null,null,null,null,null,null,null,null,null,null,null,null,null,null,null,null,null,null,null,"得失点",null,{"$f":"AN63","v":0},"-",{"$f":"AL63","v":1},{"$f":"AN65","v":0},"-",{"$f":"AL65","v":3},null,null,null,null,null,null,null,null,null,null,null,null,null,null,null,null,null,null,null,null,"得失点",null,{"$f":"BP63","v":1},"-",{"$f":"BN63","v":1},{"$f":"BP65","v":0},"-",{"$f":"BN65","v":0}]
[]
[{"$f":"V4","v":"K"},null,null,{"$f":"A70","v":"千怒サッカースポーツ少年団"},null,null,{"$f":"A72","v":"カティオーラフットボールクラブＵ－１２"},null,null,{"$f":"A74","v":"ＭＳＳ"},null,null,"勝","引\n分","敗","得\n点","失\n点","勝\n点","勝点\n順位",null,"得失\n点差",null,"得失\n順位",null,"ﾄｰﾀﾙ\n順位",null,null,null,{"$f":"AX4","v":"J"},null,null,{"$f":"AC70","v":"別保ＳＦＣ"},null,null,{"$f":"AC72","v":"明治サッカースポーツ少年団"},null,null,{"$f":"AC74","v":"別府フットボールクラブ．ミネルバＵ－１２"},null,null,"勝","引\n分","敗","得\n点","失\n点","勝\n点","勝点\n順位",null,"得失\n点差",null,"得失\n順位",null,"ﾄｰﾀﾙ\n順位",null,null,null,{"$f":"BZ4","v":"I"},null,null,{"$f":"BE70","v":"四日市南ＳＳＣ"},null,null,{"$f":"BE72","v":"ブルーウイングフットボールクラブ"},null,null,{"$f":"BE74","v":"鶴見少年サッカークラブ"},null,null,"勝","引\n分","敗","得\n点","失\n点","勝\n点","勝点\n順位",null,"得失\n点差",null,"得失\n順位",null,"ﾄｰﾀﾙ\n順位"]
[{"$f":"V6","v":"千怒サッカースポーツ少年団"},"星取表",null,null,null,null,null,{"$f":"IF(G71=\"\",\"\",IF(G71>I71,\"○\",IF(G71<I71,\"●\",IF(G71=I71,\"△\"))))","v":"●"},null,null,{"$f":"IF(J71=\"\",\"\",IF(J71>L71,\"○\",IF(J71<L71,\"●\",IF(J71=L71,\"△\"))))","v":"●"},null,{"$f":"COUNTIF(D70:L70,\"○\")","v":0},{"$f":"COUNTIF(D70:L70,\"△\")+COUNTIF(D70:L70,\"▲\")","v":0},{"$f":"COUNTIF(D70:L70,\"●\")","v":2},{"$f":"SUM(D71,G71,J71)","v":0},{"$f":"SUM(F71,I71,L71)","v":23},{"$f":"(M70*3)+(N70*1)","v":0},{"$f":"RANK(R70,$R$70:$R$75)","v":3},"位",{"$f":"P70-Q70","v":-23},null,{"$f":"RANK(U70,$U$70:$V$75)","v":3},"位",3,null,null,null,{"$f":"AX6","v":"別保ＳＦＣ"},"星取表",null,null,null,null,null,{"$f":"IF(AI71=\"\",\"\",IF(AI71>AK71,\"○\",IF(AI71<AK71,\"●\",IF(AI71=AK71,\"△\"))))","v":"△"},null,null,{"$f":"IF(AL71=\"\",\"\",IF(AL71>AN71,\"○\",IF(AL71<AN71,\"●\",IF(AL71=AN71,\"△\"))))","v":"●"},null,{"$f":"COUNTIF(AF70:AN70,\"○\")","v":0},{"$f":"COUNTIF(AF70:AN70,\"△\")+COUNTIF(AF70:AN70,\"▲\")","v":1},{"$f":"COUNTIF(AF70:AN70,\"●\")","v":1},{"$f":"SUM(AF71,AI71,AL71)","v":3},{"$f":"SUM(AH71,AK71,AN71)","v":6},{"$f":"(AO70*3)+(AP70*1)","v":1},{"$f":"RANK(AT70,$AT$70:$AT$75)","v":2},"位",{"$f":"AR70-AS70","v":-3},null,{"$f":"RANK(AW70,$AW$70:$AW$75)","v":2},"位",2,null,null,null,{"$f":"BZ6","v":"四日市南ＳＳＣ"},"星取表",null,null,null,null,null,{"$f":"IF(BK71=\"\",\"\",IF(BK71>BM71,\"○\",IF(BK71<BM71,\"●\",IF(BK71=BM71,\"△\"))))","v":"●"},null,null,{"$f":"IF(BN71=\"\",\"\",IF(BN71>BP71,\"○\",IF(BN71<BP71,\"●\",IF(BN71=BP71,\"△\"))))","v":"○"},null,{"$f":"COUNTIF(BH70:BP70,\"○\")","v":1},{"$f":"COUNTIF(BH70:BP70,\"△\")+COUNTIF(BH70:BP70,\"▲\")","v":0},{"$f":"COUNTIF(BH70:BP70,\"●\")","v":1},{"$f":"SUM(BH71,BK71,BN71)","v":8},{"$f":"SUM(BJ71,BM71,BP71)","v":3},{"$f":"(BQ70*3)+(BR70*1)","v":3},{"$f":"RANK(BV70,$BV$70:$BV$75)","v":2},"位",{"$f":"BT70-BU70","v":5},null,{"$f":"RANK(BY70,$BY$70:$BY$75)","v":2},"位",2]
[null,"得失点",null,null,null,null,{"$f":"R16","v":0},"-",{"$f":"V16","v":15},{"$f":"V24","v":0},"-",{"$f":"R24","v":8},null,null,null,null,null,null,null,null,null,null,null,null,null,null,null,null,null,"得失点",null,null,null,null,{"$f":"AT16","v":3},"-",{"$f":"AX16","v":3},{"$f":"AX24","v":0},"-",{"$f":"AT24","v":3},null,null,null,null,null,null,null,null,null,null,null,null,null,null,null,null,null,"得失点",null,null,null,null,{"$f":"BV16","v":0},"-",{"$f":"BZ16","v":3},{"$f":"BZ24","v":8},"-",{"$f":"BV24","v":0}]
[{"$f":"V7","v":"カティオーラフットボールクラブＵ－１２"},"星取表",null,null,{"$f":"IF(D73=\"\",\"\",IF(D73>F73,\"○\",IF(D73<F73,\"●\",IF(D73=F73,\"△\"))))","v":"○"},null,null,null,null,null,{"$f":"IF(J73=\"\",\"\",IF(J73>L73,\"○\",IF(J73<L73,\"●\",IF(J73=L73,\"△\"))))","v":"○"},null,{"$f":"COUNTIF(D72:L72,\"○\")","v":2},{"$f":"COUNTIF(D72:L72,\"△\")+COUNTIF(D72:L72,\"▲\")","v":0},{"$f":"COUNTIF(D72:L72,\"●\")","v":0},{"$f":"SUM(D73,G73,J73)","v":17},{"$f":"SUM(F73,I73,L73)","v":1},{"$f":"(M72*3)+(N72*1)","v":6},{"$f":"RANK(R72,$R$70:$R$75)","v":1},"位",{"$f":"P72-Q72","v":16},null,{"$f":"RANK(U72,$U$70:$V$75)","v":1},"位",1,null,null,null,{"$f":"AX7","v":"明治サッカースポーツ少年団"},"星取表",null,null,{"$f":"IF(AF73=\"\",\"\",IF(AF73>AH73,\"○\",IF(AF73<AH73,\"●\",IF(AF73=AH73,\"△\"))))","v":"△"},null,null,null,null,null,{"$f":"IF(AL73=\"\",\"\",IF(AL73>AN73,\"○\",IF(AL73<AN73,\"●\",IF(AL73=AN73,\"△\"))))","v":"●"},null,{"$f":"COUNTIF(AF72:AN72,\"○\")","v":0},{"$f":"COUNTIF(AF72:AN72,\"△\")+COUNTIF(AF72:AN72,\"▲\")","v":1},{"$f":"COUNTIF(AF72:AN72,\"●\")","v":1},{"$f":"SUM(AF73,AI73,AL73)","v":3},{"$f":"SUM(AH73,AK73,AN73)","v":9},{"$f":"(AO72*3)+(AP72*1)","v":1},{"$f":"RANK(AT72,$AT$70:$AT$75)","v":2},"位",{"$f":"AR72-AS72","v":-6},null,{"$f":"RANK(AW72,$AW$70:$AW$75)","v":3},"位",3,null,null,null,{"$f":"BZ7","v":"ブルーウイングフットボールクラブ"},"星取表",null,null,{"$f":"IF(BH73=\"\",\"\",IF(BH73>BJ73,\"○\",IF(BH73<BJ73,\"●\",IF(BH73=BJ73,\"△\"))))","v":"○"},null,null,null,null,null,{"$f":"IF(BN73=\"\",\"\",IF(BN73>BP73,\"○\",IF(BN73<BP73,\"●\",IF(BN73=BP73,\"△\"))))","v":"○"},null,{"$f":"COUNTIF(BH72:BP72,\"○\")","v":2},{"$f":"COUNTIF(BH72:BP72,\"△\")+COUNTIF(BH72:BP72,\"▲\")","v":0},{"$f":"COUNTIF(BH72:BP72,\"●\")","v":0},{"$f":"SUM(BH73,BK73,BN73)","v":7},{"$f":"SUM(BJ73,BM73,BP73)","v":1},{"$f":"(BQ72*3)+(BR72*1)","v":6},{"$f":"RANK(BV72,$BV$70:$BV$75)","v":1},"位",{"$f":"BT72-BU72","v":6},null,{"$f":"RANK(BY72,$BY$70:$BY$75)","v":1},"位",1]
[null,"得失点",null,{"$f":"I71","v":15},"-",{"$f":"G71","v":0},null,null,null,{"$f":"R20","v":2},"-",{"$f":"V20","v":1},null,null,null,null,null,null,null,null,null,null,null,null,null,null,null,null,null,"得失点",null,{"$f":"AK71","v":3},"-",{"$f":"AI71","v":3},null,null,null,{"$f":"AT20","v":0},"-",{"$f":"AX20","v":6},null,null,null,null,null,null,null,null,null,null,null,null,null,null,null,null,null,"得失点",null,{"$f":"BM71","v":3},"-",{"$f":"BK71","v":0},null,null,null,{"$f":"BV20","v":4},"-",{"$f":"BZ20","v":1}]
[{"$f":"V8","v":"ＭＳＳ"},"星取表",null,null,{"$f":"IF(D75=\"\",\"\",IF(D75>F75,\"○\",IF(D75<F75,\"●\",IF(D75=F75,\"△\"))))","v":"○"},null,null,{"$f":"IF(G75=\"\",\"\",IF(G75>I75,\"○\",IF(G75<I75,\"●\",IF(G75=I75,\"△\"))))","v":"●"},null,null,null,null,{"$f":"COUNTIF(D74:L74,\"○\")","v":1},{"$f":"COUNTIF(D74:L74,\"△\")+COUNTIF(D74:L74,\"▲\")","v":0},{"$f":"COUNTIF(D74:L74,\"●\")","v":1},{"$f":"SUM(D75,G75,J75)","v":9},{"$f":"SUM(F75,I75,L75)","v":2},{"$f":"(M74*3)+(N74*1)","v":3},{"$f":"RANK(R74,$R$70:$R$75)","v":2},"位",{"$f":"P74-Q74","v":7},null,{"$f":"RANK(U74,$U$70:$V$75)","v":2},"位",2,null,null,null,{"$f":"AX8","v":"別府フットボールクラブ．ミネルバＵ－１２"},"星取表",null,null,{"$f":"IF(AF75=\"\",\"\",IF(AF75>AH75,\"○\",IF(AF75<AH75,\"●\",IF(AF75=AH75,\"△\"))))","v":"○"},null,null,{"$f":"IF(AI75=\"\",\"\",IF(AI75>AK75,\"○\",IF(AI75<AK75,\"●\",IF(AI75=AK75,\"△\"))))","v":"○"},null,null,null,null,{"$f":"COUNTIF(AF74:AN74,\"○\")","v":2},{"$f":"COUNTIF(AF74:AN74,\"△\")+COUNTIF(AF74:AN74,\"▲\")","v":0},{"$f":"COUNTIF(AF74:AN74,\"●\")","v":0},{"$f":"SUM(AF75,AI75,AL75)","v":9},{"$f":"SUM(AH75,AK75,AN75)","v":0},{"$f":"(AO74*3)+(AP74*1)","v":6},{"$f":"RANK(AT74,$AT$70:$AT$75)","v":1},"位",{"$f":"AR74-AS74","v":9},null,{"$f":"RANK(AW74,$AW$70:$AW$75)","v":1},"位",1,null,null,null,{"$f":"BZ8","v":"鶴見少年サッカークラブ"},"星取表",null,null,{"$f":"IF(BH75=\"\",\"\",IF(BH75>BJ75,\"○\",IF(BH75<BJ75,\"●\",IF(BH75=BJ75,\"△\"))))","v":"●"},null,null,{"$f":"IF(BK75=\"\",\"\",IF(BK75>BM75,\"○\",IF(BK75<BM75,\"●\",IF(BK75=BM75,\"△\"))))","v":"●"},null,null,null,null,{"$f":"COUNTIF(BH74:BP74,\"○\")","v":0},{"$f":"COUNTIF(BH74:BP74,\"△\")+COUNTIF(BH74:BP74,\"▲\")","v":0},{"$f":"COUNTIF(BH74:BP74,\"●\")","v":2},{"$f":"SUM(BH75,BK75,BN75)","v":1},{"$f":"SUM(BJ75,BM75,BP75)","v":12},{"$f":"(BQ74*3)+(BR74*1)","v":0},{"$f":"RANK(BV74,$BV$70:$BV$75)","v":3},"位",{"$f":"BT74-BU74","v":-11},null,{"$f":"RANK(BY74,$BY$70:$BY$75)","v":3},"位",3]
[null,"得失点",null,{"$f":"L71","v":8},"-",{"$f":"J71","v":0},{"$f":"L73","v":1},"-",{"$f":"J73","v":2},null,null,null,null,null,null,null,null,null,null,null,null,null,null,null,null,null,null,null,null,"得失点",null,{"$f":"AN71","v":3},"-",{"$f":"AL71","v":0},{"$f":"AN73","v":6},"-",{"$f":"AL73","v":0},null,null,null,null,null,null,null,null,null,null,null,null,null,null,null,null,null,null,null,null,"得失点",null,{"$f":"BP71","v":0},"-",{"$f":"BN71","v":8},{"$f":"BP73","v":1},"-",{"$f":"BN73","v":4}]

{"sheet":"２次リーグ（佐伯）","index":11,"n_rows":100,"n_cols":67,"rows_kept":100,"cut":false,"hidden":false,"merged":[[57,24,58,26],[57,27,58,32],[59,28,60,40],[61,28,62,40],[59,25,60,27],[61,25,62,27],[53,24,54,26],[53,27,54,32],[59,41,60,44],[61,41,62,44],[54,4,54,5],[54,6,54,8],[54,9,54,10],[54,16,54,17],[54,18,54,20],[54,21,54,22],[63,41,64,44],[98,24,99,25],[98,26,99,26],[98,29,99,29],[98,32,99,32],[96,24,97,57],[89,48,94,49],[92,29,94,30],[89,24,94,28],[89,29,91,30],[80,29,82,30],[77,52,82,53],[77,54,82,55],[77,56,82,57],[98,35,99,35],[89,41,94,45],[91,31,92,32],[91,33,92,33],[47,0,49,0],[47,1,49,1],[47,2,49,2],[47,3,49,3],[47,7,49,7],[47,8,49,8],[47,9,49,9],[47,12,49,12],[47,13,49,13],[83,24,88,28],[83,29,85,30],[83,36,88,40],[83,46,88,47],[85,41,86,42],[85,43,86,43],[85,44,86,45],[87,31,88,32],[86,29,88,30],[87,44,88,45],[87,43,88,43],[83,31,84,35],[83,41,84,45],[87,33,88,33],[38,4,38,5],[38,6,38,8],[38,9,38,10],[38,16,38,17],[38,18,38,20],[38,21,38,22],[77,58,82,59],[77,60,82,61],[77,62,82,63],[81,44,82,45],[55,4,55,5],[55,6,55,8],[55,9,55,10],[55,16,55,17],[55,18,55,20],[55,21,55,22],[56,4,56,5],[56,6,56,8],[56,9,56,10],[56,16,56,17],[53,4,53,5],[53,6,53,8],[53,9,53,10],[53,16,53,17],[36,9,36,10],[36,16,36,17],[36,18,36,20],[36,21,36,22],[37,4,37,5],[37,6,37,8],[37,9,37,10],[37,16,37,17],[37,18,37,20],[37,21,37,22],[56,18,56,20],[56,21,56,22],[32,24,37,28],[32,29,34,30],[32,41,37,45],[32,46,37,47],[32,31,33,35],[35,16,35,17],[35,18,35,20],[35,21,35,22],[53,18,53,20],[53,21,53,22],[35,29,37,30],[53,33,54,33],[53,34,54,48],[36,38,37,38],[36,39,37,40],[50,13,50,17],[50,18,50,20],[50,21,50,22],[51,13,51,17],[51,18,51,20],[51,21,51,22],[52,13,52,17],[47,60,48,66],[49,24,50,58],[41,35,42,35],[26,64,31,65],[26,66,31,66],[28,43,29,43],[47,20,49,20],[47,14,49,14],[47,15,49,15],[47,19,49,19],[47,21,49,21],[26,54,31,55],[26,56,31,57],[26,58,31,59],[30,34,31,35],[30,41,31,42],[30,43,31,43],[30,44,31,45],[26,48,31,49],[26,50,31,51],[26,52,31,53],[32,36,33,40],[36,34,37,35],[36,36,37,37],[77,24,82,28],[77,29,79,30],[77,31,82,35],[77,46,82,47],[29,0,31,0],[29,1,31,1],[29,2,31,2],[29,3,31,3],[29,7,31,7],[29,8,31,8],[29,9,31,9],[29,12,31,12],[29,13,31,13],[29,14,31,14],[29,15,31,15],[29,19,31,19],[29,20,31,20],[29,21,31,21],[47,24,48,58],[35,4,35,5],[35,6,35,8],[35,9,35,10],[36,4,36,5],[36,6,36,8],[83,66,88,66],[85,31,86,32],[85,33,86,33],[85,34,86,35],[39,24,40,57],[41,24,42,25],[41,26,42,26],[41,29,42,29],[41,32,42,32],[71,24,76,27],[71,28,76,30],[71,31,76,35],[71,36,76,40],[71,41,76,45],[63,25,64,27],[63,28,64,40],[71,56,76,57],[71,58,76,59],[71,60,76,61],[71,62,76,63],[71,66,76,66],[77,36,78,40],[77,41,78,45],[77,64,82,65],[20,50,25,51],[20,52,25,53],[20,54,25,55],[20,56,25,57],[20,58,25,59],[20,60,25,61],[20,62,25,63],[23,29,25,30],[26,24,31,28],[26,29,28,30],[26,36,31,40],[26,46,31,47],[28,31,29,32],[28,33,29,33],[28,34,29,35],[28,41,29,42],[30,31,31,32],[30,33,31,33],[26,31,27,35],[26,41,27,45],[28,44,29,45],[26,60,31,61],[26,62,31,63],[29,29,31,30],[20,24,25,28],[20,29,22,30],[20,31,25,35],[20,46,25,47],[22,41,23,42],[22,43,23,43],[22,44,23,45],[24,36,25,37],[24,38,25,38],[24,39,25,40],[20,6,20,8],[20,9,20,10],[20,16,20,17],[20,18,20,20],[17,4,17,5],[17,6,17,8],[17,9,17,10],[17,16,17,17],[17,18,17,20],[17,21,17,22],[14,24,19,27],[14,28,19,30],[14,31,19,35],[20,21,20,22],[8,2,8,8],[8,9,8,10],[8,14,8,20],[8,21,8,22],[8,25,8,27],[8,28,8,40],[18,4,18,5],[18,6,18,8],[18,9,18,10],[18,16,18,17],[18,18,18,20],[18,21,18,22],[19,4,19,5],[19,6,19,8],[19,9,19,10],[19,16,19,17],[19,18,19,20],[19,21,19,22],[20,4,20,5],[8,41,8,44],[11,0,13,0],[11,1,13,1],[11,2,13,2],[11,3,13,3],[11,7,13,7],[11,8,13,8],[11,9,13,9],[11,12,13,12],[11,13,13,13],[11,14,13,14],[11,15,13,15],[11,19,13,19],[11,20,13,20],[11,21,13,21],[7,2,7,8],[7,9,7,10],[7,14,7,20],[7,21,7,22],[7,25,7,27],[7,28,7,40],[7,41,7,44],[6,2,6,8],[6,9,6,10],[6,14,6,20],[6,21,6,22],[6,25,6,27],[6,28,6,40],[3,3,3,10],[3,15,3,22],[3,24,3,26],[3,27,3,32],[3,34,3,48],[5,24,5,26],[6,41,6,44],[5,27,5,32],[0,0,0,8],[0,12,0,20],[0,24,0,58],[0,60,0,66],[1,0,1,10],[1,12,1,22],[1,24,1,58],[0,9,0,10],[0,21,0,22],[24,41,25,42],[24,43,25,43],[24,44,25,45],[14,64,19,65],[14,66,19,66],[20,36,21,40],[20,41,21,45],[20,64,25,65],[20,66,25,66],[22,36,23,37],[22,38,23,38],[22,39,23,40],[14,36,19,40],[14,41,19,45],[14,46,19,47],[14,48,19,49],[14,50,19,51],[14,52,19,53],[14,54,19,55],[14,56,19,57],[32,66,37,66],[34,31,35,32],[34,33,35,33],[34,34,35,35],[34,36,35,37],[34,38,35,38],[34,39,35,40],[36,31,37,32],[36,33,37,33],[32,48,37,49],[32,60,37,61],[32,62,37,63],[32,64,37,65],[32,50,37,51],[32,52,37,53],[32,54,37,55],[32,56,37,57],[32,58,37,59],[14,58,19,59],[14,60,19,61],[14,62,19,63],[20,48,25,49],[77,66,82,66],[79,36,80,37],[79,38,80,38],[81,36,82,37],[81,38,82,38],[81,39,82,40],[79,39,80,40],[79,41,80,42],[79,43,80,43],[79,44,80,45],[71,46,76,47],[71,48,76,49],[71,50,76,51],[71,52,76,53],[71,54,76,55],[77,48,82,49],[77,50,82,51],[71,64,76,65],[81,41,82,42],[81,43,82,43],[83,64,88,65],[83,58,88,59],[89,50,94,51],[89,52,94,53],[89,62,94,63],[93,34,94,35],[93,36,94,37],[93,38,94,38],[93,39,94,40],[87,34,88,35],[87,41,88,42],[83,48,88,49],[83,50,88,51],[83,60,88,61],[83,62,88,63],[83,52,88,53],[83,54,88,55],[83,56,88,57],[91,34,92,35],[89,31,90,35],[89,36,90,40],[93,31,94,32],[93,33,94,33],[89,66,94,66],[89,54,94,55],[89,56,94,57],[89,58,94,59],[89,46,94,47],[91,36,92,37],[91,38,92,38],[91,39,92,40],[89,64,94,65],[89,60,94,61],[50,1,50,5],[50,6,50,8],[50,9,50,10],[51,1,51,5],[51,6,51,8],[51,9,51,10],[52,1,52,5],[52,6,52,8],[52,9,52,10],[52,18,52,20],[52,21,52,22],[32,13,32,17],[32,18,32,20],[32,21,32,22],[33,13,33,17],[33,18,33,20],[33,21,33,22],[34,13,34,17],[34,18,34,20],[34,21,34,22],[32,1,32,5],[32,6,32,8],[32,9,32,10],[33,1,33,5],[33,6,33,8],[33,9,33,10],[34,1,34,5],[34,6,34,8],[34,9,34,10],[14,1,14,5],[14,6,14,8],[14,9,14,10],[15,1,15,5],[15,6,15,8],[15,9,15,10],[16,1,16,5],[16,6,16,8],[16,9,16,10],[14,13,14,17],[14,18,14,20],[14,21,14,22],[15,13,15,17],[15,18,15,20],[15,21,15,22],[16,13,16,17],[16,18,16,20],[16,21,16,22]]}
[{"$f":"出場チーム!B1","v":"OFA 第 51 回大分県少年サッカー大会　兼　KYFA 九州U-12サッカー大会大分県大会"},null,null,null,null,null,null,null,null,"２次リーグ結果　報告用紙",null,null,{"$f":"出場チーム!B1","v":"OFA 第 51 回大分県少年サッカー大会　兼　KYFA 九州U-12サッカー大会大分県大会"},null,null,null,null,null,null,null,null,"２次リーグ結果　報告用紙",null,null,{"$f":"$A$1","v":"OFA 第 51 回大分県少年サッカー大会　兼　KYFA 九州U-12サッカー大会大分県大会"},null,null,null,null,null,null,null,null,null,null,null,null,null,null,null,null,null,null,null,null,null,null,null,null,null,null,null,null,null,null,null,null,null,null,null,{"$f":"$J$1","v":"２次リーグ結果　報告用紙"}]
["＜時間割＞　①10:00～　②11:00～　③12:00～　④13:00～　⑤14:00～　⑥15:00～",null,null,null,null,null,null,null,null,null,null,null,"＜時間割＞　①10:00～　②11:00～　③12:00～　④13:00～　⑤14:00～　⑥15:00～",null,null,null,null,null,null,null,null,null,null,null,"＜時間割＞　①10:00～　②11:00～　③12:00～　④13:00～　⑤14:00～　⑥15:00～"]
[]
["会場",{"$f":"組み合わせ!D6","v":"佐伯"},"⇒",{"$f":"VLOOKUP(B4,出場チーム!$B$51:$F$59,2,FALSE)","v":"佐伯市総合運動公園多目的ｸﾞﾗｳﾝﾄﾞ(人工芝)"},null,null,null,null,null,null,null,null,"会場",{"$f":"組み合わせ!D6","v":"佐伯"},"⇒",{"$f":"VLOOKUP(N4,出場チーム!$B$51:$F$59,2,FALSE)","v":"佐伯市総合運動公園多目的ｸﾞﾗｳﾝﾄﾞ(人工芝)"},null,null,null,null,null,null,null,null,"会場",null,null,{"$f":"$B$4","v":"佐伯"},null,null,null,null,null,"⇒",{"$f":"$D$4","v":"佐伯市総合運動公園多目的ｸﾞﾗｳﾝﾄﾞ(人工芝)"}]
[]
["パート",{"$f":"組み合わせ!H33","v":"2次リーグ　Aパート"},null,null,null,null,null,null,null,null,null,null,"パート",{"$f":"組み合わせ!CB33","v":"2次リーグ　Cパート"},null,null,null,null,null,null,null,null,null,null,"パート",null,null,{"$f":"$B$6","v":"2次リーグ　Aパート"}]
[null,{"$f":"組み合わせ!$H$36","v":"A"},{"$f":"組み合わせ!$L$36","v":"ドリームキッズフットボールクラブ"},null,null,null,null,null,null,{"$f":"HLOOKUP(C7,組み合わせ!$B$49:$EO$86,31,FALSE)","v":"大分"},null,null,null,{"$f":"組み合わせ!$CB$36","v":"G"},{"$f":"組み合わせ!$CF$36","v":"大分トリニータＵ－１２"},null,null,null,null,null,null,{"$f":"HLOOKUP(O7,組み合わせ!$B$49:$EO$86,31,FALSE)","v":"大分"},null,null,null,{"$f":"+B7","v":"A"},null,null,{"$f":"$C$7","v":"ドリームキッズフットボールクラブ"},null,null,null,null,null,null,null,null,null,null,null,null,{"$f":"$J$7","v":"大分"}]
[null,{"$f":"組み合わせ!$H$38","v":"B"},{"$f":"組み合わせ!$L$38","v":"由布川サッカースポーツ少年団"},null,null,null,null,null,null,{"$f":"HLOOKUP(C8,組み合わせ!$B$49:$EO$86,31,FALSE)","v":"大分"},null,null,null,{"$f":"組み合わせ!$CB$38","v":"H"},{"$f":"組み合わせ!$CF$38","v":"中津沖代ＪＳＣ"},null,null,null,null,null,null,{"$f":"HLOOKUP(O8,組み合わせ!$B$49:$EO$86,31,FALSE)","v":"中津"},null,null,null,{"$f":"+B8","v":"B"},null,null,{"$f":"$C$8","v":"由布川サッカースポーツ少年団"},null,null,null,null,null,null,null,null,null,null,null,null,{"$f":"$J$8","v":"大分"}]
[null,{"$f":"組み合わせ!$H$40","v":"C"},{"$f":"組み合わせ!$L$40","v":"弥生少年サッカークラブ"},null,null,null,null,null,null,{"$f":"HLOOKUP(C9,組み合わせ!$B$49:$EO$86,31,FALSE)","v":"佐伯"},null,null,null,{"$f":"組み合わせ!$CB$40","v":"I"},{"$f":"組み合わせ!$CF$40","v":"ブルーウイングフットボールクラブ"},null,null,null,null,null,null,{"$f":"HLOOKUP(O9,組み合わせ!$B$49:$EO$86,31,FALSE)","v":"大分"},null,null,null,{"$f":"+B9","v":"C"},null,null,{"$f":"$C$9","v":"弥生少年サッカークラブ"},null,null,null,null,null,null,null,null,null,null,null,null,{"$f":"$J$9","v":"佐伯"}]
["8：50～ＭＣＭ",null,null,null,null,null,null,null,null,null,null,null,"9：50～ＭＣＭ"]
[]
["①\n10:00～",{"$f":"C7","v":"ドリームキッズフットボールクラブ"},{"$f":"IF(E12=\"\",\"\",SUM(E12:E13))","v":1},"（",1,"前半",0,"）",{"$f":"IF(G12=\"\",\"\",SUM(G12:G13))","v":2},{"$f":"C8","v":"由布川サッカースポーツ少年団"},null,null,"②\n11:00～",{"$f":"O7","v":"大分トリニータＵ－１２"},{"$f":"IF(Q12=\"\",\"\",SUM(Q12:Q13))","v":5},"（",4,"前半",1,"）",{"$f":"IF(S12=\"\",\"\",SUM(S12:S13))","v":1},{"$f":"O8","v":"中津沖代ＪＳＣ"}]
[null,null,null,null,0,"後半",2,null,null,null,null,null,null,null,null,null,1,"後半",0]
[null,null,null,null,null,"PK",null,null,null,null,null,null,null,null,null,null,null,"PK"]
["MC","廣瀬　光雄",null,null,null,null,"所属協会",null,null,"佐伯市サッカー協会",null,null,"MC","秋元　昭一",null,null,null,null,"所属協会",null,null,"佐伯市サッカー協会",null,null,{"$f":"$Y$6","v":"パート"},null,null,null,{"$f":"$AB$6","v":"2次リーグ　Aパート"},null,null,{"$f":"$Y$21","v":"ドリームキッズフットボールクラブ"},null,null,null,null,{"$f":"$Y$27","v":"由布川サッカースポーツ少年団"},null,null,null,null,{"$f":"$Y$33","v":"弥生少年サッカークラブ"},null,null,null,null,"勝",null,"PK\n勝",null,"PK\n負",null,"負",null,"得点",null,"失点",null,"勝点",null,"勝点\n順位",null,"得失\n点差",null,"得失\n順位",null,"総\n順位"]
["WelfareOfficer","管　拓哉",null,null,null,null,"所属協会",null,null,"佐伯市サッカー協会",null,null,"WelfareOfficer","古藤田　和好",null,null,null,null,"所属協会",null,null,"佐伯市サッカー協会"]
["記録","内山田　光史",null,null,null,null,"所属協会",null,null,"佐伯市サッカー協会",null,null,"記録","砂川　勝徳",null,null,null,null,"所属協会",null,null,"佐伯市サッカー協会"]
["R:",{"$f":"IF(ISERROR(VLOOKUP(G18,審判員!$A:$C,2,FALSE))=TRUE,\"\",VLOOKUP(G18,審判員!$A:$C,2,FALSE))","v":"久保田　英樹"},{"$f":"IF(ISERROR(VLOOKUP(G18,審判員!$A:$C,3,FALSE))=TRUE,\"\",VLOOKUP(G18,審判員!$A:$C,3,FALSE))","v":3},"級","資格番号",null,"R001256305",null,null,"本部",null,null,"R:",{"$f":"IF(ISERROR(VLOOKUP(S18,審判員!$A:$C,2,FALSE))=TRUE,\"\",VLOOKUP(S18,審判員!$A:$C,2,FALSE))","v":"江藤　雅章"},{"$f":"IF(ISERROR(VLOOKUP(S18,審判員!$A:$C,3,FALSE))=TRUE,\"\",VLOOKUP(S18,審判員!$A:$C,3,FALSE))","v":3},"級","資格番号",null,"R001254477",null,null,"本部"]
["AR1:",{"$f":"IF(ISERROR(VLOOKUP(G19,審判員!$A:$C,2,FALSE))=TRUE,\"\",VLOOKUP(G19,審判員!$A:$C,2,FALSE))","v":"小川　翔太"},{"$f":"IF(ISERROR(VLOOKUP(G19,審判員!$A:$C,3,FALSE))=TRUE,\"\",VLOOKUP(G19,審判員!$A:$C,3,FALSE))","v":3},"級","資格番号",null,"R007075261",null,null,{"$f":"N12","v":"大分トリニータＵ－１２"},null,null,"AR1:",{"$f":"IF(ISERROR(VLOOKUP(S19,審判員!$A:$C,2,FALSE))=TRUE,\"\",VLOOKUP(S19,審判員!$A:$C,2,FALSE))","v":"酒井　祐三"},{"$f":"IF(ISERROR(VLOOKUP(S19,審判員!$A:$C,3,FALSE))=TRUE,\"\",VLOOKUP(S19,審判員!$A:$C,3,FALSE))","v":3},"級","資格番号",null,"R001263350",null,null,{"$f":"B12","v":"ドリームキッズフットボールクラブ"}]
["AR2:",{"$f":"IF(ISERROR(VLOOKUP(G20,審判員!$A:$C,2,FALSE))=TRUE,\"\",VLOOKUP(G20,審判員!$A:$C,2,FALSE))","v":"高橋　芳洋"},{"$f":"IF(ISERROR(VLOOKUP(G20,審判員!$A:$C,3,FALSE))=TRUE,\"\",VLOOKUP(G20,審判員!$A:$C,3,FALSE))","v":3},"級","資格番号",null,"R001263785",null,null,{"$f":"V12","v":"中津沖代ＪＳＣ"},null,null,"AR2:",{"$f":"IF(ISERROR(VLOOKUP(S20,審判員!$A:$C,2,FALSE))=TRUE,\"\",VLOOKUP(S20,審判員!$A:$C,2,FALSE))","v":"榊　謙治"},{"$f":"IF(ISERROR(VLOOKUP(S20,審判員!$A:$C,3,FALSE))=TRUE,\"\",VLOOKUP(S20,審判員!$A:$C,3,FALSE))","v":3},"級","資格番号",null,"R010356115",null,null,{"$f":"J12","v":"由布川サッカースポーツ少年団"}]
["4th:",{"$f":"IF(ISERROR(VLOOKUP(G21,審判員!$A:$C,2,FALSE))=TRUE,\"\",VLOOKUP(G21,審判員!$A:$C,2,FALSE))","v":"長澤　直樹"},{"$f":"IF(ISERROR(VLOOKUP(G21,審判員!$A:$C,3,FALSE))=TRUE,\"\",VLOOKUP(G21,審判員!$A:$C,3,FALSE))","v":4},"級","資格番号",null,"R010120189",null,null,"本部",null,null,"4th:",{"$f":"IF(ISERROR(VLOOKUP(S21,審判員!$A:$C,2,FALSE))=TRUE,\"\",VLOOKUP(S21,審判員!$A:$C,2,FALSE))","v":"神崎　大輔"},{"$f":"IF(ISERROR(VLOOKUP(S21,審判員!$A:$C,3,FALSE))=TRUE,\"\",VLOOKUP(S21,審判員!$A:$C,3,FALSE))","v":4},"級","資格番号",null,"R010396520",null,null,"本部",null,null,{"$f":"$AC$7","v":"ドリームキッズフットボールクラブ"},null,null,null,null,"星取表",null,null,null,null,null,null,{"$f":"IF(AK25=\"\",\"\",IF(AK25>AN25,\"○\",IF(AK25<AN25,\"●\",IF(AK23>AN23,\"△\",IF(AK23<AN23,\"▲\")))))","v":"●"},null,null,null,null,{"$f":"IF(AP25=\"\",\"\",IF(AP25>AS25,\"○\",IF(AP25<AS25,\"●\",IF(AP23>AS23,\"△\",IF(AP23<AS23,\"▲\")))))","v":false},null,null,null,null,{"$f":"COUNTIF($AF$21:$AT$22,\"○\")","v":0},null,{"$f":"COUNTIF($AF$21:$AT$22,\"△\")","v":0},null,{"$f":"COUNTIF($AF$21:$AT$22,\"▲\")","v":0},null,{"$f":"COUNTIF($AF$21:$AT$22,\"●\")","v":1},null,{"$f":"SUM($AK$25,$AP$25)","v":1},null,{"$f":"SUM($AN$25,$AS$25)","v":2},null,{"$f":"($AU$21*3)+($AW$21*2)+($AY$21*1)","v":0},null,{"$f":"RANK($BG$21,$BG$21:$BH$38)","v":2},null,{"$f":"$BC$21-$BE$21","v":-1},null,{"$f":"RANK($BK$21,$BK$21:$BL$38)","v":2}]
["警告/退場","氏名","背番号","分","内容",null,"内容","分","背番号","氏名","警告/退場",null,"警告/退場","氏名","背番号","分","内容",null,"内容","分","背番号","氏名","警告/退場"]
[null,{"$f":"IF(ISERROR(VLOOKUP(CONCATENATE($B$12,\"_\",C23),選手名簿!$A:$E,5,FALSE))=TRUE,\"\",VLOOKUP(CONCATENATE($B$12,\"_\",C23),選手名簿!$A:$E,5,FALSE))","v":""},null,null,null,null,null,null,null,{"$f":"IF(ISERROR(VLOOKUP(CONCATENATE($J$12,\"_\",I23),選手名簿!$A:$E,5,FALSE))=TRUE,\"\",VLOOKUP(CONCATENATE($J$12,\"_\",I23),選手名簿!$A:$E,5,FALSE))","v":""},null,null,null,{"$f":"IF(ISERROR(VLOOKUP(CONCATENATE($N$12,\"_\",O23),選手名簿!$A:$E,5,FALSE))=TRUE,\"\",VLOOKUP(CONCATENATE($N$12,\"_\",O23),選手名簿!$A:$E,5,FALSE))","v":""},null,null,null,null,null,null,null,{"$f":"IF(ISERROR(VLOOKUP(CONCATENATE($V$12,\"_\",U23),選手名簿!$A:$E,5,FALSE))=TRUE,\"\",VLOOKUP(CONCATENATE($V$12,\"_\",U23),選手名簿!$A:$E,5,FALSE))","v":""},null,null,null,null,null,null,null,null,null,null,null,null,null,null,{"$f":"IF($E$14=\"\",\"\",$E$14)","v":""},null,"―",{"$f":"IF($G$14=\"\",\"\",$G$14)","v":""},null,{"$f":"IF($G$50=\"\",\"\",$G$50)","v":""},null,"―",{"$f":"IF($E$50=\"\",\"\",$E$50)","v":""}]
[null,{"$f":"IF(ISERROR(VLOOKUP(CONCATENATE($B$12,\"_\",C24),選手名簿!$A:$E,5,FALSE))=TRUE,\"\",VLOOKUP(CONCATENATE($B$12,\"_\",C24),選手名簿!$A:$E,5,FALSE))","v":""},null,null,null,null,null,null,null,{"$f":"IF(ISERROR(VLOOKUP(CONCATENATE($J$12,\"_\",I24),選手名簿!$A:$E,5,FALSE))=TRUE,\"\",VLOOKUP(CONCATENATE($J$12,\"_\",I24),選手名簿!$A:$E,5,FALSE))","v":""},null,null,null,{"$f":"IF(ISERROR(VLOOKUP(CONCATENATE($N$12,\"_\",O24),選手名簿!$A:$E,5,FALSE))=TRUE,\"\",VLOOKUP(CONCATENATE($N$12,\"_\",O24),選手名簿!$A:$E,5,FALSE))","v":""},null,null,null,null,null,null,null,{"$f":"IF(ISERROR(VLOOKUP(CONCATENATE($V$12,\"_\",U24),選手名簿!$A:$E,5,FALSE))=TRUE,\"\",VLOOKUP(CONCATENATE($V$12,\"_\",U24),選手名簿!$A:$E,5,FALSE))","v":""},null,null,null,null,null,null,null,"得失点"]
[null,{"$f":"IF(ISERROR(VLOOKUP(CONCATENATE($B$12,\"_\",C25),選手名簿!$A:$E,5,FALSE))=TRUE,\"\",VLOOKUP(CONCATENATE($B$12,\"_\",C25),選手名簿!$A:$E,5,FALSE))","v":""},null,null,null,null,null,null,null,{"$f":"IF(ISERROR(VLOOKUP(CONCATENATE($J$12,\"_\",I25),選手名簿!$A:$E,5,FALSE))=TRUE,\"\",VLOOKUP(CONCATENATE($J$12,\"_\",I25),選手名簿!$A:$E,5,FALSE))","v":""},null,null,null,{"$f":"IF(ISERROR(VLOOKUP(CONCATENATE($N$12,\"_\",O25),選手名簿!$A:$E,5,FALSE))=TRUE,\"\",VLOOKUP(CONCATENATE($N$12,\"_\",O25),選手名簿!$A:$E,5,FALSE))","v":""},null,null,null,null,null,null,null,{"$f":"IF(ISERROR(VLOOKUP(CONCATENATE($V$12,\"_\",U25),選手名簿!$A:$E,5,FALSE))=TRUE,\"\",VLOOKUP(CONCATENATE($V$12,\"_\",U25),選手名簿!$A:$E,5,FALSE))","v":""},null,null,null,null,null,null,null,null,null,null,null,null,null,null,{"$f":"$C$12","v":1},null,"―",{"$f":"$I$12","v":2},null,{"$f":"$I$48","v":0},null,"―",{"$f":"$C$48","v":0}]
[null,{"$f":"IF(ISERROR(VLOOKUP(CONCATENATE($B$12,\"_\",C26),選手名簿!$A:$E,5,FALSE))=TRUE,\"\",VLOOKUP(CONCATENATE($B$12,\"_\",C26),選手名簿!$A:$E,5,FALSE))","v":""},null,null,null,null,null,null,null,{"$f":"IF(ISERROR(VLOOKUP(CONCATENATE($J$12,\"_\",I26),選手名簿!$A:$E,5,FALSE))=TRUE,\"\",VLOOKUP(CONCATENATE($J$12,\"_\",I26),選手名簿!$A:$E,5,FALSE))","v":""},null,null,null,{"$f":"IF(ISERROR(VLOOKUP(CONCATENATE($N$12,\"_\",O26),選手名簿!$A:$E,5,FALSE))=TRUE,\"\",VLOOKUP(CONCATENATE($N$12,\"_\",O26),選手名簿!$A:$E,5,FALSE))","v":""},null,null,null,null,null,null,null,{"$f":"IF(ISERROR(VLOOKUP(CONCATENATE($V$12,\"_\",U26),選手名簿!$A:$E,5,FALSE))=TRUE,\"\",VLOOKUP(CONCATENATE($V$12,\"_\",U26),選手名簿!$A:$E,5,FALSE))","v":""}]
[null,{"$f":"IF(ISERROR(VLOOKUP(CONCATENATE($B$12,\"_\",C27),選手名簿!$A:$E,5,FALSE))=TRUE,\"\",VLOOKUP(CONCATENATE($B$12,\"_\",C27),選手名簿!$A:$E,5,FALSE))","v":""},null,null,null,null,null,null,null,{"$f":"IF(ISERROR(VLOOKUP(CONCATENATE($J$12,\"_\",I27),選手名簿!$A:$E,5,FALSE))=TRUE,\"\",VLOOKUP(CONCATENATE($J$12,\"_\",I27),選手名簿!$A:$E,5,FALSE))","v":""},null,null,null,{"$f":"IF(ISERROR(VLOOKUP(CONCATENATE($N$12,\"_\",O27),選手名簿!$A:$E,5,FALSE))=TRUE,\"\",VLOOKUP(CONCATENATE($N$12,\"_\",O27),選手名簿!$A:$E,5,FALSE))","v":""},null,null,null,null,null,null,null,{"$f":"IF(ISERROR(VLOOKUP(CONCATENATE($V$12,\"_\",U27),選手名簿!$A:$E,5,FALSE))=TRUE,\"\",VLOOKUP(CONCATENATE($V$12,\"_\",U27),選手名簿!$A:$E,5,FALSE))","v":""},null,null,{"$f":"$AC$8","v":"由布川サッカースポーツ少年団"},null,null,null,null,"星取表",null,{"$f":"IF(AF31=\"\",\"\",IF(AF31>AI31,\"○\",IF(AF31<AI31,\"●\",IF(AF29>AI29,\"△\",IF(AF29<AI29,\"▲\")))))","v":"○"},null,null,null,null,null,null,null,null,null,{"$f":"IF(AP31=\"\",\"\",IF(AP31>AS31,\"○\",IF(AP31<AS31,\"●\",IF(AP29>AS29,\"△\",IF(AP29<AS29,\"▲\")))))","v":"○"},null,null,null,null,{"$f":"COUNTIF($AF$27:$AT$28,\"○\")","v":2},null,{"$f":"COUNTIF($AF$27:$AT$28,\"△\")","v":0},null,{"$f":"COUNTIF($AF$27:$AT$28,\"▲\")","v":0},null,{"$f":"COUNTIF($AF$27:$AT$28,\"●\")","v":0},null,{"$f":"SUM($AF$31,$AP$31)","v":3},null,{"$f":"SUM($AI$31,$AS$31)","v":1},null,{"$f":"($AU$27*3)+($AW$27*2)+($AY$27*1)","v":6},null,{"$f":"RANK($BG$27,$BG$21:$BH$38)","v":1},null,{"$f":"$BC$27-$BE$27","v":2},null,{"$f":"RANK($BK$27,$BK$21:$BL$38)","v":1}]
[]
[null,null,null,null,null,null,null,null,null,null,null,null,null,null,null,null,null,null,null,null,null,null,null,null,null,null,null,null,null,null,null,{"$f":"AN23","v":""},null,"―",{"$f":"AK23","v":""},null,null,null,null,null,null,{"$f":"IF($E$32=\"\",\"\",$E$32)","v":""},null,"―",{"$f":"IF($G$32=\"\",\"\",$G$32)","v":""}]
["③\n12:00～",{"$f":"C8","v":"由布川サッカースポーツ少年団"},{"$f":"IF(E30=\"\",\"\",SUM(E30:E31))","v":1},"（",1,"前半",0,"）",{"$f":"IF(G30=\"\",\"\",SUM(G30:G31))","v":0},{"$f":"C9","v":"弥生少年サッカークラブ"},null,null,"④\n13:00～",{"$f":"O8","v":"中津沖代ＪＳＣ"},{"$f":"IF(Q30=\"\",\"\",SUM(Q30:Q31))","v":0},"（",0,"前半",0,"）",{"$f":"IF(S30=\"\",\"\",SUM(S30:S31))","v":1},{"$f":"O9","v":"ブルーウイングフットボールクラブ"},null,null,null,null,null,null,null,"得失点"]
[null,null,null,null,0,"後半",0,null,null,null,null,null,null,null,null,null,0,"後半",1,null,null,null,null,null,null,null,null,null,null,null,null,{"$f":"AN25","v":2},null,"―",{"$f":"AK25","v":1},null,null,null,null,null,null,{"$f":"$C$30","v":1},null,"―",{"$f":"$I$30","v":0}]
[null,null,null,null,null,"PK",null,null,null,null,null,null,null,null,null,null,null,"PK"]
["MC","廣瀬　光雄",null,null,null,null,"所属協会",null,null,"佐伯市サッカー協会",null,null,"MC","秋元　昭一",null,null,null,null,"所属協会",null,null,"佐伯市サッカー協会",null,null,{"$f":"$AC$9","v":"弥生少年サッカークラブ"},null,null,null,null,"星取表",null,{"$f":"IF(AF37=\"\",\"\",IF(AF37>AI37,\"○\",IF(AF37<AI37,\"●\",IF(AF35>AI35,\"△\",IF(AF35<AI35,\"▲\")))))","v":false},null,null,null,null,{"$f":"IF(AK37=\"\",\"\",IF(AK37>AN37,\"○\",IF(AK37<AN37,\"●\",IF(AK35>AN35,\"△\",IF(AK35<AN35,\"▲\")))))","v":"●"},null,null,null,null,null,null,null,null,null,{"$f":"COUNTIF($AF$33:$AT$34,\"○\")","v":0},null,{"$f":"COUNTIF($AF$33:$AT$34,\"△\")","v":0},null,{"$f":"COUNTIF($AF$33:$AT$34,\"▲\")","v":0},null,{"$f":"COUNTIF($AF$33:$AT$34,\"●\")","v":1},null,{"$f":"SUM($AF$37,$AK$37)","v":0},null,{"$f":"SUM($AI$37,$AN$37)","v":1},null,{"$f":"($AU$33*3)+($AW$33*2)+($AY$33*1)","v":0},null,{"$f":"RANK($BG$33,$BG$21:$BH$38)","v":2},null,{"$f":"$BC$33-$BE$33","v":-1},null,{"$f":"RANK($BK$33,$BK$21:$BL$38)","v":2}]
["WelfareOfficer","管　拓哉",null,null,null,null,"所属協会",null,null,"佐伯市サッカー協会",null,null,"WelfareOfficer","古藤田　和好",null,null,null,null,"所属協会",null,null,"佐伯市サッカー協会"]
["記録","内山田　光史",null,null,null,null,"所属協会",null,null,"佐伯市サッカー協会",null,null,"記録","砂川　勝徳",null,null,null,null,"所属協会",null,null,"佐伯市サッカー協会",null,null,null,null,null,null,null,null,null,{"$f":"AS23","v":""},null,"―",{"$f":"AP23","v":""},null,{"$f":"AS29","v":""},null,"―",{"$f":"AP29","v":""}]
["R:",{"$f":"IF(ISERROR(VLOOKUP(G36,審判員!$A:$C,2,FALSE))=TRUE,\"\",VLOOKUP(G36,審判員!$A:$C,2,FALSE))","v":"吐合　直樹"},{"$f":"IF(ISERROR(VLOOKUP(G36,審判員!$A:$C,3,FALSE))=TRUE,\"\",VLOOKUP(G36,審判員!$A:$C,3,FALSE))","v":3},"級","資格番号",null,"R009546055",null,null,"本部",null,null,"R:",{"$f":"IF(ISERROR(VLOOKUP(S36,審判員!$A:$C,2,FALSE))=TRUE,\"\",VLOOKUP(S36,審判員!$A:$C,2,FALSE))","v":"清家　大介"},{"$f":"IF(ISERROR(VLOOKUP(S36,審判員!$A:$C,3,FALSE))=TRUE,\"\",VLOOKUP(S36,審判員!$A:$C,3,FALSE))","v":3},"級","資格番号",null,"R010027823",null,null,"本部",null,null,null,null,null,null,null,"得失点"]
["AR1:",{"$f":"IF(ISERROR(VLOOKUP(G37,審判員!$A:$C,2,FALSE))=TRUE,\"\",VLOOKUP(G37,審判員!$A:$C,2,FALSE))","v":"高橋　芳洋"},{"$f":"IF(ISERROR(VLOOKUP(G37,審判員!$A:$C,3,FALSE))=TRUE,\"\",VLOOKUP(G37,審判員!$A:$C,3,FALSE))","v":3},"級","資格番号",null,"R001263785",null,null,{"$f":"N30","v":"中津沖代ＪＳＣ"},null,null,"AR1:",{"$f":"IF(ISERROR(VLOOKUP(S37,審判員!$A:$C,2,FALSE))=TRUE,\"\",VLOOKUP(S37,審判員!$A:$C,2,FALSE))","v":"榊　謙治"},{"$f":"IF(ISERROR(VLOOKUP(S37,審判員!$A:$C,3,FALSE))=TRUE,\"\",VLOOKUP(S37,審判員!$A:$C,3,FALSE))","v":3},"級","資格番号",null,"R010356115",null,null,{"$f":"B30","v":"由布川サッカースポーツ少年団"},null,null,null,null,null,null,null,null,null,{"$f":"AS25","v":0},null,"―",{"$f":"AP25","v":0},null,{"$f":"AS31","v":0},null,"―",{"$f":"AP31","v":1}]
["AR2:",{"$f":"IF(ISERROR(VLOOKUP(G38,審判員!$A:$C,2,FALSE))=TRUE,\"\",VLOOKUP(G38,審判員!$A:$C,2,FALSE))","v":"有田　裕哉"},{"$f":"IF(ISERROR(VLOOKUP(G38,審判員!$A:$C,3,FALSE))=TRUE,\"\",VLOOKUP(G38,審判員!$A:$C,3,FALSE))","v":3},"級","資格番号",null,"R004225713",null,null,{"$f":"V30","v":"ブルーウイングフットボールクラブ"},null,null,"AR2:",{"$f":"IF(ISERROR(VLOOKUP(S38,審判員!$A:$C,2,FALSE))=TRUE,\"\",VLOOKUP(S38,審判員!$A:$C,2,FALSE))","v":"江藤　雅章"},{"$f":"IF(ISERROR(VLOOKUP(S38,審判員!$A:$C,3,FALSE))=TRUE,\"\",VLOOKUP(S38,審判員!$A:$C,3,FALSE))","v":3},"級","資格番号",null,"R001254477",null,null,{"$f":"J30","v":"弥生少年サッカークラブ"}]
["4th:",{"$f":"IF(ISERROR(VLOOKUP(G39,審判員!$A:$C,2,FALSE))=TRUE,\"\",VLOOKUP(G39,審判員!$A:$C,2,FALSE))","v":"長澤　直樹"},{"$f":"IF(ISERROR(VLOOKUP(G39,審判員!$A:$C,3,FALSE))=TRUE,\"\",VLOOKUP(G39,審判員!$A:$C,3,FALSE))","v":4},"級","資格番号",null,"R010120189",null,null,"本部",null,null,"4th:",{"$f":"IF(ISERROR(VLOOKUP(S39,審判員!$A:$C,2,FALSE))=TRUE,\"\",VLOOKUP(S39,審判員!$A:$C,2,FALSE))","v":"神崎　大輔"},{"$f":"IF(ISERROR(VLOOKUP(S39,審判員!$A:$C,3,FALSE))=TRUE,\"\",VLOOKUP(S39,審判員!$A:$C,3,FALSE))","v":4},"級","資格番号",null,"R010396520",null,null,"本部"]
["警告/退場","氏名","背番号","分","内容",null,"内容","分","背番号","氏名","警告/退場",null,"警告/退場","氏名","背番号","分","内容",null,"内容","分","背番号","氏名","警告/退場",null,"Ⅰ勝点（勝３点　ＰＫ勝２点　ＰＫ負１点　負０点）　Ⅱ当該チームの戦績　Ⅲ得失点差　Ⅳ多得点　Ⅴ抽選の順で順位を決定する。"]
[null,{"$f":"IF(ISERROR(VLOOKUP(CONCATENATE($B$30,\"_\",C41),選手名簿!$A:$E,5,FALSE))=TRUE,\"\",VLOOKUP(CONCATENATE($B$30,\"_\",C41),選手名簿!$A:$E,5,FALSE))","v":""},null,null,null,null,null,null,null,{"$f":"IF(ISERROR(VLOOKUP(CONCATENATE($J$30,\"_\",I41),選手名簿!$A:$E,5,FALSE))=TRUE,\"\",VLOOKUP(CONCATENATE($J$30,\"_\",I41),選手名簿!$A:$E,5,FALSE))","v":""},null,null,null,{"$f":"IF(ISERROR(VLOOKUP(CONCATENATE($N$30,\"_\",O41),選手名簿!$A:$E,5,FALSE))=TRUE,\"\",VLOOKUP(CONCATENATE($N$30,\"_\",O41),選手名簿!$A:$E,5,FALSE))","v":""},null,null,null,null,null,null,null,{"$f":"IF(ISERROR(VLOOKUP(CONCATENATE($V$30,\"_\",U41),選手名簿!$A:$E,5,FALSE))=TRUE,\"\",VLOOKUP(CONCATENATE($V$30,\"_\",U41),選手名簿!$A:$E,5,FALSE))","v":""}]
[null,{"$f":"IF(ISERROR(VLOOKUP(CONCATENATE($B$30,\"_\",C42),選手名簿!$A:$E,5,FALSE))=TRUE,\"\",VLOOKUP(CONCATENATE($B$30,\"_\",C42),選手名簿!$A:$E,5,FALSE))","v":""},null,null,null,null,null,null,null,{"$f":"IF(ISERROR(VLOOKUP(CONCATENATE($J$30,\"_\",I42),選手名簿!$A:$E,5,FALSE))=TRUE,\"\",VLOOKUP(CONCATENATE($J$30,\"_\",I42),選手名簿!$A:$E,5,FALSE))","v":""},null,null,null,{"$f":"IF(ISERROR(VLOOKUP(CONCATENATE($N$30,\"_\",O42),選手名簿!$A:$E,5,FALSE))=TRUE,\"\",VLOOKUP(CONCATENATE($N$30,\"_\",O42),選手名簿!$A:$E,5,FALSE))","v":""},null,null,null,null,null,null,null,{"$f":"IF(ISERROR(VLOOKUP(CONCATENATE($V$30,\"_\",U42),選手名簿!$A:$E,5,FALSE))=TRUE,\"\",VLOOKUP(CONCATENATE($V$30,\"_\",U42),選手名簿!$A:$E,5,FALSE))","v":""},null,null,"勝点表",null,"勝","○",null,"PK\n勝","△",null,"PK\n負","▲",null,"負","●"]
[null,{"$f":"IF(ISERROR(VLOOKUP(CONCATENATE($B$30,\"_\",C43),選手名簿!$A:$E,5,FALSE))=TRUE,\"\",VLOOKUP(CONCATENATE($B$30,\"_\",C43),選手名簿!$A:$E,5,FALSE))","v":""},null,null,null,null,null,null,null,{"$f":"IF(ISERROR(VLOOKUP(CONCATENATE($J$30,\"_\",I43),選手名簿!$A:$E,5,FALSE))=TRUE,\"\",VLOOKUP(CONCATENATE($J$30,\"_\",I43),選手名簿!$A:$E,5,FALSE))","v":""},null,null,null,{"$f":"IF(ISERROR(VLOOKUP(CONCATENATE($N$30,\"_\",O43),選手名簿!$A:$E,5,FALSE))=TRUE,\"\",VLOOKUP(CONCATENATE($N$30,\"_\",O43),選手名簿!$A:$E,5,FALSE))","v":""},null,null,null,null,null,null,null,{"$f":"IF(ISERROR(VLOOKUP(CONCATENATE($V$30,\"_\",U43),選手名簿!$A:$E,5,FALSE))=TRUE,\"\",VLOOKUP(CONCATENATE($V$30,\"_\",U43),選手名簿!$A:$E,5,FALSE))","v":""},null,null,null,null,null,3,null,null,2,null,null,1,null,null,0]
[null,{"$f":"IF(ISERROR(VLOOKUP(CONCATENATE($B$30,\"_\",C44),選手名簿!$A:$E,5,FALSE))=TRUE,\"\",VLOOKUP(CONCATENATE($B$30,\"_\",C44),選手名簿!$A:$E,5,FALSE))","v":""},null,null,null,null,null,null,null,{"$f":"IF(ISERROR(VLOOKUP(CONCATENATE($J$30,\"_\",I44),選手名簿!$A:$E,5,FALSE))=TRUE,\"\",VLOOKUP(CONCATENATE($J$30,\"_\",I44),選手名簿!$A:$E,5,FALSE))","v":""},null,null,null,{"$f":"IF(ISERROR(VLOOKUP(CONCATENATE($N$30,\"_\",O44),選手名簿!$A:$E,5,FALSE))=TRUE,\"\",VLOOKUP(CONCATENATE($N$30,\"_\",O44),選手名簿!$A:$E,5,FALSE))","v":""},null,null,null,null,null,null,null,{"$f":"IF(ISERROR(VLOOKUP(CONCATENATE($V$30,\"_\",U44),選手名簿!$A:$E,5,FALSE))=TRUE,\"\",VLOOKUP(CONCATENATE($V$30,\"_\",U44),選手名簿!$A:$E,5,FALSE))","v":""}]
[null,{"$f":"IF(ISERROR(VLOOKUP(CONCATENATE($B$30,\"_\",C45),選手名簿!$A:$E,5,FALSE))=TRUE,\"\",VLOOKUP(CONCATENATE($B$30,\"_\",C45),選手名簿!$A:$E,5,FALSE))","v":""},null,null,null,null,null,null,null,{"$f":"IF(ISERROR(VLOOKUP(CONCATENATE($J$30,\"_\",I45),選手名簿!$A:$E,5,FALSE))=TRUE,\"\",VLOOKUP(CONCATENATE($J$30,\"_\",I45),選手名簿!$A:$E,5,FALSE))","v":""},null,null,null,{"$f":"IF(ISERROR(VLOOKUP(CONCATENATE($N$30,\"_\",O45),選手名簿!$A:$E,5,FALSE))=TRUE,\"\",VLOOKUP(CONCATENATE($N$30,\"_\",O45),選手名簿!$A:$E,5,FALSE))","v":""},null,null,null,null,null,null,null,{"$f":"IF(ISERROR(VLOOKUP(CONCATENATE($V$30,\"_\",U45),選手名簿!$A:$E,5,FALSE))=TRUE,\"\",VLOOKUP(CONCATENATE($V$30,\"_\",U45),選手名簿!$A:$E,5,FALSE))","v":""}]
[]
[]
["⑤\n14:00～",{"$f":"C9","v":"弥生少年サッカークラブ"},{"$f":"IF(E48=\"\",\"\",SUM(E48:E49))","v":0},"（",0,"前半",0,"）",{"$f":"IF(G48=\"\",\"\",SUM(G48:G49))","v":0},{"$f":"C7","v":"ドリームキッズフットボールクラブ"},null,null,"⑥\n15:00～",{"$f":"O9","v":"ブルーウイングフットボールクラブ"},{"$f":"IF(Q48=\"\",\"\",SUM(Q48:Q49))","v":3},"（",1,"前半",0,"）",{"$f":"IF(S48=\"\",\"\",SUM(S48:S49))","v":0},{"$f":"O7","v":"大分トリニータＵ－１２"},null,null,{"$f":"$Y$1","v":"OFA 第 51 回大分県少年サッカー大会　兼　KYFA 九州U-12サッカー大会大分県大会"},null,null,null,null,null,null,null,null,null,null,null,null,null,null,null,null,null,null,null,null,null,null,null,null,null,null,null,null,null,null,null,null,null,null,null,{"$f":"$BI$1","v":"２次リーグ結果　報告用紙"}]
[null,null,null,null,0,"後半",0,null,null,null,null,null,null,null,null,null,2,"後半",0]
[null,null,null,null,null,"PK",null,null,null,null,null,null,null,null,null,null,null,"PK",null,null,null,null,null,null,"＜時間割＞　①10:00～　②11:00～　③12:00～　④13:00～　⑤14:00～　⑥15:00～"]
["MC","廣瀬　光雄",null,null,null,null,"所属協会",null,null,"佐伯市サッカー協会",null,null,"MC","秋元　昭一",null,null,null,null,"所属協会",null,null,"佐伯市サッカー協会"]
["WelfareOfficer","管　拓哉",null,null,null,null,"所属協会",null,null,"佐伯市サッカー協会",null,null,"WelfareOfficer","古藤田　和好",null,null,null,null,"所属協会",null,null,"佐伯市サッカー協会"]
["記録","内山田　光史",null,null,null,null,"所属協会",null,null,"佐伯市サッカー協会",null,null,"記録","砂川　勝徳",null,null,null,null,"所属協会",null,null,"佐伯市サッカー協会"]
["R:",{"$f":"IF(ISERROR(VLOOKUP(G54,審判員!$A:$C,2,FALSE))=TRUE,\"\",VLOOKUP(G54,審判員!$A:$C,2,FALSE))","v":"吐合　直樹"},{"$f":"IF(ISERROR(VLOOKUP(G54,審判員!$A:$C,3,FALSE))=TRUE,\"\",VLOOKUP(G54,審判員!$A:$C,3,FALSE))","v":3},"級","資格番号",null,"R009546055",null,null,"本部",null,null,"R:",{"$f":"IF(ISERROR(VLOOKUP(S54,審判員!$A:$C,2,FALSE))=TRUE,\"\",VLOOKUP(S54,審判員!$A:$C,2,FALSE))","v":"清家　大介"},{"$f":"IF(ISERROR(VLOOKUP(S54,審判員!$A:$C,3,FALSE))=TRUE,\"\",VLOOKUP(S54,審判員!$A:$C,3,FALSE))","v":3},"級","資格番号",null,"R010027823",null,null,"本部",null,null,"会場",null,null,{"$f":"$N$4","v":"佐伯"},null,null,null,null,null,"⇒",{"$f":"$P$4","v":"佐伯市総合運動公園多目的ｸﾞﾗｳﾝﾄﾞ(人工芝)"}]
["AR1:",{"$f":"IF(ISERROR(VLOOKUP(G55,審判員!$A:$C,2,FALSE))=TRUE,\"\",VLOOKUP(G55,審判員!$A:$C,2,FALSE))","v":"有田　裕哉"},{"$f":"IF(ISERROR(VLOOKUP(G55,審判員!$A:$C,3,FALSE))=TRUE,\"\",VLOOKUP(G55,審判員!$A:$C,3,FALSE))","v":3},"級","資格番号",null,"R004225713",null,null,{"$f":"N48","v":"ブルーウイングフットボールクラブ"},null,null,"AR1:",{"$f":"IF(ISERROR(VLOOKUP(S55,審判員!$A:$C,2,FALSE))=TRUE,\"\",VLOOKUP(S55,審判員!$A:$C,2,FALSE))","v":"竹嶋　仁"},{"$f":"IF(ISERROR(VLOOKUP(S55,審判員!$A:$C,3,FALSE))=TRUE,\"\",VLOOKUP(S55,審判員!$A:$C,3,FALSE))","v":3},"級","資格番号",null,"R003972489",null,null,{"$f":"B48","v":"弥生少年サッカークラブ"}]
["AR2:",{"$f":"IF(ISERROR(VLOOKUP(G56,審判員!$A:$C,2,FALSE))=TRUE,\"\",VLOOKUP(G56,審判員!$A:$C,2,FALSE))","v":"小川　翔太"},{"$f":"IF(ISERROR(VLOOKUP(G56,審判員!$A:$C,3,FALSE))=TRUE,\"\",VLOOKUP(G56,審判員!$A:$C,3,FALSE))","v":3},"級","資格番号",null,"R007075261",null,null,{"$f":"V48","v":"大分トリニータＵ－１２"},null,null,"AR2:",{"$f":"IF(ISERROR(VLOOKUP(S56,審判員!$A:$C,2,FALSE))=TRUE,\"\",VLOOKUP(S56,審判員!$A:$C,2,FALSE))","v":"酒井　祐三"},{"$f":"IF(ISERROR(VLOOKUP(S56,審判員!$A:$C,3,FALSE))=TRUE,\"\",VLOOKUP(S56,審判員!$A:$C,3,FALSE))","v":3},"級","資格番号",null,"R001263350",null,null,{"$f":"J48","v":"ドリームキッズフットボールクラブ"}]
["4th:",{"$f":"IF(ISERROR(VLOOKUP(G57,審判員!$A:$C,2,FALSE))=TRUE,\"\",VLOOKUP(G57,審判員!$A:$C,2,FALSE))","v":"長澤　直樹"},{"$f":"IF(ISERROR(VLOOKUP(G57,審判員!$A:$C,3,FALSE))=TRUE,\"\",VLOOKUP(G57,審判員!$A:$C,3,FALSE))","v":4},"級","資格番号",null,"R010120189",null,null,"本部",null,null,"4th:",{"$f":"IF(ISERROR(VLOOKUP(S57,審判員!$A:$C,2,FALSE))=TRUE,\"\",VLOOKUP(S57,審判員!$A:$C,2,FALSE))","v":"神崎　大輔"},{"$f":"IF(ISERROR(VLOOKUP(S57,審判員!$A:$C,3,FALSE))=TRUE,\"\",VLOOKUP(S57,審判員!$A:$C,3,FALSE))","v":4},"級","資格番号",null,"R010396520",null,null,"本部"]
["警告/退場","氏名","背番号","分","内容",null,"内容","分","背番号","氏名","警告/退場",null,"警告/退場","氏名","背番号","分","内容",null,"内容","分","背番号","氏名","警告/退場",null,"パート",null,null,{"$f":"$N$6","v":"2次リーグ　Cパート"}]
[null,{"$f":"IF(ISERROR(VLOOKUP(CONCATENATE($B$48,\"_\",C59),選手名簿!$A:$E,5,FALSE))=TRUE,\"\",VLOOKUP(CONCATENATE($B$48,\"_\",C59),選手名簿!$A:$E,5,FALSE))","v":""},null,null,null,null,null,null,null,{"$f":"IF(ISERROR(VLOOKUP(CONCATENATE($J$48,\"_\",I59),選手名簿!$A:$E,5,FALSE))=TRUE,\"\",VLOOKUP(CONCATENATE($J$48,\"_\",I59),選手名簿!$A:$E,5,FALSE))","v":""},null,null,null,{"$f":"IF(ISERROR(VLOOKUP(CONCATENATE($N$48,\"_\",O59),選手名簿!$A:$E,5,FALSE))=TRUE,\"\",VLOOKUP(CONCATENATE($N$48,\"_\",O59),選手名簿!$A:$E,5,FALSE))","v":""},null,null,null,null,null,null,null,{"$f":"IF(ISERROR(VLOOKUP(CONCATENATE($V$48,\"_\",U59),選手名簿!$A:$E,5,FALSE))=TRUE,\"\",VLOOKUP(CONCATENATE($V$48,\"_\",U59),選手名簿!$A:$E,5,FALSE))","v":""}]
[null,{"$f":"IF(ISERROR(VLOOKUP(CONCATENATE($B$48,\"_\",C60),選手名簿!$A:$E,5,FALSE))=TRUE,\"\",VLOOKUP(CONCATENATE($B$48,\"_\",C60),選手名簿!$A:$E,5,FALSE))","v":""},null,null,null,null,null,null,null,{"$f":"IF(ISERROR(VLOOKUP(CONCATENATE($J$48,\"_\",I60),選手名簿!$A:$E,5,FALSE))=TRUE,\"\",VLOOKUP(CONCATENATE($J$48,\"_\",I60),選手名簿!$A:$E,5,FALSE))","v":""},null,null,null,{"$f":"IF(ISERROR(VLOOKUP(CONCATENATE($N$48,\"_\",O60),選手名簿!$A:$E,5,FALSE))=TRUE,\"\",VLOOKUP(CONCATENATE($N$48,\"_\",O60),選手名簿!$A:$E,5,FALSE))","v":""},null,null,null,null,null,null,null,{"$f":"IF(ISERROR(VLOOKUP(CONCATENATE($V$48,\"_\",U60),選手名簿!$A:$E,5,FALSE))=TRUE,\"\",VLOOKUP(CONCATENATE($V$48,\"_\",U60),選手名簿!$A:$E,5,FALSE))","v":""},null,null,null,{"$f":"$N$7","v":"G"},null,null,{"$f":"$O$7","v":"大分トリニータＵ－１２"},null,null,null,null,null,null,null,null,null,null,null,null,{"$f":"$V$7","v":"大分"}]
[null,{"$f":"IF(ISERROR(VLOOKUP(CONCATENATE($B$48,\"_\",C61),選手名簿!$A:$E,5,FALSE))=TRUE,\"\",VLOOKUP(CONCATENATE($B$48,\"_\",C61),選手名簿!$A:$E,5,FALSE))","v":""},null,null,null,null,null,null,null,{"$f":"IF(ISERROR(VLOOKUP(CONCATENATE($J$48,\"_\",I61),選手名簿!$A:$E,5,FALSE))=TRUE,\"\",VLOOKUP(CONCATENATE($J$48,\"_\",I61),選手名簿!$A:$E,5,FALSE))","v":""},null,null,null,{"$f":"IF(ISERROR(VLOOKUP(CONCATENATE($N$48,\"_\",O61),選手名簿!$A:$E,5,FALSE))=TRUE,\"\",VLOOKUP(CONCATENATE($N$48,\"_\",O61),選手名簿!$A:$E,5,FALSE))","v":""},null,null,null,null,null,null,null,{"$f":"IF(ISERROR(VLOOKUP(CONCATENATE($V$48,\"_\",U61),選手名簿!$A:$E,5,FALSE))=TRUE,\"\",VLOOKUP(CONCATENATE($V$48,\"_\",U61),選手名簿!$A:$E,5,FALSE))","v":""}]
[null,{"$f":"IF(ISERROR(VLOOKUP(CONCATENATE($B$48,\"_\",C62),選手名簿!$A:$E,5,FALSE))=TRUE,\"\",VLOOKUP(CONCATENATE($B$48,\"_\",C62),選手名簿!$A:$E,5,FALSE))","v":""},null,null,null,null,null,null,null,{"$f":"IF(ISERROR(VLOOKUP(CONCATENATE($J$48,\"_\",I62),選手名簿!$A:$E,5,FALSE))=TRUE,\"\",VLOOKUP(CONCATENATE($J$48,\"_\",I62),選手名簿!$A:$E,5,FALSE))","v":""},null,null,null,{"$f":"IF(ISERROR(VLOOKUP(CONCATENATE($N$48,\"_\",O62),選手名簿!$A:$E,5,FALSE))=TRUE,\"\",VLOOKUP(CONCATENATE($N$48,\"_\",O62),選手名簿!$A:$E,5,FALSE))","v":""},null,null,null,null,null,null,null,{"$f":"IF(ISERROR(VLOOKUP(CONCATENATE($V$48,\"_\",U62),選手名簿!$A:$E,5,FALSE))=TRUE,\"\",VLOOKUP(CONCATENATE($V$48,\"_\",U62),選手名簿!$A:$E,5,FALSE))","v":""},null,null,null,{"$f":"$N$8","v":"H"},null,null,{"$f":"$O$8","v":"中津沖代ＪＳＣ"},null,null,null,null,null,null,null,null,null,null,null,null,{"$f":"$V$8","v":"中津"}]
[null,{"$f":"IF(ISERROR(VLOOKUP(CONCATENATE($B$48,\"_\",C63),選手名簿!$A:$E,5,FALSE))=TRUE,\"\",VLOOKUP(CONCATENATE($B$48,\"_\",C63),選手名簿!$A:$E,5,FALSE))","v":""},null,null,null,null,null,null,null,{"$f":"IF(ISERROR(VLOOKUP(CONCATENATE($J$48,\"_\",I63),選手名簿!$A:$E,5,FALSE))=TRUE,\"\",VLOOKUP(CONCATENATE($J$48,\"_\",I63),選手名簿!$A:$E,5,FALSE))","v":""},null,null,null,{"$f":"IF(ISERROR(VLOOKUP(CONCATENATE($N$48,\"_\",O63),選手名簿!$A:$E,5,FALSE))=TRUE,\"\",VLOOKUP(CONCATENATE($N$48,\"_\",O63),選手名簿!$A:$E,5,FALSE))","v":""},null,null,null,null,null,null,null,{"$f":"IF(ISERROR(VLOOKUP(CONCATENATE($V$48,\"_\",U63),選手名簿!$A:$E,5,FALSE))=TRUE,\"\",VLOOKUP(CONCATENATE($V$48,\"_\",U63),選手名簿!$A:$E,5,FALSE))","v":""}]
[null,null,null,null,null,null,null,null,null,null,null,null,null,null,null,null,null,null,null,null,null,null,null,null,null,{"$f":"$N$9","v":"I"},null,null,{"$f":"$O$9","v":"ブルーウイングフットボールクラブ"},null,null,null,null,null,null,null,null,null,null,null,null,{"$f":"$V$9","v":"大分"}]
[]
[]
[]
[]
[]
[]
[]
[null,null,null,null,null,null,null,null,null,null,null,null,null,null,null,null,null,null,null,null,null,null,null,null,{"$f":"$Y$6","v":"パート"},null,null,null,{"$f":"$AB$58","v":"2次リーグ　Cパート"},null,null,{"$f":"$Y$78","v":"大分トリニータＵ－１２"},null,null,null,null,{"$f":"$Y$84","v":"中津沖代ＪＳＣ"},null,null,null,null,{"$f":"$Y$90","v":"ブルーウイングフットボールクラブ"},null,null,null,null,"勝",null,"PK\n勝",null,"PK\n負",null,"負",null,"得点",null,"失点",null,"勝点",null,"勝点\n順位",null,"得失\n点差",null,"得失\n順位",null,"総\n順位"]
[]
[]
[]
[]
[]
[null,null,null,null,null,null,null,null,null,null,null,null,null,null,null,null,null,null,null,null,null,null,null,null,{"$f":"$AC$60","v":"大分トリニータＵ－１２"},null,null,null,null,"星取表",null,null,null,null,null,null,{"$f":"IF(AK82=\"\",\"\",IF(AK82>AN82,\"○\",IF(AK82<AN82,\"●\",IF(AK80>AN80,\"△\",IF(AK80<AN80,\"▲\")))))","v":"○"},null,null,null,null,{"$f":"IF(AP82=\"\",\"\",IF(AP82>AS82,\"○\",IF(AP82<AS82,\"●\",IF(AP80>AS80,\"△\",IF(AP80<AS80,\"▲\")))))","v":"●"},null,null,null,null,{"$f":"COUNTIF($AF$78:$AT$79,\"○\")","v":1},null,{"$f":"COUNTIF($AF$78:$AT$79,\"△\")","v":0},null,{"$f":"COUNTIF($AF$78:$AT$79,\"▲\")","v":0},null,{"$f":"COUNTIF($AF$78:$AT$79,\"●\")","v":1},null,{"$f":"SUM($AK$82,$AP$82)","v":5},null,{"$f":"SUM($AN$82,$AS$82)","v":4},null,{"$f":"($AU$78*3)+($AW$78*2)+($AY$78*1)","v":3},null,{"$f":"RANK($BG$78,$BG$78:$BH$95)","v":2},null,{"$f":"$BC$78-$BE$78","v":1},null,{"$f":"RANK($BK$78,$BK$78:$BL$95)","v":2}]
[]
[null,null,null,null,null,null,null,null,null,null,null,null,null,null,null,null,null,null,null,null,null,null,null,null,null,null,null,null,null,null,null,null,null,null,null,null,{"$f":"IF($Q$14=\"\",\"\",$Q$14)","v":""},null,"―",{"$f":"IF($S$14=\"\",\"\",$S$14)","v":""},null,{"$f":"IF($S$50=\"\",\"\",$S$50)","v":""},null,"―",{"$f":"IF($Q$50=\"\",\"\",$Q$50)","v":""}]
[null,null,null,null,null,null,null,null,null,null,null,null,null,null,null,null,null,null,null,null,null,null,null,null,null,null,null,null,null,"得失点"]
[null,null,null,null,null,null,null,null,null,null,null,null,null,null,null,null,null,null,null,null,null,null,null,null,null,null,null,null,null,null,null,null,null,null,null,null,{"$f":"$O$12","v":5},null,"―",{"$f":"$U$12","v":1},null,{"$f":"$U$48","v":0},null,"―",{"$f":"$O$48","v":3}]
[]
[null,null,null,null,null,null,null,null,null,null,null,null,null,null,null,null,null,null,null,null,null,null,null,null,{"$f":"$AC$62","v":"中津沖代ＪＳＣ"},null,null,null,null,"星取表",null,{"$f":"IF(AF88=\"\",\"\",IF(AF88>AI88,\"○\",IF(AF88<AI88,\"●\",IF(AF86>AI86,\"△\",IF(AF86<AI86,\"▲\")))))","v":"●"},null,null,null,null,null,null,null,null,null,{"$f":"IF(AP88=\"\",\"\",IF(AP88>AS88,\"○\",IF(AP88<AS88,\"●\",IF(AP86>AS86,\"△\",IF(AP86<AS86,\"▲\")))))","v":"●"},null,null,null,null,{"$f":"COUNTIF($AF$84:$AT$85,\"○\")","v":0},null,{"$f":"COUNTIF($AF$84:$AT$85,\"△\")","v":0},null,{"$f":"COUNTIF($AF$84:$AT$85,\"▲\")","v":0},null,{"$f":"COUNTIF($AF$84:$AT$85,\"●\")","v":2},null,{"$f":"SUM($AF$88,$AP$88)","v":1},null,{"$f":"SUM($AI$88,$AS$88)","v":6},null,{"$f":"($AU$84*3)+($AW$84*2)+($AY$84*1)","v":0},null,{"$f":"RANK($BG$84,$BG$78:$BH$95)","v":3},null,{"$f":"$BC$84-$BE$84","v":-5},null,{"$f":"RANK($BK$84,$BK$78:$BL$95)","v":3}]
[]
[null,null,null,null,null,null,null,null,null,null,null,null,null,null,null,null,null,null,null,null,null,null,null,null,null,null,null,null,null,null,null,{"$f":"AN80","v":""},null,"―",{"$f":"AK80","v":""},null,null,null,null,null,null,{"$f":"IF($Q$32=\"\",\"\",$Q$32)","v":""},null,"―",{"$f":"IF($S$32=\"\",\"\",$S$32)","v":""}]
[null,null,null,null,null,null,null,null,null,null,null,null,null,null,null,null,null,null,null,null,null,null,null,null,null,null,null,null,null,"得失点"]
[null,null,null,null,null,null,null,null,null,null,null,null,null,null,null,null,null,null,null,null,null,null,null,null,null,null,null,null,null,null,null,{"$f":"AN82","v":1},null,"―",{"$f":"AK82","v":5},null,null,null,null,null,null,{"$f":"$O$30","v":0},null,"―",{"$f":"$U$30","v":1}]
[]
[null,null,null,null,null,null,null,null,null,null,null,null,null,null,null,null,null,null,null,null,null,null,null,null,{"$f":"$AC$64","v":"ブルーウイングフットボールクラブ"},null,null,null,null,"星取表",null,{"$f":"IF(AF94=\"\",\"\",IF(AF94>AI94,\"○\",IF(AF94<AI94,\"●\",IF(AF92>AI92,\"△\",IF(AF92<AI92,\"▲\")))))","v":"○"},null,null,null,null,{"$f":"IF(AK94=\"\",\"\",IF(AK94>AN94,\"○\",IF(AK94<AN94,\"●\",IF(AK92>AN92,\"△\",IF(AK92<AN92,\"▲\")))))","v":"○"},null,null,null,null,null,null,null,null,null,{"$f":"COUNTIF($AF$90:$AT$91,\"○\")","v":2},null,{"$f":"COUNTIF($AF$90:$AT$91,\"△\")","v":0},null,{"$f":"COUNTIF($AF$90:$AT$91,\"▲\")","v":0},null,{"$f":"COUNTIF($AF$90:$AT$91,\"●\")","v":0},null,{"$f":"SUM($AF$94,$AK$94)","v":4},null,{"$f":"SUM($AI$94,$AN$94)","v":0},null,{"$f":"($AU$90*3)+($AW$90*2)+($AY$90*1)","v":6},null,{"$f":"RANK($BG$90,$BG$78:$BH$95)","v":1},null,{"$f":"$BC$90-$BE$90","v":4},null,{"$f":"RANK($BK$90,$BK$78:$BL$95)","v":1}]
[]
[null,null,null,null,null,null,null,null,null,null,null,null,null,null,null,null,null,null,null,null,null,null,null,null,null,null,null,null,null,null,null,{"$f":"AS80","v":""},null,"―",{"$f":"AP80","v":""},null,{"$f":"AS86","v":""},null,"―",{"$f":"AP86","v":""}]
[null,null,null,null,null,null,null,null,null,null,null,null,null,null,null,null,null,null,null,null,null,null,null,null,null,null,null,null,null,"得失点"]
[null,null,null,null,null,null,null,null,null,null,null,null,null,null,null,null,null,null,null,null,null,null,null,null,null,null,null,null,null,null,null,{"$f":"AS82","v":3},null,"―",{"$f":"AP82","v":0},null,{"$f":"AS88","v":1},null,"―",{"$f":"AP88","v":0}]
[]
[]
[null,null,null,null,null,null,null,null,null,null,null,null,null,null,null,null,null,null,null,null,null,null,null,null,"Ⅰ勝点（勝３点　ＰＫ勝２点　ＰＫ負１点　負０点）　Ⅱ当該チームの戦績　Ⅲ得失点差　Ⅳ多得点　Ⅴ抽選の順で順位を決定する。"]
[]
[null,null,null,null,null,null,null,null,null,null,null,null,null,null,null,null,null,null,null,null,null,null,null,null,"勝点表",null,"勝","○",null,"PK\n勝","△",null,"PK\n負","▲",null,"負","●"]
[null,null,null,null,null,null,null,null,null,null,null,null,null,null,null,null,null,null,null,null,null,null,null,null,null,null,null,3,null,null,2,null,null,1,null,null,0]

{"sheet":"２次リーグ（大分）","index":12,"n_rows":100,"n_cols":67,"rows_kept":100,"cut":false,"hidden":false,"merged":[[96,24,97,57],[98,24,99,25],[98,26,99,26],[98,29,99,29],[98,32,99,32],[0,9,0,10],[0,21,0,22],[89,48,94,49],[89,50,94,51],[89,52,94,53],[89,56,94,57],[57,27,58,32],[59,25,60,27],[59,28,60,40],[59,41,60,44],[61,41,62,44],[63,25,64,27],[63,28,64,40],[63,41,64,44],[61,25,62,27],[55,9,55,10],[55,16,55,17],[55,18,55,20],[55,21,55,22],[83,24,88,28],[83,29,85,30],[83,36,88,40],[83,46,88,47],[85,41,86,42],[85,43,86,43],[83,60,88,61],[83,62,88,63],[86,29,88,30],[89,29,91,30],[89,41,94,45],[89,46,94,47],[93,34,94,35],[89,60,94,61],[92,29,94,30],[91,39,92,40],[93,31,94,32],[93,33,94,33],[93,36,94,37],[93,38,94,38],[93,39,94,40],[56,4,56,5],[56,6,56,8],[56,9,56,10],[56,16,56,17],[56,18,56,20],[56,21,56,22],[57,24,58,26],[77,54,82,55],[71,46,76,47],[77,46,82,47],[71,48,76,49],[71,24,76,27],[71,28,76,30],[71,31,76,35],[71,36,76,40],[71,41,76,45],[71,50,76,51],[71,52,76,53],[77,24,82,28],[77,29,79,30],[77,31,82,35],[80,29,82,30],[71,54,76,55],[79,43,80,43],[47,0,49,0],[47,1,49,1],[47,2,49,2],[47,3,49,3],[47,7,49,7],[47,20,49,20],[53,4,53,5],[53,6,53,8],[53,9,53,10],[53,16,53,17],[53,18,53,20],[47,12,49,12],[47,13,49,13],[47,9,49,9],[47,8,49,8],[47,14,49,14],[47,15,49,15],[47,19,49,19],[50,1,50,5],[50,6,50,8],[50,9,50,10],[51,1,51,5],[51,6,51,8],[51,9,51,10],[53,21,53,22],[54,4,54,5],[54,6,54,8],[54,9,54,10],[54,16,54,17],[54,18,54,20],[54,21,54,22],[55,4,55,5],[55,6,55,8],[37,4,37,5],[37,6,37,8],[37,9,37,10],[37,16,37,17],[37,18,37,20],[37,21,37,22],[38,4,38,5],[38,6,38,8],[38,9,38,10],[38,16,38,17],[38,18,38,20],[35,4,35,5],[35,6,35,8],[35,9,35,10],[35,16,35,17],[35,18,35,20],[35,21,35,22],[36,4,36,5],[36,6,36,8],[36,9,36,10],[36,16,36,17],[36,18,36,20],[36,21,36,22],[26,64,31,65],[26,66,31,66],[28,43,29,43],[38,21,38,22],[47,21,49,21],[32,54,37,55],[32,56,37,57],[32,58,37,59],[32,60,37,61],[32,62,37,63],[35,29,37,30],[39,24,40,57],[41,24,42,25],[41,26,42,26],[41,29,42,29],[41,32,42,32],[26,54,31,55],[26,56,31,57],[26,58,31,59],[26,60,31,61],[26,62,31,63],[29,29,31,30],[30,34,31,35],[30,41,31,42],[29,0,31,0],[29,1,31,1],[29,2,31,2],[29,3,31,3],[29,7,31,7],[29,8,31,8],[29,9,31,9],[29,12,31,12],[29,13,31,13],[53,27,54,32],[53,33,54,33],[53,34,54,48],[77,48,82,49],[85,31,86,32],[85,33,86,33],[85,34,86,35],[71,64,76,65],[61,28,62,40],[77,60,82,61],[77,62,82,63],[71,56,76,57],[71,58,76,59],[71,60,76,61],[71,62,76,63],[77,56,82,57],[77,58,82,59],[79,38,80,38],[81,36,82,37],[81,38,82,38],[79,41,80,42],[83,48,88,49],[83,50,88,51],[83,52,88,53],[53,24,54,26],[77,50,82,51],[77,52,82,53],[32,24,37,28],[32,29,34,30],[32,41,37,45],[32,46,37,47],[32,31,33,35],[32,36,33,40],[36,34,37,35],[36,36,37,37],[32,48,37,49],[34,31,35,32],[34,33,35,33],[36,31,37,32],[36,33,37,33],[36,38,37,38],[36,39,37,40],[81,39,82,40],[81,41,82,42],[81,43,82,43],[81,44,82,45],[34,38,35,38],[34,39,35,40],[30,43,31,43],[30,44,31,45],[26,48,31,49],[26,50,31,51],[26,52,31,53],[26,24,31,28],[26,29,28,30],[26,36,31,40],[26,46,31,47],[28,31,29,32],[28,33,29,33],[28,34,29,35],[28,41,29,42],[30,31,31,32],[30,33,31,33],[26,31,27,35],[26,41,27,45],[28,44,29,45],[20,48,25,49],[20,50,25,51],[20,52,25,53],[20,54,25,55],[20,56,25,57],[20,58,25,59],[20,60,25,61],[20,62,25,63],[23,29,25,30],[20,24,25,28],[20,29,22,30],[20,31,25,35],[20,46,25,47],[22,41,23,42],[22,43,23,43],[22,44,23,45],[24,36,25,37],[24,38,25,38],[24,39,25,40],[24,43,25,43],[24,44,25,45],[24,41,25,42],[20,4,20,5],[15,18,15,20],[15,21,15,22],[16,13,16,17],[14,60,19,61],[14,62,19,63],[18,4,18,5],[18,6,18,8],[18,9,18,10],[18,16,18,17],[18,18,18,20],[18,21,18,22],[19,4,19,5],[19,6,19,8],[19,9,19,10],[19,16,19,17],[19,18,19,20],[19,21,19,22],[17,4,17,5],[17,6,17,8],[17,9,17,10],[17,16,17,17],[17,18,17,20],[14,24,19,27],[8,2,8,8],[8,9,8,10],[8,14,8,20],[8,21,8,22],[8,25,8,27],[8,28,8,40],[14,1,14,5],[14,6,14,8],[14,9,14,10],[14,28,19,30],[14,31,19,35],[17,21,17,22],[15,1,15,5],[15,6,15,8],[15,9,15,10],[16,1,16,5],[16,6,16,8],[16,9,16,10],[14,13,14,17],[14,18,14,20],[14,21,14,22],[15,13,15,17],[16,18,16,20],[16,21,16,22],[7,21,7,22],[7,25,7,27],[7,28,7,40],[7,41,7,44],[6,2,6,8],[6,9,6,10],[8,41,8,44],[11,0,13,0],[11,1,13,1],[11,2,13,2],[11,3,13,3],[11,7,13,7],[11,8,13,8],[11,9,13,9],[11,12,13,12],[11,13,13,13],[11,14,13,14],[11,15,13,15],[11,19,13,19],[11,20,13,20],[11,21,13,21],[7,2,7,8],[7,9,7,10],[7,14,7,20],[5,27,5,32],[0,0,0,8],[0,12,0,20],[0,24,0,58],[0,60,0,66],[1,0,1,10],[1,12,1,22],[1,24,1,58],[6,14,6,20],[6,21,6,22],[6,25,6,27],[6,28,6,40],[3,3,3,10],[3,15,3,22],[3,24,3,26],[3,27,3,32],[3,34,3,48],[5,24,5,26],[6,41,6,44],[98,35,99,35],[14,64,19,65],[14,66,19,66],[20,36,21,40],[20,41,21,45],[20,64,25,65],[20,66,25,66],[22,36,23,37],[22,38,23,38],[22,39,23,40],[14,36,19,40],[14,41,19,45],[14,46,19,47],[14,48,19,49],[14,50,19,51],[14,52,19,53],[14,54,19,55],[14,56,19,57],[14,58,19,59],[34,34,35,35],[34,36,35,37],[32,64,37,65],[32,66,37,66],[79,39,80,40],[32,50,37,51],[32,52,37,53],[89,64,94,65],[89,66,94,66],[87,43,88,43],[87,44,88,45],[83,66,88,66],[85,44,86,45],[83,54,88,55],[83,56,88,57],[83,58,88,59],[89,54,94,55],[71,66,76,66],[83,41,84,45],[83,64,88,65],[89,58,94,59],[89,62,94,63],[77,66,82,66],[79,44,80,45],[47,24,48,58],[47,60,48,66],[49,24,50,58],[41,35,42,35],[89,24,94,28],[77,36,78,40],[77,41,78,45],[77,64,82,65],[79,36,80,37],[91,31,92,32],[91,33,92,33],[91,34,92,35],[91,36,92,37],[91,38,92,38],[87,33,88,33],[87,34,88,35],[87,41,88,42],[83,31,84,35],[89,31,90,35],[89,36,90,40],[87,31,88,32],[52,1,52,5],[52,6,52,8],[52,9,52,10],[50,13,50,17],[50,18,50,20],[50,21,50,22],[51,13,51,17],[51,18,51,20],[51,21,51,22],[52,13,52,17],[52,18,52,20],[52,21,52,22],[34,1,34,5],[34,6,34,8],[34,9,34,10],[32,13,32,17],[32,18,32,20],[32,21,32,22],[33,13,33,17],[33,18,33,20],[33,21,33,22],[34,13,34,17],[34,18,34,20],[34,21,34,22],[32,1,32,5],[32,6,32,8],[32,9,32,10],[33,1,33,5],[33,6,33,8],[33,9,33,10],[20,6,20,8],[20,9,20,10],[20,16,20,17],[20,18,20,20],[29,14,31,14],[29,15,31,15],[29,19,31,19],[29,20,31,20],[29,21,31,21],[20,21,20,22]]}
[{"$f":"出場チーム!B1","v":"OFA 第 51 回大分県少年サッカー大会　兼　KYFA 九州U-12サッカー大会大分県大会"},null,null,null,null,null,null,null,null,"２次リーグ結果　報告用紙",null,null,{"$f":"出場チーム!B1","v":"OFA 第 51 回大分県少年サッカー大会　兼　KYFA 九州U-12サッカー大会大分県大会"},null,null,null,null,null,null,null,null,"２次リーグ結果　報告用紙",null,null,{"$f":"$A$1","v":"OFA 第 51 回大分県少年サッカー大会　兼　KYFA 九州U-12サッカー大会大分県大会"},null,null,null,null,null,null,null,null,null,null,null,null,null,null,null,null,null,null,null,null,null,null,null,null,null,null,null,null,null,null,null,null,null,null,null,{"$f":"$J$1","v":"２次リーグ結果　報告用紙"}]
["＜時間割＞　①10:00～　②11:00～　③12:00～　④13:00～　⑤14:00～　⑥15:00～",null,null,null,null,null,null,null,null,null,null,null,"＜時間割＞　①10:00～　②11:00～　③12:00～　④13:00～　⑤14:00～　⑥15:00～",null,null,null,null,null,null,null,null,null,null,null,"＜時間割＞　①10:00～　②11:00～　③12:00～　④13:00～　⑤14:00～　⑥15:00～"]
[]
["会場",{"$f":"組み合わせ!BF6","v":"大分"},"⇒",{"$f":"VLOOKUP(B4,出場チーム!$B$51:$F$59,2,FALSE)","v":"大在東グラウンド"},null,null,null,null,null,null,null,null,"会場",{"$f":"組み合わせ!BF6","v":"大分"},"⇒",{"$f":"VLOOKUP(N4,出場チーム!$B$51:$F$59,2,FALSE)","v":"大在東グラウンド"},null,null,null,null,null,null,null,null,"会場",null,null,{"$f":"$B$4","v":"大分"},null,null,null,null,null,"⇒",{"$f":"$D$4","v":"大在東グラウンド"}]
[]
["パート",{"$f":"組み合わせ!AR33","v":"2次リーグ　Bパート"},null,null,null,null,null,null,null,null,null,null,"パート",{"$f":"組み合わせ!DL33","v":"2次リーグ　Dパート"},null,null,null,null,null,null,null,null,null,null,"パート",null,null,{"$f":"$B$6","v":"2次リーグ　Bパート"}]
[null,{"$f":"組み合わせ!$AR$36","v":"D"},{"$f":"組み合わせ!$AV$36","v":"ＫＩＮＧＳ　ＦＯＯＴＢＡＬＬＣＬＵＢ　Ｕ－１２"},null,null,null,null,null,null,{"$f":"HLOOKUP(C7,組み合わせ!$B$49:$EO$86,31,FALSE)","v":"大分"},null,null,null,{"$f":"組み合わせ!$DL$36","v":"J"},{"$f":"組み合わせ!$DP$36","v":"別府フットボールクラブ．ミネルバＵ－１２"},null,null,null,null,null,null,{"$f":"HLOOKUP(O7,組み合わせ!$B$49:$EO$86,31,FALSE)","v":"別府"},null,null,null,{"$f":"+B7","v":"D"},null,null,{"$f":"$C$7","v":"ＫＩＮＧＳ　ＦＯＯＴＢＡＬＬＣＬＵＢ　Ｕ－１２"},null,null,null,null,null,null,null,null,null,null,null,null,{"$f":"$J$7","v":"大分"}]
[null,{"$f":"組み合わせ!$AR$38","v":"E"},{"$f":"組み合わせ!$AV$38","v":"スマイス・セレソン"},null,null,null,null,null,null,{"$f":"HLOOKUP(C8,組み合わせ!$B$49:$EO$86,31,FALSE)","v":"別府"},null,null,null,{"$f":"組み合わせ!$DL$38","v":"K"},{"$f":"組み合わせ!$DP$38","v":"カティオーラフットボールクラブＵ－１２"},null,null,null,null,null,null,{"$f":"HLOOKUP(O8,組み合わせ!$B$49:$EO$86,31,FALSE)","v":"大分"},null,null,null,{"$f":"+B8","v":"E"},null,null,{"$f":"$C$8","v":"スマイス・セレソン"},null,null,null,null,null,null,null,null,null,null,null,null,{"$f":"$J$8","v":"別府"}]
[null,{"$f":"組み合わせ!$AR$40","v":"F"},{"$f":"組み合わせ!$AV$40","v":"ＦＣ　ＷＡＹＳ"},null,null,null,null,null,null,{"$f":"HLOOKUP(C9,組み合わせ!$B$49:$EO$86,31,FALSE)","v":"宇佐高田"},null,null,null,{"$f":"組み合わせ!$DL$40","v":"L"},{"$f":"組み合わせ!$DP$40","v":"太陽スポーツクラブ大分西"},null,null,null,null,null,null,{"$f":"HLOOKUP(O9,組み合わせ!$B$49:$EO$86,31,FALSE)","v":"日田"},null,null,null,{"$f":"+B9","v":"F"},null,null,{"$f":"$C$9","v":"ＦＣ　ＷＡＹＳ"},null,null,null,null,null,null,null,null,null,null,null,null,{"$f":"$J$9","v":"宇佐高田"}]
["8：50～ＭＣＭ",null,null,null,null,null,null,null,null,null,null,null,"9：50～ＭＣＭ"]
[]
["①\n10:00～",{"$f":"C7","v":"ＫＩＮＧＳ　ＦＯＯＴＢＡＬＬＣＬＵＢ　Ｕ－１２"},{"$f":"IF(E12=\"\",\"\",SUM(E12:E13))","v":2},"（",1,"前半",0,"）",{"$f":"IF(G12=\"\",\"\",SUM(G12:G13))","v":0},{"$f":"C8","v":"スマイス・セレソン"},null,null,"②\n11:00～",{"$f":"O7","v":"別府フットボールクラブ．ミネルバＵ－１２"},{"$f":"IF(Q12=\"\",\"\",SUM(Q12:Q13))","v":1},"（",1,"前半",2,"）",{"$f":"IF(S12=\"\",\"\",SUM(S12:S13))","v":5},{"$f":"O8","v":"カティオーラフットボールクラブＵ－１２"}]
[null,null,null,null,1,"後半",0,null,null,null,null,null,null,null,null,null,0,"後半",3]
[null,null,null,null,null,"PK",null,null,null,null,null,null,null,null,null,null,null,"PK"]
["MC","佐々木　秀樹",null,null,null,null,"所属協会",null,null,"大分市サッカー協会",null,null,"MC","津守　一雄",null,null,null,null,"所属協会",null,null,"大分市サッカー協会",null,null,{"$f":"$Y$6","v":"パート"},null,null,null,{"$f":"$AB$6","v":"2次リーグ　Bパート"},null,null,{"$f":"$Y$21","v":"ＫＩＮＧＳ　ＦＯＯＴＢＡＬＬＣＬＵＢ　Ｕ－１２"},null,null,null,null,{"$f":"$Y$27","v":"スマイス・セレソン"},null,null,null,null,{"$f":"$Y$33","v":"ＦＣ　ＷＡＹＳ"},null,null,null,null,"勝",null,"PK\n勝",null,"PK\n負",null,"負",null,"得点",null,"失点",null,"勝点",null,"勝点\n順位",null,"得失\n点差",null,"得失\n順位",null,"総\n順位"]
["WelfareOfficer","毛藤　勇三",null,null,null,null,"所属協会",null,null,"大分市サッカー協会",null,null,"WelfareOfficer","福元　研治",null,null,null,null,"所属協会",null,null,"大分市サッカー協会"]
["記録","廣田　寧孝",null,null,null,null,"所属協会",null,null,"大分市サッカー協会",null,null,"記録","平尾　彰敏",null,null,null,null,"所属協会",null,null,"大分市サッカー協会"]
["R:",{"$f":"IF(ISERROR(VLOOKUP(G18,審判員!$A:$C,2,FALSE))=TRUE,\"\",VLOOKUP(G18,審判員!$A:$C,2,FALSE))","v":"佐藤　慎二"},{"$f":"IF(ISERROR(VLOOKUP(G18,審判員!$A:$C,3,FALSE))=TRUE,\"\",VLOOKUP(G18,審判員!$A:$C,3,FALSE))","v":3},"級","資格番号",null,"R009460551",null,null,"本部",null,null,"R:",{"$f":"IF(ISERROR(VLOOKUP(S18,審判員!$A:$C,2,FALSE))=TRUE,\"\",VLOOKUP(S18,審判員!$A:$C,2,FALSE))","v":"小石川　悟"},{"$f":"IF(ISERROR(VLOOKUP(S18,審判員!$A:$C,3,FALSE))=TRUE,\"\",VLOOKUP(S18,審判員!$A:$C,3,FALSE))","v":3},"級","資格番号",null,"R001256402",null,null,"本部"]
["AR1:",{"$f":"IF(ISERROR(VLOOKUP(G19,審判員!$A:$C,2,FALSE))=TRUE,\"\",VLOOKUP(G19,審判員!$A:$C,2,FALSE))","v":"久保山　守"},{"$f":"IF(ISERROR(VLOOKUP(G19,審判員!$A:$C,3,FALSE))=TRUE,\"\",VLOOKUP(G19,審判員!$A:$C,3,FALSE))","v":3},"級","資格番号",null,"R001256314",null,null,{"$f":"N12","v":"別府フットボールクラブ．ミネルバＵ－１２"},null,null,"AR1:",{"$f":"IF(ISERROR(VLOOKUP(S19,審判員!$A:$C,2,FALSE))=TRUE,\"\",VLOOKUP(S19,審判員!$A:$C,2,FALSE))","v":"平川　伸吾"},{"$f":"IF(ISERROR(VLOOKUP(S19,審判員!$A:$C,3,FALSE))=TRUE,\"\",VLOOKUP(S19,審判員!$A:$C,3,FALSE))","v":3},"級","資格番号",null,"R003972513",null,null,{"$f":"B12","v":"ＫＩＮＧＳ　ＦＯＯＴＢＡＬＬＣＬＵＢ　Ｕ－１２"}]
["AR2:",{"$f":"IF(ISERROR(VLOOKUP(G20,審判員!$A:$C,2,FALSE))=TRUE,\"\",VLOOKUP(G20,審判員!$A:$C,2,FALSE))","v":"工藤　拓海"},{"$f":"IF(ISERROR(VLOOKUP(G20,審判員!$A:$C,3,FALSE))=TRUE,\"\",VLOOKUP(G20,審判員!$A:$C,3,FALSE))","v":3},"級","資格番号",null,"R010189301",null,null,{"$f":"V12","v":"カティオーラフットボールクラブＵ－１２"},null,null,"AR2:",{"$f":"IF(ISERROR(VLOOKUP(S20,審判員!$A:$C,2,FALSE))=TRUE,\"\",VLOOKUP(S20,審判員!$A:$C,2,FALSE))","v":"信田　卓也"},{"$f":"IF(ISERROR(VLOOKUP(S20,審判員!$A:$C,3,FALSE))=TRUE,\"\",VLOOKUP(S20,審判員!$A:$C,3,FALSE))","v":3},"級","資格番号",null,"R004326535",null,null,{"$f":"J12","v":"スマイス・セレソン"}]
["4th:",{"$f":"IF(ISERROR(VLOOKUP(G21,審判員!$A:$C,2,FALSE))=TRUE,\"\",VLOOKUP(G21,審判員!$A:$C,2,FALSE))","v":"藤本　勝爾"},{"$f":"IF(ISERROR(VLOOKUP(G21,審判員!$A:$C,3,FALSE))=TRUE,\"\",VLOOKUP(G21,審判員!$A:$C,3,FALSE))","v":3},"級","資格番号",null,"R008798217",null,null,"本部",null,null,"4th:",{"$f":"IF(ISERROR(VLOOKUP(S21,審判員!$A:$C,2,FALSE))=TRUE,\"\",VLOOKUP(S21,審判員!$A:$C,2,FALSE))","v":"山本　篤"},{"$f":"IF(ISERROR(VLOOKUP(S21,審判員!$A:$C,3,FALSE))=TRUE,\"\",VLOOKUP(S21,審判員!$A:$C,3,FALSE))","v":3},"級","資格番号",null,"R005603486",null,null,"本部",null,null,{"$f":"$AC$7","v":"ＫＩＮＧＳ　ＦＯＯＴＢＡＬＬＣＬＵＢ　Ｕ－１２"},null,null,null,null,"星取表",null,null,null,null,null,null,{"$f":"IF(AK25=\"\",\"\",IF(AK25>AN25,\"○\",IF(AK25<AN25,\"●\",IF(AK23>AN23,\"△\",IF(AK23<AN23,\"▲\")))))","v":"○"},null,null,null,null,{"$f":"IF(AP25=\"\",\"\",IF(AP25>AS25,\"○\",IF(AP25<AS25,\"●\",IF(AP23>AS23,\"△\",IF(AP23<AS23,\"▲\")))))","v":false},null,null,null,null,{"$f":"COUNTIF($AF$21:$AT$22,\"○\")","v":1},null,{"$f":"COUNTIF($AF$21:$AT$22,\"△\")","v":0},null,{"$f":"COUNTIF($AF$21:$AT$22,\"▲\")","v":0},null,{"$f":"COUNTIF($AF$21:$AT$22,\"●\")","v":0},null,{"$f":"SUM($AK$25,$AP$25)","v":4},null,{"$f":"SUM($AN$25,$AS$25)","v":2},null,{"$f":"($AU$21*3)+($AW$21*2)+($AY$21*1)","v":3},null,{"$f":"RANK($BG$21,$BG$21:$BH$38)","v":1},null,{"$f":"$BC$21-$BE$21","v":2},null,{"$f":"RANK($BK$21,$BK$21:$BL$38)","v":1}]
["警告/退場","氏名","背番号","分","内容",null,"内容","分","背番号","氏名","警告/退場",null,"警告/退場","氏名","背番号","分","内容",null,"内容","分","背番号","氏名","警告/退場"]
[null,{"$f":"IF(ISERROR(VLOOKUP(CONCATENATE($B$12,\"_\",C23),選手名簿!$A:$E,5,FALSE))=TRUE,\"\",VLOOKUP(CONCATENATE($B$12,\"_\",C23),選手名簿!$A:$E,5,FALSE))","v":""},null,null,null,null,null,null,null,{"$f":"IF(ISERROR(VLOOKUP(CONCATENATE($J$12,\"_\",I23),選手名簿!$A:$E,5,FALSE))=TRUE,\"\",VLOOKUP(CONCATENATE($J$12,\"_\",I23),選手名簿!$A:$E,5,FALSE))","v":""},null,null,null,{"$f":"IF(ISERROR(VLOOKUP(CONCATENATE($N$12,\"_\",O23),選手名簿!$A:$E,5,FALSE))=TRUE,\"\",VLOOKUP(CONCATENATE($N$12,\"_\",O23),選手名簿!$A:$E,5,FALSE))","v":""},null,null,null,null,null,null,null,{"$f":"IF(ISERROR(VLOOKUP(CONCATENATE($V$12,\"_\",U23),選手名簿!$A:$E,5,FALSE))=TRUE,\"\",VLOOKUP(CONCATENATE($V$12,\"_\",U23),選手名簿!$A:$E,5,FALSE))","v":""},null,null,null,null,null,null,null,null,null,null,null,null,null,null,{"$f":"IF($E$14=\"\",\"\",$E$14)","v":""},null,"―",{"$f":"IF($G$14=\"\",\"\",$G$14)","v":""},null,{"$f":"IF($G$50=\"\",\"\",$G$50)","v":""},null,"―",{"$f":"IF($E$50=\"\",\"\",$E$50)","v":""}]
[null,{"$f":"IF(ISERROR(VLOOKUP(CONCATENATE($B$12,\"_\",C24),選手名簿!$A:$E,5,FALSE))=TRUE,\"\",VLOOKUP(CONCATENATE($B$12,\"_\",C24),選手名簿!$A:$E,5,FALSE))","v":""},null,null,null,null,null,null,null,{"$f":"IF(ISERROR(VLOOKUP(CONCATENATE($J$12,\"_\",I24),選手名簿!$A:$E,5,FALSE))=TRUE,\"\",VLOOKUP(CONCATENATE($J$12,\"_\",I24),選手名簿!$A:$E,5,FALSE))","v":""},null,null,null,{"$f":"IF(ISERROR(VLOOKUP(CONCATENATE($N$12,\"_\",O24),選手名簿!$A:$E,5,FALSE))=TRUE,\"\",VLOOKUP(CONCATENATE($N$12,\"_\",O24),選手名簿!$A:$E,5,FALSE))","v":""},null,null,null,null,null,null,null,{"$f":"IF(ISERROR(VLOOKUP(CONCATENATE($V$12,\"_\",U24),選手名簿!$A:$E,5,FALSE))=TRUE,\"\",VLOOKUP(CONCATENATE($V$12,\"_\",U24),選手名簿!$A:$E,5,FALSE))","v":""},null,null,null,null,null,null,null,"得失点"]
[null,{"$f":"IF(ISERROR(VLOOKUP(CONCATENATE($B$12,\"_\",C25),選手名簿!$A:$E,5,FALSE))=TRUE,\"\",VLOOKUP(CONCATENATE($B$12,\"_\",C25),選手名簿!$A:$E,5,FALSE))","v":""},null,null,null,null,null,null,null,{"$f":"IF(ISERROR(VLOOKUP(CONCATENATE($J$12,\"_\",I25),選手名簿!$A:$E,5,FALSE))=TRUE,\"\",VLOOKUP(CONCATENATE($J$12,\"_\",I25),選手名簿!$A:$E,5,FALSE))","v":""},null,null,null,{"$f":"IF(ISERROR(VLOOKUP(CONCATENATE($N$12,\"_\",O25),選手名簿!$A:$E,5,FALSE))=TRUE,\"\",VLOOKUP(CONCATENATE($N$12,\"_\",O25),選手名簿!$A:$E,5,FALSE))","v":""},null,null,null,null,null,null,null,{"$f":"IF(ISERROR(VLOOKUP(CONCATENATE($V$12,\"_\",U25),選手名簿!$A:$E,5,FALSE))=TRUE,\"\",VLOOKUP(CONCATENATE($V$12,\"_\",U25),選手名簿!$A:$E,5,FALSE))","v":""},null,null,null,null,null,null,null,null,null,null,null,null,null,null,{"$f":"$C$12","v":2},null,"―",{"$f":"$I$12","v":0},null,{"$f":"$I$48","v":2},null,"―",{"$f":"$C$48","v":2}]
[null,{"$f":"IF(ISERROR(VLOOKUP(CONCATENATE($B$12,\"_\",C26),選手名簿!$A:$E,5,FALSE))=TRUE,\"\",VLOOKUP(CONCATENATE($B$12,\"_\",C26),選手名簿!$A:$E,5,FALSE))","v":""},null,null,null,null,null,null,null,{"$f":"IF(ISERROR(VLOOKUP(CONCATENATE($J$12,\"_\",I26),選手名簿!$A:$E,5,FALSE))=TRUE,\"\",VLOOKUP(CONCATENATE($J$12,\"_\",I26),選手名簿!$A:$E,5,FALSE))","v":""},null,null,null,{"$f":"IF(ISERROR(VLOOKUP(CONCATENATE($N$12,\"_\",O26),選手名簿!$A:$E,5,FALSE))=TRUE,\"\",VLOOKUP(CONCATENATE($N$12,\"_\",O26),選手名簿!$A:$E,5,FALSE))","v":""},null,null,null,null,null,null,null,{"$f":"IF(ISERROR(VLOOKUP(CONCATENATE($V$12,\"_\",U26),選手名簿!$A:$E,5,FALSE))=TRUE,\"\",VLOOKUP(CONCATENATE($V$12,\"_\",U26),選手名簿!$A:$E,5,FALSE))","v":""}]
[null,{"$f":"IF(ISERROR(VLOOKUP(CONCATENATE($B$12,\"_\",C27),選手名簿!$A:$E,5,FALSE))=TRUE,\"\",VLOOKUP(CONCATENATE($B$12,\"_\",C27),選手名簿!$A:$E,5,FALSE))","v":""},null,null,null,null,null,null,null,{"$f":"IF(ISERROR(VLOOKUP(CONCATENATE($J$12,\"_\",I27),選手名簿!$A:$E,5,FALSE))=TRUE,\"\",VLOOKUP(CONCATENATE($J$12,\"_\",I27),選手名簿!$A:$E,5,FALSE))","v":""},null,null,null,{"$f":"IF(ISERROR(VLOOKUP(CONCATENATE($N$12,\"_\",O27),選手名簿!$A:$E,5,FALSE))=TRUE,\"\",VLOOKUP(CONCATENATE($N$12,\"_\",O27),選手名簿!$A:$E,5,FALSE))","v":""},null,null,null,null,null,null,null,{"$f":"IF(ISERROR(VLOOKUP(CONCATENATE($V$12,\"_\",U27),選手名簿!$A:$E,5,FALSE))=TRUE,\"\",VLOOKUP(CONCATENATE($V$12,\"_\",U27),選手名簿!$A:$E,5,FALSE))","v":""},null,null,{"$f":"$AC$8","v":"スマイス・セレソン"},null,null,null,null,"星取表",null,{"$f":"IF(AF31=\"\",\"\",IF(AF31>AI31,\"○\",IF(AF31<AI31,\"●\",IF(AF29>AI29,\"△\",IF(AF29<AI29,\"▲\")))))","v":"●"},null,null,null,null,null,null,null,null,null,{"$f":"IF(AP31=\"\",\"\",IF(AP31>AS31,\"○\",IF(AP31<AS31,\"●\",IF(AP29>AS29,\"△\",IF(AP29<AS29,\"▲\")))))","v":"●"},null,null,null,null,{"$f":"COUNTIF($AF$27:$AT$28,\"○\")","v":0},null,{"$f":"COUNTIF($AF$27:$AT$28,\"△\")","v":0},null,{"$f":"COUNTIF($AF$27:$AT$28,\"▲\")","v":0},null,{"$f":"COUNTIF($AF$27:$AT$28,\"●\")","v":2},null,{"$f":"SUM($AF$31,$AP$31)","v":0},null,{"$f":"SUM($AI$31,$AS$31)","v":3},null,{"$f":"($AU$27*3)+($AW$27*2)+($AY$27*1)","v":0},null,{"$f":"RANK($BG$27,$BG$21:$BH$38)","v":3},null,{"$f":"$BC$27-$BE$27","v":-3},null,{"$f":"RANK($BK$27,$BK$21:$BL$38)","v":3}]
[]
[null,null,null,null,null,null,null,null,null,null,null,null,null,null,null,null,null,null,null,null,null,null,null,null,null,null,null,null,null,null,null,{"$f":"AN23","v":""},null,"―",{"$f":"AK23","v":""},null,null,null,null,null,null,{"$f":"IF($E$32=\"\",\"\",$E$32)","v":""},null,"―",{"$f":"IF($G$32=\"\",\"\",$G$32)","v":""}]
["③\n12:00～",{"$f":"C8","v":"スマイス・セレソン"},{"$f":"IF(E30=\"\",\"\",SUM(E30:E31))","v":0},"（",0,"前半",1,"）",{"$f":"IF(G30=\"\",\"\",SUM(G30:G31))","v":1},{"$f":"C9","v":"ＦＣ　ＷＡＹＳ"},null,null,"④\n13:00～",{"$f":"O8","v":"カティオーラフットボールクラブＵ－１２"},{"$f":"IF(Q30=\"\",\"\",SUM(Q30:Q31))","v":5},"（",0,"前半",0,"）",{"$f":"IF(S30=\"\",\"\",SUM(S30:S31))","v":0},{"$f":"O9","v":"太陽スポーツクラブ大分西"},null,null,null,null,null,null,null,"得失点"]
[null,null,null,null,0,"後半",0,null,null,null,null,null,null,null,null,null,5,"後半",0,null,null,null,null,null,null,null,null,null,null,null,null,{"$f":"AN25","v":0},null,"―",{"$f":"AK25","v":2},null,null,null,null,null,null,{"$f":"$C$30","v":0},null,"―",{"$f":"$I$30","v":1}]
[null,null,null,null,null,"PK",null,null,null,null,null,null,null,null,null,null,null,"PK"]
["MC","佐々木　秀樹",null,null,null,null,"所属協会",null,null,"大分市サッカー協会",null,null,"MC","津守　一雄",null,null,null,null,"所属協会",null,null,"大分市サッカー協会",null,null,{"$f":"$AC$9","v":"ＦＣ　ＷＡＹＳ"},null,null,null,null,"星取表",null,{"$f":"IF(AF37=\"\",\"\",IF(AF37>AI37,\"○\",IF(AF37<AI37,\"●\",IF(AF35>AI35,\"△\",IF(AF35<AI35,\"▲\")))))","v":false},null,null,null,null,{"$f":"IF(AK37=\"\",\"\",IF(AK37>AN37,\"○\",IF(AK37<AN37,\"●\",IF(AK35>AN35,\"△\",IF(AK35<AN35,\"▲\")))))","v":"○"},null,null,null,null,null,null,null,null,null,{"$f":"COUNTIF($AF$33:$AT$34,\"○\")","v":1},null,{"$f":"COUNTIF($AF$33:$AT$34,\"△\")","v":0},null,{"$f":"COUNTIF($AF$33:$AT$34,\"▲\")","v":0},null,{"$f":"COUNTIF($AF$33:$AT$34,\"●\")","v":0},null,{"$f":"SUM($AF$37,$AK$37)","v":3},null,{"$f":"SUM($AI$37,$AN$37)","v":2},null,{"$f":"($AU$33*3)+($AW$33*2)+($AY$33*1)","v":3},null,{"$f":"RANK($BG$33,$BG$21:$BH$38)","v":1},null,{"$f":"$BC$33-$BE$33","v":1},null,{"$f":"RANK($BK$33,$BK$21:$BL$38)","v":2}]
["WelfareOfficer","毛藤　勇三",null,null,null,null,"所属協会",null,null,"大分市サッカー協会",null,null,"WelfareOfficer","福元　研治",null,null,null,null,"所属協会",null,null,"大分市サッカー協会"]
["記録","廣田　寧孝",null,null,null,null,"所属協会",null,null,"大分市サッカー協会",null,null,"記録","平尾　彰敏",null,null,null,null,"所属協会",null,null,"大分市サッカー協会",null,null,null,null,null,null,null,null,null,{"$f":"AS23","v":""},null,"―",{"$f":"AP23","v":""},null,{"$f":"AS29","v":""},null,"―",{"$f":"AP29","v":""}]
["R:",{"$f":"IF(ISERROR(VLOOKUP(G36,審判員!$A:$C,2,FALSE))=TRUE,\"\",VLOOKUP(G36,審判員!$A:$C,2,FALSE))","v":"藤本　勝爾"},{"$f":"IF(ISERROR(VLOOKUP(G36,審判員!$A:$C,3,FALSE))=TRUE,\"\",VLOOKUP(G36,審判員!$A:$C,3,FALSE))","v":3},"級","資格番号",null,"R008798217",null,null,"本部",null,null,"R:",{"$f":"IF(ISERROR(VLOOKUP(S36,審判員!$A:$C,2,FALSE))=TRUE,\"\",VLOOKUP(S36,審判員!$A:$C,2,FALSE))","v":"山本　篤"},{"$f":"IF(ISERROR(VLOOKUP(S36,審判員!$A:$C,3,FALSE))=TRUE,\"\",VLOOKUP(S36,審判員!$A:$C,3,FALSE))","v":3},"級","資格番号",null,"R005603486",null,null,"本部",null,null,null,null,null,null,null,"得失点"]
["AR1:",{"$f":"IF(ISERROR(VLOOKUP(G37,審判員!$A:$C,2,FALSE))=TRUE,\"\",VLOOKUP(G37,審判員!$A:$C,2,FALSE))","v":"工藤　拓海"},{"$f":"IF(ISERROR(VLOOKUP(G37,審判員!$A:$C,3,FALSE))=TRUE,\"\",VLOOKUP(G37,審判員!$A:$C,3,FALSE))","v":3},"級","資格番号",null,"R010189301",null,null,{"$f":"N30","v":"カティオーラフットボールクラブＵ－１２"},null,null,"AR1:",{"$f":"IF(ISERROR(VLOOKUP(S37,審判員!$A:$C,2,FALSE))=TRUE,\"\",VLOOKUP(S37,審判員!$A:$C,2,FALSE))","v":"信田　卓也"},{"$f":"IF(ISERROR(VLOOKUP(S37,審判員!$A:$C,3,FALSE))=TRUE,\"\",VLOOKUP(S37,審判員!$A:$C,3,FALSE))","v":3},"級","資格番号",null,"R004326535",null,null,{"$f":"B30","v":"スマイス・セレソン"},null,null,null,null,null,null,null,null,null,{"$f":"AS25","v":2},null,"―",{"$f":"AP25","v":2},null,{"$f":"AS31","v":1},null,"―",{"$f":"AP31","v":0}]
["AR2:",{"$f":"IF(ISERROR(VLOOKUP(G38,審判員!$A:$C,2,FALSE))=TRUE,\"\",VLOOKUP(G38,審判員!$A:$C,2,FALSE))","v":"立花　陽一郎"},{"$f":"IF(ISERROR(VLOOKUP(G38,審判員!$A:$C,3,FALSE))=TRUE,\"\",VLOOKUP(G38,審判員!$A:$C,3,FALSE))","v":3},"級","資格番号",null,"R004060170",null,null,{"$f":"V30","v":"太陽スポーツクラブ大分西"},null,null,"AR2:",{"$f":"IF(ISERROR(VLOOKUP(S38,審判員!$A:$C,2,FALSE))=TRUE,\"\",VLOOKUP(S38,審判員!$A:$C,2,FALSE))","v":"穴井　裕大"},{"$f":"IF(ISERROR(VLOOKUP(S38,審判員!$A:$C,3,FALSE))=TRUE,\"\",VLOOKUP(S38,審判員!$A:$C,3,FALSE))","v":3},"級","資格番号",null,"R010044664",null,null,{"$f":"J30","v":"ＦＣ　ＷＡＹＳ"}]
["4th:",{"$f":"IF(ISERROR(VLOOKUP(G39,審判員!$A:$C,2,FALSE))=TRUE,\"\",VLOOKUP(G39,審判員!$A:$C,2,FALSE))","v":"佐藤　慎二"},{"$f":"IF(ISERROR(VLOOKUP(G39,審判員!$A:$C,3,FALSE))=TRUE,\"\",VLOOKUP(G39,審判員!$A:$C,3,FALSE))","v":3},"級","資格番号",null,"R009460551",null,null,"本部",null,null,"4th:",{"$f":"IF(ISERROR(VLOOKUP(S39,審判員!$A:$C,2,FALSE))=TRUE,\"\",VLOOKUP(S39,審判員!$A:$C,2,FALSE))","v":"小石川　悟"},{"$f":"IF(ISERROR(VLOOKUP(S39,審判員!$A:$C,3,FALSE))=TRUE,\"\",VLOOKUP(S39,審判員!$A:$C,3,FALSE))","v":3},"級","資格番号",null,"R001256402",null,null,"本部"]
["警告/退場","氏名","背番号","分","内容",null,"内容","分","背番号","氏名","警告/退場",null,"警告/退場","氏名","背番号","分","内容",null,"内容","分","背番号","氏名","警告/退場",null,"Ⅰ勝点（勝３点　ＰＫ勝２点　ＰＫ負１点　負０点）　Ⅱ当該チームの戦績　Ⅲ得失点差　Ⅳ多得点　Ⅴ抽選の順で順位を決定する。"]
[null,{"$f":"IF(ISERROR(VLOOKUP(CONCATENATE($B$30,\"_\",C41),選手名簿!$A:$E,5,FALSE))=TRUE,\"\",VLOOKUP(CONCATENATE($B$30,\"_\",C41),選手名簿!$A:$E,5,FALSE))","v":""},null,null,null,null,null,null,null,{"$f":"IF(ISERROR(VLOOKUP(CONCATENATE($J$30,\"_\",I41),選手名簿!$A:$E,5,FALSE))=TRUE,\"\",VLOOKUP(CONCATENATE($J$30,\"_\",I41),選手名簿!$A:$E,5,FALSE))","v":""},null,null,"警告",{"$f":"IF(ISERROR(VLOOKUP(CONCATENATE($N$30,\"_\",O41),選手名簿!$A:$E,5,FALSE))=TRUE,\"\",VLOOKUP(CONCATENATE($N$30,\"_\",O41),選手名簿!$A:$E,5,FALSE))","v":"村上　温俊"},8,29,"異議",null,null,null,null,{"$f":"IF(ISERROR(VLOOKUP(CONCATENATE($V$30,\"_\",U41),選手名簿!$A:$E,5,FALSE))=TRUE,\"\",VLOOKUP(CONCATENATE($V$30,\"_\",U41),選手名簿!$A:$E,5,FALSE))","v":""}]
[null,{"$f":"IF(ISERROR(VLOOKUP(CONCATENATE($B$30,\"_\",C42),選手名簿!$A:$E,5,FALSE))=TRUE,\"\",VLOOKUP(CONCATENATE($B$30,\"_\",C42),選手名簿!$A:$E,5,FALSE))","v":""},null,null,null,null,null,null,null,{"$f":"IF(ISERROR(VLOOKUP(CONCATENATE($J$30,\"_\",I42),選手名簿!$A:$E,5,FALSE))=TRUE,\"\",VLOOKUP(CONCATENATE($J$30,\"_\",I42),選手名簿!$A:$E,5,FALSE))","v":""},null,null,"警告→退場",{"$f":"IF(ISERROR(VLOOKUP(CONCATENATE($N$30,\"_\",O42),選手名簿!$A:$E,5,FALSE))=TRUE,\"\",VLOOKUP(CONCATENATE($N$30,\"_\",O42),選手名簿!$A:$E,5,FALSE))","v":"村上　温俊"},8,40,"反スポ",null,null,null,null,{"$f":"IF(ISERROR(VLOOKUP(CONCATENATE($V$30,\"_\",U42),選手名簿!$A:$E,5,FALSE))=TRUE,\"\",VLOOKUP(CONCATENATE($V$30,\"_\",U42),選手名簿!$A:$E,5,FALSE))","v":""},null,null,"勝点表",null,"勝","○",null,"PK\n勝","△",null,"PK\n負","▲",null,"負","●"]
[null,{"$f":"IF(ISERROR(VLOOKUP(CONCATENATE($B$30,\"_\",C43),選手名簿!$A:$E,5,FALSE))=TRUE,\"\",VLOOKUP(CONCATENATE($B$30,\"_\",C43),選手名簿!$A:$E,5,FALSE))","v":""},null,null,null,null,null,null,null,{"$f":"IF(ISERROR(VLOOKUP(CONCATENATE($J$30,\"_\",I43),選手名簿!$A:$E,5,FALSE))=TRUE,\"\",VLOOKUP(CONCATENATE($J$30,\"_\",I43),選手名簿!$A:$E,5,FALSE))","v":""},null,null,null,{"$f":"IF(ISERROR(VLOOKUP(CONCATENATE($N$30,\"_\",O43),選手名簿!$A:$E,5,FALSE))=TRUE,\"\",VLOOKUP(CONCATENATE($N$30,\"_\",O43),選手名簿!$A:$E,5,FALSE))","v":""},null,null,null,null,null,null,null,{"$f":"IF(ISERROR(VLOOKUP(CONCATENATE($V$30,\"_\",U43),選手名簿!$A:$E,5,FALSE))=TRUE,\"\",VLOOKUP(CONCATENATE($V$30,\"_\",U43),選手名簿!$A:$E,5,FALSE))","v":""},null,null,null,null,null,3,null,null,2,null,null,1,null,null,0]
[null,{"$f":"IF(ISERROR(VLOOKUP(CONCATENATE($B$30,\"_\",C44),選手名簿!$A:$E,5,FALSE))=TRUE,\"\",VLOOKUP(CONCATENATE($B$30,\"_\",C44),選手名簿!$A:$E,5,FALSE))","v":""},null,null,null,null,null,null,null,{"$f":"IF(ISERROR(VLOOKUP(CONCATENATE($J$30,\"_\",I44),選手名簿!$A:$E,5,FALSE))=TRUE,\"\",VLOOKUP(CONCATENATE($J$30,\"_\",I44),選手名簿!$A:$E,5,FALSE))","v":""},null,null,null,{"$f":"IF(ISERROR(VLOOKUP(CONCATENATE($N$30,\"_\",O44),選手名簿!$A:$E,5,FALSE))=TRUE,\"\",VLOOKUP(CONCATENATE($N$30,\"_\",O44),選手名簿!$A:$E,5,FALSE))","v":""},null,null,null,null,null,null,null,{"$f":"IF(ISERROR(VLOOKUP(CONCATENATE($V$30,\"_\",U44),選手名簿!$A:$E,5,FALSE))=TRUE,\"\",VLOOKUP(CONCATENATE($V$30,\"_\",U44),選手名簿!$A:$E,5,FALSE))","v":""}]
[null,{"$f":"IF(ISERROR(VLOOKUP(CONCATENATE($B$30,\"_\",C45),選手名簿!$A:$E,5,FALSE))=TRUE,\"\",VLOOKUP(CONCATENATE($B$30,\"_\",C45),選手名簿!$A:$E,5,FALSE))","v":""},null,null,null,null,null,null,null,{"$f":"IF(ISERROR(VLOOKUP(CONCATENATE($J$30,\"_\",I45),選手名簿!$A:$E,5,FALSE))=TRUE,\"\",VLOOKUP(CONCATENATE($J$30,\"_\",I45),選手名簿!$A:$E,5,FALSE))","v":""},null,null,null,{"$f":"IF(ISERROR(VLOOKUP(CONCATENATE($N$30,\"_\",O45),選手名簿!$A:$E,5,FALSE))=TRUE,\"\",VLOOKUP(CONCATENATE($N$30,\"_\",O45),選手名簿!$A:$E,5,FALSE))","v":""},null,null,null,null,null,null,null,{"$f":"IF(ISERROR(VLOOKUP(CONCATENATE($V$30,\"_\",U45),選手名簿!$A:$E,5,FALSE))=TRUE,\"\",VLOOKUP(CONCATENATE($V$30,\"_\",U45),選手名簿!$A:$E,5,FALSE))","v":""}]
[]
[]
["⑤\n14:00～",{"$f":"C9","v":"ＦＣ　ＷＡＹＳ"},{"$f":"IF(E48=\"\",\"\",SUM(E48:E49))","v":2},"（",0,"前半",1,"）",{"$f":"IF(G48=\"\",\"\",SUM(G48:G49))","v":2},{"$f":"C7","v":"ＫＩＮＧＳ　ＦＯＯＴＢＡＬＬＣＬＵＢ　Ｕ－１２"},null,null,"⑥\n15:00～",{"$f":"O9","v":"太陽スポーツクラブ大分西"},{"$f":"IF(Q48=\"\",\"\",SUM(Q48:Q49))","v":1},"（",1,"前半",0,"）",{"$f":"IF(S48=\"\",\"\",SUM(S48:S49))","v":1},{"$f":"O7","v":"別府フットボールクラブ．ミネルバＵ－１２"},null,null,{"$f":"$Y$1","v":"OFA 第 51 回大分県少年サッカー大会　兼　KYFA 九州U-12サッカー大会大分県大会"},null,null,null,null,null,null,null,null,null,null,null,null,null,null,null,null,null,null,null,null,null,null,null,null,null,null,null,null,null,null,null,null,null,null,null,{"$f":"$BI$1","v":"２次リーグ結果　報告用紙"}]
[null,null,null,null,2,"後半",1,null,null,null,null,null,null,null,null,null,0,"後半",1]
[null,null,null,null,null,"PK",null,null,null,null,null,null,null,null,null,null,null,"PK",null,null,null,null,null,null,"＜時間割＞　①10:00～　②11:00～　③12:00～　④13:00～　⑤14:00～　⑥15:00～"]
["MC","佐々木　秀樹",null,null,null,null,"所属協会",null,null,"大分市サッカー協会",null,null,"MC","津守　一雄",null,null,null,null,"所属協会",null,null,"大分市サッカー協会"]
["WelfareOfficer","毛藤　勇三",null,null,null,null,"所属協会",null,null,"大分市サッカー協会",null,null,"WelfareOfficer","福元　研治",null,null,null,null,"所属協会",null,null,"大分市サッカー協会"]
["記録","廣田　寧孝",null,null,null,null,"所属協会",null,null,"大分市サッカー協会",null,null,"記録","平尾　彰敏",null,null,null,null,"所属協会",null,null,"大分市サッカー協会"]
["R:",{"$f":"IF(ISERROR(VLOOKUP(G54,審判員!$A:$C,2,FALSE))=TRUE,\"\",VLOOKUP(G54,審判員!$A:$C,2,FALSE))","v":"佐藤　慎二"},{"$f":"IF(ISERROR(VLOOKUP(G54,審判員!$A:$C,3,FALSE))=TRUE,\"\",VLOOKUP(G54,審判員!$A:$C,3,FALSE))","v":3},"級","資格番号",null,"R009460551",null,null,"本部",null,null,"R:",{"$f":"IF(ISERROR(VLOOKUP(S54,審判員!$A:$C,2,FALSE))=TRUE,\"\",VLOOKUP(S54,審判員!$A:$C,2,FALSE))","v":"小石川　悟"},{"$f":"IF(ISERROR(VLOOKUP(S54,審判員!$A:$C,3,FALSE))=TRUE,\"\",VLOOKUP(S54,審判員!$A:$C,3,FALSE))","v":3},"級","資格番号",null,"R001256402",null,null,"本部",null,null,"会場",null,null,{"$f":"$N$4","v":"大分"},null,null,null,null,null,"⇒",{"$f":"$P$4","v":"大在東グラウンド"}]
["AR1:",{"$f":"IF(ISERROR(VLOOKUP(G55,審判員!$A:$C,2,FALSE))=TRUE,\"\",VLOOKUP(G55,審判員!$A:$C,2,FALSE))","v":"池本　岬"},{"$f":"IF(ISERROR(VLOOKUP(G55,審判員!$A:$C,3,FALSE))=TRUE,\"\",VLOOKUP(G55,審判員!$A:$C,3,FALSE))","v":3},"級","資格番号",null,"R010301990",null,null,{"$f":"N48","v":"太陽スポーツクラブ大分西"},null,null,"AR1:",{"$f":"IF(ISERROR(VLOOKUP(S55,審判員!$A:$C,2,FALSE))=TRUE,\"\",VLOOKUP(S55,審判員!$A:$C,2,FALSE))","v":"穴井　裕大"},{"$f":"IF(ISERROR(VLOOKUP(S55,審判員!$A:$C,3,FALSE))=TRUE,\"\",VLOOKUP(S55,審判員!$A:$C,3,FALSE))","v":3},"級","資格番号",null,"R010044664",null,null,{"$f":"B48","v":"ＦＣ　ＷＡＹＳ"}]
["AR2:",{"$f":"IF(ISERROR(VLOOKUP(G56,審判員!$A:$C,2,FALSE))=TRUE,\"\",VLOOKUP(G56,審判員!$A:$C,2,FALSE))","v":"久保山　守"},{"$f":"IF(ISERROR(VLOOKUP(G56,審判員!$A:$C,3,FALSE))=TRUE,\"\",VLOOKUP(G56,審判員!$A:$C,3,FALSE))","v":3},"級","資格番号",null,"R001256314",null,null,{"$f":"V48","v":"別府フットボールクラブ．ミネルバＵ－１２"},null,null,"AR2:",{"$f":"IF(ISERROR(VLOOKUP(S56,審判員!$A:$C,2,FALSE))=TRUE,\"\",VLOOKUP(S56,審判員!$A:$C,2,FALSE))","v":"平川　伸吾"},{"$f":"IF(ISERROR(VLOOKUP(S56,審判員!$A:$C,3,FALSE))=TRUE,\"\",VLOOKUP(S56,審判員!$A:$C,3,FALSE))","v":3},"級","資格番号",null,"R003972513",null,null,{"$f":"J48","v":"ＫＩＮＧＳ　ＦＯＯＴＢＡＬＬＣＬＵＢ　Ｕ－１２"}]
["4th:",{"$f":"IF(ISERROR(VLOOKUP(G57,審判員!$A:$C,2,FALSE))=TRUE,\"\",VLOOKUP(G57,審判員!$A:$C,2,FALSE))","v":"藤本　勝爾"},{"$f":"IF(ISERROR(VLOOKUP(G57,審判員!$A:$C,3,FALSE))=TRUE,\"\",VLOOKUP(G57,審判員!$A:$C,3,FALSE))","v":3},"級","資格番号",null,"R008798217",null,null,"本部",null,null,"4th:",{"$f":"IF(ISERROR(VLOOKUP(S57,審判員!$A:$C,2,FALSE))=TRUE,\"\",VLOOKUP(S57,審判員!$A:$C,2,FALSE))","v":"山本　篤"},{"$f":"IF(ISERROR(VLOOKUP(S57,審判員!$A:$C,3,FALSE))=TRUE,\"\",VLOOKUP(S57,審判員!$A:$C,3,FALSE))","v":3},"級","資格番号",null,"R005603486",null,null,"本部"]
["警告/退場","氏名","背番号","分","内容",null,"内容","分","背番号","氏名","警告/退場",null,"警告/退場","氏名","背番号","分","内容",null,"内容","分","背番号","氏名","警告/退場",null,"パート",null,null,{"$f":"$N$6","v":"2次リーグ　Dパート"}]
[null,{"$f":"IF(ISERROR(VLOOKUP(CONCATENATE($B$48,\"_\",C59),選手名簿!$A:$E,5,FALSE))=TRUE,\"\",VLOOKUP(CONCATENATE($B$48,\"_\",C59),選手名簿!$A:$E,5,FALSE))","v":""},null,null,null,null,null,null,null,{"$f":"IF(ISERROR(VLOOKUP(CONCATENATE($J$48,\"_\",I59),選手名簿!$A:$E,5,FALSE))=TRUE,\"\",VLOOKUP(CONCATENATE($J$48,\"_\",I59),選手名簿!$A:$E,5,FALSE))","v":""},null,null,null,{"$f":"IF(ISERROR(VLOOKUP(CONCATENATE($N$48,\"_\",O59),選手名簿!$A:$E,5,FALSE))=TRUE,\"\",VLOOKUP(CONCATENATE($N$48,\"_\",O59),選手名簿!$A:$E,5,FALSE))","v":""},null,null,null,null,null,null,null,{"$f":"IF(ISERROR(VLOOKUP(CONCATENATE($V$48,\"_\",U59),選手名簿!$A:$E,5,FALSE))=TRUE,\"\",VLOOKUP(CONCATENATE($V$48,\"_\",U59),選手名簿!$A:$E,5,FALSE))","v":""}]
[null,{"$f":"IF(ISERROR(VLOOKUP(CONCATENATE($B$48,\"_\",C60),選手名簿!$A:$E,5,FALSE))=TRUE,\"\",VLOOKUP(CONCATENATE($B$48,\"_\",C60),選手名簿!$A:$E,5,FALSE))","v":""},null,null,null,null,null,null,null,{"$f":"IF(ISERROR(VLOOKUP(CONCATENATE($J$48,\"_\",I60),選手名簿!$A:$E,5,FALSE))=TRUE,\"\",VLOOKUP(CONCATENATE($J$48,\"_\",I60),選手名簿!$A:$E,5,FALSE))","v":""},null,null,null,{"$f":"IF(ISERROR(VLOOKUP(CONCATENATE($N$48,\"_\",O60),選手名簿!$A:$E,5,FALSE))=TRUE,\"\",VLOOKUP(CONCATENATE($N$48,\"_\",O60),選手名簿!$A:$E,5,FALSE))","v":""},null,null,null,null,null,null,null,{"$f":"IF(ISERROR(VLOOKUP(CONCATENATE($V$48,\"_\",U60),選手名簿!$A:$E,5,FALSE))=TRUE,\"\",VLOOKUP(CONCATENATE($V$48,\"_\",U60),選手名簿!$A:$E,5,FALSE))","v":""},null,null,null,{"$f":"$N$7","v":"J"},null,null,{"$f":"$O$7","v":"別府フットボールクラブ．ミネルバＵ－１２"},null,null,null,null,null,null,null,null,null,null,null,null,{"$f":"$V$7","v":"別府"}]
[null,{"$f":"IF(ISERROR(VLOOKUP(CONCATENATE($B$48,\"_\",C61),選手名簿!$A:$E,5,FALSE))=TRUE,\"\",VLOOKUP(CONCATENATE($B$48,\"_\",C61),選手名簿!$A:$E,5,FALSE))","v":""},null,null,null,null,null,null,null,{"$f":"IF(ISERROR(VLOOKUP(CONCATENATE($J$48,\"_\",I61),選手名簿!$A:$E,5,FALSE))=TRUE,\"\",VLOOKUP(CONCATENATE($J$48,\"_\",I61),選手名簿!$A:$E,5,FALSE))","v":""},null,null,null,{"$f":"IF(ISERROR(VLOOKUP(CONCATENATE($N$48,\"_\",O61),選手名簿!$A:$E,5,FALSE))=TRUE,\"\",VLOOKUP(CONCATENATE($N$48,\"_\",O61),選手名簿!$A:$E,5,FALSE))","v":""},null,null,null,null,null,null,null,{"$f":"IF(ISERROR(VLOOKUP(CONCATENATE($V$48,\"_\",U61),選手名簿!$A:$E,5,FALSE))=TRUE,\"\",VLOOKUP(CONCATENATE($V$48,\"_\",U61),選手名簿!$A:$E,5,FALSE))","v":""}]
[null,{"$f":"IF(ISERROR(VLOOKUP(CONCATENATE($B$48,\"_\",C62),選手名簿!$A:$E,5,FALSE))=TRUE,\"\",VLOOKUP(CONCATENATE($B$48,\"_\",C62),選手名簿!$A:$E,5,FALSE))","v":""},null,null,null,null,null,null,null,{"$f":"IF(ISERROR(VLOOKUP(CONCATENATE($J$48,\"_\",I62),選手名簿!$A:$E,5,FALSE))=TRUE,\"\",VLOOKUP(CONCATENATE($J$48,\"_\",I62),選手名簿!$A:$E,5,FALSE))","v":""},null,null,null,{"$f":"IF(ISERROR(VLOOKUP(CONCATENATE($N$48,\"_\",O62),選手名簿!$A:$E,5,FALSE))=TRUE,\"\",VLOOKUP(CONCATENATE($N$48,\"_\",O62),選手名簿!$A:$E,5,FALSE))","v":""},null,null,null,null,null,null,null,{"$f":"IF(ISERROR(VLOOKUP(CONCATENATE($V$48,\"_\",U62),選手名簿!$A:$E,5,FALSE))=TRUE,\"\",VLOOKUP(CONCATENATE($V$48,\"_\",U62),選手名簿!$A:$E,5,FALSE))","v":""},null,null,null,{"$f":"$N$8","v":"K"},null,null,{"$f":"$O$8","v":"カティオーラフットボールクラブＵ－１２"},null,null,null,null,null,null,null,null,null,null,null,null,{"$f":"$V$8","v":"大分"}]
[null,{"$f":"IF(ISERROR(VLOOKUP(CONCATENATE($B$48,\"_\",C63),選手名簿!$A:$E,5,FALSE))=TRUE,\"\",VLOOKUP(CONCATENATE($B$48,\"_\",C63),選手名簿!$A:$E,5,FALSE))","v":""},null,null,null,null,null,null,null,{"$f":"IF(ISERROR(VLOOKUP(CONCATENATE($J$48,\"_\",I63),選手名簿!$A:$E,5,FALSE))=TRUE,\"\",VLOOKUP(CONCATENATE($J$48,\"_\",I63),選手名簿!$A:$E,5,FALSE))","v":""},null,null,null,{"$f":"IF(ISERROR(VLOOKUP(CONCATENATE($N$48,\"_\",O63),選手名簿!$A:$E,5,FALSE))=TRUE,\"\",VLOOKUP(CONCATENATE($N$48,\"_\",O63),選手名簿!$A:$E,5,FALSE))","v":""},null,null,null,null,null,null,null,{"$f":"IF(ISERROR(VLOOKUP(CONCATENATE($V$48,\"_\",U63),選手名簿!$A:$E,5,FALSE))=TRUE,\"\",VLOOKUP(CONCATENATE($V$48,\"_\",U63),選手名簿!$A:$E,5,FALSE))","v":""}]
[null,null,null,null,null,null,null,null,null,null,null,null,null,null,null,null,null,null,null,null,null,null,null,null,null,{"$f":"$N$9","v":"L"},null,null,{"$f":"$O$9","v":"太陽スポーツクラブ大分西"},null,null,null,null,null,null,null,null,null,null,null,null,{"$f":"$V$9","v":"日田"}]
[]
[]
[]
[]
[]
[]
[]
[null,null,null,null,null,null,null,null,null,null,null,null,null,null,null,null,null,null,null,null,null,null,null,null,{"$f":"$Y$6","v":"パート"},null,null,null,{"$f":"$AB$58","v":"2次リーグ　Dパート"},null,null,{"$f":"$Y$78","v":"別府フットボールクラブ．ミネルバＵ－１２"},null,null,null,null,{"$f":"$Y$84","v":"カティオーラフットボールクラブＵ－１２"},null,null,null,null,{"$f":"$Y$90","v":"太陽スポーツクラブ大分西"},null,null,null,null,"勝",null,"PK\n勝",null,"PK\n負",null,"負",null,"得点",null,"失点",null,"勝点",null,"勝点\n順位",null,"得失\n点差",null,"得失\n順位",null,"総\n順位"]
[]
[]
[]
[]
[]
[null,null,null,null,null,null,null,null,null,null,null,null,null,null,null,null,null,null,null,null,null,null,null,null,{"$f":"$AC$60","v":"別府フットボールクラブ．ミネルバＵ－１２"},null,null,null,null,"星取表",null,null,null,null,null,null,{"$f":"IF(AK82=\"\",\"\",IF(AK82>AN82,\"○\",IF(AK82<AN82,\"●\",IF(AK80>AN80,\"△\",IF(AK80<AN80,\"▲\")))))","v":"●"},null,null,null,null,{"$f":"IF(AP82=\"\",\"\",IF(AP82>AS82,\"○\",IF(AP82<AS82,\"●\",IF(AP80>AS80,\"△\",IF(AP80<AS80,\"▲\")))))","v":false},null,null,null,null,{"$f":"COUNTIF($AF$78:$AT$79,\"○\")","v":0},null,{"$f":"COUNTIF($AF$78:$AT$79,\"△\")","v":0},null,{"$f":"COUNTIF($AF$78:$AT$79,\"▲\")","v":0},null,{"$f":"COUNTIF($AF$78:$AT$79,\"●\")","v":1},null,{"$f":"SUM($AK$82,$AP$82)","v":2},null,{"$f":"SUM($AN$82,$AS$82)","v":6},null,{"$f":"($AU$78*3)+($AW$78*2)+($AY$78*1)","v":0},null,{"$f":"RANK($BG$78,$BG$78:$BH$95)","v":2},null,{"$f":"$BC$78-$BE$78","v":-4},null,{"$f":"RANK($BK$78,$BK$78:$BL$95)","v":2}]
[]
[null,null,null,null,null,null,null,null,null,null,null,null,null,null,null,null,null,null,null,null,null,null,null,null,null,null,null,null,null,null,null,null,null,null,null,null,{"$f":"IF($Q$14=\"\",\"\",$Q$14)","v":""},null,"―",{"$f":"IF($S$14=\"\",\"\",$S$14)","v":""},null,{"$f":"IF($S$50=\"\",\"\",$S$50)","v":""},null,"―",{"$f":"IF($Q$50=\"\",\"\",$Q$50)","v":""}]
[null,null,null,null,null,null,null,null,null,null,null,null,null,null,null,null,null,null,null,null,null,null,null,null,null,null,null,null,null,"得失点"]
[null,null,null,null,null,null,null,null,null,null,null,null,null,null,null,null,null,null,null,null,null,null,null,null,null,null,null,null,null,null,null,null,null,null,null,null,{"$f":"$O$12","v":1},null,"―",{"$f":"$U$12","v":5},null,{"$f":"$U$48","v":1},null,"―",{"$f":"$O$48","v":1}]
[]
[null,null,null,null,null,null,null,null,null,null,null,null,null,null,null,null,null,null,null,null,null,null,null,null,{"$f":"$AC$62","v":"カティオーラフットボールクラブＵ－１２"},null,null,null,null,"星取表",null,{"$f":"IF(AF88=\"\",\"\",IF(AF88>AI88,\"○\",IF(AF88<AI88,\"●\",IF(AF86>AI86,\"△\",IF(AF86<AI86,\"▲\")))))","v":"○"},null,null,null,null,null,null,null,null,null,{"$f":"IF(AP88=\"\",\"\",IF(AP88>AS88,\"○\",IF(AP88<AS88,\"●\",IF(AP86>AS86,\"△\",IF(AP86<AS86,\"▲\")))))","v":"○"},null,null,null,null,{"$f":"COUNTIF($AF$84:$AT$85,\"○\")","v":2},null,{"$f":"COUNTIF($AF$84:$AT$85,\"△\")","v":0},null,{"$f":"COUNTIF($AF$84:$AT$85,\"▲\")","v":0},null,{"$f":"COUNTIF($AF$84:$AT$85,\"●\")","v":0},null,{"$f":"SUM($AF$88,$AP$88)","v":10},null,{"$f":"SUM($AI$88,$AS$88)","v":1},null,{"$f":"($AU$84*3)+($AW$84*2)+($AY$84*1)","v":6},null,{"$f":"RANK($BG$84,$BG$78:$BH$95)","v":1},null,{"$f":"$BC$84-$BE$84","v":9},null,{"$f":"RANK($BK$84,$BK$78:$BL$95)","v":1}]
[]
[null,null,null,null,null,null,null,null,null,null,null,null,null,null,null,null,null,null,null,null,null,null,null,null,null,null,null,null,null,null,null,{"$f":"AN80","v":""},null,"―",{"$f":"AK80","v":""},null,null,null,null,null,null,{"$f":"IF($Q$32=\"\",\"\",$Q$32)","v":""},null,"―",{"$f":"IF($S$32=\"\",\"\",$S$32)","v":""}]
[null,null,null,null,null,null,null,null,null,null,null,null,null,null,null,null,null,null,null,null,null,null,null,null,null,null,null,null,null,"得失点"]
[null,null,null,null,null,null,null,null,null,null,null,null,null,null,null,null,null,null,null,null,null,null,null,null,null,null,null,null,null,null,null,{"$f":"AN82","v":5},null,"―",{"$f":"AK82","v":1},null,null,null,null,null,null,{"$f":"$O$30","v":5},null,"―",{"$f":"$U$30","v":0}]
[]
[null,null,null,null,null,null,null,null,null,null,null,null,null,null,null,null,null,null,null,null,null,null,null,null,{"$f":"$AC$64","v":"太陽スポーツクラブ大分西"},null,null,null,null,"星取表",null,{"$f":"IF(AF94=\"\",\"\",IF(AF94>AI94,\"○\",IF(AF94<AI94,\"●\",IF(AF92>AI92,\"△\",IF(AF92<AI92,\"▲\")))))","v":false},null,null,null,null,{"$f":"IF(AK94=\"\",\"\",IF(AK94>AN94,\"○\",IF(AK94<AN94,\"●\",IF(AK92>AN92,\"△\",IF(AK92<AN92,\"▲\")))))","v":"●"},null,null,null,null,null,null,null,null,null,{"$f":"COUNTIF($AF$90:$AT$91,\"○\")","v":0},null,{"$f":"COUNTIF($AF$90:$AT$91,\"△\")","v":0},null,{"$f":"COUNTIF($AF$90:$AT$91,\"▲\")","v":0},null,{"$f":"COUNTIF($AF$90:$AT$91,\"●\")","v":1},null,{"$f":"SUM($AF$94,$AK$94)","v":1},null,{"$f":"SUM($AI$94,$AN$94)","v":6},null,{"$f":"($AU$90*3)+($AW$90*2)+($AY$90*1)","v":0},null,{"$f":"RANK($BG$90,$BG$78:$BH$95)","v":2},null,{"$f":"$BC$90-$BE$90","v":-5},null,{"$f":"RANK($BK$90,$BK$78:$BL$95)","v":3}]
[]
[null,null,null,null,null,null,null,null,null,null,null,null,null,null,null,null,null,null,null,null,null,null,null,null,null,null,null,null,null,null,null,{"$f":"AS80","v":""},null,"―",{"$f":"AP80","v":""},null,{"$f":"AS86","v":""},null,"―",{"$f":"AP86","v":""}]
[null,null,null,null,null,null,null,null,null,null,null,null,null,null,null,null,null,null,null,null,null,null,null,null,null,null,null,null,null,"得失点"]
[null,null,null,null,null,null,null,null,null,null,null,null,null,null,null,null,null,null,null,null,null,null,null,null,null,null,null,null,null,null,null,{"$f":"AS82","v":1},null,"―",{"$f":"AP82","v":1},null,{"$f":"AS88","v":0},null,"―",{"$f":"AP88","v":5}]
[]
[]
[null,null,null,null,null,null,null,null,null,null,null,null,null,null,null,null,null,null,null,null,null,null,null,null,"Ⅰ勝点（勝３点　ＰＫ勝２点　ＰＫ負１点　負０点）　Ⅱ当該チームの戦績　Ⅲ得失点差　Ⅳ多得点　Ⅴ抽選の順で順位を決定する。"]
[]
[null,null,null,null,null,null,null,null,null,null,null,null,null,null,null,null,null,null,null,null,null,null,null,null,"勝点表",null,"勝","○",null,"PK\n勝","△",null,"PK\n負","▲",null,"負","●"]
[null,null,null,null,null,null,null,null,null,null,null,null,null,null,null,null,null,null,null,null,null,null,null,null,null,null,null,3,null,null,2,null,null,1,null,null,0]

{"sheet":"１次リーグ（速杵国東）","index":13,"n_rows":100,"n_cols":67,"rows_kept":100,"cut":false,"hidden":false,"merged":[[89,24,94,28],[89,29,91,30],[89,41,94,45],[89,46,94,47],[89,62,94,63],[92,29,94,30],[83,48,88,49],[96,24,97,57],[98,24,99,25],[98,26,99,26],[98,29,99,29],[98,32,99,32],[83,60,88,61],[83,50,88,51],[83,52,88,53],[83,54,88,55],[83,56,88,57],[89,60,94,61],[89,50,94,51],[89,52,94,53],[89,54,94,55],[89,56,94,57],[89,48,94,49],[89,31,90,35],[77,24,82,28],[77,29,79,30],[77,31,82,35],[77,46,82,47],[77,48,82,49],[77,58,82,59],[77,60,82,61],[77,62,82,63],[83,58,88,59],[80,29,82,30],[83,24,88,28],[83,29,85,30],[83,36,88,40],[83,31,84,35],[83,41,84,45],[87,34,88,35],[81,36,82,37],[81,38,82,38],[83,62,88,63],[86,29,88,30],[81,44,82,45],[79,38,80,38],[79,39,80,40],[79,41,80,42],[56,4,56,5],[56,6,56,8],[56,9,56,10],[56,16,56,17],[56,18,56,20],[56,21,56,22],[5,27,5,32],[53,24,54,26],[53,27,54,32],[39,24,40,57],[41,24,42,25],[41,26,42,26],[54,4,54,5],[54,6,54,8],[54,9,54,10],[54,16,54,17],[54,18,54,20],[54,21,54,22],[55,4,55,5],[55,6,55,8],[55,9,55,10],[55,16,55,17],[55,18,55,20],[55,21,55,22],[47,0,49,0],[47,1,49,1],[47,2,49,2],[47,3,49,3],[47,7,49,7],[47,8,49,8],[47,21,49,21],[47,12,49,12],[47,13,49,13],[47,14,49,14],[47,15,49,15],[47,19,49,19],[47,20,49,20],[37,6,37,8],[37,9,37,10],[37,16,37,17],[37,18,37,20],[37,21,37,22],[36,4,36,5],[36,6,36,8],[71,58,76,59],[59,25,60,27],[59,28,60,40],[38,4,38,5],[38,6,38,8],[38,9,38,10],[38,16,38,17],[38,18,38,20],[38,21,38,22],[59,41,60,44],[47,9,49,9],[71,24,76,27],[71,28,76,30],[71,31,76,35],[71,36,76,40],[53,4,53,5],[53,6,53,8],[41,29,42,29],[47,24,48,58],[41,35,42,35],[49,24,50,58],[77,56,82,57],[71,56,76,57],[29,0,31,0],[29,1,31,1],[29,2,31,2],[29,3,31,3],[29,7,31,7],[29,8,31,8],[35,21,35,22],[41,32,42,32],[36,9,36,10],[36,16,36,17],[35,4,35,5],[35,6,35,8],[35,9,35,10],[35,16,35,17],[36,18,36,20],[36,21,36,22],[37,4,37,5],[29,9,31,9],[29,12,31,12],[29,14,31,14],[29,19,31,19],[29,20,31,20],[35,18,35,20],[81,39,82,40],[81,41,82,42],[81,43,82,43],[53,9,53,10],[53,16,53,17],[53,18,53,20],[53,21,53,22],[53,33,54,33],[53,34,54,48],[57,24,58,26],[57,27,58,32],[61,25,62,27],[61,28,62,40],[61,41,62,44],[63,25,64,27],[63,28,64,40],[63,41,64,44],[71,41,76,45],[29,21,31,21],[29,13,31,13],[29,15,31,15],[32,58,37,59],[32,24,37,28],[32,29,34,30],[32,41,37,45],[32,46,37,47],[32,50,37,51],[32,52,37,53],[35,29,37,30],[32,48,37,49],[29,29,31,30],[28,31,29,32],[28,33,29,33],[28,34,29,35],[28,41,29,42],[28,43,29,43],[30,33,31,33],[30,43,31,43],[30,44,31,45],[32,31,33,35],[32,36,33,40],[36,36,37,37],[36,38,37,38],[77,64,82,65],[77,66,82,66],[79,36,80,37],[26,24,31,28],[26,29,28,30],[26,36,31,40],[26,46,31,47],[26,31,27,35],[26,41,27,45],[30,34,31,35],[30,41,31,42],[28,44,29,45],[30,31,31,32],[26,50,31,51],[26,52,31,53],[26,54,31,55],[26,56,31,57],[26,58,31,59],[26,60,31,61],[26,62,31,63],[26,64,31,65],[26,66,31,66],[79,43,80,43],[79,44,80,45],[20,9,20,10],[20,16,20,17],[20,18,20,20],[20,24,25,28],[20,29,22,30],[20,31,25,35],[20,46,25,47],[22,39,23,40],[22,41,23,42],[22,43,23,43],[22,44,23,45],[24,38,25,38],[24,39,25,40],[23,29,25,30],[14,24,19,27],[14,28,19,30],[14,31,19,35],[14,1,14,5],[14,6,14,8],[14,9,14,10],[15,1,15,5],[15,6,15,8],[15,9,15,10],[16,1,16,5],[16,6,16,8],[16,9,16,10],[14,13,14,17],[14,18,14,20],[14,21,14,22],[15,13,15,17],[15,18,15,20],[15,21,15,22],[18,4,18,5],[18,6,18,8],[18,9,18,10],[18,16,18,17],[18,18,18,20],[18,21,18,22],[8,2,8,8],[8,9,8,10],[8,14,8,20],[8,21,8,22],[8,25,8,27],[8,28,8,40],[8,41,8,44],[11,0,13,0],[11,1,13,1],[11,2,13,2],[11,3,13,3],[11,7,13,7],[11,8,13,8],[11,9,13,9],[11,12,13,12],[11,13,13,13],[11,14,13,14],[11,15,13,15],[11,19,13,19],[11,20,13,20],[11,21,13,21],[7,2,7,8],[7,9,7,10],[7,14,7,20],[7,21,7,22],[7,25,7,27],[7,28,7,40],[7,41,7,44],[6,2,6,8],[6,9,6,10],[6,14,6,20],[6,21,6,22],[6,25,6,27],[6,28,6,40],[3,3,3,10],[3,15,3,22],[3,24,3,26],[3,27,3,32],[3,34,3,48],[5,24,5,26],[6,41,6,44],[0,0,0,8],[0,12,0,20],[0,24,0,58],[0,60,0,66],[1,0,1,10],[1,12,1,22],[1,24,1,58],[0,9,0,10],[0,21,0,22],[98,35,99,35],[14,64,19,65],[14,66,19,66],[20,36,21,40],[20,41,21,45],[20,64,25,65],[20,66,25,66],[22,36,23,37],[22,38,23,38],[24,36,25,37],[14,36,19,40],[14,41,19,45],[14,46,19,47],[14,48,19,49],[14,50,19,51],[14,52,19,53],[14,54,19,55],[14,56,19,57],[14,58,19,59],[14,60,19,61],[14,62,19,63],[20,48,25,49],[20,50,25,51],[20,52,25,53],[24,41,25,42],[24,43,25,43],[24,44,25,45],[20,54,25,55],[20,56,25,57],[20,58,25,59],[20,60,25,61],[20,62,25,63],[32,66,37,66],[34,31,35,32],[34,33,35,33],[34,34,35,35],[34,36,35,37],[34,38,35,38],[34,39,35,40],[36,31,37,32],[36,33,37,33],[36,34,37,35],[32,54,37,55],[32,56,37,57],[32,60,37,61],[32,64,37,65],[87,31,88,32],[87,33,88,33],[83,46,88,47],[87,41,88,42],[87,43,88,43],[87,44,88,45],[36,39,37,40],[26,48,31,49],[32,62,37,63],[77,36,78,40],[77,41,78,45],[47,60,48,66],[77,50,82,51],[77,52,82,53],[77,54,82,55],[71,46,76,47],[71,48,76,49],[71,50,76,51],[71,52,76,53],[71,54,76,55],[71,60,76,61],[71,62,76,63],[71,64,76,65],[71,66,76,66],[89,36,90,40],[89,64,94,65],[93,36,94,37],[93,38,94,38],[93,39,94,40],[83,64,88,65],[89,58,94,59],[89,66,94,66],[91,31,92,32],[91,33,92,33],[91,34,92,35],[91,36,92,37],[91,38,92,38],[91,39,92,40],[93,31,94,32],[93,33,94,33],[93,34,94,35],[83,66,88,66],[85,31,86,32],[85,33,86,33],[85,34,86,35],[85,41,86,42],[85,43,86,43],[85,44,86,45],[50,1,50,5],[50,6,50,8],[50,9,50,10],[51,1,51,5],[51,6,51,8],[51,9,51,10],[52,1,52,5],[52,6,52,8],[52,9,52,10],[50,13,50,17],[50,18,50,20],[50,21,50,22],[51,13,51,17],[51,18,51,20],[51,21,51,22],[52,13,52,17],[52,18,52,20],[52,21,52,22],[34,1,34,5],[34,6,34,8],[34,9,34,10],[32,13,32,17],[32,18,32,20],[32,21,32,22],[33,13,33,17],[33,18,33,20],[33,21,33,22],[34,13,34,17],[34,18,34,20],[34,21,34,22],[16,13,16,17],[16,18,16,20],[16,21,16,22],[32,1,32,5],[32,6,32,8],[32,9,32,10],[33,1,33,5],[33,6,33,8],[33,9,33,10],[17,4,17,5],[17,6,17,8],[17,9,17,10],[17,16,17,17],[17,18,17,20],[17,21,17,22],[20,21,20,22],[19,4,19,5],[19,6,19,8],[19,9,19,10],[19,16,19,17],[19,18,19,20],[19,21,19,22],[20,4,20,5],[20,6,20,8]]}
[{"$f":"出場チーム!B1","v":"OFA 第 51 回大分県少年サッカー大会　兼　KYFA 九州U-12サッカー大会大分県大会"},null,null,null,null,null,null,null,null,"１次リーグ結果　報告用紙",null,null,{"$f":"出場チーム!B1","v":"OFA 第 51 回大分県少年サッカー大会　兼　KYFA 九州U-12サッカー大会大分県大会"},null,null,null,null,null,null,null,null,"１次リーグ結果　報告用紙",null,null,{"$f":"$A$1","v":"OFA 第 51 回大分県少年サッカー大会　兼　KYFA 九州U-12サッカー大会大分県大会"},null,null,null,null,null,null,null,null,null,null,null,null,null,null,null,null,null,null,null,null,null,null,null,null,null,null,null,null,null,null,null,null,null,null,null,{"$f":"$J$1","v":"１次リーグ結果　報告用紙"}]
["＜時間割＞　①10:00～　②11:00～　③12:00～　④13:00～　⑤14:00～　⑥15:00～",null,null,null,null,null,null,null,null,null,null,null,"＜時間割＞　①10:00～　②11:00～　③12:00～　④13:00～　⑤14:00～　⑥15:00～",null,null,null,null,null,null,null,null,null,null,null,"＜時間割＞　①10:00～　②11:00～　③12:00～　④13:00～　⑤14:00～　⑥15:00～"]
[]
["会場",{"$f":"組み合わせ!D7","v":"速杵国東"},"⇒",{"$f":"VLOOKUP(B4,出場チーム!$B$51:$F$59,2,FALSE)","v":"ﾌｯﾄﾎﾞｰﾙｾﾝﾀｰ大分きつき(杵築市営ｻｯｶｰ場)"},null,null,null,null,null,null,null,null,"会場",{"$f":"組み合わせ!D7","v":"速杵国東"},"⇒",{"$f":"VLOOKUP(N4,出場チーム!$B$51:$F$59,2,FALSE)","v":"ﾌｯﾄﾎﾞｰﾙｾﾝﾀｰ大分きつき(杵築市営ｻｯｶｰ場)"},null,null,null,null,null,null,null,null,"会場",null,null,{"$f":"$B$4","v":"速杵国東"},null,null,null,null,null,"⇒",{"$f":"$D$4","v":"ﾌｯﾄﾎﾞｰﾙｾﾝﾀｰ大分きつき(杵築市営ｻｯｶｰ場)"}]
[]
["パート",{"$f":"VLOOKUP(B4,組み合わせ!$AL$95:$BU$112,13,FALSE)","v":"D"},null,null,null,null,null,null,null,null,null,null,"パート",{"$f":"VLOOKUP(N4,組み合わせ!$AL$95:$BU$112,25,FALSE)","v":"G"},null,null,null,null,null,null,null,null,null,null,"パート",null,null,{"$f":"$B$6","v":"D"}]
[null,{"$f":"CONCATENATE($B$6,1)","v":"D1"},{"$f":"HLOOKUP(B7,組み合わせ!$B$48:$EO$86,2,FALSE)","v":"日出サッカースポーツ少年団"},null,null,null,null,null,null,{"$f":"HLOOKUP(B7,組み合わせ!$B$48:$EO$86,32,FALSE)","v":"速杵国東"},null,null,null,{"$f":"CONCATENATE($N$6,1)","v":"G1"},{"$f":"HLOOKUP(N7,組み合わせ!$B$48:$EO$86,2,FALSE)","v":"ＦＣ安岐"},null,null,null,null,null,null,{"$f":"HLOOKUP(N7,組み合わせ!$B$48:$EO$86,32,FALSE)","v":"速杵国東"},null,null,null,{"$f":"+B7","v":"D1"},null,null,{"$f":"$C$7","v":"日出サッカースポーツ少年団"},null,null,null,null,null,null,null,null,null,null,null,null,{"$f":"$J$7","v":"速杵国東"}]
[null,{"$f":"CONCATENATE($B$6,2)","v":"D2"},{"$f":"HLOOKUP(B8,組み合わせ!$B$48:$EO$86,2,FALSE)","v":"ＫＩＮＧＳ　ＦＯＯＴＢＡＬＬＣＬＵＢ　Ｕ－１２"},null,null,null,null,null,null,{"$f":"HLOOKUP(B8,組み合わせ!$B$48:$EO$86,32,FALSE)","v":"大分"},null,null,null,{"$f":"CONCATENATE($N$6,2)","v":"G2"},{"$f":"HLOOKUP(N8,組み合わせ!$B$48:$EO$86,2,FALSE)","v":"大分トリニータＵ－１２"},null,null,null,null,null,null,{"$f":"HLOOKUP(N8,組み合わせ!$B$48:$EO$86,32,FALSE)","v":"大分"},null,null,null,{"$f":"+B8","v":"D2"},null,null,{"$f":"$C$8","v":"ＫＩＮＧＳ　ＦＯＯＴＢＡＬＬＣＬＵＢ　Ｕ－１２"},null,null,null,null,null,null,null,null,null,null,null,null,{"$f":"$J$8","v":"大分"}]
[null,{"$f":"CONCATENATE($B$6,3)","v":"D3"},{"$f":"HLOOKUP(B9,組み合わせ!$B$48:$EO$86,2,FALSE)","v":"ＦＣ　ＲＥＧＡＴＥ"},null,null,null,null,null,null,{"$f":"HLOOKUP(B9,組み合わせ!$B$48:$EO$86,32,FALSE)","v":"大分"},null,null,null,{"$f":"CONCATENATE($N$6,3)","v":"G3"},{"$f":"HLOOKUP(N9,組み合わせ!$B$48:$EO$86,2,FALSE)","v":"大道サッカースポーツ少年団"},null,null,null,null,null,null,{"$f":"HLOOKUP(N9,組み合わせ!$B$48:$EO$86,32,FALSE)","v":"大分"},null,null,null,{"$f":"+B9","v":"D3"},null,null,{"$f":"$C$9","v":"ＦＣ　ＲＥＧＡＴＥ"},null,null,null,null,null,null,null,null,null,null,null,null,{"$f":"$J$9","v":"大分"}]
["8：50～ＭＣＭ",null,null,null,null,null,null,null,null,null,null,null,"9：50～ＭＣＭ"]
[]
["①\n10:00～",{"$f":"C7","v":"日出サッカースポーツ少年団"},{"$f":"IF(E12=\"\",\"\",SUM(E12:E13))","v":1},"（",1,"前半",4,"）",{"$f":"IF(G12=\"\",\"\",SUM(G12:G13))","v":10},{"$f":"C8","v":"ＫＩＮＧＳ　ＦＯＯＴＢＡＬＬＣＬＵＢ　Ｕ－１２"},null,null,"②\n11:00～",{"$f":"O7","v":"ＦＣ安岐"},{"$f":"IF(Q12=\"\",\"\",SUM(Q12:Q13))","v":0},"（",0,"前半",3,"）",{"$f":"IF(S12=\"\",\"\",SUM(S12:S13))","v":6},{"$f":"O8","v":"大分トリニータＵ－１２"}]
[null,null,null,null,0,"後半",6,null,null,null,null,null,null,null,null,null,0,"後半",3]
[null,null,null,null,null,"PK",null,null,null,null,null,null,null,null,null,null,null,"PK"]
["MC","石山　慎史",null,null,null,null,"所属協会",null,null,"速杵国東地区サッカー協会",null,null,"MC","唐下　直之",null,null,null,null,"所属協会",null,null,"速杵国東地区サッカー協会",null,null,{"$f":"$Y$6","v":"パート"},null,null,null,{"$f":"$AB$6","v":"D"},null,null,{"$f":"$Y$21","v":"日出サッカースポーツ少年団"},null,null,null,null,{"$f":"$Y$27","v":"ＫＩＮＧＳ　ＦＯＯＴＢＡＬＬＣＬＵＢ　Ｕ－１２"},null,null,null,null,{"$f":"$Y$33","v":"ＦＣ　ＲＥＧＡＴＥ"},null,null,null,null,"勝",null,"PK\n勝",null,"PK\n負",null,"負",null,"得点",null,"失点",null,"勝点",null,"勝点\n順位",null,"得失\n点差",null,"得失\n順位",null,"総\n順位"]
["WelfareOfficer","石山　慎史",null,null,null,null,"所属協会",null,null,"速杵国東地区サッカー協会",null,null,"WelfareOfficer","唐下　直之",null,null,null,null,"所属協会",null,null,"速杵国東地区サッカー協会"]
["記録","安部　正信",null,null,null,null,"所属協会",null,null,"速杵国東地区サッカー協会",null,null,"記録","大本　敏行",null,null,null,null,"所属協会",null,null,"速杵国東地区サッカー協会"]
["R:",{"$f":"IF(ISERROR(VLOOKUP(G18,審判員!$A:$C,2,FALSE))=TRUE,\"\",VLOOKUP(G18,審判員!$A:$C,2,FALSE))","v":"恵美　圭介"},{"$f":"IF(ISERROR(VLOOKUP(G18,審判員!$A:$C,3,FALSE))=TRUE,\"\",VLOOKUP(G18,審判員!$A:$C,3,FALSE))","v":3},"級","資格番号",null,"R009197619",null,null,"本部",null,null,"R:",{"$f":"IF(ISERROR(VLOOKUP(S18,審判員!$A:$C,2,FALSE))=TRUE,\"\",VLOOKUP(S18,審判員!$A:$C,2,FALSE))","v":"石山　慎史"},{"$f":"IF(ISERROR(VLOOKUP(S18,審判員!$A:$C,3,FALSE))=TRUE,\"\",VLOOKUP(S18,審判員!$A:$C,3,FALSE))","v":3},"級","資格番号",null,"R001262403",null,null,"本部"]
["AR1:",{"$f":"IF(ISERROR(VLOOKUP(G19,審判員!$A:$C,2,FALSE))=TRUE,\"\",VLOOKUP(G19,審判員!$A:$C,2,FALSE))","v":"小玉　篤史"},{"$f":"IF(ISERROR(VLOOKUP(G19,審判員!$A:$C,3,FALSE))=TRUE,\"\",VLOOKUP(G19,審判員!$A:$C,3,FALSE))","v":3},"級","資格番号",null,"R009546073",null,null,{"$f":"N12","v":"ＦＣ安岐"},null,null,"AR1:",{"$f":"IF(ISERROR(VLOOKUP(S19,審判員!$A:$C,2,FALSE))=TRUE,\"\",VLOOKUP(S19,審判員!$A:$C,2,FALSE))","v":"笠置　忠照"},{"$f":"IF(ISERROR(VLOOKUP(S19,審判員!$A:$C,3,FALSE))=TRUE,\"\",VLOOKUP(S19,審判員!$A:$C,3,FALSE))","v":3},"級","資格番号",null,"R001262829",null,null,{"$f":"B12","v":"日出サッカースポーツ少年団"}]
["AR2:",{"$f":"IF(ISERROR(VLOOKUP(G20,審判員!$A:$C,2,FALSE))=TRUE,\"\",VLOOKUP(G20,審判員!$A:$C,2,FALSE))","v":"小川　翔太"},{"$f":"IF(ISERROR(VLOOKUP(G20,審判員!$A:$C,3,FALSE))=TRUE,\"\",VLOOKUP(G20,審判員!$A:$C,3,FALSE))","v":3},"級","資格番号",null,"R007075261",null,null,{"$f":"V12","v":"大分トリニータＵ－１２"},null,null,"AR2:",{"$f":"IF(ISERROR(VLOOKUP(S20,審判員!$A:$C,2,FALSE))=TRUE,\"\",VLOOKUP(S20,審判員!$A:$C,2,FALSE))","v":"平川　伸吾"},{"$f":"IF(ISERROR(VLOOKUP(S20,審判員!$A:$C,3,FALSE))=TRUE,\"\",VLOOKUP(S20,審判員!$A:$C,3,FALSE))","v":3},"級","資格番号",null,"R003972513",null,null,{"$f":"J12","v":"ＫＩＮＧＳ　ＦＯＯＴＢＡＬＬＣＬＵＢ　Ｕ－１２"}]
["4th:",{"$f":"IF(ISERROR(VLOOKUP(G21,審判員!$A:$C,2,FALSE))=TRUE,\"\",VLOOKUP(G21,審判員!$A:$C,2,FALSE))","v":"大本　敏行"},{"$f":"IF(ISERROR(VLOOKUP(G21,審判員!$A:$C,3,FALSE))=TRUE,\"\",VLOOKUP(G21,審判員!$A:$C,3,FALSE))","v":3},"級","資格番号",null,"R010093494",null,null,"本部",null,null,"4th:",{"$f":"IF(ISERROR(VLOOKUP(S21,審判員!$A:$C,2,FALSE))=TRUE,\"\",VLOOKUP(S21,審判員!$A:$C,2,FALSE))","v":"安部　正信"},{"$f":"IF(ISERROR(VLOOKUP(S21,審判員!$A:$C,3,FALSE))=TRUE,\"\",VLOOKUP(S21,審判員!$A:$C,3,FALSE))","v":3},"級","資格番号",null,"R010281814",null,null,"本部",null,null,{"$f":"$AC$7","v":"日出サッカースポーツ少年団"},null,null,null,null,"星取表",null,null,null,null,null,null,{"$f":"IF(AK25=\"\",\"\",IF(AK25>AN25,\"○\",IF(AK25<AN25,\"●\",IF(AK23>AN23,\"△\",IF(AK23<AN23,\"▲\")))))","v":"●"},null,null,null,null,{"$f":"IF(AP25=\"\",\"\",IF(AP25>AS25,\"○\",IF(AP25<AS25,\"●\",IF(AP23>AS23,\"△\",IF(AP23<AS23,\"▲\")))))","v":"○"},null,null,null,null,{"$f":"COUNTIF($AF$21:$AT$22,\"○\")","v":1},null,{"$f":"COUNTIF($AF$21:$AT$22,\"△\")","v":0},null,{"$f":"COUNTIF($AF$21:$AT$22,\"▲\")","v":0},null,{"$f":"COUNTIF($AF$21:$AT$22,\"●\")","v":1},null,{"$f":"SUM($AK$25,$AP$25)","v":3},null,{"$f":"SUM($AN$25,$AS$25)","v":11},null,{"$f":"($AU$21*3)+($AW$21*2)+($AY$21*1)","v":3},null,{"$f":"RANK($BG$21,$BG$21:$BH$38)","v":2},null,{"$f":"$BC$21-$BE$21","v":-8},null,{"$f":"RANK($BK$21,$BK$21:$BL$38)","v":3}]
["警告/退場","氏名","背番号","分","内容",null,"内容","分","背番号","氏名","警告/退場",null,"警告/退場","氏名","背番号","分","内容",null,"内容","分","背番号","氏名","警告/退場"]
[null,{"$f":"IF(ISERROR(VLOOKUP(CONCATENATE($B$12,\"_\",C23),選手名簿!$A:$E,5,FALSE))=TRUE,\"\",VLOOKUP(CONCATENATE($B$12,\"_\",C23),選手名簿!$A:$E,5,FALSE))","v":""},null,null,null,null,null,null,null,{"$f":"IF(ISERROR(VLOOKUP(CONCATENATE($J$12,\"_\",I23),選手名簿!$A:$E,5,FALSE))=TRUE,\"\",VLOOKUP(CONCATENATE($J$12,\"_\",I23),選手名簿!$A:$E,5,FALSE))","v":""},null,null,null,{"$f":"IF(ISERROR(VLOOKUP(CONCATENATE($N$12,\"_\",O23),選手名簿!$A:$E,5,FALSE))=TRUE,\"\",VLOOKUP(CONCATENATE($N$12,\"_\",O23),選手名簿!$A:$E,5,FALSE))","v":""},null,null,null,null,"無断入",28,4,{"$f":"IF(ISERROR(VLOOKUP(CONCATENATE($V$12,\"_\",U23),選手名簿!$A:$E,5,FALSE))=TRUE,\"\",VLOOKUP(CONCATENATE($V$12,\"_\",U23),選手名簿!$A:$E,5,FALSE))","v":"斉藤　晄吏"},"警告",null,null,null,null,null,null,null,null,null,null,null,null,null,{"$f":"IF($E$14=\"\",\"\",$E$14)","v":""},null,"―",{"$f":"IF($G$14=\"\",\"\",$G$14)","v":""},null,{"$f":"IF($G$50=\"\",\"\",$G$50)","v":""},null,"―",{"$f":"IF($E$50=\"\",\"\",$E$50)","v":""}]
[null,{"$f":"IF(ISERROR(VLOOKUP(CONCATENATE($B$12,\"_\",C24),選手名簿!$A:$E,5,FALSE))=TRUE,\"\",VLOOKUP(CONCATENATE($B$12,\"_\",C24),選手名簿!$A:$E,5,FALSE))","v":""},null,null,null,null,null,null,null,{"$f":"IF(ISERROR(VLOOKUP(CONCATENATE($J$12,\"_\",I24),選手名簿!$A:$E,5,FALSE))=TRUE,\"\",VLOOKUP(CONCATENATE($J$12,\"_\",I24),選手名簿!$A:$E,5,FALSE))","v":""},null,null,null,{"$f":"IF(ISERROR(VLOOKUP(CONCATENATE($N$12,\"_\",O24),選手名簿!$A:$E,5,FALSE))=TRUE,\"\",VLOOKUP(CONCATENATE($N$12,\"_\",O24),選手名簿!$A:$E,5,FALSE))","v":""},null,null,null,null,"無断入",28,5,{"$f":"IF(ISERROR(VLOOKUP(CONCATENATE($V$12,\"_\",U24),選手名簿!$A:$E,5,FALSE))=TRUE,\"\",VLOOKUP(CONCATENATE($V$12,\"_\",U24),選手名簿!$A:$E,5,FALSE))","v":"有村　凌史郎"},"警告",null,null,null,null,null,null,"得失点"]
[null,{"$f":"IF(ISERROR(VLOOKUP(CONCATENATE($B$12,\"_\",C25),選手名簿!$A:$E,5,FALSE))=TRUE,\"\",VLOOKUP(CONCATENATE($B$12,\"_\",C25),選手名簿!$A:$E,5,FALSE))","v":""},null,null,null,null,null,null,null,{"$f":"IF(ISERROR(VLOOKUP(CONCATENATE($J$12,\"_\",I25),選手名簿!$A:$E,5,FALSE))=TRUE,\"\",VLOOKUP(CONCATENATE($J$12,\"_\",I25),選手名簿!$A:$E,5,FALSE))","v":""},null,null,null,{"$f":"IF(ISERROR(VLOOKUP(CONCATENATE($N$12,\"_\",O25),選手名簿!$A:$E,5,FALSE))=TRUE,\"\",VLOOKUP(CONCATENATE($N$12,\"_\",O25),選手名簿!$A:$E,5,FALSE))","v":""},null,null,null,null,"無断去",28,8,{"$f":"IF(ISERROR(VLOOKUP(CONCATENATE($V$12,\"_\",U25),選手名簿!$A:$E,5,FALSE))=TRUE,\"\",VLOOKUP(CONCATENATE($V$12,\"_\",U25),選手名簿!$A:$E,5,FALSE))","v":"河野　歩夢"},"警告",null,null,null,null,null,null,null,null,null,null,null,null,null,{"$f":"$C$12","v":1},null,"―",{"$f":"$I$12","v":10},null,{"$f":"$I$48","v":2},null,"―",{"$f":"$C$48","v":1}]
[null,{"$f":"IF(ISERROR(VLOOKUP(CONCATENATE($B$12,\"_\",C26),選手名簿!$A:$E,5,FALSE))=TRUE,\"\",VLOOKUP(CONCATENATE($B$12,\"_\",C26),選手名簿!$A:$E,5,FALSE))","v":""},null,null,null,null,null,null,null,{"$f":"IF(ISERROR(VLOOKUP(CONCATENATE($J$12,\"_\",I26),選手名簿!$A:$E,5,FALSE))=TRUE,\"\",VLOOKUP(CONCATENATE($J$12,\"_\",I26),選手名簿!$A:$E,5,FALSE))","v":""},null,null,null,{"$f":"IF(ISERROR(VLOOKUP(CONCATENATE($N$12,\"_\",O26),選手名簿!$A:$E,5,FALSE))=TRUE,\"\",VLOOKUP(CONCATENATE($N$12,\"_\",O26),選手名簿!$A:$E,5,FALSE))","v":""},null,null,null,null,"無断去",28,15,{"$f":"IF(ISERROR(VLOOKUP(CONCATENATE($V$12,\"_\",U26),選手名簿!$A:$E,5,FALSE))=TRUE,\"\",VLOOKUP(CONCATENATE($V$12,\"_\",U26),選手名簿!$A:$E,5,FALSE))","v":"柴田　峻徳"},"警告"]
[null,{"$f":"IF(ISERROR(VLOOKUP(CONCATENATE($B$12,\"_\",C27),選手名簿!$A:$E,5,FALSE))=TRUE,\"\",VLOOKUP(CONCATENATE($B$12,\"_\",C27),選手名簿!$A:$E,5,FALSE))","v":""},null,null,null,null,null,null,null,{"$f":"IF(ISERROR(VLOOKUP(CONCATENATE($J$12,\"_\",I27),選手名簿!$A:$E,5,FALSE))=TRUE,\"\",VLOOKUP(CONCATENATE($J$12,\"_\",I27),選手名簿!$A:$E,5,FALSE))","v":""},null,null,null,{"$f":"IF(ISERROR(VLOOKUP(CONCATENATE($N$12,\"_\",O27),選手名簿!$A:$E,5,FALSE))=TRUE,\"\",VLOOKUP(CONCATENATE($N$12,\"_\",O27),選手名簿!$A:$E,5,FALSE))","v":""},null,null,null,null,null,null,null,{"$f":"IF(ISERROR(VLOOKUP(CONCATENATE($V$12,\"_\",U27),選手名簿!$A:$E,5,FALSE))=TRUE,\"\",VLOOKUP(CONCATENATE($V$12,\"_\",U27),選手名簿!$A:$E,5,FALSE))","v":""},null,null,{"$f":"$AC$8","v":"ＫＩＮＧＳ　ＦＯＯＴＢＡＬＬＣＬＵＢ　Ｕ－１２"},null,null,null,null,"星取表",null,{"$f":"IF(AF31=\"\",\"\",IF(AF31>AI31,\"○\",IF(AF31<AI31,\"●\",IF(AF29>AI29,\"△\",IF(AF29<AI29,\"▲\")))))","v":"○"},null,null,null,null,null,null,null,null,null,{"$f":"IF(AP31=\"\",\"\",IF(AP31>AS31,\"○\",IF(AP31<AS31,\"●\",IF(AP29>AS29,\"△\",IF(AP29<AS29,\"▲\")))))","v":"○"},null,null,null,null,{"$f":"COUNTIF($AF$27:$AT$28,\"○\")","v":2},null,{"$f":"COUNTIF($AF$27:$AT$28,\"△\")","v":0},null,{"$f":"COUNTIF($AF$27:$AT$28,\"▲\")","v":0},null,{"$f":"COUNTIF($AF$27:$AT$28,\"●\")","v":0},null,{"$f":"SUM($AF$31,$AP$31)","v":13},null,{"$f":"SUM($AI$31,$AS$31)","v":2},null,{"$f":"($AU$27*3)+($AW$27*2)+($AY$27*1)","v":6},null,{"$f":"RANK($BG$27,$BG$21:$BH$38)","v":1},null,{"$f":"$BC$27-$BE$27","v":11},null,{"$f":"RANK($BK$27,$BK$21:$BL$38)","v":1}]
[]
[null,null,null,null,null,null,null,null,null,null,null,null,null,null,null,null,null,null,null,null,null,null,null,null,null,null,null,null,null,null,null,{"$f":"AN23","v":""},null,"―",{"$f":"AK23","v":""},null,null,null,null,null,null,{"$f":"IF($E$32=\"\",\"\",$E$32)","v":""},null,"―",{"$f":"IF($G$32=\"\",\"\",$G$32)","v":""}]
["③\n12:00～",{"$f":"C8","v":"ＫＩＮＧＳ　ＦＯＯＴＢＡＬＬＣＬＵＢ　Ｕ－１２"},{"$f":"IF(E30=\"\",\"\",SUM(E30:E31))","v":3},"（",2,"前半",0,"）",{"$f":"IF(G30=\"\",\"\",SUM(G30:G31))","v":1},{"$f":"C9","v":"ＦＣ　ＲＥＧＡＴＥ"},null,null,"④\n13:00～",{"$f":"O8","v":"大分トリニータＵ－１２"},{"$f":"IF(Q30=\"\",\"\",SUM(Q30:Q31))","v":4},"（",1,"前半",0,"）",{"$f":"IF(S30=\"\",\"\",SUM(S30:S31))","v":0},{"$f":"O9","v":"大道サッカースポーツ少年団"},null,null,null,null,null,null,null,"得失点"]
[null,null,null,null,1,"後半",1,null,null,null,null,null,null,null,null,null,3,"後半",0,null,null,null,null,null,null,null,null,null,null,null,null,{"$f":"AN25","v":10},null,"―",{"$f":"AK25","v":1},null,null,null,null,null,null,{"$f":"$C$30","v":3},null,"―",{"$f":"$I$30","v":1}]
[null,null,null,null,null,"PK",null,null,null,null,null,null,null,null,null,null,null,"PK"]
["MC","伊賀　隆博",null,null,null,null,"所属協会",null,null,"速杵国東地区サッカー協会",null,null,"MC","石山　慎史",null,null,null,null,"所属協会",null,null,"速杵国東地区サッカー協会",null,null,{"$f":"$AC$9","v":"ＦＣ　ＲＥＧＡＴＥ"},null,null,null,null,"星取表",null,{"$f":"IF(AF37=\"\",\"\",IF(AF37>AI37,\"○\",IF(AF37<AI37,\"●\",IF(AF35>AI35,\"△\",IF(AF35<AI35,\"▲\")))))","v":"●"},null,null,null,null,{"$f":"IF(AK37=\"\",\"\",IF(AK37>AN37,\"○\",IF(AK37<AN37,\"●\",IF(AK35>AN35,\"△\",IF(AK35<AN35,\"▲\")))))","v":"●"},null,null,null,null,null,null,null,null,null,{"$f":"COUNTIF($AF$33:$AT$34,\"○\")","v":0},null,{"$f":"COUNTIF($AF$33:$AT$34,\"△\")","v":0},null,{"$f":"COUNTIF($AF$33:$AT$34,\"▲\")","v":0},null,{"$f":"COUNTIF($AF$33:$AT$34,\"●\")","v":2},null,{"$f":"SUM($AF$37,$AK$37)","v":2},null,{"$f":"SUM($AI$37,$AN$37)","v":5},null,{"$f":"($AU$33*3)+($AW$33*2)+($AY$33*1)","v":0},null,{"$f":"RANK($BG$33,$BG$21:$BH$38)","v":3},null,{"$f":"$BC$33-$BE$33","v":-3},null,{"$f":"RANK($BK$33,$BK$21:$BL$38)","v":2}]
["WelfareOfficer","伊賀　隆博",null,null,null,null,"所属協会",null,null,"速杵国東地区サッカー協会",null,null,"WelfareOfficer","石山　慎史",null,null,null,null,"所属協会",null,null,"速杵国東地区サッカー協会"]
["記録","大本　敏行",null,null,null,null,"所属協会",null,null,"速杵国東地区サッカー協会",null,null,"記録","恵美　圭介",null,null,null,null,"所属協会",null,null,"速杵国東地区サッカー協会",null,null,null,null,null,null,null,null,null,{"$f":"AS23","v":""},null,"―",{"$f":"AP23","v":""},null,{"$f":"AS29","v":""},null,"―",{"$f":"AP29","v":""}]
["R:",{"$f":"IF(ISERROR(VLOOKUP(G36,審判員!$A:$C,2,FALSE))=TRUE,\"\",VLOOKUP(G36,審判員!$A:$C,2,FALSE))","v":"久保　雅敬"},{"$f":"IF(ISERROR(VLOOKUP(G36,審判員!$A:$C,3,FALSE))=TRUE,\"\",VLOOKUP(G36,審判員!$A:$C,3,FALSE))","v":3},"級","資格番号",null,"R003677131",null,null,"本部",null,null,"R:",{"$f":"IF(ISERROR(VLOOKUP(S36,審判員!$A:$C,2,FALSE))=TRUE,\"\",VLOOKUP(S36,審判員!$A:$C,2,FALSE))","v":"唐下　直之"},{"$f":"IF(ISERROR(VLOOKUP(S36,審判員!$A:$C,3,FALSE))=TRUE,\"\",VLOOKUP(S36,審判員!$A:$C,3,FALSE))","v":3},"級","資格番号",null,"R004111340",null,null,"本部",null,null,null,null,null,null,null,"得失点"]
["AR1:",{"$f":"IF(ISERROR(VLOOKUP(G37,審判員!$A:$C,2,FALSE))=TRUE,\"\",VLOOKUP(G37,審判員!$A:$C,2,FALSE))","v":"小川　翔太"},{"$f":"IF(ISERROR(VLOOKUP(G37,審判員!$A:$C,3,FALSE))=TRUE,\"\",VLOOKUP(G37,審判員!$A:$C,3,FALSE))","v":3},"級","資格番号",null,"R007075261",null,null,{"$f":"N30","v":"大分トリニータＵ－１２"},null,null,"AR1:",{"$f":"IF(ISERROR(VLOOKUP(S37,審判員!$A:$C,2,FALSE))=TRUE,\"\",VLOOKUP(S37,審判員!$A:$C,2,FALSE))","v":"篠田　公成"},{"$f":"IF(ISERROR(VLOOKUP(S37,審判員!$A:$C,3,FALSE))=TRUE,\"\",VLOOKUP(S37,審判員!$A:$C,3,FALSE))","v":3},"級","資格番号",null,"R001257340",null,null,{"$f":"B30","v":"ＫＩＮＧＳ　ＦＯＯＴＢＡＬＬＣＬＵＢ　Ｕ－１２"},null,null,null,null,null,null,null,null,null,{"$f":"AS25","v":1},null,"―",{"$f":"AP25","v":2},null,{"$f":"AS31","v":1},null,"―",{"$f":"AP31","v":3}]
["AR2:",{"$f":"IF(ISERROR(VLOOKUP(G38,審判員!$A:$C,2,FALSE))=TRUE,\"\",VLOOKUP(G38,審判員!$A:$C,2,FALSE))","v":"田尻　貴志"},{"$f":"IF(ISERROR(VLOOKUP(G38,審判員!$A:$C,3,FALSE))=TRUE,\"\",VLOOKUP(G38,審判員!$A:$C,3,FALSE))","v":3},"級","資格番号",null,"R010120124",null,null,{"$f":"V30","v":"大道サッカースポーツ少年団"},null,null,"AR2:",{"$f":"IF(ISERROR(VLOOKUP(S38,審判員!$A:$C,2,FALSE))=TRUE,\"\",VLOOKUP(S38,審判員!$A:$C,2,FALSE))","v":"本戸　峰"},{"$f":"IF(ISERROR(VLOOKUP(S38,審判員!$A:$C,3,FALSE))=TRUE,\"\",VLOOKUP(S38,審判員!$A:$C,3,FALSE))","v":3},"級","資格番号",null,"R010127606",null,null,{"$f":"J30","v":"ＦＣ　ＲＥＧＡＴＥ"}]
["4th:",{"$f":"IF(ISERROR(VLOOKUP(G39,審判員!$A:$C,2,FALSE))=TRUE,\"\",VLOOKUP(G39,審判員!$A:$C,2,FALSE))","v":"恵美　圭介"},{"$f":"IF(ISERROR(VLOOKUP(G39,審判員!$A:$C,3,FALSE))=TRUE,\"\",VLOOKUP(G39,審判員!$A:$C,3,FALSE))","v":3},"級","資格番号",null,"R009197619",null,null,"本部",null,null,"4th:",{"$f":"IF(ISERROR(VLOOKUP(S39,審判員!$A:$C,2,FALSE))=TRUE,\"\",VLOOKUP(S39,審判員!$A:$C,2,FALSE))","v":"藤原　龍司"},{"$f":"IF(ISERROR(VLOOKUP(S39,審判員!$A:$C,3,FALSE))=TRUE,\"\",VLOOKUP(S39,審判員!$A:$C,3,FALSE))","v":3},"級","資格番号",null,"R003421772",null,null,"本部"]
["警告/退場","氏名","背番号","分","内容",null,"内容","分","背番号","氏名","警告/退場",null,"警告/退場","氏名","背番号","分","内容",null,"内容","分","背番号","氏名","警告/退場",null,"Ⅰ勝点（勝３点　ＰＫ勝２点　ＰＫ負１点　負０点）　Ⅱ当該チームの戦績　Ⅲ得失点差　Ⅳ多得点　Ⅴ抽選の順で順位を決定する。"]
[null,{"$f":"IF(ISERROR(VLOOKUP(CONCATENATE($B$30,\"_\",C41),選手名簿!$A:$E,5,FALSE))=TRUE,\"\",VLOOKUP(CONCATENATE($B$30,\"_\",C41),選手名簿!$A:$E,5,FALSE))","v":""},null,null,null,null,null,null,null,{"$f":"IF(ISERROR(VLOOKUP(CONCATENATE($J$30,\"_\",I41),選手名簿!$A:$E,5,FALSE))=TRUE,\"\",VLOOKUP(CONCATENATE($J$30,\"_\",I41),選手名簿!$A:$E,5,FALSE))","v":""},null,null,null,{"$f":"IF(ISERROR(VLOOKUP(CONCATENATE($N$30,\"_\",O41),選手名簿!$A:$E,5,FALSE))=TRUE,\"\",VLOOKUP(CONCATENATE($N$30,\"_\",O41),選手名簿!$A:$E,5,FALSE))","v":""},null,null,null,null,null,null,null,{"$f":"IF(ISERROR(VLOOKUP(CONCATENATE($V$30,\"_\",U41),選手名簿!$A:$E,5,FALSE))=TRUE,\"\",VLOOKUP(CONCATENATE($V$30,\"_\",U41),選手名簿!$A:$E,5,FALSE))","v":""}]
[null,{"$f":"IF(ISERROR(VLOOKUP(CONCATENATE($B$30,\"_\",C42),選手名簿!$A:$E,5,FALSE))=TRUE,\"\",VLOOKUP(CONCATENATE($B$30,\"_\",C42),選手名簿!$A:$E,5,FALSE))","v":""},null,null,null,null,null,null,null,{"$f":"IF(ISERROR(VLOOKUP(CONCATENATE($J$30,\"_\",I42),選手名簿!$A:$E,5,FALSE))=TRUE,\"\",VLOOKUP(CONCATENATE($J$30,\"_\",I42),選手名簿!$A:$E,5,FALSE))","v":""},null,null,null,{"$f":"IF(ISERROR(VLOOKUP(CONCATENATE($N$30,\"_\",O42),選手名簿!$A:$E,5,FALSE))=TRUE,\"\",VLOOKUP(CONCATENATE($N$30,\"_\",O42),選手名簿!$A:$E,5,FALSE))","v":""},null,null,null,null,null,null,null,{"$f":"IF(ISERROR(VLOOKUP(CONCATENATE($V$30,\"_\",U42),選手名簿!$A:$E,5,FALSE))=TRUE,\"\",VLOOKUP(CONCATENATE($V$30,\"_\",U42),選手名簿!$A:$E,5,FALSE))","v":""},null,null,"勝点表",null,"勝","○",null,"PK\n勝","△",null,"PK\n負","▲",null,"負","●"]
[null,{"$f":"IF(ISERROR(VLOOKUP(CONCATENATE($B$30,\"_\",C43),選手名簿!$A:$E,5,FALSE))=TRUE,\"\",VLOOKUP(CONCATENATE($B$30,\"_\",C43),選手名簿!$A:$E,5,FALSE))","v":""},null,null,null,null,null,null,null,{"$f":"IF(ISERROR(VLOOKUP(CONCATENATE($J$30,\"_\",I43),選手名簿!$A:$E,5,FALSE))=TRUE,\"\",VLOOKUP(CONCATENATE($J$30,\"_\",I43),選手名簿!$A:$E,5,FALSE))","v":""},null,null,null,{"$f":"IF(ISERROR(VLOOKUP(CONCATENATE($N$30,\"_\",O43),選手名簿!$A:$E,5,FALSE))=TRUE,\"\",VLOOKUP(CONCATENATE($N$30,\"_\",O43),選手名簿!$A:$E,5,FALSE))","v":""},null,null,null,null,null,null,null,{"$f":"IF(ISERROR(VLOOKUP(CONCATENATE($V$30,\"_\",U43),選手名簿!$A:$E,5,FALSE))=TRUE,\"\",VLOOKUP(CONCATENATE($V$30,\"_\",U43),選手名簿!$A:$E,5,FALSE))","v":""},null,null,null,null,null,3,null,null,2,null,null,1,null,null,0]
[null,{"$f":"IF(ISERROR(VLOOKUP(CONCATENATE($B$30,\"_\",C44),選手名簿!$A:$E,5,FALSE))=TRUE,\"\",VLOOKUP(CONCATENATE($B$30,\"_\",C44),選手名簿!$A:$E,5,FALSE))","v":""},null,null,null,null,null,null,null,{"$f":"IF(ISERROR(VLOOKUP(CONCATENATE($J$30,\"_\",I44),選手名簿!$A:$E,5,FALSE))=TRUE,\"\",VLOOKUP(CONCATENATE($J$30,\"_\",I44),選手名簿!$A:$E,5,FALSE))","v":""},null,null,null,{"$f":"IF(ISERROR(VLOOKUP(CONCATENATE($N$30,\"_\",O44),選手名簿!$A:$E,5,FALSE))=TRUE,\"\",VLOOKUP(CONCATENATE($N$30,\"_\",O44),選手名簿!$A:$E,5,FALSE))","v":""},null,null,null,null,null,null,null,{"$f":"IF(ISERROR(VLOOKUP(CONCATENATE($V$30,\"_\",U44),選手名簿!$A:$E,5,FALSE))=TRUE,\"\",VLOOKUP(CONCATENATE($V$30,\"_\",U44),選手名簿!$A:$E,5,FALSE))","v":""}]
[null,{"$f":"IF(ISERROR(VLOOKUP(CONCATENATE($B$30,\"_\",C45),選手名簿!$A:$E,5,FALSE))=TRUE,\"\",VLOOKUP(CONCATENATE($B$30,\"_\",C45),選手名簿!$A:$E,5,FALSE))","v":""},null,null,null,null,null,null,null,{"$f":"IF(ISERROR(VLOOKUP(CONCATENATE($J$30,\"_\",I45),選手名簿!$A:$E,5,FALSE))=TRUE,\"\",VLOOKUP(CONCATENATE($J$30,\"_\",I45),選手名簿!$A:$E,5,FALSE))","v":""},null,null,null,{"$f":"IF(ISERROR(VLOOKUP(CONCATENATE($N$30,\"_\",O45),選手名簿!$A:$E,5,FALSE))=TRUE,\"\",VLOOKUP(CONCATENATE($N$30,\"_\",O45),選手名簿!$A:$E,5,FALSE))","v":""},null,null,null,null,null,null,null,{"$f":"IF(ISERROR(VLOOKUP(CONCATENATE($V$30,\"_\",U45),選手名簿!$A:$E,5,FALSE))=TRUE,\"\",VLOOKUP(CONCATENATE($V$30,\"_\",U45),選手名簿!$A:$E,5,FALSE))","v":""}]
[]
[]
["⑤\n14:00～",{"$f":"C9","v":"ＦＣ　ＲＥＧＡＴＥ"},{"$f":"IF(E48=\"\",\"\",SUM(E48:E49))","v":1},"（",1,"前半",0,"）",{"$f":"IF(G48=\"\",\"\",SUM(G48:G49))","v":2},{"$f":"C7","v":"日出サッカースポーツ少年団"},null,null,"⑥\n15:00～",{"$f":"O9","v":"大道サッカースポーツ少年団"},{"$f":"IF(Q48=\"\",\"\",SUM(Q48:Q49))","v":4},"（",1,"前半",0,"）",{"$f":"IF(S48=\"\",\"\",SUM(S48:S49))","v":0},{"$f":"O7","v":"ＦＣ安岐"},null,null,{"$f":"$Y$1","v":"OFA 第 51 回大分県少年サッカー大会　兼　KYFA 九州U-12サッカー大会大分県大会"},null,null,null,null,null,null,null,null,null,null,null,null,null,null,null,null,null,null,null,null,null,null,null,null,null,null,null,null,null,null,null,null,null,null,null,{"$f":"$BI$1","v":"１次リーグ結果　報告用紙"}]
[null,null,null,null,0,"後半",2,null,null,null,null,null,null,null,null,null,3,"後半",0]
[null,null,null,null,null,"PK",null,null,null,null,null,null,null,null,null,null,null,"PK",null,null,null,null,null,null,"＜時間割＞　①10:00～　②11:00～　③12:00～　④13:00～　⑤14:00～　⑥15:00～"]
["MC","伊賀　隆博",null,null,null,null,"所属協会",null,null,"速杵国東地区サッカー協会",null,null,"MC","唐下　直之",null,null,null,null,"所属協会",null,null,"速杵国東地区サッカー協会"]
["WelfareOfficer","伊賀　隆博",null,null,null,null,"所属協会",null,null,"速杵国東地区サッカー協会",null,null,"WelfareOfficer","唐下　直之",null,null,null,null,"所属協会",null,null,"速杵国東地区サッカー協会"]
["記録","安部　正信",null,null,null,null,"所属協会",null,null,"速杵国東地区サッカー協会",null,null,"記録","久保　雅敬",null,null,null,null,"所属協会",null,null,"速杵国東地区サッカー協会"]
["R:",{"$f":"IF(ISERROR(VLOOKUP(G54,審判員!$A:$C,2,FALSE))=TRUE,\"\",VLOOKUP(G54,審判員!$A:$C,2,FALSE))","v":"箕迫　雄介"},{"$f":"IF(ISERROR(VLOOKUP(G54,審判員!$A:$C,3,FALSE))=TRUE,\"\",VLOOKUP(G54,審判員!$A:$C,3,FALSE))","v":3},"級","資格番号",null,"R005405699",null,null,"本部",null,null,"R:",{"$f":"IF(ISERROR(VLOOKUP(S54,審判員!$A:$C,2,FALSE))=TRUE,\"\",VLOOKUP(S54,審判員!$A:$C,2,FALSE))","v":"大本　敏行"},{"$f":"IF(ISERROR(VLOOKUP(S54,審判員!$A:$C,3,FALSE))=TRUE,\"\",VLOOKUP(S54,審判員!$A:$C,3,FALSE))","v":3},"級","資格番号",null,"R010093494",null,null,"本部",null,null,"会場",null,null,{"$f":"$N$4","v":"速杵国東"},null,null,null,null,null,"⇒",{"$f":"$P$4","v":"ﾌｯﾄﾎﾞｰﾙｾﾝﾀｰ大分きつき(杵築市営ｻｯｶｰ場)"}]
["AR1:",{"$f":"IF(ISERROR(VLOOKUP(G55,審判員!$A:$C,2,FALSE))=TRUE,\"\",VLOOKUP(G55,審判員!$A:$C,2,FALSE))","v":"田尻　貴志"},{"$f":"IF(ISERROR(VLOOKUP(G55,審判員!$A:$C,3,FALSE))=TRUE,\"\",VLOOKUP(G55,審判員!$A:$C,3,FALSE))","v":3},"級","資格番号",null,"R010120124",null,null,{"$f":"N48","v":"大道サッカースポーツ少年団"},null,null,"AR1:",{"$f":"IF(ISERROR(VLOOKUP(S55,審判員!$A:$C,2,FALSE))=TRUE,\"\",VLOOKUP(S55,審判員!$A:$C,2,FALSE))","v":"本戸　峰"},{"$f":"IF(ISERROR(VLOOKUP(S55,審判員!$A:$C,3,FALSE))=TRUE,\"\",VLOOKUP(S55,審判員!$A:$C,3,FALSE))","v":3},"級","資格番号",null,"R010127606",null,null,{"$f":"B48","v":"ＦＣ　ＲＥＧＡＴＥ"}]
["AR2:",{"$f":"IF(ISERROR(VLOOKUP(G56,審判員!$A:$C,2,FALSE))=TRUE,\"\",VLOOKUP(G56,審判員!$A:$C,2,FALSE))","v":"小玉　篤史"},{"$f":"IF(ISERROR(VLOOKUP(G56,審判員!$A:$C,3,FALSE))=TRUE,\"\",VLOOKUP(G56,審判員!$A:$C,3,FALSE))","v":3},"級","資格番号",null,"R009546073",null,null,{"$f":"V48","v":"ＦＣ安岐"},null,null,"AR2:",{"$f":"IF(ISERROR(VLOOKUP(S56,審判員!$A:$C,2,FALSE))=TRUE,\"\",VLOOKUP(S56,審判員!$A:$C,2,FALSE))","v":"笠置　忠照"},{"$f":"IF(ISERROR(VLOOKUP(S56,審判員!$A:$C,3,FALSE))=TRUE,\"\",VLOOKUP(S56,審判員!$A:$C,3,FALSE))","v":3},"級","資格番号",null,"R001262829",null,null,{"$f":"J48","v":"日出サッカースポーツ少年団"}]
["4th:",{"$f":"IF(ISERROR(VLOOKUP(G57,審判員!$A:$C,2,FALSE))=TRUE,\"\",VLOOKUP(G57,審判員!$A:$C,2,FALSE))","v":"久保　雅敬"},{"$f":"IF(ISERROR(VLOOKUP(G57,審判員!$A:$C,3,FALSE))=TRUE,\"\",VLOOKUP(G57,審判員!$A:$C,3,FALSE))","v":3},"級","資格番号",null,"R003677131",null,null,"本部",null,null,"4th:",{"$f":"IF(ISERROR(VLOOKUP(S57,審判員!$A:$C,2,FALSE))=TRUE,\"\",VLOOKUP(S57,審判員!$A:$C,2,FALSE))","v":"藤原　龍司"},{"$f":"IF(ISERROR(VLOOKUP(S57,審判員!$A:$C,3,FALSE))=TRUE,\"\",VLOOKUP(S57,審判員!$A:$C,3,FALSE))","v":3},"級","資格番号",null,"R003421772",null,null,"本部"]
["警告/退場","氏名","背番号","分","内容",null,"内容","分","背番号","氏名","警告/退場",null,"警告/退場","氏名","背番号","分","内容",null,"内容","分","背番号","氏名","警告/退場",null,"パート",null,null,{"$f":"$N$6","v":"G"}]
[null,{"$f":"IF(ISERROR(VLOOKUP(CONCATENATE($B$48,\"_\",C59),選手名簿!$A:$E,5,FALSE))=TRUE,\"\",VLOOKUP(CONCATENATE($B$48,\"_\",C59),選手名簿!$A:$E,5,FALSE))","v":""},null,null,null,null,null,null,null,{"$f":"IF(ISERROR(VLOOKUP(CONCATENATE($J$48,\"_\",I59),選手名簿!$A:$E,5,FALSE))=TRUE,\"\",VLOOKUP(CONCATENATE($J$48,\"_\",I59),選手名簿!$A:$E,5,FALSE))","v":""},null,null,null,{"$f":"IF(ISERROR(VLOOKUP(CONCATENATE($N$48,\"_\",O59),選手名簿!$A:$E,5,FALSE))=TRUE,\"\",VLOOKUP(CONCATENATE($N$48,\"_\",O59),選手名簿!$A:$E,5,FALSE))","v":""},null,null,null,null,null,null,null,{"$f":"IF(ISERROR(VLOOKUP(CONCATENATE($V$48,\"_\",U59),選手名簿!$A:$E,5,FALSE))=TRUE,\"\",VLOOKUP(CONCATENATE($V$48,\"_\",U59),選手名簿!$A:$E,5,FALSE))","v":""}]
[null,{"$f":"IF(ISERROR(VLOOKUP(CONCATENATE($B$48,\"_\",C60),選手名簿!$A:$E,5,FALSE))=TRUE,\"\",VLOOKUP(CONCATENATE($B$48,\"_\",C60),選手名簿!$A:$E,5,FALSE))","v":""},null,null,null,null,null,null,null,{"$f":"IF(ISERROR(VLOOKUP(CONCATENATE($J$48,\"_\",I60),選手名簿!$A:$E,5,FALSE))=TRUE,\"\",VLOOKUP(CONCATENATE($J$48,\"_\",I60),選手名簿!$A:$E,5,FALSE))","v":""},null,null,null,{"$f":"IF(ISERROR(VLOOKUP(CONCATENATE($N$48,\"_\",O60),選手名簿!$A:$E,5,FALSE))=TRUE,\"\",VLOOKUP(CONCATENATE($N$48,\"_\",O60),選手名簿!$A:$E,5,FALSE))","v":""},null,null,null,null,null,null,null,{"$f":"IF(ISERROR(VLOOKUP(CONCATENATE($V$48,\"_\",U60),選手名簿!$A:$E,5,FALSE))=TRUE,\"\",VLOOKUP(CONCATENATE($V$48,\"_\",U60),選手名簿!$A:$E,5,FALSE))","v":""},null,null,null,{"$f":"$N$7","v":"G1"},null,null,{"$f":"$O$7","v":"ＦＣ安岐"},null,null,null,null,null,null,null,null,null,null,null,null,{"$f":"$V$7","v":"速杵国東"}]
[null,{"$f":"IF(ISERROR(VLOOKUP(CONCATENATE($B$48,\"_\",C61),選手名簿!$A:$E,5,FALSE))=TRUE,\"\",VLOOKUP(CONCATENATE($B$48,\"_\",C61),選手名簿!$A:$E,5,FALSE))","v":""},null,null,null,null,null,null,null,{"$f":"IF(ISERROR(VLOOKUP(CONCATENATE($J$48,\"_\",I61),選手名簿!$A:$E,5,FALSE))=TRUE,\"\",VLOOKUP(CONCATENATE($J$48,\"_\",I61),選手名簿!$A:$E,5,FALSE))","v":""},null,null,null,{"$f":"IF(ISERROR(VLOOKUP(CONCATENATE($N$48,\"_\",O61),選手名簿!$A:$E,5,FALSE))=TRUE,\"\",VLOOKUP(CONCATENATE($N$48,\"_\",O61),選手名簿!$A:$E,5,FALSE))","v":""},null,null,null,null,null,null,null,{"$f":"IF(ISERROR(VLOOKUP(CONCATENATE($V$48,\"_\",U61),選手名簿!$A:$E,5,FALSE))=TRUE,\"\",VLOOKUP(CONCATENATE($V$48,\"_\",U61),選手名簿!$A:$E,5,FALSE))","v":""}]
[null,{"$f":"IF(ISERROR(VLOOKUP(CONCATENATE($B$48,\"_\",C62),選手名簿!$A:$E,5,FALSE))=TRUE,\"\",VLOOKUP(CONCATENATE($B$48,\"_\",C62),選手名簿!$A:$E,5,FALSE))","v":""},null,null,null,null,null,null,null,{"$f":"IF(ISERROR(VLOOKUP(CONCATENATE($J$48,\"_\",I62),選手名簿!$A:$E,5,FALSE))=TRUE,\"\",VLOOKUP(CONCATENATE($J$48,\"_\",I62),選手名簿!$A:$E,5,FALSE))","v":""},null,null,null,{"$f":"IF(ISERROR(VLOOKUP(CONCATENATE($N$48,\"_\",O62),選手名簿!$A:$E,5,FALSE))=TRUE,\"\",VLOOKUP(CONCATENATE($N$48,\"_\",O62),選手名簿!$A:$E,5,FALSE))","v":""},null,null,null,null,null,null,null,{"$f":"IF(ISERROR(VLOOKUP(CONCATENATE($V$48,\"_\",U62),選手名簿!$A:$E,5,FALSE))=TRUE,\"\",VLOOKUP(CONCATENATE($V$48,\"_\",U62),選手名簿!$A:$E,5,FALSE))","v":""},null,null,null,{"$f":"$N$8","v":"G2"},null,null,{"$f":"$O$8","v":"大分トリニータＵ－１２"},null,null,null,null,null,null,null,null,null,null,null,null,{"$f":"$V$8","v":"大分"}]
[null,{"$f":"IF(ISERROR(VLOOKUP(CONCATENATE($B$48,\"_\",C63),選手名簿!$A:$E,5,FALSE))=TRUE,\"\",VLOOKUP(CONCATENATE($B$48,\"_\",C63),選手名簿!$A:$E,5,FALSE))","v":""},null,null,null,null,null,null,null,{"$f":"IF(ISERROR(VLOOKUP(CONCATENATE($J$48,\"_\",I63),選手名簿!$A:$E,5,FALSE))=TRUE,\"\",VLOOKUP(CONCATENATE($J$48,\"_\",I63),選手名簿!$A:$E,5,FALSE))","v":""},null,null,null,{"$f":"IF(ISERROR(VLOOKUP(CONCATENATE($N$48,\"_\",O63),選手名簿!$A:$E,5,FALSE))=TRUE,\"\",VLOOKUP(CONCATENATE($N$48,\"_\",O63),選手名簿!$A:$E,5,FALSE))","v":""},null,null,null,null,null,null,null,{"$f":"IF(ISERROR(VLOOKUP(CONCATENATE($V$48,\"_\",U63),選手名簿!$A:$E,5,FALSE))=TRUE,\"\",VLOOKUP(CONCATENATE($V$48,\"_\",U63),選手名簿!$A:$E,5,FALSE))","v":""}]
[null,null,null,null,null,null,null,null,null,null,null,null,null,null,null,null,null,null,null,null,null,null,null,null,null,{"$f":"$N$9","v":"G3"},null,null,{"$f":"$O$9","v":"大道サッカースポーツ少年団"},null,null,null,null,null,null,null,null,null,null,null,null,{"$f":"$V$9","v":"大分"}]
[]
[]
[]
[]
[]
[]
[]
[null,null,null,null,null,null,null,null,null,null,null,null,null,null,null,null,null,null,null,null,null,null,null,null,{"$f":"$Y$6","v":"パート"},null,null,null,{"$f":"$AB$58","v":"G"},null,null,{"$f":"$Y$78","v":"ＦＣ安岐"},null,null,null,null,{"$f":"$Y$84","v":"大分トリニータＵ－１２"},null,null,null,null,{"$f":"$Y$90","v":"大道サッカースポーツ少年団"},null,null,null,null,"勝",null,"PK\n勝",null,"PK\n負",null,"負",null,"得点",null,"失点",null,"勝点",null,"勝点\n順位",null,"得失\n点差",null,"得失\n順位",null,"総\n順位"]
[]
[]
[]
[]
[]
[null,null,null,null,null,null,null,null,null,null,null,null,null,null,null,null,null,null,null,null,null,null,null,null,{"$f":"$AC$60","v":"ＦＣ安岐"},null,null,null,null,"星取表",null,null,null,null,null,null,{"$f":"IF(AK82=\"\",\"\",IF(AK82>AN82,\"○\",IF(AK82<AN82,\"●\",IF(AK80>AN80,\"△\",IF(AK80<AN80,\"▲\")))))","v":"●"},null,null,null,null,{"$f":"IF(AP82=\"\",\"\",IF(AP82>AS82,\"○\",IF(AP82<AS82,\"●\",IF(AP80>AS80,\"△\",IF(AP80<AS80,\"▲\")))))","v":"●"},null,null,null,null,{"$f":"COUNTIF($AF$78:$AT$79,\"○\")","v":0},null,{"$f":"COUNTIF($AF$78:$AT$79,\"△\")","v":0},null,{"$f":"COUNTIF($AF$78:$AT$79,\"▲\")","v":0},null,{"$f":"COUNTIF($AF$78:$AT$79,\"●\")","v":2},null,{"$f":"SUM($AK$82,$AP$82)","v":0},null,{"$f":"SUM($AN$82,$AS$82)","v":10},null,{"$f":"($AU$78*3)+($AW$78*2)+($AY$78*1)","v":0},null,{"$f":"RANK($BG$78,$BG$78:$BH$95)","v":3},null,{"$f":"$BC$78-$BE$78","v":-10},null,{"$f":"RANK($BK$78,$BK$78:$BL$95)","v":3}]
[]
[null,null,null,null,null,null,null,null,null,null,null,null,null,null,null,null,null,null,null,null,null,null,null,null,null,null,null,null,null,null,null,null,null,null,null,null,{"$f":"IF($Q$14=\"\",\"\",$Q$14)","v":""},null,"―",{"$f":"IF($S$14=\"\",\"\",$S$14)","v":""},null,{"$f":"IF($S$50=\"\",\"\",$S$50)","v":""},null,"―",{"$f":"IF($Q$50=\"\",\"\",$Q$50)","v":""}]
[null,null,null,null,null,null,null,null,null,null,null,null,null,null,null,null,null,null,null,null,null,null,null,null,null,null,null,null,null,"得失点"]
[null,null,null,null,null,null,null,null,null,null,null,null,null,null,null,null,null,null,null,null,null,null,null,null,null,null,null,null,null,null,null,null,null,null,null,null,{"$f":"$O$12","v":0},null,"―",{"$f":"$U$12","v":6},null,{"$f":"$U$48","v":0},null,"―",{"$f":"$O$48","v":4}]
[]
[null,null,null,null,null,null,null,null,null,null,null,null,null,null,null,null,null,null,null,null,null,null,null,null,{"$f":"$AC$62","v":"大分トリニータＵ－１２"},null,null,null,null,"星取表",null,{"$f":"IF(AF88=\"\",\"\",IF(AF88>AI88,\"○\",IF(AF88<AI88,\"●\",IF(AF86>AI86,\"△\",IF(AF86<AI86,\"▲\")))))","v":"○"},null,null,null,null,null,null,null,null,null,{"$f":"IF(AP88=\"\",\"\",IF(AP88>AS88,\"○\",IF(AP88<AS88,\"●\",IF(AP86>AS86,\"△\",IF(AP86<AS86,\"▲\")))))","v":"○"},null,null,null,null,{"$f":"COUNTIF($AF$84:$AT$85,\"○\")","v":2},null,{"$f":"COUNTIF($AF$84:$AT$85,\"△\")","v":0},null,{"$f":"COUNTIF($AF$84:$AT$85,\"▲\")","v":0},null,{"$f":"COUNTIF($AF$84:$AT$85,\"●\")","v":0},null,{"$f":"SUM($AF$88,$AP$88)","v":10},null,{"$f":"SUM($AI$88,$AS$88)","v":0},null,{"$f":"($AU$84*3)+($AW$84*2)+($AY$84*1)","v":6},null,{"$f":"RANK($BG$84,$BG$78:$BH$95)","v":1},null,{"$f":"$BC$84-$BE$84","v":10},null,{"$f":"RANK($BK$84,$BK$78:$BL$95)","v":1}]
[]
[null,null,null,null,null,null,null,null,null,null,null,null,null,null,null,null,null,null,null,null,null,null,null,null,null,null,null,null,null,null,null,{"$f":"AN80","v":""},null,"―",{"$f":"AK80","v":""},null,null,null,null,null,null,{"$f":"IF($Q$32=\"\",\"\",$Q$32)","v":""},null,"―",{"$f":"IF($S$32=\"\",\"\",$S$32)","v":""}]
[null,null,null,null,null,null,null,null,null,null,null,null,null,null,null,null,null,null,null,null,null,null,null,null,null,null,null,null,null,"得失点"]
[null,null,null,null,null,null,null,null,null,null,null,null,null,null,null,null,null,null,null,null,null,null,null,null,null,null,null,null,null,null,null,{"$f":"AN82","v":6},null,"―",{"$f":"AK82","v":0},null,null,null,null,null,null,{"$f":"$O$30","v":4},null,"―",{"$f":"$U$30","v":0}]
[]
[null,null,null,null,null,null,null,null,null,null,null,null,null,null,null,null,null,null,null,null,null,null,null,null,{"$f":"$AC$64","v":"大道サッカースポーツ少年団"},null,null,null,null,"星取表",null,{"$f":"IF(AF94=\"\",\"\",IF(AF94>AI94,\"○\",IF(AF94<AI94,\"●\",IF(AF92>AI92,\"△\",IF(AF92<AI92,\"▲\")))))","v":"○"},null,null,null,null,{"$f":"IF(AK94=\"\",\"\",IF(AK94>AN94,\"○\",IF(AK94<AN94,\"●\",IF(AK92>AN92,\"△\",IF(AK92<AN92,\"▲\")))))","v":"●"},null,null,null,null,null,null,null,null,null,{"$f":"COUNTIF($AF$90:$AT$91,\"○\")","v":1},null,{"$f":"COUNTIF($AF$90:$AT$91,\"△\")","v":0},null,{"$f":"COUNTIF($AF$90:$AT$91,\"▲\")","v":0},null,{"$f":"COUNTIF($AF$90:$AT$91,\"●\")","v":1},null,{"$f":"SUM($AF$94,$AK$94)","v":4},null,{"$f":"SUM($AI$94,$AN$94)","v":4},null,{"$f":"($AU$90*3)+($AW$90*2)+($AY$90*1)","v":3},null,{"$f":"RANK($BG$90,$BG$78:$BH$95)","v":2},null,{"$f":"$BC$90-$BE$90","v":0},null,{"$f":"RANK($BK$90,$BK$78:$BL$95)","v":2}]
[]
[null,null,null,null,null,null,null,null,null,null,null,null,null,null,null,null,null,null,null,null,null,null,null,null,null,null,null,null,null,null,null,{"$f":"AS80","v":""},null,"―",{"$f":"AP80","v":""},null,{"$f":"AS86","v":""},null,"―",{"$f":"AP86","v":""}]
[null,null,null,null,null,null,null,null,null,null,null,null,null,null,null,null,null,null,null,null,null,null,null,null,null,null,null,null,null,"得失点"]
[null,null,null,null,null,null,null,null,null,null,null,null,null,null,null,null,null,null,null,null,null,null,null,null,null,null,null,null,null,null,null,{"$f":"AS82","v":4},null,"―",{"$f":"AP82","v":0},null,{"$f":"AS88","v":0},null,"―",{"$f":"AP88","v":4}]
[]
[]
[null,null,null,null,null,null,null,null,null,null,null,null,null,null,null,null,null,null,null,null,null,null,null,null,"Ⅰ勝点（勝３点　ＰＫ勝２点　ＰＫ負１点　負０点）　Ⅱ当該チームの戦績　Ⅲ得失点差　Ⅳ多得点　Ⅴ抽選の順で順位を決定する。"]
[]
[null,null,null,null,null,null,null,null,null,null,null,null,null,null,null,null,null,null,null,null,null,null,null,null,"勝点表",null,"勝","○",null,"PK\n勝","△",null,"PK\n負","▲",null,"負","●"]
[null,null,null,null,null,null,null,null,null,null,null,null,null,null,null,null,null,null,null,null,null,null,null,null,null,null,null,3,null,null,2,null,null,1,null,null,0]

{"sheet":"１次リーグ（津久見・臼杵）","index":14,"n_rows":100,"n_cols":67,"rows_kept":100,"cut":false,"hidden":false,"merged":[[89,24,94,28],[89,29,91,30],[89,41,94,45],[89,46,94,47],[89,62,94,63],[92,29,94,30],[83,48,88,49],[96,24,97,57],[98,24,99,25],[98,26,99,26],[98,29,99,29],[98,32,99,32],[83,60,88,61],[83,50,88,51],[83,52,88,53],[83,54,88,55],[83,56,88,57],[89,60,94,61],[89,50,94,51],[89,52,94,53],[89,54,94,55],[89,56,94,57],[89,48,94,49],[89,31,90,35],[77,24,82,28],[77,29,79,30],[77,31,82,35],[77,46,82,47],[77,48,82,49],[77,58,82,59],[77,60,82,61],[77,62,82,63],[83,58,88,59],[80,29,82,30],[83,24,88,28],[83,29,85,30],[83,36,88,40],[83,31,84,35],[83,41,84,45],[87,34,88,35],[81,36,82,37],[81,38,82,38],[83,62,88,63],[86,29,88,30],[81,44,82,45],[79,38,80,38],[79,39,80,40],[79,41,80,42],[56,4,56,5],[56,6,56,8],[56,9,56,10],[56,16,56,17],[56,18,56,20],[56,21,56,22],[5,27,5,32],[53,24,54,26],[53,27,54,32],[39,24,40,57],[41,24,42,25],[41,26,42,26],[54,4,54,5],[54,6,54,8],[54,9,54,10],[54,16,54,17],[54,18,54,20],[54,21,54,22],[55,4,55,5],[55,6,55,8],[55,9,55,10],[55,16,55,17],[55,18,55,20],[55,21,55,22],[47,0,49,0],[47,1,49,1],[47,2,49,2],[47,3,49,3],[47,7,49,7],[47,8,49,8],[47,21,49,21],[47,12,49,12],[47,13,49,13],[47,14,49,14],[47,15,49,15],[47,19,49,19],[47,20,49,20],[37,6,37,8],[37,9,37,10],[37,16,37,17],[37,18,37,20],[37,21,37,22],[36,4,36,5],[36,6,36,8],[71,58,76,59],[59,25,60,27],[59,28,60,40],[38,4,38,5],[38,6,38,8],[38,9,38,10],[38,16,38,17],[38,18,38,20],[38,21,38,22],[59,41,60,44],[47,9,49,9],[71,24,76,27],[71,28,76,30],[71,31,76,35],[71,36,76,40],[53,4,53,5],[53,6,53,8],[41,29,42,29],[47,24,48,58],[41,35,42,35],[49,24,50,58],[77,56,82,57],[71,56,76,57],[29,0,31,0],[29,1,31,1],[29,2,31,2],[29,3,31,3],[29,7,31,7],[29,8,31,8],[35,21,35,22],[41,32,42,32],[36,9,36,10],[36,16,36,17],[35,4,35,5],[35,6,35,8],[35,9,35,10],[35,16,35,17],[36,18,36,20],[36,21,36,22],[37,4,37,5],[29,9,31,9],[29,12,31,12],[29,14,31,14],[29,19,31,19],[29,20,31,20],[35,18,35,20],[81,39,82,40],[81,41,82,42],[81,43,82,43],[53,9,53,10],[53,16,53,17],[53,18,53,20],[53,21,53,22],[53,33,54,33],[53,34,54,48],[57,24,58,26],[57,27,58,32],[61,25,62,27],[61,28,62,40],[61,41,62,44],[63,25,64,27],[63,28,64,40],[63,41,64,44],[71,41,76,45],[29,21,31,21],[29,13,31,13],[29,15,31,15],[32,58,37,59],[32,24,37,28],[32,29,34,30],[32,41,37,45],[32,46,37,47],[32,50,37,51],[32,52,37,53],[35,29,37,30],[32,48,37,49],[29,29,31,30],[28,31,29,32],[28,33,29,33],[28,34,29,35],[28,41,29,42],[28,43,29,43],[30,33,31,33],[30,43,31,43],[30,44,31,45],[32,31,33,35],[32,36,33,40],[36,36,37,37],[36,38,37,38],[77,64,82,65],[77,66,82,66],[79,36,80,37],[26,24,31,28],[26,29,28,30],[26,36,31,40],[26,46,31,47],[26,31,27,35],[26,41,27,45],[30,34,31,35],[30,41,31,42],[28,44,29,45],[30,31,31,32],[26,50,31,51],[26,52,31,53],[26,54,31,55],[26,56,31,57],[26,58,31,59],[26,60,31,61],[26,62,31,63],[26,64,31,65],[26,66,31,66],[79,43,80,43],[79,44,80,45],[20,9,20,10],[20,16,20,17],[20,18,20,20],[20,24,25,28],[20,29,22,30],[20,31,25,35],[20,46,25,47],[22,39,23,40],[22,41,23,42],[22,43,23,43],[22,44,23,45],[24,38,25,38],[24,39,25,40],[23,29,25,30],[14,24,19,27],[14,28,19,30],[14,31,19,35],[14,1,14,5],[14,6,14,8],[14,9,14,10],[15,1,15,5],[15,6,15,8],[15,9,15,10],[16,1,16,5],[16,6,16,8],[16,9,16,10],[14,13,14,17],[14,18,14,20],[14,21,14,22],[15,13,15,17],[15,18,15,20],[15,21,15,22],[18,4,18,5],[18,6,18,8],[18,9,18,10],[18,16,18,17],[18,18,18,20],[18,21,18,22],[8,2,8,8],[8,9,8,10],[8,14,8,20],[8,21,8,22],[8,25,8,27],[8,28,8,40],[8,41,8,44],[11,0,13,0],[11,1,13,1],[11,2,13,2],[11,3,13,3],[11,7,13,7],[11,8,13,8],[11,9,13,9],[11,12,13,12],[11,13,13,13],[11,14,13,14],[11,15,13,15],[11,19,13,19],[11,20,13,20],[11,21,13,21],[7,2,7,8],[7,9,7,10],[7,14,7,20],[7,21,7,22],[7,25,7,27],[7,28,7,40],[7,41,7,44],[6,2,6,8],[6,9,6,10],[6,14,6,20],[6,21,6,22],[6,25,6,27],[6,28,6,40],[3,3,3,10],[3,15,3,22],[3,24,3,26],[3,27,3,32],[3,34,3,48],[5,24,5,26],[6,41,6,44],[0,0,0,8],[0,12,0,20],[0,24,0,58],[0,60,0,66],[1,0,1,10],[1,12,1,22],[1,24,1,58],[0,9,0,10],[0,21,0,22],[98,35,99,35],[14,64,19,65],[14,66,19,66],[20,36,21,40],[20,41,21,45],[20,64,25,65],[20,66,25,66],[22,36,23,37],[22,38,23,38],[24,36,25,37],[14,36,19,40],[14,41,19,45],[14,46,19,47],[14,48,19,49],[14,50,19,51],[14,52,19,53],[14,54,19,55],[14,56,19,57],[14,58,19,59],[14,60,19,61],[14,62,19,63],[20,48,25,49],[20,50,25,51],[20,52,25,53],[24,41,25,42],[24,43,25,43],[24,44,25,45],[20,54,25,55],[20,56,25,57],[20,58,25,59],[20,60,25,61],[20,62,25,63],[32,66,37,66],[34,31,35,32],[34,33,35,33],[34,34,35,35],[34,36,35,37],[34,38,35,38],[34,39,35,40],[36,31,37,32],[36,33,37,33],[36,34,37,35],[32,54,37,55],[32,56,37,57],[32,60,37,61],[32,64,37,65],[87,31,88,32],[87,33,88,33],[83,46,88,47],[87,41,88,42],[87,43,88,43],[87,44,88,45],[36,39,37,40],[26,48,31,49],[32,62,37,63],[77,36,78,40],[77,41,78,45],[47,60,48,66],[77,50,82,51],[77,52,82,53],[77,54,82,55],[71,46,76,47],[71,48,76,49],[71,50,76,51],[71,52,76,53],[71,54,76,55],[71,60,76,61],[71,62,76,63],[71,64,76,65],[71,66,76,66],[89,36,90,40],[89,64,94,65],[93,36,94,37],[93,38,94,38],[93,39,94,40],[83,64,88,65],[89,58,94,59],[89,66,94,66],[91,31,92,32],[91,33,92,33],[91,34,92,35],[91,36,92,37],[91,38,92,38],[91,39,92,40],[93,31,94,32],[93,33,94,33],[93,34,94,35],[83,66,88,66],[85,31,86,32],[85,33,86,33],[85,34,86,35],[85,41,86,42],[85,43,86,43],[85,44,86,45],[50,1,50,5],[50,6,50,8],[50,9,50,10],[51,1,51,5],[51,6,51,8],[51,9,51,10],[52,1,52,5],[52,6,52,8],[52,9,52,10],[50,13,50,17],[50,18,50,20],[50,21,50,22],[51,13,51,17],[51,18,51,20],[51,21,51,22],[52,13,52,17],[52,18,52,20],[52,21,52,22],[34,1,34,5],[34,6,34,8],[34,9,34,10],[32,13,32,17],[32,18,32,20],[32,21,32,22],[33,13,33,17],[33,18,33,20],[33,21,33,22],[34,13,34,17],[34,18,34,20],[34,21,34,22],[16,13,16,17],[16,18,16,20],[16,21,16,22],[32,1,32,5],[32,6,32,8],[32,9,32,10],[33,1,33,5],[33,6,33,8],[33,9,33,10],[17,4,17,5],[17,6,17,8],[17,9,17,10],[17,16,17,17],[17,18,17,20],[17,21,17,22],[20,21,20,22],[19,4,19,5],[19,6,19,8],[19,9,19,10],[19,16,19,17],[19,18,19,20],[19,21,19,22],[20,4,20,5],[20,6,20,8]]}
[{"$f":"出場チーム!B1","v":"OFA 第 51 回大分県少年サッカー大会　兼　KYFA 九州U-12サッカー大会大分県大会"},null,null,null,null,null,null,null,null,"１次リーグ結果　報告用紙",null,null,{"$f":"出場チーム!B1","v":"OFA 第 51 回大分県少年サッカー大会　兼　KYFA 九州U-12サッカー大会大分県大会"},null,null,null,null,null,null,null,null,"１次リーグ結果　報告用紙",null,null,{"$f":"$A$1","v":"OFA 第 51 回大分県少年サッカー大会　兼　KYFA 九州U-12サッカー大会大分県大会"},null,null,null,null,null,null,null,null,null,null,null,null,null,null,null,null,null,null,null,null,null,null,null,null,null,null,null,null,null,null,null,null,null,null,null,{"$f":"$J$1","v":"１次リーグ結果　報告用紙"}]
["＜時間割＞　①10:00～　②11:00～　③12:00～　④13:00～　⑤14:00～　⑥15:00～",null,null,null,null,null,null,null,null,null,null,null,"＜時間割＞　①10:00～　②11:00～　③12:00～　④13:00～　⑤14:00～　⑥15:00～",null,null,null,null,null,null,null,null,null,null,null,"＜時間割＞　①10:00～　②11:00～　③12:00～　④13:00～　⑤14:00～　⑥15:00～"]
[]
["会場",{"$f":"組み合わせ!D8","v":"津久見・臼杵"},"⇒",{"$f":"VLOOKUP(B4,出場チーム!$B$51:$F$59,2,FALSE)","v":"吉四六ﾗﾝﾄﾞ陸上競技場"},null,null,null,null,null,null,null,null,"会場",{"$f":"組み合わせ!D8","v":"津久見・臼杵"},"⇒",{"$f":"VLOOKUP(N4,出場チーム!$B$51:$F$59,2,FALSE)","v":"吉四六ﾗﾝﾄﾞ陸上競技場"},null,null,null,null,null,null,null,null,"会場",null,null,{"$f":"$B$4","v":"津久見・臼杵"},null,null,null,null,null,"⇒",{"$f":"$D$4","v":"吉四六ﾗﾝﾄﾞ陸上競技場"}]
[]
["パート",{"$f":"VLOOKUP(B4,組み合わせ!$AL$95:$BU$112,13,FALSE)","v":"C"},null,null,null,null,null,null,null,null,null,null,"パート",{"$f":"VLOOKUP(N4,組み合わせ!$AL$95:$BU$112,25,FALSE)","v":"K"},null,null,null,null,null,null,null,null,null,null,"パート",null,null,{"$f":"$B$6","v":"C"}]
[null,{"$f":"CONCATENATE($B$6,1)","v":"C1"},{"$f":"HLOOKUP(B7,組み合わせ!$B$48:$EO$86,2,FALSE)","v":"臼杵ＳＳＳ"},null,null,null,null,null,null,{"$f":"HLOOKUP(B7,組み合わせ!$B$48:$EO$86,32,FALSE)","v":"臼杵"},null,null,null,{"$f":"CONCATENATE($N$6,1)","v":"K1"},{"$f":"HLOOKUP(N7,組み合わせ!$B$48:$EO$86,2,FALSE)","v":"千怒サッカースポーツ少年団"},null,null,null,null,null,null,{"$f":"HLOOKUP(N7,組み合わせ!$B$48:$EO$86,32,FALSE)","v":"津久見"},null,null,null,{"$f":"+B7","v":"C1"},null,null,{"$f":"$C$7","v":"臼杵ＳＳＳ"},null,null,null,null,null,null,null,null,null,null,null,null,{"$f":"$J$7","v":"臼杵"}]
[null,{"$f":"CONCATENATE($B$6,2)","v":"C2"},{"$f":"HLOOKUP(B8,組み合わせ!$B$48:$EO$86,2,FALSE)","v":"碩田サッカースポーツ少年団"},null,null,null,null,null,null,{"$f":"HLOOKUP(B8,組み合わせ!$B$48:$EO$86,32,FALSE)","v":"大分"},null,null,null,{"$f":"CONCATENATE($N$6,2)","v":"K2"},{"$f":"HLOOKUP(N8,組み合わせ!$B$48:$EO$86,2,FALSE)","v":"カティオーラフットボールクラブＵ－１２"},null,null,null,null,null,null,{"$f":"HLOOKUP(N8,組み合わせ!$B$48:$EO$86,32,FALSE)","v":"大分"},null,null,null,{"$f":"+B8","v":"C2"},null,null,{"$f":"$C$8","v":"碩田サッカースポーツ少年団"},null,null,null,null,null,null,null,null,null,null,null,null,{"$f":"$J$8","v":"大分"}]
[null,{"$f":"CONCATENATE($B$6,3)","v":"C3"},{"$f":"HLOOKUP(B9,組み合わせ!$B$48:$EO$86,2,FALSE)","v":"弥生少年サッカークラブ"},null,null,null,null,null,null,{"$f":"HLOOKUP(B9,組み合わせ!$B$48:$EO$86,32,FALSE)","v":"佐伯"},null,null,null,{"$f":"CONCATENATE($N$6,3)","v":"K3"},{"$f":"HLOOKUP(N9,組み合わせ!$B$48:$EO$86,2,FALSE)","v":"ＭＳＳ"},null,null,null,null,null,null,{"$f":"HLOOKUP(N9,組み合わせ!$B$48:$EO$86,32,FALSE)","v":"大分"},null,null,null,{"$f":"+B9","v":"C3"},null,null,{"$f":"$C$9","v":"弥生少年サッカークラブ"},null,null,null,null,null,null,null,null,null,null,null,null,{"$f":"$J$9","v":"佐伯"}]
["8：50～ＭＣＭ",null,null,null,null,null,null,null,null,null,null,null,"9：50～ＭＣＭ"]
[]
["①\n10:00～",{"$f":"C7","v":"臼杵ＳＳＳ"},{"$f":"IF(E12=\"\",\"\",SUM(E12:E13))","v":3},"（",2,"前半",2,"）",{"$f":"IF(G12=\"\",\"\",SUM(G12:G13))","v":4},{"$f":"C8","v":"碩田サッカースポーツ少年団"},null,null,"②\n11:00～",{"$f":"O7","v":"千怒サッカースポーツ少年団"},{"$f":"IF(Q12=\"\",\"\",SUM(Q12:Q13))","v":0},"（",0,"前半",10,"）",{"$f":"IF(S12=\"\",\"\",SUM(S12:S13))","v":15},{"$f":"O8","v":"カティオーラフットボールクラブＵ－１２"}]
[null,null,null,null,1,"後半",2,null,null,null,null,null,null,null,null,null,0,"後半",5]
[null,null,null,null,null,"PK",null,null,null,null,null,null,null,null,null,null,null,"PK"]
["MC","松下　省吾",null,null,null,null,"所属協会",null,null,"津久見市サッカー協会",null,null,"MC","吉良　和明",null,null,null,null,"所属協会",null,null,"臼杵市サッカー協会",null,null,{"$f":"$Y$6","v":"パート"},null,null,null,{"$f":"$AB$6","v":"C"},null,null,{"$f":"$Y$21","v":"臼杵ＳＳＳ"},null,null,null,null,{"$f":"$Y$27","v":"碩田サッカースポーツ少年団"},null,null,null,null,{"$f":"$Y$33","v":"弥生少年サッカークラブ"},null,null,null,null,"勝",null,"PK\n勝",null,"PK\n負",null,"負",null,"得点",null,"失点",null,"勝点",null,"勝点\n順位",null,"得失\n点差",null,"得失\n順位",null,"総\n順位"]
["WelfareOfficer","山野内　哲郎",null,null,null,null,"所属協会",null,null,"(一社)大分県サッカー協会　ジュニア委員会",null,null,"WelfareOfficer","松下　省吾",null,null,null,null,"所属協会",null,null,"津久見市サッカー協会"]
["記録","赤嶺　隆志",null,null,null,null,"所属協会",null,null,"臼杵市サッカー協会",null,null,"記録","赤嶺　隆志",null,null,null,null,"所属協会",null,null,"臼杵市サッカー協会"]
["R:",{"$f":"IF(ISERROR(VLOOKUP(G18,審判員!$A:$C,2,FALSE))=TRUE,\"\",VLOOKUP(G18,審判員!$A:$C,2,FALSE))","v":"安藤　博幸"},{"$f":"IF(ISERROR(VLOOKUP(G18,審判員!$A:$C,3,FALSE))=TRUE,\"\",VLOOKUP(G18,審判員!$A:$C,3,FALSE))","v":2},"級","資格番号",null,"R001253502",null,null,"本部",null,null,"R:",{"$f":"IF(ISERROR(VLOOKUP(S18,審判員!$A:$C,2,FALSE))=TRUE,\"\",VLOOKUP(S18,審判員!$A:$C,2,FALSE))","v":"小石川　悟"},{"$f":"IF(ISERROR(VLOOKUP(S18,審判員!$A:$C,3,FALSE))=TRUE,\"\",VLOOKUP(S18,審判員!$A:$C,3,FALSE))","v":3},"級","資格番号",null,"R001256402",null,null,"本部"]
["AR1:",{"$f":"IF(ISERROR(VLOOKUP(G19,審判員!$A:$C,2,FALSE))=TRUE,\"\",VLOOKUP(G19,審判員!$A:$C,2,FALSE))","v":"深津　弘毅"},{"$f":"IF(ISERROR(VLOOKUP(G19,審判員!$A:$C,3,FALSE))=TRUE,\"\",VLOOKUP(G19,審判員!$A:$C,3,FALSE))","v":3},"級","資格番号",null,"R010376332",null,null,{"$f":"N12","v":"千怒サッカースポーツ少年団"},null,null,"AR1:",{"$f":"IF(ISERROR(VLOOKUP(S19,審判員!$A:$C,2,FALSE))=TRUE,\"\",VLOOKUP(S19,審判員!$A:$C,2,FALSE))","v":"足立　卓也"},{"$f":"IF(ISERROR(VLOOKUP(S19,審判員!$A:$C,3,FALSE))=TRUE,\"\",VLOOKUP(S19,審判員!$A:$C,3,FALSE))","v":3},"級","資格番号",null,"R010069871",null,null,{"$f":"B12","v":"臼杵ＳＳＳ"}]
["AR2:",{"$f":"IF(ISERROR(VLOOKUP(G20,審判員!$A:$C,2,FALSE))=TRUE,\"\",VLOOKUP(G20,審判員!$A:$C,2,FALSE))","v":"工藤　拓海"},{"$f":"IF(ISERROR(VLOOKUP(G20,審判員!$A:$C,3,FALSE))=TRUE,\"\",VLOOKUP(G20,審判員!$A:$C,3,FALSE))","v":3},"級","資格番号",null,"R010189301",null,null,{"$f":"V12","v":"カティオーラフットボールクラブＵ－１２"},null,null,"AR2:",{"$f":"IF(ISERROR(VLOOKUP(S20,審判員!$A:$C,2,FALSE))=TRUE,\"\",VLOOKUP(S20,審判員!$A:$C,2,FALSE))","v":"佐藤　慎二"},{"$f":"IF(ISERROR(VLOOKUP(S20,審判員!$A:$C,3,FALSE))=TRUE,\"\",VLOOKUP(S20,審判員!$A:$C,3,FALSE))","v":3},"級","資格番号",null,"R009460551",null,null,{"$f":"J12","v":"碩田サッカースポーツ少年団"}]
["4th:",{"$f":"IF(ISERROR(VLOOKUP(G21,審判員!$A:$C,2,FALSE))=TRUE,\"\",VLOOKUP(G21,審判員!$A:$C,2,FALSE))","v":"板井　龍法"},{"$f":"IF(ISERROR(VLOOKUP(G21,審判員!$A:$C,3,FALSE))=TRUE,\"\",VLOOKUP(G21,審判員!$A:$C,3,FALSE))","v":3},"級","資格番号",null,"R006093835",null,null,"本部",null,null,"4th:",{"$f":"IF(ISERROR(VLOOKUP(S21,審判員!$A:$C,2,FALSE))=TRUE,\"\",VLOOKUP(S21,審判員!$A:$C,2,FALSE))","v":"塩月　勇輝"},{"$f":"IF(ISERROR(VLOOKUP(S21,審判員!$A:$C,3,FALSE))=TRUE,\"\",VLOOKUP(S21,審判員!$A:$C,3,FALSE))","v":2},"級","資格番号",null,"R003255841",null,null,"本部",null,null,{"$f":"$AC$7","v":"臼杵ＳＳＳ"},null,null,null,null,"星取表",null,null,null,null,null,null,{"$f":"IF(AK25=\"\",\"\",IF(AK25>AN25,\"○\",IF(AK25<AN25,\"●\",IF(AK23>AN23,\"△\",IF(AK23<AN23,\"▲\")))))","v":"●"},null,null,null,null,{"$f":"IF(AP25=\"\",\"\",IF(AP25>AS25,\"○\",IF(AP25<AS25,\"●\",IF(AP23>AS23,\"△\",IF(AP23<AS23,\"▲\")))))","v":"●"},null,null,null,null,{"$f":"COUNTIF($AF$21:$AT$22,\"○\")","v":0},null,{"$f":"COUNTIF($AF$21:$AT$22,\"△\")","v":0},null,{"$f":"COUNTIF($AF$21:$AT$22,\"▲\")","v":0},null,{"$f":"COUNTIF($AF$21:$AT$22,\"●\")","v":2},null,{"$f":"SUM($AK$25,$AP$25)","v":3},null,{"$f":"SUM($AN$25,$AS$25)","v":9},null,{"$f":"($AU$21*3)+($AW$21*2)+($AY$21*1)","v":0},null,{"$f":"RANK($BG$21,$BG$21:$BH$38)","v":3},null,{"$f":"$BC$21-$BE$21","v":-6},null,{"$f":"RANK($BK$21,$BK$21:$BL$38)","v":3}]
["警告/退場","氏名","背番号","分","内容",null,"内容","分","背番号","氏名","警告/退場",null,"警告/退場","氏名","背番号","分","内容",null,"内容","分","背番号","氏名","警告/退場"]
[null,{"$f":"IF(ISERROR(VLOOKUP(CONCATENATE($B$12,\"_\",C23),選手名簿!$A:$E,5,FALSE))=TRUE,\"\",VLOOKUP(CONCATENATE($B$12,\"_\",C23),選手名簿!$A:$E,5,FALSE))","v":""},null,null,null,null,null,null,null,{"$f":"IF(ISERROR(VLOOKUP(CONCATENATE($J$12,\"_\",I23),選手名簿!$A:$E,5,FALSE))=TRUE,\"\",VLOOKUP(CONCATENATE($J$12,\"_\",I23),選手名簿!$A:$E,5,FALSE))","v":""},null,null,null,{"$f":"IF(ISERROR(VLOOKUP(CONCATENATE($N$12,\"_\",O23),選手名簿!$A:$E,5,FALSE))=TRUE,\"\",VLOOKUP(CONCATENATE($N$12,\"_\",O23),選手名簿!$A:$E,5,FALSE))","v":""},null,null,null,null,null,null,null,{"$f":"IF(ISERROR(VLOOKUP(CONCATENATE($V$12,\"_\",U23),選手名簿!$A:$E,5,FALSE))=TRUE,\"\",VLOOKUP(CONCATENATE($V$12,\"_\",U23),選手名簿!$A:$E,5,FALSE))","v":""},null,null,null,null,null,null,null,null,null,null,null,null,null,null,{"$f":"IF($E$14=\"\",\"\",$E$14)","v":""},null,"―",{"$f":"IF($G$14=\"\",\"\",$G$14)","v":""},null,{"$f":"IF($G$50=\"\",\"\",$G$50)","v":""},null,"―",{"$f":"IF($E$50=\"\",\"\",$E$50)","v":""}]
[null,{"$f":"IF(ISERROR(VLOOKUP(CONCATENATE($B$12,\"_\",C24),選手名簿!$A:$E,5,FALSE))=TRUE,\"\",VLOOKUP(CONCATENATE($B$12,\"_\",C24),選手名簿!$A:$E,5,FALSE))","v":""},null,null,null,null,null,null,null,{"$f":"IF(ISERROR(VLOOKUP(CONCATENATE($J$12,\"_\",I24),選手名簿!$A:$E,5,FALSE))=TRUE,\"\",VLOOKUP(CONCATENATE($J$12,\"_\",I24),選手名簿!$A:$E,5,FALSE))","v":""},null,null,null,{"$f":"IF(ISERROR(VLOOKUP(CONCATENATE($N$12,\"_\",O24),選手名簿!$A:$E,5,FALSE))=TRUE,\"\",VLOOKUP(CONCATENATE($N$12,\"_\",O24),選手名簿!$A:$E,5,FALSE))","v":""},null,null,null,null,null,null,null,{"$f":"IF(ISERROR(VLOOKUP(CONCATENATE($V$12,\"_\",U24),選手名簿!$A:$E,5,FALSE))=TRUE,\"\",VLOOKUP(CONCATENATE($V$12,\"_\",U24),選手名簿!$A:$E,5,FALSE))","v":""},null,null,null,null,null,null,null,"得失点"]
[null,{"$f":"IF(ISERROR(VLOOKUP(CONCATENATE($B$12,\"_\",C25),選手名簿!$A:$E,5,FALSE))=TRUE,\"\",VLOOKUP(CONCATENATE($B$12,\"_\",C25),選手名簿!$A:$E,5,FALSE))","v":""},null,null,null,null,null,null,null,{"$f":"IF(ISERROR(VLOOKUP(CONCATENATE($J$12,\"_\",I25),選手名簿!$A:$E,5,FALSE))=TRUE,\"\",VLOOKUP(CONCATENATE($J$12,\"_\",I25),選手名簿!$A:$E,5,FALSE))","v":""},null,null,null,{"$f":"IF(ISERROR(VLOOKUP(CONCATENATE($N$12,\"_\",O25),選手名簿!$A:$E,5,FALSE))=TRUE,\"\",VLOOKUP(CONCATENATE($N$12,\"_\",O25),選手名簿!$A:$E,5,FALSE))","v":""},null,null,null,null,null,null,null,{"$f":"IF(ISERROR(VLOOKUP(CONCATENATE($V$12,\"_\",U25),選手名簿!$A:$E,5,FALSE))=TRUE,\"\",VLOOKUP(CONCATENATE($V$12,\"_\",U25),選手名簿!$A:$E,5,FALSE))","v":""},null,null,null,null,null,null,null,null,null,null,null,null,null,null,{"$f":"$C$12","v":3},null,"―",{"$f":"$I$12","v":4},null,{"$f":"$I$48","v":0},null,"―",{"$f":"$C$48","v":5}]
[null,{"$f":"IF(ISERROR(VLOOKUP(CONCATENATE($B$12,\"_\",C26),選手名簿!$A:$E,5,FALSE))=TRUE,\"\",VLOOKUP(CONCATENATE($B$12,\"_\",C26),選手名簿!$A:$E,5,FALSE))","v":""},null,null,null,null,null,null,null,{"$f":"IF(ISERROR(VLOOKUP(CONCATENATE($J$12,\"_\",I26),選手名簿!$A:$E,5,FALSE))=TRUE,\"\",VLOOKUP(CONCATENATE($J$12,\"_\",I26),選手名簿!$A:$E,5,FALSE))","v":""},null,null,null,{"$f":"IF(ISERROR(VLOOKUP(CONCATENATE($N$12,\"_\",O26),選手名簿!$A:$E,5,FALSE))=TRUE,\"\",VLOOKUP(CONCATENATE($N$12,\"_\",O26),選手名簿!$A:$E,5,FALSE))","v":""},null,null,null,null,null,null,null,{"$f":"IF(ISERROR(VLOOKUP(CONCATENATE($V$12,\"_\",U26),選手名簿!$A:$E,5,FALSE))=TRUE,\"\",VLOOKUP(CONCATENATE($V$12,\"_\",U26),選手名簿!$A:$E,5,FALSE))","v":""}]
[null,{"$f":"IF(ISERROR(VLOOKUP(CONCATENATE($B$12,\"_\",C27),選手名簿!$A:$E,5,FALSE))=TRUE,\"\",VLOOKUP(CONCATENATE($B$12,\"_\",C27),選手名簿!$A:$E,5,FALSE))","v":""},null,null,null,null,null,null,null,{"$f":"IF(ISERROR(VLOOKUP(CONCATENATE($J$12,\"_\",I27),選手名簿!$A:$E,5,FALSE))=TRUE,\"\",VLOOKUP(CONCATENATE($J$12,\"_\",I27),選手名簿!$A:$E,5,FALSE))","v":""},null,null,null,{"$f":"IF(ISERROR(VLOOKUP(CONCATENATE($N$12,\"_\",O27),選手名簿!$A:$E,5,FALSE))=TRUE,\"\",VLOOKUP(CONCATENATE($N$12,\"_\",O27),選手名簿!$A:$E,5,FALSE))","v":""},null,null,null,null,null,null,null,{"$f":"IF(ISERROR(VLOOKUP(CONCATENATE($V$12,\"_\",U27),選手名簿!$A:$E,5,FALSE))=TRUE,\"\",VLOOKUP(CONCATENATE($V$12,\"_\",U27),選手名簿!$A:$E,5,FALSE))","v":""},null,null,{"$f":"$AC$8","v":"碩田サッカースポーツ少年団"},null,null,null,null,"星取表",null,{"$f":"IF(AF31=\"\",\"\",IF(AF31>AI31,\"○\",IF(AF31<AI31,\"●\",IF(AF29>AI29,\"△\",IF(AF29<AI29,\"▲\")))))","v":"○"},null,null,null,null,null,null,null,null,null,{"$f":"IF(AP31=\"\",\"\",IF(AP31>AS31,\"○\",IF(AP31<AS31,\"●\",IF(AP29>AS29,\"△\",IF(AP29<AS29,\"▲\")))))","v":"●"},null,null,null,null,{"$f":"COUNTIF($AF$27:$AT$28,\"○\")","v":1},null,{"$f":"COUNTIF($AF$27:$AT$28,\"△\")","v":0},null,{"$f":"COUNTIF($AF$27:$AT$28,\"▲\")","v":0},null,{"$f":"COUNTIF($AF$27:$AT$28,\"●\")","v":1},null,{"$f":"SUM($AF$31,$AP$31)","v":4},null,{"$f":"SUM($AI$31,$AS$31)","v":7},null,{"$f":"($AU$27*3)+($AW$27*2)+($AY$27*1)","v":3},null,{"$f":"RANK($BG$27,$BG$21:$BH$38)","v":2},null,{"$f":"$BC$27-$BE$27","v":-3},null,{"$f":"RANK($BK$27,$BK$21:$BL$38)","v":2}]
[]
[null,null,null,null,null,null,null,null,null,null,null,null,null,null,null,null,null,null,null,null,null,null,null,null,null,null,null,null,null,null,null,{"$f":"AN23","v":""},null,"―",{"$f":"AK23","v":""},null,null,null,null,null,null,{"$f":"IF($E$32=\"\",\"\",$E$32)","v":""},null,"―",{"$f":"IF($G$32=\"\",\"\",$G$32)","v":""}]
["③\n12:00～",{"$f":"C8","v":"碩田サッカースポーツ少年団"},{"$f":"IF(E30=\"\",\"\",SUM(E30:E31))","v":0},"（",0,"前半",2,"）",{"$f":"IF(G30=\"\",\"\",SUM(G30:G31))","v":4},{"$f":"C9","v":"弥生少年サッカークラブ"},null,null,"④\n13:00～",{"$f":"O8","v":"カティオーラフットボールクラブＵ－１２"},{"$f":"IF(Q30=\"\",\"\",SUM(Q30:Q31))","v":2},"（",1,"前半",0,"）",{"$f":"IF(S30=\"\",\"\",SUM(S30:S31))","v":1},{"$f":"O9","v":"ＭＳＳ"},null,null,null,null,null,null,null,"得失点"]
[null,null,null,null,0,"後半",2,null,null,null,null,null,null,null,null,null,1,"後半",1,null,null,null,null,null,null,null,null,null,null,null,null,{"$f":"AN25","v":4},null,"―",{"$f":"AK25","v":3},null,null,null,null,null,null,{"$f":"$C$30","v":0},null,"―",{"$f":"$I$30","v":4}]
[null,null,null,null,null,"PK",null,null,null,null,null,null,null,null,null,null,null,"PK"]
["MC","山野内　哲郎",null,null,null,null,"所属協会",null,null,"(一社)大分県サッカー協会　ジュニア委員会",null,null,"MC","松下　省吾",null,null,null,null,"所属協会",null,null,"津久見市サッカー協会",null,null,{"$f":"$AC$9","v":"弥生少年サッカークラブ"},null,null,null,null,"星取表",null,{"$f":"IF(AF37=\"\",\"\",IF(AF37>AI37,\"○\",IF(AF37<AI37,\"●\",IF(AF35>AI35,\"△\",IF(AF35<AI35,\"▲\")))))","v":"○"},null,null,null,null,{"$f":"IF(AK37=\"\",\"\",IF(AK37>AN37,\"○\",IF(AK37<AN37,\"●\",IF(AK35>AN35,\"△\",IF(AK35<AN35,\"▲\")))))","v":"○"},null,null,null,null,null,null,null,null,null,{"$f":"COUNTIF($AF$33:$AT$34,\"○\")","v":2},null,{"$f":"COUNTIF($AF$33:$AT$34,\"△\")","v":0},null,{"$f":"COUNTIF($AF$33:$AT$34,\"▲\")","v":0},null,{"$f":"COUNTIF($AF$33:$AT$34,\"●\")","v":0},null,{"$f":"SUM($AF$37,$AK$37)","v":9},null,{"$f":"SUM($AI$37,$AN$37)","v":0},null,{"$f":"($AU$33*3)+($AW$33*2)+($AY$33*1)","v":6},null,{"$f":"RANK($BG$33,$BG$21:$BH$38)","v":1},null,{"$f":"$BC$33-$BE$33","v":9},null,{"$f":"RANK($BK$33,$BK$21:$BL$38)","v":1}]
["WelfareOfficer","吉良　和明",null,null,null,null,"所属協会",null,null,"臼杵市サッカー協会",null,null,"WelfareOfficer","山野内　哲郎",null,null,null,null,"所属協会",null,null,"(一社)大分県サッカー協会　ジュニア委員会"]
["記録","板井　龍法",null,null,null,null,"所属協会",null,null,"臼杵市サッカー協会",null,null,"記録","赤嶺　隆志",null,null,null,null,"所属協会",null,null,"臼杵市サッカー協会",null,null,null,null,null,null,null,null,null,{"$f":"AS23","v":""},null,"―",{"$f":"AP23","v":""},null,{"$f":"AS29","v":""},null,"―",{"$f":"AP29","v":""}]
["R:",{"$f":"IF(ISERROR(VLOOKUP(G36,審判員!$A:$C,2,FALSE))=TRUE,\"\",VLOOKUP(G36,審判員!$A:$C,2,FALSE))","v":"隅田　哲平"},{"$f":"IF(ISERROR(VLOOKUP(G36,審判員!$A:$C,3,FALSE))=TRUE,\"\",VLOOKUP(G36,審判員!$A:$C,3,FALSE))","v":3},"級","資格番号",null,"R008798013",null,null,"本部",null,null,"R:",{"$f":"IF(ISERROR(VLOOKUP(S36,審判員!$A:$C,2,FALSE))=TRUE,\"\",VLOOKUP(S36,審判員!$A:$C,2,FALSE))","v":"塩月　勇輝"},{"$f":"IF(ISERROR(VLOOKUP(S36,審判員!$A:$C,3,FALSE))=TRUE,\"\",VLOOKUP(S36,審判員!$A:$C,3,FALSE))","v":2},"級","資格番号",null,"R003255841",null,null,"本部",null,null,null,null,null,null,null,"得失点"]
["AR1:",{"$f":"IF(ISERROR(VLOOKUP(G37,審判員!$A:$C,2,FALSE))=TRUE,\"\",VLOOKUP(G37,審判員!$A:$C,2,FALSE))","v":"工藤　拓海"},{"$f":"IF(ISERROR(VLOOKUP(G37,審判員!$A:$C,3,FALSE))=TRUE,\"\",VLOOKUP(G37,審判員!$A:$C,3,FALSE))","v":3},"級","資格番号",null,"R010189301",null,null,{"$f":"N30","v":"カティオーラフットボールクラブＵ－１２"},null,null,"AR1:",{"$f":"IF(ISERROR(VLOOKUP(S37,審判員!$A:$C,2,FALSE))=TRUE,\"\",VLOOKUP(S37,審判員!$A:$C,2,FALSE))","v":"佐藤　慎二"},{"$f":"IF(ISERROR(VLOOKUP(S37,審判員!$A:$C,3,FALSE))=TRUE,\"\",VLOOKUP(S37,審判員!$A:$C,3,FALSE))","v":3},"級","資格番号",null,"R009460551",null,null,{"$f":"B30","v":"碩田サッカースポーツ少年団"},null,null,null,null,null,null,null,null,null,{"$f":"AS25","v":5},null,"―",{"$f":"AP25","v":0},null,{"$f":"AS31","v":4},null,"―",{"$f":"AP31","v":0}]
["AR2:",{"$f":"IF(ISERROR(VLOOKUP(G38,審判員!$A:$C,2,FALSE))=TRUE,\"\",VLOOKUP(G38,審判員!$A:$C,2,FALSE))","v":"湯田　浩士"},{"$f":"IF(ISERROR(VLOOKUP(G38,審判員!$A:$C,3,FALSE))=TRUE,\"\",VLOOKUP(G38,審判員!$A:$C,3,FALSE))","v":3},"級","資格番号",null,"R001261778",null,null,{"$f":"V30","v":"ＭＳＳ"},null,null,"AR2:",{"$f":"IF(ISERROR(VLOOKUP(S38,審判員!$A:$C,2,FALSE))=TRUE,\"\",VLOOKUP(S38,審判員!$A:$C,2,FALSE))","v":"安達　信也"},{"$f":"IF(ISERROR(VLOOKUP(S38,審判員!$A:$C,3,FALSE))=TRUE,\"\",VLOOKUP(S38,審判員!$A:$C,3,FALSE))","v":3},"級","資格番号",null,"R001253557",null,null,{"$f":"J30","v":"弥生少年サッカークラブ"}]
["4th:",{"$f":"IF(ISERROR(VLOOKUP(G39,審判員!$A:$C,2,FALSE))=TRUE,\"\",VLOOKUP(G39,審判員!$A:$C,2,FALSE))","v":"小石川　悟"},{"$f":"IF(ISERROR(VLOOKUP(G39,審判員!$A:$C,3,FALSE))=TRUE,\"\",VLOOKUP(G39,審判員!$A:$C,3,FALSE))","v":3},"級","資格番号",null,"R001256402",null,null,"本部",null,null,"4th:",{"$f":"IF(ISERROR(VLOOKUP(S39,審判員!$A:$C,2,FALSE))=TRUE,\"\",VLOOKUP(S39,審判員!$A:$C,2,FALSE))","v":"山本　篤"},{"$f":"IF(ISERROR(VLOOKUP(S39,審判員!$A:$C,3,FALSE))=TRUE,\"\",VLOOKUP(S39,審判員!$A:$C,3,FALSE))","v":3},"級","資格番号",null,"R005603486",null,null,"本部"]
["警告/退場","氏名","背番号","分","内容",null,"内容","分","背番号","氏名","警告/退場",null,"警告/退場","氏名","背番号","分","内容",null,"内容","分","背番号","氏名","警告/退場",null,"Ⅰ勝点（勝３点　ＰＫ勝２点　ＰＫ負１点　負０点）　Ⅱ当該チームの戦績　Ⅲ得失点差　Ⅳ多得点　Ⅴ抽選の順で順位を決定する。"]
[null,{"$f":"IF(ISERROR(VLOOKUP(CONCATENATE($B$30,\"_\",C41),選手名簿!$A:$E,5,FALSE))=TRUE,\"\",VLOOKUP(CONCATENATE($B$30,\"_\",C41),選手名簿!$A:$E,5,FALSE))","v":""},null,null,null,null,null,null,null,{"$f":"IF(ISERROR(VLOOKUP(CONCATENATE($J$30,\"_\",I41),選手名簿!$A:$E,5,FALSE))=TRUE,\"\",VLOOKUP(CONCATENATE($J$30,\"_\",I41),選手名簿!$A:$E,5,FALSE))","v":""},null,null,null,{"$f":"IF(ISERROR(VLOOKUP(CONCATENATE($N$30,\"_\",O41),選手名簿!$A:$E,5,FALSE))=TRUE,\"\",VLOOKUP(CONCATENATE($N$30,\"_\",O41),選手名簿!$A:$E,5,FALSE))","v":""},null,null,null,null,null,null,null,{"$f":"IF(ISERROR(VLOOKUP(CONCATENATE($V$30,\"_\",U41),選手名簿!$A:$E,5,FALSE))=TRUE,\"\",VLOOKUP(CONCATENATE($V$30,\"_\",U41),選手名簿!$A:$E,5,FALSE))","v":""}]
[null,{"$f":"IF(ISERROR(VLOOKUP(CONCATENATE($B$30,\"_\",C42),選手名簿!$A:$E,5,FALSE))=TRUE,\"\",VLOOKUP(CONCATENATE($B$30,\"_\",C42),選手名簿!$A:$E,5,FALSE))","v":""},null,null,null,null,null,null,null,{"$f":"IF(ISERROR(VLOOKUP(CONCATENATE($J$30,\"_\",I42),選手名簿!$A:$E,5,FALSE))=TRUE,\"\",VLOOKUP(CONCATENATE($J$30,\"_\",I42),選手名簿!$A:$E,5,FALSE))","v":""},null,null,null,{"$f":"IF(ISERROR(VLOOKUP(CONCATENATE($N$30,\"_\",O42),選手名簿!$A:$E,5,FALSE))=TRUE,\"\",VLOOKUP(CONCATENATE($N$30,\"_\",O42),選手名簿!$A:$E,5,FALSE))","v":""},null,null,null,null,null,null,null,{"$f":"IF(ISERROR(VLOOKUP(CONCATENATE($V$30,\"_\",U42),選手名簿!$A:$E,5,FALSE))=TRUE,\"\",VLOOKUP(CONCATENATE($V$30,\"_\",U42),選手名簿!$A:$E,5,FALSE))","v":""},null,null,"勝点表",null,"勝","○",null,"PK\n勝","△",null,"PK\n負","▲",null,"負","●"]
[null,{"$f":"IF(ISERROR(VLOOKUP(CONCATENATE($B$30,\"_\",C43),選手名簿!$A:$E,5,FALSE))=TRUE,\"\",VLOOKUP(CONCATENATE($B$30,\"_\",C43),選手名簿!$A:$E,5,FALSE))","v":""},null,null,null,null,null,null,null,{"$f":"IF(ISERROR(VLOOKUP(CONCATENATE($J$30,\"_\",I43),選手名簿!$A:$E,5,FALSE))=TRUE,\"\",VLOOKUP(CONCATENATE($J$30,\"_\",I43),選手名簿!$A:$E,5,FALSE))","v":""},null,null,null,{"$f":"IF(ISERROR(VLOOKUP(CONCATENATE($N$30,\"_\",O43),選手名簿!$A:$E,5,FALSE))=TRUE,\"\",VLOOKUP(CONCATENATE($N$30,\"_\",O43),選手名簿!$A:$E,5,FALSE))","v":""},null,null,null,null,null,null,null,{"$f":"IF(ISERROR(VLOOKUP(CONCATENATE($V$30,\"_\",U43),選手名簿!$A:$E,5,FALSE))=TRUE,\"\",VLOOKUP(CONCATENATE($V$30,\"_\",U43),選手名簿!$A:$E,5,FALSE))","v":""},null,null,null,null,null,3,null,null,2,null,null,1,null,null,0]
[null,{"$f":"IF(ISERROR(VLOOKUP(CONCATENATE($B$30,\"_\",C44),選手名簿!$A:$E,5,FALSE))=TRUE,\"\",VLOOKUP(CONCATENATE($B$30,\"_\",C44),選手名簿!$A:$E,5,FALSE))","v":""},null,null,null,null,null,null,null,{"$f":"IF(ISERROR(VLOOKUP(CONCATENATE($J$30,\"_\",I44),選手名簿!$A:$E,5,FALSE))=TRUE,\"\",VLOOKUP(CONCATENATE($J$30,\"_\",I44),選手名簿!$A:$E,5,FALSE))","v":""},null,null,null,{"$f":"IF(ISERROR(VLOOKUP(CONCATENATE($N$30,\"_\",O44),選手名簿!$A:$E,5,FALSE))=TRUE,\"\",VLOOKUP(CONCATENATE($N$30,\"_\",O44),選手名簿!$A:$E,5,FALSE))","v":""},null,null,null,null,null,null,null,{"$f":"IF(ISERROR(VLOOKUP(CONCATENATE($V$30,\"_\",U44),選手名簿!$A:$E,5,FALSE))=TRUE,\"\",VLOOKUP(CONCATENATE($V$30,\"_\",U44),選手名簿!$A:$E,5,FALSE))","v":""}]
[null,{"$f":"IF(ISERROR(VLOOKUP(CONCATENATE($B$30,\"_\",C45),選手名簿!$A:$E,5,FALSE))=TRUE,\"\",VLOOKUP(CONCATENATE($B$30,\"_\",C45),選手名簿!$A:$E,5,FALSE))","v":""},null,null,null,null,null,null,null,{"$f":"IF(ISERROR(VLOOKUP(CONCATENATE($J$30,\"_\",I45),選手名簿!$A:$E,5,FALSE))=TRUE,\"\",VLOOKUP(CONCATENATE($J$30,\"_\",I45),選手名簿!$A:$E,5,FALSE))","v":""},null,null,null,{"$f":"IF(ISERROR(VLOOKUP(CONCATENATE($N$30,\"_\",O45),選手名簿!$A:$E,5,FALSE))=TRUE,\"\",VLOOKUP(CONCATENATE($N$30,\"_\",O45),選手名簿!$A:$E,5,FALSE))","v":""},null,null,null,null,null,null,null,{"$f":"IF(ISERROR(VLOOKUP(CONCATENATE($V$30,\"_\",U45),選手名簿!$A:$E,5,FALSE))=TRUE,\"\",VLOOKUP(CONCATENATE($V$30,\"_\",U45),選手名簿!$A:$E,5,FALSE))","v":""}]
[]
[]
["⑤\n14:00～",{"$f":"C9","v":"弥生少年サッカークラブ"},{"$f":"IF(E48=\"\",\"\",SUM(E48:E49))","v":5},"（",3,"前半",0,"）",{"$f":"IF(G48=\"\",\"\",SUM(G48:G49))","v":0},{"$f":"C7","v":"臼杵ＳＳＳ"},null,null,"⑥\n15:00～",{"$f":"O9","v":"ＭＳＳ"},{"$f":"IF(Q48=\"\",\"\",SUM(Q48:Q49))","v":8},"（",5,"前半",0,"）",{"$f":"IF(S48=\"\",\"\",SUM(S48:S49))","v":0},{"$f":"O7","v":"千怒サッカースポーツ少年団"},null,null,{"$f":"$Y$1","v":"OFA 第 51 回大分県少年サッカー大会　兼　KYFA 九州U-12サッカー大会大分県大会"},null,null,null,null,null,null,null,null,null,null,null,null,null,null,null,null,null,null,null,null,null,null,null,null,null,null,null,null,null,null,null,null,null,null,null,{"$f":"$BI$1","v":"１次リーグ結果　報告用紙"}]
[null,null,null,null,2,"後半",0,null,null,null,null,null,null,null,null,null,3,"後半",0]
[null,null,null,null,null,"PK",null,null,null,null,null,null,null,null,null,null,null,"PK",null,null,null,null,null,null,"＜時間割＞　①10:00～　②11:00～　③12:00～　④13:00～　⑤14:00～　⑥15:00～"]
["MC","吉良　和明",null,null,null,null,"所属協会",null,null,"臼杵市サッカー協会",null,null,"MC","山野内　哲郎",null,null,null,null,"所属協会",null,null,"(一社)大分県サッカー協会　ジュニア委員会"]
["WelfareOfficer","松下　省吾",null,null,null,null,"所属協会",null,null,"津久見市サッカー協会",null,null,"WelfareOfficer","吉良　和明",null,null,null,null,"所属協会",null,null,"臼杵市サッカー協会"]
["記録","板井　龍法",null,null,null,null,"所属協会",null,null,"臼杵市サッカー協会",null,null,"記録","赤嶺　隆志",null,null,null,null,"所属協会",null,null,"臼杵市サッカー協会"]
["R:",{"$f":"IF(ISERROR(VLOOKUP(G54,審判員!$A:$C,2,FALSE))=TRUE,\"\",VLOOKUP(G54,審判員!$A:$C,2,FALSE))","v":"山本　篤"},{"$f":"IF(ISERROR(VLOOKUP(G54,審判員!$A:$C,3,FALSE))=TRUE,\"\",VLOOKUP(G54,審判員!$A:$C,3,FALSE))","v":3},"級","資格番号",null,"R005603486",null,null,"本部",null,null,"R:",{"$f":"IF(ISERROR(VLOOKUP(S54,審判員!$A:$C,2,FALSE))=TRUE,\"\",VLOOKUP(S54,審判員!$A:$C,2,FALSE))","v":"板井　龍法"},{"$f":"IF(ISERROR(VLOOKUP(S54,審判員!$A:$C,3,FALSE))=TRUE,\"\",VLOOKUP(S54,審判員!$A:$C,3,FALSE))","v":3},"級","資格番号",null,"R006093835",null,null,"本部",null,null,"会場",null,null,{"$f":"$N$4","v":"津久見・臼杵"},null,null,null,null,null,"⇒",{"$f":"$P$4","v":"吉四六ﾗﾝﾄﾞ陸上競技場"}]
["AR1:",{"$f":"IF(ISERROR(VLOOKUP(G55,審判員!$A:$C,2,FALSE))=TRUE,\"\",VLOOKUP(G55,審判員!$A:$C,2,FALSE))","v":"湯田　浩士"},{"$f":"IF(ISERROR(VLOOKUP(G55,審判員!$A:$C,3,FALSE))=TRUE,\"\",VLOOKUP(G55,審判員!$A:$C,3,FALSE))","v":3},"級","資格番号",null,"R001261778",null,null,{"$f":"N48","v":"ＭＳＳ"},null,null,"AR1:",{"$f":"IF(ISERROR(VLOOKUP(S55,審判員!$A:$C,2,FALSE))=TRUE,\"\",VLOOKUP(S55,審判員!$A:$C,2,FALSE))","v":"竹嶋　仁"},{"$f":"IF(ISERROR(VLOOKUP(S55,審判員!$A:$C,3,FALSE))=TRUE,\"\",VLOOKUP(S55,審判員!$A:$C,3,FALSE))","v":3},"級","資格番号",null,"R003972489",null,null,{"$f":"B48","v":"弥生少年サッカークラブ"}]
["AR2:",{"$f":"IF(ISERROR(VLOOKUP(G56,審判員!$A:$C,2,FALSE))=TRUE,\"\",VLOOKUP(G56,審判員!$A:$C,2,FALSE))","v":"深津　弘毅"},{"$f":"IF(ISERROR(VLOOKUP(G56,審判員!$A:$C,3,FALSE))=TRUE,\"\",VLOOKUP(G56,審判員!$A:$C,3,FALSE))","v":3},"級","資格番号",null,"R010376332",null,null,{"$f":"V48","v":"千怒サッカースポーツ少年団"},null,null,"AR2:",{"$f":"IF(ISERROR(VLOOKUP(S56,審判員!$A:$C,2,FALSE))=TRUE,\"\",VLOOKUP(S56,審判員!$A:$C,2,FALSE))","v":"足立　卓也"},{"$f":"IF(ISERROR(VLOOKUP(S56,審判員!$A:$C,3,FALSE))=TRUE,\"\",VLOOKUP(S56,審判員!$A:$C,3,FALSE))","v":3},"級","資格番号",null,"R010069871",null,null,{"$f":"J48","v":"臼杵ＳＳＳ"}]
["4th:",{"$f":"IF(ISERROR(VLOOKUP(G57,審判員!$A:$C,2,FALSE))=TRUE,\"\",VLOOKUP(G57,審判員!$A:$C,2,FALSE))","v":"塩月　勇輝"},{"$f":"IF(ISERROR(VLOOKUP(G57,審判員!$A:$C,3,FALSE))=TRUE,\"\",VLOOKUP(G57,審判員!$A:$C,3,FALSE))","v":2},"級","資格番号",null,"R003255841",null,null,"本部",null,null,"4th:",{"$f":"IF(ISERROR(VLOOKUP(S57,審判員!$A:$C,2,FALSE))=TRUE,\"\",VLOOKUP(S57,審判員!$A:$C,2,FALSE))","v":"隅田　哲平"},{"$f":"IF(ISERROR(VLOOKUP(S57,審判員!$A:$C,3,FALSE))=TRUE,\"\",VLOOKUP(S57,審判員!$A:$C,3,FALSE))","v":3},"級","資格番号",null,"R008798013",null,null,"本部"]
["警告/退場","氏名","背番号","分","内容",null,"内容","分","背番号","氏名","警告/退場",null,"警告/退場","氏名","背番号","分","内容",null,"内容","分","背番号","氏名","警告/退場",null,"パート",null,null,{"$f":"$N$6","v":"K"}]
[null,{"$f":"IF(ISERROR(VLOOKUP(CONCATENATE($B$48,\"_\",C59),選手名簿!$A:$E,5,FALSE))=TRUE,\"\",VLOOKUP(CONCATENATE($B$48,\"_\",C59),選手名簿!$A:$E,5,FALSE))","v":""},null,null,null,null,null,null,null,{"$f":"IF(ISERROR(VLOOKUP(CONCATENATE($J$48,\"_\",I59),選手名簿!$A:$E,5,FALSE))=TRUE,\"\",VLOOKUP(CONCATENATE($J$48,\"_\",I59),選手名簿!$A:$E,5,FALSE))","v":""},null,null,null,{"$f":"IF(ISERROR(VLOOKUP(CONCATENATE($N$48,\"_\",O59),選手名簿!$A:$E,5,FALSE))=TRUE,\"\",VLOOKUP(CONCATENATE($N$48,\"_\",O59),選手名簿!$A:$E,5,FALSE))","v":""},null,null,null,null,null,null,null,{"$f":"IF(ISERROR(VLOOKUP(CONCATENATE($V$48,\"_\",U59),選手名簿!$A:$E,5,FALSE))=TRUE,\"\",VLOOKUP(CONCATENATE($V$48,\"_\",U59),選手名簿!$A:$E,5,FALSE))","v":""}]
[null,{"$f":"IF(ISERROR(VLOOKUP(CONCATENATE($B$48,\"_\",C60),選手名簿!$A:$E,5,FALSE))=TRUE,\"\",VLOOKUP(CONCATENATE($B$48,\"_\",C60),選手名簿!$A:$E,5,FALSE))","v":""},null,null,null,null,null,null,null,{"$f":"IF(ISERROR(VLOOKUP(CONCATENATE($J$48,\"_\",I60),選手名簿!$A:$E,5,FALSE))=TRUE,\"\",VLOOKUP(CONCATENATE($J$48,\"_\",I60),選手名簿!$A:$E,5,FALSE))","v":""},null,null,null,{"$f":"IF(ISERROR(VLOOKUP(CONCATENATE($N$48,\"_\",O60),選手名簿!$A:$E,5,FALSE))=TRUE,\"\",VLOOKUP(CONCATENATE($N$48,\"_\",O60),選手名簿!$A:$E,5,FALSE))","v":""},null,null,null,null,null,null,null,{"$f":"IF(ISERROR(VLOOKUP(CONCATENATE($V$48,\"_\",U60),選手名簿!$A:$E,5,FALSE))=TRUE,\"\",VLOOKUP(CONCATENATE($V$48,\"_\",U60),選手名簿!$A:$E,5,FALSE))","v":""},null,null,null,{"$f":"$N$7","v":"K1"},null,null,{"$f":"$O$7","v":"千怒サッカースポーツ少年団"},null,null,null,null,null,null,null,null,null,null,null,null,{"$f":"$V$7","v":"津久見"}]
[null,{"$f":"IF(ISERROR(VLOOKUP(CONCATENATE($B$48,\"_\",C61),選手名簿!$A:$E,5,FALSE))=TRUE,\"\",VLOOKUP(CONCATENATE($B$48,\"_\",C61),選手名簿!$A:$E,5,FALSE))","v":""},null,null,null,null,null,null,null,{"$f":"IF(ISERROR(VLOOKUP(CONCATENATE($J$48,\"_\",I61),選手名簿!$A:$E,5,FALSE))=TRUE,\"\",VLOOKUP(CONCATENATE($J$48,\"_\",I61),選手名簿!$A:$E,5,FALSE))","v":""},null,null,null,{"$f":"IF(ISERROR(VLOOKUP(CONCATENATE($N$48,\"_\",O61),選手名簿!$A:$E,5,FALSE))=TRUE,\"\",VLOOKUP(CONCATENATE($N$48,\"_\",O61),選手名簿!$A:$E,5,FALSE))","v":""},null,null,null,null,null,null,null,{"$f":"IF(ISERROR(VLOOKUP(CONCATENATE($V$48,\"_\",U61),選手名簿!$A:$E,5,FALSE))=TRUE,\"\",VLOOKUP(CONCATENATE($V$48,\"_\",U61),選手名簿!$A:$E,5,FALSE))","v":""}]
[null,{"$f":"IF(ISERROR(VLOOKUP(CONCATENATE($B$48,\"_\",C62),選手名簿!$A:$E,5,FALSE))=TRUE,\"\",VLOOKUP(CONCATENATE($B$48,\"_\",C62),選手名簿!$A:$E,5,FALSE))","v":""},null,null,null,null,null,null,null,{"$f":"IF(ISERROR(VLOOKUP(CONCATENATE($J$48,\"_\",I62),選手名簿!$A:$E,5,FALSE))=TRUE,\"\",VLOOKUP(CONCATENATE($J$48,\"_\",I62),選手名簿!$A:$E,5,FALSE))","v":""},null,null,null,{"$f":"IF(ISERROR(VLOOKUP(CONCATENATE($N$48,\"_\",O62),選手名簿!$A:$E,5,FALSE))=TRUE,\"\",VLOOKUP(CONCATENATE($N$48,\"_\",O62),選手名簿!$A:$E,5,FALSE))","v":""},null,null,null,null,null,null,null,{"$f":"IF(ISERROR(VLOOKUP(CONCATENATE($V$48,\"_\",U62),選手名簿!$A:$E,5,FALSE))=TRUE,\"\",VLOOKUP(CONCATENATE($V$48,\"_\",U62),選手名簿!$A:$E,5,FALSE))","v":""},null,null,null,{"$f":"$N$8","v":"K2"},null,null,{"$f":"$O$8","v":"カティオーラフットボールクラブＵ－１２"},null,null,null,null,null,null,null,null,null,null,null,null,{"$f":"$V$8","v":"大分"}]
[null,{"$f":"IF(ISERROR(VLOOKUP(CONCATENATE($B$48,\"_\",C63),選手名簿!$A:$E,5,FALSE))=TRUE,\"\",VLOOKUP(CONCATENATE($B$48,\"_\",C63),選手名簿!$A:$E,5,FALSE))","v":""},null,null,null,null,null,null,null,{"$f":"IF(ISERROR(VLOOKUP(CONCATENATE($J$48,\"_\",I63),選手名簿!$A:$E,5,FALSE))=TRUE,\"\",VLOOKUP(CONCATENATE($J$48,\"_\",I63),選手名簿!$A:$E,5,FALSE))","v":""},null,null,null,{"$f":"IF(ISERROR(VLOOKUP(CONCATENATE($N$48,\"_\",O63),選手名簿!$A:$E,5,FALSE))=TRUE,\"\",VLOOKUP(CONCATENATE($N$48,\"_\",O63),選手名簿!$A:$E,5,FALSE))","v":""},null,null,null,null,null,null,null,{"$f":"IF(ISERROR(VLOOKUP(CONCATENATE($V$48,\"_\",U63),選手名簿!$A:$E,5,FALSE))=TRUE,\"\",VLOOKUP(CONCATENATE($V$48,\"_\",U63),選手名簿!$A:$E,5,FALSE))","v":""}]
[null,null,null,null,null,null,null,null,null,null,null,null,null,null,null,null,null,null,null,null,null,null,null,null,null,{"$f":"$N$9","v":"K3"},null,null,{"$f":"$O$9","v":"ＭＳＳ"},null,null,null,null,null,null,null,null,null,null,null,null,{"$f":"$V$9","v":"大分"}]
[]
[]
[]
[]
[]
[]
[]
[null,null,null,null,null,null,null,null,null,null,null,null,null,null,null,null,null,null,null,null,null,null,null,null,{"$f":"$Y$6","v":"パート"},null,null,null,{"$f":"$AB$58","v":"K"},null,null,{"$f":"$Y$78","v":"千怒サッカースポーツ少年団"},null,null,null,null,{"$f":"$Y$84","v":"カティオーラフットボールクラブＵ－１２"},null,null,null,null,{"$f":"$Y$90","v":"ＭＳＳ"},null,null,null,null,"勝",null,"PK\n勝",null,"PK\n負",null,"負",null,"得点",null,"失点",null,"勝点",null,"勝点\n順位",null,"得失\n点差",null,"得失\n順位",null,"総\n順位"]
[]
[]
[]
[]
[]
[null,null,null,null,null,null,null,null,null,null,null,null,null,null,null,null,null,null,null,null,null,null,null,null,{"$f":"$AC$60","v":"千怒サッカースポーツ少年団"},null,null,null,null,"星取表",null,null,null,null,null,null,{"$f":"IF(AK82=\"\",\"\",IF(AK82>AN82,\"○\",IF(AK82<AN82,\"●\",IF(AK80>AN80,\"△\",IF(AK80<AN80,\"▲\")))))","v":"●"},null,null,null,null,{"$f":"IF(AP82=\"\",\"\",IF(AP82>AS82,\"○\",IF(AP82<AS82,\"●\",IF(AP80>AS80,\"△\",IF(AP80<AS80,\"▲\")))))","v":"●"},null,null,null,null,{"$f":"COUNTIF($AF$78:$AT$79,\"○\")","v":0},null,{"$f":"COUNTIF($AF$78:$AT$79,\"△\")","v":0},null,{"$f":"COUNTIF($AF$78:$AT$79,\"▲\")","v":0},null,{"$f":"COUNTIF($AF$78:$AT$79,\"●\")","v":2},null,{"$f":"SUM($AK$82,$AP$82)","v":0},null,{"$f":"SUM($AN$82,$AS$82)","v":23},null,{"$f":"($AU$78*3)+($AW$78*2)+($AY$78*1)","v":0},null,{"$f":"RANK($BG$78,$BG$78:$BH$95)","v":3},null,{"$f":"$BC$78-$BE$78","v":-23},null,{"$f":"RANK($BK$78,$BK$78:$BL$95)","v":3}]
[]
[null,null,null,null,null,null,null,null,null,null,null,null,null,null,null,null,null,null,null,null,null,null,null,null,null,null,null,null,null,null,null,null,null,null,null,null,{"$f":"IF($Q$14=\"\",\"\",$Q$14)","v":""},null,"―",{"$f":"IF($S$14=\"\",\"\",$S$14)","v":""},null,{"$f":"IF($S$50=\"\",\"\",$S$50)","v":""},null,"―",{"$f":"IF($Q$50=\"\",\"\",$Q$50)","v":""}]
[null,null,null,null,null,null,null,null,null,null,null,null,null,null,null,null,null,null,null,null,null,null,null,null,null,null,null,null,null,"得失点"]
[null,null,null,null,null,null,null,null,null,null,null,null,null,null,null,null,null,null,null,null,null,null,null,null,null,null,null,null,null,null,null,null,null,null,null,null,{"$f":"$O$12","v":0},null,"―",{"$f":"$U$12","v":15},null,{"$f":"$U$48","v":0},null,"―",{"$f":"$O$48","v":8}]
[]
[null,null,null,null,null,null,null,null,null,null,null,null,null,null,null,null,null,null,null,null,null,null,null,null,{"$f":"$AC$62","v":"カティオーラフットボールクラブＵ－１２"},null,null,null,null,"星取表",null,{"$f":"IF(AF88=\"\",\"\",IF(AF88>AI88,\"○\",IF(AF88<AI88,\"●\",IF(AF86>AI86,\"△\",IF(AF86<AI86,\"▲\")))))","v":"○"},null,null,null,null,null,null,null,null,null,{"$f":"IF(AP88=\"\",\"\",IF(AP88>AS88,\"○\",IF(AP88<AS88,\"●\",IF(AP86>AS86,\"△\",IF(AP86<AS86,\"▲\")))))","v":"○"},null,null,null,null,{"$f":"COUNTIF($AF$84:$AT$85,\"○\")","v":2},null,{"$f":"COUNTIF($AF$84:$AT$85,\"△\")","v":0},null,{"$f":"COUNTIF($AF$84:$AT$85,\"▲\")","v":0},null,{"$f":"COUNTIF($AF$84:$AT$85,\"●\")","v":0},null,{"$f":"SUM($AF$88,$AP$88)","v":17},null,{"$f":"SUM($AI$88,$AS$88)","v":1},null,{"$f":"($AU$84*3)+($AW$84*2)+($AY$84*1)","v":6},null,{"$f":"RANK($BG$84,$BG$78:$BH$95)","v":1},null,{"$f":"$BC$84-$BE$84","v":16},null,{"$f":"RANK($BK$84,$BK$78:$BL$95)","v":1}]
[]
[null,null,null,null,null,null,null,null,null,null,null,null,null,null,null,null,null,null,null,null,null,null,null,null,null,null,null,null,null,null,null,{"$f":"AN80","v":""},null,"―",{"$f":"AK80","v":""},null,null,null,null,null,null,{"$f":"IF($Q$32=\"\",\"\",$Q$32)","v":""},null,"―",{"$f":"IF($S$32=\"\",\"\",$S$32)","v":""}]
[null,null,null,null,null,null,null,null,null,null,null,null,null,null,null,null,null,null,null,null,null,null,null,null,null,null,null,null,null,"得失点"]
[null,null,null,null,null,null,null,null,null,null,null,null,null,null,null,null,null,null,null,null,null,null,null,null,null,null,null,null,null,null,null,{"$f":"AN82","v":15},null,"―",{"$f":"AK82","v":0},null,null,null,null,null,null,{"$f":"$O$30","v":2},null,"―",{"$f":"$U$30","v":1}]
[]
[null,null,null,null,null,null,null,null,null,null,null,null,null,null,null,null,null,null,null,null,null,null,null,null,{"$f":"$AC$64","v":"ＭＳＳ"},null,null,null,null,"星取表",null,{"$f":"IF(AF94=\"\",\"\",IF(AF94>AI94,\"○\",IF(AF94<AI94,\"●\",IF(AF92>AI92,\"△\",IF(AF92<AI92,\"▲\")))))","v":"○"},null,null,null,null,{"$f":"IF(AK94=\"\",\"\",IF(AK94>AN94,\"○\",IF(AK94<AN94,\"●\",IF(AK92>AN92,\"△\",IF(AK92<AN92,\"▲\")))))","v":"●"},null,null,null,null,null,null,null,null,null,{"$f":"COUNTIF($AF$90:$AT$91,\"○\")","v":1},null,{"$f":"COUNTIF($AF$90:$AT$91,\"△\")","v":0},null,{"$f":"COUNTIF($AF$90:$AT$91,\"▲\")","v":0},null,{"$f":"COUNTIF($AF$90:$AT$91,\"●\")","v":1},null,{"$f":"SUM($AF$94,$AK$94)","v":9},null,{"$f":"SUM($AI$94,$AN$94)","v":2},null,{"$f":"($AU$90*3)+($AW$90*2)+($AY$90*1)","v":3},null,{"$f":"RANK($BG$90,$BG$78:$BH$95)","v":2},null,{"$f":"$BC$90-$BE$90","v":7},null,{"$f":"RANK($BK$90,$BK$78:$BL$95)","v":2}]
[]
[null,null,null,null,null,null,null,null,null,null,null,null,null,null,null,null,null,null,null,null,null,null,null,null,null,null,null,null,null,null,null,{"$f":"AS80","v":""},null,"―",{"$f":"AP80","v":""},null,{"$f":"AS86","v":""},null,"―",{"$f":"AP86","v":""}]
[null,null,null,null,null,null,null,null,null,null,null,null,null,null,null,null,null,null,null,null,null,null,null,null,null,null,null,null,null,"得失点"]
[null,null,null,null,null,null,null,null,null,null,null,null,null,null,null,null,null,null,null,null,null,null,null,null,null,null,null,null,null,null,null,{"$f":"AS82","v":8},null,"―",{"$f":"AP82","v":0},null,{"$f":"AS88","v":1},null,"―",{"$f":"AP88","v":2}]
[]
[]
[null,null,null,null,null,null,null,null,null,null,null,null,null,null,null,null,null,null,null,null,null,null,null,null,"Ⅰ勝点（勝３点　ＰＫ勝２点　ＰＫ負１点　負０点）　Ⅱ当該チームの戦績　Ⅲ得失点差　Ⅳ多得点　Ⅴ抽選の順で順位を決定する。"]
[]
[null,null,null,null,null,null,null,null,null,null,null,null,null,null,null,null,null,null,null,null,null,null,null,null,"勝点表",null,"勝","○",null,"PK\n勝","△",null,"PK\n負","▲",null,"負","●"]
[null,null,null,null,null,null,null,null,null,null,null,null,null,null,null,null,null,null,null,null,null,null,null,null,null,null,null,3,null,null,2,null,null,1,null,null,0]

{"sheet":"１次リーグ（日田）","index":15,"n_rows":100,"n_cols":67,"rows_kept":100,"cut":false,"hidden":false,"merged":[[89,24,94,28],[89,29,91,30],[89,41,94,45],[89,46,94,47],[89,62,94,63],[92,29,94,30],[83,48,88,49],[96,24,97,57],[98,24,99,25],[98,26,99,26],[98,29,99,29],[98,32,99,32],[83,60,88,61],[83,50,88,51],[83,52,88,53],[83,54,88,55],[83,56,88,57],[89,60,94,61],[89,50,94,51],[89,52,94,53],[89,54,94,55],[89,56,94,57],[89,48,94,49],[89,31,90,35],[77,24,82,28],[77,29,79,30],[77,31,82,35],[77,46,82,47],[77,48,82,49],[77,58,82,59],[77,60,82,61],[77,62,82,63],[83,58,88,59],[80,29,82,30],[83,24,88,28],[83,29,85,30],[83,36,88,40],[83,31,84,35],[83,41,84,45],[87,34,88,35],[81,36,82,37],[81,38,82,38],[83,62,88,63],[86,29,88,30],[81,44,82,45],[79,38,80,38],[79,39,80,40],[79,41,80,42],[56,4,56,5],[56,6,56,8],[56,9,56,10],[56,16,56,17],[56,18,56,20],[56,21,56,22],[5,27,5,32],[53,24,54,26],[53,27,54,32],[39,24,40,57],[41,24,42,25],[41,26,42,26],[54,4,54,5],[54,6,54,8],[54,9,54,10],[54,16,54,17],[54,18,54,20],[54,21,54,22],[55,4,55,5],[55,6,55,8],[55,9,55,10],[55,16,55,17],[55,18,55,20],[55,21,55,22],[47,0,49,0],[47,1,49,1],[47,2,49,2],[47,3,49,3],[47,7,49,7],[47,8,49,8],[47,21,49,21],[47,12,49,12],[47,13,49,13],[47,14,49,14],[47,15,49,15],[47,19,49,19],[47,20,49,20],[37,6,37,8],[37,9,37,10],[37,16,37,17],[37,18,37,20],[37,21,37,22],[36,4,36,5],[36,6,36,8],[71,58,76,59],[59,25,60,27],[59,28,60,40],[38,4,38,5],[38,6,38,8],[38,9,38,10],[38,16,38,17],[38,18,38,20],[38,21,38,22],[59,41,60,44],[47,9,49,9],[71,24,76,27],[71,28,76,30],[71,31,76,35],[71,36,76,40],[53,4,53,5],[53,6,53,8],[41,29,42,29],[47,24,48,58],[41,35,42,35],[49,24,50,58],[77,56,82,57],[71,56,76,57],[29,0,31,0],[29,1,31,1],[29,2,31,2],[29,3,31,3],[29,7,31,7],[29,8,31,8],[35,21,35,22],[41,32,42,32],[36,9,36,10],[36,16,36,17],[35,4,35,5],[35,6,35,8],[35,9,35,10],[35,16,35,17],[36,18,36,20],[36,21,36,22],[37,4,37,5],[29,9,31,9],[29,12,31,12],[29,14,31,14],[29,19,31,19],[29,20,31,20],[35,18,35,20],[81,39,82,40],[81,41,82,42],[81,43,82,43],[53,9,53,10],[53,16,53,17],[53,18,53,20],[53,21,53,22],[53,33,54,33],[53,34,54,48],[57,24,58,26],[57,27,58,32],[61,25,62,27],[61,28,62,40],[61,41,62,44],[63,25,64,27],[63,28,64,40],[63,41,64,44],[71,41,76,45],[29,21,31,21],[29,13,31,13],[29,15,31,15],[32,58,37,59],[32,24,37,28],[32,29,34,30],[32,41,37,45],[32,46,37,47],[32,50,37,51],[32,52,37,53],[35,29,37,30],[32,48,37,49],[29,29,31,30],[28,31,29,32],[28,33,29,33],[28,34,29,35],[28,41,29,42],[28,43,29,43],[30,33,31,33],[30,43,31,43],[30,44,31,45],[32,31,33,35],[32,36,33,40],[36,36,37,37],[36,38,37,38],[77,64,82,65],[77,66,82,66],[79,36,80,37],[26,24,31,28],[26,29,28,30],[26,36,31,40],[26,46,31,47],[26,31,27,35],[26,41,27,45],[30,34,31,35],[30,41,31,42],[28,44,29,45],[30,31,31,32],[26,50,31,51],[26,52,31,53],[26,54,31,55],[26,56,31,57],[26,58,31,59],[26,60,31,61],[26,62,31,63],[26,64,31,65],[26,66,31,66],[79,43,80,43],[79,44,80,45],[20,9,20,10],[20,16,20,17],[20,18,20,20],[20,24,25,28],[20,29,22,30],[20,31,25,35],[20,46,25,47],[22,39,23,40],[22,41,23,42],[22,43,23,43],[22,44,23,45],[24,38,25,38],[24,39,25,40],[23,29,25,30],[14,24,19,27],[14,28,19,30],[14,31,19,35],[14,1,14,5],[14,6,14,8],[14,9,14,10],[15,1,15,5],[15,6,15,8],[15,9,15,10],[16,1,16,5],[16,6,16,8],[16,9,16,10],[14,13,14,17],[14,18,14,20],[14,21,14,22],[15,13,15,17],[15,18,15,20],[15,21,15,22],[18,4,18,5],[18,6,18,8],[18,9,18,10],[18,16,18,17],[18,18,18,20],[18,21,18,22],[8,2,8,8],[8,9,8,10],[8,14,8,20],[8,21,8,22],[8,25,8,27],[8,28,8,40],[8,41,8,44],[11,0,13,0],[11,1,13,1],[11,2,13,2],[11,3,13,3],[11,7,13,7],[11,8,13,8],[11,9,13,9],[11,12,13,12],[11,13,13,13],[11,14,13,14],[11,15,13,15],[11,19,13,19],[11,20,13,20],[11,21,13,21],[7,2,7,8],[7,9,7,10],[7,14,7,20],[7,21,7,22],[7,25,7,27],[7,28,7,40],[7,41,7,44],[6,2,6,8],[6,9,6,10],[6,14,6,20],[6,21,6,22],[6,25,6,27],[6,28,6,40],[3,3,3,10],[3,15,3,22],[3,24,3,26],[3,27,3,32],[3,34,3,48],[5,24,5,26],[6,41,6,44],[0,0,0,8],[0,12,0,20],[0,24,0,58],[0,60,0,66],[1,0,1,10],[1,12,1,22],[1,24,1,58],[0,9,0,10],[0,21,0,22],[98,35,99,35],[14,64,19,65],[14,66,19,66],[20,36,21,40],[20,41,21,45],[20,64,25,65],[20,66,25,66],[22,36,23,37],[22,38,23,38],[24,36,25,37],[14,36,19,40],[14,41,19,45],[14,46,19,47],[14,48,19,49],[14,50,19,51],[14,52,19,53],[14,54,19,55],[14,56,19,57],[14,58,19,59],[14,60,19,61],[14,62,19,63],[20,48,25,49],[20,50,25,51],[20,52,25,53],[24,41,25,42],[24,43,25,43],[24,44,25,45],[20,54,25,55],[20,56,25,57],[20,58,25,59],[20,60,25,61],[20,62,25,63],[32,66,37,66],[34,31,35,32],[34,33,35,33],[34,34,35,35],[34,36,35,37],[34,38,35,38],[34,39,35,40],[36,31,37,32],[36,33,37,33],[36,34,37,35],[32,54,37,55],[32,56,37,57],[32,60,37,61],[32,64,37,65],[87,31,88,32],[87,33,88,33],[83,46,88,47],[87,41,88,42],[87,43,88,43],[87,44,88,45],[36,39,37,40],[26,48,31,49],[32,62,37,63],[77,36,78,40],[77,41,78,45],[47,60,48,66],[77,50,82,51],[77,52,82,53],[77,54,82,55],[71,46,76,47],[71,48,76,49],[71,50,76,51],[71,52,76,53],[71,54,76,55],[71,60,76,61],[71,62,76,63],[71,64,76,65],[71,66,76,66],[89,36,90,40],[89,64,94,65],[93,36,94,37],[93,38,94,38],[93,39,94,40],[83,64,88,65],[89,58,94,59],[89,66,94,66],[91,31,92,32],[91,33,92,33],[91,34,92,35],[91,36,92,37],[91,38,92,38],[91,39,92,40],[93,31,94,32],[93,33,94,33],[93,34,94,35],[83,66,88,66],[85,31,86,32],[85,33,86,33],[85,34,86,35],[85,41,86,42],[85,43,86,43],[85,44,86,45],[50,1,50,5],[50,6,50,8],[50,9,50,10],[51,1,51,5],[51,6,51,8],[51,9,51,10],[52,1,52,5],[52,6,52,8],[52,9,52,10],[50,13,50,17],[50,18,50,20],[50,21,50,22],[51,13,51,17],[51,18,51,20],[51,21,51,22],[52,13,52,17],[52,18,52,20],[52,21,52,22],[34,1,34,5],[34,6,34,8],[34,9,34,10],[32,13,32,17],[32,18,32,20],[32,21,32,22],[33,13,33,17],[33,18,33,20],[33,21,33,22],[34,13,34,17],[34,18,34,20],[34,21,34,22],[16,13,16,17],[16,18,16,20],[16,21,16,22],[32,1,32,5],[32,6,32,8],[32,9,32,10],[33,1,33,5],[33,6,33,8],[33,9,33,10],[17,4,17,5],[17,6,17,8],[17,9,17,10],[17,16,17,17],[17,18,17,20],[17,21,17,22],[20,21,20,22],[19,4,19,5],[19,6,19,8],[19,9,19,10],[19,16,19,17],[19,18,19,20],[19,21,19,22],[20,4,20,5],[20,6,20,8]]}
[{"$f":"出場チーム!B1","v":"OFA 第 51 回大分県少年サッカー大会　兼　KYFA 九州U-12サッカー大会大分県大会"},null,null,null,null,null,null,null,null,"１次リーグ結果　報告用紙",null,null,{"$f":"出場チーム!B1","v":"OFA 第 51 回大分県少年サッカー大会　兼　KYFA 九州U-12サッカー大会大分県大会"},null,null,null,null,null,null,null,null,"１次リーグ結果　報告用紙",null,null,{"$f":"$A$1","v":"OFA 第 51 回大分県少年サッカー大会　兼　KYFA 九州U-12サッカー大会大分県大会"},null,null,null,null,null,null,null,null,null,null,null,null,null,null,null,null,null,null,null,null,null,null,null,null,null,null,null,null,null,null,null,null,null,null,null,{"$f":"$J$1","v":"１次リーグ結果　報告用紙"}]
["＜時間割＞　①10:00～　②11:00～　③12:00～　④13:00～　⑤14:00～　⑥15:00～",null,null,null,null,null,null,null,null,null,null,null,"＜時間割＞　①10:00～　②11:00～　③12:00～　④13:00～　⑤14:00～　⑥15:00～",null,null,null,null,null,null,null,null,null,null,null,"＜時間割＞　①10:00～　②11:00～　③12:00～　④13:00～　⑤14:00～　⑥15:00～"]
[]
["会場",{"$f":"組み合わせ!BF7","v":"日田"},"⇒",{"$f":"VLOOKUP(B4,出場チーム!$B$51:$F$59,2,FALSE)","v":"玖珠町総合運動公園"},null,null,null,null,null,null,null,null,"会場",{"$f":"組み合わせ!BF7","v":"日田"},"⇒",{"$f":"VLOOKUP(N4,出場チーム!$B$51:$F$59,2,FALSE)","v":"玖珠町総合運動公園"},null,null,null,null,null,null,null,null,"会場",null,null,{"$f":"$B$4","v":"日田"},null,null,null,null,null,"⇒",{"$f":"$D$4","v":"玖珠町総合運動公園"}]
[]
["パート",{"$f":"VLOOKUP(B4,組み合わせ!$AL$95:$BU$112,13,FALSE)","v":"E"},null,null,null,null,null,null,null,null,null,null,"パート",{"$f":"VLOOKUP(N4,組み合わせ!$AL$95:$BU$112,25,FALSE)","v":"L"},null,null,null,null,null,null,null,null,null,null,"パート",null,null,{"$f":"$B$6","v":"E"}]
[null,{"$f":"CONCATENATE($B$6,1)","v":"E1"},{"$f":"HLOOKUP(B7,組み合わせ!$B$48:$EO$86,2,FALSE)","v":"ＦＣアリアーレ"},null,null,null,null,null,null,{"$f":"HLOOKUP(B7,組み合わせ!$B$48:$EO$86,32,FALSE)","v":"日田"},null,null,null,{"$f":"CONCATENATE($N$6,1)","v":"L1"},{"$f":"HLOOKUP(N7,組み合わせ!$B$48:$EO$86,2,FALSE)","v":"太陽スポーツクラブ大分西"},null,null,null,null,null,null,{"$f":"HLOOKUP(N7,組み合わせ!$B$48:$EO$86,32,FALSE)","v":"日田"},null,null,null,{"$f":"+B7","v":"E1"},null,null,{"$f":"$C$7","v":"ＦＣアリアーレ"},null,null,null,null,null,null,null,null,null,null,null,null,{"$f":"$J$7","v":"日田"}]
[null,{"$f":"CONCATENATE($B$6,2)","v":"E2"},{"$f":"HLOOKUP(B8,組み合わせ!$B$48:$EO$86,2,FALSE)","v":"スマイス　セレソン　スポーツクラブ"},null,null,null,null,null,null,{"$f":"HLOOKUP(B8,組み合わせ!$B$48:$EO$86,32,FALSE)","v":"大分"},null,null,null,{"$f":"CONCATENATE($N$6,2)","v":"L2"},{"$f":"HLOOKUP(N8,組み合わせ!$B$48:$EO$86,2,FALSE)","v":"判田サッカースポーツ少年団"},null,null,null,null,null,null,{"$f":"HLOOKUP(N8,組み合わせ!$B$48:$EO$86,32,FALSE)","v":"大分"},null,null,null,{"$f":"+B8","v":"E2"},null,null,{"$f":"$C$8","v":"スマイス　セレソン　スポーツクラブ"},null,null,null,null,null,null,null,null,null,null,null,null,{"$f":"$J$8","v":"大分"}]
[null,{"$f":"CONCATENATE($B$6,3)","v":"E3"},{"$f":"HLOOKUP(B9,組み合わせ!$B$48:$EO$86,2,FALSE)","v":"スマイス・セレソン"},null,null,null,null,null,null,{"$f":"HLOOKUP(B9,組み合わせ!$B$48:$EO$86,32,FALSE)","v":"別府"},null,null,null,{"$f":"CONCATENATE($N$6,3)","v":"L3"},{"$f":"HLOOKUP(N9,組み合わせ!$B$48:$EO$86,2,FALSE)","v":"明野東サッカースポーツ少年団"},null,null,null,null,null,null,{"$f":"HLOOKUP(N9,組み合わせ!$B$48:$EO$86,32,FALSE)","v":"大分"},null,null,null,{"$f":"+B9","v":"E3"},null,null,{"$f":"$C$9","v":"スマイス・セレソン"},null,null,null,null,null,null,null,null,null,null,null,null,{"$f":"$J$9","v":"別府"}]
["8：50～ＭＣＭ",null,null,null,null,null,null,null,null,null,null,null,"9：50～ＭＣＭ"]
[]
["①\n10:00～",{"$f":"C7","v":"ＦＣアリアーレ"},{"$f":"IF(E12=\"\",\"\",SUM(E12:E13))","v":0},"（",0,"前半",2,"）",{"$f":"IF(G12=\"\",\"\",SUM(G12:G13))","v":2},{"$f":"C8","v":"スマイス　セレソン　スポーツクラブ"},null,null,"②\n11:00～",{"$f":"O7","v":"太陽スポーツクラブ大分西"},{"$f":"IF(Q12=\"\",\"\",SUM(Q12:Q13))","v":5},"（",1,"前半",0,"）",{"$f":"IF(S12=\"\",\"\",SUM(S12:S13))","v":0},{"$f":"O8","v":"判田サッカースポーツ少年団"}]
[null,null,null,null,0,"後半",0,null,null,null,null,null,null,null,null,null,4,"後半",0]
[null,null,null,null,null,"PK",null,null,null,null,null,null,null,null,null,null,null,"PK"]
["MC","笠野　わかこ",null,null,null,null,"所属協会",null,null,"日田市サッカー協会",null,null,"MC","諌本　秀樹",null,null,null,null,"所属協会",null,null,"日田市サッカー協会",null,null,{"$f":"$Y$6","v":"パート"},null,null,null,{"$f":"$AB$6","v":"E"},null,null,{"$f":"$Y$21","v":"ＦＣアリアーレ"},null,null,null,null,{"$f":"$Y$27","v":"スマイス　セレソン　スポーツクラブ"},null,null,null,null,{"$f":"$Y$33","v":"スマイス・セレソン"},null,null,null,null,"勝",null,"PK\n勝",null,"PK\n負",null,"負",null,"得点",null,"失点",null,"勝点",null,"勝点\n順位",null,"得失\n点差",null,"得失\n順位",null,"総\n順位"]
["WelfareOfficer","笠野　わかこ",null,null,null,null,"所属協会",null,null,"日田市サッカー協会",null,null,"WelfareOfficer","諌本　秀樹",null,null,null,null,"所属協会",null,null,"日田市サッカー協会"]
["記録","松尾　章",null,null,null,null,"所属協会",null,null,"日田市サッカー協会",null,null,"記録","矢羽田　崇",null,null,null,null,"所属協会",null,null,"日田市サッカー協会"]
["R:",{"$f":"IF(ISERROR(VLOOKUP(G18,審判員!$A:$C,2,FALSE))=TRUE,\"\",VLOOKUP(G18,審判員!$A:$C,2,FALSE))","v":"長尾　信宏"},{"$f":"IF(ISERROR(VLOOKUP(G18,審判員!$A:$C,3,FALSE))=TRUE,\"\",VLOOKUP(G18,審判員!$A:$C,3,FALSE))","v":3},"級","資格番号",null,"R001258871",null,null,"本部",null,null,"R:",{"$f":"IF(ISERROR(VLOOKUP(S18,審判員!$A:$C,2,FALSE))=TRUE,\"\",VLOOKUP(S18,審判員!$A:$C,2,FALSE))","v":"金子　翔"},{"$f":"IF(ISERROR(VLOOKUP(S18,審判員!$A:$C,3,FALSE))=TRUE,\"\",VLOOKUP(S18,審判員!$A:$C,3,FALSE))","v":3},"級","資格番号",null,"R010261482",null,null,"本部"]
["AR1:",{"$f":"IF(ISERROR(VLOOKUP(G19,審判員!$A:$C,2,FALSE))=TRUE,\"\",VLOOKUP(G19,審判員!$A:$C,2,FALSE))","v":"池本　岬"},{"$f":"IF(ISERROR(VLOOKUP(G19,審判員!$A:$C,3,FALSE))=TRUE,\"\",VLOOKUP(G19,審判員!$A:$C,3,FALSE))","v":3},"級","資格番号",null,"R010301990",null,null,{"$f":"N12","v":"太陽スポーツクラブ大分西"},null,null,"AR1:",{"$f":"IF(ISERROR(VLOOKUP(S19,審判員!$A:$C,2,FALSE))=TRUE,\"\",VLOOKUP(S19,審判員!$A:$C,2,FALSE))","v":"川井　勇介"},{"$f":"IF(ISERROR(VLOOKUP(S19,審判員!$A:$C,3,FALSE))=TRUE,\"\",VLOOKUP(S19,審判員!$A:$C,3,FALSE))","v":3},"級","資格番号",null,"R001255616",null,null,{"$f":"B12","v":"ＦＣアリアーレ"}]
["AR2:",{"$f":"IF(ISERROR(VLOOKUP(G20,審判員!$A:$C,2,FALSE))=TRUE,\"\",VLOOKUP(G20,審判員!$A:$C,2,FALSE))","v":"阿部　浩之"},{"$f":"IF(ISERROR(VLOOKUP(G20,審判員!$A:$C,3,FALSE))=TRUE,\"\",VLOOKUP(G20,審判員!$A:$C,3,FALSE))","v":3},"級","資格番号",null,"R001262209",null,null,{"$f":"V12","v":"判田サッカースポーツ少年団"},null,null,"AR2:",{"$f":"IF(ISERROR(VLOOKUP(S20,審判員!$A:$C,2,FALSE))=TRUE,\"\",VLOOKUP(S20,審判員!$A:$C,2,FALSE))","v":"マガリェンス　リシャルドソン"},{"$f":"IF(ISERROR(VLOOKUP(S20,審判員!$A:$C,3,FALSE))=TRUE,\"\",VLOOKUP(S20,審判員!$A:$C,3,FALSE))","v":3},"級","資格番号",null,"R001260557",null,null,{"$f":"J12","v":"スマイス　セレソン　スポーツクラブ"}]
["4th:",{"$f":"IF(ISERROR(VLOOKUP(G21,審判員!$A:$C,2,FALSE))=TRUE,\"\",VLOOKUP(G21,審判員!$A:$C,2,FALSE))","v":"井上　健次郎"},{"$f":"IF(ISERROR(VLOOKUP(G21,審判員!$A:$C,3,FALSE))=TRUE,\"\",VLOOKUP(G21,審判員!$A:$C,3,FALSE))","v":3},"級","資格番号",null,"R006173919",null,null,"本部",null,null,"4th:",{"$f":"IF(ISERROR(VLOOKUP(S21,審判員!$A:$C,2,FALSE))=TRUE,\"\",VLOOKUP(S21,審判員!$A:$C,2,FALSE))","v":"松原　マヤ"},{"$f":"IF(ISERROR(VLOOKUP(S21,審判員!$A:$C,3,FALSE))=TRUE,\"\",VLOOKUP(S21,審判員!$A:$C,3,FALSE))","v":2},"級","資格番号",null,"R001265552",null,null,"本部",null,null,{"$f":"$AC$7","v":"ＦＣアリアーレ"},null,null,null,null,"星取表",null,null,null,null,null,null,{"$f":"IF(AK25=\"\",\"\",IF(AK25>AN25,\"○\",IF(AK25<AN25,\"●\",IF(AK23>AN23,\"△\",IF(AK23<AN23,\"▲\")))))","v":"●"},null,null,null,null,{"$f":"IF(AP25=\"\",\"\",IF(AP25>AS25,\"○\",IF(AP25<AS25,\"●\",IF(AP23>AS23,\"△\",IF(AP23<AS23,\"▲\")))))","v":"●"},null,null,null,null,{"$f":"COUNTIF($AF$21:$AT$22,\"○\")","v":0},null,{"$f":"COUNTIF($AF$21:$AT$22,\"△\")","v":0},null,{"$f":"COUNTIF($AF$21:$AT$22,\"▲\")","v":0},null,{"$f":"COUNTIF($AF$21:$AT$22,\"●\")","v":2},null,{"$f":"SUM($AK$25,$AP$25)","v":1},null,{"$f":"SUM($AN$25,$AS$25)","v":5},null,{"$f":"($AU$21*3)+($AW$21*2)+($AY$21*1)","v":0},null,{"$f":"RANK($BG$21,$BG$21:$BH$38)","v":3},null,{"$f":"$BC$21-$BE$21","v":-4},null,{"$f":"RANK($BK$21,$BK$21:$BL$38)","v":3}]
["警告/退場","氏名","背番号","分","内容",null,"内容","分","背番号","氏名","警告/退場",null,"警告/退場","氏名","背番号","分","内容",null,"内容","分","背番号","氏名","警告/退場"]
[null,{"$f":"IF(ISERROR(VLOOKUP(CONCATENATE($B$12,\"_\",C23),選手名簿!$A:$E,5,FALSE))=TRUE,\"\",VLOOKUP(CONCATENATE($B$12,\"_\",C23),選手名簿!$A:$E,5,FALSE))","v":""},null,null,null,null,null,null,null,{"$f":"IF(ISERROR(VLOOKUP(CONCATENATE($J$12,\"_\",I23),選手名簿!$A:$E,5,FALSE))=TRUE,\"\",VLOOKUP(CONCATENATE($J$12,\"_\",I23),選手名簿!$A:$E,5,FALSE))","v":""},null,null,null,{"$f":"IF(ISERROR(VLOOKUP(CONCATENATE($N$12,\"_\",O23),選手名簿!$A:$E,5,FALSE))=TRUE,\"\",VLOOKUP(CONCATENATE($N$12,\"_\",O23),選手名簿!$A:$E,5,FALSE))","v":""},null,null,null,null,null,null,null,{"$f":"IF(ISERROR(VLOOKUP(CONCATENATE($V$12,\"_\",U23),選手名簿!$A:$E,5,FALSE))=TRUE,\"\",VLOOKUP(CONCATENATE($V$12,\"_\",U23),選手名簿!$A:$E,5,FALSE))","v":""},null,null,null,null,null,null,null,null,null,null,null,null,null,null,{"$f":"IF($E$14=\"\",\"\",$E$14)","v":""},null,"―",{"$f":"IF($G$14=\"\",\"\",$G$14)","v":""},null,{"$f":"IF($G$50=\"\",\"\",$G$50)","v":""},null,"―",{"$f":"IF($E$50=\"\",\"\",$E$50)","v":""}]
[null,{"$f":"IF(ISERROR(VLOOKUP(CONCATENATE($B$12,\"_\",C24),選手名簿!$A:$E,5,FALSE))=TRUE,\"\",VLOOKUP(CONCATENATE($B$12,\"_\",C24),選手名簿!$A:$E,5,FALSE))","v":""},null,null,null,null,null,null,null,{"$f":"IF(ISERROR(VLOOKUP(CONCATENATE($J$12,\"_\",I24),選手名簿!$A:$E,5,FALSE))=TRUE,\"\",VLOOKUP(CONCATENATE($J$12,\"_\",I24),選手名簿!$A:$E,5,FALSE))","v":""},null,null,null,{"$f":"IF(ISERROR(VLOOKUP(CONCATENATE($N$12,\"_\",O24),選手名簿!$A:$E,5,FALSE))=TRUE,\"\",VLOOKUP(CONCATENATE($N$12,\"_\",O24),選手名簿!$A:$E,5,FALSE))","v":""},null,null,null,null,null,null,null,{"$f":"IF(ISERROR(VLOOKUP(CONCATENATE($V$12,\"_\",U24),選手名簿!$A:$E,5,FALSE))=TRUE,\"\",VLOOKUP(CONCATENATE($V$12,\"_\",U24),選手名簿!$A:$E,5,FALSE))","v":""},null,null,null,null,null,null,null,"得失点"]
[null,{"$f":"IF(ISERROR(VLOOKUP(CONCATENATE($B$12,\"_\",C25),選手名簿!$A:$E,5,FALSE))=TRUE,\"\",VLOOKUP(CONCATENATE($B$12,\"_\",C25),選手名簿!$A:$E,5,FALSE))","v":""},null,null,null,null,null,null,null,{"$f":"IF(ISERROR(VLOOKUP(CONCATENATE($J$12,\"_\",I25),選手名簿!$A:$E,5,FALSE))=TRUE,\"\",VLOOKUP(CONCATENATE($J$12,\"_\",I25),選手名簿!$A:$E,5,FALSE))","v":""},null,null,null,{"$f":"IF(ISERROR(VLOOKUP(CONCATENATE($N$12,\"_\",O25),選手名簿!$A:$E,5,FALSE))=TRUE,\"\",VLOOKUP(CONCATENATE($N$12,\"_\",O25),選手名簿!$A:$E,5,FALSE))","v":""},null,null,null,null,null,null,null,{"$f":"IF(ISERROR(VLOOKUP(CONCATENATE($V$12,\"_\",U25),選手名簿!$A:$E,5,FALSE))=TRUE,\"\",VLOOKUP(CONCATENATE($V$12,\"_\",U25),選手名簿!$A:$E,5,FALSE))","v":""},null,null,null,null,null,null,null,null,null,null,null,null,null,null,{"$f":"$C$12","v":0},null,"―",{"$f":"$I$12","v":2},null,{"$f":"$I$48","v":1},null,"―",{"$f":"$C$48","v":3}]
[null,{"$f":"IF(ISERROR(VLOOKUP(CONCATENATE($B$12,\"_\",C26),選手名簿!$A:$E,5,FALSE))=TRUE,\"\",VLOOKUP(CONCATENATE($B$12,\"_\",C26),選手名簿!$A:$E,5,FALSE))","v":""},null,null,null,null,null,null,null,{"$f":"IF(ISERROR(VLOOKUP(CONCATENATE($J$12,\"_\",I26),選手名簿!$A:$E,5,FALSE))=TRUE,\"\",VLOOKUP(CONCATENATE($J$12,\"_\",I26),選手名簿!$A:$E,5,FALSE))","v":""},null,null,null,{"$f":"IF(ISERROR(VLOOKUP(CONCATENATE($N$12,\"_\",O26),選手名簿!$A:$E,5,FALSE))=TRUE,\"\",VLOOKUP(CONCATENATE($N$12,\"_\",O26),選手名簿!$A:$E,5,FALSE))","v":""},null,null,null,null,null,null,null,{"$f":"IF(ISERROR(VLOOKUP(CONCATENATE($V$12,\"_\",U26),選手名簿!$A:$E,5,FALSE))=TRUE,\"\",VLOOKUP(CONCATENATE($V$12,\"_\",U26),選手名簿!$A:$E,5,FALSE))","v":""}]
[null,{"$f":"IF(ISERROR(VLOOKUP(CONCATENATE($B$12,\"_\",C27),選手名簿!$A:$E,5,FALSE))=TRUE,\"\",VLOOKUP(CONCATENATE($B$12,\"_\",C27),選手名簿!$A:$E,5,FALSE))","v":""},null,null,null,null,null,null,null,{"$f":"IF(ISERROR(VLOOKUP(CONCATENATE($J$12,\"_\",I27),選手名簿!$A:$E,5,FALSE))=TRUE,\"\",VLOOKUP(CONCATENATE($J$12,\"_\",I27),選手名簿!$A:$E,5,FALSE))","v":""},null,null,null,{"$f":"IF(ISERROR(VLOOKUP(CONCATENATE($N$12,\"_\",O27),選手名簿!$A:$E,5,FALSE))=TRUE,\"\",VLOOKUP(CONCATENATE($N$12,\"_\",O27),選手名簿!$A:$E,5,FALSE))","v":""},null,null,null,null,null,null,null,{"$f":"IF(ISERROR(VLOOKUP(CONCATENATE($V$12,\"_\",U27),選手名簿!$A:$E,5,FALSE))=TRUE,\"\",VLOOKUP(CONCATENATE($V$12,\"_\",U27),選手名簿!$A:$E,5,FALSE))","v":""},null,null,{"$f":"$AC$8","v":"スマイス　セレソン　スポーツクラブ"},null,null,null,null,"星取表",null,{"$f":"IF(AF31=\"\",\"\",IF(AF31>AI31,\"○\",IF(AF31<AI31,\"●\",IF(AF29>AI29,\"△\",IF(AF29<AI29,\"▲\")))))","v":"○"},null,null,null,null,null,null,null,null,null,{"$f":"IF(AP31=\"\",\"\",IF(AP31>AS31,\"○\",IF(AP31<AS31,\"●\",IF(AP29>AS29,\"△\",IF(AP29<AS29,\"▲\")))))","v":"●"},null,null,null,null,{"$f":"COUNTIF($AF$27:$AT$28,\"○\")","v":1},null,{"$f":"COUNTIF($AF$27:$AT$28,\"△\")","v":0},null,{"$f":"COUNTIF($AF$27:$AT$28,\"▲\")","v":0},null,{"$f":"COUNTIF($AF$27:$AT$28,\"●\")","v":1},null,{"$f":"SUM($AF$31,$AP$31)","v":2},null,{"$f":"SUM($AI$31,$AS$31)","v":4},null,{"$f":"($AU$27*3)+($AW$27*2)+($AY$27*1)","v":3},null,{"$f":"RANK($BG$27,$BG$21:$BH$38)","v":2},null,{"$f":"$BC$27-$BE$27","v":-2},null,{"$f":"RANK($BK$27,$BK$21:$BL$38)","v":2}]
[]
[null,null,null,null,null,null,null,null,null,null,null,null,null,null,null,null,null,null,null,null,null,null,null,null,null,null,null,null,null,null,null,{"$f":"AN23","v":""},null,"―",{"$f":"AK23","v":""},null,null,null,null,null,null,{"$f":"IF($E$32=\"\",\"\",$E$32)","v":""},null,"―",{"$f":"IF($G$32=\"\",\"\",$G$32)","v":""}]
["③\n12:00～",{"$f":"C8","v":"スマイス　セレソン　スポーツクラブ"},{"$f":"IF(E30=\"\",\"\",SUM(E30:E31))","v":0},"（",0,"前半",2,"）",{"$f":"IF(G30=\"\",\"\",SUM(G30:G31))","v":4},{"$f":"C9","v":"スマイス・セレソン"},null,null,"④\n13:00～",{"$f":"O8","v":"判田サッカースポーツ少年団"},{"$f":"IF(Q30=\"\",\"\",SUM(Q30:Q31))","v":2},"（",1,"前半",1,"）",{"$f":"IF(S30=\"\",\"\",SUM(S30:S31))","v":3},{"$f":"O9","v":"明野東サッカースポーツ少年団"},null,null,null,null,null,null,null,"得失点"]
[null,null,null,null,0,"後半",2,null,null,null,null,null,null,null,null,null,1,"後半",2,null,null,null,null,null,null,null,null,null,null,null,null,{"$f":"AN25","v":2},null,"―",{"$f":"AK25","v":0},null,null,null,null,null,null,{"$f":"$C$30","v":0},null,"―",{"$f":"$I$30","v":4}]
[null,null,null,null,null,"PK",null,null,null,null,null,null,null,null,null,null,null,"PK"]
["MC","松尾　章",null,null,null,null,"所属協会",null,null,"日田市サッカー協会",null,null,"MC","諌本　秀樹",null,null,null,null,"所属協会",null,null,"日田市サッカー協会",null,null,{"$f":"$AC$9","v":"スマイス・セレソン"},null,null,null,null,"星取表",null,{"$f":"IF(AF37=\"\",\"\",IF(AF37>AI37,\"○\",IF(AF37<AI37,\"●\",IF(AF35>AI35,\"△\",IF(AF35<AI35,\"▲\")))))","v":"○"},null,null,null,null,{"$f":"IF(AK37=\"\",\"\",IF(AK37>AN37,\"○\",IF(AK37<AN37,\"●\",IF(AK35>AN35,\"△\",IF(AK35<AN35,\"▲\")))))","v":"○"},null,null,null,null,null,null,null,null,null,{"$f":"COUNTIF($AF$33:$AT$34,\"○\")","v":2},null,{"$f":"COUNTIF($AF$33:$AT$34,\"△\")","v":0},null,{"$f":"COUNTIF($AF$33:$AT$34,\"▲\")","v":0},null,{"$f":"COUNTIF($AF$33:$AT$34,\"●\")","v":0},null,{"$f":"SUM($AF$37,$AK$37)","v":7},null,{"$f":"SUM($AI$37,$AN$37)","v":1},null,{"$f":"($AU$33*3)+($AW$33*2)+($AY$33*1)","v":6},null,{"$f":"RANK($BG$33,$BG$21:$BH$38)","v":1},null,{"$f":"$BC$33-$BE$33","v":6},null,{"$f":"RANK($BK$33,$BK$21:$BL$38)","v":1}]
["WelfareOfficer","松尾　章",null,null,null,null,"所属協会",null,null,"日田市サッカー協会",null,null,"WelfareOfficer","諌本　秀樹",null,null,null,null,"所属協会",null,null,"日田市サッカー協会"]
["記録","笠野　わかこ",null,null,null,null,"所属協会",null,null,"日田市サッカー協会",null,null,"記録","桑野　智",null,null,null,null,"所属協会",null,null,"日田市サッカー協会",null,null,null,null,null,null,null,null,null,{"$f":"AS23","v":""},null,"―",{"$f":"AP23","v":""},null,{"$f":"AS29","v":""},null,"―",{"$f":"AP29","v":""}]
["R:",{"$f":"IF(ISERROR(VLOOKUP(G36,審判員!$A:$C,2,FALSE))=TRUE,\"\",VLOOKUP(G36,審判員!$A:$C,2,FALSE))","v":"井上　健次郎"},{"$f":"IF(ISERROR(VLOOKUP(G36,審判員!$A:$C,3,FALSE))=TRUE,\"\",VLOOKUP(G36,審判員!$A:$C,3,FALSE))","v":3},"級","資格番号",null,"R006173919",null,null,"本部",null,null,"R:",{"$f":"IF(ISERROR(VLOOKUP(S36,審判員!$A:$C,2,FALSE))=TRUE,\"\",VLOOKUP(S36,審判員!$A:$C,2,FALSE))","v":"川井　勇介"},{"$f":"IF(ISERROR(VLOOKUP(S36,審判員!$A:$C,3,FALSE))=TRUE,\"\",VLOOKUP(S36,審判員!$A:$C,3,FALSE))","v":3},"級","資格番号",null,"R001255616",null,null,"本部",null,null,null,null,null,null,null,"得失点"]
["AR1:",{"$f":"IF(ISERROR(VLOOKUP(G37,審判員!$A:$C,2,FALSE))=TRUE,\"\",VLOOKUP(G37,審判員!$A:$C,2,FALSE))","v":"阿部　浩之"},{"$f":"IF(ISERROR(VLOOKUP(G37,審判員!$A:$C,3,FALSE))=TRUE,\"\",VLOOKUP(G37,審判員!$A:$C,3,FALSE))","v":3},"級","資格番号",null,"R001262209",null,null,{"$f":"N30","v":"判田サッカースポーツ少年団"},null,null,"AR1:",{"$f":"IF(ISERROR(VLOOKUP(S37,審判員!$A:$C,2,FALSE))=TRUE,\"\",VLOOKUP(S37,審判員!$A:$C,2,FALSE))","v":"マガリェンス　リシャルドソン"},{"$f":"IF(ISERROR(VLOOKUP(S37,審判員!$A:$C,3,FALSE))=TRUE,\"\",VLOOKUP(S37,審判員!$A:$C,3,FALSE))","v":3},"級","資格番号",null,"R001260557",null,null,{"$f":"B30","v":"スマイス　セレソン　スポーツクラブ"},null,null,null,null,null,null,null,null,null,{"$f":"AS25","v":3},null,"―",{"$f":"AP25","v":1},null,{"$f":"AS31","v":4},null,"―",{"$f":"AP31","v":0}]
["AR2:",{"$f":"IF(ISERROR(VLOOKUP(G38,審判員!$A:$C,2,FALSE))=TRUE,\"\",VLOOKUP(G38,審判員!$A:$C,2,FALSE))","v":"中上　聡志"},{"$f":"IF(ISERROR(VLOOKUP(G38,審判員!$A:$C,3,FALSE))=TRUE,\"\",VLOOKUP(G38,審判員!$A:$C,3,FALSE))","v":3},"級","資格番号",null,"R002530046",null,null,{"$f":"V30","v":"明野東サッカースポーツ少年団"},null,null,"AR2:",{"$f":"IF(ISERROR(VLOOKUP(S38,審判員!$A:$C,2,FALSE))=TRUE,\"\",VLOOKUP(S38,審判員!$A:$C,2,FALSE))","v":"信田　卓也"},{"$f":"IF(ISERROR(VLOOKUP(S38,審判員!$A:$C,3,FALSE))=TRUE,\"\",VLOOKUP(S38,審判員!$A:$C,3,FALSE))","v":3},"級","資格番号",null,"R004326535",null,null,{"$f":"J30","v":"スマイス・セレソン"}]
["4th:",{"$f":"IF(ISERROR(VLOOKUP(G39,審判員!$A:$C,2,FALSE))=TRUE,\"\",VLOOKUP(G39,審判員!$A:$C,2,FALSE))","v":"矢羽田　崇"},{"$f":"IF(ISERROR(VLOOKUP(G39,審判員!$A:$C,3,FALSE))=TRUE,\"\",VLOOKUP(G39,審判員!$A:$C,3,FALSE))","v":3},"級","資格番号",null,"R008537139",null,null,"本部",null,null,"4th:",{"$f":"IF(ISERROR(VLOOKUP(S39,審判員!$A:$C,2,FALSE))=TRUE,\"\",VLOOKUP(S39,審判員!$A:$C,2,FALSE))","v":"松原　マヤ"},{"$f":"IF(ISERROR(VLOOKUP(S39,審判員!$A:$C,3,FALSE))=TRUE,\"\",VLOOKUP(S39,審判員!$A:$C,3,FALSE))","v":2},"級","資格番号",null,"R001265552",null,null,"本部"]
["警告/退場","氏名","背番号","分","内容",null,"内容","分","背番号","氏名","警告/退場",null,"警告/退場","氏名","背番号","分","内容",null,"内容","分","背番号","氏名","警告/退場",null,"Ⅰ勝点（勝３点　ＰＫ勝２点　ＰＫ負１点　負０点）　Ⅱ当該チームの戦績　Ⅲ得失点差　Ⅳ多得点　Ⅴ抽選の順で順位を決定する。"]
["警告",{"$f":"IF(ISERROR(VLOOKUP(CONCATENATE($B$30,\"_\",C41),選手名簿!$A:$E,5,FALSE))=TRUE,\"\",VLOOKUP(CONCATENATE($B$30,\"_\",C41),選手名簿!$A:$E,5,FALSE))","v":"由利　倖大"},6,23,"反スポ",null,null,null,null,{"$f":"IF(ISERROR(VLOOKUP(CONCATENATE($J$30,\"_\",I41),選手名簿!$A:$E,5,FALSE))=TRUE,\"\",VLOOKUP(CONCATENATE($J$30,\"_\",I41),選手名簿!$A:$E,5,FALSE))","v":""},null,null,null,{"$f":"IF(ISERROR(VLOOKUP(CONCATENATE($N$30,\"_\",O41),選手名簿!$A:$E,5,FALSE))=TRUE,\"\",VLOOKUP(CONCATENATE($N$30,\"_\",O41),選手名簿!$A:$E,5,FALSE))","v":""},null,null,null,null,"反スポ",39,15,{"$f":"IF(ISERROR(VLOOKUP(CONCATENATE($V$30,\"_\",U41),選手名簿!$A:$E,5,FALSE))=TRUE,\"\",VLOOKUP(CONCATENATE($V$30,\"_\",U41),選手名簿!$A:$E,5,FALSE))","v":"岩坂　遥斗"},"警告"]
[null,{"$f":"IF(ISERROR(VLOOKUP(CONCATENATE($B$30,\"_\",C42),選手名簿!$A:$E,5,FALSE))=TRUE,\"\",VLOOKUP(CONCATENATE($B$30,\"_\",C42),選手名簿!$A:$E,5,FALSE))","v":""},null,null,null,null,null,null,null,{"$f":"IF(ISERROR(VLOOKUP(CONCATENATE($J$30,\"_\",I42),選手名簿!$A:$E,5,FALSE))=TRUE,\"\",VLOOKUP(CONCATENATE($J$30,\"_\",I42),選手名簿!$A:$E,5,FALSE))","v":""},null,null,null,{"$f":"IF(ISERROR(VLOOKUP(CONCATENATE($N$30,\"_\",O42),選手名簿!$A:$E,5,FALSE))=TRUE,\"\",VLOOKUP(CONCATENATE($N$30,\"_\",O42),選手名簿!$A:$E,5,FALSE))","v":""},null,null,null,null,null,null,null,{"$f":"IF(ISERROR(VLOOKUP(CONCATENATE($V$30,\"_\",U42),選手名簿!$A:$E,5,FALSE))=TRUE,\"\",VLOOKUP(CONCATENATE($V$30,\"_\",U42),選手名簿!$A:$E,5,FALSE))","v":""},null,null,"勝点表",null,"勝","○",null,"PK\n勝","△",null,"PK\n負","▲",null,"負","●"]
[null,{"$f":"IF(ISERROR(VLOOKUP(CONCATENATE($B$30,\"_\",C43),選手名簿!$A:$E,5,FALSE))=TRUE,\"\",VLOOKUP(CONCATENATE($B$30,\"_\",C43),選手名簿!$A:$E,5,FALSE))","v":""},null,null,null,null,null,null,null,{"$f":"IF(ISERROR(VLOOKUP(CONCATENATE($J$30,\"_\",I43),選手名簿!$A:$E,5,FALSE))=TRUE,\"\",VLOOKUP(CONCATENATE($J$30,\"_\",I43),選手名簿!$A:$E,5,FALSE))","v":""},null,null,null,{"$f":"IF(ISERROR(VLOOKUP(CONCATENATE($N$30,\"_\",O43),選手名簿!$A:$E,5,FALSE))=TRUE,\"\",VLOOKUP(CONCATENATE($N$30,\"_\",O43),選手名簿!$A:$E,5,FALSE))","v":""},null,null,null,null,null,null,null,{"$f":"IF(ISERROR(VLOOKUP(CONCATENATE($V$30,\"_\",U43),選手名簿!$A:$E,5,FALSE))=TRUE,\"\",VLOOKUP(CONCATENATE($V$30,\"_\",U43),選手名簿!$A:$E,5,FALSE))","v":""},null,null,null,null,null,3,null,null,2,null,null,1,null,null,0]
[null,{"$f":"IF(ISERROR(VLOOKUP(CONCATENATE($B$30,\"_\",C44),選手名簿!$A:$E,5,FALSE))=TRUE,\"\",VLOOKUP(CONCATENATE($B$30,\"_\",C44),選手名簿!$A:$E,5,FALSE))","v":""},null,null,null,null,null,null,null,{"$f":"IF(ISERROR(VLOOKUP(CONCATENATE($J$30,\"_\",I44),選手名簿!$A:$E,5,FALSE))=TRUE,\"\",VLOOKUP(CONCATENATE($J$30,\"_\",I44),選手名簿!$A:$E,5,FALSE))","v":""},null,null,null,{"$f":"IF(ISERROR(VLOOKUP(CONCATENATE($N$30,\"_\",O44),選手名簿!$A:$E,5,FALSE))=TRUE,\"\",VLOOKUP(CONCATENATE($N$30,\"_\",O44),選手名簿!$A:$E,5,FALSE))","v":""},null,null,null,null,null,null,null,{"$f":"IF(ISERROR(VLOOKUP(CONCATENATE($V$30,\"_\",U44),選手名簿!$A:$E,5,FALSE))=TRUE,\"\",VLOOKUP(CONCATENATE($V$30,\"_\",U44),選手名簿!$A:$E,5,FALSE))","v":""}]
[null,{"$f":"IF(ISERROR(VLOOKUP(CONCATENATE($B$30,\"_\",C45),選手名簿!$A:$E,5,FALSE))=TRUE,\"\",VLOOKUP(CONCATENATE($B$30,\"_\",C45),選手名簿!$A:$E,5,FALSE))","v":""},null,null,null,null,null,null,null,{"$f":"IF(ISERROR(VLOOKUP(CONCATENATE($J$30,\"_\",I45),選手名簿!$A:$E,5,FALSE))=TRUE,\"\",VLOOKUP(CONCATENATE($J$30,\"_\",I45),選手名簿!$A:$E,5,FALSE))","v":""},null,null,null,{"$f":"IF(ISERROR(VLOOKUP(CONCATENATE($N$30,\"_\",O45),選手名簿!$A:$E,5,FALSE))=TRUE,\"\",VLOOKUP(CONCATENATE($N$30,\"_\",O45),選手名簿!$A:$E,5,FALSE))","v":""},null,null,null,null,null,null,null,{"$f":"IF(ISERROR(VLOOKUP(CONCATENATE($V$30,\"_\",U45),選手名簿!$A:$E,5,FALSE))=TRUE,\"\",VLOOKUP(CONCATENATE($V$30,\"_\",U45),選手名簿!$A:$E,5,FALSE))","v":""}]
[]
[]
["⑤\n14:00～",{"$f":"C9","v":"スマイス・セレソン"},{"$f":"IF(E48=\"\",\"\",SUM(E48:E49))","v":3},"（",1,"前半",0,"）",{"$f":"IF(G48=\"\",\"\",SUM(G48:G49))","v":1},{"$f":"C7","v":"ＦＣアリアーレ"},null,null,"⑥\n15:00～",{"$f":"O9","v":"明野東サッカースポーツ少年団"},{"$f":"IF(Q48=\"\",\"\",SUM(Q48:Q49))","v":1},"（",0,"前半",2,"）",{"$f":"IF(S48=\"\",\"\",SUM(S48:S49))","v":3},{"$f":"O7","v":"太陽スポーツクラブ大分西"},null,null,{"$f":"$Y$1","v":"OFA 第 51 回大分県少年サッカー大会　兼　KYFA 九州U-12サッカー大会大分県大会"},null,null,null,null,null,null,null,null,null,null,null,null,null,null,null,null,null,null,null,null,null,null,null,null,null,null,null,null,null,null,null,null,null,null,null,{"$f":"$BI$1","v":"１次リーグ結果　報告用紙"}]
[null,null,null,null,2,"後半",1,null,null,null,null,null,null,null,null,null,1,"後半",1]
[null,null,null,null,null,"PK",null,null,null,null,null,null,null,null,null,null,null,"PK",null,null,null,null,null,null,"＜時間割＞　①10:00～　②11:00～　③12:00～　④13:00～　⑤14:00～　⑥15:00～"]
["MC","笠野　わかこ",null,null,null,null,"所属協会",null,null,"日田市サッカー協会",null,null,"MC","松尾　章",null,null,null,null,"所属協会",null,null,"日田市サッカー協会"]
["WelfareOfficer","笠野　わかこ",null,null,null,null,"所属協会",null,null,"日田市サッカー協会",null,null,"WelfareOfficer","松尾　章",null,null,null,null,"所属協会",null,null,"日田市サッカー協会"]
["記録","井上　健次郎",null,null,null,null,"所属協会",null,null,"日田市サッカー協会",null,null,"記録","笠野　わかこ",null,null,null,null,"所属協会",null,null,"日田市サッカー協会"]
["R:",{"$f":"IF(ISERROR(VLOOKUP(G54,審判員!$A:$C,2,FALSE))=TRUE,\"\",VLOOKUP(G54,審判員!$A:$C,2,FALSE))","v":"矢羽田　崇"},{"$f":"IF(ISERROR(VLOOKUP(G54,審判員!$A:$C,3,FALSE))=TRUE,\"\",VLOOKUP(G54,審判員!$A:$C,3,FALSE))","v":3},"級","資格番号",null,"R008537139",null,null,"本部",null,null,"R:",{"$f":"IF(ISERROR(VLOOKUP(S54,審判員!$A:$C,2,FALSE))=TRUE,\"\",VLOOKUP(S54,審判員!$A:$C,2,FALSE))","v":"諌本　秀樹"},{"$f":"IF(ISERROR(VLOOKUP(S54,審判員!$A:$C,3,FALSE))=TRUE,\"\",VLOOKUP(S54,審判員!$A:$C,3,FALSE))","v":2},"級","資格番号",null,"R001262333",null,null,"本部",null,null,"会場",null,null,{"$f":"$N$4","v":"日田"},null,null,null,null,null,"⇒",{"$f":"$P$4","v":"玖珠町総合運動公園"}]
["AR1:",{"$f":"IF(ISERROR(VLOOKUP(G55,審判員!$A:$C,2,FALSE))=TRUE,\"\",VLOOKUP(G55,審判員!$A:$C,2,FALSE))","v":"中上　聡志"},{"$f":"IF(ISERROR(VLOOKUP(G55,審判員!$A:$C,3,FALSE))=TRUE,\"\",VLOOKUP(G55,審判員!$A:$C,3,FALSE))","v":3},"級","資格番号",null,"R002530046",null,null,{"$f":"N48","v":"明野東サッカースポーツ少年団"},null,null,"AR1:",{"$f":"IF(ISERROR(VLOOKUP(S55,審判員!$A:$C,2,FALSE))=TRUE,\"\",VLOOKUP(S55,審判員!$A:$C,2,FALSE))","v":"信田　卓也"},{"$f":"IF(ISERROR(VLOOKUP(S55,審判員!$A:$C,3,FALSE))=TRUE,\"\",VLOOKUP(S55,審判員!$A:$C,3,FALSE))","v":3},"級","資格番号",null,"R004326535",null,null,{"$f":"B48","v":"スマイス・セレソン"}]
["AR2:",{"$f":"IF(ISERROR(VLOOKUP(G56,審判員!$A:$C,2,FALSE))=TRUE,\"\",VLOOKUP(G56,審判員!$A:$C,2,FALSE))","v":"池本　岬"},{"$f":"IF(ISERROR(VLOOKUP(G56,審判員!$A:$C,3,FALSE))=TRUE,\"\",VLOOKUP(G56,審判員!$A:$C,3,FALSE))","v":3},"級","資格番号",null,"R010301990",null,null,{"$f":"V48","v":"太陽スポーツクラブ大分西"},null,null,"AR2:",{"$f":"IF(ISERROR(VLOOKUP(S56,審判員!$A:$C,2,FALSE))=TRUE,\"\",VLOOKUP(S56,審判員!$A:$C,2,FALSE))","v":"川井　勇介"},{"$f":"IF(ISERROR(VLOOKUP(S56,審判員!$A:$C,3,FALSE))=TRUE,\"\",VLOOKUP(S56,審判員!$A:$C,3,FALSE))","v":3},"級","資格番号",null,"R001255616",null,null,{"$f":"J48","v":"ＦＣアリアーレ"}]
["4th:",{"$f":"IF(ISERROR(VLOOKUP(G57,審判員!$A:$C,2,FALSE))=TRUE,\"\",VLOOKUP(G57,審判員!$A:$C,2,FALSE))","v":"井上　健次郎"},{"$f":"IF(ISERROR(VLOOKUP(G57,審判員!$A:$C,3,FALSE))=TRUE,\"\",VLOOKUP(G57,審判員!$A:$C,3,FALSE))","v":3},"級","資格番号",null,"R006173919",null,null,"本部",null,null,"4th:",{"$f":"IF(ISERROR(VLOOKUP(S57,審判員!$A:$C,2,FALSE))=TRUE,\"\",VLOOKUP(S57,審判員!$A:$C,2,FALSE))","v":"松原　マヤ"},{"$f":"IF(ISERROR(VLOOKUP(S57,審判員!$A:$C,3,FALSE))=TRUE,\"\",VLOOKUP(S57,審判員!$A:$C,3,FALSE))","v":2},"級","資格番号",null,"R001265552",null,null,"本部"]
["警告/退場","氏名","背番号","分","内容",null,"内容","分","背番号","氏名","警告/退場",null,"警告/退場","氏名","背番号","分","内容",null,"内容","分","背番号","氏名","警告/退場",null,"パート",null,null,{"$f":"$N$6","v":"L"}]
[null,{"$f":"IF(ISERROR(VLOOKUP(CONCATENATE($B$48,\"_\",C59),選手名簿!$A:$E,5,FALSE))=TRUE,\"\",VLOOKUP(CONCATENATE($B$48,\"_\",C59),選手名簿!$A:$E,5,FALSE))","v":""},null,null,null,null,null,null,null,{"$f":"IF(ISERROR(VLOOKUP(CONCATENATE($J$48,\"_\",I59),選手名簿!$A:$E,5,FALSE))=TRUE,\"\",VLOOKUP(CONCATENATE($J$48,\"_\",I59),選手名簿!$A:$E,5,FALSE))","v":""},null,null,null,{"$f":"IF(ISERROR(VLOOKUP(CONCATENATE($N$48,\"_\",O59),選手名簿!$A:$E,5,FALSE))=TRUE,\"\",VLOOKUP(CONCATENATE($N$48,\"_\",O59),選手名簿!$A:$E,5,FALSE))","v":""},null,null,null,null,null,null,null,{"$f":"IF(ISERROR(VLOOKUP(CONCATENATE($V$48,\"_\",U59),選手名簿!$A:$E,5,FALSE))=TRUE,\"\",VLOOKUP(CONCATENATE($V$48,\"_\",U59),選手名簿!$A:$E,5,FALSE))","v":""}]
[null,{"$f":"IF(ISERROR(VLOOKUP(CONCATENATE($B$48,\"_\",C60),選手名簿!$A:$E,5,FALSE))=TRUE,\"\",VLOOKUP(CONCATENATE($B$48,\"_\",C60),選手名簿!$A:$E,5,FALSE))","v":""},null,null,null,null,null,null,null,{"$f":"IF(ISERROR(VLOOKUP(CONCATENATE($J$48,\"_\",I60),選手名簿!$A:$E,5,FALSE))=TRUE,\"\",VLOOKUP(CONCATENATE($J$48,\"_\",I60),選手名簿!$A:$E,5,FALSE))","v":""},null,null,null,{"$f":"IF(ISERROR(VLOOKUP(CONCATENATE($N$48,\"_\",O60),選手名簿!$A:$E,5,FALSE))=TRUE,\"\",VLOOKUP(CONCATENATE($N$48,\"_\",O60),選手名簿!$A:$E,5,FALSE))","v":""},null,null,null,null,null,null,null,{"$f":"IF(ISERROR(VLOOKUP(CONCATENATE($V$48,\"_\",U60),選手名簿!$A:$E,5,FALSE))=TRUE,\"\",VLOOKUP(CONCATENATE($V$48,\"_\",U60),選手名簿!$A:$E,5,FALSE))","v":""},null,null,null,{"$f":"$N$7","v":"L1"},null,null,{"$f":"$O$7","v":"太陽スポーツクラブ大分西"},null,null,null,null,null,null,null,null,null,null,null,null,{"$f":"$V$7","v":"日田"}]
[null,{"$f":"IF(ISERROR(VLOOKUP(CONCATENATE($B$48,\"_\",C61),選手名簿!$A:$E,5,FALSE))=TRUE,\"\",VLOOKUP(CONCATENATE($B$48,\"_\",C61),選手名簿!$A:$E,5,FALSE))","v":""},null,null,null,null,null,null,null,{"$f":"IF(ISERROR(VLOOKUP(CONCATENATE($J$48,\"_\",I61),選手名簿!$A:$E,5,FALSE))=TRUE,\"\",VLOOKUP(CONCATENATE($J$48,\"_\",I61),選手名簿!$A:$E,5,FALSE))","v":""},null,null,null,{"$f":"IF(ISERROR(VLOOKUP(CONCATENATE($N$48,\"_\",O61),選手名簿!$A:$E,5,FALSE))=TRUE,\"\",VLOOKUP(CONCATENATE($N$48,\"_\",O61),選手名簿!$A:$E,5,FALSE))","v":""},null,null,null,null,null,null,null,{"$f":"IF(ISERROR(VLOOKUP(CONCATENATE($V$48,\"_\",U61),選手名簿!$A:$E,5,FALSE))=TRUE,\"\",VLOOKUP(CONCATENATE($V$48,\"_\",U61),選手名簿!$A:$E,5,FALSE))","v":""}]
[null,{"$f":"IF(ISERROR(VLOOKUP(CONCATENATE($B$48,\"_\",C62),選手名簿!$A:$E,5,FALSE))=TRUE,\"\",VLOOKUP(CONCATENATE($B$48,\"_\",C62),選手名簿!$A:$E,5,FALSE))","v":""},null,null,null,null,null,null,null,{"$f":"IF(ISERROR(VLOOKUP(CONCATENATE($J$48,\"_\",I62),選手名簿!$A:$E,5,FALSE))=TRUE,\"\",VLOOKUP(CONCATENATE($J$48,\"_\",I62),選手名簿!$A:$E,5,FALSE))","v":""},null,null,null,{"$f":"IF(ISERROR(VLOOKUP(CONCATENATE($N$48,\"_\",O62),選手名簿!$A:$E,5,FALSE))=TRUE,\"\",VLOOKUP(CONCATENATE($N$48,\"_\",O62),選手名簿!$A:$E,5,FALSE))","v":""},null,null,null,null,null,null,null,{"$f":"IF(ISERROR(VLOOKUP(CONCATENATE($V$48,\"_\",U62),選手名簿!$A:$E,5,FALSE))=TRUE,\"\",VLOOKUP(CONCATENATE($V$48,\"_\",U62),選手名簿!$A:$E,5,FALSE))","v":""},null,null,null,{"$f":"$N$8","v":"L2"},null,null,{"$f":"$O$8","v":"判田サッカースポーツ少年団"},null,null,null,null,null,null,null,null,null,null,null,null,{"$f":"$V$8","v":"大分"}]
[null,{"$f":"IF(ISERROR(VLOOKUP(CONCATENATE($B$48,\"_\",C63),選手名簿!$A:$E,5,FALSE))=TRUE,\"\",VLOOKUP(CONCATENATE($B$48,\"_\",C63),選手名簿!$A:$E,5,FALSE))","v":""},null,null,null,null,null,null,null,{"$f":"IF(ISERROR(VLOOKUP(CONCATENATE($J$48,\"_\",I63),選手名簿!$A:$E,5,FALSE))=TRUE,\"\",VLOOKUP(CONCATENATE($J$48,\"_\",I63),選手名簿!$A:$E,5,FALSE))","v":""},null,null,null,{"$f":"IF(ISERROR(VLOOKUP(CONCATENATE($N$48,\"_\",O63),選手名簿!$A:$E,5,FALSE))=TRUE,\"\",VLOOKUP(CONCATENATE($N$48,\"_\",O63),選手名簿!$A:$E,5,FALSE))","v":""},null,null,null,null,null,null,null,{"$f":"IF(ISERROR(VLOOKUP(CONCATENATE($V$48,\"_\",U63),選手名簿!$A:$E,5,FALSE))=TRUE,\"\",VLOOKUP(CONCATENATE($V$48,\"_\",U63),選手名簿!$A:$E,5,FALSE))","v":""}]
[null,null,null,null,null,null,null,null,null,null,null,null,null,null,null,null,null,null,null,null,null,null,null,null,null,{"$f":"$N$9","v":"L3"},null,null,{"$f":"$O$9","v":"明野東サッカースポーツ少年団"},null,null,null,null,null,null,null,null,null,null,null,null,{"$f":"$V$9","v":"大分"}]
[]
[]
[]
[]
[]
[]
[]
[null,null,null,null,null,null,null,null,null,null,null,null,null,null,null,null,null,null,null,null,null,null,null,null,{"$f":"$Y$6","v":"パート"},null,null,null,{"$f":"$AB$58","v":"L"},null,null,{"$f":"$Y$78","v":"太陽スポーツクラブ大分西"},null,null,null,null,{"$f":"$Y$84","v":"判田サッカースポーツ少年団"},null,null,null,null,{"$f":"$Y$90","v":"明野東サッカースポーツ少年団"},null,null,null,null,"勝",null,"PK\n勝",null,"PK\n負",null,"負",null,"得点",null,"失点",null,"勝点",null,"勝点\n順位",null,"得失\n点差",null,"得失\n順位",null,"総\n順位"]
[]
[]
[]
[]
[]
[null,null,null,null,null,null,null,null,null,null,null,null,null,null,null,null,null,null,null,null,null,null,null,null,{"$f":"$AC$60","v":"太陽スポーツクラブ大分西"},null,null,null,null,"星取表",null,null,null,null,null,null,{"$f":"IF(AK82=\"\",\"\",IF(AK82>AN82,\"○\",IF(AK82<AN82,\"●\",IF(AK80>AN80,\"△\",IF(AK80<AN80,\"▲\")))))","v":"○"},null,null,null,null,{"$f":"IF(AP82=\"\",\"\",IF(AP82>AS82,\"○\",IF(AP82<AS82,\"●\",IF(AP80>AS80,\"△\",IF(AP80<AS80,\"▲\")))))","v":"○"},null,null,null,null,{"$f":"COUNTIF($AF$78:$AT$79,\"○\")","v":2},null,{"$f":"COUNTIF($AF$78:$AT$79,\"△\")","v":0},null,{"$f":"COUNTIF($AF$78:$AT$79,\"▲\")","v":0},null,{"$f":"COUNTIF($AF$78:$AT$79,\"●\")","v":0},null,{"$f":"SUM($AK$82,$AP$82)","v":8},null,{"$f":"SUM($AN$82,$AS$82)","v":1},null,{"$f":"($AU$78*3)+($AW$78*2)+($AY$78*1)","v":6},null,{"$f":"RANK($BG$78,$BG$78:$BH$95)","v":1},null,{"$f":"$BC$78-$BE$78","v":7},null,{"$f":"RANK($BK$78,$BK$78:$BL$95)","v":1}]
[]
[null,null,null,null,null,null,null,null,null,null,null,null,null,null,null,null,null,null,null,null,null,null,null,null,null,null,null,null,null,null,null,null,null,null,null,null,{"$f":"IF($Q$14=\"\",\"\",$Q$14)","v":""},null,"―",{"$f":"IF($S$14=\"\",\"\",$S$14)","v":""},null,{"$f":"IF($S$50=\"\",\"\",$S$50)","v":""},null,"―",{"$f":"IF($Q$50=\"\",\"\",$Q$50)","v":""}]
[null,null,null,null,null,null,null,null,null,null,null,null,null,null,null,null,null,null,null,null,null,null,null,null,null,null,null,null,null,"得失点"]
[null,null,null,null,null,null,null,null,null,null,null,null,null,null,null,null,null,null,null,null,null,null,null,null,null,null,null,null,null,null,null,null,null,null,null,null,{"$f":"$O$12","v":5},null,"―",{"$f":"$U$12","v":0},null,{"$f":"$U$48","v":3},null,"―",{"$f":"$O$48","v":1}]
[]
[null,null,null,null,null,null,null,null,null,null,null,null,null,null,null,null,null,null,null,null,null,null,null,null,{"$f":"$AC$62","v":"判田サッカースポーツ少年団"},null,null,null,null,"星取表",null,{"$f":"IF(AF88=\"\",\"\",IF(AF88>AI88,\"○\",IF(AF88<AI88,\"●\",IF(AF86>AI86,\"△\",IF(AF86<AI86,\"▲\")))))","v":"●"},null,null,null,null,null,null,null,null,null,{"$f":"IF(AP88=\"\",\"\",IF(AP88>AS88,\"○\",IF(AP88<AS88,\"●\",IF(AP86>AS86,\"△\",IF(AP86<AS86,\"▲\")))))","v":"●"},null,null,null,null,{"$f":"COUNTIF($AF$84:$AT$85,\"○\")","v":0},null,{"$f":"COUNTIF($AF$84:$AT$85,\"△\")","v":0},null,{"$f":"COUNTIF($AF$84:$AT$85,\"▲\")","v":0},null,{"$f":"COUNTIF($AF$84:$AT$85,\"●\")","v":2},null,{"$f":"SUM($AF$88,$AP$88)","v":2},null,{"$f":"SUM($AI$88,$AS$88)","v":8},null,{"$f":"($AU$84*3)+($AW$84*2)+($AY$84*1)","v":0},null,{"$f":"RANK($BG$84,$BG$78:$BH$95)","v":3},null,{"$f":"$BC$84-$BE$84","v":-6},null,{"$f":"RANK($BK$84,$BK$78:$BL$95)","v":3}]
[]
[null,null,null,null,null,null,null,null,null,null,null,null,null,null,null,null,null,null,null,null,null,null,null,null,null,null,null,null,null,null,null,{"$f":"AN80","v":""},null,"―",{"$f":"AK80","v":""},null,null,null,null,null,null,{"$f":"IF($Q$32=\"\",\"\",$Q$32)","v":""},null,"―",{"$f":"IF($S$32=\"\",\"\",$S$32)","v":""}]
[null,null,null,null,null,null,null,null,null,null,null,null,null,null,null,null,null,null,null,null,null,null,null,null,null,null,null,null,null,"得失点"]
[null,null,null,null,null,null,null,null,null,null,null,null,null,null,null,null,null,null,null,null,null,null,null,null,null,null,null,null,null,null,null,{"$f":"AN82","v":0},null,"―",{"$f":"AK82","v":5},null,null,null,null,null,null,{"$f":"$O$30","v":2},null,"―",{"$f":"$U$30","v":3}]
[]
[null,null,null,null,null,null,null,null,null,null,null,null,null,null,null,null,null,null,null,null,null,null,null,null,{"$f":"$AC$64","v":"明野東サッカースポーツ少年団"},null,null,null,null,"星取表",null,{"$f":"IF(AF94=\"\",\"\",IF(AF94>AI94,\"○\",IF(AF94<AI94,\"●\",IF(AF92>AI92,\"△\",IF(AF92<AI92,\"▲\")))))","v":"●"},null,null,null,null,{"$f":"IF(AK94=\"\",\"\",IF(AK94>AN94,\"○\",IF(AK94<AN94,\"●\",IF(AK92>AN92,\"△\",IF(AK92<AN92,\"▲\")))))","v":"○"},null,null,null,null,null,null,null,null,null,{"$f":"COUNTIF($AF$90:$AT$91,\"○\")","v":1},null,{"$f":"COUNTIF($AF$90:$AT$91,\"△\")","v":0},null,{"$f":"COUNTIF($AF$90:$AT$91,\"▲\")","v":0},null,{"$f":"COUNTIF($AF$90:$AT$91,\"●\")","v":1},null,{"$f":"SUM($AF$94,$AK$94)","v":4},null,{"$f":"SUM($AI$94,$AN$94)","v":5},null,{"$f":"($AU$90*3)+($AW$90*2)+($AY$90*1)","v":3},null,{"$f":"RANK($BG$90,$BG$78:$BH$95)","v":2},null,{"$f":"$BC$90-$BE$90","v":-1},null,{"$f":"RANK($BK$90,$BK$78:$BL$95)","v":2}]
[]
[null,null,null,null,null,null,null,null,null,null,null,null,null,null,null,null,null,null,null,null,null,null,null,null,null,null,null,null,null,null,null,{"$f":"AS80","v":""},null,"―",{"$f":"AP80","v":""},null,{"$f":"AS86","v":""},null,"―",{"$f":"AP86","v":""}]
[null,null,null,null,null,null,null,null,null,null,null,null,null,null,null,null,null,null,null,null,null,null,null,null,null,null,null,null,null,"得失点"]
[null,null,null,null,null,null,null,null,null,null,null,null,null,null,null,null,null,null,null,null,null,null,null,null,null,null,null,null,null,null,null,{"$f":"AS82","v":1},null,"―",{"$f":"AP82","v":3},null,{"$f":"AS88","v":3},null,"―",{"$f":"AP88","v":2}]
[]
[]
[null,null,null,null,null,null,null,null,null,null,null,null,null,null,null,null,null,null,null,null,null,null,null,null,"Ⅰ勝点（勝３点　ＰＫ勝２点　ＰＫ負１点　負０点）　Ⅱ当該チームの戦績　Ⅲ得失点差　Ⅳ多得点　Ⅴ抽選の順で順位を決定する。"]
[]
[null,null,null,null,null,null,null,null,null,null,null,null,null,null,null,null,null,null,null,null,null,null,null,null,"勝点表",null,"勝","○",null,"PK\n勝","△",null,"PK\n負","▲",null,"負","●"]
[null,null,null,null,null,null,null,null,null,null,null,null,null,null,null,null,null,null,null,null,null,null,null,null,null,null,null,3,null,null,2,null,null,1,null,null,0]

{"sheet":"１次リーグ（豊肥）","index":16,"n_rows":100,"n_cols":67,"rows_kept":100,"cut":false,"hidden":false,"merged":[[89,24,94,28],[89,29,91,30],[89,41,94,45],[89,46,94,47],[89,62,94,63],[92,29,94,30],[83,48,88,49],[96,24,97,57],[98,24,99,25],[98,26,99,26],[98,29,99,29],[98,32,99,32],[83,60,88,61],[83,50,88,51],[83,52,88,53],[83,54,88,55],[83,56,88,57],[89,60,94,61],[89,50,94,51],[89,52,94,53],[89,54,94,55],[89,56,94,57],[89,48,94,49],[89,31,90,35],[77,24,82,28],[77,29,79,30],[77,31,82,35],[77,46,82,47],[77,48,82,49],[77,58,82,59],[77,60,82,61],[77,62,82,63],[83,58,88,59],[80,29,82,30],[83,24,88,28],[83,29,85,30],[83,36,88,40],[83,31,84,35],[83,41,84,45],[87,34,88,35],[81,36,82,37],[81,38,82,38],[83,62,88,63],[86,29,88,30],[81,44,82,45],[79,38,80,38],[79,39,80,40],[79,41,80,42],[56,4,56,5],[56,6,56,8],[56,9,56,10],[56,16,56,17],[56,18,56,20],[56,21,56,22],[5,27,5,32],[53,24,54,26],[53,27,54,32],[39,24,40,57],[41,24,42,25],[41,26,42,26],[54,4,54,5],[54,6,54,8],[54,9,54,10],[54,16,54,17],[54,18,54,20],[54,21,54,22],[55,4,55,5],[55,6,55,8],[55,9,55,10],[55,16,55,17],[55,18,55,20],[55,21,55,22],[47,0,49,0],[47,1,49,1],[47,2,49,2],[47,3,49,3],[47,7,49,7],[47,8,49,8],[47,21,49,21],[47,12,49,12],[47,13,49,13],[47,14,49,14],[47,15,49,15],[47,19,49,19],[47,20,49,20],[37,6,37,8],[37,9,37,10],[37,16,37,17],[37,18,37,20],[37,21,37,22],[36,4,36,5],[36,6,36,8],[71,58,76,59],[59,25,60,27],[59,28,60,40],[38,4,38,5],[38,6,38,8],[38,9,38,10],[38,16,38,17],[38,18,38,20],[38,21,38,22],[59,41,60,44],[47,9,49,9],[71,24,76,27],[71,28,76,30],[71,31,76,35],[71,36,76,40],[53,4,53,5],[53,6,53,8],[41,29,42,29],[47,24,48,58],[41,35,42,35],[49,24,50,58],[77,56,82,57],[71,56,76,57],[29,0,31,0],[29,1,31,1],[29,2,31,2],[29,3,31,3],[29,7,31,7],[29,8,31,8],[35,21,35,22],[41,32,42,32],[36,9,36,10],[36,16,36,17],[35,4,35,5],[35,6,35,8],[35,9,35,10],[35,16,35,17],[36,18,36,20],[36,21,36,22],[37,4,37,5],[29,9,31,9],[29,12,31,12],[29,14,31,14],[29,19,31,19],[29,20,31,20],[35,18,35,20],[81,39,82,40],[81,41,82,42],[81,43,82,43],[53,9,53,10],[53,16,53,17],[53,18,53,20],[53,21,53,22],[53,33,54,33],[53,34,54,48],[57,24,58,26],[57,27,58,32],[61,25,62,27],[61,28,62,40],[61,41,62,44],[63,25,64,27],[63,28,64,40],[63,41,64,44],[71,41,76,45],[29,21,31,21],[29,13,31,13],[29,15,31,15],[32,58,37,59],[32,24,37,28],[32,29,34,30],[32,41,37,45],[32,46,37,47],[32,50,37,51],[32,52,37,53],[35,29,37,30],[32,48,37,49],[29,29,31,30],[28,31,29,32],[28,33,29,33],[28,34,29,35],[28,41,29,42],[28,43,29,43],[30,33,31,33],[30,43,31,43],[30,44,31,45],[32,31,33,35],[32,36,33,40],[36,36,37,37],[36,38,37,38],[77,64,82,65],[77,66,82,66],[79,36,80,37],[26,24,31,28],[26,29,28,30],[26,36,31,40],[26,46,31,47],[26,31,27,35],[26,41,27,45],[30,34,31,35],[30,41,31,42],[28,44,29,45],[30,31,31,32],[26,50,31,51],[26,52,31,53],[26,54,31,55],[26,56,31,57],[26,58,31,59],[26,60,31,61],[26,62,31,63],[26,64,31,65],[26,66,31,66],[79,43,80,43],[79,44,80,45],[20,9,20,10],[20,16,20,17],[20,18,20,20],[20,24,25,28],[20,29,22,30],[20,31,25,35],[20,46,25,47],[22,39,23,40],[22,41,23,42],[22,43,23,43],[22,44,23,45],[24,38,25,38],[24,39,25,40],[23,29,25,30],[14,24,19,27],[14,28,19,30],[14,31,19,35],[14,1,14,5],[14,6,14,8],[14,9,14,10],[15,1,15,5],[15,6,15,8],[15,9,15,10],[16,1,16,5],[16,6,16,8],[16,9,16,10],[14,13,14,17],[14,18,14,20],[14,21,14,22],[15,13,15,17],[15,18,15,20],[15,21,15,22],[18,4,18,5],[18,6,18,8],[18,9,18,10],[18,16,18,17],[18,18,18,20],[18,21,18,22],[8,2,8,8],[8,9,8,10],[8,14,8,20],[8,21,8,22],[8,25,8,27],[8,28,8,40],[8,41,8,44],[11,0,13,0],[11,1,13,1],[11,2,13,2],[11,3,13,3],[11,7,13,7],[11,8,13,8],[11,9,13,9],[11,12,13,12],[11,13,13,13],[11,14,13,14],[11,15,13,15],[11,19,13,19],[11,20,13,20],[11,21,13,21],[7,2,7,8],[7,9,7,10],[7,14,7,20],[7,21,7,22],[7,25,7,27],[7,28,7,40],[7,41,7,44],[6,2,6,8],[6,9,6,10],[6,14,6,20],[6,21,6,22],[6,25,6,27],[6,28,6,40],[3,3,3,10],[3,15,3,22],[3,24,3,26],[3,27,3,32],[3,34,3,48],[5,24,5,26],[6,41,6,44],[0,0,0,8],[0,12,0,20],[0,24,0,58],[0,60,0,66],[1,0,1,10],[1,12,1,22],[1,24,1,58],[0,9,0,10],[0,21,0,22],[98,35,99,35],[14,64,19,65],[14,66,19,66],[20,36,21,40],[20,41,21,45],[20,64,25,65],[20,66,25,66],[22,36,23,37],[22,38,23,38],[24,36,25,37],[14,36,19,40],[14,41,19,45],[14,46,19,47],[14,48,19,49],[14,50,19,51],[14,52,19,53],[14,54,19,55],[14,56,19,57],[14,58,19,59],[14,60,19,61],[14,62,19,63],[20,48,25,49],[20,50,25,51],[20,52,25,53],[24,41,25,42],[24,43,25,43],[24,44,25,45],[20,54,25,55],[20,56,25,57],[20,58,25,59],[20,60,25,61],[20,62,25,63],[32,66,37,66],[34,31,35,32],[34,33,35,33],[34,34,35,35],[34,36,35,37],[34,38,35,38],[34,39,35,40],[36,31,37,32],[36,33,37,33],[36,34,37,35],[32,54,37,55],[32,56,37,57],[32,60,37,61],[32,64,37,65],[87,31,88,32],[87,33,88,33],[83,46,88,47],[87,41,88,42],[87,43,88,43],[87,44,88,45],[36,39,37,40],[26,48,31,49],[32,62,37,63],[77,36,78,40],[77,41,78,45],[47,60,48,66],[77,50,82,51],[77,52,82,53],[77,54,82,55],[71,46,76,47],[71,48,76,49],[71,50,76,51],[71,52,76,53],[71,54,76,55],[71,60,76,61],[71,62,76,63],[71,64,76,65],[71,66,76,66],[89,36,90,40],[89,64,94,65],[93,36,94,37],[93,38,94,38],[93,39,94,40],[83,64,88,65],[89,58,94,59],[89,66,94,66],[91,31,92,32],[91,33,92,33],[91,34,92,35],[91,36,92,37],[91,38,92,38],[91,39,92,40],[93,31,94,32],[93,33,94,33],[93,34,94,35],[83,66,88,66],[85,31,86,32],[85,33,86,33],[85,34,86,35],[85,41,86,42],[85,43,86,43],[85,44,86,45],[50,1,50,5],[50,6,50,8],[50,9,50,10],[51,1,51,5],[51,6,51,8],[51,9,51,10],[52,1,52,5],[52,6,52,8],[52,9,52,10],[50,13,50,17],[50,18,50,20],[50,21,50,22],[51,13,51,17],[51,18,51,20],[51,21,51,22],[52,13,52,17],[52,18,52,20],[52,21,52,22],[34,1,34,5],[34,6,34,8],[34,9,34,10],[32,13,32,17],[32,18,32,20],[32,21,32,22],[33,13,33,17],[33,18,33,20],[33,21,33,22],[34,13,34,17],[34,18,34,20],[34,21,34,22],[16,13,16,17],[16,18,16,20],[16,21,16,22],[32,1,32,5],[32,6,32,8],[32,9,32,10],[33,1,33,5],[33,6,33,8],[33,9,33,10],[17,4,17,5],[17,6,17,8],[17,9,17,10],[17,16,17,17],[17,18,17,20],[17,21,17,22],[20,21,20,22],[19,4,19,5],[19,6,19,8],[19,9,19,10],[19,16,19,17],[19,18,19,20],[19,21,19,22],[20,4,20,5],[20,6,20,8]]}
[{"$f":"出場チーム!B1","v":"OFA 第 51 回大分県少年サッカー大会　兼　KYFA 九州U-12サッカー大会大分県大会"},null,null,null,null,null,null,null,null,"１次リーグ結果　報告用紙",null,null,{"$f":"出場チーム!B1","v":"OFA 第 51 回大分県少年サッカー大会　兼　KYFA 九州U-12サッカー大会大分県大会"},null,null,null,null,null,null,null,null,"１次リーグ結果　報告用紙",null,null,{"$f":"$A$1","v":"OFA 第 51 回大分県少年サッカー大会　兼　KYFA 九州U-12サッカー大会大分県大会"},null,null,null,null,null,null,null,null,null,null,null,null,null,null,null,null,null,null,null,null,null,null,null,null,null,null,null,null,null,null,null,null,null,null,null,{"$f":"$J$1","v":"１次リーグ結果　報告用紙"}]
["＜時間割＞　①10:00～　②11:00～　③12:00～　④13:00～　⑤14:00～　⑥15:00～",null,null,null,null,null,null,null,null,null,null,null,"＜時間割＞　①10:00～　②11:00～　③12:00～　④13:00～　⑤14:00～　⑥15:00～",null,null,null,null,null,null,null,null,null,null,null,"＜時間割＞　①10:00～　②11:00～　③12:00～　④13:00～　⑤14:00～　⑥15:00～"]
[]
["会場",{"$f":"組み合わせ!BF8","v":"豊肥"},"⇒",{"$f":"VLOOKUP(B4,出場チーム!$B$51:$F$59,2,FALSE)","v":"ｻﾝ・ｽﾎﾟｰﾂﾗﾝﾄﾞみえ"},null,null,null,null,null,null,null,null,"会場",{"$f":"組み合わせ!BF8","v":"豊肥"},"⇒",{"$f":"VLOOKUP(N4,出場チーム!$B$51:$F$59,2,FALSE)","v":"ｻﾝ・ｽﾎﾟｰﾂﾗﾝﾄﾞみえ"},null,null,null,null,null,null,null,null,"会場",null,null,{"$f":"$B$4","v":"豊肥"},null,null,null,null,null,"⇒",{"$f":"$D$4","v":"ｻﾝ・ｽﾎﾟｰﾂﾗﾝﾄﾞみえ"}]
[]
["パート",{"$f":"VLOOKUP(B4,組み合わせ!$AL$95:$BU$112,13,FALSE)","v":"A"},null,null,null,null,null,null,null,null,null,null,"パート",{"$f":"VLOOKUP(N4,組み合わせ!$AL$95:$BU$112,25,FALSE)","v":"J"},null,null,null,null,null,null,null,null,null,null,"パート",null,null,{"$f":"$B$6","v":"A"}]
[null,{"$f":"CONCATENATE($B$6,1)","v":"A1"},{"$f":"HLOOKUP(B7,組み合わせ!$B$48:$EO$86,2,FALSE)","v":"竹田直入ＦＣ"},null,null,null,null,null,null,{"$f":"HLOOKUP(B7,組み合わせ!$B$48:$EO$86,32,FALSE)","v":"豊肥"},null,null,null,{"$f":"CONCATENATE($N$6,1)","v":"J1"},{"$f":"HLOOKUP(N7,組み合わせ!$B$48:$EO$86,2,FALSE)","v":"別保ＳＦＣ"},null,null,null,null,null,null,{"$f":"HLOOKUP(N7,組み合わせ!$B$48:$EO$86,32,FALSE)","v":"大分"},null,null,null,{"$f":"+B7","v":"A1"},null,null,{"$f":"$C$7","v":"竹田直入ＦＣ"},null,null,null,null,null,null,null,null,null,null,null,null,{"$f":"$J$7","v":"豊肥"}]
[null,{"$f":"CONCATENATE($B$6,2)","v":"A2"},{"$f":"HLOOKUP(B8,組み合わせ!$B$48:$EO$86,2,FALSE)","v":"ドリームキッズフットボールクラブ"},null,null,null,null,null,null,{"$f":"HLOOKUP(B8,組み合わせ!$B$48:$EO$86,32,FALSE)","v":"大分"},null,null,null,{"$f":"CONCATENATE($N$6,2)","v":"J2"},{"$f":"HLOOKUP(N8,組み合わせ!$B$48:$EO$86,2,FALSE)","v":"明治サッカースポーツ少年団"},null,null,null,null,null,null,{"$f":"HLOOKUP(N8,組み合わせ!$B$48:$EO$86,32,FALSE)","v":"大分"},null,null,null,{"$f":"+B8","v":"A2"},null,null,{"$f":"$C$8","v":"ドリームキッズフットボールクラブ"},null,null,null,null,null,null,null,null,null,null,null,null,{"$f":"$J$8","v":"大分"}]
[null,{"$f":"CONCATENATE($B$6,3)","v":"A3"},{"$f":"HLOOKUP(B9,組み合わせ!$B$48:$EO$86,2,FALSE)","v":"八坂少年サッカークラブ"},null,null,null,null,null,null,{"$f":"HLOOKUP(B9,組み合わせ!$B$48:$EO$86,32,FALSE)","v":"速杵国東"},null,null,null,{"$f":"CONCATENATE($N$6,3)","v":"J3"},{"$f":"HLOOKUP(N9,組み合わせ!$B$48:$EO$86,2,FALSE)","v":"別府フットボールクラブ．ミネルバＵ－１２"},null,null,null,null,null,null,{"$f":"HLOOKUP(N9,組み合わせ!$B$48:$EO$86,32,FALSE)","v":"別府"},null,null,null,{"$f":"+B9","v":"A3"},null,null,{"$f":"$C$9","v":"八坂少年サッカークラブ"},null,null,null,null,null,null,null,null,null,null,null,null,{"$f":"$J$9","v":"速杵国東"}]
["8：50～ＭＣＭ",null,null,null,null,null,null,null,null,null,null,null,"9：50～ＭＣＭ"]
[]
["①\n10:00～",{"$f":"C7","v":"竹田直入ＦＣ"},{"$f":"IF(E12=\"\",\"\",SUM(E12:E13))","v":0},"（",0,"前半",2,"）",{"$f":"IF(G12=\"\",\"\",SUM(G12:G13))","v":4},{"$f":"C8","v":"ドリームキッズフットボールクラブ"},null,null,"②\n11:00～",{"$f":"O7","v":"別保ＳＦＣ"},{"$f":"IF(Q12=\"\",\"\",SUM(Q12:Q13))","v":3},"（",2,"前半",1,"）",{"$f":"IF(S12=\"\",\"\",SUM(S12:S13))","v":3},{"$f":"O8","v":"明治サッカースポーツ少年団"}]
[null,null,null,null,0,"後半",2,null,null,null,null,null,null,null,null,null,1,"後半",2]
[null,null,null,null,null,"PK",null,null,null,null,null,null,null,null,null,null,null,"PK"]
["MC","岡部　司",null,null,null,null,"所属協会",null,null,"(一社)大分県サッカー協会　ジュニア委員会",null,null,"MC","河野　千恵子",null,null,null,null,"所属協会",null,null,"(一社)大分県サッカー協会　ジュニア委員会",null,null,{"$f":"$Y$6","v":"パート"},null,null,null,{"$f":"$AB$6","v":"A"},null,null,{"$f":"$Y$21","v":"竹田直入ＦＣ"},null,null,null,null,{"$f":"$Y$27","v":"ドリームキッズフットボールクラブ"},null,null,null,null,{"$f":"$Y$33","v":"八坂少年サッカークラブ"},null,null,null,null,"勝",null,"PK\n勝",null,"PK\n負",null,"負",null,"得点",null,"失点",null,"勝点",null,"勝点\n順位",null,"得失\n点差",null,"得失\n順位",null,"総\n順位"]
["WelfareOfficer","岡部　司",null,null,null,null,"所属協会",null,null,"(一社)大分県サッカー協会　ジュニア委員会",null,null,"WelfareOfficer","河野　千恵子",null,null,null,null,"所属協会",null,null,"(一社)大分県サッカー協会　ジュニア委員会"]
["記録","麻生　直樹",null,null,null,null,"所属協会",null,null,"豊肥地区サッカー協会",null,null,"記録","安藤　幸治",null,null,null,null,"所属協会",null,null,"豊肥地区サッカー協会"]
["R:",{"$f":"IF(ISERROR(VLOOKUP(G18,審判員!$A:$C,2,FALSE))=TRUE,\"\",VLOOKUP(G18,審判員!$A:$C,2,FALSE))","v":"狭間　照央"},{"$f":"IF(ISERROR(VLOOKUP(G18,審判員!$A:$C,3,FALSE))=TRUE,\"\",VLOOKUP(G18,審判員!$A:$C,3,FALSE))","v":3},"級","資格番号",null,"R010027819",null,null,"本部",null,null,"R:",{"$f":"IF(ISERROR(VLOOKUP(S18,審判員!$A:$C,2,FALSE))=TRUE,\"\",VLOOKUP(S18,審判員!$A:$C,2,FALSE))","v":"矢野　三千生"},{"$f":"IF(ISERROR(VLOOKUP(S18,審判員!$A:$C,3,FALSE))=TRUE,\"\",VLOOKUP(S18,審判員!$A:$C,3,FALSE))","v":3},"級","資格番号",null,"R003972443",null,null,"本部"]
["AR1:",{"$f":"IF(ISERROR(VLOOKUP(G19,審判員!$A:$C,2,FALSE))=TRUE,\"\",VLOOKUP(G19,審判員!$A:$C,2,FALSE))","v":"小倉　正広"},{"$f":"IF(ISERROR(VLOOKUP(G19,審判員!$A:$C,3,FALSE))=TRUE,\"\",VLOOKUP(G19,審判員!$A:$C,3,FALSE))","v":3},"級","資格番号",null,"R003972355",null,null,{"$f":"N12","v":"別保ＳＦＣ"},null,null,"AR1:",{"$f":"IF(ISERROR(VLOOKUP(S19,審判員!$A:$C,2,FALSE))=TRUE,\"\",VLOOKUP(S19,審判員!$A:$C,2,FALSE))","v":"菊地　謙一"},{"$f":"IF(ISERROR(VLOOKUP(S19,審判員!$A:$C,3,FALSE))=TRUE,\"\",VLOOKUP(S19,審判員!$A:$C,3,FALSE))","v":3},"級","資格番号",null,"R003256053",null,null,{"$f":"B12","v":"竹田直入ＦＣ"}]
["AR2:",{"$f":"IF(ISERROR(VLOOKUP(G20,審判員!$A:$C,2,FALSE))=TRUE,\"\",VLOOKUP(G20,審判員!$A:$C,2,FALSE))","v":"宗岡　弦徳"},{"$f":"IF(ISERROR(VLOOKUP(G20,審判員!$A:$C,3,FALSE))=TRUE,\"\",VLOOKUP(G20,審判員!$A:$C,3,FALSE))","v":3},"級","資格番号",null,"R010001968",null,null,{"$f":"V12","v":"明治サッカースポーツ少年団"},null,null,"AR2:",{"$f":"IF(ISERROR(VLOOKUP(S20,審判員!$A:$C,2,FALSE))=TRUE,\"\",VLOOKUP(S20,審判員!$A:$C,2,FALSE))","v":"古畑　葵"},{"$f":"IF(ISERROR(VLOOKUP(S20,審判員!$A:$C,3,FALSE))=TRUE,\"\",VLOOKUP(S20,審判員!$A:$C,3,FALSE))","v":3},"級","資格番号",null,"R001264508",null,null,{"$f":"J12","v":"ドリームキッズフットボールクラブ"}]
["4th:",{"$f":"IF(ISERROR(VLOOKUP(G21,審判員!$A:$C,2,FALSE))=TRUE,\"\",VLOOKUP(G21,審判員!$A:$C,2,FALSE))","v":"日坂　仁哉"},{"$f":"IF(ISERROR(VLOOKUP(G21,審判員!$A:$C,3,FALSE))=TRUE,\"\",VLOOKUP(G21,審判員!$A:$C,3,FALSE))","v":4},"級","資格番号",null,"R010313751",null,null,"本部",null,null,"4th:",{"$f":"IF(ISERROR(VLOOKUP(S21,審判員!$A:$C,2,FALSE))=TRUE,\"\",VLOOKUP(S21,審判員!$A:$C,2,FALSE))","v":"後藤　真一"},{"$f":"IF(ISERROR(VLOOKUP(S21,審判員!$A:$C,3,FALSE))=TRUE,\"\",VLOOKUP(S21,審判員!$A:$C,3,FALSE))","v":4},"級","資格番号",null,"R003256044",null,null,"本部",null,null,{"$f":"$AC$7","v":"竹田直入ＦＣ"},null,null,null,null,"星取表",null,null,null,null,null,null,{"$f":"IF(AK25=\"\",\"\",IF(AK25>AN25,\"○\",IF(AK25<AN25,\"●\",IF(AK23>AN23,\"△\",IF(AK23<AN23,\"▲\")))))","v":"●"},null,null,null,null,{"$f":"IF(AP25=\"\",\"\",IF(AP25>AS25,\"○\",IF(AP25<AS25,\"●\",IF(AP23>AS23,\"△\",IF(AP23<AS23,\"▲\")))))","v":"○"},null,null,null,null,{"$f":"COUNTIF($AF$21:$AT$22,\"○\")","v":1},null,{"$f":"COUNTIF($AF$21:$AT$22,\"△\")","v":0},null,{"$f":"COUNTIF($AF$21:$AT$22,\"▲\")","v":0},null,{"$f":"COUNTIF($AF$21:$AT$22,\"●\")","v":1},null,{"$f":"SUM($AK$25,$AP$25)","v":1},null,{"$f":"SUM($AN$25,$AS$25)","v":4},null,{"$f":"($AU$21*3)+($AW$21*2)+($AY$21*1)","v":3},null,{"$f":"RANK($BG$21,$BG$21:$BH$38)","v":2},null,{"$f":"$BC$21-$BE$21","v":-3},null,{"$f":"RANK($BK$21,$BK$21:$BL$38)","v":2}]
["警告/退場","氏名","背番号","分","内容",null,"内容","分","背番号","氏名","警告/退場",null,"警告/退場","氏名","背番号","分","内容",null,"内容","分","背番号","氏名","警告/退場"]
[null,{"$f":"IF(ISERROR(VLOOKUP(CONCATENATE($B$12,\"_\",C23),選手名簿!$A:$E,5,FALSE))=TRUE,\"\",VLOOKUP(CONCATENATE($B$12,\"_\",C23),選手名簿!$A:$E,5,FALSE))","v":""},null,null,null,null,null,null,null,{"$f":"IF(ISERROR(VLOOKUP(CONCATENATE($J$12,\"_\",I23),選手名簿!$A:$E,5,FALSE))=TRUE,\"\",VLOOKUP(CONCATENATE($J$12,\"_\",I23),選手名簿!$A:$E,5,FALSE))","v":""},null,null,null,{"$f":"IF(ISERROR(VLOOKUP(CONCATENATE($N$12,\"_\",O23),選手名簿!$A:$E,5,FALSE))=TRUE,\"\",VLOOKUP(CONCATENATE($N$12,\"_\",O23),選手名簿!$A:$E,5,FALSE))","v":""},null,null,null,null,null,null,null,{"$f":"IF(ISERROR(VLOOKUP(CONCATENATE($V$12,\"_\",U23),選手名簿!$A:$E,5,FALSE))=TRUE,\"\",VLOOKUP(CONCATENATE($V$12,\"_\",U23),選手名簿!$A:$E,5,FALSE))","v":""},null,null,null,null,null,null,null,null,null,null,null,null,null,null,{"$f":"IF($E$14=\"\",\"\",$E$14)","v":""},null,"―",{"$f":"IF($G$14=\"\",\"\",$G$14)","v":""},null,{"$f":"IF($G$50=\"\",\"\",$G$50)","v":""},null,"―",{"$f":"IF($E$50=\"\",\"\",$E$50)","v":""}]
[null,{"$f":"IF(ISERROR(VLOOKUP(CONCATENATE($B$12,\"_\",C24),選手名簿!$A:$E,5,FALSE))=TRUE,\"\",VLOOKUP(CONCATENATE($B$12,\"_\",C24),選手名簿!$A:$E,5,FALSE))","v":""},null,null,null,null,null,null,null,{"$f":"IF(ISERROR(VLOOKUP(CONCATENATE($J$12,\"_\",I24),選手名簿!$A:$E,5,FALSE))=TRUE,\"\",VLOOKUP(CONCATENATE($J$12,\"_\",I24),選手名簿!$A:$E,5,FALSE))","v":""},null,null,null,{"$f":"IF(ISERROR(VLOOKUP(CONCATENATE($N$12,\"_\",O24),選手名簿!$A:$E,5,FALSE))=TRUE,\"\",VLOOKUP(CONCATENATE($N$12,\"_\",O24),選手名簿!$A:$E,5,FALSE))","v":""},null,null,null,null,null,null,null,{"$f":"IF(ISERROR(VLOOKUP(CONCATENATE($V$12,\"_\",U24),選手名簿!$A:$E,5,FALSE))=TRUE,\"\",VLOOKUP(CONCATENATE($V$12,\"_\",U24),選手名簿!$A:$E,5,FALSE))","v":""},null,null,null,null,null,null,null,"得失点"]
[null,{"$f":"IF(ISERROR(VLOOKUP(CONCATENATE($B$12,\"_\",C25),選手名簿!$A:$E,5,FALSE))=TRUE,\"\",VLOOKUP(CONCATENATE($B$12,\"_\",C25),選手名簿!$A:$E,5,FALSE))","v":""},null,null,null,null,null,null,null,{"$f":"IF(ISERROR(VLOOKUP(CONCATENATE($J$12,\"_\",I25),選手名簿!$A:$E,5,FALSE))=TRUE,\"\",VLOOKUP(CONCATENATE($J$12,\"_\",I25),選手名簿!$A:$E,5,FALSE))","v":""},null,null,null,{"$f":"IF(ISERROR(VLOOKUP(CONCATENATE($N$12,\"_\",O25),選手名簿!$A:$E,5,FALSE))=TRUE,\"\",VLOOKUP(CONCATENATE($N$12,\"_\",O25),選手名簿!$A:$E,5,FALSE))","v":""},null,null,null,null,null,null,null,{"$f":"IF(ISERROR(VLOOKUP(CONCATENATE($V$12,\"_\",U25),選手名簿!$A:$E,5,FALSE))=TRUE,\"\",VLOOKUP(CONCATENATE($V$12,\"_\",U25),選手名簿!$A:$E,5,FALSE))","v":""},null,null,null,null,null,null,null,null,null,null,null,null,null,null,{"$f":"$C$12","v":0},null,"―",{"$f":"$I$12","v":4},null,{"$f":"$I$48","v":1},null,"―",{"$f":"$C$48","v":0}]
[null,{"$f":"IF(ISERROR(VLOOKUP(CONCATENATE($B$12,\"_\",C26),選手名簿!$A:$E,5,FALSE))=TRUE,\"\",VLOOKUP(CONCATENATE($B$12,\"_\",C26),選手名簿!$A:$E,5,FALSE))","v":""},null,null,null,null,null,null,null,{"$f":"IF(ISERROR(VLOOKUP(CONCATENATE($J$12,\"_\",I26),選手名簿!$A:$E,5,FALSE))=TRUE,\"\",VLOOKUP(CONCATENATE($J$12,\"_\",I26),選手名簿!$A:$E,5,FALSE))","v":""},null,null,null,{"$f":"IF(ISERROR(VLOOKUP(CONCATENATE($N$12,\"_\",O26),選手名簿!$A:$E,5,FALSE))=TRUE,\"\",VLOOKUP(CONCATENATE($N$12,\"_\",O26),選手名簿!$A:$E,5,FALSE))","v":""},null,null,null,null,null,null,null,{"$f":"IF(ISERROR(VLOOKUP(CONCATENATE($V$12,\"_\",U26),選手名簿!$A:$E,5,FALSE))=TRUE,\"\",VLOOKUP(CONCATENATE($V$12,\"_\",U26),選手名簿!$A:$E,5,FALSE))","v":""}]
[null,{"$f":"IF(ISERROR(VLOOKUP(CONCATENATE($B$12,\"_\",C27),選手名簿!$A:$E,5,FALSE))=TRUE,\"\",VLOOKUP(CONCATENATE($B$12,\"_\",C27),選手名簿!$A:$E,5,FALSE))","v":""},null,null,null,null,null,null,null,{"$f":"IF(ISERROR(VLOOKUP(CONCATENATE($J$12,\"_\",I27),選手名簿!$A:$E,5,FALSE))=TRUE,\"\",VLOOKUP(CONCATENATE($J$12,\"_\",I27),選手名簿!$A:$E,5,FALSE))","v":""},null,null,null,{"$f":"IF(ISERROR(VLOOKUP(CONCATENATE($N$12,\"_\",O27),選手名簿!$A:$E,5,FALSE))=TRUE,\"\",VLOOKUP(CONCATENATE($N$12,\"_\",O27),選手名簿!$A:$E,5,FALSE))","v":""},null,null,null,null,null,null,null,{"$f":"IF(ISERROR(VLOOKUP(CONCATENATE($V$12,\"_\",U27),選手名簿!$A:$E,5,FALSE))=TRUE,\"\",VLOOKUP(CONCATENATE($V$12,\"_\",U27),選手名簿!$A:$E,5,FALSE))","v":""},null,null,{"$f":"$AC$8","v":"ドリームキッズフットボールクラブ"},null,null,null,null,"星取表",null,{"$f":"IF(AF31=\"\",\"\",IF(AF31>AI31,\"○\",IF(AF31<AI31,\"●\",IF(AF29>AI29,\"△\",IF(AF29<AI29,\"▲\")))))","v":"○"},null,null,null,null,null,null,null,null,null,{"$f":"IF(AP31=\"\",\"\",IF(AP31>AS31,\"○\",IF(AP31<AS31,\"●\",IF(AP29>AS29,\"△\",IF(AP29<AS29,\"▲\")))))","v":"○"},null,null,null,null,{"$f":"COUNTIF($AF$27:$AT$28,\"○\")","v":2},null,{"$f":"COUNTIF($AF$27:$AT$28,\"△\")","v":0},null,{"$f":"COUNTIF($AF$27:$AT$28,\"▲\")","v":0},null,{"$f":"COUNTIF($AF$27:$AT$28,\"●\")","v":0},null,{"$f":"SUM($AF$31,$AP$31)","v":7},null,{"$f":"SUM($AI$31,$AS$31)","v":0},null,{"$f":"($AU$27*3)+($AW$27*2)+($AY$27*1)","v":6},null,{"$f":"RANK($BG$27,$BG$21:$BH$38)","v":1},null,{"$f":"$BC$27-$BE$27","v":7},null,{"$f":"RANK($BK$27,$BK$21:$BL$38)","v":1}]
[]
[null,null,null,null,null,null,null,null,null,null,null,null,null,null,null,null,null,null,null,null,null,null,null,null,null,null,null,null,null,null,null,{"$f":"AN23","v":""},null,"―",{"$f":"AK23","v":""},null,null,null,null,null,null,{"$f":"IF($E$32=\"\",\"\",$E$32)","v":""},null,"―",{"$f":"IF($G$32=\"\",\"\",$G$32)","v":""}]
["③\n12:00～",{"$f":"C8","v":"ドリームキッズフットボールクラブ"},{"$f":"IF(E30=\"\",\"\",SUM(E30:E31))","v":3},"（",3,"前半",0,"）",{"$f":"IF(G30=\"\",\"\",SUM(G30:G31))","v":0},{"$f":"C9","v":"八坂少年サッカークラブ"},null,null,"④\n13:00～",{"$f":"O8","v":"明治サッカースポーツ少年団"},{"$f":"IF(Q30=\"\",\"\",SUM(Q30:Q31))","v":0},"（",0,"前半",3,"）",{"$f":"IF(S30=\"\",\"\",SUM(S30:S31))","v":6},{"$f":"O9","v":"別府フットボールクラブ．ミネルバＵ－１２"},null,null,null,null,null,null,null,"得失点"]
[null,null,null,null,0,"後半",0,null,null,null,null,null,null,null,null,null,0,"後半",3,null,null,null,null,null,null,null,null,null,null,null,null,{"$f":"AN25","v":4},null,"―",{"$f":"AK25","v":0},null,null,null,null,null,null,{"$f":"$C$30","v":3},null,"―",{"$f":"$I$30","v":0}]
[null,null,null,null,null,"PK",null,null,null,null,null,null,null,null,null,null,null,"PK"]
["MC","岡部　司",null,null,null,null,"所属協会",null,null,"(一社)大分県サッカー協会　ジュニア委員会",null,null,"MC","仲野　昭博",null,null,null,null,"所属協会",null,null,"(一社)大分県サッカー協会　ジュニア委員会",null,null,{"$f":"$AC$9","v":"八坂少年サッカークラブ"},null,null,null,null,"星取表",null,{"$f":"IF(AF37=\"\",\"\",IF(AF37>AI37,\"○\",IF(AF37<AI37,\"●\",IF(AF35>AI35,\"△\",IF(AF35<AI35,\"▲\")))))","v":"●"},null,null,null,null,{"$f":"IF(AK37=\"\",\"\",IF(AK37>AN37,\"○\",IF(AK37<AN37,\"●\",IF(AK35>AN35,\"△\",IF(AK35<AN35,\"▲\")))))","v":"●"},null,null,null,null,null,null,null,null,null,{"$f":"COUNTIF($AF$33:$AT$34,\"○\")","v":0},null,{"$f":"COUNTIF($AF$33:$AT$34,\"△\")","v":0},null,{"$f":"COUNTIF($AF$33:$AT$34,\"▲\")","v":0},null,{"$f":"COUNTIF($AF$33:$AT$34,\"●\")","v":2},null,{"$f":"SUM($AF$37,$AK$37)","v":0},null,{"$f":"SUM($AI$37,$AN$37)","v":4},null,{"$f":"($AU$33*3)+($AW$33*2)+($AY$33*1)","v":0},null,{"$f":"RANK($BG$33,$BG$21:$BH$38)","v":3},null,{"$f":"$BC$33-$BE$33","v":-4},null,{"$f":"RANK($BK$33,$BK$21:$BL$38)","v":3}]
["WelfareOfficer","岡部　司",null,null,null,null,"所属協会",null,null,"(一社)大分県サッカー協会　ジュニア委員会",null,null,"WelfareOfficer","仲野　昭博",null,null,null,null,"所属協会",null,null,"(一社)大分県サッカー協会　ジュニア委員会"]
["記録","麻生　直樹",null,null,null,null,"所属協会",null,null,"豊肥地区サッカー協会",null,null,"記録","安藤　幸治",null,null,null,null,"所属協会",null,null,"豊肥地区サッカー協会",null,null,null,null,null,null,null,null,null,{"$f":"AS23","v":""},null,"―",{"$f":"AP23","v":""},null,{"$f":"AS29","v":""},null,"―",{"$f":"AP29","v":""}]
["R:",{"$f":"IF(ISERROR(VLOOKUP(G36,審判員!$A:$C,2,FALSE))=TRUE,\"\",VLOOKUP(G36,審判員!$A:$C,2,FALSE))","v":"佐藤　昭生"},{"$f":"IF(ISERROR(VLOOKUP(G36,審判員!$A:$C,3,FALSE))=TRUE,\"\",VLOOKUP(G36,審判員!$A:$C,3,FALSE))","v":3},"級","資格番号",null,"R001263448",null,null,"本部",null,null,"R:",{"$f":"IF(ISERROR(VLOOKUP(S36,審判員!$A:$C,2,FALSE))=TRUE,\"\",VLOOKUP(S36,審判員!$A:$C,2,FALSE))","v":"羽田野　亘"},{"$f":"IF(ISERROR(VLOOKUP(S36,審判員!$A:$C,3,FALSE))=TRUE,\"\",VLOOKUP(S36,審判員!$A:$C,3,FALSE))","v":3},"級","資格番号",null,"R001264304",null,null,"本部",null,null,null,null,null,null,null,"得失点"]
["AR1:",{"$f":"IF(ISERROR(VLOOKUP(G37,審判員!$A:$C,2,FALSE))=TRUE,\"\",VLOOKUP(G37,審判員!$A:$C,2,FALSE))","v":"宗岡　弦徳"},{"$f":"IF(ISERROR(VLOOKUP(G37,審判員!$A:$C,3,FALSE))=TRUE,\"\",VLOOKUP(G37,審判員!$A:$C,3,FALSE))","v":3},"級","資格番号",null,"R010001968",null,null,{"$f":"N30","v":"明治サッカースポーツ少年団"},null,null,"AR1:",{"$f":"IF(ISERROR(VLOOKUP(S37,審判員!$A:$C,2,FALSE))=TRUE,\"\",VLOOKUP(S37,審判員!$A:$C,2,FALSE))","v":"古畑　葵"},{"$f":"IF(ISERROR(VLOOKUP(S37,審判員!$A:$C,3,FALSE))=TRUE,\"\",VLOOKUP(S37,審判員!$A:$C,3,FALSE))","v":3},"級","資格番号",null,"R001264508",null,null,{"$f":"B30","v":"ドリームキッズフットボールクラブ"},null,null,null,null,null,null,null,null,null,{"$f":"AS25","v":0},null,"―",{"$f":"AP25","v":1},null,{"$f":"AS31","v":0},null,"―",{"$f":"AP31","v":3}]
["AR2:",{"$f":"IF(ISERROR(VLOOKUP(G38,審判員!$A:$C,2,FALSE))=TRUE,\"\",VLOOKUP(G38,審判員!$A:$C,2,FALSE))","v":"永路　尚道"},{"$f":"IF(ISERROR(VLOOKUP(G38,審判員!$A:$C,3,FALSE))=TRUE,\"\",VLOOKUP(G38,審判員!$A:$C,3,FALSE))","v":3},"級","資格番号",null,"R003421161",null,null,{"$f":"V30","v":"別府フットボールクラブ．ミネルバＵ－１２"},null,null,"AR2:",{"$f":"IF(ISERROR(VLOOKUP(S38,審判員!$A:$C,2,FALSE))=TRUE,\"\",VLOOKUP(S38,審判員!$A:$C,2,FALSE))","v":"藤原　佑史朗"},{"$f":"IF(ISERROR(VLOOKUP(S38,審判員!$A:$C,3,FALSE))=TRUE,\"\",VLOOKUP(S38,審判員!$A:$C,3,FALSE))","v":3},"級","資格番号",null,"R010027860",null,null,{"$f":"J30","v":"八坂少年サッカークラブ"}]
["4th:",{"$f":"IF(ISERROR(VLOOKUP(G39,審判員!$A:$C,2,FALSE))=TRUE,\"\",VLOOKUP(G39,審判員!$A:$C,2,FALSE))","v":"日坂　仁哉"},{"$f":"IF(ISERROR(VLOOKUP(G39,審判員!$A:$C,3,FALSE))=TRUE,\"\",VLOOKUP(G39,審判員!$A:$C,3,FALSE))","v":4},"級","資格番号",null,"R010313751",null,null,"本部",null,null,"4th:",{"$f":"IF(ISERROR(VLOOKUP(S39,審判員!$A:$C,2,FALSE))=TRUE,\"\",VLOOKUP(S39,審判員!$A:$C,2,FALSE))","v":"後藤　真一"},{"$f":"IF(ISERROR(VLOOKUP(S39,審判員!$A:$C,3,FALSE))=TRUE,\"\",VLOOKUP(S39,審判員!$A:$C,3,FALSE))","v":4},"級","資格番号",null,"R003256044",null,null,"本部"]
["警告/退場","氏名","背番号","分","内容",null,"内容","分","背番号","氏名","警告/退場",null,"警告/退場","氏名","背番号","分","内容",null,"内容","分","背番号","氏名","警告/退場",null,"Ⅰ勝点（勝３点　ＰＫ勝２点　ＰＫ負１点　負０点）　Ⅱ当該チームの戦績　Ⅲ得失点差　Ⅳ多得点　Ⅴ抽選の順で順位を決定する。"]
["警告",{"$f":"IF(ISERROR(VLOOKUP(CONCATENATE($B$30,\"_\",C41),選手名簿!$A:$E,5,FALSE))=TRUE,\"\",VLOOKUP(CONCATENATE($B$30,\"_\",C41),選手名簿!$A:$E,5,FALSE))","v":"山下　紫凰"},11,37,"反スポ",null,null,null,null,{"$f":"IF(ISERROR(VLOOKUP(CONCATENATE($J$30,\"_\",I41),選手名簿!$A:$E,5,FALSE))=TRUE,\"\",VLOOKUP(CONCATENATE($J$30,\"_\",I41),選手名簿!$A:$E,5,FALSE))","v":""},null,null,null,{"$f":"IF(ISERROR(VLOOKUP(CONCATENATE($N$30,\"_\",O41),選手名簿!$A:$E,5,FALSE))=TRUE,\"\",VLOOKUP(CONCATENATE($N$30,\"_\",O41),選手名簿!$A:$E,5,FALSE))","v":""},null,null,null,null,null,null,null,{"$f":"IF(ISERROR(VLOOKUP(CONCATENATE($V$30,\"_\",U41),選手名簿!$A:$E,5,FALSE))=TRUE,\"\",VLOOKUP(CONCATENATE($V$30,\"_\",U41),選手名簿!$A:$E,5,FALSE))","v":""}]
[null,{"$f":"IF(ISERROR(VLOOKUP(CONCATENATE($B$30,\"_\",C42),選手名簿!$A:$E,5,FALSE))=TRUE,\"\",VLOOKUP(CONCATENATE($B$30,\"_\",C42),選手名簿!$A:$E,5,FALSE))","v":""},null,null,null,null,null,null,null,{"$f":"IF(ISERROR(VLOOKUP(CONCATENATE($J$30,\"_\",I42),選手名簿!$A:$E,5,FALSE))=TRUE,\"\",VLOOKUP(CONCATENATE($J$30,\"_\",I42),選手名簿!$A:$E,5,FALSE))","v":""},null,null,null,{"$f":"IF(ISERROR(VLOOKUP(CONCATENATE($N$30,\"_\",O42),選手名簿!$A:$E,5,FALSE))=TRUE,\"\",VLOOKUP(CONCATENATE($N$30,\"_\",O42),選手名簿!$A:$E,5,FALSE))","v":""},null,null,null,null,null,null,null,{"$f":"IF(ISERROR(VLOOKUP(CONCATENATE($V$30,\"_\",U42),選手名簿!$A:$E,5,FALSE))=TRUE,\"\",VLOOKUP(CONCATENATE($V$30,\"_\",U42),選手名簿!$A:$E,5,FALSE))","v":""},null,null,"勝点表",null,"勝","○",null,"PK\n勝","△",null,"PK\n負","▲",null,"負","●"]
[null,{"$f":"IF(ISERROR(VLOOKUP(CONCATENATE($B$30,\"_\",C43),選手名簿!$A:$E,5,FALSE))=TRUE,\"\",VLOOKUP(CONCATENATE($B$30,\"_\",C43),選手名簿!$A:$E,5,FALSE))","v":""},null,null,null,null,null,null,null,{"$f":"IF(ISERROR(VLOOKUP(CONCATENATE($J$30,\"_\",I43),選手名簿!$A:$E,5,FALSE))=TRUE,\"\",VLOOKUP(CONCATENATE($J$30,\"_\",I43),選手名簿!$A:$E,5,FALSE))","v":""},null,null,null,{"$f":"IF(ISERROR(VLOOKUP(CONCATENATE($N$30,\"_\",O43),選手名簿!$A:$E,5,FALSE))=TRUE,\"\",VLOOKUP(CONCATENATE($N$30,\"_\",O43),選手名簿!$A:$E,5,FALSE))","v":""},null,null,null,null,null,null,null,{"$f":"IF(ISERROR(VLOOKUP(CONCATENATE($V$30,\"_\",U43),選手名簿!$A:$E,5,FALSE))=TRUE,\"\",VLOOKUP(CONCATENATE($V$30,\"_\",U43),選手名簿!$A:$E,5,FALSE))","v":""},null,null,null,null,null,3,null,null,2,null,null,1,null,null,0]
[null,{"$f":"IF(ISERROR(VLOOKUP(CONCATENATE($B$30,\"_\",C44),選手名簿!$A:$E,5,FALSE))=TRUE,\"\",VLOOKUP(CONCATENATE($B$30,\"_\",C44),選手名簿!$A:$E,5,FALSE))","v":""},null,null,null,null,null,null,null,{"$f":"IF(ISERROR(VLOOKUP(CONCATENATE($J$30,\"_\",I44),選手名簿!$A:$E,5,FALSE))=TRUE,\"\",VLOOKUP(CONCATENATE($J$30,\"_\",I44),選手名簿!$A:$E,5,FALSE))","v":""},null,null,null,{"$f":"IF(ISERROR(VLOOKUP(CONCATENATE($N$30,\"_\",O44),選手名簿!$A:$E,5,FALSE))=TRUE,\"\",VLOOKUP(CONCATENATE($N$30,\"_\",O44),選手名簿!$A:$E,5,FALSE))","v":""},null,null,null,null,null,null,null,{"$f":"IF(ISERROR(VLOOKUP(CONCATENATE($V$30,\"_\",U44),選手名簿!$A:$E,5,FALSE))=TRUE,\"\",VLOOKUP(CONCATENATE($V$30,\"_\",U44),選手名簿!$A:$E,5,FALSE))","v":""}]
[null,{"$f":"IF(ISERROR(VLOOKUP(CONCATENATE($B$30,\"_\",C45),選手名簿!$A:$E,5,FALSE))=TRUE,\"\",VLOOKUP(CONCATENATE($B$30,\"_\",C45),選手名簿!$A:$E,5,FALSE))","v":""},null,null,null,null,null,null,null,{"$f":"IF(ISERROR(VLOOKUP(CONCATENATE($J$30,\"_\",I45),選手名簿!$A:$E,5,FALSE))=TRUE,\"\",VLOOKUP(CONCATENATE($J$30,\"_\",I45),選手名簿!$A:$E,5,FALSE))","v":""},null,null,null,{"$f":"IF(ISERROR(VLOOKUP(CONCATENATE($N$30,\"_\",O45),選手名簿!$A:$E,5,FALSE))=TRUE,\"\",VLOOKUP(CONCATENATE($N$30,\"_\",O45),選手名簿!$A:$E,5,FALSE))","v":""},null,null,null,null,null,null,null,{"$f":"IF(ISERROR(VLOOKUP(CONCATENATE($V$30,\"_\",U45),選手名簿!$A:$E,5,FALSE))=TRUE,\"\",VLOOKUP(CONCATENATE($V$30,\"_\",U45),選手名簿!$A:$E,5,FALSE))","v":""}]
[]
[]
["⑤\n14:00～",{"$f":"C9","v":"八坂少年サッカークラブ"},{"$f":"IF(E48=\"\",\"\",SUM(E48:E49))","v":0},"（",0,"前半",0,"）",{"$f":"IF(G48=\"\",\"\",SUM(G48:G49))","v":1},{"$f":"C7","v":"竹田直入ＦＣ"},null,null,"⑥\n15:00～",{"$f":"O9","v":"別府フットボールクラブ．ミネルバＵ－１２"},{"$f":"IF(Q48=\"\",\"\",SUM(Q48:Q49))","v":3},"（",3,"前半",0,"）",{"$f":"IF(S48=\"\",\"\",SUM(S48:S49))","v":0},{"$f":"O7","v":"別保ＳＦＣ"},null,null,{"$f":"$Y$1","v":"OFA 第 51 回大分県少年サッカー大会　兼　KYFA 九州U-12サッカー大会大分県大会"},null,null,null,null,null,null,null,null,null,null,null,null,null,null,null,null,null,null,null,null,null,null,null,null,null,null,null,null,null,null,null,null,null,null,null,{"$f":"$BI$1","v":"１次リーグ結果　報告用紙"}]
[null,null,null,null,0,"後半",1,null,null,null,null,null,null,null,null,null,0,"後半",0]
[null,null,null,null,null,"PK",null,null,null,null,null,null,null,null,null,null,null,"PK",null,null,null,null,null,null,"＜時間割＞　①10:00～　②11:00～　③12:00～　④13:00～　⑤14:00～　⑥15:00～"]
["MC","河野　千恵子",null,null,null,null,"所属協会",null,null,"(一社)大分県サッカー協会　ジュニア委員会",null,null,"MC","仲野　昭博",null,null,null,null,"所属協会",null,null,"(一社)大分県サッカー協会　ジュニア委員会"]
["WelfareOfficer","河野　千恵子",null,null,null,null,"所属協会",null,null,"(一社)大分県サッカー協会　ジュニア委員会",null,null,"WelfareOfficer","仲野　昭博",null,null,null,null,"所属協会",null,null,"(一社)大分県サッカー協会　ジュニア委員会"]
["記録","麻生　直樹",null,null,null,null,"所属協会",null,null,"豊肥地区サッカー協会",null,null,"記録","安藤　幸治",null,null,null,null,"所属協会",null,null,"豊肥地区サッカー協会"]
["R:",{"$f":"IF(ISERROR(VLOOKUP(G54,審判員!$A:$C,2,FALSE))=TRUE,\"\",VLOOKUP(G54,審判員!$A:$C,2,FALSE))","v":"狭間　照央"},{"$f":"IF(ISERROR(VLOOKUP(G54,審判員!$A:$C,3,FALSE))=TRUE,\"\",VLOOKUP(G54,審判員!$A:$C,3,FALSE))","v":3},"級","資格番号",null,"R010027819",null,null,"本部",null,null,"R:",{"$f":"IF(ISERROR(VLOOKUP(S54,審判員!$A:$C,2,FALSE))=TRUE,\"\",VLOOKUP(S54,審判員!$A:$C,2,FALSE))","v":"羽田野　亘"},{"$f":"IF(ISERROR(VLOOKUP(S54,審判員!$A:$C,3,FALSE))=TRUE,\"\",VLOOKUP(S54,審判員!$A:$C,3,FALSE))","v":3},"級","資格番号",null,"R001264304",null,null,"本部",null,null,"会場",null,null,{"$f":"$N$4","v":"豊肥"},null,null,null,null,null,"⇒",{"$f":"$P$4","v":"ｻﾝ・ｽﾎﾟｰﾂﾗﾝﾄﾞみえ"}]
["AR1:",{"$f":"IF(ISERROR(VLOOKUP(G55,審判員!$A:$C,2,FALSE))=TRUE,\"\",VLOOKUP(G55,審判員!$A:$C,2,FALSE))","v":"久保山　守"},{"$f":"IF(ISERROR(VLOOKUP(G55,審判員!$A:$C,3,FALSE))=TRUE,\"\",VLOOKUP(G55,審判員!$A:$C,3,FALSE))","v":3},"級","資格番号",null,"R001256314",null,null,{"$f":"N48","v":"別府フットボールクラブ．ミネルバＵ－１２"},null,null,"AR1:",{"$f":"IF(ISERROR(VLOOKUP(S55,審判員!$A:$C,2,FALSE))=TRUE,\"\",VLOOKUP(S55,審判員!$A:$C,2,FALSE))","v":"藤原　佑史朗"},{"$f":"IF(ISERROR(VLOOKUP(S55,審判員!$A:$C,3,FALSE))=TRUE,\"\",VLOOKUP(S55,審判員!$A:$C,3,FALSE))","v":3},"級","資格番号",null,"R010027860",null,null,{"$f":"B48","v":"八坂少年サッカークラブ"}]
["AR2:",{"$f":"IF(ISERROR(VLOOKUP(G56,審判員!$A:$C,2,FALSE))=TRUE,\"\",VLOOKUP(G56,審判員!$A:$C,2,FALSE))","v":"小倉　正広"},{"$f":"IF(ISERROR(VLOOKUP(G56,審判員!$A:$C,3,FALSE))=TRUE,\"\",VLOOKUP(G56,審判員!$A:$C,3,FALSE))","v":3},"級","資格番号",null,"R003972355",null,null,{"$f":"V48","v":"別保ＳＦＣ"},null,null,"AR2:",{"$f":"IF(ISERROR(VLOOKUP(S56,審判員!$A:$C,2,FALSE))=TRUE,\"\",VLOOKUP(S56,審判員!$A:$C,2,FALSE))","v":"矢野　三千生"},{"$f":"IF(ISERROR(VLOOKUP(S56,審判員!$A:$C,3,FALSE))=TRUE,\"\",VLOOKUP(S56,審判員!$A:$C,3,FALSE))","v":3},"級","資格番号",null,"R003972443",null,null,{"$f":"J48","v":"竹田直入ＦＣ"}]
["4th:",{"$f":"IF(ISERROR(VLOOKUP(G57,審判員!$A:$C,2,FALSE))=TRUE,\"\",VLOOKUP(G57,審判員!$A:$C,2,FALSE))","v":"日坂　仁哉"},{"$f":"IF(ISERROR(VLOOKUP(G57,審判員!$A:$C,3,FALSE))=TRUE,\"\",VLOOKUP(G57,審判員!$A:$C,3,FALSE))","v":4},"級","資格番号",null,"R010313751",null,null,"本部",null,null,"4th:",{"$f":"IF(ISERROR(VLOOKUP(S57,審判員!$A:$C,2,FALSE))=TRUE,\"\",VLOOKUP(S57,審判員!$A:$C,2,FALSE))","v":"後藤　真一"},{"$f":"IF(ISERROR(VLOOKUP(S57,審判員!$A:$C,3,FALSE))=TRUE,\"\",VLOOKUP(S57,審判員!$A:$C,3,FALSE))","v":4},"級","資格番号",null,"R003256044",null,null,"本部"]
["警告/退場","氏名","背番号","分","内容",null,"内容","分","背番号","氏名","警告/退場",null,"警告/退場","氏名","背番号","分","内容",null,"内容","分","背番号","氏名","警告/退場",null,"パート",null,null,{"$f":"$N$6","v":"J"}]
[null,{"$f":"IF(ISERROR(VLOOKUP(CONCATENATE($B$48,\"_\",C59),選手名簿!$A:$E,5,FALSE))=TRUE,\"\",VLOOKUP(CONCATENATE($B$48,\"_\",C59),選手名簿!$A:$E,5,FALSE))","v":""},null,null,null,null,null,null,null,{"$f":"IF(ISERROR(VLOOKUP(CONCATENATE($J$48,\"_\",I59),選手名簿!$A:$E,5,FALSE))=TRUE,\"\",VLOOKUP(CONCATENATE($J$48,\"_\",I59),選手名簿!$A:$E,5,FALSE))","v":""},null,null,"警告",{"$f":"IF(ISERROR(VLOOKUP(CONCATENATE($N$48,\"_\",O59),選手名簿!$A:$E,5,FALSE))=TRUE,\"\",VLOOKUP(CONCATENATE($N$48,\"_\",O59),選手名簿!$A:$E,5,FALSE))","v":"大野　弥生"},1,40,"反スポ",null,null,null,null,{"$f":"IF(ISERROR(VLOOKUP(CONCATENATE($V$48,\"_\",U59),選手名簿!$A:$E,5,FALSE))=TRUE,\"\",VLOOKUP(CONCATENATE($V$48,\"_\",U59),選手名簿!$A:$E,5,FALSE))","v":""}]
[null,{"$f":"IF(ISERROR(VLOOKUP(CONCATENATE($B$48,\"_\",C60),選手名簿!$A:$E,5,FALSE))=TRUE,\"\",VLOOKUP(CONCATENATE($B$48,\"_\",C60),選手名簿!$A:$E,5,FALSE))","v":""},null,null,null,null,null,null,null,{"$f":"IF(ISERROR(VLOOKUP(CONCATENATE($J$48,\"_\",I60),選手名簿!$A:$E,5,FALSE))=TRUE,\"\",VLOOKUP(CONCATENATE($J$48,\"_\",I60),選手名簿!$A:$E,5,FALSE))","v":""},null,null,null,{"$f":"IF(ISERROR(VLOOKUP(CONCATENATE($N$48,\"_\",O60),選手名簿!$A:$E,5,FALSE))=TRUE,\"\",VLOOKUP(CONCATENATE($N$48,\"_\",O60),選手名簿!$A:$E,5,FALSE))","v":""},null,null,null,null,null,null,null,{"$f":"IF(ISERROR(VLOOKUP(CONCATENATE($V$48,\"_\",U60),選手名簿!$A:$E,5,FALSE))=TRUE,\"\",VLOOKUP(CONCATENATE($V$48,\"_\",U60),選手名簿!$A:$E,5,FALSE))","v":""},null,null,null,{"$f":"$N$7","v":"J1"},null,null,{"$f":"$O$7","v":"別保ＳＦＣ"},null,null,null,null,null,null,null,null,null,null,null,null,{"$f":"$V$7","v":"大分"}]
[null,{"$f":"IF(ISERROR(VLOOKUP(CONCATENATE($B$48,\"_\",C61),選手名簿!$A:$E,5,FALSE))=TRUE,\"\",VLOOKUP(CONCATENATE($B$48,\"_\",C61),選手名簿!$A:$E,5,FALSE))","v":""},null,null,null,null,null,null,null,{"$f":"IF(ISERROR(VLOOKUP(CONCATENATE($J$48,\"_\",I61),選手名簿!$A:$E,5,FALSE))=TRUE,\"\",VLOOKUP(CONCATENATE($J$48,\"_\",I61),選手名簿!$A:$E,5,FALSE))","v":""},null,null,null,{"$f":"IF(ISERROR(VLOOKUP(CONCATENATE($N$48,\"_\",O61),選手名簿!$A:$E,5,FALSE))=TRUE,\"\",VLOOKUP(CONCATENATE($N$48,\"_\",O61),選手名簿!$A:$E,5,FALSE))","v":""},null,null,null,null,null,null,null,{"$f":"IF(ISERROR(VLOOKUP(CONCATENATE($V$48,\"_\",U61),選手名簿!$A:$E,5,FALSE))=TRUE,\"\",VLOOKUP(CONCATENATE($V$48,\"_\",U61),選手名簿!$A:$E,5,FALSE))","v":""}]
[null,{"$f":"IF(ISERROR(VLOOKUP(CONCATENATE($B$48,\"_\",C62),選手名簿!$A:$E,5,FALSE))=TRUE,\"\",VLOOKUP(CONCATENATE($B$48,\"_\",C62),選手名簿!$A:$E,5,FALSE))","v":""},null,null,null,null,null,null,null,{"$f":"IF(ISERROR(VLOOKUP(CONCATENATE($J$48,\"_\",I62),選手名簿!$A:$E,5,FALSE))=TRUE,\"\",VLOOKUP(CONCATENATE($J$48,\"_\",I62),選手名簿!$A:$E,5,FALSE))","v":""},null,null,null,{"$f":"IF(ISERROR(VLOOKUP(CONCATENATE($N$48,\"_\",O62),選手名簿!$A:$E,5,FALSE))=TRUE,\"\",VLOOKUP(CONCATENATE($N$48,\"_\",O62),選手名簿!$A:$E,5,FALSE))","v":""},null,null,null,null,null,null,null,{"$f":"IF(ISERROR(VLOOKUP(CONCATENATE($V$48,\"_\",U62),選手名簿!$A:$E,5,FALSE))=TRUE,\"\",VLOOKUP(CONCATENATE($V$48,\"_\",U62),選手名簿!$A:$E,5,FALSE))","v":""},null,null,null,{"$f":"$N$8","v":"J2"},null,null,{"$f":"$O$8","v":"明治サッカースポーツ少年団"},null,null,null,null,null,null,null,null,null,null,null,null,{"$f":"$V$8","v":"大分"}]
[null,{"$f":"IF(ISERROR(VLOOKUP(CONCATENATE($B$48,\"_\",C63),選手名簿!$A:$E,5,FALSE))=TRUE,\"\",VLOOKUP(CONCATENATE($B$48,\"_\",C63),選手名簿!$A:$E,5,FALSE))","v":""},null,null,null,null,null,null,null,{"$f":"IF(ISERROR(VLOOKUP(CONCATENATE($J$48,\"_\",I63),選手名簿!$A:$E,5,FALSE))=TRUE,\"\",VLOOKUP(CONCATENATE($J$48,\"_\",I63),選手名簿!$A:$E,5,FALSE))","v":""},null,null,null,{"$f":"IF(ISERROR(VLOOKUP(CONCATENATE($N$48,\"_\",O63),選手名簿!$A:$E,5,FALSE))=TRUE,\"\",VLOOKUP(CONCATENATE($N$48,\"_\",O63),選手名簿!$A:$E,5,FALSE))","v":""},null,null,null,null,null,null,null,{"$f":"IF(ISERROR(VLOOKUP(CONCATENATE($V$48,\"_\",U63),選手名簿!$A:$E,5,FALSE))=TRUE,\"\",VLOOKUP(CONCATENATE($V$48,\"_\",U63),選手名簿!$A:$E,5,FALSE))","v":""}]
[null,null,null,null,null,null,null,null,null,null,null,null,null,null,null,null,null,null,null,null,null,null,null,null,null,{"$f":"$N$9","v":"J3"},null,null,{"$f":"$O$9","v":"別府フットボールクラブ．ミネルバＵ－１２"},null,null,null,null,null,null,null,null,null,null,null,null,{"$f":"$V$9","v":"別府"}]
[]
[]
[]
[]
[]
[]
[]
[null,null,null,null,null,null,null,null,null,null,null,null,null,null,null,null,null,null,null,null,null,null,null,null,{"$f":"$Y$6","v":"パート"},null,null,null,{"$f":"$AB$58","v":"J"},null,null,{"$f":"$Y$78","v":"別保ＳＦＣ"},null,null,null,null,{"$f":"$Y$84","v":"明治サッカースポーツ少年団"},null,null,null,null,{"$f":"$Y$90","v":"別府フットボールクラブ．ミネルバＵ－１２"},null,null,null,null,"勝",null,"PK\n勝",null,"PK\n負",null,"負",null,"得点",null,"失点",null,"勝点",null,"勝点\n順位",null,"得失\n点差",null,"得失\n順位",null,"総\n順位"]
[]
[]
[]
[]
[]
[null,null,null,null,null,null,null,null,null,null,null,null,null,null,null,null,null,null,null,null,null,null,null,null,{"$f":"$AC$60","v":"別保ＳＦＣ"},null,null,null,null,"星取表",null,null,null,null,null,null,{"$f":"IF(AK82=\"\",\"\",IF(AK82>AN82,\"○\",IF(AK82<AN82,\"●\",IF(AK80>AN80,\"△\",IF(AK80<AN80,\"▲\")))))","v":false},null,null,null,null,{"$f":"IF(AP82=\"\",\"\",IF(AP82>AS82,\"○\",IF(AP82<AS82,\"●\",IF(AP80>AS80,\"△\",IF(AP80<AS80,\"▲\")))))","v":"●"},null,null,null,null,{"$f":"COUNTIF($AF$78:$AT$79,\"○\")","v":0},null,{"$f":"COUNTIF($AF$78:$AT$79,\"△\")","v":0},null,{"$f":"COUNTIF($AF$78:$AT$79,\"▲\")","v":0},null,{"$f":"COUNTIF($AF$78:$AT$79,\"●\")","v":1},null,{"$f":"SUM($AK$82,$AP$82)","v":3},null,{"$f":"SUM($AN$82,$AS$82)","v":6},null,{"$f":"($AU$78*3)+($AW$78*2)+($AY$78*1)","v":0},null,{"$f":"RANK($BG$78,$BG$78:$BH$95)","v":2},null,{"$f":"$BC$78-$BE$78","v":-3},null,{"$f":"RANK($BK$78,$BK$78:$BL$95)","v":2}]
[]
[null,null,null,null,null,null,null,null,null,null,null,null,null,null,null,null,null,null,null,null,null,null,null,null,null,null,null,null,null,null,null,null,null,null,null,null,{"$f":"IF($Q$14=\"\",\"\",$Q$14)","v":""},null,"―",{"$f":"IF($S$14=\"\",\"\",$S$14)","v":""},null,{"$f":"IF($S$50=\"\",\"\",$S$50)","v":""},null,"―",{"$f":"IF($Q$50=\"\",\"\",$Q$50)","v":""}]
[null,null,null,null,null,null,null,null,null,null,null,null,null,null,null,null,null,null,null,null,null,null,null,null,null,null,null,null,null,"得失点"]
[null,null,null,null,null,null,null,null,null,null,null,null,null,null,null,null,null,null,null,null,null,null,null,null,null,null,null,null,null,null,null,null,null,null,null,null,{"$f":"$O$12","v":3},null,"―",{"$f":"$U$12","v":3},null,{"$f":"$U$48","v":0},null,"―",{"$f":"$O$48","v":3}]
[]
[null,null,null,null,null,null,null,null,null,null,null,null,null,null,null,null,null,null,null,null,null,null,null,null,{"$f":"$AC$62","v":"明治サッカースポーツ少年団"},null,null,null,null,"星取表",null,{"$f":"IF(AF88=\"\",\"\",IF(AF88>AI88,\"○\",IF(AF88<AI88,\"●\",IF(AF86>AI86,\"△\",IF(AF86<AI86,\"▲\")))))","v":false},null,null,null,null,null,null,null,null,null,{"$f":"IF(AP88=\"\",\"\",IF(AP88>AS88,\"○\",IF(AP88<AS88,\"●\",IF(AP86>AS86,\"△\",IF(AP86<AS86,\"▲\")))))","v":"●"},null,null,null,null,{"$f":"COUNTIF($AF$84:$AT$85,\"○\")","v":0},null,{"$f":"COUNTIF($AF$84:$AT$85,\"△\")","v":0},null,{"$f":"COUNTIF($AF$84:$AT$85,\"▲\")","v":0},null,{"$f":"COUNTIF($AF$84:$AT$85,\"●\")","v":1},null,{"$f":"SUM($AF$88,$AP$88)","v":3},null,{"$f":"SUM($AI$88,$AS$88)","v":9},null,{"$f":"($AU$84*3)+($AW$84*2)+($AY$84*1)","v":0},null,{"$f":"RANK($BG$84,$BG$78:$BH$95)","v":2},null,{"$f":"$BC$84-$BE$84","v":-6},null,{"$f":"RANK($BK$84,$BK$78:$BL$95)","v":3}]
[]
[null,null,null,null,null,null,null,null,null,null,null,null,null,null,null,null,null,null,null,null,null,null,null,null,null,null,null,null,null,null,null,{"$f":"AN80","v":""},null,"―",{"$f":"AK80","v":""},null,null,null,null,null,null,{"$f":"IF($Q$32=\"\",\"\",$Q$32)","v":""},null,"―",{"$f":"IF($S$32=\"\",\"\",$S$32)","v":""}]
[null,null,null,null,null,null,null,null,null,null,null,null,null,null,null,null,null,null,null,null,null,null,null,null,null,null,null,null,null,"得失点"]
[null,null,null,null,null,null,null,null,null,null,null,null,null,null,null,null,null,null,null,null,null,null,null,null,null,null,null,null,null,null,null,{"$f":"AN82","v":3},null,"―",{"$f":"AK82","v":3},null,null,null,null,null,null,{"$f":"$O$30","v":0},null,"―",{"$f":"$U$30","v":6}]
[]
[null,null,null,null,null,null,null,null,null,null,null,null,null,null,null,null,null,null,null,null,null,null,null,null,{"$f":"$AC$64","v":"別府フットボールクラブ．ミネルバＵ－１２"},null,null,null,null,"星取表",null,{"$f":"IF(AF94=\"\",\"\",IF(AF94>AI94,\"○\",IF(AF94<AI94,\"●\",IF(AF92>AI92,\"△\",IF(AF92<AI92,\"▲\")))))","v":"○"},null,null,null,null,{"$f":"IF(AK94=\"\",\"\",IF(AK94>AN94,\"○\",IF(AK94<AN94,\"●\",IF(AK92>AN92,\"△\",IF(AK92<AN92,\"▲\")))))","v":"○"},null,null,null,null,null,null,null,null,null,{"$f":"COUNTIF($AF$90:$AT$91,\"○\")","v":2},null,{"$f":"COUNTIF($AF$90:$AT$91,\"△\")","v":0},null,{"$f":"COUNTIF($AF$90:$AT$91,\"▲\")","v":0},null,{"$f":"COUNTIF($AF$90:$AT$91,\"●\")","v":0},null,{"$f":"SUM($AF$94,$AK$94)","v":9},null,{"$f":"SUM($AI$94,$AN$94)","v":0},null,{"$f":"($AU$90*3)+($AW$90*2)+($AY$90*1)","v":6},null,{"$f":"RANK($BG$90,$BG$78:$BH$95)","v":1},null,{"$f":"$BC$90-$BE$90","v":9},null,{"$f":"RANK($BK$90,$BK$78:$BL$95)","v":1}]
[]
[null,null,null,null,null,null,null,null,null,null,null,null,null,null,null,null,null,null,null,null,null,null,null,null,null,null,null,null,null,null,null,{"$f":"AS80","v":""},null,"―",{"$f":"AP80","v":""},null,{"$f":"AS86","v":""},null,"―",{"$f":"AP86","v":""}]
[null,null,null,null,null,null,null,null,null,null,null,null,null,null,null,null,null,null,null,null,null,null,null,null,null,null,null,null,null,"得失点"]
[null,null,null,null,null,null,null,null,null,null,null,null,null,null,null,null,null,null,null,null,null,null,null,null,null,null,null,null,null,null,null,{"$f":"AS82","v":3},null,"―",{"$f":"AP82","v":0},null,{"$f":"AS88","v":6},null,"―",{"$f":"AP88","v":0}]
[]
[]
[null,null,null,null,null,null,null,null,null,null,null,null,null,null,null,null,null,null,null,null,null,null,null,null,"Ⅰ勝点（勝３点　ＰＫ勝２点　ＰＫ負１点　負０点）　Ⅱ当該チームの戦績　Ⅲ得失点差　Ⅳ多得点　Ⅴ抽選の順で順位を決定する。"]
[]
[null,null,null,null,null,null,null,null,null,null,null,null,null,null,null,null,null,null,null,null,null,null,null,null,"勝点表",null,"勝","○",null,"PK\n勝","△",null,"PK\n負","▲",null,"負","●"]
[null,null,null,null,null,null,null,null,null,null,null,null,null,null,null,null,null,null,null,null,null,null,null,null,null,null,null,3,null,null,2,null,null,1,null,null,0]

{"sheet":"１次リーグ（中津）","index":17,"n_rows":100,"n_cols":67,"rows_kept":100,"cut":false,"hidden":false,"merged":[[96,24,97,57],[98,24,99,25],[98,26,99,26],[98,29,99,29],[98,32,99,32],[89,60,94,61],[89,50,94,51],[89,52,94,53],[89,54,94,55],[89,56,94,57],[93,36,94,37],[93,38,94,38],[93,39,94,40],[89,58,94,59],[89,24,94,28],[89,29,91,30],[89,41,94,45],[89,46,94,47],[89,31,90,35],[89,36,90,40],[93,34,94,35],[92,29,94,30],[93,31,94,32],[93,33,94,33],[83,24,88,28],[83,29,85,30],[83,36,88,40],[85,34,86,35],[85,41,86,42],[85,43,86,43],[83,46,88,47],[83,56,88,57],[83,58,88,59],[83,50,88,51],[71,54,76,55],[71,60,76,61],[71,58,76,59],[77,62,82,63],[80,29,82,30],[89,62,94,63],[89,48,94,49],[83,31,84,35],[83,41,84,45],[83,52,88,53],[83,54,88,55],[85,44,86,45],[77,54,82,55],[83,60,88,61],[83,62,88,63],[86,29,88,30],[77,58,82,59],[71,50,76,51],[77,50,82,51],[77,52,82,53],[55,4,55,5],[55,6,55,8],[55,9,55,10],[55,16,55,17],[55,18,55,20],[55,21,55,22],[56,4,56,5],[56,6,56,8],[56,9,56,10],[56,16,56,17],[56,18,56,20],[56,21,56,22],[53,24,54,26],[53,27,54,32],[53,33,54,33],[53,34,54,48],[63,28,64,40],[63,41,64,44],[71,41,76,45],[71,46,76,47],[71,48,76,49],[71,24,76,27],[71,28,76,30],[71,31,76,35],[71,36,76,40],[47,0,49,0],[47,1,49,1],[47,2,49,2],[47,3,49,3],[47,7,49,7],[47,8,49,8],[47,21,49,21],[47,12,49,12],[47,13,49,13],[47,14,49,14],[47,15,49,15],[47,19,49,19],[47,20,49,20],[47,9,49,9],[53,4,53,5],[53,6,53,8],[53,9,53,10],[53,16,53,17],[53,18,53,20],[53,21,53,22],[54,4,54,5],[54,6,54,8],[54,9,54,10],[54,16,54,17],[54,18,54,20],[54,21,54,22],[77,24,82,28],[77,29,79,30],[77,31,82,35],[77,46,82,47],[77,48,82,49],[71,52,76,53],[29,0,31,0],[29,1,31,1],[29,2,31,2],[29,3,31,3],[29,7,31,7],[29,8,31,8],[35,18,35,20],[35,21,35,22],[41,32,42,32],[29,13,31,13],[29,15,31,15],[36,4,36,5],[36,6,36,8],[36,9,36,10],[36,16,36,17],[35,4,35,5],[35,6,35,8],[35,9,35,10],[29,29,31,30],[26,24,31,28],[26,29,28,30],[26,36,31,40],[37,16,37,17],[37,18,37,20],[37,21,37,22],[41,29,42,29],[47,24,48,58],[32,13,32,17],[32,18,32,20],[32,21,32,22],[33,13,33,17],[33,18,33,20],[33,21,33,22],[34,13,34,17],[34,18,34,20],[34,21,34,22],[36,38,37,38],[36,39,37,40],[32,54,37,55],[32,58,37,59],[32,56,37,57],[32,31,33,35],[32,62,37,63],[35,29,37,30],[32,48,37,49],[47,60,48,66],[32,24,37,28],[32,29,34,30],[39,24,40,57],[41,24,42,25],[41,26,42,26],[41,35,42,35],[36,33,37,33],[36,34,37,35],[36,36,37,37],[34,31,35,32],[34,33,35,33],[34,34,35,35],[34,36,35,37],[34,38,35,38],[34,39,35,40],[32,41,37,45],[32,60,37,61],[32,36,33,40],[36,31,37,32],[20,24,25,28],[20,29,22,30],[20,31,25,35],[20,46,25,47],[22,43,23,43],[22,44,23,45],[24,36,25,37],[24,38,25,38],[24,41,25,42],[24,43,25,43],[23,29,25,30],[22,41,23,42],[24,39,25,40],[24,44,25,45],[14,1,14,5],[14,6,14,8],[14,9,14,10],[15,1,15,5],[15,6,15,8],[15,9,15,10],[20,21,20,22],[18,4,18,5],[18,6,18,8],[18,9,18,10],[18,16,18,17],[18,18,18,20],[18,21,18,22],[19,4,19,5],[19,6,19,8],[19,9,19,10],[19,16,19,17],[19,18,19,20],[19,21,19,22],[20,4,20,5],[20,6,20,8],[20,9,20,10],[20,16,20,17],[20,18,20,20],[14,24,19,27],[14,28,19,30],[14,31,19,35],[14,13,14,17],[14,18,14,20],[14,21,14,22],[15,13,15,17],[15,18,15,20],[15,21,15,22],[16,13,16,17],[16,18,16,20],[16,21,16,22],[8,2,8,8],[8,9,8,10],[8,14,8,20],[8,21,8,22],[8,25,8,27],[8,28,8,40],[8,41,8,44],[11,0,13,0],[11,1,13,1],[11,2,13,2],[11,3,13,3],[11,7,13,7],[11,8,13,8],[11,9,13,9],[11,12,13,12],[11,13,13,13],[11,14,13,14],[11,15,13,15],[11,19,13,19],[11,20,13,20],[11,21,13,21],[7,9,7,10],[7,14,7,20],[7,21,7,22],[7,25,7,27],[7,28,7,40],[7,41,7,44],[6,2,6,8],[6,9,6,10],[6,14,6,20],[6,21,6,22],[6,25,6,27],[6,28,6,40],[98,35,99,35],[71,64,76,65],[71,66,76,66],[77,36,78,40],[77,41,78,45],[77,64,82,65],[77,66,82,66],[79,36,80,37],[79,38,80,38],[81,36,82,37],[79,39,80,40],[79,41,80,42],[79,43,80,43],[79,44,80,45],[81,44,82,45],[83,64,88,65],[83,66,88,66],[83,48,88,49],[71,62,76,63],[81,38,82,38],[81,39,82,40],[81,41,82,42],[81,43,82,43],[77,60,82,61],[0,60,0,66],[1,0,1,10],[1,12,1,22],[1,24,1,58],[0,9,0,10],[0,21,0,22],[3,3,3,10],[3,15,3,22],[3,24,3,26],[3,27,3,32],[3,34,3,48],[5,24,5,26],[6,41,6,44],[5,27,5,32],[0,0,0,8],[0,12,0,20],[0,24,0,58],[32,66,37,66],[26,48,31,49],[26,50,31,51],[7,2,7,8],[32,46,37,47],[32,50,37,51],[32,52,37,53],[26,54,31,55],[14,58,19,59],[14,60,19,61],[14,62,19,63],[20,48,25,49],[20,50,25,51],[20,52,25,53],[20,54,25,55],[14,46,19,47],[14,54,19,55],[14,56,19,57],[26,66,31,66],[28,31,29,32],[28,33,29,33],[28,34,29,35],[28,41,29,42],[28,43,29,43],[26,60,31,61],[28,44,29,45],[30,31,31,32],[30,33,31,33],[26,31,27,35],[26,52,31,53],[26,62,31,63],[26,56,31,57],[26,58,31,59],[30,34,31,35],[26,41,27,45],[26,46,31,47],[30,41,31,42],[30,43,31,43],[30,44,31,45],[14,36,19,40],[14,41,19,45],[57,24,58,26],[57,27,58,32],[61,41,62,44],[63,25,64,27],[14,66,19,66],[20,36,21,40],[20,41,21,45],[20,64,25,65],[20,66,25,66],[22,36,23,37],[22,38,23,38],[22,39,23,40],[14,64,19,65],[14,48,19,49],[20,56,25,57],[20,58,25,59],[20,60,25,61],[20,62,25,63],[26,64,31,65],[32,64,37,65],[14,50,19,51],[14,52,19,53],[89,64,94,65],[89,66,94,66],[91,31,92,32],[91,33,92,33],[91,34,92,35],[91,36,92,37],[91,38,92,38],[91,39,92,40],[49,24,50,58],[59,41,60,44],[61,25,62,27],[61,28,62,40],[87,33,88,33],[87,34,88,35],[87,41,88,42],[87,43,88,43],[87,44,88,45],[85,31,86,32],[85,33,86,33],[87,31,88,32],[59,25,60,27],[59,28,60,40],[77,56,82,57],[71,56,76,57],[52,13,52,17],[52,18,52,20],[52,21,52,22],[50,1,50,5],[50,6,50,8],[50,9,50,10],[51,1,51,5],[51,6,51,8],[51,9,51,10],[52,1,52,5],[52,6,52,8],[52,9,52,10],[50,13,50,17],[50,18,50,20],[50,21,50,22],[51,13,51,17],[51,18,51,20],[51,21,51,22],[38,4,38,5],[38,6,38,8],[38,9,38,10],[38,16,38,17],[38,18,38,20],[38,21,38,22],[34,9,34,10],[17,16,17,17],[17,18,17,20],[17,21,17,22],[29,12,31,12],[29,14,31,14],[29,19,31,19],[29,20,31,20],[29,21,31,21],[37,4,37,5],[37,6,37,8],[37,9,37,10],[34,1,34,5],[34,6,34,8],[35,16,35,17],[36,18,36,20],[36,21,36,22],[16,1,16,5],[16,6,16,8],[16,9,16,10],[32,1,32,5],[32,6,32,8],[32,9,32,10],[33,1,33,5],[33,6,33,8],[33,9,33,10],[17,4,17,5],[17,6,17,8],[17,9,17,10],[29,9,31,9]]}
[{"$f":"出場チーム!B1","v":"OFA 第 51 回大分県少年サッカー大会　兼　KYFA 九州U-12サッカー大会大分県大会"},null,null,null,null,null,null,null,null,"１次リーグ結果　報告用紙",null,null,{"$f":"出場チーム!B1","v":"OFA 第 51 回大分県少年サッカー大会　兼　KYFA 九州U-12サッカー大会大分県大会"},null,null,null,null,null,null,null,null,"１次リーグ結果　報告用紙",null,null,{"$f":"$A$1","v":"OFA 第 51 回大分県少年サッカー大会　兼　KYFA 九州U-12サッカー大会大分県大会"},null,null,null,null,null,null,null,null,null,null,null,null,null,null,null,null,null,null,null,null,null,null,null,null,null,null,null,null,null,null,null,null,null,null,null,{"$f":"$J$1","v":"１次リーグ結果　報告用紙"}]
["＜時間割＞　①10:00～　②11:00～　③12:00～　④13:00～　⑤14:00～　⑥15:00～",null,null,null,null,null,null,null,null,null,null,null,"＜時間割＞　①10:00～　②11:00～　③12:00～　④13:00～　⑤14:00～　⑥15:00～",null,null,null,null,null,null,null,null,null,null,null,"＜時間割＞　①10:00～　②11:00～　③12:00～　④13:00～　⑤14:00～　⑥15:00～"]
[]
["会場",{"$f":"組み合わせ!DH7","v":"中津"},"⇒",{"$f":"VLOOKUP(B4,出場チーム!$B$51:$F$59,2,FALSE)","v":"永添運動公園人工芝多目的ｸﾞﾗｳﾝﾄﾞ"},null,null,null,null,null,null,null,null,"会場",{"$f":"組み合わせ!DH7","v":"中津"},"⇒",{"$f":"VLOOKUP(N4,出場チーム!$B$51:$F$59,2,FALSE)","v":"永添運動公園人工芝多目的ｸﾞﾗｳﾝﾄﾞ"},null,null,null,null,null,null,null,null,"会場",null,null,{"$f":"$B$4","v":"中津"},null,null,null,null,null,"⇒",{"$f":"$D$4","v":"永添運動公園人工芝多目的ｸﾞﾗｳﾝﾄﾞ"}]
[]
["パート",{"$f":"VLOOKUP(B4,組み合わせ!$AL$95:$BU$112,13,FALSE)","v":"B"},null,null,null,null,null,null,null,null,null,null,"パート",{"$f":"VLOOKUP(N4,組み合わせ!$AL$95:$BU$112,25,FALSE)","v":"H"},null,null,null,null,null,null,null,null,null,null,"パート",null,null,{"$f":"$B$6","v":"B"}]
[null,{"$f":"CONCATENATE($B$6,1)","v":"B1"},{"$f":"HLOOKUP(B7,組み合わせ!$B$48:$EO$86,2,FALSE)","v":"ＦＣ中津ジュニア"},null,null,null,null,null,null,{"$f":"HLOOKUP(B7,組み合わせ!$B$48:$EO$86,32,FALSE)","v":"中津"},null,null,null,{"$f":"CONCATENATE($N$6,1)","v":"H1"},{"$f":"HLOOKUP(N7,組み合わせ!$B$48:$EO$86,2,FALSE)","v":"中津沖代ＪＳＣ"},null,null,null,null,null,null,{"$f":"HLOOKUP(N7,組み合わせ!$B$48:$EO$86,32,FALSE)","v":"中津"},null,null,null,{"$f":"+B7","v":"B1"},null,null,{"$f":"$C$7","v":"ＦＣ中津ジュニア"},null,null,null,null,null,null,null,null,null,null,null,null,{"$f":"$J$7","v":"中津"}]
[null,{"$f":"CONCATENATE($B$6,2)","v":"B2"},{"$f":"HLOOKUP(B8,組み合わせ!$B$48:$EO$86,2,FALSE)","v":"由布川サッカースポーツ少年団"},null,null,null,null,null,null,{"$f":"HLOOKUP(B8,組み合わせ!$B$48:$EO$86,32,FALSE)","v":"大分"},null,null,null,{"$f":"CONCATENATE($N$6,2)","v":"H2"},{"$f":"HLOOKUP(N8,組み合わせ!$B$48:$EO$86,2,FALSE)","v":"日岡サッカースポーツ少年団"},null,null,null,null,null,null,{"$f":"HLOOKUP(N8,組み合わせ!$B$48:$EO$86,32,FALSE)","v":"大分"},null,null,null,{"$f":"+B8","v":"B2"},null,null,{"$f":"$C$8","v":"由布川サッカースポーツ少年団"},null,null,null,null,null,null,null,null,null,null,null,null,{"$f":"$J$8","v":"大分"}]
[null,{"$f":"CONCATENATE($B$6,3)","v":"B3"},{"$f":"HLOOKUP(B9,組み合わせ!$B$48:$EO$86,2,FALSE)","v":"緑丘サッカースポーツ少年団"},null,null,null,null,null,null,{"$f":"HLOOKUP(B9,組み合わせ!$B$48:$EO$86,32,FALSE)","v":"別府"},null,null,null,{"$f":"CONCATENATE($N$6,3)","v":"H3"},{"$f":"HLOOKUP(N9,組み合わせ!$B$48:$EO$86,2,FALSE)","v":"玖珠サッカースポーツ少年団"},null,null,null,null,null,null,{"$f":"HLOOKUP(N9,組み合わせ!$B$48:$EO$86,32,FALSE)","v":"日田"},null,null,null,{"$f":"+B9","v":"B3"},null,null,{"$f":"$C$9","v":"緑丘サッカースポーツ少年団"},null,null,null,null,null,null,null,null,null,null,null,null,{"$f":"$J$9","v":"別府"}]
["8：50～ＭＣＭ",null,null,null,null,null,null,null,null,null,null,null,"9：50～ＭＣＭ"]
[]
["①\n10:00～",{"$f":"C7","v":"ＦＣ中津ジュニア"},{"$f":"IF(E12=\"\",\"\",SUM(E12:E13))","v":0},"（",0,"前半",1,"）",{"$f":"IF(G12=\"\",\"\",SUM(G12:G13))","v":2},{"$f":"C8","v":"由布川サッカースポーツ少年団"},null,null,"②\n11:00～",{"$f":"O7","v":"中津沖代ＪＳＣ"},{"$f":"IF(Q12=\"\",\"\",SUM(Q12:Q13))","v":6},"（",2,"前半",0,"）",{"$f":"IF(S12=\"\",\"\",SUM(S12:S13))","v":1},{"$f":"O8","v":"日岡サッカースポーツ少年団"}]
[null,null,null,null,0,"後半",1,null,null,null,null,null,null,null,null,null,4,"後半",1]
[null,null,null,null,null,"PK",null,null,null,null,null,null,null,null,null,null,null,"PK"]
["MC","山下　省二",null,null,null,null,"所属協会",null,null,"中津市サッカー協会",null,null,"MC","浦本　雅志",null,null,null,null,"所属協会",null,null,"中津市サッカー協会",null,null,{"$f":"$Y$6","v":"パート"},null,null,null,{"$f":"$AB$6","v":"B"},null,null,{"$f":"$Y$21","v":"ＦＣ中津ジュニア"},null,null,null,null,{"$f":"$Y$27","v":"由布川サッカースポーツ少年団"},null,null,null,null,{"$f":"$Y$33","v":"緑丘サッカースポーツ少年団"},null,null,null,null,"勝",null,"PK\n勝",null,"PK\n負",null,"負",null,"得点",null,"失点",null,"勝点",null,"勝点\n順位",null,"得失\n点差",null,"得失\n順位",null,"総\n順位"]
["WelfareOfficer","山下　省二",null,null,null,null,"所属協会",null,null,"中津市サッカー協会",null,null,"WelfareOfficer","浦本　雅志",null,null,null,null,"所属協会",null,null,"中津市サッカー協会"]
["記録","瀬口　篤",null,null,null,null,"所属協会",null,null,"中津市サッカー協会",null,null,"記録","近砂　覚志",null,null,null,null,"所属協会",null,null,"中津市サッカー協会"]
["R:",{"$f":"IF(ISERROR(VLOOKUP(G18,審判員!$A:$C,2,FALSE))=TRUE,\"\",VLOOKUP(G18,審判員!$A:$C,2,FALSE))","v":"岩尾　雅広"},{"$f":"IF(ISERROR(VLOOKUP(G18,審判員!$A:$C,3,FALSE))=TRUE,\"\",VLOOKUP(G18,審判員!$A:$C,3,FALSE))","v":2},"級","資格番号",null,"R001265172",null,null,"本部",null,null,"R:",{"$f":"IF(ISERROR(VLOOKUP(S18,審判員!$A:$C,2,FALSE))=TRUE,\"\",VLOOKUP(S18,審判員!$A:$C,2,FALSE))","v":"菅川　智"},{"$f":"IF(ISERROR(VLOOKUP(S18,審判員!$A:$C,3,FALSE))=TRUE,\"\",VLOOKUP(S18,審判員!$A:$C,3,FALSE))","v":3},"級","資格番号",null,"R008515571",null,null,"本部"]
["AR1:",{"$f":"IF(ISERROR(VLOOKUP(G19,審判員!$A:$C,2,FALSE))=TRUE,\"\",VLOOKUP(G19,審判員!$A:$C,2,FALSE))","v":"佐藤　健"},{"$f":"IF(ISERROR(VLOOKUP(G19,審判員!$A:$C,3,FALSE))=TRUE,\"\",VLOOKUP(G19,審判員!$A:$C,3,FALSE))","v":3},"級","資格番号",null,"R005603981",null,null,{"$f":"N12","v":"中津沖代ＪＳＣ"},null,null,"AR1:",{"$f":"IF(ISERROR(VLOOKUP(S19,審判員!$A:$C,2,FALSE))=TRUE,\"\",VLOOKUP(S19,審判員!$A:$C,2,FALSE))","v":"園　貴司"},{"$f":"IF(ISERROR(VLOOKUP(S19,審判員!$A:$C,3,FALSE))=TRUE,\"\",VLOOKUP(S19,審判員!$A:$C,3,FALSE))","v":3},"級","資格番号",null,"R001263721",null,null,{"$f":"B12","v":"ＦＣ中津ジュニア"}]
["AR2:",{"$f":"IF(ISERROR(VLOOKUP(G20,審判員!$A:$C,2,FALSE))=TRUE,\"\",VLOOKUP(G20,審判員!$A:$C,2,FALSE))","v":"清原　雄太"},{"$f":"IF(ISERROR(VLOOKUP(G20,審判員!$A:$C,3,FALSE))=TRUE,\"\",VLOOKUP(G20,審判員!$A:$C,3,FALSE))","v":3},"級","資格番号",null,"R001251504",null,null,{"$f":"V12","v":"日岡サッカースポーツ少年団"},null,null,"AR2:",{"$f":"IF(ISERROR(VLOOKUP(S20,審判員!$A:$C,2,FALSE))=TRUE,\"\",VLOOKUP(S20,審判員!$A:$C,2,FALSE))","v":"榊　謙治"},{"$f":"IF(ISERROR(VLOOKUP(S20,審判員!$A:$C,3,FALSE))=TRUE,\"\",VLOOKUP(S20,審判員!$A:$C,3,FALSE))","v":3},"級","資格番号",null,"R010356115",null,null,{"$f":"J12","v":"由布川サッカースポーツ少年団"}]
["4th:",{"$f":"IF(ISERROR(VLOOKUP(G21,審判員!$A:$C,2,FALSE))=TRUE,\"\",VLOOKUP(G21,審判員!$A:$C,2,FALSE))","v":"畑辺　康年"},{"$f":"IF(ISERROR(VLOOKUP(G21,審判員!$A:$C,3,FALSE))=TRUE,\"\",VLOOKUP(G21,審判員!$A:$C,3,FALSE))","v":4},"級","資格番号",null,"R010347358",null,null,"本部",null,null,"4th:",{"$f":"IF(ISERROR(VLOOKUP(S21,審判員!$A:$C,2,FALSE))=TRUE,\"\",VLOOKUP(S21,審判員!$A:$C,2,FALSE))","v":"中村　真彦"},{"$f":"IF(ISERROR(VLOOKUP(S21,審判員!$A:$C,3,FALSE))=TRUE,\"\",VLOOKUP(S21,審判員!$A:$C,3,FALSE))","v":4},"級","資格番号",null,"R001251911",null,null,"本部",null,null,{"$f":"$AC$7","v":"ＦＣ中津ジュニア"},null,null,null,null,"星取表",null,null,null,null,null,null,{"$f":"IF(AK25=\"\",\"\",IF(AK25>AN25,\"○\",IF(AK25<AN25,\"●\",IF(AK23>AN23,\"△\",IF(AK23<AN23,\"▲\")))))","v":"●"},null,null,null,null,{"$f":"IF(AP25=\"\",\"\",IF(AP25>AS25,\"○\",IF(AP25<AS25,\"●\",IF(AP23>AS23,\"△\",IF(AP23<AS23,\"▲\")))))","v":"○"},null,null,null,null,{"$f":"COUNTIF($AF$21:$AT$22,\"○\")","v":1},null,{"$f":"COUNTIF($AF$21:$AT$22,\"△\")","v":0},null,{"$f":"COUNTIF($AF$21:$AT$22,\"▲\")","v":0},null,{"$f":"COUNTIF($AF$21:$AT$22,\"●\")","v":1},null,{"$f":"SUM($AK$25,$AP$25)","v":6},null,{"$f":"SUM($AN$25,$AS$25)","v":3},null,{"$f":"($AU$21*3)+($AW$21*2)+($AY$21*1)","v":3},null,{"$f":"RANK($BG$21,$BG$21:$BH$38)","v":2},null,{"$f":"$BC$21-$BE$21","v":3},null,{"$f":"RANK($BK$21,$BK$21:$BL$38)","v":2}]
["警告/退場","氏名","背番号","分","内容",null,"内容","分","背番号","氏名","警告/退場",null,"警告/退場","氏名","背番号","分","内容",null,"内容","分","背番号","氏名","警告/退場"]
[null,{"$f":"IF(ISERROR(VLOOKUP(CONCATENATE($B$12,\"_\",C23),選手名簿!$A:$E,5,FALSE))=TRUE,\"\",VLOOKUP(CONCATENATE($B$12,\"_\",C23),選手名簿!$A:$E,5,FALSE))","v":""},null,null,null,null,null,null,null,{"$f":"IF(ISERROR(VLOOKUP(CONCATENATE($J$12,\"_\",I23),選手名簿!$A:$E,5,FALSE))=TRUE,\"\",VLOOKUP(CONCATENATE($J$12,\"_\",I23),選手名簿!$A:$E,5,FALSE))","v":""},null,null,null,{"$f":"IF(ISERROR(VLOOKUP(CONCATENATE($N$12,\"_\",O23),選手名簿!$A:$E,5,FALSE))=TRUE,\"\",VLOOKUP(CONCATENATE($N$12,\"_\",O23),選手名簿!$A:$E,5,FALSE))","v":""},null,null,null,null,null,null,null,{"$f":"IF(ISERROR(VLOOKUP(CONCATENATE($V$12,\"_\",U23),選手名簿!$A:$E,5,FALSE))=TRUE,\"\",VLOOKUP(CONCATENATE($V$12,\"_\",U23),選手名簿!$A:$E,5,FALSE))","v":""},null,null,null,null,null,null,null,null,null,null,null,null,null,null,{"$f":"IF($E$14=\"\",\"\",$E$14)","v":""},null,"―",{"$f":"IF($G$14=\"\",\"\",$G$14)","v":""},null,{"$f":"IF($G$50=\"\",\"\",$G$50)","v":""},null,"―",{"$f":"IF($E$50=\"\",\"\",$E$50)","v":""}]
[null,{"$f":"IF(ISERROR(VLOOKUP(CONCATENATE($B$12,\"_\",C24),選手名簿!$A:$E,5,FALSE))=TRUE,\"\",VLOOKUP(CONCATENATE($B$12,\"_\",C24),選手名簿!$A:$E,5,FALSE))","v":""},null,null,null,null,null,null,null,{"$f":"IF(ISERROR(VLOOKUP(CONCATENATE($J$12,\"_\",I24),選手名簿!$A:$E,5,FALSE))=TRUE,\"\",VLOOKUP(CONCATENATE($J$12,\"_\",I24),選手名簿!$A:$E,5,FALSE))","v":""},null,null,null,{"$f":"IF(ISERROR(VLOOKUP(CONCATENATE($N$12,\"_\",O24),選手名簿!$A:$E,5,FALSE))=TRUE,\"\",VLOOKUP(CONCATENATE($N$12,\"_\",O24),選手名簿!$A:$E,5,FALSE))","v":""},null,null,null,null,null,null,null,{"$f":"IF(ISERROR(VLOOKUP(CONCATENATE($V$12,\"_\",U24),選手名簿!$A:$E,5,FALSE))=TRUE,\"\",VLOOKUP(CONCATENATE($V$12,\"_\",U24),選手名簿!$A:$E,5,FALSE))","v":""},null,null,null,null,null,null,null,"得失点"]
[null,{"$f":"IF(ISERROR(VLOOKUP(CONCATENATE($B$12,\"_\",C25),選手名簿!$A:$E,5,FALSE))=TRUE,\"\",VLOOKUP(CONCATENATE($B$12,\"_\",C25),選手名簿!$A:$E,5,FALSE))","v":""},null,null,null,null,null,null,null,{"$f":"IF(ISERROR(VLOOKUP(CONCATENATE($J$12,\"_\",I25),選手名簿!$A:$E,5,FALSE))=TRUE,\"\",VLOOKUP(CONCATENATE($J$12,\"_\",I25),選手名簿!$A:$E,5,FALSE))","v":""},null,null,null,{"$f":"IF(ISERROR(VLOOKUP(CONCATENATE($N$12,\"_\",O25),選手名簿!$A:$E,5,FALSE))=TRUE,\"\",VLOOKUP(CONCATENATE($N$12,\"_\",O25),選手名簿!$A:$E,5,FALSE))","v":""},null,null,null,null,null,null,null,{"$f":"IF(ISERROR(VLOOKUP(CONCATENATE($V$12,\"_\",U25),選手名簿!$A:$E,5,FALSE))=TRUE,\"\",VLOOKUP(CONCATENATE($V$12,\"_\",U25),選手名簿!$A:$E,5,FALSE))","v":""},null,null,null,null,null,null,null,null,null,null,null,null,null,null,{"$f":"$C$12","v":0},null,"―",{"$f":"$I$12","v":2},null,{"$f":"$I$48","v":6},null,"―",{"$f":"$C$48","v":1}]
[null,{"$f":"IF(ISERROR(VLOOKUP(CONCATENATE($B$12,\"_\",C26),選手名簿!$A:$E,5,FALSE))=TRUE,\"\",VLOOKUP(CONCATENATE($B$12,\"_\",C26),選手名簿!$A:$E,5,FALSE))","v":""},null,null,null,null,null,null,null,{"$f":"IF(ISERROR(VLOOKUP(CONCATENATE($J$12,\"_\",I26),選手名簿!$A:$E,5,FALSE))=TRUE,\"\",VLOOKUP(CONCATENATE($J$12,\"_\",I26),選手名簿!$A:$E,5,FALSE))","v":""},null,null,null,{"$f":"IF(ISERROR(VLOOKUP(CONCATENATE($N$12,\"_\",O26),選手名簿!$A:$E,5,FALSE))=TRUE,\"\",VLOOKUP(CONCATENATE($N$12,\"_\",O26),選手名簿!$A:$E,5,FALSE))","v":""},null,null,null,null,null,null,null,{"$f":"IF(ISERROR(VLOOKUP(CONCATENATE($V$12,\"_\",U26),選手名簿!$A:$E,5,FALSE))=TRUE,\"\",VLOOKUP(CONCATENATE($V$12,\"_\",U26),選手名簿!$A:$E,5,FALSE))","v":""}]
[null,{"$f":"IF(ISERROR(VLOOKUP(CONCATENATE($B$12,\"_\",C27),選手名簿!$A:$E,5,FALSE))=TRUE,\"\",VLOOKUP(CONCATENATE($B$12,\"_\",C27),選手名簿!$A:$E,5,FALSE))","v":""},null,null,null,null,null,null,null,{"$f":"IF(ISERROR(VLOOKUP(CONCATENATE($J$12,\"_\",I27),選手名簿!$A:$E,5,FALSE))=TRUE,\"\",VLOOKUP(CONCATENATE($J$12,\"_\",I27),選手名簿!$A:$E,5,FALSE))","v":""},null,null,null,{"$f":"IF(ISERROR(VLOOKUP(CONCATENATE($N$12,\"_\",O27),選手名簿!$A:$E,5,FALSE))=TRUE,\"\",VLOOKUP(CONCATENATE($N$12,\"_\",O27),選手名簿!$A:$E,5,FALSE))","v":""},null,null,null,null,null,null,null,{"$f":"IF(ISERROR(VLOOKUP(CONCATENATE($V$12,\"_\",U27),選手名簿!$A:$E,5,FALSE))=TRUE,\"\",VLOOKUP(CONCATENATE($V$12,\"_\",U27),選手名簿!$A:$E,5,FALSE))","v":""},null,null,{"$f":"$AC$8","v":"由布川サッカースポーツ少年団"},null,null,null,null,"星取表",null,{"$f":"IF(AF31=\"\",\"\",IF(AF31>AI31,\"○\",IF(AF31<AI31,\"●\",IF(AF29>AI29,\"△\",IF(AF29<AI29,\"▲\")))))","v":"○"},null,null,null,null,null,null,null,null,null,{"$f":"IF(AP31=\"\",\"\",IF(AP31>AS31,\"○\",IF(AP31<AS31,\"●\",IF(AP29>AS29,\"△\",IF(AP29<AS29,\"▲\")))))","v":"○"},null,null,null,null,{"$f":"COUNTIF($AF$27:$AT$28,\"○\")","v":2},null,{"$f":"COUNTIF($AF$27:$AT$28,\"△\")","v":0},null,{"$f":"COUNTIF($AF$27:$AT$28,\"▲\")","v":0},null,{"$f":"COUNTIF($AF$27:$AT$28,\"●\")","v":0},null,{"$f":"SUM($AF$31,$AP$31)","v":7},null,{"$f":"SUM($AI$31,$AS$31)","v":2},null,{"$f":"($AU$27*3)+($AW$27*2)+($AY$27*1)","v":6},null,{"$f":"RANK($BG$27,$BG$21:$BH$38)","v":1},null,{"$f":"$BC$27-$BE$27","v":5},null,{"$f":"RANK($BK$27,$BK$21:$BL$38)","v":1}]
[]
[null,null,null,null,null,null,null,null,null,null,null,null,null,null,null,null,null,null,null,null,null,null,null,null,null,null,null,null,null,null,null,{"$f":"AN23","v":""},null,"―",{"$f":"AK23","v":""},null,null,null,null,null,null,{"$f":"IF($E$32=\"\",\"\",$E$32)","v":""},null,"―",{"$f":"IF($G$32=\"\",\"\",$G$32)","v":""}]
["③\n12:00～",{"$f":"C8","v":"由布川サッカースポーツ少年団"},{"$f":"IF(E30=\"\",\"\",SUM(E30:E31))","v":5},"（",3,"前半",0,"）",{"$f":"IF(G30=\"\",\"\",SUM(G30:G31))","v":2},{"$f":"C9","v":"緑丘サッカースポーツ少年団"},null,null,"④\n13:00～",{"$f":"O8","v":"日岡サッカースポーツ少年団"},{"$f":"IF(Q30=\"\",\"\",SUM(Q30:Q31))","v":1},"（",0,"前半",0,"）",{"$f":"IF(S30=\"\",\"\",SUM(S30:S31))","v":2},{"$f":"O9","v":"玖珠サッカースポーツ少年団"},null,null,null,null,null,null,null,"得失点"]
[null,null,null,null,2,"後半",2,null,null,null,null,null,null,null,null,null,1,"後半",2,null,null,null,null,null,null,null,null,null,null,null,null,{"$f":"AN25","v":2},null,"―",{"$f":"AK25","v":0},null,null,null,null,null,null,{"$f":"$C$30","v":5},null,"―",{"$f":"$I$30","v":2}]
[null,null,null,null,null,"PK",null,null,null,null,null,null,null,null,null,null,null,"PK"]
["MC","塔元　繁喜",null,null,null,null,"所属協会",null,null,"中津市サッカー協会",null,null,"MC","山下　省二",null,null,null,null,"所属協会",null,null,"中津市サッカー協会",null,null,{"$f":"$AC$9","v":"緑丘サッカースポーツ少年団"},null,null,null,null,"星取表",null,{"$f":"IF(AF37=\"\",\"\",IF(AF37>AI37,\"○\",IF(AF37<AI37,\"●\",IF(AF35>AI35,\"△\",IF(AF35<AI35,\"▲\")))))","v":"●"},null,null,null,null,{"$f":"IF(AK37=\"\",\"\",IF(AK37>AN37,\"○\",IF(AK37<AN37,\"●\",IF(AK35>AN35,\"△\",IF(AK35<AN35,\"▲\")))))","v":"●"},null,null,null,null,null,null,null,null,null,{"$f":"COUNTIF($AF$33:$AT$34,\"○\")","v":0},null,{"$f":"COUNTIF($AF$33:$AT$34,\"△\")","v":0},null,{"$f":"COUNTIF($AF$33:$AT$34,\"▲\")","v":0},null,{"$f":"COUNTIF($AF$33:$AT$34,\"●\")","v":2},null,{"$f":"SUM($AF$37,$AK$37)","v":3},null,{"$f":"SUM($AI$37,$AN$37)","v":11},null,{"$f":"($AU$33*3)+($AW$33*2)+($AY$33*1)","v":0},null,{"$f":"RANK($BG$33,$BG$21:$BH$38)","v":3},null,{"$f":"$BC$33-$BE$33","v":-8},null,{"$f":"RANK($BK$33,$BK$21:$BL$38)","v":3}]
["WelfareOfficer","塔元　繁喜",null,null,null,null,"所属協会",null,null,"中津市サッカー協会",null,null,"WelfareOfficer","山下　省二",null,null,null,null,"所属協会",null,null,"中津市サッカー協会"]
["記録","髙倉　秀樹",null,null,null,null,"所属協会",null,null,"中津市サッカー協会",null,null,"記録","近砂　覚志",null,null,null,null,"所属協会",null,null,"中津市サッカー協会",null,null,null,null,null,null,null,null,null,{"$f":"AS23","v":""},null,"―",{"$f":"AP23","v":""},null,{"$f":"AS29","v":""},null,"―",{"$f":"AP29","v":""}]
["R:",{"$f":"IF(ISERROR(VLOOKUP(G36,審判員!$A:$C,2,FALSE))=TRUE,\"\",VLOOKUP(G36,審判員!$A:$C,2,FALSE))","v":"高畑　徳治郎"},{"$f":"IF(ISERROR(VLOOKUP(G36,審判員!$A:$C,3,FALSE))=TRUE,\"\",VLOOKUP(G36,審判員!$A:$C,3,FALSE))","v":3},"級","資格番号",null,"R001263846",null,null,"本部",null,null,"R:",{"$f":"IF(ISERROR(VLOOKUP(S36,審判員!$A:$C,2,FALSE))=TRUE,\"\",VLOOKUP(S36,審判員!$A:$C,2,FALSE))","v":"岩尾　雅広"},{"$f":"IF(ISERROR(VLOOKUP(S36,審判員!$A:$C,3,FALSE))=TRUE,\"\",VLOOKUP(S36,審判員!$A:$C,3,FALSE))","v":2},"級","資格番号",null,"R001265172",null,null,"本部",null,null,null,null,null,null,null,"得失点"]
["AR1:",{"$f":"IF(ISERROR(VLOOKUP(G37,審判員!$A:$C,2,FALSE))=TRUE,\"\",VLOOKUP(G37,審判員!$A:$C,2,FALSE))","v":"清原　雄太"},{"$f":"IF(ISERROR(VLOOKUP(G37,審判員!$A:$C,3,FALSE))=TRUE,\"\",VLOOKUP(G37,審判員!$A:$C,3,FALSE))","v":3},"級","資格番号",null,"R001251504",null,null,{"$f":"N30","v":"日岡サッカースポーツ少年団"},null,null,"AR1:",{"$f":"IF(ISERROR(VLOOKUP(S37,審判員!$A:$C,2,FALSE))=TRUE,\"\",VLOOKUP(S37,審判員!$A:$C,2,FALSE))","v":"榊　謙治"},{"$f":"IF(ISERROR(VLOOKUP(S37,審判員!$A:$C,3,FALSE))=TRUE,\"\",VLOOKUP(S37,審判員!$A:$C,3,FALSE))","v":3},"級","資格番号",null,"R010356115",null,null,{"$f":"B30","v":"由布川サッカースポーツ少年団"},null,null,null,null,null,null,null,null,null,{"$f":"AS25","v":1},null,"―",{"$f":"AP25","v":6},null,{"$f":"AS31","v":2},null,"―",{"$f":"AP31","v":5}]
["AR2:",{"$f":"IF(ISERROR(VLOOKUP(G38,審判員!$A:$C,2,FALSE))=TRUE,\"\",VLOOKUP(G38,審判員!$A:$C,2,FALSE))","v":"吉田　栄治"},{"$f":"IF(ISERROR(VLOOKUP(G38,審判員!$A:$C,3,FALSE))=TRUE,\"\",VLOOKUP(G38,審判員!$A:$C,3,FALSE))","v":3},"級","資格番号",null,"R001264854",null,null,{"$f":"V30","v":"玖珠サッカースポーツ少年団"},null,null,"AR2:",{"$f":"IF(ISERROR(VLOOKUP(S38,審判員!$A:$C,2,FALSE))=TRUE,\"\",VLOOKUP(S38,審判員!$A:$C,2,FALSE))","v":"切封　智和"},{"$f":"IF(ISERROR(VLOOKUP(S38,審判員!$A:$C,3,FALSE))=TRUE,\"\",VLOOKUP(S38,審判員!$A:$C,3,FALSE))","v":3},"級","資格番号",null,"R001263068",null,null,{"$f":"J30","v":"緑丘サッカースポーツ少年団"}]
["4th:",{"$f":"IF(ISERROR(VLOOKUP(G39,審判員!$A:$C,2,FALSE))=TRUE,\"\",VLOOKUP(G39,審判員!$A:$C,2,FALSE))","v":"朝比奈　義行"},{"$f":"IF(ISERROR(VLOOKUP(G39,審判員!$A:$C,3,FALSE))=TRUE,\"\",VLOOKUP(G39,審判員!$A:$C,3,FALSE))","v":3},"級","資格番号",null,"R003972391",null,null,"本部",null,null,"4th:",{"$f":"IF(ISERROR(VLOOKUP(S39,審判員!$A:$C,2,FALSE))=TRUE,\"\",VLOOKUP(S39,審判員!$A:$C,2,FALSE))","v":"畑辺　康年"},{"$f":"IF(ISERROR(VLOOKUP(S39,審判員!$A:$C,3,FALSE))=TRUE,\"\",VLOOKUP(S39,審判員!$A:$C,3,FALSE))","v":4},"級","資格番号",null,"R010347358",null,null,"本部"]
["警告/退場","氏名","背番号","分","内容",null,"内容","分","背番号","氏名","警告/退場",null,"警告/退場","氏名","背番号","分","内容",null,"内容","分","背番号","氏名","警告/退場",null,"Ⅰ勝点（勝３点　ＰＫ勝２点　ＰＫ負１点　負０点）　Ⅱ当該チームの戦績　Ⅲ得失点差　Ⅳ多得点　Ⅴ抽選の順で順位を決定する。"]
[null,{"$f":"IF(ISERROR(VLOOKUP(CONCATENATE($B$30,\"_\",C41),選手名簿!$A:$E,5,FALSE))=TRUE,\"\",VLOOKUP(CONCATENATE($B$30,\"_\",C41),選手名簿!$A:$E,5,FALSE))","v":""},null,null,null,null,null,null,null,{"$f":"IF(ISERROR(VLOOKUP(CONCATENATE($J$30,\"_\",I41),選手名簿!$A:$E,5,FALSE))=TRUE,\"\",VLOOKUP(CONCATENATE($J$30,\"_\",I41),選手名簿!$A:$E,5,FALSE))","v":""},null,null,null,{"$f":"IF(ISERROR(VLOOKUP(CONCATENATE($N$30,\"_\",O41),選手名簿!$A:$E,5,FALSE))=TRUE,\"\",VLOOKUP(CONCATENATE($N$30,\"_\",O41),選手名簿!$A:$E,5,FALSE))","v":""},null,null,null,null,null,null,null,{"$f":"IF(ISERROR(VLOOKUP(CONCATENATE($V$30,\"_\",U41),選手名簿!$A:$E,5,FALSE))=TRUE,\"\",VLOOKUP(CONCATENATE($V$30,\"_\",U41),選手名簿!$A:$E,5,FALSE))","v":""}]
[null,{"$f":"IF(ISERROR(VLOOKUP(CONCATENATE($B$30,\"_\",C42),選手名簿!$A:$E,5,FALSE))=TRUE,\"\",VLOOKUP(CONCATENATE($B$30,\"_\",C42),選手名簿!$A:$E,5,FALSE))","v":""},null,null,null,null,null,null,null,{"$f":"IF(ISERROR(VLOOKUP(CONCATENATE($J$30,\"_\",I42),選手名簿!$A:$E,5,FALSE))=TRUE,\"\",VLOOKUP(CONCATENATE($J$30,\"_\",I42),選手名簿!$A:$E,5,FALSE))","v":""},null,null,null,{"$f":"IF(ISERROR(VLOOKUP(CONCATENATE($N$30,\"_\",O42),選手名簿!$A:$E,5,FALSE))=TRUE,\"\",VLOOKUP(CONCATENATE($N$30,\"_\",O42),選手名簿!$A:$E,5,FALSE))","v":""},null,null,null,null,null,null,null,{"$f":"IF(ISERROR(VLOOKUP(CONCATENATE($V$30,\"_\",U42),選手名簿!$A:$E,5,FALSE))=TRUE,\"\",VLOOKUP(CONCATENATE($V$30,\"_\",U42),選手名簿!$A:$E,5,FALSE))","v":""},null,null,"勝点表",null,"勝","○",null,"PK\n勝","△",null,"PK\n負","▲",null,"負","●"]
[null,{"$f":"IF(ISERROR(VLOOKUP(CONCATENATE($B$30,\"_\",C43),選手名簿!$A:$E,5,FALSE))=TRUE,\"\",VLOOKUP(CONCATENATE($B$30,\"_\",C43),選手名簿!$A:$E,5,FALSE))","v":""},null,null,null,null,null,null,null,{"$f":"IF(ISERROR(VLOOKUP(CONCATENATE($J$30,\"_\",I43),選手名簿!$A:$E,5,FALSE))=TRUE,\"\",VLOOKUP(CONCATENATE($J$30,\"_\",I43),選手名簿!$A:$E,5,FALSE))","v":""},null,null,null,{"$f":"IF(ISERROR(VLOOKUP(CONCATENATE($N$30,\"_\",O43),選手名簿!$A:$E,5,FALSE))=TRUE,\"\",VLOOKUP(CONCATENATE($N$30,\"_\",O43),選手名簿!$A:$E,5,FALSE))","v":""},null,null,null,null,null,null,null,{"$f":"IF(ISERROR(VLOOKUP(CONCATENATE($V$30,\"_\",U43),選手名簿!$A:$E,5,FALSE))=TRUE,\"\",VLOOKUP(CONCATENATE($V$30,\"_\",U43),選手名簿!$A:$E,5,FALSE))","v":""},null,null,null,null,null,3,null,null,2,null,null,1,null,null,0]
[null,{"$f":"IF(ISERROR(VLOOKUP(CONCATENATE($B$30,\"_\",C44),選手名簿!$A:$E,5,FALSE))=TRUE,\"\",VLOOKUP(CONCATENATE($B$30,\"_\",C44),選手名簿!$A:$E,5,FALSE))","v":""},null,null,null,null,null,null,null,{"$f":"IF(ISERROR(VLOOKUP(CONCATENATE($J$30,\"_\",I44),選手名簿!$A:$E,5,FALSE))=TRUE,\"\",VLOOKUP(CONCATENATE($J$30,\"_\",I44),選手名簿!$A:$E,5,FALSE))","v":""},null,null,null,{"$f":"IF(ISERROR(VLOOKUP(CONCATENATE($N$30,\"_\",O44),選手名簿!$A:$E,5,FALSE))=TRUE,\"\",VLOOKUP(CONCATENATE($N$30,\"_\",O44),選手名簿!$A:$E,5,FALSE))","v":""},null,null,null,null,null,null,null,{"$f":"IF(ISERROR(VLOOKUP(CONCATENATE($V$30,\"_\",U44),選手名簿!$A:$E,5,FALSE))=TRUE,\"\",VLOOKUP(CONCATENATE($V$30,\"_\",U44),選手名簿!$A:$E,5,FALSE))","v":""}]
[null,{"$f":"IF(ISERROR(VLOOKUP(CONCATENATE($B$30,\"_\",C45),選手名簿!$A:$E,5,FALSE))=TRUE,\"\",VLOOKUP(CONCATENATE($B$30,\"_\",C45),選手名簿!$A:$E,5,FALSE))","v":""},null,null,null,null,null,null,null,{"$f":"IF(ISERROR(VLOOKUP(CONCATENATE($J$30,\"_\",I45),選手名簿!$A:$E,5,FALSE))=TRUE,\"\",VLOOKUP(CONCATENATE($J$30,\"_\",I45),選手名簿!$A:$E,5,FALSE))","v":""},null,null,null,{"$f":"IF(ISERROR(VLOOKUP(CONCATENATE($N$30,\"_\",O45),選手名簿!$A:$E,5,FALSE))=TRUE,\"\",VLOOKUP(CONCATENATE($N$30,\"_\",O45),選手名簿!$A:$E,5,FALSE))","v":""},null,null,null,null,null,null,null,{"$f":"IF(ISERROR(VLOOKUP(CONCATENATE($V$30,\"_\",U45),選手名簿!$A:$E,5,FALSE))=TRUE,\"\",VLOOKUP(CONCATENATE($V$30,\"_\",U45),選手名簿!$A:$E,5,FALSE))","v":""}]
[]
[]
["⑤\n14:00～",{"$f":"C9","v":"緑丘サッカースポーツ少年団"},{"$f":"IF(E48=\"\",\"\",SUM(E48:E49))","v":1},"（",0,"前半",5,"）",{"$f":"IF(G48=\"\",\"\",SUM(G48:G49))","v":6},{"$f":"C7","v":"ＦＣ中津ジュニア"},null,null,"⑥\n15:00～",{"$f":"O9","v":"玖珠サッカースポーツ少年団"},{"$f":"IF(Q48=\"\",\"\",SUM(Q48:Q49))","v":1},"（",1,"前半",3,"）",{"$f":"IF(S48=\"\",\"\",SUM(S48:S49))","v":6},{"$f":"O7","v":"中津沖代ＪＳＣ"},null,null,{"$f":"$Y$1","v":"OFA 第 51 回大分県少年サッカー大会　兼　KYFA 九州U-12サッカー大会大分県大会"},null,null,null,null,null,null,null,null,null,null,null,null,null,null,null,null,null,null,null,null,null,null,null,null,null,null,null,null,null,null,null,null,null,null,null,{"$f":"$BI$1","v":"１次リーグ結果　報告用紙"}]
[null,null,null,null,1,"後半",1,null,null,null,null,null,null,null,null,null,0,"後半",3]
[null,null,null,null,null,"PK",null,null,null,null,null,null,null,null,null,null,null,"PK",null,null,null,null,null,null,"＜時間割＞　①10:00～　②11:00～　③12:00～　④13:00～　⑤14:00～　⑥15:00～"]
["MC","浦本　雅志",null,null,null,null,"所属協会",null,null,"中津市サッカー協会",null,null,"MC","塔元　繁喜",null,null,null,null,"所属協会",null,null,"中津市サッカー協会"]
["WelfareOfficer","浦本　雅志",null,null,null,null,"所属協会",null,null,"中津市サッカー協会",null,null,"WelfareOfficer","塔元　繁喜",null,null,null,null,"所属協会",null,null,"中津市サッカー協会"]
["記録","髙倉　秀樹",null,null,null,null,"所属協会",null,null,"中津市サッカー協会",null,null,"記録","清原　雄太",null,null,null,null,"所属協会",null,null,"中津市サッカー協会"]
["R:",{"$f":"IF(ISERROR(VLOOKUP(G54,審判員!$A:$C,2,FALSE))=TRUE,\"\",VLOOKUP(G54,審判員!$A:$C,2,FALSE))","v":"菅川　智"},{"$f":"IF(ISERROR(VLOOKUP(G54,審判員!$A:$C,3,FALSE))=TRUE,\"\",VLOOKUP(G54,審判員!$A:$C,3,FALSE))","v":3},"級","資格番号",null,"R008515571",null,null,"本部",null,null,"R:",{"$f":"IF(ISERROR(VLOOKUP(S54,審判員!$A:$C,2,FALSE))=TRUE,\"\",VLOOKUP(S54,審判員!$A:$C,2,FALSE))","v":"高畑　徳治郎"},{"$f":"IF(ISERROR(VLOOKUP(S54,審判員!$A:$C,3,FALSE))=TRUE,\"\",VLOOKUP(S54,審判員!$A:$C,3,FALSE))","v":3},"級","資格番号",null,"R001263846",null,null,"本部",null,null,"会場",null,null,{"$f":"$N$4","v":"中津"},null,null,null,null,null,"⇒",{"$f":"$P$4","v":"永添運動公園人工芝多目的ｸﾞﾗｳﾝﾄﾞ"}]
["AR1:",{"$f":"IF(ISERROR(VLOOKUP(G55,審判員!$A:$C,2,FALSE))=TRUE,\"\",VLOOKUP(G55,審判員!$A:$C,2,FALSE))","v":"吉田　栄治"},{"$f":"IF(ISERROR(VLOOKUP(G55,審判員!$A:$C,3,FALSE))=TRUE,\"\",VLOOKUP(G55,審判員!$A:$C,3,FALSE))","v":3},"級","資格番号",null,"R001264854",null,null,{"$f":"N48","v":"玖珠サッカースポーツ少年団"},null,null,"AR1:",{"$f":"IF(ISERROR(VLOOKUP(S55,審判員!$A:$C,2,FALSE))=TRUE,\"\",VLOOKUP(S55,審判員!$A:$C,2,FALSE))","v":"切封　智和"},{"$f":"IF(ISERROR(VLOOKUP(S55,審判員!$A:$C,3,FALSE))=TRUE,\"\",VLOOKUP(S55,審判員!$A:$C,3,FALSE))","v":3},"級","資格番号",null,"R001263068",null,null,{"$f":"B48","v":"緑丘サッカースポーツ少年団"}]
["AR2:",{"$f":"IF(ISERROR(VLOOKUP(G56,審判員!$A:$C,2,FALSE))=TRUE,\"\",VLOOKUP(G56,審判員!$A:$C,2,FALSE))","v":"石川　慎也"},{"$f":"IF(ISERROR(VLOOKUP(G56,審判員!$A:$C,3,FALSE))=TRUE,\"\",VLOOKUP(G56,審判員!$A:$C,3,FALSE))","v":3},"級","資格番号",null,"R001262379",null,null,{"$f":"V48","v":"中津沖代ＪＳＣ"},null,null,"AR2:",{"$f":"IF(ISERROR(VLOOKUP(S56,審判員!$A:$C,2,FALSE))=TRUE,\"\",VLOOKUP(S56,審判員!$A:$C,2,FALSE))","v":"園　貴司"},{"$f":"IF(ISERROR(VLOOKUP(S56,審判員!$A:$C,3,FALSE))=TRUE,\"\",VLOOKUP(S56,審判員!$A:$C,3,FALSE))","v":3},"級","資格番号",null,"R001263721",null,null,{"$f":"J48","v":"ＦＣ中津ジュニア"}]
["4th:",{"$f":"IF(ISERROR(VLOOKUP(G57,審判員!$A:$C,2,FALSE))=TRUE,\"\",VLOOKUP(G57,審判員!$A:$C,2,FALSE))","v":"中村　真彦"},{"$f":"IF(ISERROR(VLOOKUP(G57,審判員!$A:$C,3,FALSE))=TRUE,\"\",VLOOKUP(G57,審判員!$A:$C,3,FALSE))","v":4},"級","資格番号",null,"R001251911",null,null,"本部",null,null,"4th:",{"$f":"IF(ISERROR(VLOOKUP(S57,審判員!$A:$C,2,FALSE))=TRUE,\"\",VLOOKUP(S57,審判員!$A:$C,2,FALSE))","v":"朝比奈　義行"},{"$f":"IF(ISERROR(VLOOKUP(S57,審判員!$A:$C,3,FALSE))=TRUE,\"\",VLOOKUP(S57,審判員!$A:$C,3,FALSE))","v":3},"級","資格番号",null,"R003972391",null,null,"本部"]
["警告/退場","氏名","背番号","分","内容",null,"内容","分","背番号","氏名","警告/退場",null,"警告/退場","氏名","背番号","分","内容",null,"内容","分","背番号","氏名","警告/退場",null,"パート",null,null,{"$f":"$N$6","v":"H"}]
[null,{"$f":"IF(ISERROR(VLOOKUP(CONCATENATE($B$48,\"_\",C59),選手名簿!$A:$E,5,FALSE))=TRUE,\"\",VLOOKUP(CONCATENATE($B$48,\"_\",C59),選手名簿!$A:$E,5,FALSE))","v":""},null,null,null,null,null,null,null,{"$f":"IF(ISERROR(VLOOKUP(CONCATENATE($J$48,\"_\",I59),選手名簿!$A:$E,5,FALSE))=TRUE,\"\",VLOOKUP(CONCATENATE($J$48,\"_\",I59),選手名簿!$A:$E,5,FALSE))","v":""},null,null,null,{"$f":"IF(ISERROR(VLOOKUP(CONCATENATE($N$48,\"_\",O59),選手名簿!$A:$E,5,FALSE))=TRUE,\"\",VLOOKUP(CONCATENATE($N$48,\"_\",O59),選手名簿!$A:$E,5,FALSE))","v":""},null,null,null,null,null,null,null,{"$f":"IF(ISERROR(VLOOKUP(CONCATENATE($V$48,\"_\",U59),選手名簿!$A:$E,5,FALSE))=TRUE,\"\",VLOOKUP(CONCATENATE($V$48,\"_\",U59),選手名簿!$A:$E,5,FALSE))","v":""}]
[null,{"$f":"IF(ISERROR(VLOOKUP(CONCATENATE($B$48,\"_\",C60),選手名簿!$A:$E,5,FALSE))=TRUE,\"\",VLOOKUP(CONCATENATE($B$48,\"_\",C60),選手名簿!$A:$E,5,FALSE))","v":""},null,null,null,null,null,null,null,{"$f":"IF(ISERROR(VLOOKUP(CONCATENATE($J$48,\"_\",I60),選手名簿!$A:$E,5,FALSE))=TRUE,\"\",VLOOKUP(CONCATENATE($J$48,\"_\",I60),選手名簿!$A:$E,5,FALSE))","v":""},null,null,null,{"$f":"IF(ISERROR(VLOOKUP(CONCATENATE($N$48,\"_\",O60),選手名簿!$A:$E,5,FALSE))=TRUE,\"\",VLOOKUP(CONCATENATE($N$48,\"_\",O60),選手名簿!$A:$E,5,FALSE))","v":""},null,null,null,null,null,null,null,{"$f":"IF(ISERROR(VLOOKUP(CONCATENATE($V$48,\"_\",U60),選手名簿!$A:$E,5,FALSE))=TRUE,\"\",VLOOKUP(CONCATENATE($V$48,\"_\",U60),選手名簿!$A:$E,5,FALSE))","v":""},null,null,null,{"$f":"$N$7","v":"H1"},null,null,{"$f":"$O$7","v":"中津沖代ＪＳＣ"},null,null,null,null,null,null,null,null,null,null,null,null,{"$f":"$V$7","v":"中津"}]
[null,{"$f":"IF(ISERROR(VLOOKUP(CONCATENATE($B$48,\"_\",C61),選手名簿!$A:$E,5,FALSE))=TRUE,\"\",VLOOKUP(CONCATENATE($B$48,\"_\",C61),選手名簿!$A:$E,5,FALSE))","v":""},null,null,null,null,null,null,null,{"$f":"IF(ISERROR(VLOOKUP(CONCATENATE($J$48,\"_\",I61),選手名簿!$A:$E,5,FALSE))=TRUE,\"\",VLOOKUP(CONCATENATE($J$48,\"_\",I61),選手名簿!$A:$E,5,FALSE))","v":""},null,null,null,{"$f":"IF(ISERROR(VLOOKUP(CONCATENATE($N$48,\"_\",O61),選手名簿!$A:$E,5,FALSE))=TRUE,\"\",VLOOKUP(CONCATENATE($N$48,\"_\",O61),選手名簿!$A:$E,5,FALSE))","v":""},null,null,null,null,null,null,null,{"$f":"IF(ISERROR(VLOOKUP(CONCATENATE($V$48,\"_\",U61),選手名簿!$A:$E,5,FALSE))=TRUE,\"\",VLOOKUP(CONCATENATE($V$48,\"_\",U61),選手名簿!$A:$E,5,FALSE))","v":""}]
[null,{"$f":"IF(ISERROR(VLOOKUP(CONCATENATE($B$48,\"_\",C62),選手名簿!$A:$E,5,FALSE))=TRUE,\"\",VLOOKUP(CONCATENATE($B$48,\"_\",C62),選手名簿!$A:$E,5,FALSE))","v":""},null,null,null,null,null,null,null,{"$f":"IF(ISERROR(VLOOKUP(CONCATENATE($J$48,\"_\",I62),選手名簿!$A:$E,5,FALSE))=TRUE,\"\",VLOOKUP(CONCATENATE($J$48,\"_\",I62),選手名簿!$A:$E,5,FALSE))","v":""},null,null,null,{"$f":"IF(ISERROR(VLOOKUP(CONCATENATE($N$48,\"_\",O62),選手名簿!$A:$E,5,FALSE))=TRUE,\"\",VLOOKUP(CONCATENATE($N$48,\"_\",O62),選手名簿!$A:$E,5,FALSE))","v":""},null,null,null,null,null,null,null,{"$f":"IF(ISERROR(VLOOKUP(CONCATENATE($V$48,\"_\",U62),選手名簿!$A:$E,5,FALSE))=TRUE,\"\",VLOOKUP(CONCATENATE($V$48,\"_\",U62),選手名簿!$A:$E,5,FALSE))","v":""},null,null,null,{"$f":"$N$8","v":"H2"},null,null,{"$f":"$O$8","v":"日岡サッカースポーツ少年団"},null,null,null,null,null,null,null,null,null,null,null,null,{"$f":"$V$8","v":"大分"}]
[null,{"$f":"IF(ISERROR(VLOOKUP(CONCATENATE($B$48,\"_\",C63),選手名簿!$A:$E,5,FALSE))=TRUE,\"\",VLOOKUP(CONCATENATE($B$48,\"_\",C63),選手名簿!$A:$E,5,FALSE))","v":""},null,null,null,null,null,null,null,{"$f":"IF(ISERROR(VLOOKUP(CONCATENATE($J$48,\"_\",I63),選手名簿!$A:$E,5,FALSE))=TRUE,\"\",VLOOKUP(CONCATENATE($J$48,\"_\",I63),選手名簿!$A:$E,5,FALSE))","v":""},null,null,null,{"$f":"IF(ISERROR(VLOOKUP(CONCATENATE($N$48,\"_\",O63),選手名簿!$A:$E,5,FALSE))=TRUE,\"\",VLOOKUP(CONCATENATE($N$48,\"_\",O63),選手名簿!$A:$E,5,FALSE))","v":""},null,null,null,null,null,null,null,{"$f":"IF(ISERROR(VLOOKUP(CONCATENATE($V$48,\"_\",U63),選手名簿!$A:$E,5,FALSE))=TRUE,\"\",VLOOKUP(CONCATENATE($V$48,\"_\",U63),選手名簿!$A:$E,5,FALSE))","v":""}]
[null,null,null,null,null,null,null,null,null,null,null,null,null,null,null,null,null,null,null,null,null,null,null,null,null,{"$f":"$N$9","v":"H3"},null,null,{"$f":"$O$9","v":"玖珠サッカースポーツ少年団"},null,null,null,null,null,null,null,null,null,null,null,null,{"$f":"$V$9","v":"日田"}]
[]
[]
[]
[]
[]
[]
[]
[null,null,null,null,null,null,null,null,null,null,null,null,null,null,null,null,null,null,null,null,null,null,null,null,{"$f":"$Y$6","v":"パート"},null,null,null,{"$f":"$AB$58","v":"H"},null,null,{"$f":"$Y$78","v":"中津沖代ＪＳＣ"},null,null,null,null,{"$f":"$Y$84","v":"日岡サッカースポーツ少年団"},null,null,null,null,{"$f":"$Y$90","v":"玖珠サッカースポーツ少年団"},null,null,null,null,"勝",null,"PK\n勝",null,"PK\n負",null,"負",null,"得点",null,"失点",null,"勝点",null,"勝点\n順位",null,"得失\n点差",null,"得失\n順位",null,"総\n順位"]
[]
[]
[]
[]
[]
[null,null,null,null,null,null,null,null,null,null,null,null,null,null,null,null,null,null,null,null,null,null,null,null,{"$f":"$AC$60","v":"中津沖代ＪＳＣ"},null,null,null,null,"星取表",null,null,null,null,null,null,{"$f":"IF(AK82=\"\",\"\",IF(AK82>AN82,\"○\",IF(AK82<AN82,\"●\",IF(AK80>AN80,\"△\",IF(AK80<AN80,\"▲\")))))","v":"○"},null,null,null,null,{"$f":"IF(AP82=\"\",\"\",IF(AP82>AS82,\"○\",IF(AP82<AS82,\"●\",IF(AP80>AS80,\"△\",IF(AP80<AS80,\"▲\")))))","v":"○"},null,null,null,null,{"$f":"COUNTIF($AF$78:$AT$79,\"○\")","v":2},null,{"$f":"COUNTIF($AF$78:$AT$79,\"△\")","v":0},null,{"$f":"COUNTIF($AF$78:$AT$79,\"▲\")","v":0},null,{"$f":"COUNTIF($AF$78:$AT$79,\"●\")","v":0},null,{"$f":"SUM($AK$82,$AP$82)","v":12},null,{"$f":"SUM($AN$82,$AS$82)","v":2},null,{"$f":"($AU$78*3)+($AW$78*2)+($AY$78*1)","v":6},null,{"$f":"RANK($BG$78,$BG$78:$BH$95)","v":1},null,{"$f":"$BC$78-$BE$78","v":10},null,{"$f":"RANK($BK$78,$BK$78:$BL$95)","v":1}]
[]
[null,null,null,null,null,null,null,null,null,null,null,null,null,null,null,null,null,null,null,null,null,null,null,null,null,null,null,null,null,null,null,null,null,null,null,null,{"$f":"IF($Q$14=\"\",\"\",$Q$14)","v":""},null,"―",{"$f":"IF($S$14=\"\",\"\",$S$14)","v":""},null,{"$f":"IF($S$50=\"\",\"\",$S$50)","v":""},null,"―",{"$f":"IF($Q$50=\"\",\"\",$Q$50)","v":""}]
[null,null,null,null,null,null,null,null,null,null,null,null,null,null,null,null,null,null,null,null,null,null,null,null,null,null,null,null,null,"得失点"]
[null,null,null,null,null,null,null,null,null,null,null,null,null,null,null,null,null,null,null,null,null,null,null,null,null,null,null,null,null,null,null,null,null,null,null,null,{"$f":"$O$12","v":6},null,"―",{"$f":"$U$12","v":1},null,{"$f":"$U$48","v":6},null,"―",{"$f":"$O$48","v":1}]
[]
[null,null,null,null,null,null,null,null,null,null,null,null,null,null,null,null,null,null,null,null,null,null,null,null,{"$f":"$AC$62","v":"日岡サッカースポーツ少年団"},null,null,null,null,"星取表",null,{"$f":"IF(AF88=\"\",\"\",IF(AF88>AI88,\"○\",IF(AF88<AI88,\"●\",IF(AF86>AI86,\"△\",IF(AF86<AI86,\"▲\")))))","v":"●"},null,null,null,null,null,null,null,null,null,{"$f":"IF(AP88=\"\",\"\",IF(AP88>AS88,\"○\",IF(AP88<AS88,\"●\",IF(AP86>AS86,\"△\",IF(AP86<AS86,\"▲\")))))","v":"●"},null,null,null,null,{"$f":"COUNTIF($AF$84:$AT$85,\"○\")","v":0},null,{"$f":"COUNTIF($AF$84:$AT$85,\"△\")","v":0},null,{"$f":"COUNTIF($AF$84:$AT$85,\"▲\")","v":0},null,{"$f":"COUNTIF($AF$84:$AT$85,\"●\")","v":2},null,{"$f":"SUM($AF$88,$AP$88)","v":2},null,{"$f":"SUM($AI$88,$AS$88)","v":8},null,{"$f":"($AU$84*3)+($AW$84*2)+($AY$84*1)","v":0},null,{"$f":"RANK($BG$84,$BG$78:$BH$95)","v":3},null,{"$f":"$BC$84-$BE$84","v":-6},null,{"$f":"RANK($BK$84,$BK$78:$BL$95)","v":3}]
[]
[null,null,null,null,null,null,null,null,null,null,null,null,null,null,null,null,null,null,null,null,null,null,null,null,null,null,null,null,null,null,null,{"$f":"AN80","v":""},null,"―",{"$f":"AK80","v":""},null,null,null,null,null,null,{"$f":"IF($Q$32=\"\",\"\",$Q$32)","v":""},null,"―",{"$f":"IF($S$32=\"\",\"\",$S$32)","v":""}]
[null,null,null,null,null,null,null,null,null,null,null,null,null,null,null,null,null,null,null,null,null,null,null,null,null,null,null,null,null,"得失点"]
[null,null,null,null,null,null,null,null,null,null,null,null,null,null,null,null,null,null,null,null,null,null,null,null,null,null,null,null,null,null,null,{"$f":"AN82","v":1},null,"―",{"$f":"AK82","v":6},null,null,null,null,null,null,{"$f":"$O$30","v":1},null,"―",{"$f":"$U$30","v":2}]
[]
[null,null,null,null,null,null,null,null,null,null,null,null,null,null,null,null,null,null,null,null,null,null,null,null,{"$f":"$AC$64","v":"玖珠サッカースポーツ少年団"},null,null,null,null,"星取表",null,{"$f":"IF(AF94=\"\",\"\",IF(AF94>AI94,\"○\",IF(AF94<AI94,\"●\",IF(AF92>AI92,\"△\",IF(AF92<AI92,\"▲\")))))","v":"●"},null,null,null,null,{"$f":"IF(AK94=\"\",\"\",IF(AK94>AN94,\"○\",IF(AK94<AN94,\"●\",IF(AK92>AN92,\"△\",IF(AK92<AN92,\"▲\")))))","v":"○"},null,null,null,null,null,null,null,null,null,{"$f":"COUNTIF($AF$90:$AT$91,\"○\")","v":1},null,{"$f":"COUNTIF($AF$90:$AT$91,\"△\")","v":0},null,{"$f":"COUNTIF($AF$90:$AT$91,\"▲\")","v":0},null,{"$f":"COUNTIF($AF$90:$AT$91,\"●\")","v":1},null,{"$f":"SUM($AF$94,$AK$94)","v":3},null,{"$f":"SUM($AI$94,$AN$94)","v":7},null,{"$f":"($AU$90*3)+($AW$90*2)+($AY$90*1)","v":3},null,{"$f":"RANK($BG$90,$BG$78:$BH$95)","v":2},null,{"$f":"$BC$90-$BE$90","v":-4},null,{"$f":"RANK($BK$90,$BK$78:$BL$95)","v":2}]
[]
[null,null,null,null,null,null,null,null,null,null,null,null,null,null,null,null,null,null,null,null,null,null,null,null,null,null,null,null,null,null,null,{"$f":"AS80","v":""},null,"―",{"$f":"AP80","v":""},null,{"$f":"AS86","v":""},null,"―",{"$f":"AP86","v":""}]
[null,null,null,null,null,null,null,null,null,null,null,null,null,null,null,null,null,null,null,null,null,null,null,null,null,null,null,null,null,"得失点"]
[null,null,null,null,null,null,null,null,null,null,null,null,null,null,null,null,null,null,null,null,null,null,null,null,null,null,null,null,null,null,null,{"$f":"AS82","v":1},null,"―",{"$f":"AP82","v":6},null,{"$f":"AS88","v":2},null,"―",{"$f":"AP88","v":1}]
[]
[]
[null,null,null,null,null,null,null,null,null,null,null,null,null,null,null,null,null,null,null,null,null,null,null,null,"Ⅰ勝点（勝３点　ＰＫ勝２点　ＰＫ負１点　負０点）　Ⅱ当該チームの戦績　Ⅲ得失点差　Ⅳ多得点　Ⅴ抽選の順で順位を決定する。"]
[]
[null,null,null,null,null,null,null,null,null,null,null,null,null,null,null,null,null,null,null,null,null,null,null,null,"勝点表",null,"勝","○",null,"PK\n勝","△",null,"PK\n負","▲",null,"負","●"]
[null,null,null,null,null,null,null,null,null,null,null,null,null,null,null,null,null,null,null,null,null,null,null,null,null,null,null,3,null,null,2,null,null,1,null,null,0]

{"sheet":"１次リーグ（宇佐高田）","index":18,"n_rows":100,"n_cols":67,"rows_kept":100,"cut":false,"hidden":false,"merged":[[89,58,94,59],[89,62,94,63],[89,48,94,49],[83,46,88,47],[83,48,88,49],[89,24,94,28],[89,29,91,30],[89,41,94,45],[89,46,94,47],[89,31,90,35],[89,36,90,40],[91,31,92,32],[92,29,94,30],[91,33,92,33],[91,34,92,35],[89,60,94,61],[89,50,94,51],[89,52,94,53],[89,54,94,55],[89,56,94,57],[83,24,88,28],[83,29,85,30],[83,36,88,40],[85,31,86,32],[77,29,79,30],[77,31,82,35],[77,46,82,47],[77,48,82,49],[77,58,82,59],[77,60,82,61],[83,50,88,51],[83,52,88,53],[83,54,88,55],[83,56,88,57],[80,29,82,30],[87,31,88,32],[87,33,88,33],[87,34,88,35],[87,41,88,42],[87,43,88,43],[87,44,88,45],[81,41,82,42],[81,43,82,43],[81,44,82,45],[85,33,86,33],[83,58,88,59],[83,60,88,61],[77,56,82,57],[83,62,88,63],[86,29,88,30],[85,41,86,42],[77,62,82,63],[71,60,76,61],[71,62,76,63],[54,18,54,20],[54,21,54,22],[55,4,55,5],[55,6,55,8],[55,9,55,10],[55,16,55,17],[55,18,55,20],[55,21,55,22],[56,4,56,5],[56,6,56,8],[56,9,56,10],[56,16,56,17],[56,18,56,20],[56,21,56,22],[61,28,62,40],[61,41,62,44],[63,25,64,27],[63,28,64,40],[71,48,76,49],[47,0,49,0],[47,1,49,1],[47,2,49,2],[47,3,49,3],[47,7,49,7],[47,8,49,8],[47,14,49,14],[47,15,49,15],[47,19,49,19],[47,21,49,21],[71,24,76,27],[71,28,76,30],[71,31,76,35],[71,36,76,40],[71,56,76,57],[47,20,49,20],[53,4,53,5],[53,6,53,8],[53,9,53,10],[53,16,53,17],[53,18,53,20],[54,4,54,5],[54,6,54,8],[54,9,54,10],[54,16,54,17],[47,24,48,58],[71,50,76,51],[71,52,76,53],[71,54,76,55],[51,13,51,17],[51,18,51,20],[51,21,51,22],[52,13,52,17],[52,18,52,20],[52,21,52,22],[63,41,64,44],[71,41,76,45],[71,46,76,47],[77,50,82,51],[77,52,82,53],[77,54,82,55],[47,12,49,12],[47,13,49,13],[36,4,36,5],[36,6,36,8],[36,9,36,10],[36,16,36,17],[47,9,49,9],[32,54,37,55],[77,24,82,28],[50,1,50,5],[50,6,50,8],[50,9,50,10],[51,1,51,5],[51,6,51,8],[51,9,51,10],[52,1,52,5],[52,6,52,8],[52,9,52,10],[50,13,50,17],[50,18,50,20],[50,21,50,22],[35,4,35,5],[35,6,35,8],[35,9,35,10],[35,16,35,17],[37,4,37,5],[38,4,38,5],[38,6,38,8],[38,9,38,10],[38,16,38,17],[37,6,37,8],[37,9,37,10],[37,16,37,17],[29,0,31,0],[29,1,31,1],[29,2,31,2],[29,3,31,3],[29,7,31,7],[29,8,31,8],[35,18,35,20],[35,21,35,22],[41,32,42,32],[29,13,31,13],[29,15,31,15],[36,18,36,20],[36,21,36,22],[38,18,38,20],[38,21,38,22],[29,12,31,12],[29,14,31,14],[29,19,31,19],[29,20,31,20],[29,21,31,21],[29,9,31,9],[32,13,32,17],[32,18,32,20],[32,21,32,22],[32,60,37,61],[32,62,37,63],[35,29,37,30],[32,48,37,49],[53,21,53,22],[32,24,37,28],[32,29,34,30],[83,31,84,35],[83,41,84,45],[47,60,48,66],[49,24,50,58],[59,41,60,44],[59,25,60,27],[59,28,60,40],[53,24,54,26],[53,27,54,32],[53,33,54,33],[53,34,54,48],[57,24,58,26],[57,27,58,32],[39,24,40,57],[41,24,42,25],[41,26,42,26],[61,25,62,27],[41,29,42,29],[32,41,37,45],[32,46,37,47],[32,50,37,51],[32,52,37,53],[32,31,33,35],[34,31,35,32],[34,33,35,33],[34,34,35,35],[32,36,33,40],[34,36,35,37],[36,34,37,35],[36,36,37,37],[36,38,37,38],[36,39,37,40],[34,38,35,38],[34,39,35,40],[36,31,37,32],[36,33,37,33],[26,62,31,63],[29,29,31,30],[26,29,28,30],[26,36,31,40],[26,46,31,47],[30,31,31,32],[30,33,31,33],[30,34,31,35],[28,31,29,32],[28,33,29,33],[28,34,29,35],[26,41,27,45],[30,43,31,43],[30,44,31,45],[20,62,25,63],[23,29,25,30],[22,43,23,43],[22,44,23,45],[24,41,25,42],[20,48,25,49],[20,50,25,51],[20,52,25,53],[20,54,25,55],[20,56,25,57],[20,58,25,59],[20,46,25,47],[20,41,21,45],[22,41,23,42],[24,43,25,43],[24,44,25,45],[20,60,25,61],[19,18,19,20],[19,21,19,22],[26,24,31,28],[30,41,31,42],[26,48,31,49],[26,50,31,51],[37,18,37,20],[37,21,37,22],[14,60,19,61],[14,56,19,57],[17,21,17,22],[14,24,19,27],[14,28,19,30],[14,31,19,35],[14,36,19,40],[14,41,19,45],[20,21,20,22],[26,52,31,53],[26,54,31,55],[26,56,31,57],[26,58,31,59],[26,60,31,61],[32,56,37,57],[32,58,37,59],[20,4,20,5],[20,6,20,8],[20,9,20,10],[20,16,20,17],[20,18,20,20],[14,58,19,59],[14,48,19,49],[14,50,19,51],[14,52,19,53],[14,54,19,55],[17,4,17,5],[17,6,17,8],[17,9,17,10],[17,16,17,17],[17,18,17,20],[16,13,16,17],[16,18,16,20],[16,21,16,22],[20,24,25,28],[20,29,22,30],[20,31,25,35],[19,6,19,8],[19,9,19,10],[19,16,19,17],[14,62,19,63],[18,4,18,5],[18,6,18,8],[18,9,18,10],[18,16,18,17],[18,18,18,20],[18,21,18,22],[19,4,19,5],[14,46,19,47],[14,1,14,5],[14,6,14,8],[14,9,14,10],[15,1,15,5],[15,6,15,8],[15,9,15,10],[16,1,16,5],[16,6,16,8],[16,9,16,10],[14,13,14,17],[14,18,14,20],[14,21,14,22],[15,13,15,17],[15,18,15,20],[15,21,15,22],[8,2,8,8],[8,9,8,10],[8,14,8,20],[8,21,8,22],[8,25,8,27],[8,28,8,40],[8,41,8,44],[11,0,13,0],[11,1,13,1],[11,2,13,2],[11,3,13,3],[11,7,13,7],[11,8,13,8],[11,9,13,9],[11,12,13,12],[11,13,13,13],[11,14,13,14],[11,15,13,15],[11,19,13,19],[11,20,13,20],[11,21,13,21],[7,2,7,8],[7,9,7,10],[7,14,7,20],[7,21,7,22],[7,25,7,27],[7,28,7,40],[7,41,7,44],[6,2,6,8],[6,9,6,10],[6,14,6,20],[6,21,6,22],[6,25,6,27],[6,28,6,40],[3,3,3,10],[3,15,3,22],[3,24,3,26],[3,27,3,32],[3,34,3,48],[5,24,5,26],[6,41,6,44],[5,27,5,32],[0,0,0,8],[0,12,0,20],[0,24,0,58],[0,60,0,66],[1,0,1,10],[1,12,1,22],[1,24,1,58],[0,9,0,10],[0,21,0,22],[41,35,42,35],[98,35,99,35],[20,36,21,40],[22,38,23,38],[24,38,25,38],[22,36,23,37],[22,39,23,40],[24,36,25,37],[24,39,25,40],[26,31,27,35],[85,34,86,35],[96,24,97,57],[98,24,99,25],[98,26,99,26],[98,29,99,29],[98,32,99,32],[28,43,29,43],[28,44,29,45],[89,64,94,65],[71,66,76,66],[77,66,82,66],[83,66,88,66],[89,66,94,66],[14,66,19,66],[20,66,25,66],[26,66,31,66],[32,66,37,66],[14,64,19,65],[71,64,76,65],[77,64,82,65],[83,64,88,65],[20,64,25,65],[26,64,31,65],[32,64,37,65],[85,43,86,43],[85,44,86,45],[71,58,76,59],[28,41,29,42],[91,36,92,37],[91,38,92,38],[91,39,92,40],[93,31,94,32],[93,33,94,33],[93,34,94,35],[93,36,94,37],[93,38,94,38],[93,39,94,40],[77,36,78,40],[77,41,78,45],[79,36,80,37],[79,38,80,38],[79,39,80,40],[79,41,80,42],[79,43,80,43],[79,44,80,45],[81,36,82,37],[81,38,82,38],[81,39,82,40],[33,13,33,17],[33,18,33,20],[33,21,33,22],[34,13,34,17],[34,18,34,20],[34,21,34,22],[32,1,32,5],[32,6,32,8],[32,9,32,10],[33,1,33,5],[33,6,33,8],[33,9,33,10],[34,1,34,5],[34,6,34,8],[34,9,34,10]]}
[{"$f":"出場チーム!B1","v":"OFA 第 51 回大分県少年サッカー大会　兼　KYFA 九州U-12サッカー大会大分県大会"},null,null,null,null,null,null,null,null,"１次リーグ結果　報告用紙",null,null,{"$f":"出場チーム!B1","v":"OFA 第 51 回大分県少年サッカー大会　兼　KYFA 九州U-12サッカー大会大分県大会"},null,null,null,null,null,null,null,null,"１次リーグ結果　報告用紙",null,null,{"$f":"$A$1","v":"OFA 第 51 回大分県少年サッカー大会　兼　KYFA 九州U-12サッカー大会大分県大会"},null,null,null,null,null,null,null,null,null,null,null,null,null,null,null,null,null,null,null,null,null,null,null,null,null,null,null,null,null,null,null,null,null,null,null,{"$f":"$J$1","v":"１次リーグ結果　報告用紙"}]
["＜時間割＞　①10:00～　②11:00～　③12:00～　④13:00～　⑤14:00～　⑥15:00～",null,null,null,null,null,null,null,null,null,null,null,"＜時間割＞　①10:00～　②11:00～　③12:00～　④13:00～　⑤14:00～　⑥15:00～",null,null,null,null,null,null,null,null,null,null,null,"＜時間割＞　①10:00～　②11:00～　③12:00～　④13:00～　⑤14:00～　⑥15:00～"]
[]
["会場",{"$f":"組み合わせ!DH8","v":"宇佐高田"},"⇒",{"$f":"VLOOKUP(B4,出場チーム!$B$51:$F$59,2,FALSE)","v":"宇佐市平成の森公園"},null,null,null,null,null,null,null,null,"会場",{"$f":"組み合わせ!DH8","v":"宇佐高田"},"⇒",{"$f":"VLOOKUP(N4,出場チーム!$B$51:$F$59,2,FALSE)","v":"宇佐市平成の森公園"},null,null,null,null,null,null,null,null,"会場",null,null,{"$f":"$B$4","v":"宇佐高田"},null,null,null,null,null,"⇒",{"$f":"$D$4","v":"宇佐市平成の森公園"}]
[]
["パート",{"$f":"VLOOKUP(B4,組み合わせ!$AL$95:$BU$112,13,FALSE)","v":"F"},null,null,null,null,null,null,null,null,null,null,"パート",{"$f":"VLOOKUP(N4,組み合わせ!$AL$95:$BU$112,25,FALSE)","v":"I"},null,null,null,null,null,null,null,null,null,null,"パート",null,null,{"$f":"$B$6","v":"F"}]
[null,{"$f":"CONCATENATE($B$6,1)","v":"F1"},{"$f":"HLOOKUP(B7,組み合わせ!$B$48:$EO$86,2,FALSE)","v":"ＦＣ　ＷＡＹＳ"},null,null,null,null,null,null,{"$f":"HLOOKUP(B7,組み合わせ!$B$48:$EO$86,32,FALSE)","v":"宇佐高田"},null,null,null,{"$f":"CONCATENATE($N$6,1)","v":"I1"},{"$f":"HLOOKUP(N7,組み合わせ!$B$48:$EO$86,2,FALSE)","v":"四日市南ＳＳＣ"},null,null,null,null,null,null,{"$f":"HLOOKUP(N7,組み合わせ!$B$48:$EO$86,32,FALSE)","v":"宇佐高田"},null,null,null,{"$f":"+B7","v":"F1"},null,null,{"$f":"$C$7","v":"ＦＣ　ＷＡＹＳ"},null,null,null,null,null,null,null,null,null,null,null,null,{"$f":"$J$7","v":"宇佐高田"}]
[null,{"$f":"CONCATENATE($B$6,2)","v":"F2"},{"$f":"HLOOKUP(B8,組み合わせ!$B$48:$EO$86,2,FALSE)","v":"リノスフットボールクラブ　Ｕ－１２"},null,null,null,null,null,null,{"$f":"HLOOKUP(B8,組み合わせ!$B$48:$EO$86,32,FALSE)","v":"大分"},null,null,null,{"$f":"CONCATENATE($N$6,2)","v":"I2"},{"$f":"HLOOKUP(N8,組み合わせ!$B$48:$EO$86,2,FALSE)","v":"ブルーウイングフットボールクラブ"},null,null,null,null,null,null,{"$f":"HLOOKUP(N8,組み合わせ!$B$48:$EO$86,32,FALSE)","v":"大分"},null,null,null,{"$f":"+B8","v":"F2"},null,null,{"$f":"$C$8","v":"リノスフットボールクラブ　Ｕ－１２"},null,null,null,null,null,null,null,null,null,null,null,null,{"$f":"$J$8","v":"大分"}]
[null,{"$f":"CONCATENATE($B$6,3)","v":"F3"},{"$f":"HLOOKUP(B9,組み合わせ!$B$48:$EO$86,2,FALSE)","v":"Ｓｈｙｎｔ　ＦＣ"},null,null,null,null,null,null,{"$f":"HLOOKUP(B9,組み合わせ!$B$48:$EO$86,32,FALSE)","v":"中津"},null,null,null,{"$f":"CONCATENATE($N$6,3)","v":"I3"},{"$f":"HLOOKUP(N9,組み合わせ!$B$48:$EO$86,2,FALSE)","v":"鶴見少年サッカークラブ"},null,null,null,null,null,null,{"$f":"HLOOKUP(N9,組み合わせ!$B$48:$EO$86,32,FALSE)","v":"佐伯"},null,null,null,{"$f":"+B9","v":"F3"},null,null,{"$f":"$C$9","v":"Ｓｈｙｎｔ　ＦＣ"},null,null,null,null,null,null,null,null,null,null,null,null,{"$f":"$J$9","v":"中津"}]
["8：50～ＭＣＭ",null,null,null,null,null,null,null,null,null,null,null,"9：50～ＭＣＭ"]
[]
["①\n10:00～",{"$f":"C7","v":"ＦＣ　ＷＡＹＳ"},{"$f":"IF(E12=\"\",\"\",SUM(E12:E13))","v":4},"（",2,"前半",0,"）",{"$f":"IF(G12=\"\",\"\",SUM(G12:G13))","v":2},{"$f":"C8","v":"リノスフットボールクラブ　Ｕ－１２"},null,null,"②\n11:00～",{"$f":"O7","v":"四日市南ＳＳＣ"},{"$f":"IF(Q12=\"\",\"\",SUM(Q12:Q13))","v":0},"（",0,"前半",1,"）",{"$f":"IF(S12=\"\",\"\",SUM(S12:S13))","v":3},{"$f":"O8","v":"ブルーウイングフットボールクラブ"}]
[null,null,null,null,2,"後半",2,null,null,null,null,null,null,null,null,null,0,"後半",2]
[null,null,null,null,null,"PK",null,null,null,null,null,null,null,null,null,null,null,"PK"]
["MC","佐々木　秀樹",null,null,null,null,"所属協会",null,null,"(一社)大分県サッカー協会　ジュニア委員会",null,null,"MC","佐々木　秀樹",null,null,null,null,"所属協会",null,null,"(一社)大分県サッカー協会　ジュニア委員会",null,null,{"$f":"$Y$6","v":"パート"},null,null,null,{"$f":"$AB$6","v":"F"},null,null,{"$f":"$Y$21","v":"ＦＣ　ＷＡＹＳ"},null,null,null,null,{"$f":"$Y$27","v":"リノスフットボールクラブ　Ｕ－１２"},null,null,null,null,{"$f":"$Y$33","v":"Ｓｈｙｎｔ　ＦＣ"},null,null,null,null,"勝",null,"PK\n勝",null,"PK\n負",null,"負",null,"得点",null,"失点",null,"勝点",null,"勝点\n順位",null,"得失\n点差",null,"得失\n順位",null,"総\n順位"]
["WelfareOfficer","磯村　信一",null,null,null,null,"所属協会",null,null,"宇佐高田地区サッカー協会",null,null,"WelfareOfficer","磯村　信一",null,null,null,null,"所属協会",null,null,"宇佐高田地区サッカー協会"]
["記録","安倍　俊之",null,null,null,null,"所属協会",null,null,"宇佐高田地区サッカー協会",null,null,"記録","松尾　和文",null,null,null,null,"所属協会",null,null,"宇佐高田地区サッカー協会"]
["R:",{"$f":"IF(ISERROR(VLOOKUP(G18,審判員!$A:$C,2,FALSE))=TRUE,\"\",VLOOKUP(G18,審判員!$A:$C,2,FALSE))","v":"中園　健太郎"},{"$f":"IF(ISERROR(VLOOKUP(G18,審判員!$A:$C,3,FALSE))=TRUE,\"\",VLOOKUP(G18,審判員!$A:$C,3,FALSE))","v":2},"級","資格番号",null,"R003317390",null,null,"本部",null,null,"R:",{"$f":"IF(ISERROR(VLOOKUP(S18,審判員!$A:$C,2,FALSE))=TRUE,\"\",VLOOKUP(S18,審判員!$A:$C,2,FALSE))","v":"草場　帆斗"},{"$f":"IF(ISERROR(VLOOKUP(S18,審判員!$A:$C,3,FALSE))=TRUE,\"\",VLOOKUP(S18,審判員!$A:$C,3,FALSE))","v":3},"級","資格番号",null,"R010247516",null,null,"本部"]
["AR1:",{"$f":"IF(ISERROR(VLOOKUP(G19,審判員!$A:$C,2,FALSE))=TRUE,\"\",VLOOKUP(G19,審判員!$A:$C,2,FALSE))","v":"乙部　哲也"},{"$f":"IF(ISERROR(VLOOKUP(G19,審判員!$A:$C,3,FALSE))=TRUE,\"\",VLOOKUP(G19,審判員!$A:$C,3,FALSE))","v":3},"級","資格番号",null,"R002996695",null,null,{"$f":"N12","v":"四日市南ＳＳＣ"},null,null,"AR1:",{"$f":"IF(ISERROR(VLOOKUP(S19,審判員!$A:$C,2,FALSE))=TRUE,\"\",VLOOKUP(S19,審判員!$A:$C,2,FALSE))","v":"大久保　稔生"},{"$f":"IF(ISERROR(VLOOKUP(S19,審判員!$A:$C,3,FALSE))=TRUE,\"\",VLOOKUP(S19,審判員!$A:$C,3,FALSE))","v":3},"級","資格番号",null,"R008377616",null,null,{"$f":"B12","v":"ＦＣ　ＷＡＹＳ"}]
["AR2:",{"$f":"IF(ISERROR(VLOOKUP(G20,審判員!$A:$C,2,FALSE))=TRUE,\"\",VLOOKUP(G20,審判員!$A:$C,2,FALSE))","v":"有田　裕哉"},{"$f":"IF(ISERROR(VLOOKUP(G20,審判員!$A:$C,3,FALSE))=TRUE,\"\",VLOOKUP(G20,審判員!$A:$C,3,FALSE))","v":3},"級","資格番号",null,"R004225713",null,null,{"$f":"V12","v":"ブルーウイングフットボールクラブ"},null,null,"AR2:",{"$f":"IF(ISERROR(VLOOKUP(S20,審判員!$A:$C,2,FALSE))=TRUE,\"\",VLOOKUP(S20,審判員!$A:$C,2,FALSE))","v":"渡邉　卓人"},{"$f":"IF(ISERROR(VLOOKUP(S20,審判員!$A:$C,3,FALSE))=TRUE,\"\",VLOOKUP(S20,審判員!$A:$C,3,FALSE))","v":3},"級","資格番号",null,"R010007794",null,null,{"$f":"J12","v":"リノスフットボールクラブ　Ｕ－１２"}]
["4th:",{"$f":"IF(ISERROR(VLOOKUP(G21,審判員!$A:$C,2,FALSE))=TRUE,\"\",VLOOKUP(G21,審判員!$A:$C,2,FALSE))","v":"庄部　正人"},{"$f":"IF(ISERROR(VLOOKUP(G21,審判員!$A:$C,3,FALSE))=TRUE,\"\",VLOOKUP(G21,審判員!$A:$C,3,FALSE))","v":4},"級","資格番号",null,"R009460533",null,null,"本部",null,null,"4th:",{"$f":"IF(ISERROR(VLOOKUP(S21,審判員!$A:$C,2,FALSE))=TRUE,\"\",VLOOKUP(S21,審判員!$A:$C,2,FALSE))","v":"相良　章成"},{"$f":"IF(ISERROR(VLOOKUP(S21,審判員!$A:$C,3,FALSE))=TRUE,\"\",VLOOKUP(S21,審判員!$A:$C,3,FALSE))","v":3},"級","資格番号",null,"R006664864",null,null,"本部",null,null,{"$f":"$AC$7","v":"ＦＣ　ＷＡＹＳ"},null,null,null,null,"星取表",null,null,null,null,null,null,{"$f":"IF(AK25=\"\",\"\",IF(AK25>AN25,\"○\",IF(AK25<AN25,\"●\",IF(AK23>AN23,\"△\",IF(AK23<AN23,\"▲\")))))","v":"○"},null,null,null,null,{"$f":"IF(AP25=\"\",\"\",IF(AP25>AS25,\"○\",IF(AP25<AS25,\"●\",IF(AP23>AS23,\"△\",IF(AP23<AS23,\"▲\")))))","v":false},null,null,null,null,{"$f":"COUNTIF($AF$21:$AT$22,\"○\")","v":1},null,{"$f":"COUNTIF($AF$21:$AT$22,\"△\")","v":0},null,{"$f":"COUNTIF($AF$21:$AT$22,\"▲\")","v":0},null,{"$f":"COUNTIF($AF$21:$AT$22,\"●\")","v":0},null,{"$f":"SUM($AK$25,$AP$25)","v":5},null,{"$f":"SUM($AN$25,$AS$25)","v":3},null,{"$f":"($AU$21*3)+($AW$21*2)+($AY$21*1)","v":3},null,{"$f":"RANK($BG$21,$BG$21:$BH$38)","v":1},null,{"$f":"$BC$21-$BE$21","v":2},null,{"$f":"RANK($BK$21,$BK$21:$BL$38)","v":1}]
["警告/退場","氏名","背番号","分","内容",null,"内容","分","背番号","氏名","警告/退場",null,"警告/退場","氏名","背番号","分","内容",null,"内容","分","背番号","氏名","警告/退場"]
[null,{"$f":"IF(ISERROR(VLOOKUP(CONCATENATE($B$12,\"_\",C23),選手名簿!$A:$E,5,FALSE))=TRUE,\"\",VLOOKUP(CONCATENATE($B$12,\"_\",C23),選手名簿!$A:$E,5,FALSE))","v":""},null,null,null,null,null,null,null,{"$f":"IF(ISERROR(VLOOKUP(CONCATENATE($J$12,\"_\",I23),選手名簿!$A:$E,5,FALSE))=TRUE,\"\",VLOOKUP(CONCATENATE($J$12,\"_\",I23),選手名簿!$A:$E,5,FALSE))","v":""},null,null,null,{"$f":"IF(ISERROR(VLOOKUP(CONCATENATE($N$12,\"_\",O23),選手名簿!$A:$E,5,FALSE))=TRUE,\"\",VLOOKUP(CONCATENATE($N$12,\"_\",O23),選手名簿!$A:$E,5,FALSE))","v":""},null,null,null,null,null,null,null,{"$f":"IF(ISERROR(VLOOKUP(CONCATENATE($V$12,\"_\",U23),選手名簿!$A:$E,5,FALSE))=TRUE,\"\",VLOOKUP(CONCATENATE($V$12,\"_\",U23),選手名簿!$A:$E,5,FALSE))","v":""},null,null,null,null,null,null,null,null,null,null,null,null,null,null,{"$f":"IF($E$14=\"\",\"\",$E$14)","v":""},null,"―",{"$f":"IF($G$14=\"\",\"\",$G$14)","v":""},null,{"$f":"IF($G$50=\"\",\"\",$G$50)","v":""},null,"―",{"$f":"IF($E$50=\"\",\"\",$E$50)","v":""}]
[null,{"$f":"IF(ISERROR(VLOOKUP(CONCATENATE($B$12,\"_\",C24),選手名簿!$A:$E,5,FALSE))=TRUE,\"\",VLOOKUP(CONCATENATE($B$12,\"_\",C24),選手名簿!$A:$E,5,FALSE))","v":""},null,null,null,null,null,null,null,{"$f":"IF(ISERROR(VLOOKUP(CONCATENATE($J$12,\"_\",I24),選手名簿!$A:$E,5,FALSE))=TRUE,\"\",VLOOKUP(CONCATENATE($J$12,\"_\",I24),選手名簿!$A:$E,5,FALSE))","v":""},null,null,null,{"$f":"IF(ISERROR(VLOOKUP(CONCATENATE($N$12,\"_\",O24),選手名簿!$A:$E,5,FALSE))=TRUE,\"\",VLOOKUP(CONCATENATE($N$12,\"_\",O24),選手名簿!$A:$E,5,FALSE))","v":""},null,null,null,null,null,null,null,{"$f":"IF(ISERROR(VLOOKUP(CONCATENATE($V$12,\"_\",U24),選手名簿!$A:$E,5,FALSE))=TRUE,\"\",VLOOKUP(CONCATENATE($V$12,\"_\",U24),選手名簿!$A:$E,5,FALSE))","v":""},null,null,null,null,null,null,null,"得失点"]
[null,{"$f":"IF(ISERROR(VLOOKUP(CONCATENATE($B$12,\"_\",C25),選手名簿!$A:$E,5,FALSE))=TRUE,\"\",VLOOKUP(CONCATENATE($B$12,\"_\",C25),選手名簿!$A:$E,5,FALSE))","v":""},null,null,null,null,null,null,null,{"$f":"IF(ISERROR(VLOOKUP(CONCATENATE($J$12,\"_\",I25),選手名簿!$A:$E,5,FALSE))=TRUE,\"\",VLOOKUP(CONCATENATE($J$12,\"_\",I25),選手名簿!$A:$E,5,FALSE))","v":""},null,null,null,{"$f":"IF(ISERROR(VLOOKUP(CONCATENATE($N$12,\"_\",O25),選手名簿!$A:$E,5,FALSE))=TRUE,\"\",VLOOKUP(CONCATENATE($N$12,\"_\",O25),選手名簿!$A:$E,5,FALSE))","v":""},null,null,null,null,null,null,null,{"$f":"IF(ISERROR(VLOOKUP(CONCATENATE($V$12,\"_\",U25),選手名簿!$A:$E,5,FALSE))=TRUE,\"\",VLOOKUP(CONCATENATE($V$12,\"_\",U25),選手名簿!$A:$E,5,FALSE))","v":""},null,null,null,null,null,null,null,null,null,null,null,null,null,null,{"$f":"$C$12","v":4},null,"―",{"$f":"$I$12","v":2},null,{"$f":"$I$48","v":1},null,"―",{"$f":"$C$48","v":1}]
[null,{"$f":"IF(ISERROR(VLOOKUP(CONCATENATE($B$12,\"_\",C26),選手名簿!$A:$E,5,FALSE))=TRUE,\"\",VLOOKUP(CONCATENATE($B$12,\"_\",C26),選手名簿!$A:$E,5,FALSE))","v":""},null,null,null,null,null,null,null,{"$f":"IF(ISERROR(VLOOKUP(CONCATENATE($J$12,\"_\",I26),選手名簿!$A:$E,5,FALSE))=TRUE,\"\",VLOOKUP(CONCATENATE($J$12,\"_\",I26),選手名簿!$A:$E,5,FALSE))","v":""},null,null,null,{"$f":"IF(ISERROR(VLOOKUP(CONCATENATE($N$12,\"_\",O26),選手名簿!$A:$E,5,FALSE))=TRUE,\"\",VLOOKUP(CONCATENATE($N$12,\"_\",O26),選手名簿!$A:$E,5,FALSE))","v":""},null,null,null,null,null,null,null,{"$f":"IF(ISERROR(VLOOKUP(CONCATENATE($V$12,\"_\",U26),選手名簿!$A:$E,5,FALSE))=TRUE,\"\",VLOOKUP(CONCATENATE($V$12,\"_\",U26),選手名簿!$A:$E,5,FALSE))","v":""}]
[null,{"$f":"IF(ISERROR(VLOOKUP(CONCATENATE($B$12,\"_\",C27),選手名簿!$A:$E,5,FALSE))=TRUE,\"\",VLOOKUP(CONCATENATE($B$12,\"_\",C27),選手名簿!$A:$E,5,FALSE))","v":""},null,null,null,null,null,null,null,{"$f":"IF(ISERROR(VLOOKUP(CONCATENATE($J$12,\"_\",I27),選手名簿!$A:$E,5,FALSE))=TRUE,\"\",VLOOKUP(CONCATENATE($J$12,\"_\",I27),選手名簿!$A:$E,5,FALSE))","v":""},null,null,null,{"$f":"IF(ISERROR(VLOOKUP(CONCATENATE($N$12,\"_\",O27),選手名簿!$A:$E,5,FALSE))=TRUE,\"\",VLOOKUP(CONCATENATE($N$12,\"_\",O27),選手名簿!$A:$E,5,FALSE))","v":""},null,null,null,null,null,null,null,{"$f":"IF(ISERROR(VLOOKUP(CONCATENATE($V$12,\"_\",U27),選手名簿!$A:$E,5,FALSE))=TRUE,\"\",VLOOKUP(CONCATENATE($V$12,\"_\",U27),選手名簿!$A:$E,5,FALSE))","v":""},null,null,{"$f":"$AC$8","v":"リノスフットボールクラブ　Ｕ－１２"},null,null,null,null,"星取表",null,{"$f":"IF(AF31=\"\",\"\",IF(AF31>AI31,\"○\",IF(AF31<AI31,\"●\",IF(AF29>AI29,\"△\",IF(AF29<AI29,\"▲\")))))","v":"●"},null,null,null,null,null,null,null,null,null,{"$f":"IF(AP31=\"\",\"\",IF(AP31>AS31,\"○\",IF(AP31<AS31,\"●\",IF(AP29>AS29,\"△\",IF(AP29<AS29,\"▲\")))))","v":false},null,null,null,null,{"$f":"COUNTIF($AF$27:$AT$28,\"○\")","v":0},null,{"$f":"COUNTIF($AF$27:$AT$28,\"△\")","v":0},null,{"$f":"COUNTIF($AF$27:$AT$28,\"▲\")","v":0},null,{"$f":"COUNTIF($AF$27:$AT$28,\"●\")","v":1},null,{"$f":"SUM($AF$31,$AP$31)","v":2},null,{"$f":"SUM($AI$31,$AS$31)","v":4},null,{"$f":"($AU$27*3)+($AW$27*2)+($AY$27*1)","v":0},null,{"$f":"RANK($BG$27,$BG$21:$BH$38)","v":2},null,{"$f":"$BC$27-$BE$27","v":-2},null,{"$f":"RANK($BK$27,$BK$21:$BL$38)","v":3}]
[]
[null,null,null,null,null,null,null,null,null,null,null,null,null,null,null,null,null,null,null,null,null,null,null,null,null,null,null,null,null,null,null,{"$f":"AN23","v":""},null,"―",{"$f":"AK23","v":""},null,null,null,null,null,null,{"$f":"IF($E$32=\"\",\"\",$E$32)","v":""},null,"―",{"$f":"IF($G$32=\"\",\"\",$G$32)","v":""}]
["③\n12:00～",{"$f":"C8","v":"リノスフットボールクラブ　Ｕ－１２"},{"$f":"IF(E30=\"\",\"\",SUM(E30:E31))","v":0},"（",0,"前半",0,"）",{"$f":"IF(G30=\"\",\"\",SUM(G30:G31))","v":0},{"$f":"C9","v":"Ｓｈｙｎｔ　ＦＣ"},null,null,"④\n13:00～",{"$f":"O8","v":"ブルーウイングフットボールクラブ"},{"$f":"IF(Q30=\"\",\"\",SUM(Q30:Q31))","v":4},"（",2,"前半",1,"）",{"$f":"IF(S30=\"\",\"\",SUM(S30:S31))","v":1},{"$f":"O9","v":"鶴見少年サッカークラブ"},null,null,null,null,null,null,null,"得失点"]
[null,null,null,null,0,"後半",0,null,null,null,null,null,null,null,null,null,2,"後半",0,null,null,null,null,null,null,null,null,null,null,null,null,{"$f":"AN25","v":2},null,"―",{"$f":"AK25","v":4},null,null,null,null,null,null,{"$f":"$C$30","v":0},null,"―",{"$f":"$I$30","v":0}]
[null,null,null,null,null,"PK",null,null,null,null,null,null,null,null,null,null,null,"PK"]
["MC","佐々木　秀樹",null,null,null,null,"所属協会",null,null,"(一社)大分県サッカー協会　ジュニア委員会",null,null,"MC","奥田　和彦",null,null,null,null,"所属協会",null,null,"宇佐高田地区サッカー協会",null,null,{"$f":"$AC$9","v":"Ｓｈｙｎｔ　ＦＣ"},null,null,null,null,"星取表",null,{"$f":"IF(AF37=\"\",\"\",IF(AF37>AI37,\"○\",IF(AF37<AI37,\"●\",IF(AF35>AI35,\"△\",IF(AF35<AI35,\"▲\")))))","v":false},null,null,null,null,{"$f":"IF(AK37=\"\",\"\",IF(AK37>AN37,\"○\",IF(AK37<AN37,\"●\",IF(AK35>AN35,\"△\",IF(AK35<AN35,\"▲\")))))","v":false},null,null,null,null,null,null,null,null,null,{"$f":"COUNTIF($AF$33:$AT$34,\"○\")","v":0},null,{"$f":"COUNTIF($AF$33:$AT$34,\"△\")","v":0},null,{"$f":"COUNTIF($AF$33:$AT$34,\"▲\")","v":0},null,{"$f":"COUNTIF($AF$33:$AT$34,\"●\")","v":0},null,{"$f":"SUM($AF$37,$AK$37)","v":1},null,{"$f":"SUM($AI$37,$AN$37)","v":1},null,{"$f":"($AU$33*3)+($AW$33*2)+($AY$33*1)","v":0},null,{"$f":"RANK($BG$33,$BG$21:$BH$38)","v":2},null,{"$f":"$BC$33-$BE$33","v":0},null,{"$f":"RANK($BK$33,$BK$21:$BL$38)","v":2}]
["WelfareOfficer","磯村　信一",null,null,null,null,"所属協会",null,null,"宇佐高田地区サッカー協会",null,null,"WelfareOfficer","松尾　和文",null,null,null,null,"所属協会",null,null,"宇佐高田地区サッカー協会"]
["記録","庄部　正人",null,null,null,null,"所属協会",null,null,"宇佐高田地区サッカー協会",null,null,"記録","栗井　勝",null,null,null,null,"所属協会",null,null,"宇佐高田地区サッカー協会",null,null,null,null,null,null,null,null,null,{"$f":"AS23","v":""},null,"―",{"$f":"AP23","v":""},null,{"$f":"AS29","v":""},null,"―",{"$f":"AP29","v":""}]
["R:",{"$f":"IF(ISERROR(VLOOKUP(G36,審判員!$A:$C,2,FALSE))=TRUE,\"\",VLOOKUP(G36,審判員!$A:$C,2,FALSE))","v":"田村　孝弘"},{"$f":"IF(ISERROR(VLOOKUP(G36,審判員!$A:$C,3,FALSE))=TRUE,\"\",VLOOKUP(G36,審判員!$A:$C,3,FALSE))","v":3},"級","資格番号",null,"R005164677",null,null,"本部",null,null,"R:",{"$f":"IF(ISERROR(VLOOKUP(S36,審判員!$A:$C,2,FALSE))=TRUE,\"\",VLOOKUP(S36,審判員!$A:$C,2,FALSE))","v":"中園　健太郎"},{"$f":"IF(ISERROR(VLOOKUP(S36,審判員!$A:$C,3,FALSE))=TRUE,\"\",VLOOKUP(S36,審判員!$A:$C,3,FALSE))","v":2},"級","資格番号",null,"R003317390",null,null,"本部",null,null,null,null,null,null,null,"得失点"]
["AR1:",{"$f":"IF(ISERROR(VLOOKUP(G37,審判員!$A:$C,2,FALSE))=TRUE,\"\",VLOOKUP(G37,審判員!$A:$C,2,FALSE))","v":"有田　裕哉"},{"$f":"IF(ISERROR(VLOOKUP(G37,審判員!$A:$C,3,FALSE))=TRUE,\"\",VLOOKUP(G37,審判員!$A:$C,3,FALSE))","v":3},"級","資格番号",null,"R004225713",null,null,{"$f":"N30","v":"ブルーウイングフットボールクラブ"},null,null,"AR1:",{"$f":"IF(ISERROR(VLOOKUP(S37,審判員!$A:$C,2,FALSE))=TRUE,\"\",VLOOKUP(S37,審判員!$A:$C,2,FALSE))","v":"渡邉　卓人"},{"$f":"IF(ISERROR(VLOOKUP(S37,審判員!$A:$C,3,FALSE))=TRUE,\"\",VLOOKUP(S37,審判員!$A:$C,3,FALSE))","v":3},"級","資格番号",null,"R010007794",null,null,{"$f":"B30","v":"リノスフットボールクラブ　Ｕ－１２"},null,null,null,null,null,null,null,null,null,{"$f":"AS25","v":1},null,"―",{"$f":"AP25","v":1},null,{"$f":"AS31","v":0},null,"―",{"$f":"AP31","v":0}]
["AR2:",{"$f":"IF(ISERROR(VLOOKUP(G38,審判員!$A:$C,2,FALSE))=TRUE,\"\",VLOOKUP(G38,審判員!$A:$C,2,FALSE))","v":"清家　大介"},{"$f":"IF(ISERROR(VLOOKUP(G38,審判員!$A:$C,3,FALSE))=TRUE,\"\",VLOOKUP(G38,審判員!$A:$C,3,FALSE))","v":3},"級","資格番号",null,"R010027823",null,null,{"$f":"V30","v":"鶴見少年サッカークラブ"},null,null,"AR2:",{"$f":"IF(ISERROR(VLOOKUP(S38,審判員!$A:$C,2,FALSE))=TRUE,\"\",VLOOKUP(S38,審判員!$A:$C,2,FALSE))","v":"柚木　徹也"},{"$f":"IF(ISERROR(VLOOKUP(S38,審判員!$A:$C,3,FALSE))=TRUE,\"\",VLOOKUP(S38,審判員!$A:$C,3,FALSE))","v":3},"級","資格番号",null,"R008515553",null,null,{"$f":"J30","v":"Ｓｈｙｎｔ　ＦＣ"}]
["4th:",{"$f":"IF(ISERROR(VLOOKUP(G39,審判員!$A:$C,2,FALSE))=TRUE,\"\",VLOOKUP(G39,審判員!$A:$C,2,FALSE))","v":"安倍　俊之"},{"$f":"IF(ISERROR(VLOOKUP(G39,審判員!$A:$C,3,FALSE))=TRUE,\"\",VLOOKUP(G39,審判員!$A:$C,3,FALSE))","v":4},"級","資格番号",null,"R010167738",null,null,"本部",null,null,"4th:",{"$f":"IF(ISERROR(VLOOKUP(S39,審判員!$A:$C,2,FALSE))=TRUE,\"\",VLOOKUP(S39,審判員!$A:$C,2,FALSE))","v":"中島　亮太"},{"$f":"IF(ISERROR(VLOOKUP(S39,審判員!$A:$C,3,FALSE))=TRUE,\"\",VLOOKUP(S39,審判員!$A:$C,3,FALSE))","v":3},"級","資格番号",null,"R010007829",null,null,"本部"]
["警告/退場","氏名","背番号","分","内容",null,"内容","分","背番号","氏名","警告/退場",null,"警告/退場","氏名","背番号","分","内容",null,"内容","分","背番号","氏名","警告/退場",null,"Ⅰ勝点（勝３点　ＰＫ勝２点　ＰＫ負１点　負０点）　Ⅱ当該チームの戦績　Ⅲ得失点差　Ⅳ多得点　Ⅴ抽選の順で順位を決定する。"]
[null,{"$f":"IF(ISERROR(VLOOKUP(CONCATENATE($B$30,\"_\",C41),選手名簿!$A:$E,5,FALSE))=TRUE,\"\",VLOOKUP(CONCATENATE($B$30,\"_\",C41),選手名簿!$A:$E,5,FALSE))","v":""},null,null,null,null,null,null,null,{"$f":"IF(ISERROR(VLOOKUP(CONCATENATE($J$30,\"_\",I41),選手名簿!$A:$E,5,FALSE))=TRUE,\"\",VLOOKUP(CONCATENATE($J$30,\"_\",I41),選手名簿!$A:$E,5,FALSE))","v":""},null,null,null,{"$f":"IF(ISERROR(VLOOKUP(CONCATENATE($N$30,\"_\",O41),選手名簿!$A:$E,5,FALSE))=TRUE,\"\",VLOOKUP(CONCATENATE($N$30,\"_\",O41),選手名簿!$A:$E,5,FALSE))","v":""},null,null,null,null,null,null,null,{"$f":"IF(ISERROR(VLOOKUP(CONCATENATE($V$30,\"_\",U41),選手名簿!$A:$E,5,FALSE))=TRUE,\"\",VLOOKUP(CONCATENATE($V$30,\"_\",U41),選手名簿!$A:$E,5,FALSE))","v":""}]
[null,{"$f":"IF(ISERROR(VLOOKUP(CONCATENATE($B$30,\"_\",C42),選手名簿!$A:$E,5,FALSE))=TRUE,\"\",VLOOKUP(CONCATENATE($B$30,\"_\",C42),選手名簿!$A:$E,5,FALSE))","v":""},null,null,null,null,null,null,null,{"$f":"IF(ISERROR(VLOOKUP(CONCATENATE($J$30,\"_\",I42),選手名簿!$A:$E,5,FALSE))=TRUE,\"\",VLOOKUP(CONCATENATE($J$30,\"_\",I42),選手名簿!$A:$E,5,FALSE))","v":""},null,null,null,{"$f":"IF(ISERROR(VLOOKUP(CONCATENATE($N$30,\"_\",O42),選手名簿!$A:$E,5,FALSE))=TRUE,\"\",VLOOKUP(CONCATENATE($N$30,\"_\",O42),選手名簿!$A:$E,5,FALSE))","v":""},null,null,null,null,null,null,null,{"$f":"IF(ISERROR(VLOOKUP(CONCATENATE($V$30,\"_\",U42),選手名簿!$A:$E,5,FALSE))=TRUE,\"\",VLOOKUP(CONCATENATE($V$30,\"_\",U42),選手名簿!$A:$E,5,FALSE))","v":""},null,null,"勝点表",null,"勝","○",null,"PK\n勝","△",null,"PK\n負","▲",null,"負","●"]
[null,{"$f":"IF(ISERROR(VLOOKUP(CONCATENATE($B$30,\"_\",C43),選手名簿!$A:$E,5,FALSE))=TRUE,\"\",VLOOKUP(CONCATENATE($B$30,\"_\",C43),選手名簿!$A:$E,5,FALSE))","v":""},null,null,null,null,null,null,null,{"$f":"IF(ISERROR(VLOOKUP(CONCATENATE($J$30,\"_\",I43),選手名簿!$A:$E,5,FALSE))=TRUE,\"\",VLOOKUP(CONCATENATE($J$30,\"_\",I43),選手名簿!$A:$E,5,FALSE))","v":""},null,null,null,{"$f":"IF(ISERROR(VLOOKUP(CONCATENATE($N$30,\"_\",O43),選手名簿!$A:$E,5,FALSE))=TRUE,\"\",VLOOKUP(CONCATENATE($N$30,\"_\",O43),選手名簿!$A:$E,5,FALSE))","v":""},null,null,null,null,null,null,null,{"$f":"IF(ISERROR(VLOOKUP(CONCATENATE($V$30,\"_\",U43),選手名簿!$A:$E,5,FALSE))=TRUE,\"\",VLOOKUP(CONCATENATE($V$30,\"_\",U43),選手名簿!$A:$E,5,FALSE))","v":""},null,null,null,null,null,3,null,null,2,null,null,1,null,null,0]
[null,{"$f":"IF(ISERROR(VLOOKUP(CONCATENATE($B$30,\"_\",C44),選手名簿!$A:$E,5,FALSE))=TRUE,\"\",VLOOKUP(CONCATENATE($B$30,\"_\",C44),選手名簿!$A:$E,5,FALSE))","v":""},null,null,null,null,null,null,null,{"$f":"IF(ISERROR(VLOOKUP(CONCATENATE($J$30,\"_\",I44),選手名簿!$A:$E,5,FALSE))=TRUE,\"\",VLOOKUP(CONCATENATE($J$30,\"_\",I44),選手名簿!$A:$E,5,FALSE))","v":""},null,null,null,{"$f":"IF(ISERROR(VLOOKUP(CONCATENATE($N$30,\"_\",O44),選手名簿!$A:$E,5,FALSE))=TRUE,\"\",VLOOKUP(CONCATENATE($N$30,\"_\",O44),選手名簿!$A:$E,5,FALSE))","v":""},null,null,null,null,null,null,null,{"$f":"IF(ISERROR(VLOOKUP(CONCATENATE($V$30,\"_\",U44),選手名簿!$A:$E,5,FALSE))=TRUE,\"\",VLOOKUP(CONCATENATE($V$30,\"_\",U44),選手名簿!$A:$E,5,FALSE))","v":""}]
[null,{"$f":"IF(ISERROR(VLOOKUP(CONCATENATE($B$30,\"_\",C45),選手名簿!$A:$E,5,FALSE))=TRUE,\"\",VLOOKUP(CONCATENATE($B$30,\"_\",C45),選手名簿!$A:$E,5,FALSE))","v":""},null,null,null,null,null,null,null,{"$f":"IF(ISERROR(VLOOKUP(CONCATENATE($J$30,\"_\",I45),選手名簿!$A:$E,5,FALSE))=TRUE,\"\",VLOOKUP(CONCATENATE($J$30,\"_\",I45),選手名簿!$A:$E,5,FALSE))","v":""},null,null,null,{"$f":"IF(ISERROR(VLOOKUP(CONCATENATE($N$30,\"_\",O45),選手名簿!$A:$E,5,FALSE))=TRUE,\"\",VLOOKUP(CONCATENATE($N$30,\"_\",O45),選手名簿!$A:$E,5,FALSE))","v":""},null,null,null,null,null,null,null,{"$f":"IF(ISERROR(VLOOKUP(CONCATENATE($V$30,\"_\",U45),選手名簿!$A:$E,5,FALSE))=TRUE,\"\",VLOOKUP(CONCATENATE($V$30,\"_\",U45),選手名簿!$A:$E,5,FALSE))","v":""}]
[]
[]
["⑤\n14:00～",{"$f":"C9","v":"Ｓｈｙｎｔ　ＦＣ"},{"$f":"IF(E48=\"\",\"\",SUM(E48:E49))","v":1},"（",0,"前半",0,"）",{"$f":"IF(G48=\"\",\"\",SUM(G48:G49))","v":1},{"$f":"C7","v":"ＦＣ　ＷＡＹＳ"},null,null,"⑥\n15:00～",{"$f":"O9","v":"鶴見少年サッカークラブ"},{"$f":"IF(Q48=\"\",\"\",SUM(Q48:Q49))","v":0},"（",0,"前半",3,"）",{"$f":"IF(S48=\"\",\"\",SUM(S48:S49))","v":8},{"$f":"O7","v":"四日市南ＳＳＣ"},null,null,{"$f":"$Y$1","v":"OFA 第 51 回大分県少年サッカー大会　兼　KYFA 九州U-12サッカー大会大分県大会"},null,null,null,null,null,null,null,null,null,null,null,null,null,null,null,null,null,null,null,null,null,null,null,null,null,null,null,null,null,null,null,null,null,null,null,{"$f":"$BI$1","v":"１次リーグ結果　報告用紙"}]
[null,null,null,null,1,"後半",1,null,null,null,null,null,null,null,null,null,0,"後半",5]
[null,null,null,null,null,"PK",null,null,null,null,null,null,null,null,null,null,null,"PK",null,null,null,null,null,null,"＜時間割＞　①10:00～　②11:00～　③12:00～　④13:00～　⑤14:00～　⑥15:00～"]
["MC","佐々木　秀樹",null,null,null,null,"所属協会",null,null,"(一社)大分県サッカー協会　ジュニア委員会",null,null,"MC","佐々木　秀樹",null,null,null,null,"所属協会",null,null,"(一社)大分県サッカー協会　ジュニア委員会"]
["WelfareOfficer","磯村　信一",null,null,null,null,"所属協会",null,null,"宇佐高田地区サッカー協会",null,null,"WelfareOfficer","磯村　信一",null,null,null,null,"所属協会",null,null,"宇佐高田地区サッカー協会"]
["記録","相良　章成",null,null,null,null,"所属協会",null,null,"宇佐高田地区サッカー協会",null,null,"記録","奥田　和彦",null,null,null,null,"所属協会",null,null,"宇佐高田地区サッカー協会"]
["R:",{"$f":"IF(ISERROR(VLOOKUP(G54,審判員!$A:$C,2,FALSE))=TRUE,\"\",VLOOKUP(G54,審判員!$A:$C,2,FALSE))","v":"草場　帆斗"},{"$f":"IF(ISERROR(VLOOKUP(G54,審判員!$A:$C,3,FALSE))=TRUE,\"\",VLOOKUP(G54,審判員!$A:$C,3,FALSE))","v":3},"級","資格番号",null,"R010247516",null,null,"本部",null,null,"R:",{"$f":"IF(ISERROR(VLOOKUP(S54,審判員!$A:$C,2,FALSE))=TRUE,\"\",VLOOKUP(S54,審判員!$A:$C,2,FALSE))","v":"田村　孝弘"},{"$f":"IF(ISERROR(VLOOKUP(S54,審判員!$A:$C,3,FALSE))=TRUE,\"\",VLOOKUP(S54,審判員!$A:$C,3,FALSE))","v":3},"級","資格番号",null,"R005164677",null,null,"本部",null,null,"会場",null,null,{"$f":"$N$4","v":"宇佐高田"},null,null,null,null,null,"⇒",{"$f":"$P$4","v":"宇佐市平成の森公園"}]
["AR1:",{"$f":"IF(ISERROR(VLOOKUP(G55,審判員!$A:$C,2,FALSE))=TRUE,\"\",VLOOKUP(G55,審判員!$A:$C,2,FALSE))","v":"清家　大介"},{"$f":"IF(ISERROR(VLOOKUP(G55,審判員!$A:$C,3,FALSE))=TRUE,\"\",VLOOKUP(G55,審判員!$A:$C,3,FALSE))","v":3},"級","資格番号",null,"R010027823",null,null,{"$f":"N48","v":"鶴見少年サッカークラブ"},null,null,"AR1:",{"$f":"IF(ISERROR(VLOOKUP(S55,審判員!$A:$C,2,FALSE))=TRUE,\"\",VLOOKUP(S55,審判員!$A:$C,2,FALSE))","v":"柚木　徹也"},{"$f":"IF(ISERROR(VLOOKUP(S55,審判員!$A:$C,3,FALSE))=TRUE,\"\",VLOOKUP(S55,審判員!$A:$C,3,FALSE))","v":3},"級","資格番号",null,"R008515553",null,null,{"$f":"B48","v":"Ｓｈｙｎｔ　ＦＣ"}]
["AR2:",{"$f":"IF(ISERROR(VLOOKUP(G56,審判員!$A:$C,2,FALSE))=TRUE,\"\",VLOOKUP(G56,審判員!$A:$C,2,FALSE))","v":"乙部　哲也"},{"$f":"IF(ISERROR(VLOOKUP(G56,審判員!$A:$C,3,FALSE))=TRUE,\"\",VLOOKUP(G56,審判員!$A:$C,3,FALSE))","v":3},"級","資格番号",null,"R002996695",null,null,{"$f":"V48","v":"四日市南ＳＳＣ"},null,null,"AR2:",{"$f":"IF(ISERROR(VLOOKUP(S56,審判員!$A:$C,2,FALSE))=TRUE,\"\",VLOOKUP(S56,審判員!$A:$C,2,FALSE))","v":"大久保　稔生"},{"$f":"IF(ISERROR(VLOOKUP(S56,審判員!$A:$C,3,FALSE))=TRUE,\"\",VLOOKUP(S56,審判員!$A:$C,3,FALSE))","v":3},"級","資格番号",null,"R008377616",null,null,{"$f":"J48","v":"ＦＣ　ＷＡＹＳ"}]
["4th:",{"$f":"IF(ISERROR(VLOOKUP(G57,審判員!$A:$C,2,FALSE))=TRUE,\"\",VLOOKUP(G57,審判員!$A:$C,2,FALSE))","v":"木下　秀紀"},{"$f":"IF(ISERROR(VLOOKUP(G57,審判員!$A:$C,3,FALSE))=TRUE,\"\",VLOOKUP(G57,審判員!$A:$C,3,FALSE))","v":4},"級","資格番号",null,"R008798138",null,null,"本部",null,null,"4th:",{"$f":"IF(ISERROR(VLOOKUP(S57,審判員!$A:$C,2,FALSE))=TRUE,\"\",VLOOKUP(S57,審判員!$A:$C,2,FALSE))","v":"栗井　勝"},{"$f":"IF(ISERROR(VLOOKUP(S57,審判員!$A:$C,3,FALSE))=TRUE,\"\",VLOOKUP(S57,審判員!$A:$C,3,FALSE))","v":3},"級","資格番号",null,"R010074028",null,null,"本部"]
["警告/退場","氏名","背番号","分","内容",null,"内容","分","背番号","氏名","警告/退場",null,"警告/退場","氏名","背番号","分","内容",null,"内容","分","背番号","氏名","警告/退場",null,"パート",null,null,{"$f":"$N$6","v":"I"}]
[null,{"$f":"IF(ISERROR(VLOOKUP(CONCATENATE($B$48,\"_\",C59),選手名簿!$A:$E,5,FALSE))=TRUE,\"\",VLOOKUP(CONCATENATE($B$48,\"_\",C59),選手名簿!$A:$E,5,FALSE))","v":""},null,null,null,null,null,null,null,{"$f":"IF(ISERROR(VLOOKUP(CONCATENATE($J$48,\"_\",I59),選手名簿!$A:$E,5,FALSE))=TRUE,\"\",VLOOKUP(CONCATENATE($J$48,\"_\",I59),選手名簿!$A:$E,5,FALSE))","v":""},null,null,null,{"$f":"IF(ISERROR(VLOOKUP(CONCATENATE($N$48,\"_\",O59),選手名簿!$A:$E,5,FALSE))=TRUE,\"\",VLOOKUP(CONCATENATE($N$48,\"_\",O59),選手名簿!$A:$E,5,FALSE))","v":""},null,null,null,null,null,null,null,{"$f":"IF(ISERROR(VLOOKUP(CONCATENATE($V$48,\"_\",U59),選手名簿!$A:$E,5,FALSE))=TRUE,\"\",VLOOKUP(CONCATENATE($V$48,\"_\",U59),選手名簿!$A:$E,5,FALSE))","v":""}]
[null,{"$f":"IF(ISERROR(VLOOKUP(CONCATENATE($B$48,\"_\",C60),選手名簿!$A:$E,5,FALSE))=TRUE,\"\",VLOOKUP(CONCATENATE($B$48,\"_\",C60),選手名簿!$A:$E,5,FALSE))","v":""},null,null,null,null,null,null,null,{"$f":"IF(ISERROR(VLOOKUP(CONCATENATE($J$48,\"_\",I60),選手名簿!$A:$E,5,FALSE))=TRUE,\"\",VLOOKUP(CONCATENATE($J$48,\"_\",I60),選手名簿!$A:$E,5,FALSE))","v":""},null,null,null,{"$f":"IF(ISERROR(VLOOKUP(CONCATENATE($N$48,\"_\",O60),選手名簿!$A:$E,5,FALSE))=TRUE,\"\",VLOOKUP(CONCATENATE($N$48,\"_\",O60),選手名簿!$A:$E,5,FALSE))","v":""},null,null,null,null,null,null,null,{"$f":"IF(ISERROR(VLOOKUP(CONCATENATE($V$48,\"_\",U60),選手名簿!$A:$E,5,FALSE))=TRUE,\"\",VLOOKUP(CONCATENATE($V$48,\"_\",U60),選手名簿!$A:$E,5,FALSE))","v":""},null,null,null,{"$f":"$N$7","v":"I1"},null,null,{"$f":"$O$7","v":"四日市南ＳＳＣ"},null,null,null,null,null,null,null,null,null,null,null,null,{"$f":"$V$7","v":"宇佐高田"}]
[null,{"$f":"IF(ISERROR(VLOOKUP(CONCATENATE($B$48,\"_\",C61),選手名簿!$A:$E,5,FALSE))=TRUE,\"\",VLOOKUP(CONCATENATE($B$48,\"_\",C61),選手名簿!$A:$E,5,FALSE))","v":""},null,null,null,null,null,null,null,{"$f":"IF(ISERROR(VLOOKUP(CONCATENATE($J$48,\"_\",I61),選手名簿!$A:$E,5,FALSE))=TRUE,\"\",VLOOKUP(CONCATENATE($J$48,\"_\",I61),選手名簿!$A:$E,5,FALSE))","v":""},null,null,null,{"$f":"IF(ISERROR(VLOOKUP(CONCATENATE($N$48,\"_\",O61),選手名簿!$A:$E,5,FALSE))=TRUE,\"\",VLOOKUP(CONCATENATE($N$48,\"_\",O61),選手名簿!$A:$E,5,FALSE))","v":""},null,null,null,null,null,null,null,{"$f":"IF(ISERROR(VLOOKUP(CONCATENATE($V$48,\"_\",U61),選手名簿!$A:$E,5,FALSE))=TRUE,\"\",VLOOKUP(CONCATENATE($V$48,\"_\",U61),選手名簿!$A:$E,5,FALSE))","v":""}]
[null,{"$f":"IF(ISERROR(VLOOKUP(CONCATENATE($B$48,\"_\",C62),選手名簿!$A:$E,5,FALSE))=TRUE,\"\",VLOOKUP(CONCATENATE($B$48,\"_\",C62),選手名簿!$A:$E,5,FALSE))","v":""},null,null,null,null,null,null,null,{"$f":"IF(ISERROR(VLOOKUP(CONCATENATE($J$48,\"_\",I62),選手名簿!$A:$E,5,FALSE))=TRUE,\"\",VLOOKUP(CONCATENATE($J$48,\"_\",I62),選手名簿!$A:$E,5,FALSE))","v":""},null,null,null,{"$f":"IF(ISERROR(VLOOKUP(CONCATENATE($N$48,\"_\",O62),選手名簿!$A:$E,5,FALSE))=TRUE,\"\",VLOOKUP(CONCATENATE($N$48,\"_\",O62),選手名簿!$A:$E,5,FALSE))","v":""},null,null,null,null,null,null,null,{"$f":"IF(ISERROR(VLOOKUP(CONCATENATE($V$48,\"_\",U62),選手名簿!$A:$E,5,FALSE))=TRUE,\"\",VLOOKUP(CONCATENATE($V$48,\"_\",U62),選手名簿!$A:$E,5,FALSE))","v":""},null,null,null,{"$f":"$N$8","v":"I2"},null,null,{"$f":"$O$8","v":"ブルーウイングフットボールクラブ"},null,null,null,null,null,null,null,null,null,null,null,null,{"$f":"$V$8","v":"大分"}]
[null,{"$f":"IF(ISERROR(VLOOKUP(CONCATENATE($B$48,\"_\",C63),選手名簿!$A:$E,5,FALSE))=TRUE,\"\",VLOOKUP(CONCATENATE($B$48,\"_\",C63),選手名簿!$A:$E,5,FALSE))","v":""},null,null,null,null,null,null,null,{"$f":"IF(ISERROR(VLOOKUP(CONCATENATE($J$48,\"_\",I63),選手名簿!$A:$E,5,FALSE))=TRUE,\"\",VLOOKUP(CONCATENATE($J$48,\"_\",I63),選手名簿!$A:$E,5,FALSE))","v":""},null,null,null,{"$f":"IF(ISERROR(VLOOKUP(CONCATENATE($N$48,\"_\",O63),選手名簿!$A:$E,5,FALSE))=TRUE,\"\",VLOOKUP(CONCATENATE($N$48,\"_\",O63),選手名簿!$A:$E,5,FALSE))","v":""},null,null,null,null,null,null,null,{"$f":"IF(ISERROR(VLOOKUP(CONCATENATE($V$48,\"_\",U63),選手名簿!$A:$E,5,FALSE))=TRUE,\"\",VLOOKUP(CONCATENATE($V$48,\"_\",U63),選手名簿!$A:$E,5,FALSE))","v":""}]
[null,null,null,null,null,null,null,null,null,null,null,null,null,null,null,null,null,null,null,null,null,null,null,null,null,{"$f":"$N$9","v":"I3"},null,null,{"$f":"$O$9","v":"鶴見少年サッカークラブ"},null,null,null,null,null,null,null,null,null,null,null,null,{"$f":"$V$9","v":"佐伯"}]
[]
[]
[]
[]
[]
[]
[]
[null,null,null,null,null,null,null,null,null,null,null,null,null,null,null,null,null,null,null,null,null,null,null,null,{"$f":"$Y$6","v":"パート"},null,null,null,{"$f":"$AB$58","v":"I"},null,null,{"$f":"$Y$78","v":"四日市南ＳＳＣ"},null,null,null,null,{"$f":"$Y$84","v":"ブルーウイングフットボールクラブ"},null,null,null,null,{"$f":"$Y$90","v":"鶴見少年サッカークラブ"},null,null,null,null,"勝",null,"PK\n勝",null,"PK\n負",null,"負",null,"得点",null,"失点",null,"勝点",null,"勝点\n順位",null,"得失\n点差",null,"得失\n順位",null,"総\n順位"]
[]
[]
[]
[]
[]
[null,null,null,null,null,null,null,null,null,null,null,null,null,null,null,null,null,null,null,null,null,null,null,null,{"$f":"$AC$60","v":"四日市南ＳＳＣ"},null,null,null,null,"星取表",null,null,null,null,null,null,{"$f":"IF(AK82=\"\",\"\",IF(AK82>AN82,\"○\",IF(AK82<AN82,\"●\",IF(AK80>AN80,\"△\",IF(AK80<AN80,\"▲\")))))","v":"●"},null,null,null,null,{"$f":"IF(AP82=\"\",\"\",IF(AP82>AS82,\"○\",IF(AP82<AS82,\"●\",IF(AP80>AS80,\"△\",IF(AP80<AS80,\"▲\")))))","v":"○"},null,null,null,null,{"$f":"COUNTIF($AF$78:$AT$79,\"○\")","v":1},null,{"$f":"COUNTIF($AF$78:$AT$79,\"△\")","v":0},null,{"$f":"COUNTIF($AF$78:$AT$79,\"▲\")","v":0},null,{"$f":"COUNTIF($AF$78:$AT$79,\"●\")","v":1},null,{"$f":"SUM($AK$82,$AP$82)","v":8},null,{"$f":"SUM($AN$82,$AS$82)","v":3},null,{"$f":"($AU$78*3)+($AW$78*2)+($AY$78*1)","v":3},null,{"$f":"RANK($BG$78,$BG$78:$BH$95)","v":2},null,{"$f":"$BC$78-$BE$78","v":5},null,{"$f":"RANK($BK$78,$BK$78:$BL$95)","v":2}]
[]
[null,null,null,null,null,null,null,null,null,null,null,null,null,null,null,null,null,null,null,null,null,null,null,null,null,null,null,null,null,null,null,null,null,null,null,null,{"$f":"IF($Q$14=\"\",\"\",$Q$14)","v":""},null,"―",{"$f":"IF($S$14=\"\",\"\",$S$14)","v":""},null,{"$f":"IF($S$50=\"\",\"\",$S$50)","v":""},null,"―",{"$f":"IF($Q$50=\"\",\"\",$Q$50)","v":""}]
[null,null,null,null,null,null,null,null,null,null,null,null,null,null,null,null,null,null,null,null,null,null,null,null,null,null,null,null,null,"得失点"]
[null,null,null,null,null,null,null,null,null,null,null,null,null,null,null,null,null,null,null,null,null,null,null,null,null,null,null,null,null,null,null,null,null,null,null,null,{"$f":"$O$12","v":0},null,"―",{"$f":"$U$12","v":3},null,{"$f":"$U$48","v":8},null,"―",{"$f":"$O$48","v":0}]
[]
[null,null,null,null,null,null,null,null,null,null,null,null,null,null,null,null,null,null,null,null,null,null,null,null,{"$f":"$AC$62","v":"ブルーウイングフットボールクラブ"},null,null,null,null,"星取表",null,{"$f":"IF(AF88=\"\",\"\",IF(AF88>AI88,\"○\",IF(AF88<AI88,\"●\",IF(AF86>AI86,\"△\",IF(AF86<AI86,\"▲\")))))","v":"○"},null,null,null,null,null,null,null,null,null,{"$f":"IF(AP88=\"\",\"\",IF(AP88>AS88,\"○\",IF(AP88<AS88,\"●\",IF(AP86>AS86,\"△\",IF(AP86<AS86,\"▲\")))))","v":"○"},null,null,null,null,{"$f":"COUNTIF($AF$84:$AT$85,\"○\")","v":2},null,{"$f":"COUNTIF($AF$84:$AT$85,\"△\")","v":0},null,{"$f":"COUNTIF($AF$84:$AT$85,\"▲\")","v":0},null,{"$f":"COUNTIF($AF$84:$AT$85,\"●\")","v":0},null,{"$f":"SUM($AF$88,$AP$88)","v":7},null,{"$f":"SUM($AI$88,$AS$88)","v":1},null,{"$f":"($AU$84*3)+($AW$84*2)+($AY$84*1)","v":6},null,{"$f":"RANK($BG$84,$BG$78:$BH$95)","v":1},null,{"$f":"$BC$84-$BE$84","v":6},null,{"$f":"RANK($BK$84,$BK$78:$BL$95)","v":1}]
[]
[null,null,null,null,null,null,null,null,null,null,null,null,null,null,null,null,null,null,null,null,null,null,null,null,null,null,null,null,null,null,null,{"$f":"AN80","v":""},null,"―",{"$f":"AK80","v":""},null,null,null,null,null,null,{"$f":"IF($Q$32=\"\",\"\",$Q$32)","v":""},null,"―",{"$f":"IF($S$32=\"\",\"\",$S$32)","v":""}]
[null,null,null,null,null,null,null,null,null,null,null,null,null,null,null,null,null,null,null,null,null,null,null,null,null,null,null,null,null,"得失点"]
[null,null,null,null,null,null,null,null,null,null,null,null,null,null,null,null,null,null,null,null,null,null,null,null,null,null,null,null,null,null,null,{"$f":"AN82","v":3},null,"―",{"$f":"AK82","v":0},null,null,null,null,null,null,{"$f":"$O$30","v":4},null,"―",{"$f":"$U$30","v":1}]
[]
[null,null,null,null,null,null,null,null,null,null,null,null,null,null,null,null,null,null,null,null,null,null,null,null,{"$f":"$AC$64","v":"鶴見少年サッカークラブ"},null,null,null,null,"星取表",null,{"$f":"IF(AF94=\"\",\"\",IF(AF94>AI94,\"○\",IF(AF94<AI94,\"●\",IF(AF92>AI92,\"△\",IF(AF92<AI92,\"▲\")))))","v":"●"},null,null,null,null,{"$f":"IF(AK94=\"\",\"\",IF(AK94>AN94,\"○\",IF(AK94<AN94,\"●\",IF(AK92>AN92,\"△\",IF(AK92<AN92,\"▲\")))))","v":"●"},null,null,null,null,null,null,null,null,null,{"$f":"COUNTIF($AF$90:$AT$91,\"○\")","v":0},null,{"$f":"COUNTIF($AF$90:$AT$91,\"△\")","v":0},null,{"$f":"COUNTIF($AF$90:$AT$91,\"▲\")","v":0},null,{"$f":"COUNTIF($AF$90:$AT$91,\"●\")","v":2},null,{"$f":"SUM($AF$94,$AK$94)","v":1},null,{"$f":"SUM($AI$94,$AN$94)","v":12},null,{"$f":"($AU$90*3)+($AW$90*2)+($AY$90*1)","v":0},null,{"$f":"RANK($BG$90,$BG$78:$BH$95)","v":3},null,{"$f":"$BC$90-$BE$90","v":-11},null,{"$f":"RANK($BK$90,$BK$78:$BL$95)","v":3}]
[]
[null,null,null,null,null,null,null,null,null,null,null,null,null,null,null,null,null,null,null,null,null,null,null,null,null,null,null,null,null,null,null,{"$f":"AS80","v":""},null,"―",{"$f":"AP80","v":""},null,{"$f":"AS86","v":""},null,"―",{"$f":"AP86","v":""}]
[null,null,null,null,null,null,null,null,null,null,null,null,null,null,null,null,null,null,null,null,null,null,null,null,null,null,null,null,null,"得失点"]
[null,null,null,null,null,null,null,null,null,null,null,null,null,null,null,null,null,null,null,null,null,null,null,null,null,null,null,null,null,null,null,{"$f":"AS82","v":0},null,"―",{"$f":"AP82","v":8},null,{"$f":"AS88","v":1},null,"―",{"$f":"AP88","v":4}]
[]
[]
[null,null,null,null,null,null,null,null,null,null,null,null,null,null,null,null,null,null,null,null,null,null,null,null,"Ⅰ勝点（勝３点　ＰＫ勝２点　ＰＫ負１点　負０点）　Ⅱ当該チームの戦績　Ⅲ得失点差　Ⅳ多得点　Ⅴ抽選の順で順位を決定する。"]
[]
[null,null,null,null,null,null,null,null,null,null,null,null,null,null,null,null,null,null,null,null,null,null,null,null,"勝点表",null,"勝","○",null,"PK\n勝","△",null,"PK\n負","▲",null,"負","●"]
[null,null,null,null,null,null,null,null,null,null,null,null,null,null,null,null,null,null,null,null,null,null,null,null,null,null,null,3,null,null,2,null,null,1,null,null,0]

{"sheet":"選手名簿","index":19,"n_rows":1692,"n_cols":8,"rows_kept":1692,"cut":false,"hidden":true,"merged":[]}
[{"$f":"CONCATENATE(B1,\"_\",C1)","v":"大会参加チーム名_背番号"},"大会参加チーム名","背番号","ポジション","選手名漢字","選手名カナ","学年","男女区分"]
[{"$f":"CONCATENATE(B2,\"_\",C2)","v":"石井ジュニアサッカークラブ_3"},"石井ジュニアサッカークラブ",{"$f":"(\"3\")","v":"3"},"FW","井上　惺央","イノウエ　セラ",3,"男子"]
[{"$f":"CONCATENATE(B3,\"_\",C3)","v":"石井ジュニアサッカークラブ_4"},"石井ジュニアサッカークラブ",{"$f":"(\"4\")","v":"4"},"FW","其田　駿平","ソノダ　シュンペイ",6,"男子"]
["石井ジュニアサッカークラブ_5","石井ジュニアサッカークラブ",{"$f":"(\"5\")","v":"5"},"GK","森山　雄大","モリヤマ　タケヒロ",6,"男子"]
["石井ジュニアサッカークラブ_6","石井ジュニアサッカークラブ",{"$f":"(\"6\")","v":"6"},"DF","其田　和士","ソノダ　カズシ",4,"男子"]
["石井ジュニアサッカークラブ_7","石井ジュニアサッカークラブ",{"$f":"(\"7\")","v":"7"},"DF","坂本　幸祐","サカモト　コウスケ",5,"男子"]
["石井ジュニアサッカークラブ_8","石井ジュニアサッカークラブ",{"$f":"(\"8\")","v":"8"},"MF","佐藤　悠太","サトウ　ユウタ",6,"男子"]
["石井ジュニアサッカークラブ_9","石井ジュニアサッカークラブ",{"$f":"(\"9\")","v":"9"},"MF","森下　晴心","モリシタ　ハルヤ",6,"男子"]
["石井ジュニアサッカークラブ_10","石井ジュニアサッカークラブ",{"$f":"(\"10\")","v":"10"},"MF","中村　颯和","ナカムラ　ソウヤ",6,"男子"]
["石井ジュニアサッカークラブ_11","石井ジュニアサッカークラブ",{"$f":"(\"11\")","v":"11"},"DF","佐藤　奏介","サトウ　ソウスケ",4,"男子"]
["石井ジュニアサッカークラブ_12","石井ジュニアサッカークラブ",{"$f":"(\"12\")","v":"12"},"DF","串尾　廣翔","クシオ　ヒロト",5,"男子"]
["石井ジュニアサッカークラブ_13","石井ジュニアサッカークラブ",{"$f":"(\"13\")","v":"13"},"FW","長尾　夢心和","ナガオ　ムウワ",5,"男子"]
["石井ジュニアサッカークラブ_14","石井ジュニアサッカークラブ",{"$f":"(\"14\")","v":"14"},"FW","串尾　遼馬","クシオ　ハルマ",2,"男子"]
["石井ジュニアサッカークラブ_15","石井ジュニアサッカークラブ",{"$f":"(\"15\")","v":"15"},"FW","石井　龍正","イシイ　リュウセイ",2,"男子"]
["ＭＦＣ三花少年サッカー教室_1","ＭＦＣ三花少年サッカー教室",{"$f":"(\"1\")","v":"1"},"GK","椋野　凌久","ムクノ　リク",5,"男子"]
["ＭＦＣ三花少年サッカー教室_2","ＭＦＣ三花少年サッカー教室",{"$f":"(\"2\")","v":"2"},"DF","諌山　星那","イサヤマ　セナ",4,"男子"]
["ＭＦＣ三花少年サッカー教室_3","ＭＦＣ三花少年サッカー教室",{"$f":"(\"3\")","v":"3"},"MF","木下　陽翔","キノシタ　ヒロト",4,"男子"]
["ＭＦＣ三花少年サッカー教室_4","ＭＦＣ三花少年サッカー教室",{"$f":"(\"4\")","v":"4"},"DF","和合　奏汰","ワゴウ　カナタ",6,"男子"]
["ＭＦＣ三花少年サッカー教室_5","ＭＦＣ三花少年サッカー教室",{"$f":"(\"5\")","v":"5"},"MF","木下　琥太郎","キノシタ　コタロウ",3,"男子"]
["ＭＦＣ三花少年サッカー教室_6","ＭＦＣ三花少年サッカー教室",{"$f":"(\"6\")","v":"6"},"FW","宇野　匠真","ウノ　ショウマ",4,"男子"]
["ＭＦＣ三花少年サッカー教室_7","ＭＦＣ三花少年サッカー教室",{"$f":"(\"7\")","v":"7"},"FW","倉田　康成","クラタ　ヤスナリ",6,"男子"]
["ＭＦＣ三花少年サッカー教室_8","ＭＦＣ三花少年サッカー教室",{"$f":"(\"8\")","v":"8"},"MF","平島　恋侍","ヒラジマ　レンジ",5,"男子"]
["ＭＦＣ三花少年サッカー教室_9","ＭＦＣ三花少年サッカー教室",{"$f":"(\"9\")","v":"9"},"DF","長谷部　南音","ハセベ　ナイン",6,"男子"]
["ＭＦＣ三花少年サッカー教室_10","ＭＦＣ三花少年サッカー教室",{"$f":"(\"10\")","v":"10"},"DF","諌山　琉生","イサヤマ　ルイ",6,"男子"]
["ＭＦＣ三花少年サッカー教室_11","ＭＦＣ三花少年サッカー教室",{"$f":"(\"11\")","v":"11"},"FW","小名川　晴大","コナガワ　ハルト",6,"男子"]
["ＭＦＣ三花少年サッカー教室_15","ＭＦＣ三花少年サッカー教室",{"$f":"(\"15\")","v":"15"},"GK","野田　大祐","ノダ　ダイスケ",5,"男子"]
["咸宜日隈ｓｃ_1","咸宜日隈ｓｃ",{"$f":"(\"1\")","v":"1"},"GK","本多　勇維","ホンダ　ユウイ",5,"男子"]
["咸宜日隈ｓｃ_2","咸宜日隈ｓｃ",{"$f":"(\"2\")","v":"2"},"MF","森口　柾","モリグチ　マサキ",5,"男子"]
["咸宜日隈ｓｃ_3","咸宜日隈ｓｃ",{"$f":"(\"3\")","v":"3"},"MF","須本　直和","スモト　ナオ",3,"男子"]
["咸宜日隈ｓｃ_4","咸宜日隈ｓｃ",{"$f":"(\"4\")","v":"4"},"DF","青柳　成征","アオヤギ　ヨシユキ",5,"男子"]
["咸宜日隈ｓｃ_5","咸宜日隈ｓｃ",{"$f":"(\"5\")","v":"5"},"DF","銭花　奏","ゼニバナ　ソウ",4,"男子"]
["咸宜日隈ｓｃ_7","咸宜日隈ｓｃ",{"$f":"(\"7\")","v":"7"},"FW","溝口　蓮","ミゾグチ　レン",5,"男子"]
["咸宜日隈ｓｃ_8","咸宜日隈ｓｃ",{"$f":"(\"8\")","v":"8"},"MF","三浦　碧藍","ミウラ　アラン",4,"男子"]
["咸宜日隈ｓｃ_9","咸宜日隈ｓｃ",{"$f":"(\"9\")","v":"9"},"DF","西村　莉杜","ニシムラ　リト",5,"男子"]
["咸宜日隈ｓｃ_11","咸宜日隈ｓｃ",{"$f":"(\"11\")","v":"11"},"FW","三浦　麗","ミウラ　ウルハ",6,"男子"]
["咸宜日隈ｓｃ_12","咸宜日隈ｓｃ",{"$f":"(\"12\")","v":"12"},"DF","松尾　恋","マツオ　レン",5,"女子小学生"]
["咸宜日隈ｓｃ_13","咸宜日隈ｓｃ",{"$f":"(\"13\")","v":"13"},"MF","前岡　明里","マエオカ　アカリ",5,"女子小学生"]
["咸宜日隈ｓｃ_14","咸宜日隈ｓｃ",{"$f":"(\"14\")","v":"14"},"MF","前岡　宏明","マエオカ　ヒロアキ",5,"男子"]
["咸宜日隈ｓｃ_16","咸宜日隈ｓｃ",{"$f":"(\"16\")","v":"16"},"DF","木下　成","キノシタ　ナル",4,"男子"]
["ＦＣアリアーレ_1","ＦＣアリアーレ",{"$f":"(\"1\")","v":"1"},"GK","古賀　貫太郎","コガ　カンタロウ",6,"男子"]
["ＦＣアリアーレ_2","ＦＣアリアーレ",{"$f":"(\"2\")","v":"2"},"MF","矢羽田　大夢","ヤハタ　ヒロム",6,"男子"]
["ＦＣアリアーレ_3","ＦＣアリアーレ",{"$f":"(\"3\")","v":"3"},"DF","梶原　龍恩","カジワラ　リュオン",6,"男子"]
["ＦＣアリアーレ_4","ＦＣアリアーレ",{"$f":"(\"4\")","v":"4"},"DF","新原　遥翔","シンバル　ハルト",6,"男子"]
["ＦＣアリアーレ_5","ＦＣアリアーレ",{"$f":"(\"5\")","v":"5"},"FW","杉野　佑樹","スギノ　ユウキ",6,"男子"]
["ＦＣアリアーレ_6","ＦＣアリアーレ",{"$f":"(\"6\")","v":"6"},"MF","三善　天翔","ミヨシ　ツバサ",6,"男子"]
["ＦＣアリアーレ_7","ＦＣアリアーレ",{"$f":"(\"7\")","v":"7"},"MF","河津　悠星","カワズ　ユウヤ",6,"男子"]
["ＦＣアリアーレ_8","ＦＣアリアーレ",{"$f":"(\"8\")","v":"8"},"MF","櫻木　海晴","サクラギ　カイセイ",6,"男子"]
["ＦＣアリアーレ_9","ＦＣアリアーレ",{"$f":"(\"9\")","v":"9"},"MF","吉弘　瑠唯","ヨシヒロ　ルイ",6,"男子"]
["ＦＣアリアーレ_10","ＦＣアリアーレ",{"$f":"(\"10\")","v":"10"},"DF","伊藤　瑠","イトウ　ルイ",6,"男子"]
["ＦＣアリアーレ_11","ＦＣアリアーレ",{"$f":"(\"11\")","v":"11"},"MF","吉野　可亜斗","ヨシノ　カアト",6,"男子"]
["ＦＣアリアーレ_12","ＦＣアリアーレ",{"$f":"(\"12\")","v":"12"},"FW","來島　禄依","キジマ　ロイ",5,"男子"]
["ＦＣアリアーレ_13","ＦＣアリアーレ",{"$f":"(\"13\")","v":"13"},"FW","右近　陽翔","ウコン　ハルト",4,"男子"]
["ＦＣアリアーレ_14","ＦＣアリアーレ",{"$f":"(\"14\")","v":"14"},"MF","日隈　琳鳳","ヒグマ　リオ",5,"男子"]
["ＦＣアリアーレ_15","ＦＣアリアーレ",{"$f":"(\"15\")","v":"15"},"DF","千原　天聖","チハラ　テンセイ",5,"男子"]
["ＦＣアリアーレ_16","ＦＣアリアーレ",{"$f":"(\"16\")","v":"16"},"DF","城野　大翔","ジョウノ　ヒロト",5,"男子"]
["ＦＣアリアーレ_17","ＦＣアリアーレ",{"$f":"(\"17\")","v":"17"},"MF","松岡　徠夢","マツオカ　ライム",5,"男子"]
["ＦＣアリアーレ_18","ＦＣアリアーレ",{"$f":"(\"18\")","v":"18"},"FW","梶原　凌","カジワラ　リョウ",5,"男子"]
["三芳少年サッカースクール_1","三芳少年サッカースクール",{"$f":"(\"1\")","v":"1"},"GK","江田　聖流","コウダ　セナ",3,"男子"]
["三芳少年サッカースクール_2","三芳少年サッカースクール",{"$f":"(\"2\")","v":"2"},"FW","髙倉　久継","タカクラ　ヒサツグ",4,"男子"]
["三芳少年サッカースクール_3","三芳少年サッカースクール",{"$f":"(\"3\")","v":"3"},"FW","高波　天惺","タカナミ　テンセイ",3,"男子"]
["三芳少年サッカースクール_4","三芳少年サッカースクール",{"$f":"(\"4\")","v":"4"},"DF","梶原　清太郎","カジワラ　セイタロウ",3,"男子"]
["三芳少年サッカースクール_5","三芳少年サッカースクール",{"$f":"(\"5\")","v":"5"},"DF","梶原　秀悟","カジワラ　シュウゴ",5,"男子"]
["三芳少年サッカースクール_6","三芳少年サッカースクール",{"$f":"(\"6\")","v":"6"},"FW","富田　健人","トミタ　ケント",4,"男子"]
["三芳少年サッカースクール_7","三芳少年サッカースクール",{"$f":"(\"7\")","v":"7"},"DF","藤原　翔太","フジワラ　ショウタ",6,"男子"]
["三芳少年サッカースクール_8","三芳少年サッカースクール",{"$f":"(\"8\")","v":"8"},"DF","椎原　颯麻","シイハラ　ソウマ",4,"男子"]
["三芳少年サッカースクール_9","三芳少年サッカースクール",{"$f":"(\"9\")","v":"9"},"FW","坂本　大和","サカモト　ヤマト",6,"男子"]
[{"$f":"CONCATENATE(B67,\"_\",C67)","v":"三芳少年サッカースクール_10"},"三芳少年サッカースクール",{"$f":"(\"10\")","v":"10"},"MF","宮野　幹大","ミヤノ　カンタ",6,"男子"]
["三芳少年サッカースクール_11","三芳少年サッカースクール",{"$f":"(\"11\")","v":"11"},"FW","金子　蓮","カネコ　レン",3,"男子"]
["三芳少年サッカースクール_12","三芳少年サッカースクール",{"$f":"(\"12\")","v":"12"},"DF","安田　悠人","ヤスダ　ユウト",3,"男子"]
["三芳少年サッカースクール_13","三芳少年サッカースクール",{"$f":"(\"13\")","v":"13"},"FW","立花　煉","タチバナ　レン",3,"男子"]
["三芳少年サッカースクール_14","三芳少年サッカースクール",{"$f":"(\"14\")","v":"14"},"FW","山本　晴翔","ヤマモト　ハルト",3,"男子"]
["三芳少年サッカースクール_15","三芳少年サッカースクール",{"$f":"(\"15\")","v":"15"},"DF","椎原　佑大","シイハラ　ユウタ",2,"男子"]
["三芳少年サッカースクール_16","三芳少年サッカースクール",{"$f":"(\"16\")","v":"16"},"FW","小山　泉粋","コヤマ　センスイ",2,"男子"]
["三芳少年サッカースクール_17","三芳少年サッカースクール",{"$f":"(\"17\")","v":"17"},"DF","佐藤　煌汰","サトウ　コウタ",2,"男子"]
["桂林少年サッカークラブ_1","桂林少年サッカークラブ",{"$f":"(\"1\")","v":"1"},"MF","梅田　侑虎","ウメダ　ユウト",5,"男子"]
["桂林少年サッカークラブ_2","桂林少年サッカークラブ",{"$f":"(\"2\")","v":"2"},"MF","高倉　大","タカクラ　ヒロ",5,"男子"]
["桂林少年サッカークラブ_3","桂林少年サッカークラブ",{"$f":"(\"3\")","v":"3"},"DF","坂本　幸斗","サカモト　ユキト",4,"男子"]
["桂林少年サッカークラブ_4","桂林少年サッカークラブ",{"$f":"(\"4\")","v":"4"},"FW","相良　琥希翔","サガラ　トキト",4,"男子"]
["桂林少年サッカークラブ_5","桂林少年サッカークラブ",{"$f":"(\"5\")","v":"5"},"DF","穴井　来夢","アナイ　ライム",4,"男子"]
["桂林少年サッカークラブ_6","桂林少年サッカークラブ",{"$f":"(\"6\")","v":"6"},"DF","松尾　栞汰","マツオ　カンタ",4,"男子"]
["桂林少年サッカークラブ_7","桂林少年サッカークラブ",{"$f":"(\"7\")","v":"7"},"MF","藤高　温希","フジタカ　ハルキ",4,"男子"]
["桂林少年サッカークラブ_8","桂林少年サッカークラブ",{"$f":"(\"8\")","v":"8"},"DF","井上　陽翔","イノウエ　タカト",5,"男子"]
["桂林少年サッカークラブ_9","桂林少年サッカークラブ",{"$f":"(\"9\")","v":"9"},"MF","長尾　俊汰","ナガオ　シュンタ",5,"男子"]
["桂林少年サッカークラブ_10","桂林少年サッカークラブ",{"$f":"(\"10\")","v":"10"},"MF","梅田　尚弥","ウメダ　ショウヤ",5,"男子"]
["桂林少年サッカークラブ_12","桂林少年サッカークラブ",{"$f":"(\"12\")","v":"12"},"DF","井上　凛士","イノウエ　リヒト",4,"男子"]
["桂林少年サッカークラブ_13","桂林少年サッカークラブ",{"$f":"(\"13\")","v":"13"},"FW","熊谷　夢翔","クマガイ　ユメト",4,"男子"]
["桂林少年サッカークラブ_14","桂林少年サッカークラブ",{"$f":"(\"14\")","v":"14"},"FW","日野　快玲","ヒノ　カイリ",2,"男子"]
["桂林少年サッカークラブ_16","桂林少年サッカークラブ",{"$f":"(\"16\")","v":"16"},"GK","日野　秀哉","ヒノ　シュウヤ",4,"男子"]
["玖珠サッカースポーツ少年団_1","玖珠サッカースポーツ少年団",{"$f":"(\"1\")","v":"1"},"FW","穴本　洋平","アナモト　ヨウヘイ",6,"男子"]
["玖珠サッカースポーツ少年団_2","玖珠サッカースポーツ少年団",{"$f":"(\"2\")","v":"2"},"DF","井上　大騎","イノウエ　ダイキ",6,"男子"]
["玖珠サッカースポーツ少年団_3","玖珠サッカースポーツ少年団",{"$f":"(\"3\")","v":"3"},"DF","溝口　虎汰郎","ミゾグチ　コタロウ",6,"男子"]
["玖珠サッカースポーツ少年団_4","玖珠サッカースポーツ少年団",{"$f":"(\"4\")","v":"4"},"FW","中　海舟","ナカ　カイシュウ",6,"男子"]
["玖珠サッカースポーツ少年団_5","玖珠サッカースポーツ少年団",{"$f":"(\"5\")","v":"5"},"GK","了戒　大雅","リョウカイ　タイガ",6,"男子"]
["玖珠サッカースポーツ少年団_6","玖珠サッカースポーツ少年団",{"$f":"(\"6\")","v":"6"},"DF","小野　昴輝","オノ　コウキ",6,"男子"]
["玖珠サッカースポーツ少年団_7","玖珠サッカースポーツ少年団",{"$f":"(\"7\")","v":"7"},"FW","井上　遊太","イノウエ　ユラタ",6,"男子"]
["玖珠サッカースポーツ少年団_8","玖珠サッカースポーツ少年団",{"$f":"(\"8\")","v":"8"},"MF","秋吉　祥吾","アキヨシ　ショウゴ",6,"男子"]
["玖珠サッカースポーツ少年団_9","玖珠サッカースポーツ少年団",{"$f":"(\"9\")","v":"9"},"MF","日隈　翔吾","ヒグマ　ショウゴ",6,"男子"]
["玖珠サッカースポーツ少年団_11","玖珠サッカースポーツ少年団",{"$f":"(\"11\")","v":"11"},"MF","石井　幸之助","イシイ　コウノスケ",6,"男子"]
["玖珠サッカースポーツ少年団_12","玖珠サッカースポーツ少年団",{"$f":"(\"12\")","v":"12"},"DF","穴本　洋雅","アナモト　ヒロマサ",5,"男子"]
["玖珠サッカースポーツ少年団_13","玖珠サッカースポーツ少年団",{"$f":"(\"13\")","v":"13"},"MF","了戒　飛雅","リョウカイ　ヒュウガ",5,"男子"]
["玖珠サッカースポーツ少年団_14","玖珠サッカースポーツ少年団",{"$f":"(\"14\")","v":"14"},"FW","神田　明毅斗","カンダ　アキト",5,"男子"]
["玖珠サッカースポーツ少年団_15","玖珠サッカースポーツ少年団",{"$f":"(\"15\")","v":"15"},"DF","宝珠　咲羽","ホウス　サワ",5,"女子小学生"]
["玖珠サッカースポーツ少年団_16","玖珠サッカースポーツ少年団",{"$f":"(\"16\")","v":"16"},"DF","下津　結奈","シモツ　ユイナ",5,"女子小学生"]
["玖珠サッカースポーツ少年団_17","玖珠サッカースポーツ少年団",{"$f":"(\"17\")","v":"17"},"FW","中村　昊陽","ナカムラ　コウヨウ",5,"男子"]
["玖珠サッカースポーツ少年団_18","玖珠サッカースポーツ少年団",{"$f":"(\"18\")","v":"18"},"MF","園田　心汰朗","ソノダ　コタロウ",5,"男子"]
["玖珠サッカースポーツ少年団_19","玖珠サッカースポーツ少年団",{"$f":"(\"19\")","v":"19"},"FW","安部　良祐","アベ　リョウスケ",4,"男子"]
["ＦＣ．ＵＳＡ_1","ＦＣ．ＵＳＡ",{"$f":"(\"1\")","v":"1"},"GK","松浪　太毅","マツナミ　タイキ",6,"男子"]
["ＦＣ．ＵＳＡ_2","ＦＣ．ＵＳＡ",{"$f":"(\"2\")","v":"2"},"DF","田崎　大翔","タザキ　ダイト",6,"男子"]
["ＦＣ．ＵＳＡ_3","ＦＣ．ＵＳＡ",{"$f":"(\"3\")","v":"3"},"DF","四井　嶺成","ヨツイ　リョウセイ",6,"男子"]
["ＦＣ．ＵＳＡ_4","ＦＣ．ＵＳＡ",{"$f":"(\"4\")","v":"4"},"MF","長本　健太郎","ナガモト　ケンタロウ",5,"男子"]
["ＦＣ．ＵＳＡ_5","ＦＣ．ＵＳＡ",{"$f":"(\"5\")","v":"5"},"MF","後藤　結俊","ゴトウ　ユイト",6,"男子"]
["ＦＣ．ＵＳＡ_6","ＦＣ．ＵＳＡ",{"$f":"(\"6\")","v":"6"},"MF","長田　遥蒼","ナガタ　トア",6,"男子"]
["ＦＣ．ＵＳＡ_7","ＦＣ．ＵＳＡ",{"$f":"(\"7\")","v":"7"},"MF","小松　翔英","コマツ　ショウエイ",5,"男子"]
["ＦＣ．ＵＳＡ_8","ＦＣ．ＵＳＡ",{"$f":"(\"8\")","v":"8"},"FW","新井　周人","アライ　シュウト",5,"男子"]
["ＦＣ．ＵＳＡ_9","ＦＣ．ＵＳＡ",{"$f":"(\"9\")","v":"9"},"MF","四井　虎太郎","ヨツイ　コタロウ",5,"男子"]
["ＦＣ．ＵＳＡ_10","ＦＣ．ＵＳＡ",{"$f":"(\"10\")","v":"10"},"FW","豊永　優月","トヨナガ　ユヅキ",4,"男子"]
["ＦＣ．ＵＳＡ_11","ＦＣ．ＵＳＡ",{"$f":"(\"11\")","v":"11"},"FW","新井　瑛人","アライ　エイト",3,"男子"]
["ＦＣ．ＵＳＡ_16","ＦＣ．ＵＳＡ",{"$f":"(\"16\")","v":"16"},"GK","浜永　征斗","ハマナガ　ユキト",4,"男子"]
["ＦＣ　ＷＡＹＳ_1","ＦＣ　ＷＡＹＳ",{"$f":"(\"1\")","v":"1"},"GK","佐藤　崇真","サトウ　ソウマ",5,"男子"]
["ＦＣ　ＷＡＹＳ_2","ＦＣ　ＷＡＹＳ",{"$f":"(\"2\")","v":"2"},"MF","角野　泰偲","カクノ　タイシ",6,"男子"]
["ＦＣ　ＷＡＹＳ_3","ＦＣ　ＷＡＹＳ",{"$f":"(\"3\")","v":"3"},"MF","梶原　颯汰","カジワラ　ソウタ",6,"男子"]
["ＦＣ　ＷＡＹＳ_4","ＦＣ　ＷＡＹＳ",{"$f":"(\"4\")","v":"4"},"MF","金子　周太","カネコ　シュウタ",6,"男子"]
["ＦＣ　ＷＡＹＳ_5","ＦＣ　ＷＡＹＳ",{"$f":"(\"5\")","v":"5"},"DF","兒島　佑朔","コジマ　ユウサク",6,"男子"]
["ＦＣ　ＷＡＹＳ_7","ＦＣ　ＷＡＹＳ",{"$f":"(\"7\")","v":"7"},"MF","吉井　琉輝斗","ヨシイ　ルキト",6,"男子"]
["ＦＣ　ＷＡＹＳ_8","ＦＣ　ＷＡＹＳ",{"$f":"(\"8\")","v":"8"},"MF","金子　寛太","カネコ　カンタ",5,"男子"]
["ＦＣ　ＷＡＹＳ_9","ＦＣ　ＷＡＹＳ",{"$f":"(\"9\")","v":"9"},"DF","松崎　壮悟","マツザキ　ショウゴ",6,"男子"]
["ＦＣ　ＷＡＹＳ_10","ＦＣ　ＷＡＹＳ",{"$f":"(\"10\")","v":"10"},"FW","今仁　雅治","イマニ　マサハル",6,"男子"]
["ＦＣ　ＷＡＹＳ_11","ＦＣ　ＷＡＹＳ",{"$f":"(\"11\")","v":"11"},"MF","本多　勝","ホンダ　ショウ",5,"男子"]
["ＦＣ　ＷＡＹＳ_12","ＦＣ　ＷＡＹＳ",{"$f":"(\"12\")","v":"12"},"FW","永岡　大空","ナガオカ　ソラ",6,"男子"]
["ＦＣ　ＷＡＹＳ_13","ＦＣ　ＷＡＹＳ",{"$f":"(\"13\")","v":"13"},"MF","津々良　瑠輝","ツヅラ　リュウキ",5,"男子"]
[{"$f":"CONCATENATE(B131,\"_\",C131)","v":"ＦＣ　ＷＡＹＳ_14"},"ＦＣ　ＷＡＹＳ",{"$f":"(\"14\")","v":"14"},"DF","林　泰毅","ハヤシ　タイキ",5,"男子"]
["ＦＣ　ＷＡＹＳ_15","ＦＣ　ＷＡＹＳ",{"$f":"(\"15\")","v":"15"},"DF","松山　煌","マツヤマ　キラ",5,"男子"]
["ＦＣ　ＷＡＹＳ_16","ＦＣ　ＷＡＹＳ",{"$f":"(\"16\")","v":"16"},"GK","西願　玄騎","サイガン　ゲンキ",6,"男子"]
["ＦＣ　ＷＡＹＳ_23","ＦＣ　ＷＡＹＳ",{"$f":"(\"23\")","v":"23"},"GK","三ヶ尻　蒼哉","ミカジリ　ソウヤ",6,"男子"]
["四日市南ＳＳＣ_1","四日市南ＳＳＣ",{"$f":"(\"1\")","v":"1"},"GK","小宮　悠雅","コミヤ　ユウガ",5,"男子"]
["四日市南ＳＳＣ_2","四日市南ＳＳＣ",{"$f":"(\"2\")","v":"2"},"MF","石田　修太","イシダ　シュウタ",5,"男子"]
["四日市南ＳＳＣ_3","四日市南ＳＳＣ",{"$f":"(\"3\")","v":"3"},"FW","幸野　英史郎","コウノ　エイシロウ",4,"男子"]
["四日市南ＳＳＣ_4","四日市南ＳＳＣ",{"$f":"(\"4\")","v":"4"},"DF","植松　周","ウエマツ　シュウ",5,"男子"]
["四日市南ＳＳＣ_5","四日市南ＳＳＣ",{"$f":"(\"5\")","v":"5"},"MF","深見　心春","フカミ　キヨハル",5,"男子"]
[{"$f":"CONCATENATE(B140,\"_\",C140)","v":"四日市南ＳＳＣ_6"},"四日市南ＳＳＣ",{"$f":"(\"6\")","v":"6"},"DF","原田　透斗","ハラダ　ユキト",5,"男子"]
["四日市南ＳＳＣ_7","四日市南ＳＳＣ",{"$f":"(\"7\")","v":"7"},"MF","権藤　昊","ゴンドウ　ソラ",5,"男子"]
["四日市南ＳＳＣ_8","四日市南ＳＳＣ",{"$f":"(\"8\")","v":"8"},"FP","後藤　大輝","ゴトウ　ダイキ",5,"男子"]
["四日市南ＳＳＣ_9","四日市南ＳＳＣ",{"$f":"(\"9\")","v":"9"},"MF","井手　温稀","イデ　ミツキ",5,"男子"]
["四日市南ＳＳＣ_10","四日市南ＳＳＣ",{"$f":"(\"10\")","v":"10"},"FW","黒田　侑希","クロダ　ユウキ",6,"男子"]
["四日市南ＳＳＣ_11","四日市南ＳＳＣ",{"$f":"(\"11\")","v":"11"},"MF","中野　咲音","ナカノ　サクト",6,"男子"]
["四日市南ＳＳＣ_12","四日市南ＳＳＣ",{"$f":"(\"12\")","v":"12"},"MF","佐藤　遥馬","サトウ　ハルマ",5,"男子"]
["四日市南ＳＳＣ_13","四日市南ＳＳＣ",{"$f":"(\"13\")","v":"13"},"DF","津田　藍斗","ツダ　アイト",4,"男子"]
["四日市南ＳＳＣ_14","四日市南ＳＳＣ",{"$f":"(\"14\")","v":"14"},"DF","羽根　佑星","ハネ　ユウセイ",5,"男子"]
["四日市南ＳＳＣ_15","四日市南ＳＳＣ",{"$f":"(\"15\")","v":"15"},"DF","長岡　玲司","ナガオカ　レイジ",4,"男子"]
["四日市南ＳＳＣ_16","四日市南ＳＳＣ",{"$f":"(\"16\")","v":"16"},"GK","千々松　夏生","チヂマツ　ナツ",4,"男子"]
["四日市北ＪＦＣ_1","四日市北ＪＦＣ",{"$f":"(\"1\")","v":"1"},"GK","羽賀　泰誠","ハガ　タイセイ",6,"男子"]
["四日市北ＪＦＣ_2","四日市北ＪＦＣ",{"$f":"(\"2\")","v":"2"},"MF","河野　晃久","カワノ　アキヒサ",4,"男子"]
["四日市北ＪＦＣ_3","四日市北ＪＦＣ",{"$f":"(\"3\")","v":"3"},"DF","榎園　愛弥","エノキゾノ　マナヤ",6,"男子"]
["四日市北ＪＦＣ_4","四日市北ＪＦＣ",{"$f":"(\"4\")","v":"4"},"MF","犬丸　悠吾","イヌマル　ユウゴ",5,"男子"]
["四日市北ＪＦＣ_5","四日市北ＪＦＣ",{"$f":"(\"5\")","v":"5"},"DF","藤垣　仁","フジガキ　ジン",6,"男子"]
["四日市北ＪＦＣ_6","四日市北ＪＦＣ",{"$f":"(\"6\")","v":"6"},"MF","田中　英翔","タナカ　ヒデト",5,"男子"]
["四日市北ＪＦＣ_8","四日市北ＪＦＣ",{"$f":"(\"8\")","v":"8"},"FW","木下　あかね","キノシタ　アカネ",6,"女子小学生"]
["四日市北ＪＦＣ_9","四日市北ＪＦＣ",{"$f":"(\"9\")","v":"9"},"FW","安倍　翔空","アベ　トア",2,"男子"]
["四日市北ＪＦＣ_10","四日市北ＪＦＣ",{"$f":"(\"10\")","v":"10"},"MF","安倍　蒼空","アベ　ソラ",6,"男子"]
["四日市北ＪＦＣ_11","四日市北ＪＦＣ",{"$f":"(\"11\")","v":"11"},"MF","辻　麻鈴","ツジ　マリン",6,"女子小学生"]
["きつきＦＣ_1","きつきＦＣ",{"$f":"(\"1\")","v":"1"},"GK","清水　優輔","シミズ　ユウスケ",5,"男子"]
["きつきＦＣ_3","きつきＦＣ",{"$f":"(\"3\")","v":"3"},"MF","末廣　虎太郎","スエヒロ　コタロウ",3,"男子"]
["きつきＦＣ_4","きつきＦＣ",{"$f":"(\"4\")","v":"4"},"MF","木元　大芽","キモト　タイガ",4,"男子"]
["きつきＦＣ_5","きつきＦＣ",{"$f":"(\"5\")","v":"5"},"DF","廣瀬　帆斗","ヒロセ　ハント",4,"男子"]
["きつきＦＣ_6","きつきＦＣ",{"$f":"(\"6\")","v":"6"},"FW","林　悠真","ハヤシ　ユウマ",6,"男子"]
["きつきＦＣ_7","きつきＦＣ",{"$f":"(\"7\")","v":"7"},"DF","岩田　璃空","イワタ　リク",5,"男子"]
["きつきＦＣ_8","きつきＦＣ",{"$f":"(\"8\")","v":"8"},"DF","野﨑　麻琉","ノザキ　マル",5,"男子"]
["きつきＦＣ_9","きつきＦＣ",{"$f":"(\"9\")","v":"9"},"MF","伊東　克弥","イトウ　カツミ",6,"男子"]
["きつきＦＣ_10","きつきＦＣ",{"$f":"(\"10\")","v":"10"},"MF","元木　漣","モトキ　レン",6,"男子"]
["きつきＦＣ_11","きつきＦＣ",{"$f":"(\"11\")","v":"11"},"FW","立脇　蒼惟","タテワキ　アオイ",6,"男子"]
["きつきＦＣ_13","きつきＦＣ",{"$f":"(\"13\")","v":"13"},"FW","伊藤　天雅","イトウ　テンマ",2,"男子"]
["きつきＦＣ_14","きつきＦＣ",{"$f":"(\"14\")","v":"14"},"FW","内藤　士穏","ナイトウ　シオン",2,"男子"]
["きつきＦＣ_15","きつきＦＣ",{"$f":"(\"15\")","v":"15"},"FW","立脇　蓮惟","タテワキ　レイ",2,"男子"]
["きつきＦＣ_16","きつきＦＣ",{"$f":"(\"16\")","v":"16"},"GK","木元　大和","キモト　ヤマト",6,"男子"]
["くにさき東ＦＣ_1","くにさき東ＦＣ",{"$f":"(\"1\")","v":"1"},"GK","西村　健","ニシムラ　ケン",6,"男子"]
["くにさき東ＦＣ_2","くにさき東ＦＣ",{"$f":"(\"2\")","v":"2"},"MF","浅井　悠成","アザイ　ユウセイ",4,"男子"]
["くにさき東ＦＣ_3","くにさき東ＦＣ",{"$f":"(\"3\")","v":"3"},"MF","阿部　龍心","アベ　リュウシン",5,"男子"]
["くにさき東ＦＣ_4","くにさき東ＦＣ",{"$f":"(\"4\")","v":"4"},"MF","鶴田　惇月","ツルタ　アツキ",5,"男子"]
["くにさき東ＦＣ_5","くにさき東ＦＣ",{"$f":"(\"5\")","v":"5"},"DF","酒井　渉","サカイ　ワタル",6,"男子"]
["くにさき東ＦＣ_6","くにさき東ＦＣ",{"$f":"(\"6\")","v":"6"},"DF","鹿野　大誠","カノ　タイセイ",6,"男子"]
["くにさき東ＦＣ_7","くにさき東ＦＣ",{"$f":"(\"7\")","v":"7"},"MF","酒井　大空翔","サカイ　タクト",5,"男子"]
["くにさき東ＦＣ_8","くにさき東ＦＣ",{"$f":"(\"8\")","v":"8"},"MF","河野　一翔","コウノ　イチト",5,"男子"]
["くにさき東ＦＣ_9","くにさき東ＦＣ",{"$f":"(\"9\")","v":"9"},"MF","安部　椛恋","アベ　カレン",6,"女子小学生"]
["くにさき東ＦＣ_10","くにさき東ＦＣ",{"$f":"(\"10\")","v":"10"},"MF","亀井　獅恩","カメイ　シオン",6,"男子"]
["くにさき東ＦＣ_11","くにさき東ＦＣ",{"$f":"(\"11\")","v":"11"},"FW","岩尾　颯翔","イワオ　ハヤト",6,"男子"]
["くにさき東ＦＣ_12","くにさき東ＦＣ",{"$f":"(\"12\")","v":"12"},"FW","合田　銀次郎","ゴウダ　ギンジロウ",6,"男子"]
["くにさき東ＦＣ_13","くにさき東ＦＣ",{"$f":"(\"13\")","v":"13"},"MF","森崎　悠兜","モリサキ　ユウト",6,"男子"]
["くにさき東ＦＣ_14","くにさき東ＦＣ",{"$f":"(\"14\")","v":"14"},"MF","鶴田　玲","ツルタ　レイ",5,"男子"]
["くにさき東ＦＣ_15","くにさき東ＦＣ",{"$f":"(\"15\")","v":"15"},"MF","田口　陸斗","タグチ　リクト",5,"男子"]
["くにさき東ＦＣ_18","くにさき東ＦＣ",{"$f":"(\"18\")","v":"18"},"GK","長谷雄　大和","ハセオ　ヤマト",4,"男子"]
["八坂少年サッカークラブ_1","八坂少年サッカークラブ",{"$f":"(\"1\")","v":"1"},"GK","大村　響葵","オオムラ　ヒビキ",5,"男子"]
["八坂少年サッカークラブ_2","八坂少年サッカークラブ",{"$f":"(\"2\")","v":"2"},"DF","梅田　昌志","ウメダ　マサシ",6,"男子"]
["八坂少年サッカークラブ_3","八坂少年サッカークラブ",{"$f":"(\"3\")","v":"3"},"DF","堀　浩太朗","ホリ　コウタロウ",4,"男子"]
["八坂少年サッカークラブ_4","八坂少年サッカークラブ",{"$f":"(\"4\")","v":"4"},"DF","工藤　愛叶","クドウ　マナト",5,"男子"]
["八坂少年サッカークラブ_5","八坂少年サッカークラブ",{"$f":"(\"5\")","v":"5"},"DF","旭　怜仁","アサヒ　レント",6,"男子"]
[{"$f":"CONCATENATE(B196,\"_\",C196)","v":"八坂少年サッカークラブ_6"},"八坂少年サッカークラブ",{"$f":"(\"6\")","v":"6"},"DF","中根　漸","ナカネ　ゼン",6,"男子"]
["八坂少年サッカークラブ_7","八坂少年サッカークラブ",{"$f":"(\"7\")","v":"7"},"MF","藤原　巧惺","フジワラ　コウセイ",6,"男子"]
["八坂少年サッカークラブ_8","八坂少年サッカークラブ",{"$f":"(\"8\")","v":"8"},"FW","田中　琥太郎","タナカ　コタロウ",5,"男子"]
["八坂少年サッカークラブ_9","八坂少年サッカークラブ",{"$f":"(\"9\")","v":"9"},"MF","渡邊　駿貴","ワタナベ　シュンキ",4,"男子"]
["八坂少年サッカークラブ_10","八坂少年サッカークラブ",{"$f":"(\"10\")","v":"10"},"MF","阿部　真佳","アベ　マナカ",5,"女子小学生"]
["八坂少年サッカークラブ_11","八坂少年サッカークラブ",{"$f":"(\"11\")","v":"11"},"MF","大畑　翔太郎","オオハタ　ショウタロウ",4,"男子"]
["八坂少年サッカークラブ_12","八坂少年サッカークラブ",{"$f":"(\"12\")","v":"12"},"DF","浅野　力我","アサノ　リキガ",4,"男子"]
["八坂少年サッカークラブ_13","八坂少年サッカークラブ",{"$f":"(\"13\")","v":"13"},"DF","青野　鈴華","アオノ　リンカ",4,"女子小学生"]
["八坂少年サッカークラブ_14","八坂少年サッカークラブ",{"$f":"(\"14\")","v":"14"},"FW","工藤　唯菜","クドウ　ユイナ",4,"女子小学生"]
["八坂少年サッカークラブ_15","八坂少年サッカークラブ",{"$f":"(\"15\")","v":"15"},"FW","南　樹希","ミナミ　イツキ",4,"男子"]
["八坂少年サッカークラブ_16","八坂少年サッカークラブ",{"$f":"(\"16\")","v":"16"},"FW","豊島　一聡","トヨシマ　イッサ",4,"男子"]
["八坂少年サッカークラブ_17","八坂少年サッカークラブ",{"$f":"(\"17\")","v":"17"},"GK","青野　良真","アオノ　リョウマ",6,"男子"]
["八坂少年サッカークラブ_18","八坂少年サッカークラブ",{"$f":"(\"18\")","v":"18"},"FW","山平　晃輝","ヤマヒラ　コウキ",4,"男子"]
["武蔵オークスサッカークラブ_1","武蔵オークスサッカークラブ",{"$f":"(\"1\")","v":"1"},"GK","大橋　凪","オオハシ　ナギ",6,"男子"]
["武蔵オークスサッカークラブ_2","武蔵オークスサッカークラブ",{"$f":"(\"2\")","v":"2"},"MF","松原　樹","マツバラ　イツキ",6,"男子"]
["武蔵オークスサッカークラブ_4","武蔵オークスサッカークラブ",{"$f":"(\"4\")","v":"4"},"MF","太田　陽菜","オオタ　ハルナ",5,"女子小学生"]
["武蔵オークスサッカークラブ_5","武蔵オークスサッカークラブ",{"$f":"(\"5\")","v":"5"},"DF","江本　達稀","エモト　タツキ",5,"男子"]
["武蔵オークスサッカークラブ_6","武蔵オークスサッカークラブ",{"$f":"(\"6\")","v":"6"},"DF","平塚　優亜","ヒラツカ　ユウア",5,"男子"]
["武蔵オークスサッカークラブ_7","武蔵オークスサッカークラブ",{"$f":"(\"7\")","v":"7"},"FW","藤原　叶汰","フジワラ　カナタ",5,"男子"]
["武蔵オークスサッカークラブ_8","武蔵オークスサッカークラブ",{"$f":"(\"8\")","v":"8"},"MF","福田　ここな","フクダ　ココナ",4,"女子小学生"]
["武蔵オークスサッカークラブ_9","武蔵オークスサッカークラブ",{"$f":"(\"9\")","v":"9"},"FW","佐藤　佑樹","サトウ　ユウキ",6,"男子"]
["武蔵オークスサッカークラブ_10","武蔵オークスサッカークラブ",{"$f":"(\"10\")","v":"10"},"DF","末綱　倖成","スエツナ　ユキナリ",6,"男子"]
["武蔵オークスサッカークラブ_11","武蔵オークスサッカークラブ",{"$f":"(\"11\")","v":"11"},"MF","有村　連空瑠","アリムラ　レアル",6,"男子"]
["武蔵オークスサッカークラブ_12","武蔵オークスサッカークラブ",{"$f":"(\"12\")","v":"12"},"FW","清末　智暉","キヨスエ　トモキ",6,"男子"]
["武蔵オークスサッカークラブ_16","武蔵オークスサッカークラブ",{"$f":"(\"16\")","v":"16"},"GK","德丸　聖人","トクマル　マサト",5,"男子"]
["はやぶさフットボールクラブ_1","はやぶさフットボールクラブ",{"$f":"(\"1\")","v":"1"},"GK","友松　亮大","トモマツ　アキヒロ",6,"男子"]
["はやぶさフットボールクラブ_2","はやぶさフットボールクラブ",{"$f":"(\"2\")","v":"2"},"FW","黒川　諒太","クロカワ　リョウタ",5,"男子"]
["はやぶさフットボールクラブ_3","はやぶさフットボールクラブ",{"$f":"(\"3\")","v":"3"},"MF","今西　杏凛","イマニシ　アンリ",5,"女子小学生"]
["はやぶさフットボールクラブ_4","はやぶさフットボールクラブ",{"$f":"(\"4\")","v":"4"},"MF","廣池　樂","ヒロイケ　ラク",5,"男子"]
["はやぶさフットボールクラブ_5","はやぶさフットボールクラブ",{"$f":"(\"5\")","v":"5"},"FW","橋口　優斗","ハシグチ　ユウト",5,"男子"]
["はやぶさフットボールクラブ_7","はやぶさフットボールクラブ",{"$f":"(\"7\")","v":"7"},"DF","後藤　和駕人","ゴトウ　ワカト",6,"男子"]
["はやぶさフットボールクラブ_8","はやぶさフットボールクラブ",{"$f":"(\"8\")","v":"8"},"MF","竹本　優希","タケモト　ユウキ",6,"男子"]
["はやぶさフットボールクラブ_9","はやぶさフットボールクラブ",{"$f":"(\"9\")","v":"9"},"MF","岡本　渉","オカモト　ワタル",5,"男子"]
["はやぶさフットボールクラブ_10","はやぶさフットボールクラブ",{"$f":"(\"10\")","v":"10"},"FW","山本　獅王","ヤマモト　レオ",6,"男子"]
["はやぶさフットボールクラブ_11","はやぶさフットボールクラブ",{"$f":"(\"11\")","v":"11"},"DF","西耒　龍界","サイライ　リョウカ",6,"男子"]
["はやぶさフットボールクラブ_12","はやぶさフットボールクラブ",{"$f":"(\"12\")","v":"12"},"GK","後藤　幸成","ゴトウ　コウセイ",5,"男子"]
["はやぶさフットボールクラブ_13","はやぶさフットボールクラブ",{"$f":"(\"13\")","v":"13"},"DF","友松　大己","トモマツ　ヒロキ",4,"男子"]
["はやぶさフットボールクラブ_14","はやぶさフットボールクラブ",{"$f":"(\"14\")","v":"14"},"MF","山本　瀧生","ヤマモト　ロイ",4,"男子"]
["はやぶさフットボールクラブ_15","はやぶさフットボールクラブ",{"$f":"(\"15\")","v":"15"},"MF","柴田　晴喜","シバタ　ハルキ",4,"男子"]
["はやぶさフットボールクラブ_16","はやぶさフットボールクラブ",{"$f":"(\"16\")","v":"16"},"FW","西耒　琥界","サイライ　コウガ",4,"男子"]
["はやぶさフットボールクラブ_17","はやぶさフットボールクラブ",{"$f":"(\"17\")","v":"17"},"MF","長野　瑛心","ナガノ　エイシン",4,"男子"]
["鶴居ＳＳＳ_1","鶴居ＳＳＳ",{"$f":"(\"1\")","v":"1"},"GK","眞鍋　慧士","マナベ　ケイシ",6,"男子"]
["鶴居ＳＳＳ_2","鶴居ＳＳＳ",{"$f":"(\"2\")","v":"2"},"DF","遠入　幸真","エンニュウ　コウマ",6,"男子"]
["鶴居ＳＳＳ_3","鶴居ＳＳＳ",{"$f":"(\"3\")","v":"3"},"FW","園田　啓介","ソノダ　ケイスケ",6,"男子"]
["鶴居ＳＳＳ_4","鶴居ＳＳＳ",{"$f":"(\"4\")","v":"4"},"DF","井上　翔伍","イノウエ　ショウゴ",6,"男子"]
["鶴居ＳＳＳ_5","鶴居ＳＳＳ",{"$f":"(\"5\")","v":"5"},"MF","吉岡　颯太","ヨシオカ　ソウタ",6,"男子"]
["鶴居ＳＳＳ_6","鶴居ＳＳＳ",{"$f":"(\"6\")","v":"6"},"MF","村上　陽琉","ムラカミ　ヒヨリ",6,"男子"]
["鶴居ＳＳＳ_7","鶴居ＳＳＳ",{"$f":"(\"7\")","v":"7"},"MF","村澤　羚","ムラサワ　レイ",6,"男子"]
["鶴居ＳＳＳ_8","鶴居ＳＳＳ",{"$f":"(\"8\")","v":"8"},"MF","畑中　陽介","ハタナカ　ヨウスケ",6,"男子"]
["鶴居ＳＳＳ_9","鶴居ＳＳＳ",{"$f":"(\"9\")","v":"9"},"DF","森岡　音詠","モリオカ　トウタ",6,"男子"]
["鶴居ＳＳＳ_10","鶴居ＳＳＳ",{"$f":"(\"10\")","v":"10"},"FW","大江　真佐仁","オオエ　マサヒト",6,"男子"]
["鶴居ＳＳＳ_11","鶴居ＳＳＳ",{"$f":"(\"11\")","v":"11"},"MF","中川　晴喜","ナカガワ　ハルキ",5,"男子"]
["鶴居ＳＳＳ_12","鶴居ＳＳＳ",{"$f":"(\"12\")","v":"12"},"GK","大石　悠輝","オオイシ　ユウキ",6,"男子"]
["鶴居ＳＳＳ_13","鶴居ＳＳＳ",{"$f":"(\"13\")","v":"13"},"DF","新家　大心","シンヤ　タイシン",5,"男子"]
["鶴居ＳＳＳ_14","鶴居ＳＳＳ",{"$f":"(\"14\")","v":"14"},"MF","穐吉　胤杜","アキヨシ　カツト",5,"男子"]
["鶴居ＳＳＳ_15","鶴居ＳＳＳ",{"$f":"(\"15\")","v":"15"},"FW","永松　銀河","ナガマツ　ギンガ",4,"男子"]
["鶴居ＳＳＳ_17","鶴居ＳＳＳ",{"$f":"(\"17\")","v":"17"},"GK","飯干　拓斗","イイボシ　タクト",5,"男子"]
["ＦＣ大野_2","ＦＣ大野",{"$f":"(\"2\")","v":"2"},"FW","三浦　蒼羽","ミウラ　ソウ",5,"男子"]
["ＦＣ大野_3","ＦＣ大野",{"$f":"(\"3\")","v":"3"},"MF","國師　夢芽","コクシ　ユメ",4,"女子小学生"]
["ＦＣ大野_4","ＦＣ大野",{"$f":"(\"4\")","v":"4"},"MF","首藤　涼太","シュトウ　リョウタ",4,"男子"]
["ＦＣ大野_5","ＦＣ大野",{"$f":"(\"5\")","v":"5"},"DF","深田　豪","フカタ　ゴウ",6,"男子"]
["ＦＣ大野_6","ＦＣ大野",{"$f":"(\"6\")","v":"6"},"DF","日坂　祐翔","ヒサカ　ヒロト",4,"男子"]
["ＦＣ大野_7","ＦＣ大野",{"$f":"(\"7\")","v":"7"},"MF","山添　央晴","ヤマゾエ　オウセイ",6,"男子"]
["ＦＣ大野_8","ＦＣ大野",{"$f":"(\"8\")","v":"8"},"FW","仲野　雅貴","ナカノ　マサキ",6,"男子"]
[{"$f":"CONCATENATE(B260,\"_\",C260)","v":"ＦＣ大野_9"},"ＦＣ大野",{"$f":"(\"9\")","v":"9"},"FW","佐藤　圭悠","サトウ　ヨシハル",5,"男子"]
["ＦＣ大野_10","ＦＣ大野",{"$f":"(\"10\")","v":"10"},"DF","日坂　春翔","ヒサカ　ハルト",6,"男子"]
["ＦＣ大野_11","ＦＣ大野",{"$f":"(\"11\")","v":"11"},"MF","麻生　庵","アソウ　イオリ",5,"男子"]
["ＦＣ大野_12","ＦＣ大野",{"$f":"(\"12\")","v":"12"},"GK","矢野　廉士","ヤノ　レンシ",5,"男子"]
["ＦＣ大野_13","ＦＣ大野",{"$f":"(\"13\")","v":"13"},"FW","小野　涼成","オノ　リョウセイ",4,"男子"]
["ＦＣ大野_14","ＦＣ大野",{"$f":"(\"14\")","v":"14"},"FW","臼杵　奏珀","ウスキ　ソウハク",3,"男子"]
["ＦＣ大野_15","ＦＣ大野",{"$f":"(\"15\")","v":"15"},"DF","南部　寧々杷","ナンブ　ネネハ",4,"女子小学生"]
["ＦＣ大野_16","ＦＣ大野",{"$f":"(\"16\")","v":"16"},"GK","高橋　颯志","タカハシ　ソウシ",2,"男子"]
["ＦＣ大野_18","ＦＣ大野",{"$f":"(\"18\")","v":"18"},"FW","遠矢　楓斗","トオヤ　フウト",2,"男子"]
["ＦＣ大野_19","ＦＣ大野",{"$f":"(\"19\")","v":"19"},"DF","後藤　莉温","ゴトウ　リオン",4,"男子"]
["ＦＣ大野_20","ＦＣ大野",{"$f":"(\"20\")","v":"20"},"DF","大森　仁貴","オオモリ　ヒトキ",4,"男子"]
["鶴見ジュニアサッカークラブ_1","鶴見ジュニアサッカークラブ",{"$f":"(\"1\")","v":"1"},"GK","仲野　快慶","ナカノ　カイケイ",6,"男子"]
["鶴見ジュニアサッカークラブ_2","鶴見ジュニアサッカークラブ",{"$f":"(\"2\")","v":"2"},"MF","田原　響","タハラ　ヒビキ",4,"男子"]
["鶴見ジュニアサッカークラブ_3","鶴見ジュニアサッカークラブ",{"$f":"(\"3\")","v":"3"},"MF","鶴河　大翔","ツルカワ　ヤマト",4,"男子"]
["鶴見ジュニアサッカークラブ_4","鶴見ジュニアサッカークラブ",{"$f":"(\"4\")","v":"4"},"MF","木村　優月","キムラ　ユヅキ",4,"女子小学生"]
["鶴見ジュニアサッカークラブ_5","鶴見ジュニアサッカークラブ",{"$f":"(\"5\")","v":"5"},"MF","今吉　陸來","イマヨシ　リク",4,"男子"]
["鶴見ジュニアサッカークラブ_6","鶴見ジュニアサッカークラブ",{"$f":"(\"6\")","v":"6"},"MF","福本　翔大","フクモト　ショウタ",4,"男子"]
["鶴見ジュニアサッカークラブ_7","鶴見ジュニアサッカークラブ",{"$f":"(\"7\")","v":"7"},"MF","田中　桜子","タナカ　サクラコ",6,"女子小学生"]
["鶴見ジュニアサッカークラブ_8","鶴見ジュニアサッカークラブ",{"$f":"(\"8\")","v":"8"},"MF","仲野　禅海","ナカノ　ゼンカイ",4,"男子"]
["鶴見ジュニアサッカークラブ_9","鶴見ジュニアサッカークラブ",{"$f":"(\"9\")","v":"9"},"MF","矢治　雅弘","ヤジ　マサヒロ",4,"男子"]
["鶴見ジュニアサッカークラブ_10","鶴見ジュニアサッカークラブ",{"$f":"(\"10\")","v":"10"},"MF","大谷　柾斗","オオタニ　マサト",6,"男子"]
["鶴見ジュニアサッカークラブ_11","鶴見ジュニアサッカークラブ",{"$f":"(\"11\")","v":"11"},"FW","幸　洋太","ユキ　ヨウタ",4,"男子"]
["鶴見ジュニアサッカークラブ_12","鶴見ジュニアサッカークラブ",{"$f":"(\"12\")","v":"12"},"GK","永井　彰","ナガイ　アキラ",4,"男子"]
["大平山アソシエーション式フットボールクラブ_1","大平山アソシエーション式フットボールクラブ",{"$f":"(\"1\")","v":"1"},"GK","笹原　大夢","ササハラ　ヒロム",5,"男子"]
["大平山アソシエーション式フットボールクラブ_2","大平山アソシエーション式フットボールクラブ",{"$f":"(\"2\")","v":"2"},"FW","森　瞬平","モリ　シュンペイ",6,"男子"]
["大平山アソシエーション式フットボールクラブ_3","大平山アソシエーション式フットボールクラブ",{"$f":"(\"3\")","v":"3"},"FW","魚返　悠吾","オガエリ　ユウゴ",6,"男子"]
["大平山アソシエーション式フットボールクラブ_4","大平山アソシエーション式フットボールクラブ",{"$f":"(\"4\")","v":"4"},"FW","栁井　秀斗","ヤナイ　ヒデト",6,"男子"]
["大平山アソシエーション式フットボールクラブ_5","大平山アソシエーション式フットボールクラブ",{"$f":"(\"5\")","v":"5"},"FW","大平　修斗","オオヒラ　シュウト",6,"男子"]
["大平山アソシエーション式フットボールクラブ_6","大平山アソシエーション式フットボールクラブ",{"$f":"(\"6\")","v":"6"},"FW","加来　真衣子","カク　マイコ",6,"女子小学生"]
["大平山アソシエーション式フットボールクラブ_7","大平山アソシエーション式フットボールクラブ",{"$f":"(\"7\")","v":"7"},"FW","川崎　璃央","カワサキ　リオ",6,"男子"]
["大平山アソシエーション式フットボールクラブ_8","大平山アソシエーション式フットボールクラブ",{"$f":"(\"8\")","v":"8"},"FW","大平　瑛翔","オオヒラ　エイト",5,"男子"]
["大平山アソシエーション式フットボールクラブ_9","大平山アソシエーション式フットボールクラブ",{"$f":"(\"9\")","v":"9"},"FW","出利葉　俊太朗","イデリハ　シュンタロウ",6,"男子"]
["大平山アソシエーション式フットボールクラブ_10","大平山アソシエーション式フットボールクラブ",{"$f":"(\"10\")","v":"10"},"GK","馬場　悠士郎","ババ　ユウシロウ",6,"男子"]
["大平山アソシエーション式フットボールクラブ_11","大平山アソシエーション式フットボールクラブ",{"$f":"(\"11\")","v":"11"},"FW","原田　晃成","ハラダ　コウセイ",6,"男子"]
["大平山アソシエーション式フットボールクラブ_12","大平山アソシエーション式フットボールクラブ",{"$f":"(\"12\")","v":"12"},"FW","姉川　海音","アネカワ　ミオ",6,"女子小学生"]
["大平山アソシエーション式フットボールクラブ_13","大平山アソシエーション式フットボールクラブ",{"$f":"(\"13\")","v":"13"},"FW","山田　洸惺","ヤマダ　コウセイ",5,"男子"]
["大平山アソシエーション式フットボールクラブ_14","大平山アソシエーション式フットボールクラブ",{"$f":"(\"14\")","v":"14"},"FW","山田　汰惺","ヤマダ　タイセイ",5,"男子"]
["大平山アソシエーション式フットボールクラブ_15","大平山アソシエーション式フットボールクラブ",{"$f":"(\"15\")","v":"15"},"FW","瀧石　天","タキイシ　テン",5,"男子"]
["大平山アソシエーション式フットボールクラブ_17","大平山アソシエーション式フットボールクラブ",{"$f":"(\"17\")","v":"17"},"FW","定平　廉","サダヒラ　レン",5,"男子"]
["緑丘サッカースポーツ少年団_1","緑丘サッカースポーツ少年団",{"$f":"(\"1\")","v":"1"},"GK","栗林　大吾","クリバヤシ　ダイゴ",6,"男子"]
["緑丘サッカースポーツ少年団_2","緑丘サッカースポーツ少年団",{"$f":"(\"2\")","v":"2"},"DF","荒金　千颯","アラカネ　チカゼ",6,"女子小学生"]
["緑丘サッカースポーツ少年団_3","緑丘サッカースポーツ少年団",{"$f":"(\"3\")","v":"3"},"DF","鯉渕　祐希","コイブチ　ユウキ",6,"男子"]
["緑丘サッカースポーツ少年団_4","緑丘サッカースポーツ少年団",{"$f":"(\"4\")","v":"4"},"DF","山根　蒼詩","ヤマネ　ソウタ",6,"男子"]
["緑丘サッカースポーツ少年団_5","緑丘サッカースポーツ少年団",{"$f":"(\"5\")","v":"5"},"DF","切封　心花","キリフ　ココカ",4,"女子小学生"]
["緑丘サッカースポーツ少年団_6","緑丘サッカースポーツ少年団",{"$f":"(\"6\")","v":"6"},"MF","下郡　瑛人","シモゴウリ　エイト",4,"男子"]
["緑丘サッカースポーツ少年団_7","緑丘サッカースポーツ少年団",{"$f":"(\"7\")","v":"7"},"MF","荒金　一騎","アラカネ　イッキ",4,"男子"]
["緑丘サッカースポーツ少年団_8","緑丘サッカースポーツ少年団",{"$f":"(\"8\")","v":"8"},"DF","平山　迪","ヒラヤマ　ユウ",4,"女子小学生"]
["緑丘サッカースポーツ少年団_9","緑丘サッカースポーツ少年団",{"$f":"(\"9\")","v":"9"},"MF","河合　来城","カワイ　ライキ",5,"男子"]
["緑丘サッカースポーツ少年団_10","緑丘サッカースポーツ少年団",{"$f":"(\"10\")","v":"10"},"MF","松尾　遼磨","マツオ　リョウマ",6,"男子"]
["緑丘サッカースポーツ少年団_11","緑丘サッカースポーツ少年団",{"$f":"(\"11\")","v":"11"},"FW","古川　修士","フルカワ　シュウト",6,"男子"]
["緑丘サッカースポーツ少年団_12","緑丘サッカースポーツ少年団",{"$f":"(\"12\")","v":"12"},"MF","寶亀　翔紀","ホウキ　トキ",4,"男子"]
["緑丘サッカースポーツ少年団_13","緑丘サッカースポーツ少年団",{"$f":"(\"13\")","v":"13"},"FW","豊田　翔汰","トヨダ　ショウタ",4,"男子"]
["緑丘サッカースポーツ少年団_14","緑丘サッカースポーツ少年団",{"$f":"(\"14\")","v":"14"},"DF","本田　汐音","ホンダ　シオン",4,"男子"]
["Ｓｈｙｎｔ　ＦＣ_1","Ｓｈｙｎｔ　ＦＣ",{"$f":"(\"1\")","v":"1"},"GK","小野　奏音","オノ　カナト",6,"男子"]
["Ｓｈｙｎｔ　ＦＣ_3","Ｓｈｙｎｔ　ＦＣ",{"$f":"(\"3\")","v":"3"},"FW","所　秋仁","トコロ　アキヒト",6,"男子"]
["Ｓｈｙｎｔ　ＦＣ_4","Ｓｈｙｎｔ　ＦＣ",{"$f":"(\"4\")","v":"4"},"DF","中島　陸斗","ナカシマ　リクト",6,"男子"]
["Ｓｈｙｎｔ　ＦＣ_5","Ｓｈｙｎｔ　ＦＣ",{"$f":"(\"5\")","v":"5"},"DF","田中　蒼","タナカ　アオイ",6,"男子"]
["Ｓｈｙｎｔ　ＦＣ_6","Ｓｈｙｎｔ　ＦＣ",{"$f":"(\"6\")","v":"6"},"DF","川嶋　悠輝","カワシマ　ハルキ",6,"男子"]
["Ｓｈｙｎｔ　ＦＣ_7","Ｓｈｙｎｔ　ＦＣ",{"$f":"(\"7\")","v":"7"},"DF","末元　隼太","スエモト　シュンタ",6,"男子"]
["Ｓｈｙｎｔ　ＦＣ_8","Ｓｈｙｎｔ　ＦＣ",{"$f":"(\"8\")","v":"8"},"MF","堀田　憲士朗","ホリタ　ケンシロウ",6,"男子"]
["Ｓｈｙｎｔ　ＦＣ_9","Ｓｈｙｎｔ　ＦＣ",{"$f":"(\"9\")","v":"9"},"MF","畑田　純成","ハタダ　ジュンセイ",6,"男子"]
["Ｓｈｙｎｔ　ＦＣ_10","Ｓｈｙｎｔ　ＦＣ",{"$f":"(\"10\")","v":"10"},"FW","高藤　雅留","タカフジ　マサル",6,"男子"]
["Ｓｈｙｎｔ　ＦＣ_11","Ｓｈｙｎｔ　ＦＣ",{"$f":"(\"11\")","v":"11"},"MF","別府　海斗","ベップ　カイト",6,"男子"]
["Ｓｈｙｎｔ　ＦＣ_12","Ｓｈｙｎｔ　ＦＣ",{"$f":"(\"12\")","v":"12"},"GK","末元　兼太","スエモト　ケンタ",4,"男子"]
[{"$f":"CONCATENATE(B324,\"_\",C324)","v":"Ｓｈｙｎｔ　ＦＣ_14"},"Ｓｈｙｎｔ　ＦＣ",{"$f":"(\"14\")","v":"14"},"MF","高橋　七皆","タカハシ　ナナトモ",6,"男子"]
["Ｓｈｙｎｔ　ＦＣ_15","Ｓｈｙｎｔ　ＦＣ",{"$f":"(\"15\")","v":"15"},"MF","西尾　基希","ニシオ　モトキ",3,"男子"]
["Ｓｈｙｎｔ　ＦＣ_16","Ｓｈｙｎｔ　ＦＣ",{"$f":"(\"16\")","v":"16"},"FW","中溝　椋","ナカミゾ　リョウ",5,"男子"]
["和田・如水少年サッカークラブ_1","和田・如水少年サッカークラブ",{"$f":"(\"1\")","v":"1"},"GK","坂本　暖人","サカモト　ハルト",5,"男子"]
["和田・如水少年サッカークラブ_2","和田・如水少年サッカークラブ",{"$f":"(\"2\")","v":"2"},"FW","堤　竜之介","ツツミ　リュウノスケ",1,"男子"]
["和田・如水少年サッカークラブ_3","和田・如水少年サッカークラブ",{"$f":"(\"3\")","v":"3"},"FW","堤　虎太郎","ツツミ　コタロウ",3,"男子"]
["和田・如水少年サッカークラブ_5","和田・如水少年サッカークラブ",{"$f":"(\"5\")","v":"5"},"FW","上城　旬","カミジョウ　シュン",4,"男子"]
["和田・如水少年サッカークラブ_6","和田・如水少年サッカークラブ",{"$f":"(\"6\")","v":"6"},"DF","奥　小花","オク　コハナ",5,"女子小学生"]
["和田・如水少年サッカークラブ_7","和田・如水少年サッカークラブ",{"$f":"(\"7\")","v":"7"},"FW","宮脇　匠志","ミヤワキ　ショウジ",2,"男子"]
["和田・如水少年サッカークラブ_8","和田・如水少年サッカークラブ",{"$f":"(\"8\")","v":"8"},"DF","岩渕　大洋","イワブチ　タイヨウ",3,"男子"]
["和田・如水少年サッカークラブ_10","和田・如水少年サッカークラブ",{"$f":"(\"10\")","v":"10"},"FW","奥　小梅","オク　コウメ",4,"女子小学生"]
["和田・如水少年サッカークラブ_11","和田・如水少年サッカークラブ",{"$f":"(\"11\")","v":"11"},"FW","奥　蒼太","オク　ソウタ",2,"男子"]
["和田・如水少年サッカークラブ_13","和田・如水少年サッカークラブ",{"$f":"(\"13\")","v":"13"},"MF","畑辺　喜一","ハタベ　キイチ",4,"男子"]
["和田・如水少年サッカークラブ_14","和田・如水少年サッカークラブ",{"$f":"(\"14\")","v":"14"},"FW","大新田　柊","オオシンデン　ヒラギ",4,"男子"]
["和田・如水少年サッカークラブ_16","和田・如水少年サッカークラブ",{"$f":"(\"16\")","v":"16"},"DF","宮脇　豪希","ミヤワキ　ゴウキ",4,"男子"]
["和田・如水少年サッカークラブ_17","和田・如水少年サッカークラブ",{"$f":"(\"17\")","v":"17"},"DF","宮原　虎太郎","ミヤハラ　コタロウ",4,"男子"]
["和田・如水少年サッカークラブ_18","和田・如水少年サッカークラブ",{"$f":"(\"18\")","v":"18"},"FW","松本　愛司","マツモト　アイシ",4,"男子"]
["和田・如水少年サッカークラブ_19","和田・如水少年サッカークラブ",{"$f":"(\"19\")","v":"19"},"FW","岩渕　大陸","イワブチ　タイリク",1,"男子"]
["和田・如水少年サッカークラブ_20","和田・如水少年サッカークラブ",{"$f":"(\"20\")","v":"20"},"FW","小野田　楓真","オノダ　フウマ",2,"男子"]
["下毛ＦＣ_1","下毛ＦＣ",{"$f":"(\"1\")","v":"1"},"GK","長尾　拓","ナガオ　タク",5,"男子"]
["下毛ＦＣ_2","下毛ＦＣ",{"$f":"(\"2\")","v":"2"},"DF","堂上　春希","ドウジョウ　ハルキ",3,"男子"]
["下毛ＦＣ_3","下毛ＦＣ",{"$f":"(\"3\")","v":"3"},"FW","馬出　蒼士","ウマデ　ソウシ",3,"男子"]
["下毛ＦＣ_4","下毛ＦＣ",{"$f":"(\"4\")","v":"4"},"DF","堂上　彩奏","ドウジョウ　アヤト",5,"男子"]
["下毛ＦＣ_5","下毛ＦＣ",{"$f":"(\"5\")","v":"5"},"FW","吉岡　剛星","ヨシオカ　ゴウセイ",4,"男子"]
["下毛ＦＣ_6","下毛ＦＣ",{"$f":"(\"6\")","v":"6"},"MF","坪井　咲","ツボイ　サク",5,"男子"]
["下毛ＦＣ_7","下毛ＦＣ",{"$f":"(\"7\")","v":"7"},"MF","幸野　大輝","コウノ　ダイキ",6,"男子"]
["下毛ＦＣ_8","下毛ＦＣ",{"$f":"(\"8\")","v":"8"},"MF","金谷　瑞生","カナヤ　ミズキ",6,"男子"]
["下毛ＦＣ_9","下毛ＦＣ",{"$f":"(\"9\")","v":"9"},"MF","松野　悠翔","マツノ　ユウト",4,"男子"]
["下毛ＦＣ_10","下毛ＦＣ",{"$f":"(\"10\")","v":"10"},"FW","石川　凰太","イシカワ　オウタ",6,"男子"]
["下毛ＦＣ_11","下毛ＦＣ",{"$f":"(\"11\")","v":"11"},"MF","伊藤　翔大","イトウ　ショウタ",4,"男子"]
["下毛ＦＣ_12","下毛ＦＣ",{"$f":"(\"12\")","v":"12"},"MF","村上　弘樹","ムラカミ　ヒロキ",3,"男子"]
["下毛ＦＣ_13","下毛ＦＣ",{"$f":"(\"13\")","v":"13"},"DF","松井　暖","マツイ　ヒナタ",3,"男子"]
["下毛ＦＣ_14","下毛ＦＣ",{"$f":"(\"14\")","v":"14"},"MF","山本　光城","ヤマモト　ミツキ",3,"男子"]
["下毛ＦＣ_15","下毛ＦＣ",{"$f":"(\"15\")","v":"15"},"FW","山下　空大","ヤマシタ　ソラタ",3,"男子"]
["下毛ＦＣ_16","下毛ＦＣ",{"$f":"(\"16\")","v":"16"},"MF","岩下　大翔","イワシタ　ヒロト",3,"男子"]
["中津豊南フットボールクラブ_1","中津豊南フットボールクラブ",{"$f":"(\"1\")","v":"1"},"GK","野依　晶太","ノヨリ　ショウタ",6,"男子"]
["中津豊南フットボールクラブ_2","中津豊南フットボールクラブ",{"$f":"(\"2\")","v":"2"},"DF","山岡　陸","ヤマオカ　リク",5,"男子"]
["中津豊南フットボールクラブ_3","中津豊南フットボールクラブ",{"$f":"(\"3\")","v":"3"},"DF","挟間　翔大","ハザマ　ショウタ",5,"男子"]
["中津豊南フットボールクラブ_4","中津豊南フットボールクラブ",{"$f":"(\"4\")","v":"4"},"DF","水城　莉緒斗","ミズシロ　リオト",5,"男子"]
["中津豊南フットボールクラブ_5","中津豊南フットボールクラブ",{"$f":"(\"5\")","v":"5"},"DF","中　謙真","ナカ　ケンシン",5,"男子"]
["中津豊南フットボールクラブ_6","中津豊南フットボールクラブ",{"$f":"(\"6\")","v":"6"},"DF","中島　孝太郎","ナカシマ　コウタロウ",6,"男子"]
["中津豊南フットボールクラブ_7","中津豊南フットボールクラブ",{"$f":"(\"7\")","v":"7"},"FW","重松　玲音","シゲマツ　レオ",6,"男子"]
["中津豊南フットボールクラブ_8","中津豊南フットボールクラブ",{"$f":"(\"8\")","v":"8"},"MF","玉浦　葉","タマウラ　ヨウ",6,"男子"]
["中津豊南フットボールクラブ_9","中津豊南フットボールクラブ",{"$f":"(\"9\")","v":"9"},"FW","小洞　千咲","コドウ　チサキ",6,"女子小学生"]
["中津豊南フットボールクラブ_10","中津豊南フットボールクラブ",{"$f":"(\"10\")","v":"10"},"MF","樋口　咲哉","ヒグチ　サクヤ",6,"男子"]
["中津豊南フットボールクラブ_11","中津豊南フットボールクラブ",{"$f":"(\"11\")","v":"11"},"MF","安藤　佑樹","アンドウ　ユウキ",6,"男子"]
["中津豊南フットボールクラブ_12","中津豊南フットボールクラブ",{"$f":"(\"12\")","v":"12"},"DF","平野　僚大","ヒラノ　リョウダイ",5,"男子"]
["中津豊南フットボールクラブ_13","中津豊南フットボールクラブ",{"$f":"(\"13\")","v":"13"},"DF","稲熊　勇成","イナグマ　ユウセイ",5,"男子"]
["中津豊南フットボールクラブ_14","中津豊南フットボールクラブ",{"$f":"(\"14\")","v":"14"},"MF","樋口　巧海","ヒグチ　タクミ",5,"男子"]
["中津豊南フットボールクラブ_15","中津豊南フットボールクラブ",{"$f":"(\"15\")","v":"15"},"MF","稲熊　海成","イナグマ　カイセイ",3,"男子"]
["中津豊南フットボールクラブ_16","中津豊南フットボールクラブ",{"$f":"(\"16\")","v":"16"},"GK","木元　湧大","キモト　ユウダイ",4,"男子"]
["中津沖代ＪＳＣ_1","中津沖代ＪＳＣ",{"$f":"(\"1\")","v":"1"},"GK","大森　宗樹","オオモリ　ソウジュ",6,"男子"]
["中津沖代ＪＳＣ_2","中津沖代ＪＳＣ",{"$f":"(\"2\")","v":"2"},"DF","小野　煌人","オノ　コウト",5,"男子"]
["中津沖代ＪＳＣ_3","中津沖代ＪＳＣ",{"$f":"(\"3\")","v":"3"},"DF","古梶　颯大","コカジ　ソウタ",6,"男子"]
["中津沖代ＪＳＣ_4","中津沖代ＪＳＣ",{"$f":"(\"4\")","v":"4"},"DF","高木　悠成","タカキ　ユウセイ",6,"男子"]
["中津沖代ＪＳＣ_5","中津沖代ＪＳＣ",{"$f":"(\"5\")","v":"5"},"DF","田中　琉輝","タナカ　リュウキ",6,"男子"]
["中津沖代ＪＳＣ_6","中津沖代ＪＳＣ",{"$f":"(\"6\")","v":"6"},"FW","大久保　律輝","オオクボ　リツキ",6,"男子"]
["中津沖代ＪＳＣ_7","中津沖代ＪＳＣ",{"$f":"(\"7\")","v":"7"},"DF","佐々木　陽音","ササキ　ハルト",6,"男子"]
["中津沖代ＪＳＣ_8","中津沖代ＪＳＣ",{"$f":"(\"8\")","v":"8"},"FW","久家　侑奈","クゲ　ユウナ",5,"女子小学生"]
["中津沖代ＪＳＣ_9","中津沖代ＪＳＣ",{"$f":"(\"9\")","v":"9"},"FW","小野　悠真","オノ　ユウシン",6,"男子"]
["中津沖代ＪＳＣ_10","中津沖代ＪＳＣ",{"$f":"(\"10\")","v":"10"},"MF","長岡　観太","ナガオカ　カンタ",6,"男子"]
["中津沖代ＪＳＣ_11","中津沖代ＪＳＣ",{"$f":"(\"11\")","v":"11"},"MF","井上　大和","イノウエ　ヤマト",6,"男子"]
["中津沖代ＪＳＣ_12","中津沖代ＪＳＣ",{"$f":"(\"12\")","v":"12"},"DF","甲斐　琉聖","カイ　リュウセイ",5,"男子"]
["中津沖代ＪＳＣ_13","中津沖代ＪＳＣ",{"$f":"(\"13\")","v":"13"},"GK","宇土　大聖","ウト　オオセ",5,"男子"]
[{"$f":"CONCATENATE(B388,\"_\",C388)","v":"中津沖代ＪＳＣ_18"},"中津沖代ＪＳＣ",{"$f":"(\"18\")","v":"18"},"DF","外園　湊心","ホカゾノ　ソウタ",5,"男子"]
["千怒サッカースポーツ少年団_1","千怒サッカースポーツ少年団",{"$f":"(\"1\")","v":"1"},"GK","石井　湊人","イシイ　ミナト",4,"男子"]
["千怒サッカースポーツ少年団_2","千怒サッカースポーツ少年団",{"$f":"(\"2\")","v":"2"},"MF","岩﨑　冬輝","イワサキ　トウキ",3,"男子"]
["千怒サッカースポーツ少年団_3","千怒サッカースポーツ少年団",{"$f":"(\"3\")","v":"3"},"FW","上田　彗斗","ウエダ　ケイト",3,"男子"]
["千怒サッカースポーツ少年団_4","千怒サッカースポーツ少年団",{"$f":"(\"4\")","v":"4"},"FW","小手川　耀","コテガワ　ヨウ",3,"男子"]
["千怒サッカースポーツ少年団_5","千怒サッカースポーツ少年団",{"$f":"(\"5\")","v":"5"},"DF","岩﨑　蓮","イワサキ　レン",4,"男子"]
["千怒サッカースポーツ少年団_7","千怒サッカースポーツ少年団",{"$f":"(\"7\")","v":"7"},"MF","有永　夏基","アリナガ　ナツキ",4,"男子"]
["千怒サッカースポーツ少年団_8","千怒サッカースポーツ少年団",{"$f":"(\"8\")","v":"8"},"MF","石谷　悠次郎","イシタニ　ユウジロウ",4,"男子"]
["千怒サッカースポーツ少年団_9","千怒サッカースポーツ少年団",{"$f":"(\"9\")","v":"9"},"DF","軸丸　大輝","ジクマル　ダイキ",6,"男子"]
["千怒サッカースポーツ少年団_10","千怒サッカースポーツ少年団",{"$f":"(\"10\")","v":"10"},"MF","小松　由奈","コマツ　ユナ",6,"女子小学生"]
["千怒サッカースポーツ少年団_11","千怒サッカースポーツ少年団",{"$f":"(\"11\")","v":"11"},"DF","松下　琴春","マツシタ　コハル",6,"女子小学生"]
["千怒サッカースポーツ少年団_12","千怒サッカースポーツ少年団",{"$f":"(\"12\")","v":"12"},"MF","坂本　凪","サカモト　ナギ",3,"男子"]
["千怒サッカースポーツ少年団_13","千怒サッカースポーツ少年団",{"$f":"(\"13\")","v":"13"},"FW","堀口　滉太","ホリグチ　コウタ",4,"男子"]
["千怒サッカースポーツ少年団_14","千怒サッカースポーツ少年団",{"$f":"(\"14\")","v":"14"},"GK","仲　凌生","ナカ　リョウセイ",3,"男子"]
["千怒サッカースポーツ少年団_15","千怒サッカースポーツ少年団",{"$f":"(\"15\")","v":"15"},"FW","山本　蒼","ヤマモト　ソウ",3,"男子"]
["千怒サッカースポーツ少年団_17","千怒サッカースポーツ少年団",{"$f":"(\"17\")","v":"17"},"FW","西村　鴻志","ニシムラ　コウシ",3,"男子"]
["鶴見少年サッカークラブ_1","鶴見少年サッカークラブ",{"$f":"(\"1\")","v":"1"},"GK","神田　瞬斗","カンダ　シュント",6,"男子"]
["鶴見少年サッカークラブ_2","鶴見少年サッカークラブ",{"$f":"(\"2\")","v":"2"},"FW","岡田　龍醒","オカダ　リュウセイ",5,"男子"]
["鶴見少年サッカークラブ_3","鶴見少年サッカークラブ",{"$f":"(\"3\")","v":"3"},"DF","神河　大翔","カミカワ　ヒロト",5,"男子"]
["鶴見少年サッカークラブ_4","鶴見少年サッカークラブ",{"$f":"(\"4\")","v":"4"},"DF","山本　峻","ヤマモト　シュン",5,"男子"]
["鶴見少年サッカークラブ_5","鶴見少年サッカークラブ",{"$f":"(\"5\")","v":"5"},"DF","波戸崎　悠","ハトザキ　ハルカ",5,"女子小学生"]
["鶴見少年サッカークラブ_6","鶴見少年サッカークラブ",{"$f":"(\"6\")","v":"6"},"MF","神崎　来実","カンザキ　クルミ",5,"女子小学生"]
["鶴見少年サッカークラブ_7","鶴見少年サッカークラブ",{"$f":"(\"7\")","v":"7"},"MF","安部　凛音","アベ　リオン",6,"男子"]
["鶴見少年サッカークラブ_8","鶴見少年サッカークラブ",{"$f":"(\"8\")","v":"8"},"MF","永田　悠一郎","ナガタ　ユウイチロウ",5,"男子"]
["鶴見少年サッカークラブ_9","鶴見少年サッカークラブ",{"$f":"(\"9\")","v":"9"},"FW","益留　葵","マスドメ　アオイ",6,"男子"]
["鶴見少年サッカークラブ_10","鶴見少年サッカークラブ",{"$f":"(\"10\")","v":"10"},"DF","大原　悠貴","オオハラ　ユウキ",6,"男子"]
["鶴見少年サッカークラブ_11","鶴見少年サッカークラブ",{"$f":"(\"11\")","v":"11"},"MF","渡邉　煌雅","ワタナベ　コウガ",4,"男子"]
["鶴見少年サッカークラブ_12","鶴見少年サッカークラブ",{"$f":"(\"12\")","v":"12"},"FW","盛田　柚九","モリタ　ユズキ",5,"男子"]
["鶴見少年サッカークラブ_13","鶴見少年サッカークラブ",{"$f":"(\"13\")","v":"13"},"DF","益留　紅葉","マスドメ　クレハ",5,"女子小学生"]
["鶴見少年サッカークラブ_14","鶴見少年サッカークラブ",{"$f":"(\"14\")","v":"14"},"DF","安部　漣音","アベ　レオン",4,"男子"]
["鶴見少年サッカークラブ_15","鶴見少年サッカークラブ",{"$f":"(\"15\")","v":"15"},"MF","石田　悠真","イシダ　ハルマ",4,"男子"]
["鶴見少年サッカークラブ_16","鶴見少年サッカークラブ",{"$f":"(\"16\")","v":"16"},"FW","神田　龍斗","カンダ　リュウト",4,"男子"]
["弥生少年サッカークラブ_1","弥生少年サッカークラブ",{"$f":"(\"1\")","v":"1"},"GK","宮本　怜旺","ミヤモト　レオ",5,"男子"]
["弥生少年サッカークラブ_2","弥生少年サッカークラブ",{"$f":"(\"2\")","v":"2"},"DF","藤原　駿介","フジワラ　シュンスケ",6,"男子"]
["弥生少年サッカークラブ_3","弥生少年サッカークラブ",{"$f":"(\"3\")","v":"3"},"MF","木下　昊","キノシタ　コウ",6,"男子"]
["弥生少年サッカークラブ_4","弥生少年サッカークラブ",{"$f":"(\"4\")","v":"4"},"DF","山野　流星心","ヤマノ　スバル",6,"男子"]
["弥生少年サッカークラブ_5","弥生少年サッカークラブ",{"$f":"(\"5\")","v":"5"},"DF","田中　志門","タナカ　シモン",6,"男子"]
["弥生少年サッカークラブ_6","弥生少年サッカークラブ",{"$f":"(\"6\")","v":"6"},"DF","藤原　時哉","フジワラ　トキヤ",6,"男子"]
["弥生少年サッカークラブ_7","弥生少年サッカークラブ",{"$f":"(\"7\")","v":"7"},"DF","前田　光史郎","マエダ　コウシロウ",6,"男子"]
["弥生少年サッカークラブ_8","弥生少年サッカークラブ",{"$f":"(\"8\")","v":"8"},"MF","河野　泰良","コウノ　タイラ",5,"男子"]
["弥生少年サッカークラブ_9","弥生少年サッカークラブ",{"$f":"(\"9\")","v":"9"},"MF","小野　陽平","オノ　ヨウヘイ",6,"男子"]
["弥生少年サッカークラブ_10","弥生少年サッカークラブ",{"$f":"(\"10\")","v":"10"},"MF","菅田　雄斗","スガタ　ユウト",6,"男子"]
["弥生少年サッカークラブ_11","弥生少年サッカークラブ",{"$f":"(\"11\")","v":"11"},"FW","竹嶋　優","タケシマ　ユウ",5,"男子"]
["弥生少年サッカークラブ_12","弥生少年サッカークラブ",{"$f":"(\"12\")","v":"12"},"FW","染矢　優心","ソメヤ　ユウシン",5,"男子"]
["弥生少年サッカークラブ_13","弥生少年サッカークラブ",{"$f":"(\"13\")","v":"13"},"MF","岡本　颯真","オカモト　ソウマ",5,"男子"]
["弥生少年サッカークラブ_14","弥生少年サッカークラブ",{"$f":"(\"14\")","v":"14"},"DF","伊東　将星","イトウ　ショウセイ",5,"男子"]
["弥生少年サッカークラブ_15","弥生少年サッカークラブ",{"$f":"(\"15\")","v":"15"},"FW","新納　奏太","シンノウ　カナタ",5,"男子"]
["弥生少年サッカークラブ_16","弥生少年サッカークラブ",{"$f":"(\"16\")","v":"16"},"DF","竹嶋　凌平","タケシマ　リョウヘイ",6,"男子"]
["上堅田少年サッカークラブ_1","上堅田少年サッカークラブ",{"$f":"(\"1\")","v":"1"},"GK","淵田　藍翔","フチダ　アイト",6,"男子"]
["上堅田少年サッカークラブ_2","上堅田少年サッカークラブ",{"$f":"(\"2\")","v":"2"},"MF","野々下　遥人","ノノシタ　ハルト",5,"男子"]
["上堅田少年サッカークラブ_3","上堅田少年サッカークラブ",{"$f":"(\"3\")","v":"3"},"MF","藤原　伊吹","フジワラ　イブキ",5,"男子"]
["上堅田少年サッカークラブ_4","上堅田少年サッカークラブ",{"$f":"(\"4\")","v":"4"},"DF","疋田　空大","ヒキダ　ライオ",5,"男子"]
["上堅田少年サッカークラブ_5","上堅田少年サッカークラブ",{"$f":"(\"5\")","v":"5"},"DF","砂川　剣心","スナガワ　ケンシン",6,"男子"]
["上堅田少年サッカークラブ_6","上堅田少年サッカークラブ",{"$f":"(\"6\")","v":"6"},"FW","和田　碧","ワダ　アオイ",5,"男子"]
["上堅田少年サッカークラブ_7","上堅田少年サッカークラブ",{"$f":"(\"7\")","v":"7"},"DF","秋元　颯","アキモト　ソウ",5,"男子"]
["上堅田少年サッカークラブ_8","上堅田少年サッカークラブ",{"$f":"(\"8\")","v":"8"},"MF","吉川　大清","ヨシカワ　タイセイ",5,"男子"]
["上堅田少年サッカークラブ_9","上堅田少年サッカークラブ",{"$f":"(\"9\")","v":"9"},"FW","磯貝　涼祐","イソガイ　リョウスケ",4,"男子"]
["上堅田少年サッカークラブ_10","上堅田少年サッカークラブ",{"$f":"(\"10\")","v":"10"},"MF","古本　優太","フルモト　ユウタ",6,"男子"]
["上堅田少年サッカークラブ_11","上堅田少年サッカークラブ",{"$f":"(\"11\")","v":"11"},"DF","後藤　昴琉","ゴトウ　スバル",4,"男子"]
["上堅田少年サッカークラブ_12","上堅田少年サッカークラブ",{"$f":"(\"12\")","v":"12"},"FW","川部　大和","カワベ　ヤマト",4,"男子"]
["上堅田少年サッカークラブ_13","上堅田少年サッカークラブ",{"$f":"(\"13\")","v":"13"},"MF","松下　晃大","マツシタ　コウダイ",4,"男子"]
["上堅田少年サッカークラブ_14","上堅田少年サッカークラブ",{"$f":"(\"14\")","v":"14"},"MF","砂川　大河","スナガワ　タイガ",4,"男子"]
["上堅田少年サッカークラブ_15","上堅田少年サッカークラブ",{"$f":"(\"15\")","v":"15"},"DF","片山　大也","カタヤマ　ヒロヤ",4,"男子"]
["鶴岡Ｓ―ｐｌａｙ・ＭＩＮＡＭＩ_1","鶴岡Ｓ―ｐｌａｙ・ＭＩＮＡＭＩ",{"$f":"(\"1\")","v":"1"},"GK","市原　龍生","イチハラ　ルイ",6,"男子"]
[{"$f":"CONCATENATE(B452,\"_\",C452)","v":"鶴岡Ｓ―ｐｌａｙ・ＭＩＮＡＭＩ_2"},"鶴岡Ｓ―ｐｌａｙ・ＭＩＮＡＭＩ",{"$f":"(\"2\")","v":"2"},"FW","清水　玲央翔","シミズ　レオト",5,"男子"]
["鶴岡Ｓ―ｐｌａｙ・ＭＩＮＡＭＩ_3","鶴岡Ｓ―ｐｌａｙ・ＭＩＮＡＭＩ",{"$f":"(\"3\")","v":"3"},"DF","狩生　倖充","カリュウ　ユキミツ",4,"男子"]
[{"$f":"CONCATENATE(B454,\"_\",C454)","v":"鶴岡Ｓ―ｐｌａｙ・ＭＩＮＡＭＩ_4"},"鶴岡Ｓ―ｐｌａｙ・ＭＩＮＡＭＩ",{"$f":"(\"4\")","v":"4"},"DF","染矢　聖翔","ソメヤ　マサト",5,"男子"]
["鶴岡Ｓ―ｐｌａｙ・ＭＩＮＡＭＩ_5","鶴岡Ｓ―ｐｌａｙ・ＭＩＮＡＭＩ",{"$f":"(\"5\")","v":"5"},"MF","河野　瑛亮","カワノ　エイスケ",4,"男子"]
["鶴岡Ｓ―ｐｌａｙ・ＭＩＮＡＭＩ_6","鶴岡Ｓ―ｐｌａｙ・ＭＩＮＡＭＩ",{"$f":"(\"6\")","v":"6"},"DF","兒玉　佳大","コダマ　ケイタ",4,"男子"]
["鶴岡Ｓ―ｐｌａｙ・ＭＩＮＡＭＩ_7","鶴岡Ｓ―ｐｌａｙ・ＭＩＮＡＭＩ",{"$f":"(\"7\")","v":"7"},"MF","安藤　歩樹","アンドウ　イブキ",6,"男子"]
["鶴岡Ｓ―ｐｌａｙ・ＭＩＮＡＭＩ_8","鶴岡Ｓ―ｐｌａｙ・ＭＩＮＡＭＩ",{"$f":"(\"8\")","v":"8"},"MF","安藤　和樹","アンドウ　カズキ",4,"男子"]
["鶴岡Ｓ―ｐｌａｙ・ＭＩＮＡＭＩ_9","鶴岡Ｓ―ｐｌａｙ・ＭＩＮＡＭＩ",{"$f":"(\"9\")","v":"9"},"DF","高山　将太","タカヤマ　ショウタ",6,"男子"]
["鶴岡Ｓ―ｐｌａｙ・ＭＩＮＡＭＩ_10","鶴岡Ｓ―ｐｌａｙ・ＭＩＮＡＭＩ",{"$f":"(\"10\")","v":"10"},"DF","高畑　星耶","タカハタ　セイヤ",6,"男子"]
["鶴岡Ｓ―ｐｌａｙ・ＭＩＮＡＭＩ_11","鶴岡Ｓ―ｐｌａｙ・ＭＩＮＡＭＩ",{"$f":"(\"11\")","v":"11"},"FW","戸髙　速斗","トダカ　ハヤト",6,"男子"]
["鶴岡Ｓ―ｐｌａｙ・ＭＩＮＡＭＩ_12","鶴岡Ｓ―ｐｌａｙ・ＭＩＮＡＭＩ",{"$f":"(\"12\")","v":"12"},"MF","加藤　奏太","カトウ　ソウタ",4,"男子"]
["鶴岡Ｓ―ｐｌａｙ・ＭＩＮＡＭＩ_13","鶴岡Ｓ―ｐｌａｙ・ＭＩＮＡＭＩ",{"$f":"(\"13\")","v":"13"},"MF","藤原　尚","フジワラ　ナオ",3,"男子"]
["鶴岡Ｓ―ｐｌａｙ・ＭＩＮＡＭＩ_14","鶴岡Ｓ―ｐｌａｙ・ＭＩＮＡＭＩ",{"$f":"(\"14\")","v":"14"},"FW","藤原　滉","フジワラ　コウ",4,"男子"]
[{"$f":"CONCATENATE(B465,\"_\",C465)","v":"鶴岡Ｓ―ｐｌａｙ・ＭＩＮＡＭＩ_15"},"鶴岡Ｓ―ｐｌａｙ・ＭＩＮＡＭＩ",{"$f":"(\"15\")","v":"15"},"MF","小野　龍之介","オノ　リュウノスケ",4,"男子"]
[{"$f":"CONCATENATE(B466,\"_\",C466)","v":"鶴岡Ｓ―ｐｌａｙ・ＭＩＮＡＭＩ_16"},"鶴岡Ｓ―ｐｌａｙ・ＭＩＮＡＭＩ",{"$f":"(\"16\")","v":"16"},"FW","松山　琉維","マツヤマ　ルイ",5,"男子"]
["佐伯リベロフットボールクラブ_1","佐伯リベロフットボールクラブ",{"$f":"(\"1\")","v":"1"},"GK","上村　叶多","カミムラ　カナタ",5,"男子"]
["佐伯リベロフットボールクラブ_2","佐伯リベロフットボールクラブ",{"$f":"(\"2\")","v":"2"},"DF","佐藤　雅治","サトウ　マサハル",5,"男子"]
["佐伯リベロフットボールクラブ_3","佐伯リベロフットボールクラブ",{"$f":"(\"3\")","v":"3"},"DF","岩丸　優真","イワマル　ユウマ",4,"男子"]
["佐伯リベロフットボールクラブ_4","佐伯リベロフットボールクラブ",{"$f":"(\"4\")","v":"4"},"DF","山村　心大","ヤマムラ　シンタ",4,"男子"]
["佐伯リベロフットボールクラブ_5","佐伯リベロフットボールクラブ",{"$f":"(\"5\")","v":"5"},"DF","上杉　康真","ウエスギ　コウマ",6,"男子"]
["佐伯リベロフットボールクラブ_6","佐伯リベロフットボールクラブ",{"$f":"(\"6\")","v":"6"},"DF","菊池　大翔","キクチ　ヒロト",5,"男子"]
["佐伯リベロフットボールクラブ_7","佐伯リベロフットボールクラブ",{"$f":"(\"7\")","v":"7"},"MF","奈須野　友登","ナスノ　ユウト",6,"男子"]
["佐伯リベロフットボールクラブ_8","佐伯リベロフットボールクラブ",{"$f":"(\"8\")","v":"8"},"FW","岩丸　陽斗","イワマル　ハルト",5,"男子"]
["佐伯リベロフットボールクラブ_9","佐伯リベロフットボールクラブ",{"$f":"(\"9\")","v":"9"},"MF","百田　翔貴","モモタ　トキ",4,"男子"]
["佐伯リベロフットボールクラブ_10","佐伯リベロフットボールクラブ",{"$f":"(\"10\")","v":"10"},"FW","山村　千代花","ヤマムラ　チヨカ",6,"女子小学生"]
["佐伯リベロフットボールクラブ_11","佐伯リベロフットボールクラブ",{"$f":"(\"11\")","v":"11"},"MF","児玉　周哉","コダマ　シュウヤ",6,"男子"]
["佐伯リベロフットボールクラブ_13","佐伯リベロフットボールクラブ",{"$f":"(\"13\")","v":"13"},"FW","岡田　虎太朗","オカダ　コタロウ",3,"男子"]
["佐伯リベロフットボールクラブ_14","佐伯リベロフットボールクラブ",{"$f":"(\"14\")","v":"14"},"DF","廣瀬　大治","ヒロセ　ダイチ",3,"男子"]
["佐伯リベロフットボールクラブ_15","佐伯リベロフットボールクラブ",{"$f":"(\"15\")","v":"15"},"DF","早瀬　昇","ハヤセ　ノボル",3,"男子"]
["佐伯リベロフットボールクラブ_16","佐伯リベロフットボールクラブ",{"$f":"(\"16\")","v":"16"},"FW","尾崎　恭","オザキ　キョウ",3,"男子"]
["佐伯リベロフットボールクラブ_17","佐伯リベロフットボールクラブ",{"$f":"(\"17\")","v":"17"},"FW","染矢　賢志","ソメヤ　ケンシ",3,"男子"]
["別府フットボールクラブ．ミネルバＵ－１２_1","別府フットボールクラブ．ミネルバＵ－１２",{"$f":"(\"1\")","v":"1"},"GK","大野　弥生","オオノ　ヒロキ",6,"男子"]
["別府フットボールクラブ．ミネルバＵ－１２_2","別府フットボールクラブ．ミネルバＵ－１２",{"$f":"(\"2\")","v":"2"},"FW","武田　司","タケダ　ツカサ",5,"男子"]
["別府フットボールクラブ．ミネルバＵ－１２_3","別府フットボールクラブ．ミネルバＵ－１２",{"$f":"(\"3\")","v":"3"},"MF","久保　紘心郎","クボ　コウジロウ",6,"男子"]
["別府フットボールクラブ．ミネルバＵ－１２_4","別府フットボールクラブ．ミネルバＵ－１２",{"$f":"(\"4\")","v":"4"},"DF","網中　碧","アミナカ　アオイ",6,"男子"]
["別府フットボールクラブ．ミネルバＵ－１２_5","別府フットボールクラブ．ミネルバＵ－１２",{"$f":"(\"5\")","v":"5"},"DF","吉武　東里","ヨシタケ　トウリ",6,"男子"]
["別府フットボールクラブ．ミネルバＵ－１２_6","別府フットボールクラブ．ミネルバＵ－１２",{"$f":"(\"6\")","v":"6"},"MF","有永　咲","アリナガ　サキ",5,"男子"]
["別府フットボールクラブ．ミネルバＵ－１２_7","別府フットボールクラブ．ミネルバＵ－１２",{"$f":"(\"7\")","v":"7"},"MF","高橋　遼","タカハシ　リョウ",6,"男子"]
["別府フットボールクラブ．ミネルバＵ－１２_8","別府フットボールクラブ．ミネルバＵ－１２",{"$f":"(\"8\")","v":"8"},"MF","藤原　隆仁","フジワラ　タカヒト",6,"男子"]
["別府フットボールクラブ．ミネルバＵ－１２_9","別府フットボールクラブ．ミネルバＵ－１２",{"$f":"(\"9\")","v":"9"},"FW","永路　拓実","エイロ　タクミ",6,"男子"]
["別府フットボールクラブ．ミネルバＵ－１２_10","別府フットボールクラブ．ミネルバＵ－１２",{"$f":"(\"10\")","v":"10"},"MF","横井　希星","ヨコイ　キラ",6,"男子"]
["別府フットボールクラブ．ミネルバＵ－１２_11","別府フットボールクラブ．ミネルバＵ－１２",{"$f":"(\"11\")","v":"11"},"FW","福屋　裕士","フクヤ　ヒロシ",5,"男子"]
["別府フットボールクラブ．ミネルバＵ－１２_12","別府フットボールクラブ．ミネルバＵ－１２",{"$f":"(\"12\")","v":"12"},"FW","西　謙太郎","ニシ　ケンタロウ",4,"男子"]
["別府フットボールクラブ．ミネルバＵ－１２_13","別府フットボールクラブ．ミネルバＵ－１２",{"$f":"(\"13\")","v":"13"},"MF","森迫　大翔","モリサコ　ヒロト",4,"男子"]
["別府フットボールクラブ．ミネルバＵ－１２_14","別府フットボールクラブ．ミネルバＵ－１２",{"$f":"(\"14\")","v":"14"},"FW","合田　理美","ゴウダ　リミ",6,"女子小学生"]
["別府フットボールクラブ．ミネルバＵ－１２_15","別府フットボールクラブ．ミネルバＵ－１２",{"$f":"(\"15\")","v":"15"},"GK","幸重　頼人","ユキシゲ　ライト",5,"男子"]
["別府フットボールクラブ．ミネルバＵ－１２_16","別府フットボールクラブ．ミネルバＵ－１２",{"$f":"(\"16\")","v":"16"},"MF","ケリー　巴生","ケリー　ミオ",4,"男子"]
[{"$f":"CONCATENATE(B499,\"_\",C499)","v":"別府フットボールクラブ．ミネルバＵ－１２Ｂ_1"},"別府フットボールクラブ．ミネルバＵ－１２Ｂ",{"$f":"(\"1\")","v":"1"},"GK","松尾　竜征","マツオ　リュウセイ",6,"男子"]
["別府フットボールクラブ．ミネルバＵ－１２Ｂ_2","別府フットボールクラブ．ミネルバＵ－１２Ｂ",{"$f":"(\"2\")","v":"2"},"DF","本杉　倖大","モトスギ　コウダイ",6,"男子"]
["別府フットボールクラブ．ミネルバＵ－１２Ｂ_3","別府フットボールクラブ．ミネルバＵ－１２Ｂ",{"$f":"(\"3\")","v":"3"},"DF","堀　竜仁","ホリ　リュウト",6,"男子"]
["別府フットボールクラブ．ミネルバＵ－１２Ｂ_5","別府フットボールクラブ．ミネルバＵ－１２Ｂ",{"$f":"(\"5\")","v":"5"},"DF","矢野　瑛介","ヤノ　エイスケ",5,"男子"]
["別府フットボールクラブ．ミネルバＵ－１２Ｂ_6","別府フットボールクラブ．ミネルバＵ－１２Ｂ",{"$f":"(\"6\")","v":"6"},"FW","寺坂　玲人","テラサカ　レオト",5,"男子"]
["別府フットボールクラブ．ミネルバＵ－１２Ｂ_7","別府フットボールクラブ．ミネルバＵ－１２Ｂ",{"$f":"(\"7\")","v":"7"},"DF","恒松　宗梧","ツネマツ　ソウゴ",6,"男子"]
["別府フットボールクラブ．ミネルバＵ－１２Ｂ_8","別府フットボールクラブ．ミネルバＵ－１２Ｂ",{"$f":"(\"8\")","v":"8"},"MF","守田　圭吾","モリタ　ケイゴ",6,"男子"]
["別府フットボールクラブ．ミネルバＵ－１２Ｂ_9","別府フットボールクラブ．ミネルバＵ－１２Ｂ",{"$f":"(\"9\")","v":"9"},"FW","晴山　瑛太","ハレヤマ　エイタ",6,"男子"]
["別府フットボールクラブ．ミネルバＵ－１２Ｂ_10","別府フットボールクラブ．ミネルバＵ－１２Ｂ",{"$f":"(\"10\")","v":"10"},"FW","竹下　逢生","タケシタ　アイキ",6,"男子"]
["別府フットボールクラブ．ミネルバＵ－１２Ｂ_11","別府フットボールクラブ．ミネルバＵ－１２Ｂ",{"$f":"(\"11\")","v":"11"},"MF","徳田　琉衣翔","トクダ　ルイト",6,"男子"]
["別府フットボールクラブ．ミネルバＵ－１２Ｂ_12","別府フットボールクラブ．ミネルバＵ－１２Ｂ",{"$f":"(\"12\")","v":"12"},"FW","廣田　琉央","ヒロタ　レオ",5,"男子"]
["別府フットボールクラブ．ミネルバＵ－１２Ｂ_13","別府フットボールクラブ．ミネルバＵ－１２Ｂ",{"$f":"(\"13\")","v":"13"},"MF","有永　元","アリナガ　レイ",4,"男子"]
["別府フットボールクラブ．ミネルバＵ－１２Ｂ_14","別府フットボールクラブ．ミネルバＵ－１２Ｂ",{"$f":"(\"14\")","v":"14"},"FW","仲道　志織","ナカミチ　シオリ",5,"女子小学生"]
["別府フットボールクラブ．ミネルバＵ－１２Ｂ_15","別府フットボールクラブ．ミネルバＵ－１２Ｂ",{"$f":"(\"15\")","v":"15"},"GK","小島　悠人","コジマ　ハルト",4,"男子"]
["別府フットボールクラブ．ミネルバＵ－１２Ｂ_16","別府フットボールクラブ．ミネルバＵ－１２Ｂ",{"$f":"(\"16\")","v":"16"},"FW","宮崎　浩一郎","ミヤザキ　コウイチロウ",4,"男子"]
["別府フットボールクラブ．ミネルバＵ－１２Ｂ_17","別府フットボールクラブ．ミネルバＵ－１２Ｂ",{"$f":"(\"17\")","v":"17"},"DF","賀来　玲音","カク　レオン",4,"男子"]
["別保ＳＦＣ_1","別保ＳＦＣ",{"$f":"(\"1\")","v":"1"},"GK","井伊　利大","イイ　トシマス",5,"男子"]
["別保ＳＦＣ_2","別保ＳＦＣ",{"$f":"(\"2\")","v":"2"},"DF","江上　颯太","エガミ　ソウタ",5,"男子"]
["別保ＳＦＣ_3","別保ＳＦＣ",{"$f":"(\"3\")","v":"3"},"DF","後藤　睦希","ゴトウ　ムツキ",5,"男子"]
["別保ＳＦＣ_4","別保ＳＦＣ",{"$f":"(\"4\")","v":"4"},"DF","河野　優利","カワノ　ユウリ",6,"男子"]
["別保ＳＦＣ_5","別保ＳＦＣ",{"$f":"(\"5\")","v":"5"},"DF","髙岡　心","タカオカ　シン",6,"男子"]
[{"$f":"CONCATENATE(B520,\"_\",C520)","v":"別保ＳＦＣ_7"},"別保ＳＦＣ",{"$f":"(\"7\")","v":"7"},"MF","小林　幹大","コバヤシ　カンダイ",6,"男子"]
["別保ＳＦＣ_8","別保ＳＦＣ",{"$f":"(\"8\")","v":"8"},"DF","壁村　芽生","カベムラ　メイ",6,"女子小学生"]
["別保ＳＦＣ_9","別保ＳＦＣ",{"$f":"(\"9\")","v":"9"},"FW","吉川　雅彦","ヨシカワ　マサヒコ",6,"男子"]
["別保ＳＦＣ_10","別保ＳＦＣ",{"$f":"(\"10\")","v":"10"},"MF","池辺　結斗","イケベ　ユイト",6,"男子"]
["別保ＳＦＣ_11","別保ＳＦＣ",{"$f":"(\"11\")","v":"11"},"FW","堀田　東寿","ホリタ　トウシュウ",6,"男子"]
["別保ＳＦＣ_12","別保ＳＦＣ",{"$f":"(\"12\")","v":"12"},"DF","佐藤　悠人","サトウ　ユウト",5,"男子"]
["別保ＳＦＣ_13","別保ＳＦＣ",{"$f":"(\"13\")","v":"13"},"DF","寺岡　健太郎","テラオカ　ケンタロウ",5,"男子"]
["別保ＳＦＣ_14","別保ＳＦＣ",{"$f":"(\"14\")","v":"14"},"DF","中倉　舞姫","ナカクラ　マイ",5,"女子小学生"]
["別保ＳＦＣ_15","別保ＳＦＣ",{"$f":"(\"15\")","v":"15"},"FW","児玉　龍飛","コダマ　リント",5,"男子"]
["別保ＳＦＣ_16","別保ＳＦＣ",{"$f":"(\"16\")","v":"16"},"FW","北村　星雅","キタムラ　セイガ",6,"男子"]
["別保ＳＦＣ_19","別保ＳＦＣ",{"$f":"(\"19\")","v":"19"},"GK","久保田　大翔","クボタ　ツバサ",6,"男子"]
["大在サッカースポーツ少年団_1","大在サッカースポーツ少年団",{"$f":"(\"1\")","v":"1"},"GK","戎野　堆牙","エビスノ　タイガ",3,"男子"]
["大在サッカースポーツ少年団_2","大在サッカースポーツ少年団",{"$f":"(\"2\")","v":"2"},"DF","伊藤　瑞貴","イトウ　ミズキ",6,"男子"]
["大在サッカースポーツ少年団_3","大在サッカースポーツ少年団",{"$f":"(\"3\")","v":"3"},"MF","安部　美優","アベ　ミユウ",5,"女子小学生"]
["大在サッカースポーツ少年団_4","大在サッカースポーツ少年団",{"$f":"(\"4\")","v":"4"},"MF","江戸　利樹","エド　リキ",5,"男子"]
["大在サッカースポーツ少年団_5","大在サッカースポーツ少年団",{"$f":"(\"5\")","v":"5"},"MF","安部　暖乃","アベ　ノンノ",5,"女子小学生"]
["大在サッカースポーツ少年団_6","大在サッカースポーツ少年団",{"$f":"(\"6\")","v":"6"},"FW","須川　煌星","スガワ　コウセイ",6,"男子"]
["大在サッカースポーツ少年団_7","大在サッカースポーツ少年団",{"$f":"(\"7\")","v":"7"},"FW","辻　翔貴","ツジ　ショウキ",5,"男子"]
["大在サッカースポーツ少年団_8","大在サッカースポーツ少年団",{"$f":"(\"8\")","v":"8"},"DF","吉田　真帆","ヨシダ　マホ",5,"女子小学生"]
["大在サッカースポーツ少年団_9","大在サッカースポーツ少年団",{"$f":"(\"9\")","v":"9"},"DF","大原　光人","オオハラ　ヒロト",5,"男子"]
["大在サッカースポーツ少年団_10","大在サッカースポーツ少年団",{"$f":"(\"10\")","v":"10"},"DF","高橋　陽","タカハシ　ハル",5,"男子"]
["大在サッカースポーツ少年団_11","大在サッカースポーツ少年団",{"$f":"(\"11\")","v":"11"},"MF","安藤　綾太","アンドウ　リョウタ",5,"男子"]
["大在サッカースポーツ少年団_12","大在サッカースポーツ少年団",{"$f":"(\"12\")","v":"12"},"DF","木附　彩也夏","キツキ　サヤカ",5,"女子小学生"]
["大在サッカースポーツ少年団_15","大在サッカースポーツ少年団",{"$f":"(\"15\")","v":"15"},"GK","須川　彪雅","スガワ　ヒュウガ",3,"男子"]
["大分トリニータＵ－１２_1","大分トリニータＵ－１２",{"$f":"(\"1\")","v":"1"},"GK","加藤　航","カトウ　ワタル",6,"男子"]
["大分トリニータＵ－１２_2","大分トリニータＵ－１２",{"$f":"(\"2\")","v":"2"},"MF","柳田　大希","ヤナギダ　ダイキ",6,"男子"]
["大分トリニータＵ－１２_3","大分トリニータＵ－１２",{"$f":"(\"3\")","v":"3"},"MF","新名　巧旺","ニイナ　コオ",6,"男子"]
["大分トリニータＵ－１２_4","大分トリニータＵ－１２",{"$f":"(\"4\")","v":"4"},"MF","斉藤　晄吏","サイトウ　ヒカリ",6,"男子"]
["大分トリニータＵ－１２_5","大分トリニータＵ－１２",{"$f":"(\"5\")","v":"5"},"MF","有村　凌史郎","アリムラ　リョウシロウ",6,"男子"]
["大分トリニータＵ－１２_6","大分トリニータＵ－１２",{"$f":"(\"6\")","v":"6"},"MF","石本　星七","イシモト　セナ",6,"男子"]
["大分トリニータＵ－１２_7","大分トリニータＵ－１２",{"$f":"(\"7\")","v":"7"},"DF","大堀　翼颯","オオホリ　ツバサ",6,"男子"]
["大分トリニータＵ－１２_8","大分トリニータＵ－１２",{"$f":"(\"8\")","v":"8"},"MF","河野　歩夢","カワノ　アユム",6,"男子"]
["大分トリニータＵ－１２_9","大分トリニータＵ－１２",{"$f":"(\"9\")","v":"9"},"MF","原田　高虎","ハラダ　タカトラ",6,"男子"]
["大分トリニータＵ－１２_10","大分トリニータＵ－１２",{"$f":"(\"10\")","v":"10"},"FW","木許　央雅","キモト　オウガ",6,"男子"]
["大分トリニータＵ－１２_11","大分トリニータＵ－１２",{"$f":"(\"11\")","v":"11"},"MF","染矢　宏輝","ソメヤ　コウキ",6,"男子"]
["大分トリニータＵ－１２_12","大分トリニータＵ－１２",{"$f":"(\"12\")","v":"12"},"GK","桑原　颯太","クワバラ　ソウタ",6,"男子"]
["大分トリニータＵ－１２_13","大分トリニータＵ－１２",{"$f":"(\"13\")","v":"13"},"MF","後藤　慶","ゴトウ　ケイ",6,"男子"]
["大分トリニータＵ－１２_14","大分トリニータＵ－１２",{"$f":"(\"14\")","v":"14"},"DF","仲村　陽太","ナカムラ　ヒナタ",6,"男子"]
["大分トリニータＵ－１２_15","大分トリニータＵ－１２",{"$f":"(\"15\")","v":"15"},"MF","柴田　峻徳","シバタ　シュントク",6,"男子"]
["大分トリニータＵ－１２_16","大分トリニータＵ－１２",{"$f":"(\"16\")","v":"16"},"FW","河野　真剣","カワノ　シンケン",5,"男子"]
["大分トリニータＵ－１２_17","大分トリニータＵ－１２",{"$f":"(\"17\")","v":"17"},"FW","中道　大聖","ナカミチ　タイセイ",5,"男子"]
["大分トリニータＵ－１２_18","大分トリニータＵ－１２",{"$f":"(\"18\")","v":"18"},"DF","金井　佑磨","カナイ　ユウマ",5,"男子"]
["敷戸サッカースポーツ少年団_1","敷戸サッカースポーツ少年団",{"$f":"(\"1\")","v":"1"},"GK","若宮　広晃","ワカミヤ　ヒロアキ",5,"男子"]
["敷戸サッカースポーツ少年団_2","敷戸サッカースポーツ少年団",{"$f":"(\"2\")","v":"2"},"FW","馬場　純平","ババ　ジュンペイ",6,"男子"]
["敷戸サッカースポーツ少年団_3","敷戸サッカースポーツ少年団",{"$f":"(\"3\")","v":"3"},"MF","足立　匠海","アダチ　タクミ",4,"男子"]
["敷戸サッカースポーツ少年団_4","敷戸サッカースポーツ少年団",{"$f":"(\"4\")","v":"4"},"FW","河野　梨亜菜","カワノ　リアナ",4,"女子小学生"]
["敷戸サッカースポーツ少年団_5","敷戸サッカースポーツ少年団",{"$f":"(\"5\")","v":"5"},"DF","城井　瑛","キイ　アキラ",5,"男子"]
["敷戸サッカースポーツ少年団_6","敷戸サッカースポーツ少年団",{"$f":"(\"6\")","v":"6"},"DF","重光　日向","シゲミツ　ヒナタ",5,"男子"]
["敷戸サッカースポーツ少年団_7","敷戸サッカースポーツ少年団",{"$f":"(\"7\")","v":"7"},"MF","河野　心優菜","カワノ　ミユナ",5,"女子小学生"]
["敷戸サッカースポーツ少年団_8","敷戸サッカースポーツ少年団",{"$f":"(\"8\")","v":"8"},"MF","羽田野　天空","ハダノ　ソラ",6,"男子"]
["敷戸サッカースポーツ少年団_9","敷戸サッカースポーツ少年団",{"$f":"(\"9\")","v":"9"},"MF","小石川　凌","コイシカワ　リョウ",6,"男子"]
["敷戸サッカースポーツ少年団_10","敷戸サッカースポーツ少年団",{"$f":"(\"10\")","v":"10"},"DF","岡部　光希","オカベ　コウキ",6,"男子"]
["敷戸サッカースポーツ少年団_12","敷戸サッカースポーツ少年団",{"$f":"(\"12\")","v":"12"},"FW","廣瀬　開","ヒロセ　カイ",2,"男子"]
["敷戸サッカースポーツ少年団_13","敷戸サッカースポーツ少年団",{"$f":"(\"13\")","v":"13"},"GK","佐藤　優多","サトウ　ユウタ",5,"男子"]
["敷戸サッカースポーツ少年団_14","敷戸サッカースポーツ少年団",{"$f":"(\"14\")","v":"14"},"FW","安藤　敬賀","アンドウ　タカヨシ",3,"男子"]
["敷戸サッカースポーツ少年団_15","敷戸サッカースポーツ少年団",{"$f":"(\"15\")","v":"15"},"FW","廣瀬　圭","ヒロセ　ケイ",1,"男子"]
["敷戸サッカースポーツ少年団_17","敷戸サッカースポーツ少年団",{"$f":"(\"17\")","v":"17"},"FW","右田　逞","ミギタ　タクマ",1,"男子"]
["敷戸サッカースポーツ少年団_18","敷戸サッカースポーツ少年団",{"$f":"(\"18\")","v":"18"},"FW","日野　結太","ヒノ　ユウタ",2,"男子"]
["碩田サッカースポーツ少年団_1","碩田サッカースポーツ少年団",{"$f":"(\"1\")","v":"1"},"GK","岩中　海璃","イワナカ　カイリ",6,"男子"]
["碩田サッカースポーツ少年団_2","碩田サッカースポーツ少年団",{"$f":"(\"2\")","v":"2"},"MF","葛城　蓮","カツラギ　レン",4,"男子"]
["碩田サッカースポーツ少年団_3","碩田サッカースポーツ少年団",{"$f":"(\"3\")","v":"3"},"DF","村上　瑳彩","ムラカミ　サアヤ",6,"女子小学生"]
["碩田サッカースポーツ少年団_4","碩田サッカースポーツ少年団",{"$f":"(\"4\")","v":"4"},"DF","松下　登晃","マツシタ　トア",6,"男子"]
["碩田サッカースポーツ少年団_5","碩田サッカースポーツ少年団",{"$f":"(\"5\")","v":"5"},"MF","松本　幸大","マツモト　コウタ",6,"男子"]
["碩田サッカースポーツ少年団_6","碩田サッカースポーツ少年団",{"$f":"(\"6\")","v":"6"},"MF","木津　大河","キヅ　タイガ",6,"男子"]
[{"$f":"CONCATENATE(B584,\"_\",C584)","v":"碩田サッカースポーツ少年団_7"},"碩田サッカースポーツ少年団",{"$f":"(\"7\")","v":"7"},"DF","河野　暖大","カワノ　ヒナタ",6,"男子"]
["碩田サッカースポーツ少年団_8","碩田サッカースポーツ少年団",{"$f":"(\"8\")","v":"8"},"MF","田邊　湊斗","タナベ　ミナト",6,"男子"]
["碩田サッカースポーツ少年団_9","碩田サッカースポーツ少年団",{"$f":"(\"9\")","v":"9"},"FW","山﨑　力仁","ヤマサキ　リキト",6,"男子"]
["碩田サッカースポーツ少年団_10","碩田サッカースポーツ少年団",{"$f":"(\"10\")","v":"10"},"MF","岡松　愁人","オカマツ　シュウト",6,"男子"]
["碩田サッカースポーツ少年団_11","碩田サッカースポーツ少年団",{"$f":"(\"11\")","v":"11"},"FW","木元　玲汰","キモト　リョウタ",6,"男子"]
["碩田サッカースポーツ少年団_12","碩田サッカースポーツ少年団",{"$f":"(\"12\")","v":"12"},"FW","阿部　慶太","アベ　ケイタ",6,"男子"]
["碩田サッカースポーツ少年団_13","碩田サッカースポーツ少年団",{"$f":"(\"13\")","v":"13"},"MF","下久保　魅兎","シモクボ　ミント",5,"男子"]
["碩田サッカースポーツ少年団_14","碩田サッカースポーツ少年団",{"$f":"(\"14\")","v":"14"},"MF","松下　慶和","マツシタ　ケイナ",5,"男子"]
["碩田サッカースポーツ少年団_15","碩田サッカースポーツ少年団",{"$f":"(\"15\")","v":"15"},"FW","米岡　竜佑","ヨネオカ　リュウスケ",5,"男子"]
["碩田サッカースポーツ少年団_16","碩田サッカースポーツ少年団",{"$f":"(\"16\")","v":"16"},"GK","山﨑　温仁","ヤマサキ　ハルト",6,"男子"]
["碩田サッカースポーツ少年団_17","碩田サッカースポーツ少年団",{"$f":"(\"17\")","v":"17"},"MF","佐藤　美月","サトウ　ミヅキ",5,"女子小学生"]
["春日ＳＳＳ_1","春日ＳＳＳ",{"$f":"(\"1\")","v":"1"},"GK","安藤　直哉","アンドウ　ナオヤ",5,"男子"]
["春日ＳＳＳ_2","春日ＳＳＳ",{"$f":"(\"2\")","v":"2"},"DF","若狭　璃久","ワカサ　リク",3,"男子"]
["春日ＳＳＳ_4","春日ＳＳＳ",{"$f":"(\"4\")","v":"4"},"FW","岡崎　采久磨","オカザキ　サクマ",4,"男子"]
["春日ＳＳＳ_5","春日ＳＳＳ",{"$f":"(\"5\")","v":"5"},"DF","内田　真緒","ウチダ　マオ",6,"女子小学生"]
["春日ＳＳＳ_6","春日ＳＳＳ",{"$f":"(\"6\")","v":"6"},"MF","白石　真輝","シライシ　マサキ",6,"男子"]
["春日ＳＳＳ_7","春日ＳＳＳ",{"$f":"(\"7\")","v":"7"},"MF","河野　悠翔","カワノ　ユウト",5,"男子"]
["春日ＳＳＳ_8","春日ＳＳＳ",{"$f":"(\"8\")","v":"8"},"MF","三良　文也","ミヨシ　フミヤ",4,"男子"]
["春日ＳＳＳ_9","春日ＳＳＳ",{"$f":"(\"9\")","v":"9"},"FW","小田　冠太","オダ　カンタ",3,"男子"]
["春日ＳＳＳ_10","春日ＳＳＳ",{"$f":"(\"10\")","v":"10"},"MF","堤　一惺","ツツミ　イッセイ",6,"男子"]
["春日ＳＳＳ_11","春日ＳＳＳ",{"$f":"(\"11\")","v":"11"},"MF","小野　光哉","オノ　ミツヤ",5,"男子"]
["春日ＳＳＳ_12","春日ＳＳＳ",{"$f":"(\"12\")","v":"12"},"DF","内田　祥太郎","ウチダ　ショウタロウ",6,"男子"]
["春日ＳＳＳ_13","春日ＳＳＳ",{"$f":"(\"13\")","v":"13"},"FW","宮本　嵩琉","ミヤモト　タケル",4,"男子"]
["春日ＳＳＳ_20","春日ＳＳＳ",{"$f":"(\"20\")","v":"20"},"GK","大久保　澪","オオクボ　レイ",3,"男子"]
["鴛野サッカースポーツ少年団_1","鴛野サッカースポーツ少年団",{"$f":"(\"1\")","v":"1"},"FW","新名　翔太","ニイナ　ショウタ",5,"男子"]
["鴛野サッカースポーツ少年団_6","鴛野サッカースポーツ少年団",{"$f":"(\"6\")","v":"6"},"FW","福田　翔","フクダ　ショウ","-","男子"]
["鴛野サッカースポーツ少年団_7","鴛野サッカースポーツ少年団",{"$f":"(\"7\")","v":"7"},"DF","斉木　康太","サイキ　コウタ",4,"男子"]
["鴛野サッカースポーツ少年団_8","鴛野サッカースポーツ少年団",{"$f":"(\"8\")","v":"8"},"DF","今井　蘭心","イマイ　ラン",1,"男子"]
["鴛野サッカースポーツ少年団_9","鴛野サッカースポーツ少年団",{"$f":"(\"9\")","v":"9"},"MF","松下　陽那大","マツシタ　ヒナタ",5,"男子"]
["鴛野サッカースポーツ少年団_10","鴛野サッカースポーツ少年団",{"$f":"(\"10\")","v":"10"},"MF","安達　帆海","アンダチ　ホノミ",5,"女子小学生"]
["鴛野サッカースポーツ少年団_11","鴛野サッカースポーツ少年団",{"$f":"(\"11\")","v":"11"},"DF","福田　翼","フクダ　ツバサ",3,"男子"]
["鴛野サッカースポーツ少年団_12","鴛野サッカースポーツ少年団",{"$f":"(\"12\")","v":"12"},"DF","小深田　望咲","コブカタ　ミサキ",1,"男子"]
["鴛野サッカースポーツ少年団_14","鴛野サッカースポーツ少年団",{"$f":"(\"14\")","v":"14"},"GK","和田　昊","ワダ　ソラ",4,"男子"]
["鴛野サッカースポーツ少年団_15","鴛野サッカースポーツ少年団",{"$f":"(\"15\")","v":"15"},"DF","関　愛子","セキ　アイコ",3,"女子小学生"]
["南大分サッカー少年団_1","南大分サッカー少年団",{"$f":"(\"1\")","v":"1"},"GK","漢　翔太","カン　ショウタ",6,"男子"]
["南大分サッカー少年団_2","南大分サッカー少年団",{"$f":"(\"2\")","v":"2"},"MF","田尻　智輝","タジリ　トモキ",6,"男子"]
["南大分サッカー少年団_3","南大分サッカー少年団",{"$f":"(\"3\")","v":"3"},"MF","馬場　咲帆","ババ　サキホ",4,"女子小学生"]
["南大分サッカー少年団_6","南大分サッカー少年団",{"$f":"(\"6\")","v":"6"},"MF","松岡　祐太","マツオカ　ユウタ",6,"男子"]
["南大分サッカー少年団_8","南大分サッカー少年団",{"$f":"(\"8\")","v":"8"},"MF","馬場　晴大","ババ　ハルト",6,"男子"]
["南大分サッカー少年団_9","南大分サッカー少年団",{"$f":"(\"9\")","v":"9"},"DF","安部　遥陽","アベ　ハルヒ",6,"男子"]
["南大分サッカー少年団_11","南大分サッカー少年団",{"$f":"(\"11\")","v":"11"},"DF","植田　涼","ウエダ　リョウ",6,"男子"]
["南大分サッカー少年団_12","南大分サッカー少年団",{"$f":"(\"12\")","v":"12"},"DF","河野　崇翔","カワノ　シュウト",6,"男子"]
["南大分サッカー少年団_16","南大分サッカー少年団",{"$f":"(\"16\")","v":"16"},"MF","安部　海結","アベ　ミユウ",4,"女子小学生"]
["南大分サッカー少年団_26","南大分サッカー少年団",{"$f":"(\"26\")","v":"26"},"FW","前田　賢悟","マエダ　ケンゴ",4,"男子"]
["アトレチコエラン横瀬_1","アトレチコエラン横瀬",{"$f":"(\"1\")","v":"1"},"GK","清松　和騎","キヨマツ　カズキ",5,"男子"]
["アトレチコエラン横瀬_2","アトレチコエラン横瀬",{"$f":"(\"2\")","v":"2"},"MF","日野　天翔","ヒノ　テンショウ",5,"男子"]
["アトレチコエラン横瀬_3","アトレチコエラン横瀬",{"$f":"(\"3\")","v":"3"},"FW","黒田　悠生","クロダ　ユウ",5,"男子"]
["アトレチコエラン横瀬_4","アトレチコエラン横瀬",{"$f":"(\"4\")","v":"4"},"DF","佐藤　心","サトウ　シン",5,"男子"]
["アトレチコエラン横瀬_5","アトレチコエラン横瀬",{"$f":"(\"5\")","v":"5"},"DF","松下　輔","マツシタ　タスク",5,"男子"]
["アトレチコエラン横瀬_6","アトレチコエラン横瀬",{"$f":"(\"6\")","v":"6"},"DF","佐藤　悠樹","サトウ　ユウキ",5,"男子"]
["アトレチコエラン横瀬_7","アトレチコエラン横瀬",{"$f":"(\"7\")","v":"7"},"MF","森永　一輝","モリナガ　イッキ",6,"男子"]
["アトレチコエラン横瀬_8","アトレチコエラン横瀬",{"$f":"(\"8\")","v":"8"},"FW","安部　颯生","アベ　サツキ",6,"男子"]
["アトレチコエラン横瀬_9","アトレチコエラン横瀬",{"$f":"(\"9\")","v":"9"},"MF","吉賀　汐音","ヨシガ　シオン",6,"男子"]
["アトレチコエラン横瀬_10","アトレチコエラン横瀬",{"$f":"(\"10\")","v":"10"},"MF","佐藤　應之佑","サトウ　オウノスケ",6,"男子"]
["アトレチコエラン横瀬_11","アトレチコエラン横瀬",{"$f":"(\"11\")","v":"11"},"DF","堀田　信斗","ホリタ　アキト",5,"男子"]
["アトレチコエラン横瀬_12","アトレチコエラン横瀬",{"$f":"(\"12\")","v":"12"},"GK","河野　陽己","コウノ　ハルキ",6,"男子"]
["アトレチコエラン横瀬_13","アトレチコエラン横瀬",{"$f":"(\"13\")","v":"13"},"MF","利光　雅斗","トシミツ　ガクト",5,"男子"]
["アトレチコエラン横瀬_14","アトレチコエラン横瀬",{"$f":"(\"14\")","v":"14"},"MF","江良　明俊","エラ　アキトシ",6,"男子"]
["アトレチコエラン横瀬_15","アトレチコエラン横瀬",{"$f":"(\"15\")","v":"15"},"DF","宮本　樹","ミヤモト　イツキ",5,"男子"]
["アトレチコエラン横瀬_16","アトレチコエラン横瀬",{"$f":"(\"16\")","v":"16"},"GK","河野　猛","カワノ　タケル",6,"男子"]
["アトレチコエラン横瀬_17","アトレチコエラン横瀬",{"$f":"(\"17\")","v":"17"},"DF","掛谷　真穏","カケヤ　シオン",5,"男子"]
["アトレチコエラン横瀬_18","アトレチコエラン横瀬",{"$f":"(\"18\")","v":"18"},"DF","林　碧生","ハヤシ　アオ",5,"男子"]
["明野北フットボールクラブ_1","明野北フットボールクラブ",{"$f":"(\"1\")","v":"1"},"GK","徳丸　侑輝","トクマル　ユウキ",6,"男子"]
["明野北フットボールクラブ_2","明野北フットボールクラブ",{"$f":"(\"2\")","v":"2"},"DF","芦刈　聡真","アシカリ　ソウマ",6,"男子"]
[{"$f":"CONCATENATE(B648,\"_\",C648)","v":"明野北フットボールクラブ_3"},"明野北フットボールクラブ",{"$f":"(\"3\")","v":"3"},"DF","大嶋　蓮","オオシマ　レン",6,"男子"]
["明野北フットボールクラブ_4","明野北フットボールクラブ",{"$f":"(\"4\")","v":"4"},"MF","木本　心","キモト　シン",6,"男子"]
["明野北フットボールクラブ_5","明野北フットボールクラブ",{"$f":"(\"5\")","v":"5"},"MF","佐藤　春智","サトウ　ハルトモ",6,"男子"]
["明野北フットボールクラブ_6","明野北フットボールクラブ",{"$f":"(\"6\")","v":"6"},"DF","幸　龍雅","ユキ　リュウガ",6,"男子"]
["明野北フットボールクラブ_7","明野北フットボールクラブ",{"$f":"(\"7\")","v":"7"},"MF","村山　陸翔","ムラヤマ　リクト",6,"男子"]
["明野北フットボールクラブ_8","明野北フットボールクラブ",{"$f":"(\"8\")","v":"8"},"FW","岡本　健司","オカモト　ケンジ",6,"男子"]
["明野北フットボールクラブ_9","明野北フットボールクラブ",{"$f":"(\"9\")","v":"9"},"MF","小手川　新","コテガワ　アラタ",6,"男子"]
["明野北フットボールクラブ_10","明野北フットボールクラブ",{"$f":"(\"10\")","v":"10"},"MF","髙橋　涼成","タカハシ　リョウセイ",6,"男子"]
["明野北フットボールクラブ_11","明野北フットボールクラブ",{"$f":"(\"11\")","v":"11"},"MF","吉原　大翔","ヨシハラ　ヒロト",4,"男子"]
["明野北フットボールクラブ_12","明野北フットボールクラブ",{"$f":"(\"12\")","v":"12"},"MF","芦刈　大志","アシカリ　タイシ",4,"男子"]
["明野北フットボールクラブ_13","明野北フットボールクラブ",{"$f":"(\"13\")","v":"13"},"DF","楠　舞衣","クスノキ　マイ",4,"女子小学生"]
["明野北フットボールクラブ_14","明野北フットボールクラブ",{"$f":"(\"14\")","v":"14"},"MF","倉原　颯希","クラハラ　サツキ",4,"男子"]
["明治北ＳＳＣ_1","明治北ＳＳＣ",{"$f":"(\"1\")","v":"1"},"GK","周藤　光輝","シュウトウ　ミツキ",5,"男子"]
["明治北ＳＳＣ_2","明治北ＳＳＣ",{"$f":"(\"2\")","v":"2"},"FW","志堂寺　和之介","シドウジ　カズノスケ",5,"男子"]
["明治北ＳＳＣ_3","明治北ＳＳＣ",{"$f":"(\"3\")","v":"3"},"FW","木許　瑠輝也","キモト　ルキヤ",5,"男子"]
["明治北ＳＳＣ_4","明治北ＳＳＣ",{"$f":"(\"4\")","v":"4"},"FW","山室　優貴","ヤマムロ　ユウキ",5,"男子"]
["明治北ＳＳＣ_5","明治北ＳＳＣ",{"$f":"(\"5\")","v":"5"},"FW","大河　聡","オオカワ　ソウ",5,"男子"]
["明治北ＳＳＣ_6","明治北ＳＳＣ",{"$f":"(\"6\")","v":"6"},"MF","荻本　玲也","オギモト　レイヤ",6,"男子"]
["明治北ＳＳＣ_7","明治北ＳＳＣ",{"$f":"(\"7\")","v":"7"},"DF","猪原　蒼空","イハラ　ソラ",6,"男子"]
["明治北ＳＳＣ_8","明治北ＳＳＣ",{"$f":"(\"8\")","v":"8"},"DF","松胴　煌","マツドウ　コウ",5,"男子"]
["明治北ＳＳＣ_9","明治北ＳＳＣ",{"$f":"(\"9\")","v":"9"},"DF","首藤　惺南","シュトウ　セナ",4,"男子"]
["明治北ＳＳＣ_10","明治北ＳＳＣ",{"$f":"(\"10\")","v":"10"},"DF","清原　昇馬","キヨハラ　ショウマ",4,"男子"]
["明治北ＳＳＣ_11","明治北ＳＳＣ",{"$f":"(\"11\")","v":"11"},"DF","江良　航","エラ　ワタル",5,"男子"]
["明治北ＳＳＣ_13","明治北ＳＳＣ",{"$f":"(\"13\")","v":"13"},"DF","安部　銀之助","アベ　ギンノスケ",4,"男子"]
["明治北ＳＳＣ_14","明治北ＳＳＣ",{"$f":"(\"14\")","v":"14"},"FW","室園　悠來","ムロゾノ　ユウラ",4,"男子"]
["明治北ＳＳＣ_15","明治北ＳＳＣ",{"$f":"(\"15\")","v":"15"},"FW","河野　光瑠","カワノ　ヒカル",4,"男子"]
["明治北ＳＳＣ_16","明治北ＳＳＣ",{"$f":"(\"16\")","v":"16"},"FW","小原　琉聖","オハラ　リュウセイ",4,"男子"]
["明治北ＳＳＣ_17","明治北ＳＳＣ",{"$f":"(\"17\")","v":"17"},"MF","分部　太一","ワケベ　タイチ",4,"男子"]
["明治北ＳＳＣ_18","明治北ＳＳＣ",{"$f":"(\"18\")","v":"18"},"FW","大芦　春真","オオアシ　ハルマ",4,"男子"]
["明野東サッカースポーツ少年団_1","明野東サッカースポーツ少年団",{"$f":"(\"1\")","v":"1"},"GK","大倉　公亮","オオクラ　コウスケ",6,"男子"]
["明野東サッカースポーツ少年団_2","明野東サッカースポーツ少年団",{"$f":"(\"2\")","v":"2"},"DF","寺田　和司","テラダ　カズシ",5,"男子"]
["明野東サッカースポーツ少年団_3","明野東サッカースポーツ少年団",{"$f":"(\"3\")","v":"3"},"DF","渡辺　陽斗","ワタナベ　ヒナト",5,"男子"]
["明野東サッカースポーツ少年団_4","明野東サッカースポーツ少年団",{"$f":"(\"4\")","v":"4"},"MF","山村　悠己","ヤマムラ　ユウキ",5,"男子"]
["明野東サッカースポーツ少年団_6","明野東サッカースポーツ少年団",{"$f":"(\"6\")","v":"6"},"MF","渡辺　敢太","ワタナベ　カンタ",5,"男子"]
["明野東サッカースポーツ少年団_7","明野東サッカースポーツ少年団",{"$f":"(\"7\")","v":"7"},"MF","阿部　航大","アベ　コウダイ",6,"男子"]
["明野東サッカースポーツ少年団_8","明野東サッカースポーツ少年団",{"$f":"(\"8\")","v":"8"},"MF","志賀　快音","シガ　カイト",6,"男子"]
["明野東サッカースポーツ少年団_9","明野東サッカースポーツ少年団",{"$f":"(\"9\")","v":"9"},"FW","田島　李凰","タジマ　リオウ",5,"男子"]
["明野東サッカースポーツ少年団_10","明野東サッカースポーツ少年団",{"$f":"(\"10\")","v":"10"},"MF","長野　新","ナガノ　アラタ",6,"男子"]
["明野東サッカースポーツ少年団_11","明野東サッカースポーツ少年団",{"$f":"(\"11\")","v":"11"},"FW","前田　晴都","マエダ　ハルト",6,"男子"]
["明野東サッカースポーツ少年団_13","明野東サッカースポーツ少年団",{"$f":"(\"13\")","v":"13"},"MF","阿部　渚","アベ　ナギサ",5,"男子"]
["明野東サッカースポーツ少年団_14","明野東サッカースポーツ少年団",{"$f":"(\"14\")","v":"14"},"MF","長井　瑠之介","ナガイ　リュウノスケ",6,"男子"]
["明野東サッカースポーツ少年団_15","明野東サッカースポーツ少年団",{"$f":"(\"15\")","v":"15"},"DF","岩坂　遥斗","イワサカ　ハルト",6,"男子"]
["明野東サッカースポーツ少年団_17","明野東サッカースポーツ少年団",{"$f":"(\"17\")","v":"17"},"FW","山田　椋大","ヤマダ　リョウタ",5,"男子"]
["明野東サッカースポーツ少年団_18","明野東サッカースポーツ少年団",{"$f":"(\"18\")","v":"18"},"FW","加藤　煌明","カトウ　コウメイ",5,"男子"]
["明野東サッカースポーツ少年団_21","明野東サッカースポーツ少年団",{"$f":"(\"21\")","v":"21"},"GK","大倉　舜佑","オオクラ　シュンスケ",5,"男子"]
["戸次吉野ＳＳＳ_1","戸次吉野ＳＳＳ",{"$f":"(\"1\")","v":"1"},"GK","児玉　准哉","コダマ　ジュンヤ",6,"男子"]
["戸次吉野ＳＳＳ_3","戸次吉野ＳＳＳ",{"$f":"(\"3\")","v":"3"},"MF","岩城　和磨","イワキ　カズマ",6,"男子"]
["戸次吉野ＳＳＳ_4","戸次吉野ＳＳＳ",{"$f":"(\"4\")","v":"4"},"DF","岩下　虎太朗","イワシタ　コタロウ",6,"男子"]
["戸次吉野ＳＳＳ_5","戸次吉野ＳＳＳ",{"$f":"(\"5\")","v":"5"},"DF","渡邉　優太","ワタナベ　ユウタ",6,"男子"]
["戸次吉野ＳＳＳ_6","戸次吉野ＳＳＳ",{"$f":"(\"6\")","v":"6"},"DF","田崎　遼太","タサキ　リョウタ",6,"男子"]
["戸次吉野ＳＳＳ_7","戸次吉野ＳＳＳ",{"$f":"(\"7\")","v":"7"},"DF","林　龍葵","ハヤシ　リュウキ",6,"男子"]
["戸次吉野ＳＳＳ_8","戸次吉野ＳＳＳ",{"$f":"(\"8\")","v":"8"},"MF","首藤　大夢","シュトウ　ヒロム",6,"男子"]
["戸次吉野ＳＳＳ_9","戸次吉野ＳＳＳ",{"$f":"(\"9\")","v":"9"},"FW","板井　愛之助","イタイ　アイノスケ",6,"男子"]
["戸次吉野ＳＳＳ_10","戸次吉野ＳＳＳ",{"$f":"(\"10\")","v":"10"},"MF","湯ノ口　悠斗","ユノクチ　ユウト",6,"男子"]
["戸次吉野ＳＳＳ_11","戸次吉野ＳＳＳ",{"$f":"(\"11\")","v":"11"},"MF","後藤　涼之介","ゴトウ　シュンノスケ",6,"男子"]
["戸次吉野ＳＳＳ_12","戸次吉野ＳＳＳ",{"$f":"(\"12\")","v":"12"},"DF","松井　大海","マツイ　タイガ",6,"男子"]
["戸次吉野ＳＳＳ_13","戸次吉野ＳＳＳ",{"$f":"(\"13\")","v":"13"},"DF","首藤　慶人","シュトウ　ケイト",5,"男子"]
["戸次吉野ＳＳＳ_14","戸次吉野ＳＳＳ",{"$f":"(\"14\")","v":"14"},"MF","稗田　伊織","ヒエダ　イオリ",4,"男子"]
["戸次吉野ＳＳＳ_17","戸次吉野ＳＳＳ",{"$f":"(\"17\")","v":"17"},"GK","森本　光輝","モリモト　コウキ",5,"男子"]
["大道サッカースポーツ少年団_1","大道サッカースポーツ少年団",{"$f":"(\"1\")","v":"1"},"GK","足立　暖和","アダチ　ハルト",5,"男子"]
["大道サッカースポーツ少年団_2","大道サッカースポーツ少年団",{"$f":"(\"2\")","v":"2"},"DF","武藤　匠海","ムトウ　タクミ",6,"男子"]
["大道サッカースポーツ少年団_3","大道サッカースポーツ少年団",{"$f":"(\"3\")","v":"3"},"DF","河野　優人","カワノ　ユウト",6,"男子"]
["大道サッカースポーツ少年団_4","大道サッカースポーツ少年団",{"$f":"(\"4\")","v":"4"},"MF","森　弦世","モリ　ゲンセイ",6,"男子"]
["大道サッカースポーツ少年団_5","大道サッカースポーツ少年団",{"$f":"(\"5\")","v":"5"},"FW","清末　七翔","キヨスエ　ナナト",6,"男子"]
[{"$f":"CONCATENATE(B712,\"_\",C712)","v":"大道サッカースポーツ少年団_6"},"大道サッカースポーツ少年団",{"$f":"(\"6\")","v":"6"},"FW","山中　翔太郎","ヤマナカ　ショウタロウ",6,"男子"]
["大道サッカースポーツ少年団_7","大道サッカースポーツ少年団",{"$f":"(\"7\")","v":"7"},"FW","森永　悠太","モリナガ　ユウタ",6,"男子"]
["大道サッカースポーツ少年団_9","大道サッカースポーツ少年団",{"$f":"(\"9\")","v":"9"},"DF","田原　健史朗","タハラ　ケンシロウ",5,"男子"]
["大道サッカースポーツ少年団_10","大道サッカースポーツ少年団",{"$f":"(\"10\")","v":"10"},"MF","首藤　教輔","シュトウ　キョウスケ",5,"男子"]
["大道サッカースポーツ少年団_11","大道サッカースポーツ少年団",{"$f":"(\"11\")","v":"11"},"FW","麻生　なるみ","アソウ　ナルミ",5,"女子小学生"]
["大道サッカースポーツ少年団_12","大道サッカースポーツ少年団",{"$f":"(\"12\")","v":"12"},"GK","竹尾　理志","タケオ　サトシ",4,"男子"]
["大道サッカースポーツ少年団_13","大道サッカースポーツ少年団",{"$f":"(\"13\")","v":"13"},"MF","利光　航琉","トシミツ　ワタル",5,"男子"]
["大道サッカースポーツ少年団_14","大道サッカースポーツ少年団",{"$f":"(\"14\")","v":"14"},"MF","吉岡　大河","ヨシオカ　タイガ",5,"男子"]
["大道サッカースポーツ少年団_15","大道サッカースポーツ少年団",{"$f":"(\"15\")","v":"15"},"MF","岩田　夏槻","イワタ　ナツキ",4,"男子"]
["大道サッカースポーツ少年団_16","大道サッカースポーツ少年団",{"$f":"(\"16\")","v":"16"},"DF","今畠　かえで","イマハタ　カエデ",4,"女子小学生"]
["大道サッカースポーツ少年団_17","大道サッカースポーツ少年団",{"$f":"(\"17\")","v":"17"},"MF","近藤　海斗","コンドウ　カイト",4,"男子"]
["大道サッカースポーツ少年団_19","大道サッカースポーツ少年団",{"$f":"(\"19\")","v":"19"},"FW","二宮　陽詩","ニノミヤ　ヒナタ",4,"男子"]
["大道サッカースポーツ少年団_20","大道サッカースポーツ少年団",{"$f":"(\"20\")","v":"20"},"MF","村上　颯","ムラカミ　ハヤト",4,"男子"]
["東稙田サッカースポーツ少年団_2","東稙田サッカースポーツ少年団",{"$f":"(\"2\")","v":"2"},"FW","川野　楓奈","カワノ　フウナ",5,"女子小学生"]
["東稙田サッカースポーツ少年団_3","東稙田サッカースポーツ少年団",{"$f":"(\"3\")","v":"3"},"FW","黒木　蒼菜","クロキ　ソナ",5,"女子小学生"]
["東稙田サッカースポーツ少年団_4","東稙田サッカースポーツ少年団",{"$f":"(\"4\")","v":"4"},"DF","長峰　一颯","ナガミネ　イブキ",4,"男子"]
["東稙田サッカースポーツ少年団_5","東稙田サッカースポーツ少年団",{"$f":"(\"5\")","v":"5"},"MF","本多　琉惺","ホンダ　リュウセイ",5,"男子"]
["東稙田サッカースポーツ少年団_6","東稙田サッカースポーツ少年団",{"$f":"(\"6\")","v":"6"},"DF","吉村　剣","ヨシムラ　ツルギ",5,"男子"]
["東稙田サッカースポーツ少年団_7","東稙田サッカースポーツ少年団",{"$f":"(\"7\")","v":"7"},"DF","横山　湊","ヨコヤマ　ミナト",6,"男子"]
["東稙田サッカースポーツ少年団_8","東稙田サッカースポーツ少年団",{"$f":"(\"8\")","v":"8"},"GK","伊東　春道","イトウ　ハルミチ",6,"男子"]
["東稙田サッカースポーツ少年団_9","東稙田サッカースポーツ少年団",{"$f":"(\"9\")","v":"9"},"DF","松本　竜弥","マツモト　タツヤ",6,"男子"]
["東稙田サッカースポーツ少年団_10","東稙田サッカースポーツ少年団",{"$f":"(\"10\")","v":"10"},"MF","隅田　波希","スミタ　ナミキ",6,"男子"]
["東稙田サッカースポーツ少年団_11","東稙田サッカースポーツ少年団",{"$f":"(\"11\")","v":"11"},"MF","大谷　琉惺","オオタニ　リュウセイ",6,"男子"]
["東稙田サッカースポーツ少年団_12","東稙田サッカースポーツ少年団",{"$f":"(\"12\")","v":"12"},"GK","後藤　琉音","ゴトウ　リオ",4,"男子"]
["東稙田サッカースポーツ少年団_13","東稙田サッカースポーツ少年団",{"$f":"(\"13\")","v":"13"},"MF","大谷　希望","オオタニ　ノゾミ",4,"女子小学生"]
["東稙田サッカースポーツ少年団_14","東稙田サッカースポーツ少年団",{"$f":"(\"14\")","v":"14"},"FW","吉村　菜花","ヨシムラ　ナノハ",4,"女子小学生"]
["東稙田サッカースポーツ少年団_15","東稙田サッカースポーツ少年団",{"$f":"(\"15\")","v":"15"},"FW","奥藤　颯","オクフジ　イブキ",4,"男子"]
["東稙田サッカースポーツ少年団_16","東稙田サッカースポーツ少年団",{"$f":"(\"16\")","v":"16"},"FW","亀谷　琉希","カメヤ　ルイキ",4,"男子"]
["寒田少年サッカークラブ_1","寒田少年サッカークラブ",{"$f":"(\"1\")","v":"1"},"GK","板井　優樹","イタイ　ユウキ",6,"男子"]
["寒田少年サッカークラブ_2","寒田少年サッカークラブ",{"$f":"(\"2\")","v":"2"},"DF","成松　怜音","ナリマツ　レオ",4,"男子"]
["寒田少年サッカークラブ_3","寒田少年サッカークラブ",{"$f":"(\"3\")","v":"3"},"MF","長吉　倖成","ナガヨシ　ユキナリ",6,"男子"]
["寒田少年サッカークラブ_4","寒田少年サッカークラブ",{"$f":"(\"4\")","v":"4"},"DF","杉崎　景光","スギサキ　カゲミツ",6,"男子"]
["寒田少年サッカークラブ_5","寒田少年サッカークラブ",{"$f":"(\"5\")","v":"5"},"DF","森　凛人","モリ　リト",6,"男子"]
["寒田少年サッカークラブ_6","寒田少年サッカークラブ",{"$f":"(\"6\")","v":"6"},"FW","岡本　和也","オカモト　カズヤ",5,"男子"]
["寒田少年サッカークラブ_7","寒田少年サッカークラブ",{"$f":"(\"7\")","v":"7"},"MF","豊田　洸","トヨダ　ヒカル",6,"男子"]
["寒田少年サッカークラブ_8","寒田少年サッカークラブ",{"$f":"(\"8\")","v":"8"},"MF","萱島　翔太","カヤシマ　ショウタ",6,"男子"]
["寒田少年サッカークラブ_9","寒田少年サッカークラブ",{"$f":"(\"9\")","v":"9"},"MF","澤永　悠樹","サワナガ　ユウキ",6,"男子"]
["寒田少年サッカークラブ_10","寒田少年サッカークラブ",{"$f":"(\"10\")","v":"10"},"MF","本田　郁恭","ホンダ　ユウスケ",6,"男子"]
["寒田少年サッカークラブ_11","寒田少年サッカークラブ",{"$f":"(\"11\")","v":"11"},"FW","奈須　心勇","ナス　シユウ",6,"男子"]
["寒田少年サッカークラブ_12","寒田少年サッカークラブ",{"$f":"(\"12\")","v":"12"},"MF","本田　敬恭","ホンダ　ケイスケ",5,"男子"]
["寒田少年サッカークラブ_13","寒田少年サッカークラブ",{"$f":"(\"13\")","v":"13"},"DF","奈須　要","ナス　カナメ",4,"男子"]
["寒田少年サッカークラブ_14","寒田少年サッカークラブ",{"$f":"(\"14\")","v":"14"},"MF","中島　琥珀","ナカシマ　コハク",5,"男子"]
["寒田少年サッカークラブ_15","寒田少年サッカークラブ",{"$f":"(\"15\")","v":"15"},"DF","宮脇　大芽","ミヤワキ　タイガ",5,"男子"]
["寒田少年サッカークラブ_21","寒田少年サッカークラブ",{"$f":"(\"21\")","v":"21"},"GK","西村　俊汰","ニシムラ　シュンタ",6,"男子"]
["滝尾下郡サッカースポーツ少年団_1","滝尾下郡サッカースポーツ少年団",{"$f":"(\"1\")","v":"1"},"GK","原嶋　海翔","ハラシマ　カイト",6,"男子"]
["滝尾下郡サッカースポーツ少年団_2","滝尾下郡サッカースポーツ少年団",{"$f":"(\"2\")","v":"2"},"MF","三浦　脩雅","ミウラ　シュウガ",6,"男子"]
["滝尾下郡サッカースポーツ少年団_3","滝尾下郡サッカースポーツ少年団",{"$f":"(\"3\")","v":"3"},"DF","中川　怜","ナカガワ　レン",6,"男子"]
["滝尾下郡サッカースポーツ少年団_4","滝尾下郡サッカースポーツ少年団",{"$f":"(\"4\")","v":"4"},"FW","江越　翔悟","エゴシ　ショウゴ",6,"男子"]
["滝尾下郡サッカースポーツ少年団_5","滝尾下郡サッカースポーツ少年団",{"$f":"(\"5\")","v":"5"},"DF","井　健太","イイ　ケンタ",6,"男子"]
["滝尾下郡サッカースポーツ少年団_6","滝尾下郡サッカースポーツ少年団",{"$f":"(\"6\")","v":"6"},"DF","江崎　快","エザキ　カイ",6,"男子"]
["滝尾下郡サッカースポーツ少年団_7","滝尾下郡サッカースポーツ少年団",{"$f":"(\"7\")","v":"7"},"FW","濱本　玲羅","ハマモト　レイラ",6,"女子小学生"]
["滝尾下郡サッカースポーツ少年団_8","滝尾下郡サッカースポーツ少年団",{"$f":"(\"8\")","v":"8"},"DF","二宮　璃緒","ニノミヤ　リオ",6,"男子"]
["滝尾下郡サッカースポーツ少年団_9","滝尾下郡サッカースポーツ少年団",{"$f":"(\"9\")","v":"9"},"FW","萩野　亮太","ハギノ　リョウタ",6,"男子"]
["滝尾下郡サッカースポーツ少年団_10","滝尾下郡サッカースポーツ少年団",{"$f":"(\"10\")","v":"10"},"MF","高橋　優仁","タカハシ　ユウジン",6,"男子"]
["滝尾下郡サッカースポーツ少年団_11","滝尾下郡サッカースポーツ少年団",{"$f":"(\"11\")","v":"11"},"FW","横井　遥人","ヨコイ　ハルト",6,"男子"]
["滝尾下郡サッカースポーツ少年団_12","滝尾下郡サッカースポーツ少年団",{"$f":"(\"12\")","v":"12"},"DF","河野　紗音","カワノ　スズネ",6,"女子小学生"]
["滝尾下郡サッカースポーツ少年団_13","滝尾下郡サッカースポーツ少年団",{"$f":"(\"13\")","v":"13"},"DF","白根　愛大","シラネ　マナト",6,"男子"]
["滝尾下郡サッカースポーツ少年団_15","滝尾下郡サッカースポーツ少年団",{"$f":"(\"15\")","v":"15"},"MF","庄司　健吾","ショウジ　ケンゴ",5,"男子"]
["滝尾下郡サッカースポーツ少年団_18","滝尾下郡サッカースポーツ少年団",{"$f":"(\"18\")","v":"18"},"FW","河野　侑吐","カワノ　イクト",5,"男子"]
["滝尾下郡サッカースポーツ少年団_30","滝尾下郡サッカースポーツ少年団",{"$f":"(\"30\")","v":"30"},"GK","矢野　陽翔","ヤノ　ハルト",5,"男子"]
["豊府サッカースポーツ少年団_1","豊府サッカースポーツ少年団",{"$f":"(\"1\")","v":"1"},"GK","大野　陽輝","オオノ　ハルキ",5,"男子"]
["豊府サッカースポーツ少年団_2","豊府サッカースポーツ少年団",{"$f":"(\"2\")","v":"2"},"DF","直野　優斗","ナオノ　ユウト",5,"男子"]
["豊府サッカースポーツ少年団_3","豊府サッカースポーツ少年団",{"$f":"(\"3\")","v":"3"},"DF","佐藤　陽真","サトウ　ハルマ",5,"男子"]
["豊府サッカースポーツ少年団_4","豊府サッカースポーツ少年団",{"$f":"(\"4\")","v":"4"},"MF","小倉　優斉","オグラ　ユサ",5,"男子"]
[{"$f":"CONCATENATE(B776,\"_\",C776)","v":"豊府サッカースポーツ少年団_5"},"豊府サッカースポーツ少年団",{"$f":"(\"5\")","v":"5"},"DF","末永　隼久","スエナガ　タカヒサ",5,"男子"]
["豊府サッカースポーツ少年団_6","豊府サッカースポーツ少年団",{"$f":"(\"6\")","v":"6"},"FW","植田　琉空","ウエダ　リク",5,"男子"]
["豊府サッカースポーツ少年団_7","豊府サッカースポーツ少年団",{"$f":"(\"7\")","v":"7"},"MF","佐藤　凛太朗","サトウ　リンタロウ",5,"男子"]
["豊府サッカースポーツ少年団_8","豊府サッカースポーツ少年団",{"$f":"(\"8\")","v":"8"},"DF","阪本　椋介","サカモト　リョウスケ",5,"男子"]
["豊府サッカースポーツ少年団_9","豊府サッカースポーツ少年団",{"$f":"(\"9\")","v":"9"},"FW","福田　虎志郎","フクダ　コジロウ",4,"男子"]
["豊府サッカースポーツ少年団_10","豊府サッカースポーツ少年団",{"$f":"(\"10\")","v":"10"},"MF","加藤　悠汰","カトウ　ユウタ",5,"男子"]
["豊府サッカースポーツ少年団_11","豊府サッカースポーツ少年団",{"$f":"(\"11\")","v":"11"},"MF","庄司　光希","ショウジ　コウキ",5,"男子"]
["豊府サッカースポーツ少年団_12","豊府サッカースポーツ少年団",{"$f":"(\"12\")","v":"12"},"GK","竹内　彪斗","タケウチ　アヤト",4,"男子"]
["豊府サッカースポーツ少年団_13","豊府サッカースポーツ少年団",{"$f":"(\"13\")","v":"13"},"FW","安部　太智","アベ　タイチ",4,"男子"]
["豊府サッカースポーツ少年団_19","豊府サッカースポーツ少年団",{"$f":"(\"19\")","v":"19"},"MF","小泉　凜空","コイズミ　リク",6,"女子小学生"]
["宗方サッカークラブ_1","宗方サッカークラブ",{"$f":"(\"1\")","v":"1"},"GK","久保　颯香","クボ　フウガ",6,"男子"]
["宗方サッカークラブ_2","宗方サッカークラブ",{"$f":"(\"2\")","v":"2"},"DF","木戸　航大","キド　コウダイ",6,"男子"]
["宗方サッカークラブ_3","宗方サッカークラブ",{"$f":"(\"3\")","v":"3"},"DF","岩田　匡弘","イワタ　マサヒロ",5,"男子"]
["宗方サッカークラブ_4","宗方サッカークラブ",{"$f":"(\"4\")","v":"4"},"DF","安東　恭佑","アンドウ　キョウスケ",6,"男子"]
["宗方サッカークラブ_5","宗方サッカークラブ",{"$f":"(\"5\")","v":"5"},"MF","山本　恵太郎","ヤマモト　ケイタロウ",6,"男子"]
["宗方サッカークラブ_6","宗方サッカークラブ",{"$f":"(\"6\")","v":"6"},"FW","安東　明慧","アンドウ　アサト",6,"男子"]
["宗方サッカークラブ_7","宗方サッカークラブ",{"$f":"(\"7\")","v":"7"},"MF","小原　世楠","オハラ　セナ",6,"男子"]
["宗方サッカークラブ_8","宗方サッカークラブ",{"$f":"(\"8\")","v":"8"},"FW","有田　祥太朗","アリタ　ショウタロウ",6,"男子"]
["宗方サッカークラブ_9","宗方サッカークラブ",{"$f":"(\"9\")","v":"9"},"FW","早木　悠登","ハヤキ　ユウト",6,"男子"]
["宗方サッカークラブ_10","宗方サッカークラブ",{"$f":"(\"10\")","v":"10"},"MF","矢野　寛大","ヤノ　カンタ",6,"男子"]
["宗方サッカークラブ_11","宗方サッカークラブ",{"$f":"(\"11\")","v":"11"},"MF","山下　玲和","ヤマシタ　レイオ",6,"男子"]
["宗方サッカークラブ_12","宗方サッカークラブ",{"$f":"(\"12\")","v":"12"},"DF","山崎　櫂","ヤマサキ　カイ",5,"男子"]
["宗方サッカークラブ_13","宗方サッカークラブ",{"$f":"(\"13\")","v":"13"},"DF","清水　颯太","シミズ　ソウタ",5,"男子"]
["宗方サッカークラブ_14","宗方サッカークラブ",{"$f":"(\"14\")","v":"14"},"DF","後藤　竜樹","ゴトウ　リュウキ",5,"男子"]
["宗方サッカークラブ_15","宗方サッカークラブ",{"$f":"(\"15\")","v":"15"},"FW","池田　悠人","イケダ　ユウト",5,"男子"]
["宗方サッカークラブ_21","宗方サッカークラブ",{"$f":"(\"21\")","v":"21"},"GK","酒井　琥士朗","サカイ　コジロウ",5,"男子"]
["明治サッカースポーツ少年団_1","明治サッカースポーツ少年団",{"$f":"(\"1\")","v":"1"},"GK","大平　聖也","オオヒラ　マサヤ",6,"男子"]
["明治サッカースポーツ少年団_2","明治サッカースポーツ少年団",{"$f":"(\"2\")","v":"2"},"DF","大橋　颯","オオハシ　ハヤテ",5,"男子"]
["明治サッカースポーツ少年団_3","明治サッカースポーツ少年団",{"$f":"(\"3\")","v":"3"},"MF","曽我　昂叶","ソガ　タカト",5,"男子"]
["明治サッカースポーツ少年団_4","明治サッカースポーツ少年団",{"$f":"(\"4\")","v":"4"},"MF","椎原　吟峨","シイハラ　ギンガ",5,"男子"]
["明治サッカースポーツ少年団_5","明治サッカースポーツ少年団",{"$f":"(\"5\")","v":"5"},"FW","葛城　一平","カツラギ　イッペイ",6,"男子"]
["明治サッカースポーツ少年団_7","明治サッカースポーツ少年団",{"$f":"(\"7\")","v":"7"},"MF","如法寺　遥","ニョホウジ　ハルキ",6,"男子"]
["明治サッカースポーツ少年団_8","明治サッカースポーツ少年団",{"$f":"(\"8\")","v":"8"},"FW","松野　悠大","マツノ　ヒサヒロ",6,"男子"]
["明治サッカースポーツ少年団_9","明治サッカースポーツ少年団",{"$f":"(\"9\")","v":"9"},"MF","如法寺　楓","ニョホウジ　カエデ",5,"男子"]
["明治サッカースポーツ少年団_10","明治サッカースポーツ少年団",{"$f":"(\"10\")","v":"10"},"FW","吉川　豹生","ヨシカワ　ヒョウム",6,"男子"]
["明治サッカースポーツ少年団_11","明治サッカースポーツ少年団",{"$f":"(\"11\")","v":"11"},"FW","那賀　吏輝斗","ナカ　リキト",6,"男子"]
["明治サッカースポーツ少年団_12","明治サッカースポーツ少年団",{"$f":"(\"12\")","v":"12"},"FW","吉川　侑来","ヨシカワ　ユライ",3,"男子"]
["明治サッカースポーツ少年団_13","明治サッカースポーツ少年団",{"$f":"(\"13\")","v":"13"},"FW","日浦　慶至","ヒウラ　ケイシ",5,"男子"]
["明治サッカースポーツ少年団_15","明治サッカースポーツ少年団",{"$f":"(\"15\")","v":"15"},"MF","佐藤　大樹","サトウ　ダイキ",4,"男子"]
["明治サッカースポーツ少年団_16","明治サッカースポーツ少年団",{"$f":"(\"16\")","v":"16"},"GK","葛城　真平","カツラギ　シンペイ",5,"男子"]
["三佐サッカースポーツ少年団_1","三佐サッカースポーツ少年団",{"$f":"(\"1\")","v":"1"},"GK","島谷　世渚","シマタニ　セナ",6,"男子"]
["三佐サッカースポーツ少年団_2","三佐サッカースポーツ少年団",{"$f":"(\"2\")","v":"2"},"DF","北村　優一","キタムラ　ユウイチ",6,"男子"]
["三佐サッカースポーツ少年団_3","三佐サッカースポーツ少年団",{"$f":"(\"3\")","v":"3"},"GK","佐藤　大夢","サトウ　ダイム",6,"男子"]
["三佐サッカースポーツ少年団_4","三佐サッカースポーツ少年団",{"$f":"(\"4\")","v":"4"},"DF","向井　照真","ムカイ　テルマ",2,"男子"]
["三佐サッカースポーツ少年団_5","三佐サッカースポーツ少年団",{"$f":"(\"5\")","v":"5"},"DF","大山　航汰","オオヤマ　コウタ",5,"男子"]
["三佐サッカースポーツ少年団_6","三佐サッカースポーツ少年団",{"$f":"(\"6\")","v":"6"},"MF","岩本　凌","イワモト　リョウ",6,"男子"]
["三佐サッカースポーツ少年団_7","三佐サッカースポーツ少年団",{"$f":"(\"7\")","v":"7"},"DF","松本　歩己","マツモト　アユミ",6,"男子"]
["三佐サッカースポーツ少年団_8","三佐サッカースポーツ少年団",{"$f":"(\"8\")","v":"8"},"FW","首藤　望月","シュトウ　ミツキ",6,"男子"]
["三佐サッカースポーツ少年団_9","三佐サッカースポーツ少年団",{"$f":"(\"9\")","v":"9"},"FW","向井　夕真","ムカイ　ユウマ",6,"男子"]
["三佐サッカースポーツ少年団_10","三佐サッカースポーツ少年団",{"$f":"(\"10\")","v":"10"},"DF","高橋　慧駕","タカハシ　ケイガ",6,"男子"]
["三佐サッカースポーツ少年団_11","三佐サッカースポーツ少年団",{"$f":"(\"11\")","v":"11"},"MF","大庭　梨暉","オオバ　リキ",5,"男子"]
["三佐サッカースポーツ少年団_12","三佐サッカースポーツ少年団",{"$f":"(\"12\")","v":"12"},"MF","利光　寿希也","トシミツ　ジュキヤ",6,"男子"]
["三佐サッカースポーツ少年団_13","三佐サッカースポーツ少年団",{"$f":"(\"13\")","v":"13"},"DF","中村　学","ナカムラ　マナブ",5,"男子"]
["三佐サッカースポーツ少年団_14","三佐サッカースポーツ少年団",{"$f":"(\"14\")","v":"14"},"MF","本久　湊","モトヒサ　ミナト",3,"男子"]
["三佐サッカースポーツ少年団_15","三佐サッカースポーツ少年団",{"$f":"(\"15\")","v":"15"},"FW","亀井　翔太郎","カメイ　ショウタロウ",3,"男子"]
["三佐サッカースポーツ少年団_16","三佐サッカースポーツ少年団",{"$f":"(\"16\")","v":"16"},"DF","大山　翔","オオヤマ　ショウ",4,"男子"]
["明野西ＪＦＣ_1","明野西ＪＦＣ",{"$f":"(\"1\")","v":"1"},"GK","後藤　健伍","ゴトウ　ケンゴ",5,"男子"]
["明野西ＪＦＣ_2","明野西ＪＦＣ",{"$f":"(\"2\")","v":"2"},"FW","中島　永風","ナカシマ　ハルカ",6,"男子"]
["明野西ＪＦＣ_3","明野西ＪＦＣ",{"$f":"(\"3\")","v":"3"},"DF","田邉　洸乃","タナベ　コウダイ",5,"男子"]
["明野西ＪＦＣ_4","明野西ＪＦＣ",{"$f":"(\"4\")","v":"4"},"DF","足立　悠真","アダチ　ユウマ",5,"男子"]
["明野西ＪＦＣ_5","明野西ＪＦＣ",{"$f":"(\"5\")","v":"5"},"DF","東　美月","ヒガシ　ミヅキ",5,"女子小学生"]
["明野西ＪＦＣ_6","明野西ＪＦＣ",{"$f":"(\"6\")","v":"6"},"MF","西田　空翔","ニシダ　ソラト",5,"男子"]
["明野西ＪＦＣ_7","明野西ＪＦＣ",{"$f":"(\"7\")","v":"7"},"MF","日野　那音","ヒノ　ナオト",5,"男子"]
["明野西ＪＦＣ_8","明野西ＪＦＣ",{"$f":"(\"8\")","v":"8"},"MF","東　拓史","ヒガシ　タクミ",5,"男子"]
[{"$f":"CONCATENATE(B840,\"_\",C840)","v":"明野西ＪＦＣ_9"},"明野西ＪＦＣ",{"$f":"(\"9\")","v":"9"},"FW","米丸　碧","ヨネマル　アオ",5,"男子"]
["明野西ＪＦＣ_11","明野西ＪＦＣ",{"$f":"(\"11\")","v":"11"},"MF","松本　凌茉","マツモト　リョウマ",4,"男子"]
["明野西ＪＦＣ_12","明野西ＪＦＣ",{"$f":"(\"12\")","v":"12"},"GK","切封　夢叶","キリフ　ユウト",5,"男子"]
["明野西ＪＦＣ_13","明野西ＪＦＣ",{"$f":"(\"13\")","v":"13"},"MF","川副　孝仁","カワソエ　タカヒト",4,"男子"]
["明野西ＪＦＣ_14","明野西ＪＦＣ",{"$f":"(\"14\")","v":"14"},"DF","河村　奏汰","カワムラ　ソウタ",4,"男子"]
["明野西ＪＦＣ_15","明野西ＪＦＣ",{"$f":"(\"15\")","v":"15"},"MF","足立　雅樹","アダチ　マサキ",3,"男子"]
["明野西ＪＦＣ_16","明野西ＪＦＣ",{"$f":"(\"16\")","v":"16"},"MF","西郡　皐太朗","ニシゴオリ　コウタロウ",4,"男子"]
["金池長浜サッカースポーツ少年団_1","金池長浜サッカースポーツ少年団",{"$f":"(\"1\")","v":"1"},"GK","木原　将和","キハラ　マサカズ",6,"男子"]
["金池長浜サッカースポーツ少年団_2","金池長浜サッカースポーツ少年団",{"$f":"(\"2\")","v":"2"},"DF","土屋　慶悟","ツチヤ　ケイゴ",6,"男子"]
["金池長浜サッカースポーツ少年団_3","金池長浜サッカースポーツ少年団",{"$f":"(\"3\")","v":"3"},"MF","渋谷　駿","シブヤ　タケル",5,"男子"]
["金池長浜サッカースポーツ少年団_5","金池長浜サッカースポーツ少年団",{"$f":"(\"5\")","v":"5"},"FW","安藤　大晟","アンドウ　タイセイ",5,"男子"]
["金池長浜サッカースポーツ少年団_6","金池長浜サッカースポーツ少年団",{"$f":"(\"6\")","v":"6"},"MF","古城　帆貴","コジョウ　ホタカ",5,"男子"]
["金池長浜サッカースポーツ少年団_7","金池長浜サッカースポーツ少年団",{"$f":"(\"7\")","v":"7"},"DF","中山　永遠","ナカヤマ　トワ",6,"男子"]
["金池長浜サッカースポーツ少年団_8","金池長浜サッカースポーツ少年団",{"$f":"(\"8\")","v":"8"},"MF","秋月　蓮芽","アキヅキ　レンゲ",6,"男子"]
["金池長浜サッカースポーツ少年団_9","金池長浜サッカースポーツ少年団",{"$f":"(\"9\")","v":"9"},"DF","須藤　聡","ストウ　ソウ",6,"男子"]
["金池長浜サッカースポーツ少年団_10","金池長浜サッカースポーツ少年団",{"$f":"(\"10\")","v":"10"},"FW","山中　鉄太","ヤマナカ　テッタ",6,"男子"]
["金池長浜サッカースポーツ少年団_11","金池長浜サッカースポーツ少年団",{"$f":"(\"11\")","v":"11"},"DF","木原　悠聖","キハラ　ユウセイ",4,"男子"]
["金池長浜サッカースポーツ少年団_12","金池長浜サッカースポーツ少年団",{"$f":"(\"12\")","v":"12"},"FW","藤田　晃己","フジタ　コウキ",4,"男子"]
["金池長浜サッカースポーツ少年団_13","金池長浜サッカースポーツ少年団",{"$f":"(\"13\")","v":"13"},"MF","堀　愛歩","ホリ　マナブ",4,"男子"]
["金池長浜サッカースポーツ少年団_14","金池長浜サッカースポーツ少年団",{"$f":"(\"14\")","v":"14"},"FW","秋月　瑚立","アキヅキ　コダチ",4,"男子"]
["金池長浜サッカースポーツ少年団_15","金池長浜サッカースポーツ少年団",{"$f":"(\"15\")","v":"15"},"MF","有田　遍","アリタ　アマネ",4,"女子小学生"]
["金池長浜サッカースポーツ少年団_17","金池長浜サッカースポーツ少年団",{"$f":"(\"17\")","v":"17"},"FW","水江　泰雅","ミズエ　タイガ",4,"男子"]
["金池長浜サッカースポーツ少年団_22","金池長浜サッカースポーツ少年団",{"$f":"(\"22\")","v":"22"},"DF","柴田　優介","シバタ　ユウスケ",5,"男子"]
["日岡サッカースポーツ少年団_1","日岡サッカースポーツ少年団",{"$f":"(\"1\")","v":"1"},"GK","矢野　伊織","ヤノ　イオリ",5,"男子"]
["日岡サッカースポーツ少年団_2","日岡サッカースポーツ少年団",{"$f":"(\"2\")","v":"2"},"DF","柴田　大志","シバタ　タイシ",4,"男子"]
["日岡サッカースポーツ少年団_3","日岡サッカースポーツ少年団",{"$f":"(\"3\")","v":"3"},"MF","安倍　純輝","アベ　ジュンキ",6,"男子"]
["日岡サッカースポーツ少年団_4","日岡サッカースポーツ少年団",{"$f":"(\"4\")","v":"4"},"FW","木村　海翔","キムラ　カイト",5,"男子"]
["日岡サッカースポーツ少年団_5","日岡サッカースポーツ少年団",{"$f":"(\"5\")","v":"5"},"MF","後藤　塁","ゴトウ　ルイ",5,"男子"]
["日岡サッカースポーツ少年団_6","日岡サッカースポーツ少年団",{"$f":"(\"6\")","v":"6"},"DF","山口　翔大","ヤマグチ　ショウタ",5,"男子"]
["日岡サッカースポーツ少年団_8","日岡サッカースポーツ少年団",{"$f":"(\"8\")","v":"8"},"DF","髙村　龍冴","タカムラ　リュウザ",5,"男子"]
["日岡サッカースポーツ少年団_9","日岡サッカースポーツ少年団",{"$f":"(\"9\")","v":"9"},"FW","佐藤　歩虎","サトウ　アユト",5,"男子"]
["日岡サッカースポーツ少年団_10","日岡サッカースポーツ少年団",{"$f":"(\"10\")","v":"10"},"MF","牧　礼桜","マキ　レオ",5,"男子"]
["日岡サッカースポーツ少年団_11","日岡サッカースポーツ少年団",{"$f":"(\"11\")","v":"11"},"DF","牧　優空","マキ　ユラ",6,"男子"]
["日岡サッカースポーツ少年団_12","日岡サッカースポーツ少年団",{"$f":"(\"12\")","v":"12"},"MF","矢野　都織","ヤノ　トオリ",3,"男子"]
["日岡サッカースポーツ少年団_14","日岡サッカースポーツ少年団",{"$f":"(\"14\")","v":"14"},"FW","佐藤　凛月","サトウ　リツキ",3,"男子"]
["日岡サッカースポーツ少年団_15","日岡サッカースポーツ少年団",{"$f":"(\"15\")","v":"15"},"FW","西田　陸翔","ニシダ　リクト",3,"男子"]
["日岡サッカースポーツ少年団_16","日岡サッカースポーツ少年団",{"$f":"(\"16\")","v":"16"},"MF","伊藤　勇人","イトウ　ハヤト",4,"男子"]
["日岡サッカースポーツ少年団_17","日岡サッカースポーツ少年団",{"$f":"(\"17\")","v":"17"},"GK","諫山　蒼空","イサヤマ　ソラ",5,"男子"]
["城南サッカースポーツ少年団_1","城南サッカースポーツ少年団",{"$f":"(\"1\")","v":"1"},"GK","溝辺　凛音","ミゾベ　リオ",5,"男子"]
["城南サッカースポーツ少年団_2","城南サッカースポーツ少年団",{"$f":"(\"2\")","v":"2"},"DF","後藤　瑛士","ゴトウ　エイジ",6,"男子"]
["城南サッカースポーツ少年団_3","城南サッカースポーツ少年団",{"$f":"(\"3\")","v":"3"},"MF","森﨑　滉太","モリサキ　コウタ",6,"男子"]
["城南サッカースポーツ少年団_4","城南サッカースポーツ少年団",{"$f":"(\"4\")","v":"4"},"MF","二宮　蘭","ニノミヤ　ラン",4,"女子小学生"]
["城南サッカースポーツ少年団_6","城南サッカースポーツ少年団",{"$f":"(\"6\")","v":"6"},"FW","相良　哲汰","サガラ　テツタ",6,"男子"]
["城南サッカースポーツ少年団_7","城南サッカースポーツ少年団",{"$f":"(\"7\")","v":"7"},"DF","仲町　剛","ナカマチ　ゴウ",5,"男子"]
["城南サッカースポーツ少年団_8","城南サッカースポーツ少年団",{"$f":"(\"8\")","v":"8"},"DF","松浦　東","マツウラ　アズマ",5,"男子"]
["城南サッカースポーツ少年団_9","城南サッカースポーツ少年団",{"$f":"(\"9\")","v":"9"},"MF","池田　匠斗","イケダ　タクト",6,"男子"]
["城南サッカースポーツ少年団_11","城南サッカースポーツ少年団",{"$f":"(\"11\")","v":"11"},"FW","宮﨑　祥真","ミヤザキ　ショウマ",6,"男子"]
["城南サッカースポーツ少年団_12","城南サッカースポーツ少年団",{"$f":"(\"12\")","v":"12"},"MF","小西　里奈","コニシ　リナ",5,"女子小学生"]
["城南サッカースポーツ少年団_13","城南サッカースポーツ少年団",{"$f":"(\"13\")","v":"13"},"MF","後藤　瑞希","ゴトウ　ミズキ",4,"女子小学生"]
["城南サッカースポーツ少年団_14","城南サッカースポーツ少年団",{"$f":"(\"14\")","v":"14"},"DF","嶋末　想平","シマスエ　ソウヘイ",4,"男子"]
["城南サッカースポーツ少年団_15","城南サッカースポーツ少年団",{"$f":"(\"15\")","v":"15"},"FW","岡部　聡咲","オカベ　ソウサク",4,"男子"]
["城南サッカースポーツ少年団_16","城南サッカースポーツ少年団",{"$f":"(\"16\")","v":"16"},"MF","松浦　朝陽","マツウラ　アサヒ",3,"男子"]
["荏隈サッカースポーツ少年団_2","荏隈サッカースポーツ少年団",{"$f":"(\"2\")","v":"2"},"DF","小畑　蓮","オバタ　レン",6,"男子"]
["荏隈サッカースポーツ少年団_3","荏隈サッカースポーツ少年団",{"$f":"(\"3\")","v":"3"},"FW","中村　楽","ナカムラ　ガク",3,"男子"]
["荏隈サッカースポーツ少年団_4","荏隈サッカースポーツ少年団",{"$f":"(\"4\")","v":"4"},"MF","鈴木　琉斗","スズキ　リュウト",3,"男子"]
["荏隈サッカースポーツ少年団_5","荏隈サッカースポーツ少年団",{"$f":"(\"5\")","v":"5"},"DF","小野　弘也","オノ　コウヤ",6,"男子"]
["荏隈サッカースポーツ少年団_6","荏隈サッカースポーツ少年団",{"$f":"(\"6\")","v":"6"},"MF","安東　新泰","アンドウ　アラタ",3,"男子"]
["荏隈サッカースポーツ少年団_7","荏隈サッカースポーツ少年団",{"$f":"(\"7\")","v":"7"},"MF","佐藤　大翔","サトウ　ハルト",4,"男子"]
["荏隈サッカースポーツ少年団_8","荏隈サッカースポーツ少年団",{"$f":"(\"8\")","v":"8"},"MF","阿南　幸輝","アナン　コウキ",6,"男子"]
["荏隈サッカースポーツ少年団_10","荏隈サッカースポーツ少年団",{"$f":"(\"10\")","v":"10"},"MF","太田　陽己","オオタ　ハルキ",6,"男子"]
["荏隈サッカースポーツ少年団_11","荏隈サッカースポーツ少年団",{"$f":"(\"11\")","v":"11"},"MF","古門　倖太","フルカド　コウタ",4,"男子"]
["荏隈サッカースポーツ少年団_17","荏隈サッカースポーツ少年団",{"$f":"(\"17\")","v":"17"},"FW","鈴木　玲央","スズキ　レオ",1,"男子"]
["荏隈サッカースポーツ少年団_19","荏隈サッカースポーツ少年団",{"$f":"(\"19\")","v":"19"},"GK","嶋田　陽鷺斗","シマダ　ヒロト",5,"男子"]
["荏隈サッカースポーツ少年団_20","荏隈サッカースポーツ少年団",{"$f":"(\"20\")","v":"20"},"FW","大久保　翔太朗","オオクボ　ショウタロウ",3,"男子"]
[{"$f":"CONCATENATE(B904,\"_\",C904)","v":"稙田ＦＣサッカースポーツ少年団_1"},"稙田ＦＣサッカースポーツ少年団",{"$f":"(\"1\")","v":"1"},"GK","池邉　司","イケベ　ツカサ",6,"男子"]
["稙田ＦＣサッカースポーツ少年団_2","稙田ＦＣサッカースポーツ少年団",{"$f":"(\"2\")","v":"2"},"DF","斉藤　凪騎","サイトウ　ナギ",6,"男子"]
["稙田ＦＣサッカースポーツ少年団_3","稙田ＦＣサッカースポーツ少年団",{"$f":"(\"3\")","v":"3"},"DF","大津　侑也","オオツ　ユウヤ",6,"男子"]
["稙田ＦＣサッカースポーツ少年団_4","稙田ＦＣサッカースポーツ少年団",{"$f":"(\"4\")","v":"4"},"MF","甲斐　昊真","カイ　コウマ",6,"男子"]
["稙田ＦＣサッカースポーツ少年団_5","稙田ＦＣサッカースポーツ少年団",{"$f":"(\"5\")","v":"5"},"DF","坂本　哉太","サカモト　カナタ",5,"男子"]
["稙田ＦＣサッカースポーツ少年団_6","稙田ＦＣサッカースポーツ少年団",{"$f":"(\"6\")","v":"6"},"MF","安部　光哉","アベ　コウヤ",6,"男子"]
["稙田ＦＣサッカースポーツ少年団_7","稙田ＦＣサッカースポーツ少年団",{"$f":"(\"7\")","v":"7"},"MF","佐藤　愁哲","サトウ　シュウト",6,"男子"]
["稙田ＦＣサッカースポーツ少年団_8","稙田ＦＣサッカースポーツ少年団",{"$f":"(\"8\")","v":"8"},"MF","池部　純叶","イケベ　ジュント",6,"男子"]
["稙田ＦＣサッカースポーツ少年団_9","稙田ＦＣサッカースポーツ少年団",{"$f":"(\"9\")","v":"9"},"MF","前田　康瑛","マエダ　コウエイ",4,"男子"]
["稙田ＦＣサッカースポーツ少年団_10","稙田ＦＣサッカースポーツ少年団",{"$f":"(\"10\")","v":"10"},"FW","柴﨑　望","シバサキ　ノゾミ",6,"男子"]
["稙田ＦＣサッカースポーツ少年団_11","稙田ＦＣサッカースポーツ少年団",{"$f":"(\"11\")","v":"11"},"MF","中尾　翔悟","ナカオ　ショウゴ",5,"男子"]
["稙田ＦＣサッカースポーツ少年団_12","稙田ＦＣサッカースポーツ少年団",{"$f":"(\"12\")","v":"12"},"DF","渡辺　悠翔","ワタナベ　ユウト",5,"男子"]
["稙田ＦＣサッカースポーツ少年団_13","稙田ＦＣサッカースポーツ少年団",{"$f":"(\"13\")","v":"13"},"FW","河野　悠馬","コウノ　ハルマ",5,"男子"]
["稙田ＦＣサッカースポーツ少年団_14","稙田ＦＣサッカースポーツ少年団",{"$f":"(\"14\")","v":"14"},"FW","山口　晃輝","ヤマグチ　コウキ",5,"男子"]
["稙田ＦＣサッカースポーツ少年団_15","稙田ＦＣサッカースポーツ少年団",{"$f":"(\"15\")","v":"15"},"FW","奥村　勇斗","オクムラ　ハヤト",4,"男子"]
["稙田ＦＣサッカースポーツ少年団_16","稙田ＦＣサッカースポーツ少年団",{"$f":"(\"16\")","v":"16"},"MF","那須　翼","ナス　ツバサ",5,"男子"]
["稙田ＦＣサッカースポーツ少年団_17","稙田ＦＣサッカースポーツ少年団",{"$f":"(\"17\")","v":"17"},"MF","石榑　孝匡","イシクレ　タカマサ",5,"男子"]
["稙田ＦＣサッカースポーツ少年団_20","稙田ＦＣサッカースポーツ少年団",{"$f":"(\"20\")","v":"20"},"FW","坂口　一馬","サカグチ　カズマ",5,"男子"]
["北郡坂ノ市サッカースポーツ少年団_1","北郡坂ノ市サッカースポーツ少年団",{"$f":"(\"1\")","v":"1"},"GK","工藤　凪","クドウ　ナギ",6,"男子"]
["北郡坂ノ市サッカースポーツ少年団_2","北郡坂ノ市サッカースポーツ少年団",{"$f":"(\"2\")","v":"2"},"FW","安元　千明","ヤスモト　チアキ",6,"男子"]
["北郡坂ノ市サッカースポーツ少年団_3","北郡坂ノ市サッカースポーツ少年団",{"$f":"(\"3\")","v":"3"},"GK","塩治　輝","シオジ　ヒカル",5,"男子"]
["北郡坂ノ市サッカースポーツ少年団_4","北郡坂ノ市サッカースポーツ少年団",{"$f":"(\"4\")","v":"4"},"DF","深田　航汰","フカタ　コウタ",5,"男子"]
["北郡坂ノ市サッカースポーツ少年団_5","北郡坂ノ市サッカースポーツ少年団",{"$f":"(\"5\")","v":"5"},"DF","薬師寺　陽斗","ヤクシジ　ハルト",6,"男子"]
["北郡坂ノ市サッカースポーツ少年団_6","北郡坂ノ市サッカースポーツ少年団",{"$f":"(\"6\")","v":"6"},"MF","若林　真有","ワカバヤシ　マユ",6,"女子小学生"]
["北郡坂ノ市サッカースポーツ少年団_7","北郡坂ノ市サッカースポーツ少年団",{"$f":"(\"7\")","v":"7"},"DF","梶原　琉成斗","カジワラ　リナト",6,"男子"]
["北郡坂ノ市サッカースポーツ少年団_8","北郡坂ノ市サッカースポーツ少年団",{"$f":"(\"8\")","v":"8"},"FW","岩丸　虎雅","イワマル　ヒュウガ",6,"男子"]
["北郡坂ノ市サッカースポーツ少年団_9","北郡坂ノ市サッカースポーツ少年団",{"$f":"(\"9\")","v":"9"},"MF","中川　雄太","ナカガワ　ユウタ",6,"男子"]
["北郡坂ノ市サッカースポーツ少年団_10","北郡坂ノ市サッカースポーツ少年団",{"$f":"(\"10\")","v":"10"},"FW","川口　翔太","カワグチ　ショウタ",6,"男子"]
["北郡坂ノ市サッカースポーツ少年団_11","北郡坂ノ市サッカースポーツ少年団",{"$f":"(\"11\")","v":"11"},"FW","清水　丈太郎","シミズ　ジョウタロウ",6,"男子"]
["北郡坂ノ市サッカースポーツ少年団_12","北郡坂ノ市サッカースポーツ少年団",{"$f":"(\"12\")","v":"12"},"MF","荻山　明依","オギヤマ　メイ",5,"女子小学生"]
["北郡坂ノ市サッカースポーツ少年団_13","北郡坂ノ市サッカースポーツ少年団",{"$f":"(\"13\")","v":"13"},"FW","宮本　空弥","ミヤモト　クウヤ",5,"男子"]
["北郡坂ノ市サッカースポーツ少年団_14","北郡坂ノ市サッカースポーツ少年団",{"$f":"(\"14\")","v":"14"},"DF","松尾　彩希","マツオ　サイキ",5,"男子"]
["北郡坂ノ市サッカースポーツ少年団_15","北郡坂ノ市サッカースポーツ少年団",{"$f":"(\"15\")","v":"15"},"DF","上野　暉仁","ウエノ　アキヒト",5,"男子"]
["田尻サッカースポーツ少年団_1","田尻サッカースポーツ少年団",{"$f":"(\"1\")","v":"1"},"GK","江田　拓空","コウダ　タク",4,"男子"]
["田尻サッカースポーツ少年団_2","田尻サッカースポーツ少年団",{"$f":"(\"2\")","v":"2"},"MF","東納　凛空","トウノウ　リク",4,"男子"]
["田尻サッカースポーツ少年団_3","田尻サッカースポーツ少年団",{"$f":"(\"3\")","v":"3"},"MF","平原　滉太","ヒラバル　コウタ",6,"男子"]
["田尻サッカースポーツ少年団_4","田尻サッカースポーツ少年団",{"$f":"(\"4\")","v":"4"},"DF","鹿嶋　楓太","カシマ　フウタ",6,"男子"]
["田尻サッカースポーツ少年団_5","田尻サッカースポーツ少年団",{"$f":"(\"5\")","v":"5"},"MF","亀井　颯斗","カメイ　ハヤト",6,"男子"]
["田尻サッカースポーツ少年団_6","田尻サッカースポーツ少年団",{"$f":"(\"6\")","v":"6"},"DF","石井　悠貴","イシイ　ハルキ",4,"男子"]
["田尻サッカースポーツ少年団_7","田尻サッカースポーツ少年団",{"$f":"(\"7\")","v":"7"},"MF","峰尾　大樹","ミネオ　ダイキ",5,"男子"]
["田尻サッカースポーツ少年団_8","田尻サッカースポーツ少年団",{"$f":"(\"8\")","v":"8"},"MF","帆足　海","ホアシ　カイ",5,"男子"]
["田尻サッカースポーツ少年団_9","田尻サッカースポーツ少年団",{"$f":"(\"9\")","v":"9"},"FW","池永　蒼生","イケナガ　アオイ",4,"男子"]
["田尻サッカースポーツ少年団_10","田尻サッカースポーツ少年団",{"$f":"(\"10\")","v":"10"},"FW","仕明　蹴斗","シメイ　シュウト",6,"男子"]
["田尻サッカースポーツ少年団_11","田尻サッカースポーツ少年団",{"$f":"(\"11\")","v":"11"},"DF","續　侑将","ツヅキ　ウショウ",6,"男子"]
["田尻サッカースポーツ少年団_12","田尻サッカースポーツ少年団",{"$f":"(\"12\")","v":"12"},"MF","江口　孝太郎","エグチ　コウタロウ",4,"男子"]
["田尻サッカースポーツ少年団_13","田尻サッカースポーツ少年団",{"$f":"(\"13\")","v":"13"},"MF","小野　敬太","オノ　ケイタ",5,"男子"]
["田尻サッカースポーツ少年団_14","田尻サッカースポーツ少年団",{"$f":"(\"14\")","v":"14"},"MF","江田　力空","コウダ　リク",4,"男子"]
["田尻サッカースポーツ少年団_18","田尻サッカースポーツ少年団",{"$f":"(\"18\")","v":"18"},"GK","末宗　篤人","スエムネ　アツト",4,"男子"]
["判田サッカースポーツ少年団_1","判田サッカースポーツ少年団",{"$f":"(\"1\")","v":"1"},"GK","宮成　暖","ミヤナリ　ダン",5,"男子"]
["判田サッカースポーツ少年団_2","判田サッカースポーツ少年団",{"$f":"(\"2\")","v":"2"},"MF","長野　隼","ナガノ　ジュン",5,"男子"]
["判田サッカースポーツ少年団_3","判田サッカースポーツ少年団",{"$f":"(\"3\")","v":"3"},"DF","渡邉　快","ワタナベ　カイ",6,"男子"]
["判田サッカースポーツ少年団_5","判田サッカースポーツ少年団",{"$f":"(\"5\")","v":"5"},"MF","田中　悠陽","タナカ　ユウヒ",6,"男子"]
["判田サッカースポーツ少年団_6","判田サッカースポーツ少年団",{"$f":"(\"6\")","v":"6"},"DF","中川　翔天","ナカガワ　トア",5,"男子"]
["判田サッカースポーツ少年団_7","判田サッカースポーツ少年団",{"$f":"(\"7\")","v":"7"},"DF","首藤　栄暁","シュトウ　トモアキ",5,"男子"]
["判田サッカースポーツ少年団_8","判田サッカースポーツ少年団",{"$f":"(\"8\")","v":"8"},"DF","村田　蓮","ムラタ　レン",5,"男子"]
["判田サッカースポーツ少年団_9","判田サッカースポーツ少年団",{"$f":"(\"9\")","v":"9"},"FW","高橋　優太","タカハシ　ユウタ",5,"男子"]
["判田サッカースポーツ少年団_10","判田サッカースポーツ少年団",{"$f":"(\"10\")","v":"10"},"MF","吉良　匠生","キラ　タクミ",5,"男子"]
["判田サッカースポーツ少年団_11","判田サッカースポーツ少年団",{"$f":"(\"11\")","v":"11"},"DF","友永　英汰","トモナガ　エイタ",4,"男子"]
["判田サッカースポーツ少年団_12","判田サッカースポーツ少年団",{"$f":"(\"12\")","v":"12"},"MF","高橋　璃央","タカハシ　リオ",4,"男子"]
["判田サッカースポーツ少年団_13","判田サッカースポーツ少年団",{"$f":"(\"13\")","v":"13"},"FW","小野　大和","オノ　ヤマト",4,"男子"]
["判田サッカースポーツ少年団_14","判田サッカースポーツ少年団",{"$f":"(\"14\")","v":"14"},"MF","吉松　祐翔","ヨシマツ　ユウト",6,"男子"]
["判田サッカースポーツ少年団_15","判田サッカースポーツ少年団",{"$f":"(\"15\")","v":"15"},"FW","矢野　晃也","ヤノ　アキヤ",5,"男子"]
["判田サッカースポーツ少年団_16","判田サッカースポーツ少年団",{"$f":"(\"16\")","v":"16"},"DF","麻生　侑希","アソウ　ユウキ",5,"男子"]
["判田サッカースポーツ少年団_17","判田サッカースポーツ少年団",{"$f":"(\"17\")","v":"17"},"GK","西島　歩音","ニシジマ　アルト",6,"男子"]
[{"$f":"CONCATENATE(B968,\"_\",C968)","v":"賀来ジュニアサッカークラブ_1"},"賀来ジュニアサッカークラブ",{"$f":"(\"1\")","v":"1"},"GK","後藤　輝気","ゴトウ　テルキ",6,"男子"]
["賀来ジュニアサッカークラブ_2","賀来ジュニアサッカークラブ",{"$f":"(\"2\")","v":"2"},"DF","恵藤　蒼太","エトウ　ソウタ",5,"男子"]
["賀来ジュニアサッカークラブ_3","賀来ジュニアサッカークラブ",{"$f":"(\"3\")","v":"3"},"FW","一丸　諒丞","イチマル　リョウスケ",4,"男子"]
["賀来ジュニアサッカークラブ_4","賀来ジュニアサッカークラブ",{"$f":"(\"4\")","v":"4"},"GK","井上　遼太","イノウエ　リョウタ",4,"男子"]
["賀来ジュニアサッカークラブ_5","賀来ジュニアサッカークラブ",{"$f":"(\"5\")","v":"5"},"MF","甲斐　咲渡","カイ　サクト",4,"男子"]
["賀来ジュニアサッカークラブ_6","賀来ジュニアサッカークラブ",{"$f":"(\"6\")","v":"6"},"MF","副田　大晴","ソエダ　タイセイ",4,"男子"]
["賀来ジュニアサッカークラブ_7","賀来ジュニアサッカークラブ",{"$f":"(\"7\")","v":"7"},"MF","藤原　世","フジワラ　セイ",4,"男子"]
["賀来ジュニアサッカークラブ_8","賀来ジュニアサッカークラブ",{"$f":"(\"8\")","v":"8"},"MF","溝口　颯真","ミゾグチ　ソウマ",4,"男子"]
["賀来ジュニアサッカークラブ_9","賀来ジュニアサッカークラブ",{"$f":"(\"9\")","v":"9"},"MF","恵藤　和海","エトウ　カズミ",3,"男子"]
["賀来ジュニアサッカークラブ_10","賀来ジュニアサッカークラブ",{"$f":"(\"10\")","v":"10"},"DF","甲斐　大雅","カイ　オオガ",6,"男子"]
["賀来ジュニアサッカークラブ_11","賀来ジュニアサッカークラブ",{"$f":"(\"11\")","v":"11"},"MF","佐藤　太一","サトウ　タイチ",3,"男子"]
["賀来ジュニアサッカークラブ_12","賀来ジュニアサッカークラブ",{"$f":"(\"12\")","v":"12"},"FW","石川　夢人","イシカワ　ユメト",6,"男子"]
["桃園サッカースポーツ少年団_1","桃園サッカースポーツ少年団",{"$f":"(\"1\")","v":"1"},"GK","三浦　吏琥","ミウラ　リク",5,"男子"]
["桃園サッカースポーツ少年団_2","桃園サッカースポーツ少年団",{"$f":"(\"2\")","v":"2"},"MF","和田　湊翔","ワダ　ミナト",6,"男子"]
["桃園サッカースポーツ少年団_3","桃園サッカースポーツ少年団",{"$f":"(\"3\")","v":"3"},"MF","髙野　弘生","タカノ　コウキ",6,"男子"]
["桃園サッカースポーツ少年団_4","桃園サッカースポーツ少年団",{"$f":"(\"4\")","v":"4"},"MF","河野　虎之介","カワノ　トラノスケ",5,"男子"]
["桃園サッカースポーツ少年団_5","桃園サッカースポーツ少年団",{"$f":"(\"5\")","v":"5"},"DF","金崎　悠弥","カナザキ　ユウヤ",5,"男子"]
["桃園サッカースポーツ少年団_6","桃園サッカースポーツ少年団",{"$f":"(\"6\")","v":"6"},"MF","岡　誉","オカ　ホマレ",5,"女子小学生"]
["桃園サッカースポーツ少年団_7","桃園サッカースポーツ少年団",{"$f":"(\"7\")","v":"7"},"MF","倉橋　陽太","クラハシ　ヨウタ",6,"男子"]
["桃園サッカースポーツ少年団_8","桃園サッカースポーツ少年団",{"$f":"(\"8\")","v":"8"},"DF","藤﨑　夢生","フジサキ　ユウ",5,"男子"]
["桃園サッカースポーツ少年団_9","桃園サッカースポーツ少年団",{"$f":"(\"9\")","v":"9"},"FW","阿部　祐斗","アベ　ユウト",5,"男子"]
["桃園サッカースポーツ少年団_10","桃園サッカースポーツ少年団",{"$f":"(\"10\")","v":"10"},"DF","後藤　凛太朗","ゴトウ　リンタロウ",6,"男子"]
["桃園サッカースポーツ少年団_11","桃園サッカースポーツ少年団",{"$f":"(\"11\")","v":"11"},"MF","川端　沙雪","カワバタ　サユキ",5,"女子小学生"]
["桃園サッカースポーツ少年団_13","桃園サッカースポーツ少年団",{"$f":"(\"13\")","v":"13"},"FW","三辻　翔太","ミツジ　ショウタ",5,"男子"]
["桃園サッカースポーツ少年団_14","桃園サッカースポーツ少年団",{"$f":"(\"14\")","v":"14"},"MF","梅田　琥羽","ウメダ　コウ",5,"男子"]
["桃園サッカースポーツ少年団_16","桃園サッカースポーツ少年団",{"$f":"(\"16\")","v":"16"},"DF","石﨑　蒼大","イシザキ　ソウタ",5,"男子"]
["桃園サッカースポーツ少年団_17","桃園サッカースポーツ少年団",{"$f":"(\"17\")","v":"17"},"DF","高橋　宗士","タカハシ　ソウシ",5,"男子"]
["桃園サッカースポーツ少年団_18","桃園サッカースポーツ少年団",{"$f":"(\"18\")","v":"18"},"MF","阿部　祐世","アベ　ユウセイ",4,"男子"]
["日出サッカースポーツ少年団_1","日出サッカースポーツ少年団",{"$f":"(\"1\")","v":"1"},"GK","姉川　亮太","アネカワ　リョウタ",5,"男子"]
["日出サッカースポーツ少年団_4","日出サッカースポーツ少年団",{"$f":"(\"4\")","v":"4"},"DF","中園　苺那","ナカゾノ　モナ",6,"女子小学生"]
["日出サッカースポーツ少年団_5","日出サッカースポーツ少年団",{"$f":"(\"5\")","v":"5"},"DF","岩﨑　煌弥","イワサキ　コウヤ",5,"男子"]
["日出サッカースポーツ少年団_6","日出サッカースポーツ少年団",{"$f":"(\"6\")","v":"6"},"MF","久保　龍道","クボ　タツミチ",5,"男子"]
["日出サッカースポーツ少年団_7","日出サッカースポーツ少年団",{"$f":"(\"7\")","v":"7"},"FW","日野　優太","ヒノ　ユウタ",6,"男子"]
["日出サッカースポーツ少年団_8","日出サッカースポーツ少年団",{"$f":"(\"8\")","v":"8"},"FW","衞藤　貫太","エトウ　カンタ",5,"男子"]
["日出サッカースポーツ少年団_9","日出サッカースポーツ少年団",{"$f":"(\"9\")","v":"9"},"FW","久恒　壮太","ヒサツネ　ソウタ",6,"男子"]
["日出サッカースポーツ少年団_10","日出サッカースポーツ少年団",{"$f":"(\"10\")","v":"10"},"MF","兒嶋　崇人","コジマ　タカト",6,"男子"]
["日出サッカースポーツ少年団_11","日出サッカースポーツ少年団",{"$f":"(\"11\")","v":"11"},"MF","城戸　剛","キド　ツヨシ",6,"男子"]
["日出サッカースポーツ少年団_12","日出サッカースポーツ少年団",{"$f":"(\"12\")","v":"12"},"DF","三浦　大晟","ミウラ　タイセイ",5,"男子"]
["日出サッカースポーツ少年団_13","日出サッカースポーツ少年団",{"$f":"(\"13\")","v":"13"},"FW","諸冨　夏輝","モロトミ　ナツキ",5,"男子"]
["日出サッカースポーツ少年団_14","日出サッカースポーツ少年団",{"$f":"(\"14\")","v":"14"},"MF","伊東　大輝","イトウ　ダイキ",5,"男子"]
["日出サッカースポーツ少年団_16","日出サッカースポーツ少年団",{"$f":"(\"16\")","v":"16"},"GK","黒木　千生","クロギ　チオ",5,"男子"]
["渡町台サッカークラブ_1","渡町台サッカークラブ",{"$f":"(\"1\")","v":"1"},"GK","河野　優生","カワノ　ウキ",5,"男子"]
["渡町台サッカークラブ_2","渡町台サッカークラブ",{"$f":"(\"2\")","v":"2"},"DF","疋田　琉翔","ヒキダ　ルイト",5,"男子"]
["渡町台サッカークラブ_3","渡町台サッカークラブ",{"$f":"(\"3\")","v":"3"},"MF","吉田　桃花","ヨシダ　モモカ",5,"女子小学生"]
["渡町台サッカークラブ_4","渡町台サッカークラブ",{"$f":"(\"4\")","v":"4"},"DF","岩本　宗侑","イワモト　ソウ",5,"男子"]
["渡町台サッカークラブ_5","渡町台サッカークラブ",{"$f":"(\"5\")","v":"5"},"FW","深野　蒼佑","フカノ　ソウスケ",5,"男子"]
["渡町台サッカークラブ_6","渡町台サッカークラブ",{"$f":"(\"6\")","v":"6"},"MF","赤嶺　隼士","アカミネ　ハヤト",4,"男子"]
["渡町台サッカークラブ_7","渡町台サッカークラブ",{"$f":"(\"7\")","v":"7"},"MF","小竹　徹","コダケ　トオル",5,"男子"]
["渡町台サッカークラブ_8","渡町台サッカークラブ",{"$f":"(\"8\")","v":"8"},"MF","石本　知之介","イシモト　シノスケ",5,"男子"]
["渡町台サッカークラブ_9","渡町台サッカークラブ",{"$f":"(\"9\")","v":"9"},"DF","大戸　朝陽","オオト　アサヒ",5,"男子"]
["渡町台サッカークラブ_10","渡町台サッカークラブ",{"$f":"(\"10\")","v":"10"},"MF","浪井　航汰","ナミイ　コウダイ",6,"男子"]
["渡町台サッカークラブ_11","渡町台サッカークラブ",{"$f":"(\"11\")","v":"11"},"MF","長澤　奏歌","ナガサワ　カナタ",5,"男子"]
["渡町台サッカークラブ_12","渡町台サッカークラブ",{"$f":"(\"12\")","v":"12"},"FW","寺嶋　凌","テラシマ　リョウ",4,"男子"]
["渡町台サッカークラブ_13","渡町台サッカークラブ",{"$f":"(\"13\")","v":"13"},"GK","竹中　虹陽","タケナカ　コウヨウ",4,"男子"]
["渡町台サッカークラブ_14","渡町台サッカークラブ",{"$f":"(\"14\")","v":"14"},"FW","増野　瑛","マスノ　アキラ",3,"男子"]
["渡町台サッカークラブ_15","渡町台サッカークラブ",{"$f":"(\"15\")","v":"15"},"FW","深野　凛人","フカノ　リント",3,"男子"]
["渡町台サッカークラブ_16","渡町台サッカークラブ",{"$f":"(\"16\")","v":"16"},"FW","安藤　岳","アンドウ　ガク",2,"男子"]
["豊後高田ＦＣ　Ｂｏｒｄｅｒ　Ｊｒ_1","豊後高田ＦＣ　Ｂｏｒｄｅｒ　Ｊｒ",{"$f":"(\"1\")","v":"1"},"GK","安藤　智彰","アンドウ　トモアキ",6,"男子"]
["豊後高田ＦＣ　Ｂｏｒｄｅｒ　Ｊｒ_2","豊後高田ＦＣ　Ｂｏｒｄｅｒ　Ｊｒ",{"$f":"(\"2\")","v":"2"},"DF","柳本　啓太","ヤナギモト　ケイタ",6,"男子"]
["豊後高田ＦＣ　Ｂｏｒｄｅｒ　Ｊｒ_4","豊後高田ＦＣ　Ｂｏｒｄｅｒ　Ｊｒ",{"$f":"(\"4\")","v":"4"},"DF","蓮田　功武","ハスダ　イサム",6,"男子"]
["豊後高田ＦＣ　Ｂｏｒｄｅｒ　Ｊｒ_5","豊後高田ＦＣ　Ｂｏｒｄｅｒ　Ｊｒ",{"$f":"(\"5\")","v":"5"},"DF","甲斐　廉将","カイ　レンマ",6,"男子"]
["豊後高田ＦＣ　Ｂｏｒｄｅｒ　Ｊｒ_6","豊後高田ＦＣ　Ｂｏｒｄｅｒ　Ｊｒ",{"$f":"(\"6\")","v":"6"},"DF","北原　陸仁","キタハラ　リクト",6,"男子"]
["豊後高田ＦＣ　Ｂｏｒｄｅｒ　Ｊｒ_7","豊後高田ＦＣ　Ｂｏｒｄｅｒ　Ｊｒ",{"$f":"(\"7\")","v":"7"},"MF","安長　彪","ヤスナガ　タイガ",6,"男子"]
["豊後高田ＦＣ　Ｂｏｒｄｅｒ　Ｊｒ_8","豊後高田ＦＣ　Ｂｏｒｄｅｒ　Ｊｒ",{"$f":"(\"8\")","v":"8"},"MF","藤井　喜一","フジイ　キイチ",6,"男子"]
[{"$f":"CONCATENATE(B1032,\"_\",C1032)","v":"豊後高田ＦＣ　Ｂｏｒｄｅｒ　Ｊｒ_9"},"豊後高田ＦＣ　Ｂｏｒｄｅｒ　Ｊｒ",{"$f":"(\"9\")","v":"9"},"MF","河野　祏大","コウノ　ユウダイ",6,"男子"]
["豊後高田ＦＣ　Ｂｏｒｄｅｒ　Ｊｒ_10","豊後高田ＦＣ　Ｂｏｒｄｅｒ　Ｊｒ",{"$f":"(\"10\")","v":"10"},"MF","岩男　風我","イワオ　フウガ",6,"男子"]
["豊後高田ＦＣ　Ｂｏｒｄｅｒ　Ｊｒ_12","豊後高田ＦＣ　Ｂｏｒｄｅｒ　Ｊｒ",{"$f":"(\"12\")","v":"12"},"FW","安永　優真","ヤスナガ　ユウマ",5,"男子"]
["豊後高田ＦＣ　Ｂｏｒｄｅｒ　Ｊｒ_13","豊後高田ＦＣ　Ｂｏｒｄｅｒ　Ｊｒ",{"$f":"(\"13\")","v":"13"},"MF","江口　斗慎","エグチ　トウマ",5,"男子"]
["豊後高田ＦＣ　Ｂｏｒｄｅｒ　Ｊｒ_14","豊後高田ＦＣ　Ｂｏｒｄｅｒ　Ｊｒ",{"$f":"(\"14\")","v":"14"},"DF","末廣　來優","スエヒロ　コウ",5,"男子"]
["豊後高田ＦＣ　Ｂｏｒｄｅｒ　Ｊｒ_15","豊後高田ＦＣ　Ｂｏｒｄｅｒ　Ｊｒ",{"$f":"(\"15\")","v":"15"},"DF","仲井　悠陽","ナカイ　ハルヒ",5,"男子"]
["豊後高田ＦＣ　Ｂｏｒｄｅｒ　Ｊｒ_17","豊後高田ＦＣ　Ｂｏｒｄｅｒ　Ｊｒ",{"$f":"(\"17\")","v":"17"},"FW","早田　蓮","ハヤタ　レン",5,"男子"]
["豊後高田ＦＣ　Ｂｏｒｄｅｒ　Ｊｒ_18","豊後高田ＦＣ　Ｂｏｒｄｅｒ　Ｊｒ",{"$f":"(\"18\")","v":"18"},"FW","竹丸　竜ノ介","タケマル　リュウノスケ",5,"男子"]
["竹田直入ＦＣ_1","竹田直入ＦＣ",{"$f":"(\"1\")","v":"1"},"GK","内川　晴登","ウチカワ　ハルト",5,"男子"]
["竹田直入ＦＣ_3","竹田直入ＦＣ",{"$f":"(\"3\")","v":"3"},"MF","吉田　湊","ヨシダ　ミナト",5,"男子"]
["竹田直入ＦＣ_5","竹田直入ＦＣ",{"$f":"(\"5\")","v":"5"},"DF","土居　駿斗","ドイ　シュント",5,"男子"]
["竹田直入ＦＣ_6","竹田直入ＦＣ",{"$f":"(\"6\")","v":"6"},"MF","吉良　心","キラ　ココロ",5,"男子"]
["竹田直入ＦＣ_7","竹田直入ＦＣ",{"$f":"(\"7\")","v":"7"},"MF","土居　市之介","ドイ　イチノスケ",6,"男子"]
["竹田直入ＦＣ_8","竹田直入ＦＣ",{"$f":"(\"8\")","v":"8"},"MF","工藤　駿汰","クドウ　シュンタ",5,"男子"]
["竹田直入ＦＣ_9","竹田直入ＦＣ",{"$f":"(\"9\")","v":"9"},"DF","工藤　大明","クドウ　ダイメイ",6,"男子"]
["竹田直入ＦＣ_10","竹田直入ＦＣ",{"$f":"(\"10\")","v":"10"},"MF","金田　煌矢","カネダ　コウシ",6,"男子"]
["竹田直入ＦＣ_11","竹田直入ＦＣ",{"$f":"(\"11\")","v":"11"},"MF","倉本　康汰","クラモト　コウタ",6,"男子"]
["竹田直入ＦＣ_13","竹田直入ＦＣ",{"$f":"(\"13\")","v":"13"},"MF","山中　栄樟","ヤマナカ　エイショウ",5,"男子"]
["竹田直入ＦＣ_14","竹田直入ＦＣ",{"$f":"(\"14\")","v":"14"},"FW","坂本　あかり","サカモト　アカリ",5,"女子小学生"]
["竹田直入ＦＣ_16","竹田直入ＦＣ",{"$f":"(\"16\")","v":"16"},"DF","田北　昇大","タキタ　ショウダイ",5,"男子"]
["竹田直入ＦＣ_17","竹田直入ＦＣ",{"$f":"(\"17\")","v":"17"},"FW","古瀬　士竜","コセ　シリュウ",4,"男子"]
["竹田直入ＦＣ_18","竹田直入ＦＣ",{"$f":"(\"18\")","v":"18"},"FW","渡邉　春馬","ワタナベ　ハルマ",4,"男子"]
["竹田直入ＦＣ_19","竹田直入ＦＣ",{"$f":"(\"19\")","v":"19"},"FW","阿南　陽向","アナン　ヒナタ",4,"男子"]
["竹田直入ＦＣ_20","竹田直入ＦＣ",{"$f":"(\"20\")","v":"20"},"FW","坂本　輝","サカモト　テル",4,"男子"]
["南立石サッカースポーツ少年団_1","南立石サッカースポーツ少年団",{"$f":"(\"1\")","v":"1"},"GK","吉田　白夜","ヨシダ　ビャクヤ",5,"男子"]
["南立石サッカースポーツ少年団_2","南立石サッカースポーツ少年団",{"$f":"(\"2\")","v":"2"},"DF","北野　蒼徳","キタノ　ソウトク",6,"男子"]
["南立石サッカースポーツ少年団_5","南立石サッカースポーツ少年団",{"$f":"(\"5\")","v":"5"},"FW","首藤　奏人","シュトウ　カナト",6,"男子"]
["南立石サッカースポーツ少年団_7","南立石サッカースポーツ少年団",{"$f":"(\"7\")","v":"7"},"DF","佐藤　煌河","サトウ　コウガ",5,"男子"]
["南立石サッカースポーツ少年団_8","南立石サッカースポーツ少年団",{"$f":"(\"8\")","v":"8"},"DF","佐藤　大河","サトウ　タイガ",5,"男子"]
["南立石サッカースポーツ少年団_9","南立石サッカースポーツ少年団",{"$f":"(\"9\")","v":"9"},"FW","澤井　瑛心","サワイ　エイシン",5,"男子"]
["南立石サッカースポーツ少年団_10","南立石サッカースポーツ少年団",{"$f":"(\"10\")","v":"10"},"MF","佐藤　雅樹","サトウ　マサキ",6,"男子"]
["南立石サッカースポーツ少年団_11","南立石サッカースポーツ少年団",{"$f":"(\"11\")","v":"11"},"DF","福田　京士","フクダ　ケイジ",5,"男子"]
["南立石サッカースポーツ少年団_12","南立石サッカースポーツ少年団",{"$f":"(\"12\")","v":"12"},"MF","小野　勇星","オノ　ユウセイ",5,"男子"]
["南立石サッカースポーツ少年団_13","南立石サッカースポーツ少年団",{"$f":"(\"13\")","v":"13"},"MF","伊達　慈怜","ダテ　ジレイ",5,"男子"]
["南立石サッカースポーツ少年団_16","南立石サッカースポーツ少年団",{"$f":"(\"16\")","v":"16"},"DF","後藤　優空","ゴトウ　ユウア",5,"男子"]
["南立石サッカースポーツ少年団_26","南立石サッカースポーツ少年団",{"$f":"(\"26\")","v":"26"},"MF","佐藤　宗義","サトウ　ムネヨシ",3,"男子"]
["南立石サッカースポーツ少年団_27","南立石サッカースポーツ少年団",{"$f":"(\"27\")","v":"27"},"MF","藤谷　俐杏","フジタニ　リアン",3,"男子"]
["天瀬ジュニアサッカークラブ_1","天瀬ジュニアサッカークラブ",{"$f":"(\"1\")","v":"1"},"GK","河津　智也","カワヅ　トモヤ",4,"男子"]
["天瀬ジュニアサッカークラブ_4","天瀬ジュニアサッカークラブ",{"$f":"(\"4\")","v":"4"},"MF","吉野　茉子","ヨシノ　マコ",6,"女子小学生"]
["天瀬ジュニアサッカークラブ_5","天瀬ジュニアサッカークラブ",{"$f":"(\"5\")","v":"5"},"DF","穴井　将斗","アナイ　マサト",4,"男子"]
["天瀬ジュニアサッカークラブ_6","天瀬ジュニアサッカークラブ",{"$f":"(\"6\")","v":"6"},"DF","河津　勇星","カワヅ　ユウセイ",6,"男子"]
["天瀬ジュニアサッカークラブ_7","天瀬ジュニアサッカークラブ",{"$f":"(\"7\")","v":"7"},"FW","河津　愛都","カワヅ　アイト",4,"男子"]
["天瀬ジュニアサッカークラブ_8","天瀬ジュニアサッカークラブ",{"$f":"(\"8\")","v":"8"},"MF","矢羽田　一惺","ヤハタ　イッセイ",6,"男子"]
["天瀬ジュニアサッカークラブ_10","天瀬ジュニアサッカークラブ",{"$f":"(\"10\")","v":"10"},"MF","松原　唯衣","マツバラ　ユイ",6,"女子小学生"]
["天瀬ジュニアサッカークラブ_12","天瀬ジュニアサッカークラブ",{"$f":"(\"12\")","v":"12"},"MF","河津　杏瑠","カワヅ　アンル",2,"女子小学生"]
["天瀬ジュニアサッカークラブ_14","天瀬ジュニアサッカークラブ",{"$f":"(\"14\")","v":"14"},"FW","矢羽田　快","ヤハタ　カイ",2,"男子"]
["天瀬ジュニアサッカークラブ_15","天瀬ジュニアサッカークラブ",{"$f":"(\"15\")","v":"15"},"FW","高倉　快斗","タカクラ　カイト",2,"男子"]
["ドリームキッズフットボールクラブ_1","ドリームキッズフットボールクラブ",{"$f":"(\"1\")","v":"1"},"GK","岩本　凌真","イワモト　リョウマ",5,"男子"]
["ドリームキッズフットボールクラブ_2","ドリームキッズフットボールクラブ",{"$f":"(\"2\")","v":"2"},"DF","子守　悠真","コモリ　ユウマ",5,"男子"]
["ドリームキッズフットボールクラブ_3","ドリームキッズフットボールクラブ",{"$f":"(\"3\")","v":"3"},"DF","阿部　夏樹","アベ　ナツキ",5,"男子"]
["ドリームキッズフットボールクラブ_4","ドリームキッズフットボールクラブ",{"$f":"(\"4\")","v":"4"},"MF","大谷　悟史","オオタニ　サトシ",5,"男子"]
["ドリームキッズフットボールクラブ_5","ドリームキッズフットボールクラブ",{"$f":"(\"5\")","v":"5"},"MF","宮部　大翔","ミヤベ　ヒロト",6,"男子"]
["ドリームキッズフットボールクラブ_6","ドリームキッズフットボールクラブ",{"$f":"(\"6\")","v":"6"},"DF","長田　昂大","ナガタ　コウダイ",6,"男子"]
["ドリームキッズフットボールクラブ_7","ドリームキッズフットボールクラブ",{"$f":"(\"7\")","v":"7"},"DF","森崎　和翼","モリサキ　ナツ",6,"男子"]
["ドリームキッズフットボールクラブ_8","ドリームキッズフットボールクラブ",{"$f":"(\"8\")","v":"8"},"MF","須川　愛琉","スガワ　アイル",6,"男子"]
["ドリームキッズフットボールクラブ_9","ドリームキッズフットボールクラブ",{"$f":"(\"9\")","v":"9"},"DF","吉村　心冴","ヨシムラ　シンゴ",6,"男子"]
["ドリームキッズフットボールクラブ_10","ドリームキッズフットボールクラブ",{"$f":"(\"10\")","v":"10"},"MF","佐藤　彰人","サトウ　アキト",6,"男子"]
["ドリームキッズフットボールクラブ_11","ドリームキッズフットボールクラブ",{"$f":"(\"11\")","v":"11"},"DF","山下　紫凰","ヤマシタ　シオウ",5,"男子"]
["ドリームキッズフットボールクラブ_12","ドリームキッズフットボールクラブ",{"$f":"(\"12\")","v":"12"},"DF","伊東　海星","イトウ　カイセイ",5,"男子"]
["ドリームキッズフットボールクラブ_13","ドリームキッズフットボールクラブ",{"$f":"(\"13\")","v":"13"},"DF","畔津　大治郎","アゼツ　ダイジロウ",5,"男子"]
["ドリームキッズフットボールクラブ_14","ドリームキッズフットボールクラブ",{"$f":"(\"14\")","v":"14"},"DF","有田　悠真","アリタ　ユウマ",6,"男子"]
["ドリームキッズフットボールクラブ_15","ドリームキッズフットボールクラブ",{"$f":"(\"15\")","v":"15"},"MF","松下　未来翔","マツシタ　ミクト",5,"男子"]
["ドリームキッズフットボールクラブ_16","ドリームキッズフットボールクラブ",{"$f":"(\"16\")","v":"16"},"DF","鱒村　侑士","マスムラ　ユウト",5,"男子"]
["東陽フットボールクラブ_1","東陽フットボールクラブ",{"$f":"(\"1\")","v":"1"},"GK","溝辺　陸馬","ミゾベ　リクマ",5,"男子"]
[{"$f":"CONCATENATE(B1096,\"_\",C1096)","v":"東陽フットボールクラブ_3"},"東陽フットボールクラブ",{"$f":"(\"3\")","v":"3"},"DF","釘宮　結愛","クギミヤ　ユア",5,"女子小学生"]
["東陽フットボールクラブ_4","東陽フットボールクラブ",{"$f":"(\"4\")","v":"4"},"DF","中村　海晴","ナカムラ　カイセイ",5,"男子"]
["東陽フットボールクラブ_6","東陽フットボールクラブ",{"$f":"(\"6\")","v":"6"},"MF","田尻　依大","タジリ　イオ",6,"男子"]
["東陽フットボールクラブ_7","東陽フットボールクラブ",{"$f":"(\"7\")","v":"7"},"MF","有馬　綾音","アリマ　アヤネ",6,"女子小学生"]
["東陽フットボールクラブ_8","東陽フットボールクラブ",{"$f":"(\"8\")","v":"8"},"MF","筒井　大翔","ツツイ　ハルト",5,"男子"]
["東陽フットボールクラブ_9","東陽フットボールクラブ",{"$f":"(\"9\")","v":"9"},"DF","桑原　力飛","クワバラ　リキト",5,"男子"]
["東陽フットボールクラブ_10","東陽フットボールクラブ",{"$f":"(\"10\")","v":"10"},"MF","工藤　凌成","クドウ　リョウセイ",6,"男子"]
["東陽フットボールクラブ_11","東陽フットボールクラブ",{"$f":"(\"11\")","v":"11"},"FW","岡田　凛空","オカダ　リク",5,"男子"]
["東陽フットボールクラブ_12","東陽フットボールクラブ",{"$f":"(\"12\")","v":"12"},"DF","鶴原　聖季","ツルハラ　イブキ",5,"男子"]
["東陽フットボールクラブ_13","東陽フットボールクラブ",{"$f":"(\"13\")","v":"13"},"DF","松尾　昊","マツオ　コウ",4,"男子"]
["東陽フットボールクラブ_14","東陽フットボールクラブ",{"$f":"(\"14\")","v":"14"},"DF","幸　大翔","ユキ　ヒロト",4,"男子"]
["東陽フットボールクラブ_16","東陽フットボールクラブ",{"$f":"(\"16\")","v":"16"},"MF","原田　夕輝","ハラダ　ユウキ",4,"男子"]
["ＯＫＹ山香サッカークラブ_1","ＯＫＹ山香サッカークラブ",{"$f":"(\"1\")","v":"1"},"GK","和田　翔海","ワダ　ヒロミ",6,"男子"]
["ＯＫＹ山香サッカークラブ_2","ＯＫＹ山香サッカークラブ",{"$f":"(\"2\")","v":"2"},"FW","草野　柊介","クサノ　シュウスケ",5,"男子"]
["ＯＫＹ山香サッカークラブ_3","ＯＫＹ山香サッカークラブ",{"$f":"(\"3\")","v":"3"},"MF","吉本　太一","ヨシモト　タイチ",5,"男子"]
["ＯＫＹ山香サッカークラブ_4","ＯＫＹ山香サッカークラブ",{"$f":"(\"4\")","v":"4"},"DF","岩尾　淳矢","イワオ　ジュンヤ",4,"男子"]
["ＯＫＹ山香サッカークラブ_5","ＯＫＹ山香サッカークラブ",{"$f":"(\"5\")","v":"5"},"FW","井手　陽太","イデ　ヒナタ",5,"男子"]
["ＯＫＹ山香サッカークラブ_6","ＯＫＹ山香サッカークラブ",{"$f":"(\"6\")","v":"6"},"MF","本田　麗奈","ホンダ　レナ",5,"女子小学生"]
["ＯＫＹ山香サッカークラブ_7","ＯＫＹ山香サッカークラブ",{"$f":"(\"7\")","v":"7"},"DF","竹丸　航平","タケマル　コウヘイ",5,"男子"]
["ＯＫＹ山香サッカークラブ_8","ＯＫＹ山香サッカークラブ",{"$f":"(\"8\")","v":"8"},"FW","平川　寛士","ヒラカワ　カンジ",6,"男子"]
["ＯＫＹ山香サッカークラブ_9","ＯＫＹ山香サッカークラブ",{"$f":"(\"9\")","v":"9"},"MF","何松　瞭","ナニマツ　リョウ",6,"男子"]
["ＯＫＹ山香サッカークラブ_10","ＯＫＹ山香サッカークラブ",{"$f":"(\"10\")","v":"10"},"DF","阿部　正尊","アベ　マサタカ",6,"男子"]
["ＯＫＹ山香サッカークラブ_11","ＯＫＹ山香サッカークラブ",{"$f":"(\"11\")","v":"11"},"FW","通正　純之介","ツウショウ　ジュンノスケ",6,"男子"]
["ＯＫＹ山香サッカークラブ_12","ＯＫＹ山香サッカークラブ",{"$f":"(\"12\")","v":"12"},"MF","池部　絆心","イケベ　キズナ",4,"男子"]
["ＯＫＹ山香サッカークラブ_13","ＯＫＹ山香サッカークラブ",{"$f":"(\"13\")","v":"13"},"FW","山本　将太郎","ヤマモト　ショウタロウ",4,"男子"]
["ＯＫＹ山香サッカークラブ_14","ＯＫＹ山香サッカークラブ",{"$f":"(\"14\")","v":"14"},"MF","伊藤　唯人","イトウ　ユイト",4,"男子"]
["ＯＫＹ山香サッカークラブ_15","ＯＫＹ山香サッカークラブ",{"$f":"(\"15\")","v":"15"},"FW","伊藤　拓海","イトウ　タクミ",4,"男子"]
["ＯＫＹ山香サッカークラブ_16","ＯＫＹ山香サッカークラブ",{"$f":"(\"16\")","v":"16"},"GK","曽根崎　輝一","ソネザキ　キイチ",4,"男子"]
["臼杵ＳＳＳ_1","臼杵ＳＳＳ",{"$f":"(\"1\")","v":"1"},"GK","衛藤　慶尭","エトウ　ヨシアキ",4,"男子"]
["臼杵ＳＳＳ_2","臼杵ＳＳＳ",{"$f":"(\"2\")","v":"2"},"FW","桑原　颯志","クワバラ　ソウシ",5,"男子"]
["臼杵ＳＳＳ_3","臼杵ＳＳＳ",{"$f":"(\"3\")","v":"3"},"DF","阿南　統胡","アナン　トウゴ",5,"男子"]
["臼杵ＳＳＳ_4","臼杵ＳＳＳ",{"$f":"(\"4\")","v":"4"},"MF","衛藤　瑞輝","エトウ　ミズキ",4,"男子"]
["臼杵ＳＳＳ_5","臼杵ＳＳＳ",{"$f":"(\"5\")","v":"5"},"DF","谷口　洸斗","タニグチ　コウト",5,"男子"]
["臼杵ＳＳＳ_6","臼杵ＳＳＳ",{"$f":"(\"6\")","v":"6"},"DF","野口　真央","ノグチ　マオ",4,"男子"]
["臼杵ＳＳＳ_7","臼杵ＳＳＳ",{"$f":"(\"7\")","v":"7"},"DF","上田　蒼大","ウエダ　ソウタ",5,"男子"]
["臼杵ＳＳＳ_8","臼杵ＳＳＳ",{"$f":"(\"8\")","v":"8"},"MF","衛藤　遥也","エトウ　ハルヤ",5,"男子"]
["臼杵ＳＳＳ_9","臼杵ＳＳＳ",{"$f":"(\"9\")","v":"9"},"FW","川邊　希龍","カワベ　キリュウ",4,"男子"]
["臼杵ＳＳＳ_10","臼杵ＳＳＳ",{"$f":"(\"10\")","v":"10"},"MF","安藤　律來","アンドウ　リク",5,"男子"]
["臼杵ＳＳＳ_11","臼杵ＳＳＳ",{"$f":"(\"11\")","v":"11"},"MF","足立　美菜","アダチ　ミナ",4,"女子小学生"]
["臼杵ＳＳＳ_12","臼杵ＳＳＳ",{"$f":"(\"12\")","v":"12"},"FW","眞庭　優","マニワ　ユウ",4,"男子"]
["臼杵ＳＳＳ_13","臼杵ＳＳＳ",{"$f":"(\"13\")","v":"13"},"DF","山﨑　航輝","ヤマサキ　コウキ",5,"男子"]
["臼杵ＳＳＳ_14","臼杵ＳＳＳ",{"$f":"(\"14\")","v":"14"},"FW","足立　真央","アダチ　マオ",4,"女子小学生"]
["臼杵ＳＳＳ_15","臼杵ＳＳＳ",{"$f":"(\"15\")","v":"15"},"MF","山﨑　世大","ヤマサキ　セオ",5,"男子"]
["臼杵ＳＳＳ_16","臼杵ＳＳＳ",{"$f":"(\"16\")","v":"16"},"GK","伊藤　和航","イトウ　ワタル",5,"男子"]
["挾間ＪＦＣ_1","挾間ＪＦＣ",{"$f":"(\"1\")","v":"1"},"GK","大塚　圭太","オオツカ　ケイタ",6,"男子"]
["挾間ＪＦＣ_2","挾間ＪＦＣ",{"$f":"(\"2\")","v":"2"},"DF","後藤　奏叶","ゴトウ　カナト",6,"男子"]
["挾間ＪＦＣ_3","挾間ＪＦＣ",{"$f":"(\"3\")","v":"3"},"MF","申田　琉翔","サルタ　リュウト",6,"男子"]
["挾間ＪＦＣ_4","挾間ＪＦＣ",{"$f":"(\"4\")","v":"4"},"DF","阿部　竜樹","アベ　リュウキ",5,"男子"]
["挾間ＪＦＣ_5","挾間ＪＦＣ",{"$f":"(\"5\")","v":"5"},"DF","南　岳杜","ミナミ　ガクト",5,"男子"]
["挾間ＪＦＣ_7","挾間ＪＦＣ",{"$f":"(\"7\")","v":"7"},"MF","三浦　琉誠","ミウラ　リュウセイ",5,"男子"]
["挾間ＪＦＣ_8","挾間ＪＦＣ",{"$f":"(\"8\")","v":"8"},"MF","大石　凌也","オオイシ　リョウヤ",6,"男子"]
["挾間ＪＦＣ_9","挾間ＪＦＣ",{"$f":"(\"9\")","v":"9"},"FW","工藤　羚叶","クドウ　レオト",5,"男子"]
["挾間ＪＦＣ_10","挾間ＪＦＣ",{"$f":"(\"10\")","v":"10"},"MF","依田　勇誠","ヨダ　ユウセイ",5,"男子"]
["挾間ＪＦＣ_11","挾間ＪＦＣ",{"$f":"(\"11\")","v":"11"},"FW","秋吉　真怜","アキヨシ　マサト",5,"男子"]
["挾間ＪＦＣ_12","挾間ＪＦＣ",{"$f":"(\"12\")","v":"12"},"FW","加藤　拓斗","カトウ　タクト",5,"男子"]
["挾間ＪＦＣ_13","挾間ＪＦＣ",{"$f":"(\"13\")","v":"13"},"MF","田辺　一会","タナベ　イチエ",5,"男子"]
["挾間ＪＦＣ_14","挾間ＪＦＣ",{"$f":"(\"14\")","v":"14"},"MF","手嶋　結菜","テシマ　ユイナ",6,"女子小学生"]
["挾間ＪＦＣ_16","挾間ＪＦＣ",{"$f":"(\"16\")","v":"16"},"MF","後藤　惟吹","ゴトウ　イブキ",4,"男子"]
["挾間ＪＦＣ_17","挾間ＪＦＣ",{"$f":"(\"17\")","v":"17"},"DF","日野　諒","ヒノ　リョウ",4,"男子"]
["挾間ＪＦＣ_20","挾間ＪＦＣ",{"$f":"(\"20\")","v":"20"},"DF","佐藤　真斗","サトウ　マナト",5,"男子"]
["挾間ＪＦＣ_22","挾間ＪＦＣ",{"$f":"(\"22\")","v":"22"},"FW","杉田　煌桜","スギタ　コオ",4,"男子"]
["挾間ＪＦＣ_23","挾間ＪＦＣ",{"$f":"(\"23\")","v":"23"},"MF","安永　瑛翔","ヤスナガ　エイト",5,"男子"]
["ＦＣ安岐_1","ＦＣ安岐",{"$f":"(\"1\")","v":"1"},"GK","羽迫　史久","ハサコ　リク",5,"男子"]
["ＦＣ安岐_2","ＦＣ安岐",{"$f":"(\"2\")","v":"2"},"MF","橋本　尚","ハシモト　ナオ",5,"男子"]
[{"$f":"CONCATENATE(B1160,\"_\",C1160)","v":"ＦＣ安岐_3"},"ＦＣ安岐",{"$f":"(\"3\")","v":"3"},"MF","小俣　慶一郎","オマタ　ケイイチロウ",5,"男子"]
["ＦＣ安岐_4","ＦＣ安岐",{"$f":"(\"4\")","v":"4"},"DF","上野　海翔","ウエノ　カイト",5,"男子"]
["ＦＣ安岐_5","ＦＣ安岐",{"$f":"(\"5\")","v":"5"},"MF","小田原　奎斗","オダワラ　ケイト",6,"男子"]
["ＦＣ安岐_6","ＦＣ安岐",{"$f":"(\"6\")","v":"6"},"FW","南　煌大","ミナミ　コウダイ",6,"男子"]
["ＦＣ安岐_7","ＦＣ安岐",{"$f":"(\"7\")","v":"7"},"DF","橋本　昂太","ハシモト　コウタ",6,"男子"]
["ＦＣ安岐_8","ＦＣ安岐",{"$f":"(\"8\")","v":"8"},"DF","木村　翔瑛","キムラ　ヒエイ",6,"男子"]
["ＦＣ安岐_9","ＦＣ安岐",{"$f":"(\"9\")","v":"9"},"FW","清末　勘之","キヨスエ　ノリユキ",6,"男子"]
["ＦＣ安岐_10","ＦＣ安岐",{"$f":"(\"10\")","v":"10"},"MF","金江　徹平","カナエ　テッペイ",6,"男子"]
["ＦＣ安岐_11","ＦＣ安岐",{"$f":"(\"11\")","v":"11"},"MF","今富　蓮","イマトミ　レン",5,"男子"]
["ＦＣ安岐_12","ＦＣ安岐",{"$f":"(\"12\")","v":"12"},"FW","小田　冬絆","オダ　トウキ",5,"男子"]
["ＦＣ安岐_13","ＦＣ安岐",{"$f":"(\"13\")","v":"13"},"DF","佐藤　礼","サトウ　ライ",5,"男子"]
["ＦＣ安岐_16","ＦＣ安岐",{"$f":"(\"16\")","v":"16"},"MF","矢野　道之","ヤノ　ミチユキ",5,"男子"]
["スマイス・セレソン_1","スマイス・セレソン",{"$f":"(\"1\")","v":"1"},"GK","阿部　巧翔","アベ　タクト",6,"男子"]
["スマイス・セレソン_2","スマイス・セレソン",{"$f":"(\"2\")","v":"2"},"DF","渡辺　陽星","ワタナベ　ハル",6,"男子"]
["スマイス・セレソン_3","スマイス・セレソン",{"$f":"(\"3\")","v":"3"},"DF","土井　純音","ドイ　アツキ",6,"男子"]
["スマイス・セレソン_4","スマイス・セレソン",{"$f":"(\"4\")","v":"4"},"DF","原田　煌也","ハラダ　オウヤ",5,"男子"]
["スマイス・セレソン_5","スマイス・セレソン",{"$f":"(\"5\")","v":"5"},"DF","石川　巧翔","イシカワ　タクト",6,"男子"]
["スマイス・セレソン_6","スマイス・セレソン",{"$f":"(\"6\")","v":"6"},"FW","財前　大翔","ザイゼン　ヒロト",6,"男子"]
["スマイス・セレソン_7","スマイス・セレソン",{"$f":"(\"7\")","v":"7"},"MF","小野　陽士","オノ　アキト",6,"男子"]
["スマイス・セレソン_8","スマイス・セレソン",{"$f":"(\"8\")","v":"8"},"MF","横田　啓","ヨコタ　ケイ",5,"男子"]
["スマイス・セレソン_9","スマイス・セレソン",{"$f":"(\"9\")","v":"9"},"FW","佐々木　大和","ササキ　ヤマト",5,"男子"]
["スマイス・セレソン_10","スマイス・セレソン",{"$f":"(\"10\")","v":"10"},"FW","大室　響","オオムロ　ヒビキ",6,"男子"]
["スマイス・セレソン_11","スマイス・セレソン",{"$f":"(\"11\")","v":"11"},"FW","膳瀬　晃希","ゼンセ　コウキ",6,"男子"]
["スマイス・セレソン_12","スマイス・セレソン",{"$f":"(\"12\")","v":"12"},"DF","桐村　虎夢","キリムラ　コム",5,"男子"]
["スマイス・セレソン_13","スマイス・セレソン",{"$f":"(\"13\")","v":"13"},"FW","安部　颯","アンベ　ハヤテ",5,"男子"]
["スマイス・セレソン_14","スマイス・セレソン",{"$f":"(\"14\")","v":"14"},"MF","岩崎　蓮武","イワサキ　レン",5,"男子"]
["スマイス・セレソン_15","スマイス・セレソン",{"$f":"(\"15\")","v":"15"},"DF","宮崎　海迅","ミヤザキ　カイト",5,"男子"]
["スマイス・セレソン_16","スマイス・セレソン",{"$f":"(\"16\")","v":"16"},"GK","赤野　陽亮","アカノ　ヨウスケ",6,"男子"]
["スマイス・セレソン_17","スマイス・セレソン",{"$f":"(\"17\")","v":"17"},"DF","竹友　勝虎","タケトモ　カツト",5,"男子"]
["スマイス・セレソン_18","スマイス・セレソン",{"$f":"(\"18\")","v":"18"},"FW","大室　匠","オオムロ　タクミ",4,"男子"]
["カティオーラフットボールクラブＵ－１２_1","カティオーラフットボールクラブＵ－１２",{"$f":"(\"1\")","v":"1"},"GK","工藤　渉","クドウ　ショウ",6,"男子"]
["カティオーラフットボールクラブＵ－１２_2","カティオーラフットボールクラブＵ－１２",{"$f":"(\"2\")","v":"2"},"FW","幸重　徹平","ユキシゲ　テッペイ",6,"男子"]
["カティオーラフットボールクラブＵ－１２_3","カティオーラフットボールクラブＵ－１２",{"$f":"(\"3\")","v":"3"},"DF","小田　晴之介","オダ　セイノスケ",6,"男子"]
["カティオーラフットボールクラブＵ－１２_4","カティオーラフットボールクラブＵ－１２",{"$f":"(\"4\")","v":"4"},"DF","野尻　憲慎","ノジリ　ケンシン",5,"男子"]
["カティオーラフットボールクラブＵ－１２_5","カティオーラフットボールクラブＵ－１２",{"$f":"(\"5\")","v":"5"},"DF","奥田　智己","オクダ　トモキ",6,"男子"]
["カティオーラフットボールクラブＵ－１２_6","カティオーラフットボールクラブＵ－１２",{"$f":"(\"6\")","v":"6"},"DF","吉元　俊輔","ヨシモト　シュンスケ",6,"男子"]
["カティオーラフットボールクラブＵ－１２_7","カティオーラフットボールクラブＵ－１２",{"$f":"(\"7\")","v":"7"},"MF","司城　大輝","ツカサキ　ダイキ",6,"男子"]
["カティオーラフットボールクラブＵ－１２_8","カティオーラフットボールクラブＵ－１２",{"$f":"(\"8\")","v":"8"},"FW","村上　温俊","ムラカミ　ハルト",6,"男子"]
["カティオーラフットボールクラブＵ－１２_9","カティオーラフットボールクラブＵ－１２",{"$f":"(\"9\")","v":"9"},"MF","松田　翔空","マツダ　トア",6,"男子"]
["カティオーラフットボールクラブＵ－１２_10","カティオーラフットボールクラブＵ－１２",{"$f":"(\"10\")","v":"10"},"MF","松場　次元","マツバ　ジゲン",6,"男子"]
["カティオーラフットボールクラブＵ－１２_11","カティオーラフットボールクラブＵ－１２",{"$f":"(\"11\")","v":"11"},"MF","佐藤　悠晴","サトウ　ユウセイ",6,"男子"]
["カティオーラフットボールクラブＵ－１２_12","カティオーラフットボールクラブＵ－１２",{"$f":"(\"12\")","v":"12"},"GK","花宮　蓮","ハナミヤ　レン",5,"男子"]
["カティオーラフットボールクラブＵ－１２_13","カティオーラフットボールクラブＵ－１２",{"$f":"(\"13\")","v":"13"},"FW","玉井　祐彰","タマイ　ヨシアキ",6,"男子"]
["カティオーラフットボールクラブＵ－１２_14","カティオーラフットボールクラブＵ－１２",{"$f":"(\"14\")","v":"14"},"MF","渡辺　碧海","ワタナベ　アオア",5,"男子"]
["カティオーラフットボールクラブＵ－１２_15","カティオーラフットボールクラブＵ－１２",{"$f":"(\"15\")","v":"15"},"FW","奥　祐翔","オク　ユウト",6,"男子"]
["カティオーラフットボールクラブＵ－１２_16","カティオーラフットボールクラブＵ－１２",{"$f":"(\"16\")","v":"16"},"MF","軸丸　生己","ジクマル　ウミ",5,"男子"]
["森岡サッカースポーツ少年団_1","森岡サッカースポーツ少年団",{"$f":"(\"1\")","v":"1"},"GK","高司　健心","タカツカ　ケンシン",5,"男子"]
["森岡サッカースポーツ少年団_2","森岡サッカースポーツ少年団",{"$f":"(\"2\")","v":"2"},"MF","佐藤　風薫助","サトウ　フクスケ",4,"男子"]
["森岡サッカースポーツ少年団_4","森岡サッカースポーツ少年団",{"$f":"(\"4\")","v":"4"},"DF","甲斐　蓮翔","カイ　レント",4,"男子"]
["森岡サッカースポーツ少年団_5","森岡サッカースポーツ少年団",{"$f":"(\"5\")","v":"5"},"FW","大城　遼真","オオキ　リョウマ",4,"男子"]
["森岡サッカースポーツ少年団_6","森岡サッカースポーツ少年団",{"$f":"(\"6\")","v":"6"},"MF","安藤　粋汰","アンドウ　イクタ",5,"男子"]
["森岡サッカースポーツ少年団_7","森岡サッカースポーツ少年団",{"$f":"(\"7\")","v":"7"},"FW","角谷　春樹","カクヤ　ハルキ",2,"男子"]
["森岡サッカースポーツ少年団_8","森岡サッカースポーツ少年団",{"$f":"(\"8\")","v":"8"},"FW","長岡　蒼空","ナガオカ　ソラ",2,"男子"]
["森岡サッカースポーツ少年団_9","森岡サッカースポーツ少年団",{"$f":"(\"9\")","v":"9"},"MF","野尻　大地","ノジリ　ダイチ",4,"男子"]
["森岡サッカースポーツ少年団_10","森岡サッカースポーツ少年団",{"$f":"(\"10\")","v":"10"},"DF","関谷　昂大","セキヤ　コウダイ",6,"男子"]
["森岡サッカースポーツ少年団_11","森岡サッカースポーツ少年団",{"$f":"(\"11\")","v":"11"},"MF","佐藤　晴生吉","サトウ　セイキチ",2,"男子"]
["森岡サッカースポーツ少年団_12","森岡サッカースポーツ少年団",{"$f":"(\"12\")","v":"12"},"FW","前田　凌","マエダ　リョウ",4,"男子"]
["森岡サッカースポーツ少年団_14","森岡サッカースポーツ少年団",{"$f":"(\"14\")","v":"14"},"MF","高司　理公","タカツカ　リオウ",2,"男子"]
["森岡サッカースポーツ少年団_15","森岡サッカースポーツ少年団",{"$f":"(\"15\")","v":"15"},"FW","山崎　琥大朗","ヤマサキ　コタロウ",2,"男子"]
["森岡サッカースポーツ少年団_16","森岡サッカースポーツ少年団",{"$f":"(\"16\")","v":"16"},"FW","平井　蒼斗","ヒライ　アオト",2,"男子"]
["カティオーラフットボールクラブ　大在_1","カティオーラフットボールクラブ　大在",{"$f":"(\"1\")","v":"1"},"GK","杉野　颯眞","スギノ　ソウマ",6,"男子"]
["カティオーラフットボールクラブ　大在_2","カティオーラフットボールクラブ　大在",{"$f":"(\"2\")","v":"2"},"DF","中川　蓮汰","ナカガワ　レンタ",5,"男子"]
["カティオーラフットボールクラブ　大在_3","カティオーラフットボールクラブ　大在",{"$f":"(\"3\")","v":"3"},"DF","佐藤　悠樹","サトウ　ハルキ",5,"男子"]
["カティオーラフットボールクラブ　大在_4","カティオーラフットボールクラブ　大在",{"$f":"(\"4\")","v":"4"},"FW","河村　夢生","カワムラ　ユメキ",5,"男子"]
[{"$f":"CONCATENATE(B1224,\"_\",C1224)","v":"カティオーラフットボールクラブ　大在_5"},"カティオーラフットボールクラブ　大在",{"$f":"(\"5\")","v":"5"},"MF","松木　優飛","マツキ　ユウビ",5,"男子"]
["カティオーラフットボールクラブ　大在_6","カティオーラフットボールクラブ　大在",{"$f":"(\"6\")","v":"6"},"DF","白石　零","シライシ　レイ",6,"男子"]
["カティオーラフットボールクラブ　大在_7","カティオーラフットボールクラブ　大在",{"$f":"(\"7\")","v":"7"},"MF","三浦　雅斗","ミウラ　ガクト",5,"男子"]
["カティオーラフットボールクラブ　大在_8","カティオーラフットボールクラブ　大在",{"$f":"(\"8\")","v":"8"},"DF","志村　瞭介","シムラ　リョウスケ",6,"男子"]
["カティオーラフットボールクラブ　大在_9","カティオーラフットボールクラブ　大在",{"$f":"(\"9\")","v":"9"},"FW","篠田　光","シノダ　ヒカル",6,"男子"]
["カティオーラフットボールクラブ　大在_10","カティオーラフットボールクラブ　大在",{"$f":"(\"10\")","v":"10"},"DF","山口　翔太郎","ヤマグチ　ショウタロウ",6,"男子"]
["カティオーラフットボールクラブ　大在_11","カティオーラフットボールクラブ　大在",{"$f":"(\"11\")","v":"11"},"MF","梶原　琥汰","カジワラ　コウタ",5,"男子"]
["カティオーラフットボールクラブ　大在_12","カティオーラフットボールクラブ　大在",{"$f":"(\"12\")","v":"12"},"GK","小名川　滉斗","コナガワ　ヒロト",5,"男子"]
["カティオーラフットボールクラブ　大在_13","カティオーラフットボールクラブ　大在",{"$f":"(\"13\")","v":"13"},"FW","和田　健太郎","ワダ　ケンタロウ",5,"男子"]
["カティオーラフットボールクラブ　大在_14","カティオーラフットボールクラブ　大在",{"$f":"(\"14\")","v":"14"},"DF","森岡　龍之介","モリオカ　リュウノスケ",5,"男子"]
["由布川サッカースポーツ少年団_1","由布川サッカースポーツ少年団",{"$f":"(\"1\")","v":"1"},"DF","後藤　颯太","ゴトウ　ソウタ",6,"男子"]
["由布川サッカースポーツ少年団_2","由布川サッカースポーツ少年団",{"$f":"(\"2\")","v":"2"},"MF","荒巻　而志","アラマキ　ナオユキ",5,"男子"]
["由布川サッカースポーツ少年団_3","由布川サッカースポーツ少年団",{"$f":"(\"3\")","v":"3"},"FW","小野　友真","オノ　ユウマ",5,"男子"]
["由布川サッカースポーツ少年団_4","由布川サッカースポーツ少年団",{"$f":"(\"4\")","v":"4"},"DF","上野　悠陽","ウエノ　ユウヒ",6,"男子"]
["由布川サッカースポーツ少年団_5","由布川サッカースポーツ少年団",{"$f":"(\"5\")","v":"5"},"MF","今田　優太","イマダ　ユウタ",5,"男子"]
["由布川サッカースポーツ少年団_6","由布川サッカースポーツ少年団",{"$f":"(\"6\")","v":"6"},"DF","塚崎　春輝","ツカザキ　ハルキ",5,"男子"]
["由布川サッカースポーツ少年団_7","由布川サッカースポーツ少年団",{"$f":"(\"7\")","v":"7"},"MF","甲斐　琉聖","カイ　リュウセイ",6,"男子"]
["由布川サッカースポーツ少年団_8","由布川サッカースポーツ少年団",{"$f":"(\"8\")","v":"8"},"MF","吉廣　幸太郎","ヨシヒロ　コウタロウ",6,"男子"]
["由布川サッカースポーツ少年団_9","由布川サッカースポーツ少年団",{"$f":"(\"9\")","v":"9"},"FW","江藤　翼","エトウ　ツバサ",6,"男子"]
["由布川サッカースポーツ少年団_10","由布川サッカースポーツ少年団",{"$f":"(\"10\")","v":"10"},"FW","陣内　奏心","ジンノウチ　カナト",6,"男子"]
["由布川サッカースポーツ少年団_11","由布川サッカースポーツ少年団",{"$f":"(\"11\")","v":"11"},"FW","佐藤　亮仁","サトウ　リョウト",6,"男子"]
["由布川サッカースポーツ少年団_12","由布川サッカースポーツ少年団",{"$f":"(\"12\")","v":"12"},"MF","髙倉　暖基","タカクラ　ハルキ",4,"男子"]
["由布川サッカースポーツ少年団_13","由布川サッカースポーツ少年団",{"$f":"(\"13\")","v":"13"},"FW","黒木　渚冴","クロキ　ナギサ",4,"男子"]
["由布川サッカースポーツ少年団_14","由布川サッカースポーツ少年団",{"$f":"(\"14\")","v":"14"},"FW","荒巻　乃得","アラマキ　ノエル",4,"男子"]
["由布川サッカースポーツ少年団_15","由布川サッカースポーツ少年団",{"$f":"(\"15\")","v":"15"},"DF","伊東　湊","イトウ　ミナト",4,"男子"]
["由布川サッカースポーツ少年団_16","由布川サッカースポーツ少年団",{"$f":"(\"16\")","v":"16"},"GK","衛藤　庵","エトウ　イオリ",5,"男子"]
["ＫＩＮＧＳ　ＦＯＯＴＢＡＬＬＣＬＵＢ　Ｕ－１２_1","ＫＩＮＧＳ　ＦＯＯＴＢＡＬＬＣＬＵＢ　Ｕ－１２",{"$f":"(\"1\")","v":"1"},"FW","宇佐川　蓮太郎","ウサガワ　レンタロウ",6,"男子"]
["ＫＩＮＧＳ　ＦＯＯＴＢＡＬＬＣＬＵＢ　Ｕ－１２_2","ＫＩＮＧＳ　ＦＯＯＴＢＡＬＬＣＬＵＢ　Ｕ－１２",{"$f":"(\"2\")","v":"2"},"MF","新名　桜晟","ニイナ　オウセイ",6,"男子"]
["ＫＩＮＧＳ　ＦＯＯＴＢＡＬＬＣＬＵＢ　Ｕ－１２_3","ＫＩＮＧＳ　ＦＯＯＴＢＡＬＬＣＬＵＢ　Ｕ－１２",{"$f":"(\"3\")","v":"3"},"DF","橋本　蹄弥","ハシモト　ダイヤ",6,"男子"]
["ＫＩＮＧＳ　ＦＯＯＴＢＡＬＬＣＬＵＢ　Ｕ－１２_4","ＫＩＮＧＳ　ＦＯＯＴＢＡＬＬＣＬＵＢ　Ｕ－１２",{"$f":"(\"4\")","v":"4"},"MF","村上　綜梧","ムラカミ　ソウゴ",6,"男子"]
["ＫＩＮＧＳ　ＦＯＯＴＢＡＬＬＣＬＵＢ　Ｕ－１２_5","ＫＩＮＧＳ　ＦＯＯＴＢＡＬＬＣＬＵＢ　Ｕ－１２",{"$f":"(\"5\")","v":"5"},"FW","式村　龍馬","シキムラ　リョウマ",6,"男子"]
["ＫＩＮＧＳ　ＦＯＯＴＢＡＬＬＣＬＵＢ　Ｕ－１２_6","ＫＩＮＧＳ　ＦＯＯＴＢＡＬＬＣＬＵＢ　Ｕ－１２",{"$f":"(\"6\")","v":"6"},"MF","岡本　有人","オカモト　ユウト",6,"男子"]
["ＫＩＮＧＳ　ＦＯＯＴＢＡＬＬＣＬＵＢ　Ｕ－１２_7","ＫＩＮＧＳ　ＦＯＯＴＢＡＬＬＣＬＵＢ　Ｕ－１２",{"$f":"(\"7\")","v":"7"},"FW","友永　蒼士","トモナガ　ソウシ",6,"男子"]
["ＫＩＮＧＳ　ＦＯＯＴＢＡＬＬＣＬＵＢ　Ｕ－１２_8","ＫＩＮＧＳ　ＦＯＯＴＢＡＬＬＣＬＵＢ　Ｕ－１２",{"$f":"(\"8\")","v":"8"},"MF","高橋　翔空","タカハシ　トア",6,"男子"]
["ＫＩＮＧＳ　ＦＯＯＴＢＡＬＬＣＬＵＢ　Ｕ－１２_9","ＫＩＮＧＳ　ＦＯＯＴＢＡＬＬＣＬＵＢ　Ｕ－１２",{"$f":"(\"9\")","v":"9"},"MF","児玉　敦志","コダマ　アツシ",6,"男子"]
["ＫＩＮＧＳ　ＦＯＯＴＢＡＬＬＣＬＵＢ　Ｕ－１２_10","ＫＩＮＧＳ　ＦＯＯＴＢＡＬＬＣＬＵＢ　Ｕ－１２",{"$f":"(\"10\")","v":"10"},"DF","篠田　怜央","シノダ　レオ",6,"男子"]
["ＫＩＮＧＳ　ＦＯＯＴＢＡＬＬＣＬＵＢ　Ｕ－１２_11","ＫＩＮＧＳ　ＦＯＯＴＢＡＬＬＣＬＵＢ　Ｕ－１２",{"$f":"(\"11\")","v":"11"},"FW","姫野　陽斗","ヒメノ　ハルト",6,"男子"]
["ＫＩＮＧＳ　ＦＯＯＴＢＡＬＬＣＬＵＢ　Ｕ－１２_12","ＫＩＮＧＳ　ＦＯＯＴＢＡＬＬＣＬＵＢ　Ｕ－１２",{"$f":"(\"12\")","v":"12"},"GK","小野　拓海","オノ　タクミ",5,"男子"]
["ＫＩＮＧＳ　ＦＯＯＴＢＡＬＬＣＬＵＢ　Ｕ－１２_13","ＫＩＮＧＳ　ＦＯＯＴＢＡＬＬＣＬＵＢ　Ｕ－１２",{"$f":"(\"13\")","v":"13"},"MF","若杉　駿輝","ワカスギ　トシキ",6,"男子"]
["ＫＩＮＧＳ　ＦＯＯＴＢＡＬＬＣＬＵＢ　Ｕ－１２_14","ＫＩＮＧＳ　ＦＯＯＴＢＡＬＬＣＬＵＢ　Ｕ－１２",{"$f":"(\"14\")","v":"14"},"FW","佐藤　凛乃丞","サトウ　リンノスケ",5,"男子"]
["ＫＩＮＧＳ　ＦＯＯＴＢＡＬＬＣＬＵＢ　Ｕ－１２_15","ＫＩＮＧＳ　ＦＯＯＴＢＡＬＬＣＬＵＢ　Ｕ－１２",{"$f":"(\"15\")","v":"15"},"MF","甲斐　勇聖","カイ　ユウセイ",5,"男子"]
["ＫＩＮＧＳ　ＦＯＯＴＢＡＬＬＣＬＵＢ　Ｕ－１２_16","ＫＩＮＧＳ　ＦＯＯＴＢＡＬＬＣＬＵＢ　Ｕ－１２",{"$f":"(\"16\")","v":"16"},"MF","平川　幹大","ヒラカワ　カンタ",5,"男子"]
["ＫＩＮＧＳ　ＦＯＯＴＢＡＬＬＣＬＵＢ　Ｕ－１２_17","ＫＩＮＧＳ　ＦＯＯＴＢＡＬＬＣＬＵＢ　Ｕ－１２",{"$f":"(\"17\")","v":"17"},"MF","藤戸　瑛太","フジト　エイタ",5,"男子"]
["ＫＩＮＧＳ　ＦＯＯＴＢＡＬＬＣＬＵＢ　Ｕ－１２_18","ＫＩＮＧＳ　ＦＯＯＴＢＡＬＬＣＬＵＢ　Ｕ－１２",{"$f":"(\"18\")","v":"18"},"DF","芋岡　翼","イモオカ　ツバサ",5,"男子"]
["スマイスＦＣ_1","スマイスＦＣ",{"$f":"(\"1\")","v":"1"},"GK","日野　陸","ヒノ　リク",6,"男子"]
["スマイスＦＣ_2","スマイスＦＣ",{"$f":"(\"2\")","v":"2"},"DF","塩出　拓実","シオデ　タクミ",5,"男子"]
["スマイスＦＣ_3","スマイスＦＣ",{"$f":"(\"3\")","v":"3"},"DF","山岡　遼平","ヤマオカ　リョウヘイ",4,"男子"]
["スマイスＦＣ_4","スマイスＦＣ",{"$f":"(\"4\")","v":"4"},"FW","福澤　悠斗","フクザワ　ユウト",6,"男子"]
["スマイスＦＣ_5","スマイスＦＣ",{"$f":"(\"5\")","v":"5"},"DF","西村　倫瑛","ニシムラ　トモアキ",6,"男子"]
["スマイスＦＣ_6","スマイスＦＣ",{"$f":"(\"6\")","v":"6"},"MF","塩穴　創志","シオナ　ソウシ",5,"男子"]
["スマイスＦＣ_7","スマイスＦＣ",{"$f":"(\"7\")","v":"7"},"MF","牧野　倖大","マキノ　ユキハル",6,"男子"]
["スマイスＦＣ_8","スマイスＦＣ",{"$f":"(\"8\")","v":"8"},"MF","秋吉　悠斗","アキヨシ　ユウト",5,"男子"]
["スマイスＦＣ_9","スマイスＦＣ",{"$f":"(\"9\")","v":"9"},"FW","伊藤　迅世","イトウ　ハヤセ",6,"男子"]
["スマイスＦＣ_10","スマイスＦＣ",{"$f":"(\"10\")","v":"10"},"MF","阿部　光晟","アベ　コウセイ",6,"男子"]
["スマイスＦＣ_11","スマイスＦＣ",{"$f":"(\"11\")","v":"11"},"FW","佐藤　空冴","サトウ　クウゴ",6,"男子"]
["スマイスＦＣ_12","スマイスＦＣ",{"$f":"(\"12\")","v":"12"},"MF","林　暖稀","ハヤシ　ハルキ",5,"男子"]
["スマイスＦＣ_13","スマイスＦＣ",{"$f":"(\"13\")","v":"13"},"MF","佐藤　蒼磨","サトウ　ソウマ",5,"男子"]
["スマイスＦＣ_14","スマイスＦＣ",{"$f":"(\"14\")","v":"14"},"FW","森　陽佐志","モリ　ヒサシ",4,"男子"]
["スマイスＦＣ_15","スマイスＦＣ",{"$f":"(\"15\")","v":"15"},"MF","猪原　壮史","イハラ　ソウシ",4,"男子"]
["スマイスＦＣ_16","スマイスＦＣ",{"$f":"(\"16\")","v":"16"},"GK","橋爪　一琥","ハシズメ　イチゴ",5,"男子"]
["スマイスＦＣ_17","スマイスＦＣ",{"$f":"(\"17\")","v":"17"},"DF","松岡　柊斗","マツオカ　シュウト",5,"男子"]
["スマイスＦＣ_18","スマイスＦＣ",{"$f":"(\"18\")","v":"18"},"MF","菊池　智瑛","キクチ　トモアキ",5,"男子"]
["市浜レッドソックス_1","市浜レッドソックス",{"$f":"(\"1\")","v":"1"},"GK","嶋津　色音","シマヅ　イロト",3,"男子"]
["市浜レッドソックス_3","市浜レッドソックス",{"$f":"(\"3\")","v":"3"},"DF","三浦　來海","ミウラ　クルミ",6,"女子小学生"]
[{"$f":"CONCATENATE(B1288,\"_\",C1288)","v":"市浜レッドソックス_4"},"市浜レッドソックス",{"$f":"(\"4\")","v":"4"},"MF","穴見　恒輝","アナミ　コウキ",3,"男子"]
["市浜レッドソックス_5","市浜レッドソックス",{"$f":"(\"5\")","v":"5"},"DF","川邊　恒輝","カワベ　コウキ",5,"男子"]
["市浜レッドソックス_6","市浜レッドソックス",{"$f":"(\"6\")","v":"6"},"MF","近藤　拓斗","コンドウ　タクト",5,"男子"]
["市浜レッドソックス_7","市浜レッドソックス",{"$f":"(\"7\")","v":"7"},"MF","原田　滉大","ハラダ　コウダイ",5,"男子"]
["市浜レッドソックス_8","市浜レッドソックス",{"$f":"(\"8\")","v":"8"},"MF","吉良　優輝","キラ　ユウキ",5,"男子"]
["市浜レッドソックス_9","市浜レッドソックス",{"$f":"(\"9\")","v":"9"},"FW","梶原　康太","カジワラ　コウタ",4,"男子"]
["市浜レッドソックス_10","市浜レッドソックス",{"$f":"(\"10\")","v":"10"},"DF","三浦　健生","ミウラ　タケオ",6,"男子"]
["市浜レッドソックス_11","市浜レッドソックス",{"$f":"(\"11\")","v":"11"},"MF","山木　蓮寿","ヤマキ　レント",6,"男子"]
["市浜レッドソックス_12","市浜レッドソックス",{"$f":"(\"12\")","v":"12"},"FW","西村　駿佑","ニシムラ　シュンスケ",4,"男子"]
["市浜レッドソックス_13","市浜レッドソックス",{"$f":"(\"13\")","v":"13"},"DF","平川　開土","ヒラカワ　カイト",5,"男子"]
["市浜レッドソックス_14","市浜レッドソックス",{"$f":"(\"14\")","v":"14"},"MF","川野　羚準","カワノ　リヒト",4,"男子"]
["市浜レッドソックス_16","市浜レッドソックス",{"$f":"(\"16\")","v":"16"},"MF","平川　結偉","ヒラカワ　ユウイ",5,"男子"]
["県央おおのＪＦＣ_1","県央おおのＪＦＣ",{"$f":"(\"1\")","v":"1"},"GK","工藤　琉希","クドウ　ルキ",6,"男子"]
["県央おおのＪＦＣ_2","県央おおのＪＦＣ",{"$f":"(\"2\")","v":"2"},"DF","丹　陸人","タン　リクト",4,"男子"]
["県央おおのＪＦＣ_3","県央おおのＪＦＣ",{"$f":"(\"3\")","v":"3"},"MF","清水　瑞樹","シミズ　ミズキ",5,"男子"]
["県央おおのＪＦＣ_4","県央おおのＪＦＣ",{"$f":"(\"4\")","v":"4"},"DF","村上　莉久","ムラカミ　リク",4,"男子"]
["県央おおのＪＦＣ_5","県央おおのＪＦＣ",{"$f":"(\"5\")","v":"5"},"DF","永易　颯","ナガヤス　ソウ",6,"男子"]
["県央おおのＪＦＣ_7","県央おおのＪＦＣ",{"$f":"(\"7\")","v":"7"},"MF","廣瀬　絆理","ヒロセ　バンリ",6,"男子"]
["県央おおのＪＦＣ_8","県央おおのＪＦＣ",{"$f":"(\"8\")","v":"8"},"DF","後藤　颯真","ゴトウ　ソウマ",4,"男子"]
["県央おおのＪＦＣ_9","県央おおのＪＦＣ",{"$f":"(\"9\")","v":"9"},"DF","後藤　綾心","ゴトウ　アヤト",6,"男子"]
["県央おおのＪＦＣ_10","県央おおのＪＦＣ",{"$f":"(\"10\")","v":"10"},"FW","得丸　宗志","トクマル　ソウシ",6,"男子"]
["県央おおのＪＦＣ_13","県央おおのＪＦＣ",{"$f":"(\"13\")","v":"13"},"MF","仲町　駿祐","ナカマチ　シュンスケ",3,"男子"]
["県央おおのＪＦＣ_14","県央おおのＪＦＣ",{"$f":"(\"14\")","v":"14"},"MF","宮成　淳也","ミヤナリ　ジュンヤ",3,"男子"]
["県央おおのＪＦＣ_17","県央おおのＪＦＣ",{"$f":"(\"17\")","v":"17"},"GK","得丸　涼雅","トクマル　リョウマ",4,"男子"]
["ブルーウイングフットボールクラブ_1","ブルーウイングフットボールクラブ",{"$f":"(\"1\")","v":"1"},"GK","麻生　珂珠","アソウ　カイジュ",6,"男子"]
["ブルーウイングフットボールクラブ_2","ブルーウイングフットボールクラブ",{"$f":"(\"2\")","v":"2"},"MF","渡邊　秀哉","ワタナベ　シュウヤ",6,"男子"]
["ブルーウイングフットボールクラブ_3","ブルーウイングフットボールクラブ",{"$f":"(\"3\")","v":"3"},"DF","宮本　陽向","ミヤモト　ヒナタ",6,"男子"]
["ブルーウイングフットボールクラブ_4","ブルーウイングフットボールクラブ",{"$f":"(\"4\")","v":"4"},"DF","竹尾　日輝","タケオ　ニチカ",6,"男子"]
["ブルーウイングフットボールクラブ_5","ブルーウイングフットボールクラブ",{"$f":"(\"5\")","v":"5"},"DF","久保田　隼斗","クボタ　ハヤト",6,"男子"]
["ブルーウイングフットボールクラブ_6","ブルーウイングフットボールクラブ",{"$f":"(\"6\")","v":"6"},"DF","田村　蓮人","タムラ　レント",6,"男子"]
["ブルーウイングフットボールクラブ_7","ブルーウイングフットボールクラブ",{"$f":"(\"7\")","v":"7"},"FW","池口　海","イケグチ　カイ",6,"男子"]
["ブルーウイングフットボールクラブ_8","ブルーウイングフットボールクラブ",{"$f":"(\"8\")","v":"8"},"MF","加島　一冴","カシマ　イッサ",6,"男子"]
["ブルーウイングフットボールクラブ_9","ブルーウイングフットボールクラブ",{"$f":"(\"9\")","v":"9"},"MF","諸永　徠斗","モロナガ　ライト",6,"男子"]
["ブルーウイングフットボールクラブ_10","ブルーウイングフットボールクラブ",{"$f":"(\"10\")","v":"10"},"MF","奈良　三志朗","ナラ　サンシロウ",6,"男子"]
["ブルーウイングフットボールクラブ_11","ブルーウイングフットボールクラブ",{"$f":"(\"11\")","v":"11"},"MF","神野　蒼太","カミノ　ソウタ",6,"男子"]
["ブルーウイングフットボールクラブ_12","ブルーウイングフットボールクラブ",{"$f":"(\"12\")","v":"12"},"GK","安藤　亮太","アンドウ　リョウタ",6,"男子"]
["ブルーウイングフットボールクラブ_13","ブルーウイングフットボールクラブ",{"$f":"(\"13\")","v":"13"},"FW","秋廣　涼介","アキヒロ　リョウスケ",6,"男子"]
["ブルーウイングフットボールクラブ_14","ブルーウイングフットボールクラブ",{"$f":"(\"14\")","v":"14"},"FW","筒井　悠太","ツツイ　ユウタ",6,"男子"]
["ブルーウイングフットボールクラブ_15","ブルーウイングフットボールクラブ",{"$f":"(\"15\")","v":"15"},"MF","板井　惺央","イタイ　セイマ",6,"男子"]
["ブルーウイングフットボールクラブ_16","ブルーウイングフットボールクラブ",{"$f":"(\"16\")","v":"16"},"DF","古川　士道","フルカワ　シドウ",5,"男子"]
["ブルーウイングフットボールクラブ_17","ブルーウイングフットボールクラブ",{"$f":"(\"17\")","v":"17"},"MF","廣川　敬太","ヒロカワ　ケイタ",5,"男子"]
["ブルーウイングフットボールクラブ_18","ブルーウイングフットボールクラブ",{"$f":"(\"18\")","v":"18"},"FW","村岡　俊","ムラオカ　シュン",5,"男子"]
["ようこくバンビーレＦＣ_1","ようこくバンビーレＦＣ",{"$f":"(\"1\")","v":"1"},"GK","長野　凌大","ナガノ　リョウタ",5,"男子"]
["ようこくバンビーレＦＣ_3","ようこくバンビーレＦＣ",{"$f":"(\"3\")","v":"3"},"DF","綾野　梨央","アヤノ　リオ",5,"男子"]
["ようこくバンビーレＦＣ_4","ようこくバンビーレＦＣ",{"$f":"(\"4\")","v":"4"},"MF","平早水　遥季","ヒラソウズ　ハルキ",6,"男子"]
["ようこくバンビーレＦＣ_5","ようこくバンビーレＦＣ",{"$f":"(\"5\")","v":"5"},"MF","千歳丸　藍","センザイマル　ラン",6,"男子"]
["ようこくバンビーレＦＣ_6","ようこくバンビーレＦＣ",{"$f":"(\"6\")","v":"6"},"DF","服部　泰成","ハットリ　タイセイ",5,"男子"]
["ようこくバンビーレＦＣ_7","ようこくバンビーレＦＣ",{"$f":"(\"7\")","v":"7"},"DF","安波　慶悟","ヤスナミ　ケイゴ",5,"男子"]
["ようこくバンビーレＦＣ_8","ようこくバンビーレＦＣ",{"$f":"(\"8\")","v":"8"},"MF","益田　海光","マスダ　カイリ",6,"男子"]
["ようこくバンビーレＦＣ_9","ようこくバンビーレＦＣ",{"$f":"(\"9\")","v":"9"},"DF","佐藤　聖直","サトウ　セナ",6,"男子"]
["ようこくバンビーレＦＣ_10","ようこくバンビーレＦＣ",{"$f":"(\"10\")","v":"10"},"MF","岡田　亮和","オカダ　リョウワ",6,"男子"]
["ようこくバンビーレＦＣ_11","ようこくバンビーレＦＣ",{"$f":"(\"11\")","v":"11"},"FW","山下　慶士","ヤマシタ　ケイジ",5,"男子"]
["ようこくバンビーレＦＣ_12","ようこくバンビーレＦＣ",{"$f":"(\"12\")","v":"12"},"FW","黒田　伸悟","クロダ　シンゴ",5,"男子"]
["ようこくバンビーレＦＣ_13","ようこくバンビーレＦＣ",{"$f":"(\"13\")","v":"13"},"MF","酒井　拓也","サカイ　タクヤ",5,"男子"]
["ようこくバンビーレＦＣ_14","ようこくバンビーレＦＣ",{"$f":"(\"14\")","v":"14"},"MF","平早水　愛心","ヒラソウズ　マナミ",5,"女子小学生"]
["ようこくバンビーレＦＣ_15","ようこくバンビーレＦＣ",{"$f":"(\"15\")","v":"15"},"DF","伊藤　はづき","イトウ　ハヅキ",5,"女子小学生"]
["野津ＦＣ_1","野津ＦＣ",{"$f":"(\"1\")","v":"1"},"GK","吉良　大和","キラ　ヤマト",4,"男子"]
["野津ＦＣ_3","野津ＦＣ",{"$f":"(\"3\")","v":"3"},"DF","鷲上　慶","ワシガミ　ケイ",5,"男子"]
["野津ＦＣ_4","野津ＦＣ",{"$f":"(\"4\")","v":"4"},"MF","渡辺　悠莉","ワタナベ　ユウリ",6,"男子"]
["野津ＦＣ_5","野津ＦＣ",{"$f":"(\"5\")","v":"5"},"FW","高松　禾生","タカマツ　カイ",4,"男子"]
["野津ＦＣ_6","野津ＦＣ",{"$f":"(\"6\")","v":"6"},"MF","川野　晃汰","カワノ　コウタ",3,"男子"]
["野津ＦＣ_7","野津ＦＣ",{"$f":"(\"7\")","v":"7"},"DF","柴田　琥生","シバタ　コウ",6,"男子"]
["野津ＦＣ_9","野津ＦＣ",{"$f":"(\"9\")","v":"9"},"DF","川野　宏弥","カワノ　コウヤ",4,"男子"]
["野津ＦＣ_11","野津ＦＣ",{"$f":"(\"11\")","v":"11"},"FW","長野　汰我","ナガノ　タイガ",4,"男子"]
[{"$f":"CONCATENATE(B1352,\"_\",C1352)","v":"野津ＦＣ_13"},"野津ＦＣ",{"$f":"(\"13\")","v":"13"},"DF","神野　隼羽","カミノ　トワ",3,"男子"]
["野津ＦＣ_14","野津ＦＣ",{"$f":"(\"14\")","v":"14"},"FW","河村　大輔","カワムラ　ダイスケ",3,"男子"]
["野津ＦＣ_15","野津ＦＣ",{"$f":"(\"15\")","v":"15"},"DF","柴田　琉生","シバタ　ルイ",3,"男子"]
["野津ＦＣ_19","野津ＦＣ",{"$f":"(\"19\")","v":"19"},"MF","福西　勝哉","フクニシ　マサヤ",3,"男子"]
["野津ＦＣ_21","野津ＦＣ",{"$f":"(\"21\")","v":"21"},"GK","漢　陽翔","カン　ヒロト",3,"男子"]
["くにみＦＣ_1","くにみＦＣ",{"$f":"(\"1\")","v":"1"},"GK","北川　奏","キタガワ　カナデ",6,"男子"]
["くにみＦＣ_3","くにみＦＣ",{"$f":"(\"3\")","v":"3"},"DF","箕迫　琥晟","ミイサコ　コウセイ",5,"男子"]
["くにみＦＣ_4","くにみＦＣ",{"$f":"(\"4\")","v":"4"},"FW","後藤　惺哉","ゴトウ　セイヤ",5,"男子"]
["くにみＦＣ_5","くにみＦＣ",{"$f":"(\"5\")","v":"5"},"FW","衣笠　凛太朗","キヌガサ　リンタロウ",4,"男子"]
["くにみＦＣ_7","くにみＦＣ",{"$f":"(\"7\")","v":"7"},"DF","衣笠　勇樹","キヌガサ　ユウキ",6,"男子"]
["くにみＦＣ_9","くにみＦＣ",{"$f":"(\"9\")","v":"9"},"MF","箕迫　海斗","ミイサコ　カイト",4,"男子"]
["くにみＦＣ_10","くにみＦＣ",{"$f":"(\"10\")","v":"10"},"MF","堤　一耀","ツツミ　イチヨウ",5,"男子"]
["くにみＦＣ_11","くにみＦＣ",{"$f":"(\"11\")","v":"11"},"DF","荒巻　颯","アラマキ　リュウ",4,"男子"]
["くにみＦＣ_12","くにみＦＣ",{"$f":"(\"12\")","v":"12"},"MF","仲　実日子","ナカ　ミカコ",5,"女子小学生"]
["くにみＦＣ_15","くにみＦＣ",{"$f":"(\"15\")","v":"15"},"MF","栗山　隼人","クリヤマ　ハヤト",5,"男子"]
["くにみＦＣ_16","くにみＦＣ",{"$f":"(\"16\")","v":"16"},"FW","北川　周","キタガワ　アマネ",4,"男子"]
["城東サッカースポーツ少年団_1","城東サッカースポーツ少年団",{"$f":"(\"1\")","v":"1"},"GK","平川　悠真","ヒラカワ　ユウマ",6,"男子"]
["城東サッカースポーツ少年団_2","城東サッカースポーツ少年団",{"$f":"(\"2\")","v":"2"},"DF","大橋　祐仁","オオハシ　ユウト",6,"男子"]
["城東サッカースポーツ少年団_3","城東サッカースポーツ少年団",{"$f":"(\"3\")","v":"3"},"GK","小野　弘太郎","オノ　コウタロウ",5,"男子"]
["城東サッカースポーツ少年団_4","城東サッカースポーツ少年団",{"$f":"(\"4\")","v":"4"},"MF","秦　圭人","ハタ　ケイト",6,"男子"]
["城東サッカースポーツ少年団_5","城東サッカースポーツ少年団",{"$f":"(\"5\")","v":"5"},"DF","香川　柚樹","カガワ　ユズキ",5,"男子"]
["城東サッカースポーツ少年団_6","城東サッカースポーツ少年団",{"$f":"(\"6\")","v":"6"},"MF","鶴原　光芽","ツルハラ　コウガ",6,"男子"]
["城東サッカースポーツ少年団_7","城東サッカースポーツ少年団",{"$f":"(\"7\")","v":"7"},"DF","重石　陽向","シゲイシ　ヒナタ",4,"男子"]
["城東サッカースポーツ少年団_8","城東サッカースポーツ少年団",{"$f":"(\"8\")","v":"8"},"FW","大塚　瑛斗","オオツカ　アキト",5,"男子"]
["城東サッカースポーツ少年団_9","城東サッカースポーツ少年団",{"$f":"(\"9\")","v":"9"},"FW","田中　煌生","タナカ　コウセイ",6,"男子"]
["城東サッカースポーツ少年団_10","城東サッカースポーツ少年団",{"$f":"(\"10\")","v":"10"},"MF","日高　瑞己","ヒダカ　ミズキ",5,"男子"]
["城東サッカースポーツ少年団_11","城東サッカースポーツ少年団",{"$f":"(\"11\")","v":"11"},"MF","黒木　隆成","クロキ　リュウセイ",4,"男子"]
["城東サッカースポーツ少年団_12","城東サッカースポーツ少年団",{"$f":"(\"12\")","v":"12"},"MF","柿添　主水","カキゾエ　モンド",4,"男子"]
["城東サッカースポーツ少年団_13","城東サッカースポーツ少年団",{"$f":"(\"13\")","v":"13"},"DF","下村　奏太","シモムラ　ソウタ",4,"男子"]
["城東サッカースポーツ少年団_14","城東サッカースポーツ少年団",{"$f":"(\"14\")","v":"14"},"FW","河邊　太地","カワベ　タイチ",4,"男子"]
["城東サッカースポーツ少年団_15","城東サッカースポーツ少年団",{"$f":"(\"15\")","v":"15"},"FW","平野　丈仁","ヒラノ　タケト",4,"男子"]
["城東サッカースポーツ少年団_16","城東サッカースポーツ少年団",{"$f":"(\"16\")","v":"16"},"FW","高瀬　悠太","タカセ　ユウタ",4,"男子"]
["ヴェルスパ大分　Ｕ－１２_1","ヴェルスパ大分　Ｕ－１２",{"$f":"(\"1\")","v":"1"},"GK","野仲　晃生","ノナカ　コウセイ",5,"男子"]
["ヴェルスパ大分　Ｕ－１２_2","ヴェルスパ大分　Ｕ－１２",{"$f":"(\"2\")","v":"2"},"DF","日下　宗大","クサカ　ソウマ",4,"男子"]
["ヴェルスパ大分　Ｕ－１２_3","ヴェルスパ大分　Ｕ－１２",{"$f":"(\"3\")","v":"3"},"MF","衞藤　蒼羽","エトウ　ソウワ",4,"男子"]
["ヴェルスパ大分　Ｕ－１２_4","ヴェルスパ大分　Ｕ－１２",{"$f":"(\"4\")","v":"4"},"MF","河野　侑真","カワノ　ユウマ",4,"男子"]
["ヴェルスパ大分　Ｕ－１２_5","ヴェルスパ大分　Ｕ－１２",{"$f":"(\"5\")","v":"5"},"DF","稙田　瑛汰","ワサダ　エイタ",4,"男子"]
["ヴェルスパ大分　Ｕ－１２_6","ヴェルスパ大分　Ｕ－１２",{"$f":"(\"6\")","v":"6"},"MF","葛城　暖","カツラギ　ダン",5,"男子"]
["ヴェルスパ大分　Ｕ－１２_7","ヴェルスパ大分　Ｕ－１２",{"$f":"(\"7\")","v":"7"},"MF","大久保　宙","オオクボ　ソラ",5,"男子"]
["ヴェルスパ大分　Ｕ－１２_8","ヴェルスパ大分　Ｕ－１２",{"$f":"(\"8\")","v":"8"},"FW","西尾　晃空","ニシオ　コウア",6,"男子"]
["ヴェルスパ大分　Ｕ－１２_9","ヴェルスパ大分　Ｕ－１２",{"$f":"(\"9\")","v":"9"},"FW","本城　紗也菜","ホンジョウ　サヤナ",6,"女子小学生"]
["ヴェルスパ大分　Ｕ－１２_10","ヴェルスパ大分　Ｕ－１２",{"$f":"(\"10\")","v":"10"},"MF","河野　遼汰","カワノ　リョウタ",6,"男子"]
["ヴェルスパ大分　Ｕ－１２_11","ヴェルスパ大分　Ｕ－１２",{"$f":"(\"11\")","v":"11"},"MF","安部　奏輝","アベ　ソウキ",5,"男子"]
["ヴェルスパ大分　Ｕ－１２_12","ヴェルスパ大分　Ｕ－１２",{"$f":"(\"12\")","v":"12"},"DF","横江　恒瑛","ヨコエ　コウヨウ",5,"男子"]
["ヴェルスパ大分　Ｕ－１２_13","ヴェルスパ大分　Ｕ－１２",{"$f":"(\"13\")","v":"13"},"MF","桑山　元汰","クワヤマ　ゲンタ",5,"男子"]
["ヴェルスパ大分　Ｕ－１２_14","ヴェルスパ大分　Ｕ－１２",{"$f":"(\"14\")","v":"14"},"MF","二宮　駿太","ニノミヤ　シュンタ",5,"男子"]
["ヴェルスパ大分　Ｕ－１２_15","ヴェルスパ大分　Ｕ－１２",{"$f":"(\"15\")","v":"15"},"FW","佐藤　渓","サトウ　ケイ",5,"男子"]
["ヴェルスパ大分　Ｕ－１２_16","ヴェルスパ大分　Ｕ－１２",{"$f":"(\"16\")","v":"16"},"FW","百田　晃太朗","ヒャクダ　コウタロウ",4,"男子"]
["ＦＣ　ＲＥＧＡＴＥ_1","ＦＣ　ＲＥＧＡＴＥ",{"$f":"(\"1\")","v":"1"},"GK","村上　葵","ムラカミ　アオイ",6,"男子"]
["ＦＣ　ＲＥＧＡＴＥ_2","ＦＣ　ＲＥＧＡＴＥ",{"$f":"(\"2\")","v":"2"},"DF","塚本　迅平","ツカモト　ジンペイ",6,"男子"]
["ＦＣ　ＲＥＧＡＴＥ_3","ＦＣ　ＲＥＧＡＴＥ",{"$f":"(\"3\")","v":"3"},"DF","廣瀬　優斗","ヒロセ　ユウト",6,"男子"]
["ＦＣ　ＲＥＧＡＴＥ_4","ＦＣ　ＲＥＧＡＴＥ",{"$f":"(\"4\")","v":"4"},"MF","山本　将平","ヤマモト　ショウヘイ",6,"男子"]
["ＦＣ　ＲＥＧＡＴＥ_5","ＦＣ　ＲＥＧＡＴＥ",{"$f":"(\"5\")","v":"5"},"DF","安部　一洸","アベ　イッキ",6,"男子"]
["ＦＣ　ＲＥＧＡＴＥ_6","ＦＣ　ＲＥＧＡＴＥ",{"$f":"(\"6\")","v":"6"},"DF","江藤　颯真","エトウ　ソウマ",5,"男子"]
["ＦＣ　ＲＥＧＡＴＥ_7","ＦＣ　ＲＥＧＡＴＥ",{"$f":"(\"7\")","v":"7"},"MF","後藤　琢心","ゴトウ　タクマ",6,"男子"]
["ＦＣ　ＲＥＧＡＴＥ_8","ＦＣ　ＲＥＧＡＴＥ",{"$f":"(\"8\")","v":"8"},"MF","鈴木　乃斗","スズキ　ナイト",5,"男子"]
["ＦＣ　ＲＥＧＡＴＥ_9","ＦＣ　ＲＥＧＡＴＥ",{"$f":"(\"9\")","v":"9"},"MF","後藤　碧斗","ゴトウ　アオト",6,"男子"]
["ＦＣ　ＲＥＧＡＴＥ_10","ＦＣ　ＲＥＧＡＴＥ",{"$f":"(\"10\")","v":"10"},"DF","嵜野　晴翔","サキノ　ハルト",6,"男子"]
["ＦＣ　ＲＥＧＡＴＥ_11","ＦＣ　ＲＥＧＡＴＥ",{"$f":"(\"11\")","v":"11"},"MF","鶴原　仁人","ツルハラ　ヨシト",6,"男子"]
["ＦＣ　ＲＥＧＡＴＥ_12","ＦＣ　ＲＥＧＡＴＥ",{"$f":"(\"12\")","v":"12"},"MF","山本　大雅","ヤマモト　タイガ",6,"男子"]
["ＦＣ　ＲＥＧＡＴＥ_13","ＦＣ　ＲＥＧＡＴＥ",{"$f":"(\"13\")","v":"13"},"MF","森山　知佳","モリヤマ　チカ",5,"女子小学生"]
["ＦＣ　ＲＥＧＡＴＥ_14","ＦＣ　ＲＥＧＡＴＥ",{"$f":"(\"14\")","v":"14"},"MF","後藤　滉希","ゴトウ　ヒロキ",5,"男子"]
["ＦＣ　ＲＥＧＡＴＥ_15","ＦＣ　ＲＥＧＡＴＥ",{"$f":"(\"15\")","v":"15"},"FW","三ヶ尻　圭吾","ミカジリ　ケイゴ",4,"男子"]
["ＦＣ　ＲＥＧＡＴＥ_20","ＦＣ　ＲＥＧＡＴＥ",{"$f":"(\"20\")","v":"20"},"GK","羽田野　雄大","ハダノ　ユウト",5,"男子"]
[{"$f":"CONCATENATE(B1416,\"_\",C1416)","v":"大分トリニータタートルズ_1"},"大分トリニータタートルズ",{"$f":"(\"1\")","v":"1"},"GK","中野　友晶","ナカノ　トモアキ",6,"男子"]
["大分トリニータタートルズ_2","大分トリニータタートルズ",{"$f":"(\"2\")","v":"2"},"DF","有松　亮人","アリマツ　アキト",5,"男子"]
["大分トリニータタートルズ_3","大分トリニータタートルズ",{"$f":"(\"3\")","v":"3"},"FW","清原　颯真","キヨハラ　ソウマ",5,"男子"]
["大分トリニータタートルズ_4","大分トリニータタートルズ",{"$f":"(\"4\")","v":"4"},"MF","松岡　蓮桜","マツオカ　レオ",5,"男子"]
["大分トリニータタートルズ_5","大分トリニータタートルズ",{"$f":"(\"5\")","v":"5"},"MF","塚野　太心","ツカノ　タイシン",5,"男子"]
["大分トリニータタートルズ_6","大分トリニータタートルズ",{"$f":"(\"6\")","v":"6"},"DF","中山　雄惺","ナカヤマ　ユウセイ",5,"男子"]
["大分トリニータタートルズ_7","大分トリニータタートルズ",{"$f":"(\"7\")","v":"7"},"MF","木下　勝仁","キノシタ　マサト",5,"男子"]
["大分トリニータタートルズ_8","大分トリニータタートルズ",{"$f":"(\"8\")","v":"8"},"MF","石川　唯斗","イシカワ　ユイト",6,"男子"]
["大分トリニータタートルズ_9","大分トリニータタートルズ",{"$f":"(\"9\")","v":"9"},"GK","野呂　仁人","ノロ　ヨシト",6,"男子"]
["大分トリニータタートルズ_10","大分トリニータタートルズ",{"$f":"(\"10\")","v":"10"},"MF","佐々木　大地","ササキ　ダイチ",6,"男子"]
["大分トリニータタートルズ_11","大分トリニータタートルズ",{"$f":"(\"11\")","v":"11"},"MF","森竹　航椰","モリタケ　コウヤ",6,"男子"]
["大分トリニータタートルズ_12","大分トリニータタートルズ",{"$f":"(\"12\")","v":"12"},"FW","麻川　琉真","アサカワ　リュウシン",5,"男子"]
["大分トリニータタートルズ_13","大分トリニータタートルズ",{"$f":"(\"13\")","v":"13"},"FW","林　明輝","ハヤシ　アキテル",5,"男子"]
["大分トリニータタートルズ_14","大分トリニータタートルズ",{"$f":"(\"14\")","v":"14"},"DF","村上　泰基","ムラカミ　タイキ",5,"男子"]
["大分トリニータタートルズ_15","大分トリニータタートルズ",{"$f":"(\"15\")","v":"15"},"FW","牧　匠見","マキ　タクミ",6,"男子"]
["大分トリニータタートルズ_16","大分トリニータタートルズ",{"$f":"(\"16\")","v":"16"},"GK","宮地　奏音","ミヤジ　カナト",6,"男子"]
["大分トリニータタートルズ_17","大分トリニータタートルズ",{"$f":"(\"17\")","v":"17"},"MF","工藤　光向太","クドウ　ヒナタ",5,"男子"]
["大分トリニータタートルズ_18","大分トリニータタートルズ",{"$f":"(\"18\")","v":"18"},"DF","濵永　真仁","ハマナガ　マサヒト",5,"男子"]
["ティエラフットボールクラブＵ－１２_1","ティエラフットボールクラブＵ－１２",{"$f":"(\"1\")","v":"1"},"GK","小野　颯翔","オノ　ハヤト",4,"男子"]
["ティエラフットボールクラブＵ－１２_2","ティエラフットボールクラブＵ－１２",{"$f":"(\"2\")","v":"2"},"DF","髙根　壮市郎","タカネ　ソウイチロウ",4,"男子"]
["ティエラフットボールクラブＵ－１２_3","ティエラフットボールクラブＵ－１２",{"$f":"(\"3\")","v":"3"},"MF","能方　獅堂","ノウガタ　シドウ",6,"男子"]
["ティエラフットボールクラブＵ－１２_4","ティエラフットボールクラブＵ－１２",{"$f":"(\"4\")","v":"4"},"MF","内田　晶人","ウチダ　アキト",5,"男子"]
["ティエラフットボールクラブＵ－１２_5","ティエラフットボールクラブＵ－１２",{"$f":"(\"5\")","v":"5"},"DF","佐藤　律煌","サトウ　リズキ",4,"男子"]
["ティエラフットボールクラブＵ－１２_6","ティエラフットボールクラブＵ－１２",{"$f":"(\"6\")","v":"6"},"DF","西川　碧海","ニシカワ　アオ",6,"男子"]
["ティエラフットボールクラブＵ－１２_7","ティエラフットボールクラブＵ－１２",{"$f":"(\"7\")","v":"7"},"MF","岸　遼太郎","キシ　リョウタロウ",4,"男子"]
["ティエラフットボールクラブＵ－１２_8","ティエラフットボールクラブＵ－１２",{"$f":"(\"8\")","v":"8"},"MF","溝口　想空","ミゾグチ　ソラ",4,"男子"]
["ティエラフットボールクラブＵ－１２_9","ティエラフットボールクラブＵ－１２",{"$f":"(\"9\")","v":"9"},"MF","原　康太","ハラ　コウタ",6,"男子"]
["ティエラフットボールクラブＵ－１２_10","ティエラフットボールクラブＵ－１２",{"$f":"(\"10\")","v":"10"},"MF","山嵜　騎士","ヤマサキ　ナイト",6,"男子"]
["ティエラフットボールクラブＵ－１２_11","ティエラフットボールクラブＵ－１２",{"$f":"(\"11\")","v":"11"},"FW","小門　玲登","オカド　レノ",5,"男子"]
["ティエラフットボールクラブＵ－１２_12","ティエラフットボールクラブＵ－１２",{"$f":"(\"12\")","v":"12"},"FW","倉本　海音","クラモト　カイト",4,"男子"]
["ティエラフットボールクラブＵ－１２_13","ティエラフットボールクラブＵ－１２",{"$f":"(\"13\")","v":"13"},"DF","小川　泰知","オガワ　タイチ",4,"男子"]
["ティエラフットボールクラブＵ－１２_14","ティエラフットボールクラブＵ－１２",{"$f":"(\"14\")","v":"14"},"MF","筧　漣二","カケイ　レンジ",4,"男子"]
["ティエラフットボールクラブＵ－１２_15","ティエラフットボールクラブＵ－１２",{"$f":"(\"15\")","v":"15"},"DF","大見　悠斗","オオミ　ハルト",4,"男子"]
["ティエラフットボールクラブＵ－１２_17","ティエラフットボールクラブＵ－１２",{"$f":"(\"17\")","v":"17"},"DF","西川　晴南","ニシカワ　セナ",4,"男子"]
["ティエラフットボールクラブＵ－１２_18","ティエラフットボールクラブＵ－１２",{"$f":"(\"18\")","v":"18"},"MF","中園　啓吾","ナカゾノ　ケイゴ",4,"男子"]
["スマイス日出_1","スマイス日出",{"$f":"(\"1\")","v":"1"},"GK","岩尾　和哉","イワオ　カズヤ",6,"男子"]
["スマイス日出_2","スマイス日出",{"$f":"(\"2\")","v":"2"},"DF","安部　颯太","アベ　ソウタ",5,"男子"]
["スマイス日出_3","スマイス日出",{"$f":"(\"3\")","v":"3"},"MF","大石　玲恩","オオイシ　レオン",4,"男子"]
["スマイス日出_4","スマイス日出",{"$f":"(\"4\")","v":"4"},"FW","山口　悠斗","ヤマグチ　ユウト",6,"男子"]
["スマイス日出_5","スマイス日出",{"$f":"(\"5\")","v":"5"},"DF","前原　貴文","マエハラ　タカフミ",6,"男子"]
["スマイス日出_6","スマイス日出",{"$f":"(\"6\")","v":"6"},"MF","和田　衛青","ワダ　エイセイ",4,"男子"]
["スマイス日出_7","スマイス日出",{"$f":"(\"7\")","v":"7"},"MF","本田　大誠","ホンダ　タイセイ",5,"男子"]
["スマイス日出_8","スマイス日出",{"$f":"(\"8\")","v":"8"},"MF","佐藤　匠海","サトウ　タクミ",5,"男子"]
["スマイス日出_9","スマイス日出",{"$f":"(\"9\")","v":"9"},"FW","大熊　恭太","オオクマ　キョウタ",5,"男子"]
["スマイス日出_10","スマイス日出",{"$f":"(\"10\")","v":"10"},"MF","河野　陸","コウノ　リク",6,"男子"]
["スマイス日出_12","スマイス日出",{"$f":"(\"12\")","v":"12"},"FW","村井　倫伯","ムライ　トモノリ",4,"男子"]
["スマイス日出_13","スマイス日出",{"$f":"(\"13\")","v":"13"},"DF","岩尾　健佑","イワオ　ケンスケ",4,"男子"]
["スマイス日出_14","スマイス日出",{"$f":"(\"14\")","v":"14"},"MF","岩尾　康佑","イワオ　コウスケ",4,"男子"]
["スマイス日出_15","スマイス日出",{"$f":"(\"15\")","v":"15"},"DF","佐藤　結希","サトウ　ユウキ",4,"男子"]
["スマイス日出_16","スマイス日出",{"$f":"(\"16\")","v":"16"},"GK","池辺　琳皇","イケベ　リオ",5,"男子"]
["ＦＣ　ＵＮＩＴＥ_1","ＦＣ　ＵＮＩＴＥ",{"$f":"(\"1\")","v":"1"},"GK","加藤　魁流","カトウ　カイル",4,"男子"]
["ＦＣ　ＵＮＩＴＥ_3","ＦＣ　ＵＮＩＴＥ",{"$f":"(\"3\")","v":"3"},"FW","大森　裕太","オオモリ　ユウタ",5,"男子"]
["ＦＣ　ＵＮＩＴＥ_4","ＦＣ　ＵＮＩＴＥ",{"$f":"(\"4\")","v":"4"},"DF","酒井　一真","サカイ　カズマ",4,"男子"]
["ＦＣ　ＵＮＩＴＥ_5","ＦＣ　ＵＮＩＴＥ",{"$f":"(\"5\")","v":"5"},"FW","橋本　颯士","ハシモト　ソウシ",5,"男子"]
["ＦＣ　ＵＮＩＴＥ_6","ＦＣ　ＵＮＩＴＥ",{"$f":"(\"6\")","v":"6"},"MF","岩田　琉生","イワタ　ルオ",5,"男子"]
["ＦＣ　ＵＮＩＴＥ_7","ＦＣ　ＵＮＩＴＥ",{"$f":"(\"7\")","v":"7"},"DF","大石　崚瑛","オオイシ　リョウエイ",6,"男子"]
["ＦＣ　ＵＮＩＴＥ_8","ＦＣ　ＵＮＩＴＥ",{"$f":"(\"8\")","v":"8"},"MF","関　大夢","セキ　ヒロム",5,"男子"]
["ＦＣ　ＵＮＩＴＥ_9","ＦＣ　ＵＮＩＴＥ",{"$f":"(\"9\")","v":"9"},"MF","倉田　煌大","クラタ　コウダイ",6,"男子"]
["ＦＣ　ＵＮＩＴＥ_10","ＦＣ　ＵＮＩＴＥ",{"$f":"(\"10\")","v":"10"},"MF","末弘　智亮","スエヒロ　トモアキ",6,"男子"]
["ＦＣ　ＵＮＩＴＥ_11","ＦＣ　ＵＮＩＴＥ",{"$f":"(\"11\")","v":"11"},"DF","犬塚　惺哉","イヌツカ　セイヤ",6,"男子"]
["ＦＣ　ＵＮＩＴＥ_12","ＦＣ　ＵＮＩＴＥ",{"$f":"(\"12\")","v":"12"},"GK","原　稜磨","ハラ　リョウマ",5,"男子"]
["太陽スポーツクラブ大分西_1","太陽スポーツクラブ大分西",{"$f":"(\"1\")","v":"1"},"GK","坂本　帆駿","サカモト　ホタカ",6,"男子"]
["太陽スポーツクラブ大分西_2","太陽スポーツクラブ大分西",{"$f":"(\"2\")","v":"2"},"DF","山﨑　康大","ヤマサキ　コウダイ",5,"男子"]
["太陽スポーツクラブ大分西_3","太陽スポーツクラブ大分西",{"$f":"(\"3\")","v":"3"},"FW","東　侑平","ヒガシ　ユウヘイ",6,"男子"]
[{"$f":"CONCATENATE(B1480,\"_\",C1480)","v":"太陽スポーツクラブ大分西_4"},"太陽スポーツクラブ大分西",{"$f":"(\"4\")","v":"4"},"DF","山岡　湧斗","ヤマオカ　ユウト",6,"男子"]
["太陽スポーツクラブ大分西_5","太陽スポーツクラブ大分西",{"$f":"(\"5\")","v":"5"},"DF","中山　夏帆","ナカヤマ　カホ",6,"女子小学生"]
["太陽スポーツクラブ大分西_6","太陽スポーツクラブ大分西",{"$f":"(\"6\")","v":"6"},"DF","中山　凉","ナカヤマ　スズ",6,"女子小学生"]
["太陽スポーツクラブ大分西_7","太陽スポーツクラブ大分西",{"$f":"(\"7\")","v":"7"},"FW","中島　歩夢","ナカシマ　アユム",5,"男子"]
["太陽スポーツクラブ大分西_8","太陽スポーツクラブ大分西",{"$f":"(\"8\")","v":"8"},"MF","木下　蓮","キノシタ　レン",6,"男子"]
["太陽スポーツクラブ大分西_9","太陽スポーツクラブ大分西",{"$f":"(\"9\")","v":"9"},"DF","岐部　颯平","キベ　ソウヘイ",6,"男子"]
["太陽スポーツクラブ大分西_10","太陽スポーツクラブ大分西",{"$f":"(\"10\")","v":"10"},"MF","岩澤　春弥","イワサワ　ハルヤ",6,"男子"]
["太陽スポーツクラブ大分西_11","太陽スポーツクラブ大分西",{"$f":"(\"11\")","v":"11"},"MF","進藤　晃太","シンドウ　コウタ",6,"男子"]
["太陽スポーツクラブ大分西_13","太陽スポーツクラブ大分西",{"$f":"(\"13\")","v":"13"},"FW","小畑　歩来","オバタ　アルク",5,"男子"]
["太陽スポーツクラブ大分西_15","太陽スポーツクラブ大分西",{"$f":"(\"15\")","v":"15"},"MF","堀田　詞音","ホリタ　シオン",5,"男子"]
["太陽スポーツクラブ大分西_16","太陽スポーツクラブ大分西",{"$f":"(\"16\")","v":"16"},"GK","財津　璃大","ザイツ　リョウ",6,"男子"]
["太陽スポーツクラブ大分西_17","太陽スポーツクラブ大分西",{"$f":"(\"17\")","v":"17"},"DF","河津　瑛斗","カワヅ　アキト",5,"男子"]
["太陽スポーツクラブ大分西_18","太陽スポーツクラブ大分西",{"$f":"(\"18\")","v":"18"},"FW","江田　侑翔","コウダ　ユウト",5,"男子"]
["太陽スポーツクラブ大分西_19","太陽スポーツクラブ大分西",{"$f":"(\"19\")","v":"19"},"MF","嶋津　慶真","シマヅ　ケイシン",5,"男子"]
["太陽スポーツクラブ大分西_20","太陽スポーツクラブ大分西",{"$f":"(\"20\")","v":"20"},"DF","田中　大雅","タナカ　タイガ",5,"男子"]
["カティオーラフットボールクラブ　高城_1","カティオーラフットボールクラブ　高城",{"$f":"(\"1\")","v":"1"},"GK","秋吉　逞","アキヨシ　タクマ",4,"男子"]
["カティオーラフットボールクラブ　高城_2","カティオーラフットボールクラブ　高城",{"$f":"(\"2\")","v":"2"},"FW","後藤　蒼人","ゴトウ　アオト",6,"男子"]
["カティオーラフットボールクラブ　高城_3","カティオーラフットボールクラブ　高城",{"$f":"(\"3\")","v":"3"},"DF","浜小路　颯真","ハマショウジ　ソウマ",6,"男子"]
["カティオーラフットボールクラブ　高城_4","カティオーラフットボールクラブ　高城",{"$f":"(\"4\")","v":"4"},"DF","村田　大翔","ムラタ　ハルト",6,"男子"]
["カティオーラフットボールクラブ　高城_5","カティオーラフットボールクラブ　高城",{"$f":"(\"5\")","v":"5"},"DF","齋藤　大翔","サイトウ　ハルト",5,"男子"]
["カティオーラフットボールクラブ　高城_6","カティオーラフットボールクラブ　高城",{"$f":"(\"6\")","v":"6"},"FW","熊谷　颯人","クマガイ　ハヤト",5,"男子"]
["カティオーラフットボールクラブ　高城_7","カティオーラフットボールクラブ　高城",{"$f":"(\"7\")","v":"7"},"DF","佐藤　慈瑛","サトウ　ジエイ",6,"男子"]
["カティオーラフットボールクラブ　高城_8","カティオーラフットボールクラブ　高城",{"$f":"(\"8\")","v":"8"},"MF","市川　友翔","イチカワ　ユウト",5,"男子"]
["カティオーラフットボールクラブ　高城_9","カティオーラフットボールクラブ　高城",{"$f":"(\"9\")","v":"9"},"MF","平山　大雅","ヒラヤマ　タイガ",5,"男子"]
["カティオーラフットボールクラブ　高城_10","カティオーラフットボールクラブ　高城",{"$f":"(\"10\")","v":"10"},"DF","小川　凌輔","オガワ　リョウスケ",6,"男子"]
["カティオーラフットボールクラブ　高城_11","カティオーラフットボールクラブ　高城",{"$f":"(\"11\")","v":"11"},"MF","豊田　葵","トヨダ　アオイ",5,"男子"]
["カティオーラフットボールクラブ　高城_12","カティオーラフットボールクラブ　高城",{"$f":"(\"12\")","v":"12"},"GK","末永　宇宙","スエナガ　ソラ",5,"男子"]
["カティオーラフットボールクラブ　高城_13","カティオーラフットボールクラブ　高城",{"$f":"(\"13\")","v":"13"},"FW","竹上　蹴王","タケガミ　ジュオ",5,"男子"]
["カティオーラフットボールクラブ　高城_14","カティオーラフットボールクラブ　高城",{"$f":"(\"14\")","v":"14"},"FW","戸井　淳太","トイ　ジュンタ",5,"男子"]
["カティオーラフットボールクラブ　高城_15","カティオーラフットボールクラブ　高城",{"$f":"(\"15\")","v":"15"},"DF","渡辺　青翔","ワタナベ　アオト",5,"男子"]
["横瀬西ＦＣ．ＲｏｓａＣｌａｒｏ_1","横瀬西ＦＣ．ＲｏｓａＣｌａｒｏ",{"$f":"(\"1\")","v":"1"},"GK","新納　彪生","ニイノ　トラオ",5,"男子"]
["横瀬西ＦＣ．ＲｏｓａＣｌａｒｏ_2","横瀬西ＦＣ．ＲｏｓａＣｌａｒｏ",{"$f":"(\"2\")","v":"2"},"DF","児玉　脩大","コダマ　シュウタ",5,"男子"]
["横瀬西ＦＣ．ＲｏｓａＣｌａｒｏ_3","横瀬西ＦＣ．ＲｏｓａＣｌａｒｏ",{"$f":"(\"3\")","v":"3"},"DF","神山　葵","カミヤマ　アオイ",6,"女子小学生"]
["横瀬西ＦＣ．ＲｏｓａＣｌａｒｏ_4","横瀬西ＦＣ．ＲｏｓａＣｌａｒｏ",{"$f":"(\"4\")","v":"4"},"DF","吉良　龍翔","キラ　リュウト",5,"男子"]
["横瀬西ＦＣ．ＲｏｓａＣｌａｒｏ_5","横瀬西ＦＣ．ＲｏｓａＣｌａｒｏ",{"$f":"(\"5\")","v":"5"},"FW","吉田　悠馬","ヨシダ　ユウマ",4,"男子"]
["横瀬西ＦＣ．ＲｏｓａＣｌａｒｏ_6","横瀬西ＦＣ．ＲｏｓａＣｌａｒｏ",{"$f":"(\"6\")","v":"6"},"FW","田部　葵空","タナベ　キラ",4,"男子"]
["横瀬西ＦＣ．ＲｏｓａＣｌａｒｏ_7","横瀬西ＦＣ．ＲｏｓａＣｌａｒｏ",{"$f":"(\"7\")","v":"7"},"DF","吉野　峨流","ヨシノ　ガリュウ",5,"男子"]
["横瀬西ＦＣ．ＲｏｓａＣｌａｒｏ_8","横瀬西ＦＣ．ＲｏｓａＣｌａｒｏ",{"$f":"(\"8\")","v":"8"},"DF","後藤　暖翔","ゴトウ　ハルト",5,"男子"]
["横瀬西ＦＣ．ＲｏｓａＣｌａｒｏ_9","横瀬西ＦＣ．ＲｏｓａＣｌａｒｏ",{"$f":"(\"9\")","v":"9"},"MF","小田巻　龍太","オダマキ　リュウタ",6,"男子"]
["横瀬西ＦＣ．ＲｏｓａＣｌａｒｏ_10","横瀬西ＦＣ．ＲｏｓａＣｌａｒｏ",{"$f":"(\"10\")","v":"10"},"MF","西　海輝","ニシ　カイキ",5,"男子"]
["横瀬西ＦＣ．ＲｏｓａＣｌａｒｏ_11","横瀬西ＦＣ．ＲｏｓａＣｌａｒｏ",{"$f":"(\"11\")","v":"11"},"FW","小田巻　獅童","オダマキ　シドウ",4,"男子"]
["横瀬西ＦＣ．ＲｏｓａＣｌａｒｏ_12","横瀬西ＦＣ．ＲｏｓａＣｌａｒｏ",{"$f":"(\"12\")","v":"12"},"MF","松村　夢生","マツムラ　メイ",4,"女子小学生"]
["横瀬西ＦＣ．ＲｏｓａＣｌａｒｏ_13","横瀬西ＦＣ．ＲｏｓａＣｌａｒｏ",{"$f":"(\"13\")","v":"13"},"MF","荻本　琉煌","オギモト　リオン",3,"男子"]
["横瀬西ＦＣ．ＲｏｓａＣｌａｒｏ_14","横瀬西ＦＣ．ＲｏｓａＣｌａｒｏ",{"$f":"(\"14\")","v":"14"},"DF","吉良　緋由莉","キラ　ヒヨリ",4,"女子小学生"]
["横瀬西ＦＣ．ＲｏｓａＣｌａｒｏ_15","横瀬西ＦＣ．ＲｏｓａＣｌａｒｏ",{"$f":"(\"15\")","v":"15"},"GK","白石　匠皇","シライシ　ショウ",5,"男子"]
["横瀬西ＦＣ．ＲｏｓａＣｌａｒｏ_16","横瀬西ＦＣ．ＲｏｓａＣｌａｒｏ",{"$f":"(\"16\")","v":"16"},"FW","後藤　舜太","ゴトウ　シュンタ",3,"男子"]
["カティオーラフットボールクラブ松岡_1","カティオーラフットボールクラブ松岡",{"$f":"(\"1\")","v":"1"},"GK","園　悠来","ソノ　ユウト",6,"男子"]
["カティオーラフットボールクラブ松岡_2","カティオーラフットボールクラブ松岡",{"$f":"(\"2\")","v":"2"},"DF","池部　耀","イケベ　ヨウ",6,"男子"]
["カティオーラフットボールクラブ松岡_3","カティオーラフットボールクラブ松岡",{"$f":"(\"3\")","v":"3"},"DF","小野　拓馬","オノ　タクマ",6,"男子"]
["カティオーラフットボールクラブ松岡_4","カティオーラフットボールクラブ松岡",{"$f":"(\"4\")","v":"4"},"MF","菅　陽翔","スガ　ハルト",5,"男子"]
["カティオーラフットボールクラブ松岡_5","カティオーラフットボールクラブ松岡",{"$f":"(\"5\")","v":"5"},"MF","筒井　遥斗","ツツイ　ハルト",5,"男子"]
["カティオーラフットボールクラブ松岡_6","カティオーラフットボールクラブ松岡",{"$f":"(\"6\")","v":"6"},"FW","藤原　瑠大","フジワラ　リュウタ",5,"男子"]
["カティオーラフットボールクラブ松岡_7","カティオーラフットボールクラブ松岡",{"$f":"(\"7\")","v":"7"},"MF","安部　隼","アベ　ハヤト",6,"男子"]
["カティオーラフットボールクラブ松岡_8","カティオーラフットボールクラブ松岡",{"$f":"(\"8\")","v":"8"},"DF","髙村　悠悟","タカムラ　ユウゴ",6,"男子"]
["カティオーラフットボールクラブ松岡_9","カティオーラフットボールクラブ松岡",{"$f":"(\"9\")","v":"9"},"MF","金森　空良","カナモリ　ソラ",6,"男子"]
["カティオーラフットボールクラブ松岡_10","カティオーラフットボールクラブ松岡",{"$f":"(\"10\")","v":"10"},"DF","藍澤　祐人","アイザワ　ユウト",6,"男子"]
["カティオーラフットボールクラブ松岡_11","カティオーラフットボールクラブ松岡",{"$f":"(\"11\")","v":"11"},"FW","鶴原　大斗","ツルハラ　オト",6,"男子"]
["カティオーラフットボールクラブ松岡_12","カティオーラフットボールクラブ松岡",{"$f":"(\"12\")","v":"12"},"FW","加藤　悠己","カトウ　ハルキ",6,"男子"]
["カティオーラフットボールクラブ松岡_13","カティオーラフットボールクラブ松岡",{"$f":"(\"13\")","v":"13"},"FW","野口　彗翔","ノグチ　ケイト",6,"男子"]
["カティオーラフットボールクラブ松岡_14","カティオーラフットボールクラブ松岡",{"$f":"(\"14\")","v":"14"},"DF","川野　陽翔","カワノ　ハルト",5,"男子"]
["カティオーラフットボールクラブ松岡_15","カティオーラフットボールクラブ松岡",{"$f":"(\"15\")","v":"15"},"DF","後藤　凪海","ゴトウ　ナギ",5,"男子"]
["カティオーラフットボールクラブ松岡_16","カティオーラフットボールクラブ松岡",{"$f":"(\"16\")","v":"16"},"MF","川原　稜央","カワハラ　リオ",5,"男子"]
["ＭＳＳ_1","ＭＳＳ",{"$f":"(\"1\")","v":"1"},"GK","二宮　拓篤","ニノミヤ　タクマ",6,"男子"]
["ＭＳＳ_3","ＭＳＳ",{"$f":"(\"3\")","v":"3"},"DF","田辺　逞登","タナベ　タクト",6,"男子"]
[{"$f":"CONCATENATE(B1544,\"_\",C1544)","v":"ＭＳＳ_4"},"ＭＳＳ",{"$f":"(\"4\")","v":"4"},"DF","南里　仁士","ナンリ　ヒロト",6,"男子"]
["ＭＳＳ_5","ＭＳＳ",{"$f":"(\"5\")","v":"5"},"FW","赤峰　功己","アカミネ　イサミ",6,"男子"]
["ＭＳＳ_6","ＭＳＳ",{"$f":"(\"6\")","v":"6"},"FW","篠田　諭貴久","シノダ　ユキヒサ",6,"男子"]
["ＭＳＳ_7","ＭＳＳ",{"$f":"(\"7\")","v":"7"},"MF","渡邊　丈輝","ワタナベ　トモキ",6,"男子"]
["ＭＳＳ_8","ＭＳＳ",{"$f":"(\"8\")","v":"8"},"MF","高濱　蒼太","タカハマ　ソウタ",6,"男子"]
["ＭＳＳ_9","ＭＳＳ",{"$f":"(\"9\")","v":"9"},"FW","片島　啓太","カタシマ　ケイタ",6,"男子"]
["ＭＳＳ_10","ＭＳＳ",{"$f":"(\"10\")","v":"10"},"FW","中川　天蒼","ナカガワ　ソラ",6,"男子"]
["ＭＳＳ_11","ＭＳＳ",{"$f":"(\"11\")","v":"11"},"MF","山本　一晟","ヤマモト　イッセイ",6,"男子"]
["ＭＳＳ_12","ＭＳＳ",{"$f":"(\"12\")","v":"12"},"MF","中西　俊喜","ナカニシ　トシキ",6,"男子"]
["ＭＳＳ_13","ＭＳＳ",{"$f":"(\"13\")","v":"13"},"MF","吉田　光","ヨシダ　ヒカル",6,"男子"]
["ＭＳＳ_14","ＭＳＳ",{"$f":"(\"14\")","v":"14"},"DF","高野　将大","タカノ　マサヒロ",6,"男子"]
["ＭＳＳ_15","ＭＳＳ",{"$f":"(\"15\")","v":"15"},"MF","石川　遥大","イシカワ　ヨウタ",5,"男子"]
["ＭＳＳ_16","ＭＳＳ",{"$f":"(\"16\")","v":"16"},"GK","幸重　航矢","ユキシゲ　コウヤ",5,"男子"]
["ＭＳＳ_17","ＭＳＳ",{"$f":"(\"17\")","v":"17"},"FW","高松　我空","タカマツ　ガイア",5,"男子"]
["ヴィンクラッソ大分ＦＣジュニア_3","ヴィンクラッソ大分ＦＣジュニア",{"$f":"(\"3\")","v":"3"},"DF","松原　輔久","マツバラ　タスク",5,"男子"]
["ヴィンクラッソ大分ＦＣジュニア_7","ヴィンクラッソ大分ＦＣジュニア",{"$f":"(\"7\")","v":"7"},"MF","宮本　凪","ミヤモト　ナギ",5,"男子"]
["ヴィンクラッソ大分ＦＣジュニア_8","ヴィンクラッソ大分ＦＣジュニア",{"$f":"(\"8\")","v":"8"},"DF","安部　仁太","アベ　ジンタ",6,"男子"]
["ヴィンクラッソ大分ＦＣジュニア_9","ヴィンクラッソ大分ＦＣジュニア",{"$f":"(\"9\")","v":"9"},"FW","本室　碧聖","モトムロ　リクト",4,"男子"]
["ヴィンクラッソ大分ＦＣジュニア_10","ヴィンクラッソ大分ＦＣジュニア",{"$f":"(\"10\")","v":"10"},"FW","野村　琉翔","ノムラ　リュウト",4,"男子"]
["ヴィンクラッソ大分ＦＣジュニア_11","ヴィンクラッソ大分ＦＣジュニア",{"$f":"(\"11\")","v":"11"},"DF","野村　陸翔","ノムラ　リクト",6,"男子"]
["ヴィンクラッソ大分ＦＣジュニア_13","ヴィンクラッソ大分ＦＣジュニア",{"$f":"(\"13\")","v":"13"},"FW","藤田　颯人","フジタ　ハヤト",5,"男子"]
["ヴィンクラッソ大分ＦＣジュニア_16","ヴィンクラッソ大分ＦＣジュニア",{"$f":"(\"16\")","v":"16"},"DF","森崎　陽輝","モリサキ　ハルキ",6,"男子"]
["ヴィンクラッソ大分ＦＣジュニア_17","ヴィンクラッソ大分ＦＣジュニア",{"$f":"(\"17\")","v":"17"},"DF","藤岡　昊之介","フジオカ　コウノスケ",5,"男子"]
["ヴィンクラッソ大分ＦＣジュニア_18","ヴィンクラッソ大分ＦＣジュニア",{"$f":"(\"18\")","v":"18"},"MF","大野　碧斗","オオノ　アオト",5,"男子"]
["ヴィンクラッソ大分ＦＣジュニア_21","ヴィンクラッソ大分ＦＣジュニア",{"$f":"(\"21\")","v":"21"},"GK","野尻　拓弥","ノジリ　タクヤ",6,"男子"]
["ヴィンクラッソ大分ＦＣジュニア_24","ヴィンクラッソ大分ＦＣジュニア",{"$f":"(\"24\")","v":"24"},"FW","宮本　櫂吏","ミヤモト　カイリ",3,"男子"]
["ヴィンクラッソ大分ＦＣジュニア_25","ヴィンクラッソ大分ＦＣジュニア",{"$f":"(\"25\")","v":"25"},"MF","河村　忠起","カワムラ　チュウタツ",5,"男子"]
["ヴィンクラッソ大分ＦＣジュニア_31","ヴィンクラッソ大分ＦＣジュニア",{"$f":"(\"31\")","v":"31"},"FW","小野　華凜","オノ　カリン",6,"女子小学生"]
["豊川サッカークラブ_1","豊川サッカークラブ",{"$f":"(\"1\")","v":"1"},"GK","奥田　哲平","オクダ　テッペイ",6,"男子"]
["豊川サッカークラブ_2","豊川サッカークラブ",{"$f":"(\"2\")","v":"2"},"DF","岩男　陸","イワオ　リク",6,"男子"]
["豊川サッカークラブ_3","豊川サッカークラブ",{"$f":"(\"3\")","v":"3"},"DF","佐野　遥郁","サノ　ハルト",6,"男子"]
["豊川サッカークラブ_4","豊川サッカークラブ",{"$f":"(\"4\")","v":"4"},"FW","岡部　優来","オカベ　ユラ",5,"男子"]
["豊川サッカークラブ_5","豊川サッカークラブ",{"$f":"(\"5\")","v":"5"},"MF","岩男　蘭","イワオ　ラン",3,"女子小学生"]
["豊川サッカークラブ_6","豊川サッカークラブ",{"$f":"(\"6\")","v":"6"},"MF","秋吉　龍也","アキヨシ　リュウヤ",4,"男子"]
["豊川サッカークラブ_8","豊川サッカークラブ",{"$f":"(\"8\")","v":"8"},"FW","石川　輝冴","イシカワ　コウガ",4,"男子"]
["豊川サッカークラブ_9","豊川サッカークラブ",{"$f":"(\"9\")","v":"9"},"MF","庄部　瑛洸","ショウブ　エイコウ",4,"男子"]
["豊川サッカークラブ_10","豊川サッカークラブ",{"$f":"(\"10\")","v":"10"},"MF","庄部　優汰","ショウブ　ユウタ",6,"男子"]
["豊川サッカークラブ_11","豊川サッカークラブ",{"$f":"(\"11\")","v":"11"},"MF","中嶋　海飛","ナカシマ　カイト",4,"男子"]
["豊川サッカークラブ_13","豊川サッカークラブ",{"$f":"(\"13\")","v":"13"},"DF","佐藤　功明","サトウ　コウメイ",5,"男子"]
["リノスフットボールクラブ　Ｕ－１２_10","リノスフットボールクラブ　Ｕ－１２",{"$f":"(\"10\")","v":"10"},"DF","小泉　碧美","コイズミ　アミ",6,"女子小学生"]
["リノスフットボールクラブ　Ｕ－１２_25","リノスフットボールクラブ　Ｕ－１２",{"$f":"(\"25\")","v":"25"},"DF","桃田　偉吹","モモタ　イブキ",4,"男子"]
["リノスフットボールクラブ　Ｕ－１２_30","リノスフットボールクラブ　Ｕ－１２",{"$f":"(\"30\")","v":"30"},"FW","末成　隼","スエナリ　シュン",5,"男子"]
["リノスフットボールクラブ　Ｕ－１２_31","リノスフットボールクラブ　Ｕ－１２",{"$f":"(\"31\")","v":"31"},"FW","大原　瑠斗","オオハラ　リュウト",3,"男子"]
["リノスフットボールクラブ　Ｕ－１２_32","リノスフットボールクラブ　Ｕ－１２",{"$f":"(\"32\")","v":"32"},"DF","森　寛希","モリ　ヒロキ",6,"男子"]
["リノスフットボールクラブ　Ｕ－１２_34","リノスフットボールクラブ　Ｕ－１２",{"$f":"(\"34\")","v":"34"},"DF","山口　優希翔","ヤマグチ　ユキト",5,"男子"]
["リノスフットボールクラブ　Ｕ－１２_38","リノスフットボールクラブ　Ｕ－１２",{"$f":"(\"38\")","v":"38"},"GK","清末　歩夢","キヨスエ　アユム",5,"男子"]
["リノスフットボールクラブ　Ｕ－１２_39","リノスフットボールクラブ　Ｕ－１２",{"$f":"(\"39\")","v":"39"},"MF","松﨑　朱音","マツザキ　アヤネ",5,"女子小学生"]
["リノスフットボールクラブ　Ｕ－１２_40","リノスフットボールクラブ　Ｕ－１２",{"$f":"(\"40\")","v":"40"},"FW","酒井　碧海","サカイ　アオト",5,"男子"]
["リノスフットボールクラブ　Ｕ－１２_42","リノスフットボールクラブ　Ｕ－１２",{"$f":"(\"42\")","v":"42"},"DF","小泉　杏奈","コイズミ　アンナ",3,"女子小学生"]
["リノスフットボールクラブ　Ｕ－１２_43","リノスフットボールクラブ　Ｕ－１２",{"$f":"(\"43\")","v":"43"},"FW","横野　紗羽","ヨコノ　サワ",6,"女子小学生"]
["リノスフットボールクラブ　Ｕ－１２_44","リノスフットボールクラブ　Ｕ－１２",{"$f":"(\"44\")","v":"44"},"FW","上田　龍汰","ウエダ　リュウタ",5,"男子"]
["リノスフットボールクラブ　Ｕ－１２_45","リノスフットボールクラブ　Ｕ－１２",{"$f":"(\"45\")","v":"45"},"MF","山下　和輝","ヤマシタ　カズキ",4,"男子"]
["リノスフットボールクラブ　Ｕ－１２_50","リノスフットボールクラブ　Ｕ－１２",{"$f":"(\"50\")","v":"50"},"DF","菅　晃太朗","カン　コウタロウ",4,"男子"]
["リノスフットボールクラブ　Ｕ－１２_51","リノスフットボールクラブ　Ｕ－１２",{"$f":"(\"51\")","v":"51"},"MF","清末　隆生","キヨスエ　リュウセイ",6,"男子"]
["リノスフットボールクラブ　Ｕ－１２_52","リノスフットボールクラブ　Ｕ－１２",{"$f":"(\"52\")","v":"52"},"MF","都築　正虎","ツヅキ　マサトラ",5,"男子"]
["リノスフットボールクラブ　Ｕ－１２_58","リノスフットボールクラブ　Ｕ－１２",{"$f":"(\"58\")","v":"58"},"DF","赤石　拓翔","アカイシ　タクト",4,"男子"]
["リノスフットボールクラブ　Ｕ－１２_60","リノスフットボールクラブ　Ｕ－１２",{"$f":"(\"60\")","v":"60"},"FW","都築　宗佑","ツヅキ　ソウスケ",4,"男子"]
["朝日ＦＣ_1","朝日ＦＣ",{"$f":"(\"1\")","v":"1"},"GK","長尾　碧騎","ナガオ　タマキ",6,"男子"]
["朝日ＦＣ_3","朝日ＦＣ",{"$f":"(\"3\")","v":"3"},"MF","小岩　柊大","コイワ　シュウダイ",5,"男子"]
["朝日ＦＣ_4","朝日ＦＣ",{"$f":"(\"4\")","v":"4"},"FW","北林　佑心","キタバヤシ　ユウシン",5,"男子"]
["朝日ＦＣ_5","朝日ＦＣ",{"$f":"(\"5\")","v":"5"},"MF","佐藤　洸俊","サトウ　ヒロト",6,"男子"]
["朝日ＦＣ_6","朝日ＦＣ",{"$f":"(\"6\")","v":"6"},"FW","吉水　遥大","ヨシミズ　ハルト",6,"男子"]
["朝日ＦＣ_7","朝日ＦＣ",{"$f":"(\"7\")","v":"7"},"MF","大野　翔太","オオノ　ショウタ",6,"男子"]
["朝日ＦＣ_8","朝日ＦＣ",{"$f":"(\"8\")","v":"8"},"MF","平野　温大","ヒラノ　ハルト",6,"男子"]
[{"$f":"CONCATENATE(B1608,\"_\",C1608)","v":"朝日ＦＣ_9"},"朝日ＦＣ",{"$f":"(\"9\")","v":"9"},"MF","窪　蒼太","クボ　ソウタ",6,"男子"]
["朝日ＦＣ_10","朝日ＦＣ",{"$f":"(\"10\")","v":"10"},"DF","鈴木　大陽","スズキ　タイヨウ",6,"男子"]
["朝日ＦＣ_11","朝日ＦＣ",{"$f":"(\"11\")","v":"11"},"MF","加藤　恭悟","カトウ　キョウゴ",6,"男子"]
["朝日ＦＣ_12","朝日ＦＣ",{"$f":"(\"12\")","v":"12"},"DF","清水　陽","シミズ　ハル",6,"男子"]
["朝日ＦＣ_13","朝日ＦＣ",{"$f":"(\"13\")","v":"13"},"MF","小犬丸　響","コイヌマル　ヒビキ",5,"男子"]
["朝日ＦＣ_15","朝日ＦＣ",{"$f":"(\"15\")","v":"15"},"DF","古屋　涼佑","コヤ　リョウスケ",6,"男子"]
["スマイス　セレソン　スポーツクラブ_1","スマイス　セレソン　スポーツクラブ",{"$f":"(\"1\")","v":"1"},"GK","寺田　健太郎","テラダ　ケンタロウ",6,"男子"]
["スマイス　セレソン　スポーツクラブ_2","スマイス　セレソン　スポーツクラブ",{"$f":"(\"2\")","v":"2"},"DF","重光　淳乃介","シゲミツ　ジュンノスケ",6,"男子"]
["スマイス　セレソン　スポーツクラブ_3","スマイス　セレソン　スポーツクラブ",{"$f":"(\"3\")","v":"3"},"DF","木付　晴翔","キツキ　ハルト",6,"男子"]
["スマイス　セレソン　スポーツクラブ_4","スマイス　セレソン　スポーツクラブ",{"$f":"(\"4\")","v":"4"},"MF","小林　奏翔","コバヤシ　カナト",6,"男子"]
["スマイス　セレソン　スポーツクラブ_5","スマイス　セレソン　スポーツクラブ",{"$f":"(\"5\")","v":"5"},"MF","飯田　規介","イイダ　キスケ",6,"男子"]
["スマイス　セレソン　スポーツクラブ_6","スマイス　セレソン　スポーツクラブ",{"$f":"(\"6\")","v":"6"},"DF","由利　倖大","ユリ　コウダイ",6,"男子"]
["スマイス　セレソン　スポーツクラブ_7","スマイス　セレソン　スポーツクラブ",{"$f":"(\"7\")","v":"7"},"FW","甲斐　亮佑","カイ　リョウスケ",6,"男子"]
["スマイス　セレソン　スポーツクラブ_8","スマイス　セレソン　スポーツクラブ",{"$f":"(\"8\")","v":"8"},"MF","稲葉　巧真","イナバ　タクマ",6,"男子"]
["スマイス　セレソン　スポーツクラブ_9","スマイス　セレソン　スポーツクラブ",{"$f":"(\"9\")","v":"9"},"FW","福島　瞳也","フクシマ　トウヤ",6,"男子"]
["スマイス　セレソン　スポーツクラブ_10","スマイス　セレソン　スポーツクラブ",{"$f":"(\"10\")","v":"10"},"MF","板井　駿汰","イタイ　シュンタ",6,"男子"]
["スマイス　セレソン　スポーツクラブ_11","スマイス　セレソン　スポーツクラブ",{"$f":"(\"11\")","v":"11"},"FW","河野　倫樹","カワノ　トモキ",6,"男子"]
["スマイス　セレソン　スポーツクラブ_12","スマイス　セレソン　スポーツクラブ",{"$f":"(\"12\")","v":"12"},"MF","田嶋　勇征","タシマ　ユウセイ",6,"男子"]
["スマイス　セレソン　スポーツクラブ_13","スマイス　セレソン　スポーツクラブ",{"$f":"(\"13\")","v":"13"},"FW","青木　隼磨","アオキ　ハユマ",6,"男子"]
["スマイス　セレソン　スポーツクラブ_14","スマイス　セレソン　スポーツクラブ",{"$f":"(\"14\")","v":"14"},"DF","生野　想羅","ショウノ　ソラ",6,"男子"]
["スマイス　セレソン　スポーツクラブ_15","スマイス　セレソン　スポーツクラブ",{"$f":"(\"15\")","v":"15"},"FW","井手　雅斗","イデ　マサト",6,"男子"]
["スマイス　セレソン　スポーツクラブ_16","スマイス　セレソン　スポーツクラブ",{"$f":"(\"16\")","v":"16"},"GK","日下部　悠大","クサカベ　ユウタ",5,"男子"]
["スマイス　セレソン　スポーツクラブ_17","スマイス　セレソン　スポーツクラブ",{"$f":"(\"17\")","v":"17"},"DF","高橋　俊晴","タカハシ　シュンセイ",6,"男子"]
["スマイス　セレソン　スポーツクラブ_18","スマイス　セレソン　スポーツクラブ",{"$f":"(\"18\")","v":"18"},"FW","小林　風翔","コバヤシ　フウト",4,"男子"]
["ＦＣ　ＪＵＮＩＯＲＳ_1","ＦＣ　ＪＵＮＩＯＲＳ",{"$f":"(\"1\")","v":"1"},"GK","尾造　刻土","オゾウ　コクト",4,"男子"]
["ＦＣ　ＪＵＮＩＯＲＳ_2","ＦＣ　ＪＵＮＩＯＲＳ",{"$f":"(\"2\")","v":"2"},"DF","次郎丸　新大","ジロウマル　アラタ",5,"男子"]
["ＦＣ　ＪＵＮＩＯＲＳ_4","ＦＣ　ＪＵＮＩＯＲＳ",{"$f":"(\"4\")","v":"4"},"DF","中山　心","ナカヤマ　シン",5,"男子"]
["ＦＣ　ＪＵＮＩＯＲＳ_5","ＦＣ　ＪＵＮＩＯＲＳ",{"$f":"(\"5\")","v":"5"},"DF","花崎　太智","ハナサキ　タイチ",6,"男子"]
["ＦＣ　ＪＵＮＩＯＲＳ_7","ＦＣ　ＪＵＮＩＯＲＳ",{"$f":"(\"7\")","v":"7"},"MF","平原　泰地","ヒラバル　タイチ",5,"男子"]
["ＦＣ　ＪＵＮＩＯＲＳ_8","ＦＣ　ＪＵＮＩＯＲＳ",{"$f":"(\"8\")","v":"8"},"MF","原口　輝星","ハラグチ　コウセイ",6,"男子"]
["ＦＣ　ＪＵＮＩＯＲＳ_9","ＦＣ　ＪＵＮＩＯＲＳ",{"$f":"(\"9\")","v":"9"},"DF","大内　隆之介","オオウチ　リュウノスケ",5,"男子"]
["ＦＣ　ＪＵＮＩＯＲＳ_10","ＦＣ　ＪＵＮＩＯＲＳ",{"$f":"(\"10\")","v":"10"},"FW","浦本　心溫","ウラモト　シオン",6,"男子"]
["ＦＣ　ＪＵＮＩＯＲＳ_11","ＦＣ　ＪＵＮＩＯＲＳ",{"$f":"(\"11\")","v":"11"},"FW","中嶋　羚也","ナカシマ　レイヤ",6,"男子"]
["ＦＣ　ＪＵＮＩＯＲＳ_13","ＦＣ　ＪＵＮＩＯＲＳ",{"$f":"(\"13\")","v":"13"},"MF","森　大翔","モリ　ダイト",4,"男子"]
["ＦＣ　ＪＵＮＩＯＲＳ_14","ＦＣ　ＪＵＮＩＯＲＳ",{"$f":"(\"14\")","v":"14"},"MF","渡邊　銀士","ワタナベ　ギンジ",5,"男子"]
["ＦＣ　ＪＵＮＩＯＲＳ_17","ＦＣ　ＪＵＮＩＯＲＳ",{"$f":"(\"17\")","v":"17"},"DF","古原　大夢","コハラ　ダイヤ",4,"男子"]
["ＦＣ中津ジュニア_1","ＦＣ中津ジュニア",{"$f":"(\"1\")","v":"1"},"GK","松田　悠吾","マツダ　ユウゴ",5,"男子"]
["ＦＣ中津ジュニア_2","ＦＣ中津ジュニア",{"$f":"(\"2\")","v":"2"},"DF","東　拓海","ヒガシ　タクミ",6,"男子"]
["ＦＣ中津ジュニア_3","ＦＣ中津ジュニア",{"$f":"(\"3\")","v":"3"},"MF","藤冨　琥士馬","フジトミ　トオマ",6,"男子"]
["ＦＣ中津ジュニア_4","ＦＣ中津ジュニア",{"$f":"(\"4\")","v":"4"},"DF","上川　隆偉","カミカワ　リュウイ",5,"男子"]
["ＦＣ中津ジュニア_5","ＦＣ中津ジュニア",{"$f":"(\"5\")","v":"5"},"MF","橋本　力斗","ハシモト　リキト",6,"男子"]
["ＦＣ中津ジュニア_6","ＦＣ中津ジュニア",{"$f":"(\"6\")","v":"6"},"MF","黒川　蓮","クロカワ　レン",5,"男子"]
["ＦＣ中津ジュニア_7","ＦＣ中津ジュニア",{"$f":"(\"7\")","v":"7"},"MF","壇　直助","ダン　ナオスケ",6,"男子"]
["ＦＣ中津ジュニア_8","ＦＣ中津ジュニア",{"$f":"(\"8\")","v":"8"},"MF","高松　篤斗","タカマツ　アツト",5,"男子"]
["ＦＣ中津ジュニア_9","ＦＣ中津ジュニア",{"$f":"(\"9\")","v":"9"},"MF","植村　銀","ウエムラ　ギン",5,"男子"]
["ＦＣ中津ジュニア_10","ＦＣ中津ジュニア",{"$f":"(\"10\")","v":"10"},"FW","梅津　爽蒼","ウメヅ　ソラ",6,"男子"]
["ＦＣ中津ジュニア_11","ＦＣ中津ジュニア",{"$f":"(\"11\")","v":"11"},"FW","吉田　春輝","ヨシダ　ハルキ",5,"男子"]
["ＦＣ中津ジュニア_12","ＦＣ中津ジュニア",{"$f":"(\"12\")","v":"12"},"GK","吉良　翼","キラ　タスク",4,"男子"]
["ＦＣ中津ジュニア_13","ＦＣ中津ジュニア",{"$f":"(\"13\")","v":"13"},"MF","東　蒼太","ヒガシ　ソウタ",4,"男子"]
["ＦＣ中津ジュニア_14","ＦＣ中津ジュニア",{"$f":"(\"14\")","v":"14"},"MF","小幡　愛翔","オバタ　アイト",4,"男子"]
["ＦＣ中津ジュニア_15","ＦＣ中津ジュニア",{"$f":"(\"15\")","v":"15"},"MF","園　将翔","ソノ　マサト",4,"男子"]
["ＦＣ中津ジュニア_16","ＦＣ中津ジュニア",{"$f":"(\"16\")","v":"16"},"DF","矢治　晴朗","ヤジ　セイア",4,"男子"]
["ＦＣリーベル_1","ＦＣリーベル",{"$f":"(\"1\")","v":"1"},"GK","島川　克己","シマカワ　カツキ",6,"男子"]
["ＦＣリーベル_2","ＦＣリーベル",{"$f":"(\"2\")","v":"2"},"MF","久保　伊織","クボ　イオリ",6,"男子"]
["ＦＣリーベル_3","ＦＣリーベル",{"$f":"(\"3\")","v":"3"},"DF","山田　恵生","ヤマダ　ケイセイ",4,"男子"]
["ＦＣリーベル_4","ＦＣリーベル",{"$f":"(\"4\")","v":"4"},"DF","徳永　叶穏","トクナガ　カノン",6,"女子小学生"]
["ＦＣリーベル_5","ＦＣリーベル",{"$f":"(\"5\")","v":"5"},"DF","松成　海翔","マツナリ　カイト",6,"男子"]
["ＦＣリーベル_6","ＦＣリーベル",{"$f":"(\"6\")","v":"6"},"MF","前田　優芽","マエダ　ユメ",6,"女子小学生"]
["ＦＣリーベル_7","ＦＣリーベル",{"$f":"(\"7\")","v":"7"},"DF","宮﨑　歩","ミヤザキ　アユム",6,"男子"]
["ＦＣリーベル_8","ＦＣリーベル",{"$f":"(\"8\")","v":"8"},"MF","仙道　涼太","センドウ　リョウタ",4,"男子"]
["ＦＣリーベル_9","ＦＣリーベル",{"$f":"(\"9\")","v":"9"},"FW","三股　歩夢","ミマタ　アユム",5,"女子小学生"]
["ＦＣリーベル_10","ＦＣリーベル",{"$f":"(\"10\")","v":"10"},"MF","田中　琉偉","タナカ　ルイ",6,"男子"]
["ＦＣリーベル_11","ＦＣリーベル",{"$f":"(\"11\")","v":"11"},"FW","小野　咲空斗","オノ　キラト",6,"男子"]
["ＦＣリーベル_12","ＦＣリーベル",{"$f":"(\"12\")","v":"12"},"FW","岩丸　航大","イワマル　コウタ",5,"男子"]
[{"$f":"CONCATENATE(B1672,\"_\",C1672)","v":"ＦＣリーベル_13"},"ＦＣリーベル",{"$f":"(\"13\")","v":"13"},"FW","平野　蓮斗","ヒラノ　レント",4,"男子"]
["ＦＣリーベル_14","ＦＣリーベル",{"$f":"(\"14\")","v":"14"},"FW","三股　虎聖","ミマタ　コウセイ",3,"男子"]
["ＦＣリーベル_15","ＦＣリーベル",{"$f":"(\"15\")","v":"15"},"MF","入沢　真生","イリサワ　マオ",4,"男子"]
["ＦＣリーベル_16","ＦＣリーベル",{"$f":"(\"16\")","v":"16"},"MF","羽田野　京介","ハダノ　キョウスケ",5,"男子"]
["如水ジュニアサッカークラブ_1","如水ジュニアサッカークラブ",{"$f":"(\"1\")","v":"1"},"GK","一木　海来","イチギ　カイラ",5,"男子"]
["如水ジュニアサッカークラブ_2","如水ジュニアサッカークラブ",{"$f":"(\"2\")","v":"2"},"DF","河津　天翔","カワヅ　タカト",4,"男子"]
["如水ジュニアサッカークラブ_3","如水ジュニアサッカークラブ",{"$f":"(\"3\")","v":"3"},"DF","田脇　佑真","タワキ　ユウマ",4,"男子"]
["如水ジュニアサッカークラブ_4","如水ジュニアサッカークラブ",{"$f":"(\"4\")","v":"4"},"DF","平　隆綺","タイラ　リュウキ",4,"男子"]
["如水ジュニアサッカークラブ_5","如水ジュニアサッカークラブ",{"$f":"(\"5\")","v":"5"},"DF","友松　駿斗","トモマツ　シュント",5,"男子"]
["如水ジュニアサッカークラブ_6","如水ジュニアサッカークラブ",{"$f":"(\"6\")","v":"6"},"FW","有川　莉巧","アリカワ　リク",4,"男子"]
["如水ジュニアサッカークラブ_7","如水ジュニアサッカークラブ",{"$f":"(\"7\")","v":"7"},"MF","山本　龍磨","ヤマモト　タツマ",5,"男子"]
["如水ジュニアサッカークラブ_8","如水ジュニアサッカークラブ",{"$f":"(\"8\")","v":"8"},"DF","櫻本　昂己","サクラモト　コウキ",5,"男子"]
["如水ジュニアサッカークラブ_9","如水ジュニアサッカークラブ",{"$f":"(\"9\")","v":"9"},"FW","石川　太雅","イシカワ　タイガ",5,"男子"]
["如水ジュニアサッカークラブ_10","如水ジュニアサッカークラブ",{"$f":"(\"10\")","v":"10"},"DF","平川　大和","ヒラカワ　ヤマト",5,"男子"]
["如水ジュニアサッカークラブ_11","如水ジュニアサッカークラブ",{"$f":"(\"11\")","v":"11"},"MF","小畑　翔騎","オバタ　ショウキ",5,"男子"]
["如水ジュニアサッカークラブ_12","如水ジュニアサッカークラブ",{"$f":"(\"12\")","v":"12"},"GK","中村　海渡","ナカムラ　カイト",4,"男子"]
["如水ジュニアサッカークラブ_13","如水ジュニアサッカークラブ",{"$f":"(\"13\")","v":"13"},"DF","一木　玲来","イチギ　レイラ",4,"女子小学生"]
["如水ジュニアサッカークラブ_14","如水ジュニアサッカークラブ",{"$f":"(\"14\")","v":"14"},"DF","北村　優","キタムラ　ヒロ",3,"男子"]
["如水ジュニアサッカークラブ_15","如水ジュニアサッカークラブ",{"$f":"(\"15\")","v":"15"},"FW","木城　來覇","キシロ　ライハ",3,"男子"]
["如水ジュニアサッカークラブ_16","如水ジュニアサッカークラブ",{"$f":"(\"16\")","v":"16"},"FW","黒土　挨吾","クロツチ　アイゴ",3,"男子"]
["如水ジュニアサッカークラブ_18","如水ジュニアサッカークラブ",{"$f":"(\"18\")","v":"18"},"MF","屋敷　健将","ヤシキ　ケンショウ",3,"男子"]

{"sheet":"審判員","index":20,"n_rows":2809,"n_cols":9,"rows_kept":2809,"cut":false,"hidden":true,"merged":[]}
["審判登録番号","氏名","資格","所属協会","第二登録協会",null,"選択肢より",null,"＜警告選択肢＞"]
["R001262704","緒方　孝浩",1,"福岡県","大分県",null,"警告",null,"反スポ"]
["R010209402","三浦　龍一",3,"福岡県","大分県",null,"退場",null,"ラフ"]
["R010315949","溝口　介",4,"福岡県","大分県",null,"警告→退場",null,"異議"]
["R010413186","吉田　靖明",4,"福岡県","大分県",null,null,null,"繰り返し"]
["R010247516","草場　帆斗",3,"長崎県","大分県",null,null,null,"遅延"]
["R001251601","佐々木　慎哉",1,"大分県",null,null,null,null,"距離"]
["R001265145","秋元　昭一",2,"大分県",null,null,null,null,"無断入"]
["R000879756","足達　実生",2,"大分県",null,null,null,null,"無断去"]
["R001253502","安藤　博幸",2,"大分県",null,null,null,null,"＜退場選択肢＞"]
["R006221377","池添　将大",2,"大分県",null,null,null,null,"不正"]
["R001262333","諌本　秀樹",2,"大分県",null,null,null,null,"乱暴"]
["R001254060","井上　大知",2,"大分県",null,null,null,null,"つば"]
["R001265172","岩尾　雅広",2,"大分県",null,null,null,null,"阻止(手)"]
["R001262546","岩崎　浩也",2,"大分県",null,null,null,null,"阻止(他)"]
["R001265190","宇野　耕二",2,"大分県",null,null,null,null,"暴言"]
["R001265224","大塚　浩司",2,"大分県",null,null,null,null,"警告2"]
["R001265233","大野　髙洋",2,"大分県"]
["R009212325","戒田　直樹",2,"大分県"]
["R001262971","木下　富喜",2,"大分県"]
["R001262999","木原　一心",2,"大分県"]
["R005528255","黒田　大貴",2,"大分県"]
["R001265349","小出　康博",2,"大分県"]
["R001265376","後藤　樹明",2,"大分県"]
["R000876616","後藤　晋平",2,"大分県"]
["R001265367","後藤　啓之",2,"大分県"]
["R001256943","笹原　年浩",2,"大分県"]
["R003255841","塩月　勇輝",2,"大分県"]
["R001265385","須藤　健二",2,"大分県"]
["R001257818","関　太啓",2,"大分県"]
["R006221465","曽我　拓実",2,"大分県"]
["R010052667","高木　翔",2,"大分県"]
["R001257924","高木　哲也",2,"大分県"]
["R000892429","田中　博",2,"大分県"]
["R001265428","坪井　和幸",2,"大分県"]
["R001265437","寺林　豊",2,"大分県"]
["R008254236","時髙　美紅",2,"大分県","福岡県"]
["R001265455","中井　賢太郎",2,"大分県"]
["R010250271","中尾　亜夢",2,"大分県"]
["R006151032","中尾　優志",2,"大分県"]
["R003317390","中園　健太郎",2,"大分県"]
["R004162335","中原　元希",2,"大分県"]
["R001265464","仲摩　則孝",2,"大分県"]
["R001265358","西田　亜矢",2,"大分県"]
["R010167733","原　大貴",2,"大分県"]
["R001265473","引地　弘幸",2,"大分県"]
["R001260140","福田　人志",2,"大分県"]
["R001265534","前山　精治",2,"大分県"]
["R001260593","増永　伸也",2,"大分県"]
["R001265552","松原　マヤ",2,"大分県"]
["R002331010","丸小野　聡暢",2,"大分県"]
["R004793649","水江　真太郎",2,"大分県"]
["R001264632","湊　弘智",2,"大分県"]
["R006093817","幸　壮一郎",2,"大分県"]
["R001262023","和田　敬生",2,"大分県"]
["R007728956","秋鹿　栄",3,"大分県"]
["R010093470","合澤　慎太郎",3,"大分県"]
["R010093434","赤嶺　将太",3,"大分県"]
["R001264881","赤山　千晶",3,"大分県"]
["R001253007","秋元　貴生",3,"大分県"]
["R001253025","秋吉　明",3,"大分県"]
["R010382663","秋吉　崇志",3,"大分県"]
["R010382666","秋吉　徹男",3,"大分県"]
["R007960093","浅井　佑太",3,"大分県"]
["R010169055","朝来野　勇志",3,"大分県"]
["R007728424","浅田　雄太",3,"大分県"]
["R003972391","朝比奈　義行",3,"大分県"]
["R003317336","朝吹　崇宏",3,"大分県"]
["R006933694","東　紘造",3,"大分県"]
["R001253159","麻生　勝稔",3,"大分県"]
["R001265154","足立　英二",3,"大分県"]
["R001253557","安達　信也",3,"大分県"]
["R001253195","足立　淳",3,"大分県"]
["R010069871","足立　卓也",3,"大分県"]
["R009198423","足立　光",3,"大分県"]
["R010189040","阿地　孝",3,"大分県"]
["R010313745","穴井　大地",3,"大分県"]
["R010044664","穴井　裕大",3,"大分県"]
["R001262184","安部　一徳",3,"大分県"]
["R006573784","安倍　和広",3,"大分県"]
["R009460436","安部　隆行",3,"大分県"]
["R010189323","安部　孝之",3,"大分県"]
["R007959103","安倍　達也",3,"大分県"]
["R001262209","阿部　浩之",3,"大分県"]
["R010281814","安部　正信",3,"大分県"]
["R005336098","荒木　宗明",3,"大分県"]
["R004225713","有田　裕哉",3,"大分県"]
["R010189314","有村　惇志",3,"大分県"]
["R001251036","有村　季幸",3,"大分県"]
["R001262236","有吉　剛",3,"大分県"]
["R008634229","安藤　昭徳",3,"大分県"]
["R007003033","安藤　和洋",3,"大分県"]
["R001253496","安東　信二",3,"大分県"]
["R010013254","安藤　暢",3,"大分県"]
["R010064829","安藤　英明",3,"大分県"]
["R001253548","安藤　洋樹",3,"大分県"]
["R001262254","安東　幹雄",3,"大分県"]
["R009547124","安藤　洋一",3,"大分県"]
["R007960084","安部　武志",3,"大分県"]
["R001262290","池江　浩一郎",3,"大分県"]
["R010306442","池田　達哉",3,"大分県"]
["R002384216","池田　浩",3,"大分県"]
["R010093456","池邉　賢一",3,"大分県"]
["R001262324","池辺　俊明",3,"大分県"]
["R010301990","池本　岬",3,"大分県"]
["R009408904","石井　洋平",3,"大分県"]
["R001262360","石川　幸二",3,"大分県"]
["R001262379","石川　慎也",3,"大分県"]
["R010027832","石川　裕明",3,"大分県"]
["R004060329","石松　卓哉",3,"大分県"]
["R001262397","石丸　泰幸",3,"大分県"]
["R007753129","石本　直也",3,"大分県"]
["R010189276","石本　侑己",3,"大分県"]
["R001262403","石山　慎史",3,"大分県"]
["R003421338","五十川　文明",3,"大分県"]
["R005467918","磯村　信一",3,"大分県"]
["R008536972","板井　晋一",3,"大分県"]
["R010281826","板井　崇晃",3,"大分県"]
["R006093835","板井　龍法",3,"大分県"]
["R006151041","板倉　瑛希",3,"大分県"]
["R007686234","市田　翔太",3,"大分県"]
["R002384191","居塚　繁",3,"大分県"]
["R002531522","伊藤　宏充",3,"大分県"]
["R001262458","伊東　雅弘",3,"大分県"]
["R008634478","伊藤　勇士",3,"大分県"]
["R006173919","井上　健次郎",3,"大分県"]
["R010281875","井上　颯太",3,"大分県"]
["R001254051","井上　直樹",3,"大分県"]
["R001869093","井上　秀文",3,"大分県"]
["R006574172","猪下　侑恭",3,"大分県"]
["R001262494","井堀　貴康",3,"大分県"]
["R001262500","今井　克人",3,"大分県"]
["R003677104","今宮　俊一",3,"大分県"]
["R010090347","岩男　行祐",3,"大分県"]
["R005603820","岩尾　潤一郎",3,"大分県"]
["R010096810","岩尾　瑞貴",3,"大分県"]
["R006664758","岩男　雄一郎",3,"大分県"]
["R001254176","岩坂　康範",3,"大分県"]
["R004778507","岩崎　彰範",3,"大分県"]
["R010100667","岩波　豊治",3,"大分県"]
["R007335297","岩丸　海斗",3,"大分県"]
["R001262573","上尾　泰裕",3,"大分県"]
["R004055390","植木　邦彦",3,"大分県"]
["R001254282","上田　大吾",3,"大分県"]
["R001262582","上田　輝彦",3,"大分県"]
["R010169040","上本　慎一郎",3,"大分県"]
["R009408773","植山　功喜",3,"大分県"]
["R010189280","魚住　健人",3,"大分県"]
["R007003431","宇髙　篤史",3,"大分県"]
["R003421231","内丸　貴裕",3,"大分県"]
["R010396521","内山　隆寛",3,"大分県"]
["R010093443","内山田　光史",3,"大分県"]
["R001262874","宇都宮　潤也",3,"大分県"]
["R005527609","宇都宮　貴之",3,"大分県"]
["R010193702","梅田　高志",3,"大分県"]
["R010189311","梅徳　里一",3,"大分県"]
["R010100691","浦本　雅志",3,"大分県"]
["R003421161","永路　尚道",3,"大分県"]
["R010076621","江上　和希",3,"大分県"]
["R005603361","江口　晃平",3,"大分県"]
["R010281880","江口　大介",3,"大分県"]
["R002530064","江崎　康平",3,"大分県"]
["R001254538","江藤　修",3,"大分県"]
["R005603866","衛藤　圭典",3,"大分県"]
["R001254510","衛藤　兼一",3,"大分県"]
["R001262607","衛藤　俊明",3,"大分県"]
["R001254477","江藤　雅章",3,"大分県"]
["R009197619","恵美　圭介",3,"大分県"]
["R002384580","江良　信司",3,"大分県"]
["R001262625","大久保　邦彦",3,"大分県"]
["R008377616","大久保　稔生",3,"大分県"]
["R003421912","大久保　正明",3,"大分県"]
["R006093738","大谷　伸二",3,"大分県"]
["R001254714","大塚　浩介",3,"大分県"]
["R005528121","大塚　勇司",3,"大分県"]
["R008174019","大塚　良輝",3,"大分県"]
["R003351109","大津留　健太",3,"大分県"]
["R003317080","大津留　聖太",3,"大分県"]
["R010281884","大戸　聡平",3,"大分県"]
["R001262670","大渡　年春",3,"大分県"]
["R007686261","大友　拓郎",3,"大分県"]
["R003421222","大野　盛通",3,"大分県"]
["R008523330","大場　剛",3,"大分県"]
["R010093494","大本　敏行",3,"大分県"]
["R007660573","岡　智史",3,"大分県"]
["R010313747","岡崎　俊介",3,"大分県"]
["R006901613","岡部　明男",3,"大分県"]
["R001254875","岡部　司",3,"大分県"]
["R007959088","岡本　遼",3,"大分県"]
["R001262698","緒方　崇",3,"大分県"]
["R007075261","小川　翔太",3,"大分県"]
["R006573979","小川　雅和",3,"大分県"]
["R009460515","奥田　和彦",3,"大分県"]
["R010100676","奥村　浩勝",3,"大分県"]
["R003972355","小倉　正広",3,"大分県"]
["R001262731","長田　敏明",3,"大分県"]
["R010189320","尾崎　勇",3,"大分県"]
["R010099453","小関　啓太郎",3,"大分県"]
["R007960109","小田　将大",3,"大分県"]
["R006901589","小田原　蓮",3,"大分県"]
["R010311884","越智　龍平",3,"大分県"]
["R002996695","乙部　哲也",3,"大分県"]
["R007959954","オトメ　仁孝",3,"大分県"]
["R002917661","小野　晃央",3,"大分県"]
["R001262768","小野　和生",3,"大分県"]
["R001255184","小野　聡",3,"大分県"]
["R005603608","小野　智史",3,"大分県"]
["R001255193","小野　修太郎",3,"大分県"]
["R001262759","小野　俊二郎",3,"大分県"]
["R001255139","小野　慎一",3,"大分県"]
["R010255178","小野　智弘",3,"大分県"]
["R005604005","小野　裕二",3,"大分県"]
["R001262786","小野　幸登",3,"大分県"]
["R010390125","小野　友美子",3,"大分県"]
["R001262777","小野　亮一",3,"大分県"]
["R002996659","小畑　郁夫",3,"大分県"]
["R005164303","小幡　栄治",3,"大分県"]
["R000466941","小畑　克則",3,"大分県"]
["R002530125","小畑　広大",3,"大分県"]
["R008173700","甲斐　剛樹",3,"大分県"]
["R001265260","甲斐　正三",3,"大分県"]
["R003258501","甲斐　真号",3,"大分県"]
["R000892818","甲斐　睦記",3,"大分県"]
["R004794055","笠置　貴路",3,"大分県"]
["R001262829","笠置　忠照",3,"大分県"]
["R003255771","笠野　わかこ",3,"大分県"]
["R004793542","梶川　和志",3,"大分県"]
["R006574154","梶原　公",3,"大分県"]
["R004055585","梶原　賢士",3,"大分県"]
["R009198511","梶原　幸平",3,"大分県"]
["R001262838","梶原　誠司",3,"大分県"]
["R010099455","糟谷　浩志",3,"大分県"]
["R004714642","加藤　敦士",3,"大分県"]
["R007959608","加藤　恭介",3,"大分県"]
["R010189342","加藤　拓己",3,"大分県"]
["R009197929","加藤　泰広",3,"大分県"]
["R010261482","金子　翔",3,"大分県"]
["R010376294","株根　聖太",3,"大分県"]
["R009624779","株根　蒼太",3,"大分県"]
["R001262883","神川　基",3,"大分県"]
["R002996668","上西　亮次",3,"大分県"]
["R010120143","萱嶌　修平",3,"大分県"]
["R001255616","川井　勇介",3,"大分県"]
["R007959963","川内　智弘",3,"大分県"]
["R010070659","川浦　光晨",3,"大分県"]
["R006220952","川﨑　浩司",3,"大分県"]
["R002917430","河津　裕徳",3,"大分県"]
["R005103418","河野　貴裕",3,"大分県"]
["R001255740","川野　剛",3,"大分県"]
["R001255713","河野　英樹",3,"大分県"]
["R001262935","河野　裕明",3,"大分県"]
["R010281800","河野　光喜",3,"大分県"]
["R006094001","河野　祐司",3,"大分県"]
["R001255722","河野　隆次",3,"大分県"]
["R010214623","川畑　拓人",3,"大分県"]
["R010093459","川辺　祐介",3,"大分県"]
["R003351145","川村　啓一郎",3,"大分県"]
["R001255935","川村　正樹",3,"大分県"]
["R004112020","川元　翔",3,"大分県"]
["R003256053","菊地　謙一",3,"大分県"]
["R007890271","菊地　玄",3,"大分県"]
["R010255152","菊池　芳郎",3,"大分県"]
["R010376296","木島　悠",3,"大分県"]
["R007959583","吉川　一馬",3,"大分県"]
["R010074021","木津　洋孝",3,"大分県"]
["R007003468","木本　翔平",3,"大分県"]
["R001256129","木本　信之",3,"大分県"]
["R001256138","木本　将斗",3,"大分県"]
["R001251504","清原　雄太",3,"大分県"]
["R007003486","清松　隆浩",3,"大分県"]
["R001263022","吉良　和明",3,"大分県"]
["R001263031","吉良　信輝",3,"大分県"]
["R001263040","吉良　光峰",3,"大分県"]
["R001263068","切封　智和",3,"大分県"]
["R001263077","草野　学",3,"大分県"]
["R010247785","楠本　未沙都",3,"大分県"]
["R001263129","工藤　慎一",3,"大分県"]
["R003258413","工藤　隆貴",3,"大分県"]
["R001265312","工藤　高信",3,"大分県"]
["R010189301","工藤　拓海",3,"大分県"]
["R001263086","工藤　信弘",3,"大分県"]
["R003351251","工藤　暢裕",3,"大分県"]
["R007002982","工藤　政野",3,"大分県"]
["R001263110","工藤　康博",3,"大分県"]
["R008798262","工藤　龍成",3,"大分県"]
["R003677131","久保　雅敬",3,"大分県"]
["R001256305","久保田　英樹",3,"大分県"]
["R010259420","窪田　雅一",3,"大分県"]
["R001256314","久保山　守",3,"大分県"]
["R010120185","熊谷　薫",3,"大分県"]
["R001263165","熊谷　浩之",3,"大分県"]
["R007334890","熊谷　勇哉",3,"大分県"]
["R010193706","倉光　勇弥",3,"大分県"]
["R010074028","栗井　勝",3,"大分県"]
["R002037275","栗牧　翔一",3,"大分県"]
["R001263183","桑原　栄二郎",3,"大分県"]
["R008634487","桑原　将吾",3,"大分県"]
["R001256402","小石川　悟",3,"大分県"]
["R001263192","小出　和明",3,"大分県"]
["R007003228","河野　晋也",3,"大分県"]
["R006220387","河野　翼",3,"大分県"]
["R010376271","古賀　嵐士",3,"大分県"]
["R001263235","小嶋　亮",3,"大分県"]
["R009546073","小玉　篤史",3,"大分県"]
["R009198502","児玉　祥吾",3,"大分県"]
["R005405255","小手川　朋輝",3,"大分県"]
["R010080887","古西　譲司",3,"大分県"]
["R007728673","小林　亮介",3,"大分県"]
["R005987209","小堀　良祐",3,"大分県"]
["R001263314","近藤　健二",3,"大分県"]
["R006591364","近藤　裕之",3,"大分県"]
["R001263305","近藤　靖彦",3,"大分県"]
["R010376355","合嶋　雄大",3,"大分県"]
["R009408852","後藤　憲治",3,"大分県"]
["R004793667","後藤　悟",3,"大分県"]
["R001263299","後藤　伸太郎",3,"大分県"]
["R008798226","後藤　貴志",3,"大分県"]
["R001251540","後藤　毅",3,"大分県"]
["R010306452","後藤　知仁",3,"大分県"]
["R001256624","後藤　文生",3,"大分県"]
["R010067947","後藤　美宇",3,"大分県"]
["R001263271","後藤　稔",3,"大分県"]
["R007960215","後藤　裕也",3,"大分県"]
["R001263332","斎藤　克己",3,"大分県"]
["R001263369","酒井　清行",3,"大分県"]
["R001263350","酒井　祐三",3,"大分県"]
["R010356115","榊　謙治",3,"大分県"]
["R004714688","坂本　克也",3,"大分県"]
["R003350863","坂本　圭",3,"大分県"]
["R009072268","坂本　載瑛",3,"大分県"]
["R001263402","坂本　淳吾",3,"大分県"]
["R006849191","坂本　大典",3,"大分県"]
["R006574400","酒盛　政晴",3,"大分県"]
["R006664864","相良　章成",3,"大分県"]
["R002917500","迫　裕作",3,"大分県"]
["R007335136","佐々木　秀樹",3,"大分県"]
["R001263411","佐々木　正志",3,"大分県"]
["R003677052","佐田　敬介",3,"大分県"]
["R001263448","佐藤　昭生",3,"大分県"]
["R001263484","佐藤　一好",3,"大分県"]
["R005603981","佐藤　健",3,"大分県"]
["R010261478","佐藤　賢太",3,"大分県"]
["R009460551","佐藤　慎二",3,"大分県"]
["R005164394","佐藤　嵩隼",3,"大分県"]
["R008634706","佐藤　巨規",3,"大分県"]
["R007728512","佐藤　誠",3,"大分県"]
["R010396593","佐藤　諒",3,"大分県"]
["R002530161","佐藤　光義",3,"大分県"]
["R007959811","佐藤　康之",3,"大分県"]
["R007003291","佐藤　優介",3,"大分県"]
["R010382660","佐藤　祐輔",3,"大分県"]
["R001263475","佐藤　隆太",3,"大分県"]
["R009552560","佐藤　亮",3,"大分県"]
["R010096806","猿渡　崇史",3,"大分県"]
["R001257252","三宮　仁",3,"大分県"]
["R007959936","塩田　誠",3,"大分県"]
["R010167723","敷島　孝太",3,"大分県"]
["R009546781","四嶋　遼大",3,"大分県"]
["R001257322","師藤　一也",3,"大分県"]
["R001257340","篠田　公成",3,"大分県"]
["R004326535","信田　卓也",3,"大分県"]
["R010073990","篠田　裕也",3,"大分県"]
["R010189333","芝崎　駿",3,"大分県"]
["R008634715","柴田　健一",3,"大分県"]
["R010214543","柴田　峻佑",3,"大分県"]
["R002938017","柴田　徹",3,"大分県"]
["R001263536","渋谷　崇",3,"大分県"]
["R001263545","島　邦彦",3,"大分県"]
["R003317114","島津　広光",3,"大分県"]
["R007686216","清水　圭二",3,"大分県"]
["R001558364","下野　智洋",3,"大分県"]
["R006910259","下原　優一",3,"大分県"]
["R010390129","下村　華央",3,"大分県"]
["R006849182","志谷　進",3,"大分県"]
["R001263590","首藤　圭介",3,"大分県"]
["R001934616","首藤　貴弘",3,"大分県"]
["R001263624","白石　正",3,"大分県"]
["R009554780","白江　直樹",3,"大分県"]
["R010390128","白木原　琳花",3,"大分県"]
["R006849128","城全　晃孝",3,"大分県"]
["R001263606","城全　孝成",3,"大分県"]
["R001263651","秦　啓一郎",3,"大分県"]
["R001257641","秦　達郎",3,"大分県"]
["R001263633","秦　雅暢",3,"大分県"]
["R001257650","新貝　学",3,"大分県"]
["R004793834","末松　敬雅",3,"大分県"]
["R006097345","末松　由貴",3,"大分県"]
["R006664961","末吉　裕樹",3,"大分県"]
["R008515571","菅川　智",3,"大分県"]
["R007003024","杉崎　恭介",3,"大分県"]
["R010074299","杉本　大実",3,"大分県"]
["R002530860","鈴木　史朗",3,"大分県"]
["R008798369","鈴木　優希",3,"大分県"]
["R008798013","隅田　哲平",3,"大分県"]
["R010027823","清家　大介",3,"大分県"]
["R001263679","関　憲二",3,"大分県"]
["R000896665","関　文雄",3,"大分県"]
["R008798174","関屋　俊侑",3,"大分県"]
["R001263688","瀬口　篤",3,"大分県"]
["R010376284","瀬戸口　雄",3,"大分県"]
["R007606238","相馬　大典",3,"大分県"]
["R010247795","曽我　彩夏",3,"大分県"]
["R001263697","曽我　大一郎",3,"大分県"]
["R001263721","園　貴司",3,"大分県"]
["R005987032","園　秀利",3,"大分県"]
["R008798305","染矢　恭明",3,"大分県"]
["R005987430","平　和隆",3,"大分県"]
["R001263749","高尾　次郎",3,"大分県"]
["R006664615","高柿　康平",3,"大分県"]
["R001258048","高橋　修一",3,"大分県"]
["R001263794","高橋　豊信",3,"大分県"]
["R001263819","高橋　雅浩",3,"大分県"]
["R001263828","髙橋　享誠",3,"大分県"]
["R001263785","高橋　芳洋",3,"大分県"]
["R005987120","高橋　涼太",3,"大分県"]
["R001263846","高畑　徳治郎",3,"大分県"]
["R001263837","高畑　智秀",3,"大分県"]
["R002996738","高原　英司",3,"大分県"]
["R003258477","田上　和広",3,"大分県"]
["R001262272","瀧山　理恵",3,"大分県"]
["R001263882","竹内　進",3,"大分県"]
["R003972489","竹嶋　仁",3,"大分県"]
["R006220484","武智　正敏",3,"大分県"]
["R007754243","竹中　勇人",3,"大分県"]
["R006030599","竹村　研一郎",3,"大分県"]
["R007335075","田坂　将和",3,"大分県"]
["R010120124","田尻　貴志",3,"大分県"]
["R004060170","立花　陽一郎",3,"大分県"]
["R008626770","立川　大記",3,"大分県"]
["R010281886","立川　拓未",3,"大分県"]
["R009430578","立川　千紗",3,"大分県"]
["R008627043","立川　充",3,"大分県"]
["R004683874","田中　貴大",3,"大分県"]
["R001258394","田邉　義晶",3,"大分県"]
["R005164677","田村　孝弘",3,"大分県"]
["R010190756","垰　真樹",3,"大分県"]
["R004793579","團塚　晋之祐",3,"大分県"]
["R001263961","津崎　雅彦",3,"大分県"]
["R005430057","辻　一陽",3,"大分県"]
["R010281819","辻井　拓夢",3,"大分県"]
["R001265419","津田　憲生",3,"大分県"]
["R001263998","堤　祐慈",3,"大分県"]
["R002996677","坪根　晃",3,"大分県"]
["R001264003","津守　一雄",3,"大分県"]
["R001264012","津守　正博",3,"大分県"]
["R010376298","鶴田　和也",3,"大分県"]
["R009408782","手島　冠",3,"大分県"]
["R001264058","寺岡　富夫",3,"大分県"]
["R001264049","寺岡　義彦",3,"大分県"]
["R010120117","寺次　良生",3,"大分県"]
["R004226749","寺本　義高",3,"大分県"]
["R004111340","唐下　直之",3,"大分県"]
["R010167725","東藤　正幸",3,"大分県"]
["R001264076","藤内　伸悟",3,"大分県"]
["R001264085","塔元　繁喜",3,"大分県"]
["R004385653","徳永　尚也",3,"大分県"]
["R002848671","徳永　浩幸",3,"大分県"]
["R010189300","徳光　将太",3,"大分県"]
["R001258701","都甲　昌亨",3,"大分県"]
["R006220961","歳納　真人",3,"大分県"]
["R003972230","戸田　清",3,"大分県"]
["R001258738","戸髙　博秋",3,"大分県"]
["R003317354","戸伏　重治",3,"大分県"]
["R008797759","冨永　憲司",3,"大分県"]
["R002935472","友成　義朗",3,"大分県"]
["R010214602","内藤　翔悟",3,"大分県"]
["R010261477","仲　慎太郎",3,"大分県"]
["R002917722","中尾　倫彰",3,"大分県"]
["R002530046","中上　聡志",3,"大分県"]
["R010248585","中坂　大",3,"大分県"]
["R003317071","中島　圭太",3,"大分県"]
["R008634681","中島　康平",3,"大分県"]
["R010190757","中島　佑介",3,"大分県"]
["R010007829","中島　亮太",3,"大分県"]
["R002996686","中園　真栄",3,"大分県"]
["R001258969","中田　邦明",3,"大分県"]
["R007728804","中根　龍馬",3,"大分県"]
["R001264164","仲野　昭博",3,"大分県"]
["R005429893","中野　佐和三",3,"大分県"]
["R003421310","中野　雄斗",3,"大分県"]
["R001264182","中原　圭介",3,"大分県"]
["R010099448","中原　丈聖",3,"大分県"]
["R001265297","中村　圭一郎",3,"大分県"]
["R010279448","中村　俊太",3,"大分県"]
["R007959990","中村　髙峰",3,"大分県"]
["R010382275","中村　友海",3,"大分県"]
["R010073993","仲村　陽一郎",3,"大分県"]
["R010189259","中山　修一",3,"大分県"]
["R005987528","中山　昌樹",3,"大分県"]
["R010376274","永井　翔也",3,"大分県"]
["R004111580","永井　勇司",3,"大分県"]
["R001258871","長尾　信宏",3,"大分県"]
["R001264128","長尾　寿郎",3,"大分県"]
["R001264137","永木　桂",3,"大分県"]
["R001258978","長田　義弘",3,"大分県"]
["R010074018","長門　崚太",3,"大分県"]
["R008798129","長野　佳太",3,"大分県"]
["R001259092","長野　省三",3,"大分県"]
["R005164941","永松　真朗",3,"大分県"]
["R006889108","永松　真樹",3,"大分県"]
["R010306440","永芳　卓磨",3,"大分県"]
["R005986954","成原　政治",3,"大分県"]
["R002908335","南里　秀樹",3,"大分県"]
["R010027839","西川　侑希",3,"大分県"]
["R001251975","西田　淳一",3,"大分県"]
["R005987102","西村　和久",3,"大分県"]
["R001264234","西村　誠",3,"大分県"]
["R009670176","西村　竜司",3,"大分県"]
["R006148515","西山　文朗",3,"大分県"]
["R001259287","新田　祐一郎",3,"大分県"]
["R001264252","二ノ谷　徹",3,"大分県"]
["R010095349","二宮　慎太郎",3,"大分県"]
["R001264289","野田　洋平",3,"大分県"]
["R007757994","野村　康佳",3,"大分県"]
["R009546055","吐合　直樹",3,"大分県"]
["R010027819","狭間　照央",3,"大分県"]
["R001252017","橋本　伸太郎",3,"大分県"]
["R008797962","橋本　葉音",3,"大分県"]
["R010080634","畑中　賢三",3,"大分県"]
["R010214541","羽田野　順一",3,"大分県"]
["R001264304","羽田野　亘",3,"大分県"]
["R008450238","浜崎　憲",3,"大分県"]
["R001259588","浜崎　陽介",3,"大分県"]
["R006221094","浜町　拓也",3,"大分県"]
["R002384225","濱本　真治",3,"大分県"]
["R001259667","原　宏一",3,"大分県"]
["R005603802","原　俊輔",3,"大分県"]
["R001264340","原田　浩司",3,"大分県"]
["R007003413","原田　雅也",3,"大分県"]
["R007211182","原田　龍太郎",3,"大分県"]
["R010067952","半谷　風花",3,"大分県"]
["R002384465","東　一騎",3,"大分県"]
["R001264359","東　和弘",3,"大分県"]
["R001265482","久野　慎吾",3,"大分県"]
["R006147048","姫野　一陽",3,"大分県"]
["R005528307","姫野　恵一",3,"大分県"]
["R010027843","姫野　孝太",3,"大分県"]
["R001251151","姫野　隆英",3,"大分県"]
["R010189272","姫野　佑太郎",3,"大分県"]
["R010313780","姫野　祐太朗",3,"大分県"]
["R010355742","姫野　烈也",3,"大分県"]
["R010352963","平井　彩斗",3,"大分県"]
["R001259870","平岡　正広",3,"大分県"]
["R003972513","平川　伸吾",3,"大分県"]
["R007002724","平原　裕己",3,"大分県"]
["R007003501","廣瀬　惣一朗",3,"大分県"]
["R001264401","廣瀬　文明",3,"大分県"]
["R004386120","廣瀬　賢明",3,"大分県"]
["R001264410","廣田　寧孝",3,"大分県"]
["R001260070","廣戸　誠一",3,"大分県"]
["R010069903","深田　知秀",3,"大分県"]
["R010376332","深津　弘毅",3,"大分県"]
["R009197691","深堀　祥司",3,"大分県"]
["R010027861","福井　康平",3,"大分県"]
["R001260113","福川　寿一",3,"大分県"]
["R010178915","福島　瑞季",3,"大分県"]
["R010099458","福原　元希",3,"大分県"]
["R001264447","福元　研治",3,"大分県"]
["R008798183","藤田　和也",3,"大分県"]
["R008798217","藤本　勝爾",3,"大分県"]
["R007753819","藤本　洋",3,"大分県"]
["R001264474","藤原　達郎",3,"大分県"]
["R007335288","藤原　大輔",3,"大分県"]
["R010027860","藤原　佑史朗",3,"大分県"]
["R003421772","藤原　龍司",3,"大分県"]
["R001264483","渕　辰雄",3,"大分県"]
["R004060189","古川　高",3,"大分県"]
["R001600205","古戸　雅崇",3,"大分県"]
["R001264508","古畑　葵",3,"大分県"]
["R001264492","古畑　翼",3,"大分県"]
["R005336104","古元　準一郎",3,"大分県"]
["R010214558","分藤　真央",3,"大分県"]
["R005987050","星野　敦",3,"大分県"]
["R003351288","保月　寿智",3,"大分県"]
["R006112343","堀内　信敏",3,"大分県"]
["R010074297","堀口　隆志",3,"大分県"]
["R006574066","本田　和也",3,"大分県"]
["R002530310","本多　裕介",3,"大分県"]
["R010127606","本戸　峰",3,"大分県"]
["R007003422","前田　篤史",3,"大分県"]
["R001260557","マガリェンス　リシャルドソン",3,"大分県"]
["R001264544","牧　和志",3,"大分県"]
["R007002733","柾木　洋平",3,"大分県"]
["R009547115","桝永　龍己",3,"大分県"]
["R010390127","松井　璃音",3,"大分県"]
["R003421736","松浦　将志",3,"大分県"]
["R010093436","松尾　達也",3,"大分県"]
["R005987555","松崎　智則",3,"大分県"]
["R004793816","松下　明史",3,"大分県"]
["R004055479","松下　昌史",3,"大分県"]
["R007335303","松田　稜",3,"大分県"]
["R005987564","松野　祐太",3,"大分県"]
["R009408737","松原　亜衣",3,"大分県"]
["R006220916","松原　慎也",3,"大分県"]
["R001264562","松本　光将",3,"大分県"]
["R004060259","松本　祐輔",3,"大分県"]
["R008481113","松山　和寛",3,"大分県"]
["R006011372","松山　大二郎",3,"大分県"]
["R001264580","真鍋　裕一",3,"大分県"]
["R010264267","馬原　直人",3,"大分県"]
["R008515535","丸尾　諭志",3,"大分県"]
["R005405699","箕迫　雄介",3,"大分県"]
["R007003307","水口　裕太",3,"大分県"]
["R008174046","溝辺　宏輝",3,"大分県"]
["R002917263","溝邊　祐幸",3,"大分県"]
["R001264605","御手洗　毅",3,"大分県"]
["R004793658","光根　明徳",3,"大分県"]
["R001264669","美濃　誠",3,"大分県"]
["R004793764","三原　隼人",3,"大分県"]
["R010306451","宮川　大志",3,"大分県"]
["R004112057","都　学志",3,"大分県"]
["R001264687","宮迫　利範",3,"大分県"]
["R004385495","宮崎　隆史",3,"大分県"]
["R010099454","宮田　繁輝",3,"大分県"]
["R001264696","宮部　修次",3,"大分県"]
["R001252196","三好　美輝",3,"大分県"]
["R001264702","向　直樹",3,"大分県"]
["R010001968","宗岡　弦徳",3,"大分県"]
["R001264711","村上　一幸",3,"大分県"]
["R001265118","村上　貴志",3,"大分県"]
["R010390126","村上　遥香",3,"大分県"]
["R003350854","毛藤　勇三",3,"大分県"]
["R001252220","毛利　明博",3,"大分県"]
["R007705326","用松　修平",3,"大分県"]
["R008173861","本末　総治朗",3,"大分県"]
["R002530851","本杉　拓也",3,"大分県"]
["R010376370","元永　許一郎",3,"大分県"]
["R010189258","森　健太",3,"大分県"]
["R007002779","森下　洋一",3,"大分県"]
["R008634636","森山　幸介",3,"大分県"]
["R001261398","森山　信浩",3,"大分県"]
["R008798457","薬師寺　翔",3,"大分県"]
["R008798314","薬師寺　亮太",3,"大分県"]
["R010190754","八坂　柊",3,"大分県"]
["R001264766","矢﨑　年勝",3,"大分県"]
["R001264775","屋敷　伴幸",3,"大分県"]
["R001264784","安枝　良二",3,"大分県"]
["R006093987","保田　薫",3,"大分県"]
["R005527308","柳井　孝則",3,"大分県"]
["R004793825","柳川　知也",3,"大分県"]
["R001261477","柳本　剛",3,"大分県"]
["R009197594","柳元　哲哉",3,"大分県"]
["R003972443","矢野　三千生",3,"大分県"]
["R008537139","矢羽田　崇",3,"大分県"]
["R004747206","山　大祐",3,"大分県"]
["R001965713","山崎　和也",3,"大分県"]
["R010240533","山﨑　典保",3,"大分県"]
["R010363046","山崎　雅人",3,"大分県"]
["R006147145","山下　省二",3,"大分県"]
["R007753606","山下　直一",3,"大分県"]
["R010189260","山下　泰明",3,"大分県"]
["R001261653","山田　真二",3,"大分県"]
["R004112011","山田　裕一",3,"大分県"]
["R001252293","山中　早一郎",3,"大分県"]
["R001264809","山野内　哲朗",3,"大分県"]
["R005164358","山宮　俊寛",3,"大分県"]
["R005603486","山本　篤",3,"大分県"]
["R010189296","山本　和真",3,"大分県"]
["R010281871","山本　青",3,"大分県"]
["R001252336","山本　貴志",3,"大分県"]
["R003351093","山本　哲司",3,"大分県"]
["R004111562","山本　悠司",3,"大分県"]
["R001264836","幸　靖博",3,"大分県"]
["R001261778","湯田　浩士",3,"大分県"]
["R008515553","柚木　徹也",3,"大分県"]
["R003421374","横山　解史",3,"大分県"]
["R010382662","吉賀　洸貴",3,"大分県"]
["R001261802","吉賀　智彦",3,"大分県"]
["R001264854","吉田　栄治",3,"大分県"]
["R010120115","吉田　和雅",3,"大分県"]
["R003972665","吉田　大助",3,"大分県"]
["R010376363","吉田　昌広",3,"大分県"]
["R007090686","吉元　健太朗",3,"大分県"]
["R010240571","吉元　剛",3,"大分県"]
["R001261954","四辻　隆道",3,"大分県"]
["R003421541","四元　厚次",3,"大分県"]
["R003351154","脇　東洋",3,"大分県"]
["R001264872","脇　雄洋",3,"大分県"]
["R006220378","和喜田　拓",3,"大分県"]
["R004386218","和才　幸司",3,"大分県"]
["R007757657","渡辺　敬亮",3,"大分県"]
["R010007794","渡邉　卓人",3,"大分県"]
["R001264915","渡辺　博文",3,"大分県"]
["R001262111","渡辺　陽一郎",3,"大分県"]
["R001252390","渡里　賢人",3,"大分県"]
["R007729070","和田　健一郎",3,"大分県"]
["R001264890","和田　健二",3,"大分県"]
["R001869127","和田　浩",3,"大分県"]
["R010352964","相澤　星空",4,"大分県"]
["R010159163","相澤　拓也",4,"大分県"]
["R010069876","相田　優弥",4,"大分県"]
["R010303870","相原　良哉",4,"大分県"]
["R010083876","相部　直輝",4,"大分県"]
["R010262588","青松　来樹",4,"大分県"]
["R010432641","青松　琉",4,"大分県"]
["R010351386","青山　京志郎",4,"大分県"]
["R010358008","青山　惺也",4,"大分県"]
["R010120118","青山　義男",4,"大分県"]
["R010189294","赤木　修二",4,"大分県"]
["R010448637","赤木　陽斗",4,"大分県"]
["R010396577","赤木　龍雅",4,"大分県"]
["R010396550","赤田　椋",4,"大分県"]
["R001252947","赤星　勝",4,"大分県"]
["R010376328","赤松　竜矢",4,"大分県"]
["R008174028","赤嶺　一宇",4,"大分県"]
["R010093427","赤峯　慎太郎",4,"大分県"]
["R010445855","赤嶺　瞭",4,"大分県"]
["R010396556","阿賀　匠",4,"大分県"]
["R010386813","秋月　来望",4,"大分県"]
["R005603884","秋月　将吾",4,"大分県"]
["R010356145","秋月　信哉",4,"大分県"]
["R010376364","秋吉　慶汰",4,"大分県"]
["R010388062","秋吉　仁也",4,"大分県"]
["R010248577","秋吉　晃行",4,"大分県"]
["R010261590","朝来野　叶汰",4,"大分県"]
["R001254990","朝山　睦夫",4,"大分県"]
["R010388041","足達　康平",4,"大分県"]
["R010445244","麻生　魁斗",4,"大分県"]
["R010390451","朝生　正義",4,"大分県"]
["R010159172","麻生　大雅",4,"大分県"]
["R010189281","麻生　佑",4,"大分県"]
["R010445835","麻生　珀珠",4,"大分県"]
["R010356130","麻生　隼翔",4,"大分県"]
["R010001949","麻生　凜太郎",4,"大分県"]
["R008798068","足達　亜沙美",4,"大分県"]
["R010261613","足立　憲星",4,"大分県"]
["R010093502","足立　聡",4,"大分県"]
["R010347383","安達　隼平",4,"大分県"]
["R010364729","足立　慎之介",4,"大分県"]
["R010376316","安達　勉",4,"大分県"]
["R010396578","足立　尚隆",4,"大分県"]
["R002384100","足立　望",4,"大分県"]
["R008798208","安達　正信",4,"大分県"]
["R010358013","安達　陸人",4,"大分県"]
["R008626673","足立　龍星",4,"大分県"]
["R010391961","穴井　康太",4,"大分県"]
["R010281845","穴井　己登",4,"大分県"]
["R010347381","穴井　翼",4,"大分県"]
["R010347378","穴井　拓翔",4,"大分県"]
["R010415913","穴井　優斗",4,"大分県"]
["R010262586","阿南　弘毅",4,"大分県"]
["R010262589","阿南　琢磨",4,"大分県"]
["R010281862","阿南　理奈",4,"大分県"]
["R010376330","阿南　広太朗",4,"大分県"]
["R010396511","阿南　天馬",4,"大分県"]
["R010448926","阿南　智也",4,"大分県"]
["R010352942","姉川　光一朗",4,"大分県"]
["R010354792","阿部　吾幌",4,"大分県"]
["R010388048","阿部　佑京",4,"大分県"]
["R010432634","阿部　開世",4,"大分県"]
["R010093439","阿部　和明",4,"大分県"]
["R010376276","阿部　和輝",4,"大分県"]
["R010376299","阿部　斡汰",4,"大分県"]
["R010396564","阿部　凱斗",4,"大分県"]
["R010056099","安部　杏介",4,"大分県"]
["R010396552","阿部　賢次",4,"大分県"]
["R010167792","安部　航生",4,"大分県"]
["R001253344","阿部　哲士",4,"大分県"]
["R010432597","阿部　志温",4,"大分県"]
["R010262591","安部　秀飛",4,"大分県"]
["R010261601","安部　大空",4,"大分県"]
["R010027824","安部　太貴",4,"大分県"]
["R001253326","阿部　孝之",4,"大分県"]
["R010364739","安部　大樹",4,"大分県"]
["R010262592","阿部　翔空",4,"大分県"]
["R010376264","阿部　年男",4,"大分県"]
["R010167738","安倍　俊之",4,"大分県"]
["R010445852","阿部　那紀",4,"大分県"]
["R010167799","安倍　虎ノ介",4,"大分県"]
["R010364717","安倍　喜哉",4,"大分県"]
["R010314829","安部　湧紀",4,"大分県"]
["R010364715","安倍　雄太",4,"大分県"]
["R010396557","安部　雄太",4,"大分県"]
["R010259438","安部　陸翔",4,"大分県"]
["R010415886","阿部　涼",4,"大分県"]
["R010350226","荒川　幸大",4,"大分県"]
["R010376266","荒金　洋一",4,"大分県"]
["R010444514","荒木　颯太",4,"大分県"]
["R001253423","荒巻　成志",4,"大分県"]
["R008798165","荒巻　恭貴",4,"大分県"]
["R010298871","新本　空",4,"大分県"]
["R007002715","有門　寿",4,"大分県"]
["R010071984","有川　陸",4,"大分県"]
["R010189315","有須田　和宏",4,"大分県"]
["R010261611","有田　啓吾",4,"大分県"]
["R010396506","有田　伸司",4,"大分県"]
["R010123024","有田　利広",4,"大分県"]
["R010445844","有田　陽翔",4,"大分県"]
["R010262622","有田　悠真",4,"大分県"]
["R010376343","有次　奏太朗",4,"大分県"]
["R010364716","有永　京",4,"大分県"]
["R010355730","有馬　海斗",4,"大分県"]
["R010159755","有馬　寧音",4,"大分県"]
["R006125763","有村　光史",4,"大分県"]
["R010448639","有吉　敦弘",4,"大分県"]
["R010189282","安達　羽海",4,"大分県"]
["R010214574","安達　巧馬",4,"大分県"]
["R010356117","安達　帆海",4,"大分県"]
["R010243643","安道　健斗",4,"大分県"]
["R007959158","安東　弘貴",4,"大分県"]
["R010357150","安藤　幸志郎",4,"大分県"]
["R010047303","安東　湖楠",4,"大分県"]
["R010376281","安藤　繁",4,"大分県"]
["R010432650","安東　慎平",4,"大分県"]
["R010243657","安藤　大河",4,"大分県"]
["R010352986","安東　泰士",4,"大分県"]
["R010120176","安藤　卓也",4,"大分県"]
["R010444509","安東　翼輝",4,"大分県"]
["R010189293","安東　正樹",4,"大分県"]
["R010376354","安藤　将洋",4,"大分県"]
["R010352995","安東　恭範",4,"大分県"]
["R010161902","安藤　幸歩",4,"大分県"]
["R010416216","安藤　梨愛",4,"大分県"]
["R002530383","阿武　志郎",4,"大分県"]
["R010391948","李　先庸",4,"大分県"]
["R010390453","井伊　祐月",4,"大分県"]
["R001253584","飯倉　洋介",4,"大分県"]
["R010281883","飯干　遼飛",4,"大分県"]
["R010396546","家長　龍之介",4,"大分県"]
["R010352961","五十川　大雅",4,"大分県"]
["R010432622","伊賀　朱惟",4,"大分県"]
["R010189286","伊賀　隆博",4,"大分県"]
["R010347366","池上　剛司",4,"大分県"]
["R010376338","池上　亮太",4,"大分県"]
["R010355070","池園　大輔",4,"大分県"]
["R010255157","池田　康二郎",4,"大分県"]
["R010261588","池田　剛",4,"大分県"]
["R006848873","池田　敏明",4,"大分県"]
["R010391943","池田　洋明",4,"大分県"]
["R005603662","池田　雅俊",4,"大分県"]
["R008649124","池田　愛都",4,"大分県"]
["R010347369","池田　未來都",4,"大分県"]
["R010376302","池田　陸人",4,"大分県"]
["R009460612","池田　亮太郎",4,"大分県"]
["R006937229","池田　航",4,"大分県"]
["R010396532","池永　壮佑",4,"大分県"]
["R010007792","池永　拓矢",4,"大分県"]
["R010390444","池邉　楓",4,"大分県"]
["R010189318","池邉　晋",4,"大分県"]
["R010356113","池辺　青那",4,"大分県"]
["R010432631","池邉　聡介",4,"大分県"]
["R010281879","池辺　雅也",4,"大分県"]
["R010448939","池部　愛和",4,"大分県"]
["R010281878","池邉　涼太",4,"大分県"]
["R010263778","伊﨑　陸人",4,"大分県"]
["R010347367","諫山　鮎斗",4,"大分県"]
["R001253681","石井　重人",4,"大分県"]
["R004714697","石井　靖彦",4,"大分県"]
["R009554629","石井　悠太郎",4,"大分県"]
["R010243666","石井　優斗",4,"大分県"]
["R010391913","石井　伶弥",4,"大分県"]
["R010167774","石川　旺歩",4,"大分県"]
["R009198399","石川　誠司",4,"大分県"]
["R010352993","石川　高光",4,"大分県"]
["R010167772","石川　丈陽",4,"大分県"]
["R010128064","石川　由覇",4,"大分県"]
["R010248588","石川　嶺瑠",4,"大分県"]
["R010281833","石原　壮琉",4,"大分県"]
["R010120192","石橋　知士",4,"大分県"]
["R001253751","石松　大輔",4,"大分県"]
["R010281873","石本　和廣",4,"大分県"]
["R009546037","石本　琉士",4,"大分県"]
["R010128075","石元　涼太",4,"大分県"]
["R010214555","石本　渉",4,"大分県"]
["R010415906","泉　颯飛",4,"大分県"]
["R004714712","和泉　宜幸",4,"大分県"]
["R010376313","泉　佑史朗",4,"大分県"]
["R010281863","泉　伶飛",4,"大分県"]
["R010448235","礒辺　宏基",4,"大分県"]
["R010354808","磯村　奏太",4,"大分県"]
["R009548284","板井　一雄",4,"大分県"]
["R010120130","板井　俊介",4,"大分県"]
["R010007837","板井　裕樹",4,"大分県"]
["R010396558","板井　優樹",4,"大分県"]
["R010120139","板井　遥平",4,"大分県"]
["R010159138","一ノ宮　杜環",4,"大分県"]
["R010255165","市原　佳典",4,"大分県"]
["R001253876","市原　宗久",4,"大分県"]
["R010189278","一丸　顕範",4,"大分県"]
["R010364737","一万田　翔大",4,"大分県"]
["R010016111","一万田　陸",4,"大分県"]
["R007090808","一法師　直喜",4,"大分県"]
["R010261617","井手　智貴",4,"大分県"]
["R008797926","出田　武",4,"大分県"]
["R010281846","伊藤　魁",4,"大分県"]
["R010356120","伊東　啓介",4,"大分県"]
["R010259419","伊東　健一",4,"大分県"]
["R010376272","伊藤　賢治",4,"大分県"]
["R010214557","伊東　健太郎",4,"大分県"]
["R010281832","伊藤　浩介",4,"大分県"]
["R007959699","伊東　昇太郎",4,"大分県"]
["R010386818","伊藤　聖菜",4,"大分県"]
["R010243640","伊東　蒼馬",4,"大分県"]
["R008173922","伊藤　鷹応",4,"大分県"]
["R010448920","伊藤　竜希",4,"大分県"]
["R010356129","伊東　春道",4,"大分県"]
["R010448642","伊藤　光琉",4,"大分県"]
["R009408898","伊藤　秀征",4,"大分県"]
["R010416225","伊藤　大翔",4,"大分県"]
["R010001953","伊東　龍之介",4,"大分県"]
["R010128066","伊藤　凜星",4,"大分県"]
["R010281816","糸永　泰樹",4,"大分県"]
["R010386819","稲生　ひより",4,"大分県"]
["R010390419","稲吉　椋斗",4,"大分県"]
["R010376267","井野　瑠惟",4,"大分県"]
["R008523312","井上　海",4,"大分県"]
["R010067951","井上　彩",4,"大分県"]
["R010303896","井上　竣平",4,"大分県"]
["R001254015","井上　順子",4,"大分県"]
["R010421579","井上　宗",4,"大分県"]
["R010347361","井上　太凱",4,"大分県"]
["R010243651","井上　拓哉",4,"大分県"]
["R010141818","井上　直之",4,"大分県"]
["R010396596","井上　凌汰",4,"大分県"]
["R010421580","井上　倫平",4,"大分県"]
["R010376263","井上　航",4,"大分県"]
["R010396526","猪原　虹輝",4,"大分県"]
["R010354790","猪原　康弘",4,"大分県"]
["R010264741","射場　琉聖",4,"大分県"]
["R010099449","今川　亮平",4,"大分県"]
["R010390449","今津　広大",4,"大分県"]
["R010386817","今村　咲羽",4,"大分県"]
["R003421356","今村　武広",4,"大分県"]
["R010141834","今村　蓮",4,"大分県"]
["R006220624","今本　展也",4,"大分県"]
["R010444518","今山　碧雪",4,"大分県"]
["R010354819","井元　禅",4,"大分県"]
["R010364728","岩尾　和哉",4,"大分県"]
["R010448932","岩男　柊人",4,"大分県"]
["R010445832","岩尾　槙之助",4,"大分県"]
["R010352951","岩尾　誠",4,"大分県"]
["R010056098","岩尾　勇吾",4,"大分県"]
["R010248578","岩城　慶樹",4,"大分県"]
["R010120198","岩佐　紘沖",4,"大分県"]
["R010100663","岩崎　晋也",4,"大分県"]
["R001254185","岩崎　利勝",4,"大分県"]
["R010281861","岩﨑　大翔",4,"大分県"]
["R010056103","岩﨑　嘉人",4,"大分県"]
["R007959176","岩田　進",4,"大分県"]
["R010376292","岩田　拓也",4,"大分県"]
["R010396598","岩田　和海",4,"大分県"]
["R010306436","岩田　優佑",4,"大分県"]
["R010354796","岩谷　悠ノ介",4,"大分県"]
["R010007818","岩戸　敦史",4,"大分県"]
["R010189261","岩永　和馬",4,"大分県"]
["R010248575","岩波　大夢",4,"大分県"]
["R010376282","岩野　貴文",4,"大分県"]
["R010248570","岩丸　英治",4,"大分県"]
["R006314464","岩丸　博季",4,"大分県"]
["R010432625","石見　祐人",4,"大分県"]
["R010448635","岩本　好誠",4,"大分県"]
["R010255186","岩本　柊詩",4,"大分県"]
["R010432609","岩本　将也",4,"大分県"]
["R010432637","岩谷　駿大朗",4,"大分県"]
["R004111410","上尾　雅彰",4,"大分県"]
["R008480956","植垣　秀人",4,"大分県"]
["R010159752","植木　莉香",4,"大分県"]
["R010264734","植木　稜大",4,"大分県"]
["R010391923","上栗　一将",4,"大分県"]
["R008797944","上田　晃",4,"大分県"]
["R010243654","上田　健介",4,"大分県"]
["R010248034","上田　翔聖",4,"大分県"]
["R010314811","上田　橙也",4,"大分県"]
["R010415888","上田　源典",4,"大分県"]
["R010356127","上田　龍汰",4,"大分県"]
["R010262649","上野　瑛太",4,"大分県"]
["R010390413","上野　玄貴",4,"大分県"]
["R010358011","上野　蒼",4,"大分県"]
["R001251133","上野　貴士",4,"大分県"]
["R010093424","植野　亨",4,"大分県"]
["R010386808","上野　仁胡",4,"大分県"]
["R010298867","上野　滉登",4,"大分県"]
["R010376265","上野　真澄",4,"大分県"]
["R010313761","上野　亮司",4,"大分県"]
["R010354664","上村　俊介",4,"大分県"]
["R007959617","上屋　守",4,"大分県"]
["R010376914","宇木　聖二",4,"大分県"]
["R010432630","臼井　宏亮",4,"大分県"]
["R010448923","歌　好陸",4,"大分県"]
["R010448252","内田　花音",4,"大分県"]
["R007728549","内田　公夫",4,"大分県"]
["R010396563","内田　颯太",4,"大分県"]
["R010214554","内田　喜久",4,"大分県"]
["R010396587","内田　結也",4,"大分県"]
["R010396602","内田　優月",4,"大分県"]
["R010189257","内間　安希",4,"大分県"]
["R010376341","内海　優斗",4,"大分県"]
["R010391966","有働　洋匡",4,"大分県"]
["R008643281","宇野　伍大",4,"大分県"]
["R010214550","梅木　圭一郎",4,"大分県"]
["R010354822","梅木　経成",4,"大分県"]
["R010313767","梅木　裕斗",4,"大分県"]
["R010214530","梅木　悠也",4,"大分県"]
["R010120178","梅田　竜一",4,"大分県"]
["R010128054","梅津　瑠暉",4,"大分県"]
["R010448930","梅本　琉成",4,"大分県"]
["R010261609","梅本　琉衣",4,"大分県"]
["R006093729","浦部　信哉",4,"大分県"]
["R010357998","浦邊　剛史",4,"大分県"]
["R010352945","瓜生　一裕",4,"大分県"]
["R010354657","漆間　将吾",4,"大分県"]
["R001254431","漆間　大士",4,"大分県"]
["R010355731","運天　ひかる",4,"大分県"]
["R010391964","江頭　京佑",4,"大分県"]
["R010255169","江頭　徳也",4,"大分県"]
["R010120137","江上　智啓",4,"大分県"]
["R010240560","江川　豊輝",4,"大分県"]
["R010391938","江口　大貴",4,"大分県"]
["R010448239","江口　光翔",4,"大分県"]
["R010002119","江隈　健斗",4,"大分県"]
["R010415911","江﨑　晃永",4,"大分県"]
["R010027903","江島　修一",4,"大分県"]
["R010445849","江島　迅人",4,"大分県"]
["R010169060","江島　礼奈斗",4,"大分県"]
["R010354821","江玉　優河",4,"大分県"]
["R004653305","衛藤　和憲",4,"大分県"]
["R008634274","江藤　恭平",4,"大分県"]
["R010262640","江藤　健士朗",4,"大分県"]
["R010444502","衞藤　公助",4,"大分県"]
["R010358007","衛藤　航大",4,"大分県"]
["R010444493","江藤　舜朔",4,"大分県"]
["R010396518","江藤　真一",4,"大分県"]
["R005405228","江藤　潤",4,"大分県"]
["R010352979","衛藤　太作",4,"大分県"]
["R010027887","衛藤　利祥",4,"大分県"]
["R007959796","衛藤　智成",4,"大分県"]
["R010393994","衛藤　七海",4,"大分県"]
["R007728983","衛藤　秀高",4,"大分県"]
["R010364731","衛藤　恵希",4,"大分県"]
["R010444516","江藤　璃大",4,"大分県"]
["R010432648","衛藤　亮佑",4,"大分県"]
["R010391940","江藤　蓮",4,"大分県"]
["R010214452","榎園　峻介",4,"大分県"]
["R010376307","榎本　崇太",4,"大分県"]
["R010259436","江本　悠里",4,"大分県"]
["R010354795","遠藤　翔大",4,"大分県"]
["R003350881","遠藤　朝春",4,"大分県"]
["R010352962","遠藤　優翔",4,"大分県"]
["R010432619","遠藤　之仁",4,"大分県"]
["R010354650","尾家　幸汰",4,"大分県"]
["R010364720","笈西　櫂大",4,"大分県"]
["R001254583","大芦　佳宏",4,"大分県"]
["R010189313","大石　周弥",4,"大分県"]
["R010313748","大石　純也",4,"大分県"]
["R010313760","大石　琢斗",4,"大分県"]
["R010027883","大石　拓也",4,"大分県"]
["R010376325","オオイシ　マコト",4,"大分県"]
["R010027821","大石　正雄",4,"大分県"]
["R010396507","大内　皓平",4,"大分県"]
["R010354818","大川　万葉",4,"大分県"]
["R010248574","大木本　大輝",4,"大分県"]
["R010354656","大久保　宙",4,"大分県"]
["R005430163","大久保　広紀",4,"大分県"]
["R010351382","大久保　優心",4,"大分県"]
["R010351356","大崎　蒼生",4,"大分県"]
["R010189324","大嶋　伊織",4,"大分県"]
["R010358005","大嶋　仁翔",4,"大分県"]
["R010262593","太田　翔陽",4,"大分県"]
["R010248567","太田　祐希",4,"大分県"]
["R010352976","太田　悠斗",4,"大分県"]
["R010159132","大谷　幸希",4,"大分県"]
["R010388043","大谷　宗太郎",4,"大分県"]
["R010356128","大谷　琉惺",4,"大分県"]
["R010376317","大津　匠司",4,"大分県"]
["R010162997","大津　響輝",4,"大分県"]
["R010396538","大塚　紀彰",4,"大分県"]
["R010358020","大塚　州章",4,"大分県"]
["R010189297","大塚　健斗",4,"大分県"]
["R010128049","大塚　昇吾",4,"大分県"]
["R010167737","大塚　誠也",4,"大分県"]
["R005528130","大塚　丈司",4,"大分県"]
["R010281805","大塚　雅基",4,"大分県"]
["R010415890","大塚　涼平",4,"大分県"]
["R010159757","大津留　康代",4,"大分県"]
["R010243638","大友　開晴",4,"大分県"]
["R010314820","大友　尋平",4,"大分県"]
["R010390431","大友　響姫",4,"大分県"]
["R010364699","大野　生牙",4,"大分県"]
["R010390445","大野　琢巳",4,"大分県"]
["R010445834","大野　桜道",4,"大分県"]
["R010120181","大野　楓河",4,"大分県"]
["R010364714","大野　裕輝",4,"大分県"]
["R010376350","大原　凌",4,"大分県"]
["R010444521","大庭　弘暉",4,"大分県"]
["R010391922","大星　陸渡",4,"大分県"]
["R010388061","大見　祥平",4,"大分県"]
["R010214576","大屋　楓真",4,"大分県"]
["R010303883","大山　尚一",4,"大分県"]
["R010376297","大山　太郎",4,"大分県"]
["R010214611","岡　正一郎",4,"大分県"]
["R010352973","岡田　海叶",4,"大分県"]
["R010255182","岡田　一輝",4,"大分県"]
["R010083849","岡田　幸太郎",4,"大分県"]
["R010444507","岡田　昂明",4,"大分県"]
["R010027909","岡田　崇",4,"大分県"]
["R005987412","岡田　隆行",4,"大分県"]
["R010432621","岡田　樹",4,"大分県"]
["R010352974","岡田　侑栞",4,"大分県"]
["R005603200","岡田　涼平",4,"大分県"]
["R010444522","岡田　凌哉",4,"大分県"]
["R010391965","岡野　凜平",4,"大分県"]
["R010141835","岡部　倖介",4,"大分県"]
["R010248029","岡部　純大",4,"大分県"]
["R010391957","岡部　巧武",4,"大分県"]
["R010248028","岡部　敏寛",4,"大分県"]
["R010376290","岡本　英明",4,"大分県"]
["R010214449","岡本　陸",4,"大分県"]
["R010171060","岡本　龍馬",4,"大分県"]
["R010376359","緒方　陽也",4,"大分県"]
["R010415912","小川　杏汰",4,"大分県"]
["R006901570","小川　健二",4,"大分県"]
["R010255177","小川　航平",4,"大分県"]
["R010395194","小川　侑利",4,"大分県"]
["R010391951","荻本　翔",4,"大分県"]
["R010214466","荻本　里那",4,"大分県"]
["R010248589","於久　蒼馬",4,"大分県"]
["R002530286","於久　雅和",4,"大分県"]
["R010355072","奥　遼太朗",4,"大分県"]
["R010314808","於久　流絆晟",4,"大分県"]
["R010376269","奥薗　将太",4,"大分県"]
["R010351378","奥田　翔太",4,"大分県"]
["R001254972","奥野　真一郎",4,"大分県"]
["R010027899","奥林　大輔",4,"大分県"]
["R010388055","奥平　大雅",4,"大分県"]
["R010214577","奥藤　誠",4,"大分県"]
["R010376910","奥村　祐利",4,"大分県"]
["R010189264","小栗　貴成",4,"大分県"]
["R010415897","長田　知樹",4,"大分県"]
["R010350237","尾崎　羽菜",4,"大分県"]
["R010099447","小澤　剛史",4,"大分県"]
["R010167739","小田　義也",4,"大分県"]
["R009546064","小田　邦昭",4,"大分県"]
["R010167750","小田　晴日",4,"大分県"]
["R010364735","小田口　将之",4,"大分県"]
["R010355737","越智　礼雄",4,"大分県"]
["R010390443","小野　海斗",4,"大分県"]
["R004385936","小野　耕一",4,"大分県"]
["R010214597","小野　煌平",4,"大分県"]
["R010281854","小野　翔希",4,"大分県"]
["R010281828","小野　将司",4,"大分県"]
["R010083851","小野　颯真",4,"大分県"]
["R005527618","小埜　貴之",4,"大分県"]
["R010243649","小野　徹",4,"大分県"]
["R010248584","小野　天海",4,"大分県"]
["R010396530","小野　瞳生",4,"大分県"]
["R010388059","小野　翔希斗",4,"大分県"]
["R010313764","小野　仁志",4,"大分県"]
["R010432610","小野　彪斗",4,"大分県"]
["R010120112","小野　広道",4,"大分県"]
["R010093504","小野　裕希",4,"大分県"]
["R010100673","小野　裕司",4,"大分県"]
["R010445846","小野　佑馬",4,"大分県"]
["R010445830","小野　陽祐",4,"大分県"]
["R010376315","小野　祥弘",4,"大分県"]
["R010354804","小野　龍ノ介",4,"大分県"]
["R010255158","小野　凌世",4,"大分県"]
["R010432633","小野　蓮央",4,"大分県"]
["R010357148","小野　蓮斗",4,"大分県"]
["R010396524","小原　聡倖",4,"大分県"]
["R010167812","小原　優斗",4,"大分県"]
["R010263775","小畑　圭史",4,"大分県"]
["R006574048","尾林　秀章",4,"大分県"]
["R010243655","小袋　敦矢",4,"大分県"]
["R010352968","尾本　想太",4,"大分県"]
["R010175149","織野　絵里",4,"大分県"]
["R010363047","オン　ビョンフン",4,"大分県"]
["R010388040","甲斐　照",4,"大分県"]
["R005164446","甲斐　一翠",4,"大分県"]
["R005164613","甲斐　英治",4,"大分県"]
["R010396534","甲斐　宗",4,"大分県"]
["R010281867","甲斐　茅花紗",4,"大分県"]
["R010364726","甲斐　智也",4,"大分県"]
["R005987388","甲斐　直樹",4,"大分県"]
["R010376275","甲斐　隼",4,"大分県"]
["R010432623","甲斐　大翔",4,"大分県"]
["R010027906","甲斐　将虎",4,"大分県"]
["R006314455","甲斐　竜二",4,"大分県"]
["R010391942","甲斐　龍成",4,"大分県"]
["R001255281","甲斐　亮介",4,"大分県"]
["R010214529","加賀　寿一",4,"大分県"]
["R010262594","香川　航汰",4,"大分県"]
["R010448236","香川　千璃",4,"大分県"]
["R010189343","香川　真弓",4,"大分県"]
["R005987397","香川　豊",4,"大分県"]
["R010390414","垣内　太陽",4,"大分県"]
["R010281844","柿原　康生",4,"大分県"]
["R010364700","賀来　由羅",4,"大分県"]
["R010347377","鹿毛　雅人",4,"大分県"]
["R006093923","笠野　泰良",4,"大分県"]
["R007753581","笠野　大瑚",4,"大分県"]
["R009545913","笠村　大",4,"大分県"]
["R010214467","笠村　凜",4,"大分県"]
["R010396539","加島　兼大",4,"大分県"]
["R010007813","加治　周也",4,"大分県"]
["R001255342","梶川　正和",4,"大分県"]
["R010396527","梶本　滉稀",4,"大分県"]
["R010281841","梶原　明空",4,"大分県"]
["R010303892","梶原　啓史",4,"大分県"]
["R010376322","梶原　宏介",4,"大分県"]
["R010007838","梶原　孝平",4,"大分県"]
["R010287222","梶原　天裕",4,"大分県"]
["R010120174","梶原　規史",4,"大分県"]
["R010448249","梶原　莉沙",4,"大分県"]
["R010313766","片山　達郎",4,"大分県"]
["R008634593","片山　雄一",4,"大分県"]
["R010214621","加田　真",4,"大分県"]
["R010156504","勝木　翔也",4,"大分県"]
["R010444517","香月　隆之介",4,"大分県"]
["R010391949","勝原　楓雅",4,"大分県"]
["R010167782","葛城　征吾",4,"大分県"]
["R010390440","桂木　颯斗",4,"大分県"]
["R010189041","加藤　治",4,"大分県"]
["R010376306","加藤　煌大",4,"大分県"]
["R010396549","加藤　晴久",4,"大分県"]
["R008797865","加藤　弘明",4,"大分県"]
["R010448241","加藤　大",4,"大分県"]
["R010364723","門脇　健太",4,"大分県"]
["R010448925","金丸　大海",4,"大分県"]
["R010314813","金丸　尚輝",4,"大分県"]
["R010156522","金森　海樹",4,"大分県"]
["R010255162","金山　斗和",4,"大分県"]
["R010448916","金子　康二",4,"大分県"]
["R010396582","金田　智朗",4,"大分県"]
["R010386804","壁村　千尋",4,"大分県"]
["R010167744","鎌田　大夢",4,"大分県"]
["R010347386","神川　翔平",4,"大分県"]
["R010391931","神園　直矢",4,"大分県"]
["R010027818","紙谷　昌弥",4,"大分県"]
["R010347382","上西　相輝",4,"大分県"]
["R010416218","神山　葵",4,"大分県"]
["R010396528","亀井　文子",4,"大分県"]
["R010364710","亀井　一起",4,"大分県"]
["R005603282","亀山　万生",4,"大分県"]
["R010256872","鴨川　奨",4,"大分県"]
["R010415900","萱島　竜也",4,"大分県"]
["R010262650","萱島　飛瑠",4,"大分県"]
["R010352950","萱島　良太",4,"大分県"]
["R005603811","苅野　雄一",4,"大分県"]
["R002917476","河井　寛次郎",4,"大分県"]
["R010386814","河合　瑠彩",4,"大分県"]
["R010445833","河内　竜樹",4,"大分県"]
["R010376921","川口　将騎",4,"大分県"]
["R010248572","川口　航平",4,"大分県"]
["R010314824","川口　俊輔",4,"大分県"]
["R010120186","川口　武道",4,"大分県"]
["R010352965","川口　翼",4,"大分県"]
["R010248569","川口　勇騎",4,"大分県"]
["R010445240","川越　竜馬",4,"大分県"]
["R010281803","川嶋　佳菜",4,"大分県"]
["R010448645","川嶋　晴怜",4,"大分県"]
["R010448924","川尻　暁斗",4,"大分県"]
["R010347373","河津　柊志",4,"大分県"]
["R010415898","河津　魁羅",4,"大分県"]
["R010261604","川津　楓京",4,"大分県"]
["R010386810","川手　茉央",4,"大分県"]
["R005405282","川浪　健司",4,"大分県"]
["R010421578","川浪　尚人",4,"大分県"]
["R010159751","川浪　実歩",4,"大分県"]
["R010448942","河野　楓",4,"大分県"]
["R010189268","河野　功寛",4,"大分県"]
["R010354654","河野　孝誠",4,"大分県"]
["R010093451","川野　剛",4,"大分県"]
["R006220606","河野　成利",4,"大分県"]
["R010432599","川野　俊",4,"大分県"]
["R010396561","川野　陣",4,"大分県"]
["R010432651","河野　太陽",4,"大分県"]
["R010354667","河野　拓真",4,"大分県"]
["R010415887","河野　拓巳",4,"大分県"]
["R010189263","河野　徹郎",4,"大分県"]
["R010027894","河野　斗馬",4,"大分県"]
["R010390422","河野　桐也",4,"大分県"]
["R010357999","川野　凪佐",4,"大分県"]
["R010159139","川野　愛琉",4,"大分県"]
["R010396562","川野　迅翔",4,"大分県"]
["R010391915","河野　晴輝",4,"大分県"]
["R010415903","河野　遥己",4,"大分県"]
["R010376293","河野　仁志",4,"大分県"]
["R010364721","河野　大夢",4,"大分県"]
["R010214586","河野　真裟斗",4,"大分県"]
["R010214566","河野　大和",4,"大分県"]
["R010214628","川野　裕貴",4,"大分県"]
["R010262595","川野　竜聖",4,"大分県"]
["R010358015","河野　琉星",4,"大分県"]
["R010355735","川野　凌斗",4,"大分県"]
["R010358016","川野　諒弥",4,"大分県"]
["R010415885","川端　孝彦",4,"大分県"]
["R010376904","川端　輝",4,"大分県"]
["R010388050","川端　大翔",4,"大分県"]
["R010357147","川端　正倫",4,"大分県"]
["R010355736","川畑　怜央",4,"大分県"]
["R010358012","川邊　勝太",4,"大分県"]
["R009198487","川邉　太一朗",4,"大分県"]
["R010396583","川邊　智己",4,"大分県"]
["R010352999","川邉　裕也",4,"大分県"]
["R005405264","河村　航大",4,"大分県"]
["R010396560","河村　長雲",4,"大分県"]
["R006220129","河村　哲二",4,"大分県"]
["R001255908","河村　信善",4,"大分県"]
["R010248035","河村　拓飛",4,"大分県"]
["R001251434","川村　祐一",4,"大分県"]
["R010396525","河村　陽平",4,"大分県"]
["R010161901","河面　瑠治",4,"大分県"]
["R010033126","管　拓哉",4,"大分県"]
["R010159144","神崎　一途",4,"大分県"]
["R010255161","神崎　竜之介",4,"大分県"]
["R010396520","神崎　大輔",4,"大分県"]
["R010390411","神田　脩汰",4,"大分県"]
["R010376303","神田　崇",4,"大分県"]
["R008798101","神田　毅",4,"大分県"]
["R010396529","神田　武志",4,"大分県"]
["R010243659","神田　北斗",4,"大分県"]
["R010303874","神田　陸",4,"大分県"]
["R009554610","神田　陸翔",4,"大分県"]
["R001255953","菊田　興太郎",4,"大分県"]
["R010432646","菊池　敏志",4,"大分県"]
["R003972586","菊地　誠",4,"大分県"]
["R010354793","菊池　陸斗",4,"大分県"]
["R010214551","菊地　隆之輔",4,"大分県"]
["R001255980","木嶋　高行",4,"大分県"]
["R010444492","北川　淳一",4,"大分県"]
["R010313776","北河　祐一",4,"大分県"]
["R010364722","北崎　誠弥",4,"大分県"]
["R008798147","木谷　大希",4,"大分県"]
["R010099459","北原　隆広",4,"大分県"]
["R010261591","北山　匠悟",4,"大分県"]
["R010071971","喜田　潤一",4,"大分県"]
["R010281848","喜田　智也",4,"大分県"]
["R010214583","木津　浩太",4,"大分県"]
["R010214584","木津　春歌",4,"大分県"]
["R001256004","岐津　宏史",4,"大分県"]
["R009369678","木戸　雄登",4,"大分県"]
["R001256031","木下　和夫",4,"大分県"]
["R010396543","木下　広貴",4,"大分県"]
["R010444512","木下　泰暉",4,"大分県"]
["R010262654","木下　遥己",4,"大分県"]
["R008798138","木下　秀紀",4,"大分県"]
["R010356143","木原　将和",4,"大分県"]
["R001256068","岐部　裕二",4,"大分県"]
["R010243648","木部　椋介",4,"大分県"]
["R010248580","木村　一平",4,"大分県"]
["R001251498","木村　竜吉",4,"大分県"]
["R010416217","木村　美羽",4,"大分県"]
["R010396513","木村　幹",4,"大分県"]
["R010281806","木村　凌",4,"大分県"]
["R010159181","木村　玲音",4,"大分県"]
["R010243650","木本　蒼翔",4,"大分県"]
["R008634645","木本　隆之",4,"大分県"]
["R010448240","木本　博昭",4,"大分県"]
["R010376351","清川　克幸",4,"大分県"]
["R010347362","清竹　波月",4,"大分県"]
["R010351390","清原　拓馬",4,"大分県"]
["R010281797","清原　勇二",4,"大分県"]
["R010415896","清原　耀",4,"大分県"]
["R010255164","清松　創史",4,"大分県"]
["R010416215","吉良　星音",4,"大分県"]
["R010261615","吉良　匡弘",4,"大分県"]
["R010159169","吉良　唯人",4,"大分県"]
["R001256183","吉良　陽平",4,"大分県"]
["R010393996","行部　心彩",4,"大分県"]
["R010386821","行部　光咲",4,"大分県"]
["R010156515","釘宮　潤也",4,"大分県"]
["R010189291","釘宮　孝史",4,"大分県"]
["R010248041","釘宮　翼",4,"大分県"]
["R010071957","釘宮　包青",4,"大分県"]
["R010262596","釘宮　零士",4,"大分県"]
["R010262620","久家　瑞樹",4,"大分県"]
["R010354661","日下　拓人",4,"大分県"]
["R010214630","草野　勝氣",4,"大分県"]
["R010093495","草野　大輝",4,"大分県"]
["R010313754","櫛野　理弘",4,"大分県"]
["R010128058","楠田　桜大",4,"大分県"]
["R010334503","楠　明日香",4,"大分県"]
["R010351368","楠元　和馬",4,"大分県"]
["R010240555","楠本　祥彦",4,"大分県"]
["R010376336","沓掛　聖和",4,"大分県"]
["R010214578","工藤　歩",4,"大分県"]
["R010261616","工藤　大昌",4,"大分県"]
["R009546116","工藤　忠弘",4,"大分県"]
["R010298861","工藤　辰哉",4,"大分県"]
["R010357151","工藤　翼",4,"大分県"]
["R010386805","工藤　晴瑠",4,"大分県"]
["R001256253","工藤　洋",4,"大分県"]
["R007686252","工藤　史哲",4,"大分県"]
["R001256244","工藤　光範",4,"大分県"]
["R010083877","工藤　大和",4,"大分県"]
["R010396522","工藤　竜世",4,"大分県"]
["R010162988","国広　雄陽",4,"大分県"]
["R010214468","久保　花暖",4,"大分県"]
["R008793249","久保　茂樹",4,"大分県"]
["R010376344","久保　翔太郎",4,"大分県"]
["R009197947","久保　大翼",4,"大分県"]
["R007753624","久保　湧雅",4,"大分県"]
["R010396541","久保　幸弥",4,"大分県"]
["R010352939","久保田　智史",4,"大分県"]
["R010128069","窪田　龍",4,"大分県"]
["R010027820","久保山　崇",4,"大分県"]
["R004794310","熊谷　圭太",4,"大分県"]
["R010083864","熊谷　遼",4,"大分県"]
["R010303891","熊谷　誠起",4,"大分県"]
["R010432645","倉富　壮大",4,"大分県"]
["R010358009","蔵原　青吾",4,"大分県"]
["R010255191","倉原　侑也",4,"大分県"]
["R010376268","倉原　蓮",4,"大分県"]
["R010391937","倉盛　雅基",4,"大分県"]
["R010448643","栗井　蓮",4,"大分県"]
["R010313770","黒木　幹太",4,"大分県"]
["R010444503","黒木　祥悟",4,"大分県"]
["R010281807","黒木　一輝",4,"大分県"]
["R010364727","黒田　航世",4,"大分県"]
["R010386822","黒田　珠樺",4,"大分県"]
["R010248040","桑原　誓良",4,"大分県"]
["R001256387","桑原　剛志",4,"大分県"]
["R010027910","桑原　正行",4,"大分県"]
["R010432618","桑原　優人",4,"大分県"]
["R010214595","小泉　斗眞",4,"大分県"]
["R010255153","小岩　晴久",4,"大分県"]
["R010391959","高　昇辰",4,"大分県"]
["R010189321","神志那　公市",4,"大分県"]
["R010281843","江田　秀斗",4,"大分県"]
["R010448246","上妻　歩睦",4,"大分県"]
["R010313771","河野　歩",4,"大分県"]
["R010364701","河野　光成",4,"大分県"]
["R010396536","河野　誠弥",4,"大分県"]
["R010355074","幸野　壮一郎",4,"大分県"]
["R010364718","河埜　龍生",4,"大分県"]
["R001255670","河野　千恵子",4,"大分県"]
["R010376319","河野　匡視",4,"大分県"]
["R010334502","河野　萌夏",4,"大分県"]
["R010396592","河野　悠斗",4,"大分県"]
["R010445851","河野　吏玖",4,"大分県"]
["R010189273","高麗　勇輝",4,"大分県"]
["R010281849","古賀　渓太郎",4,"大分県"]
["R010347375","古賀　奏太郎",4,"大分県"]
["R010396510","古賀　時宗",4,"大分県"]
["R002530277","古賀　博喜",4,"大分県"]
["R006574206","古賀　雅則",4,"大分県"]
["R010432603","小金丸　剛志",4,"大分県"]
["R010388053","小久保　咲汰",4,"大分県"]
["R010162996","小越　憲太郎",4,"大分県"]
["R010243646","小坂　駿介",4,"大分県"]
["R010214636","小島　千宙",4,"大分県"]
["R010376346","古城　鋼河",4,"大分県"]
["R010396586","小杉　青空",4,"大分県"]
["R009408816","児玉　淳",4,"大分県"]
["R010386815","児玉　一穂",4,"大分県"]
["R010357149","児玉　空悟",4,"大分県"]
["R010444511","兒玉　朔都",4,"大分県"]
["R010313775","児玉　伸",4,"大分県"]
["R010259431","兒玉　颯斗",4,"大分県"]
["R010159131","児玉　勇翔",4,"大分県"]
["R010303868","児玉　港都",4,"大分県"]
["R010169042","児玉　悠介",4,"大分県"]
["R010445239","児玉　佑太",4,"大分県"]
["R010255183","児玉　勇人",4,"大分県"]
["R010351354","児玉　理緒",4,"大分県"]
["R010448922","児玉　留己也",4,"大分県"]
["R010067948","小坪　花楓",4,"大分県"]
["R010364709","小坪　裕紀",4,"大分県"]
["R010298858","小手川　博俊",4,"大分県"]
["R010264269","小手川　豊",4,"大分県"]
["R005528060","小手川　洋介",4,"大分県"]
["R004796080","古藤田　和好",4,"大分県"]
["R001256679","小名川　茂樹",4,"大分県"]
["R010350228","小西　真夕",4,"大分県"]
["R010448940","小林　神月",4,"大分県"]
["R004226712","小林　覚",4,"大分県"]
["R010255174","小林　亮太",4,"大分県"]
["R010445242","小深田　大晟",4,"大分県"]
["R010261600","小米良　啓太",4,"大分県"]
["R010376321","古屋　空知",4,"大分県"]
["R010261603","古屋　友晟",4,"大分県"]
["R009460579","古谷　悠汰",4,"大分県"]
["R006125587","小屋　良樹",4,"大分県"]
["R010347385","小山　大輝",4,"大分県"]
["R010214460","是永　陽翔",4,"大分県"]
["R006664855","近藤　孝司",4,"大分県"]
["R010376362","近藤　將平",4,"大分県"]
["R010303873","近藤　祥真",4,"大分県"]
["R010364732","合田　秀汰",4,"大分県"]
["R009546091","五所　睦雄",4,"大分県"]
["R010416212","後藤　愛梨",4,"大分県"]
["R010358017","後藤　葵",4,"大分県"]
["R010432627","後藤　英斗",4,"大分県"]
["R010163001","後藤　快斗",4,"大分県"]
["R010099452","後藤　一利",4,"大分県"]
["R001256572","後藤　儀一郎",4,"大分県"]
["R010067950","後藤　恵子",4,"大分県"]
["R010354802","後藤　圭梧",4,"大分県"]
["R005987519","後藤　慶太郎",4,"大分県"]
["R001256590","後藤　幸治",4,"大分県"]
["R010350229","後藤　紗希",4,"大分県"]
["R003421426","後藤　茂好",4,"大分県"]
["R010263773","後藤　修蔵",4,"大分県"]
["R010376917","ごとう　しゅうと",4,"大分県"]
["R003256044","後藤　真一",4,"大分県"]
["R001256606","後藤　信也",4,"大分県"]
["R010432636","後藤　正剛",4,"大分県"]
["R010255175","後藤　颯太",4,"大分県"]
["R010376352","後藤　颯太",4,"大分県"]
["R008537111","後藤　拓磨",4,"大分県"]
["R010193704","後藤　健文",4,"大分県"]
["R005603671","後藤　達也",4,"大分県"]
["R010391916","後藤　大輝",4,"大分県"]
["R010263777","後藤　颯天",4,"大分県"]
["R001256554","後藤　寿",4,"大分県"]
["R010243641","後藤　響",4,"大分県"]
["R007090978","後藤　洋彰",4,"大分県"]
["R007959130","後藤　宏之",4,"大分県"]
["R010303884","後藤　文太",4,"大分県"]
["R010432644","後藤　雅史",4,"大分県"]
["R010396547","後藤　真弥",4,"大分県"]
["R010262599","後藤　萌俊",4,"大分県"]
["R010354663","後藤　大和",4,"大分県"]
["R010262600","後藤　勇輝",4,"大分県"]
["R010448945","後藤　悠介",4,"大分県"]
["R010396571","後藤　勇飛",4,"大分県"]
["R010163012","後藤　雄平",4,"大分県"]
["R010120116","後藤　芳健",4,"大分県"]
["R010364703","後藤　吏温",4,"大分県"]
["R010001964","後藤　亮一",4,"大分県"]
["R010214572","後藤　伶緒",4,"大分県"]
["R010364706","後藤　渉",4,"大分県"]
["R010376289","齋藤　俊孝",4,"大分県"]
["R010354659","齋藤　速人",4,"大分県"]
["R010167810","斉藤　祐輔",4,"大分県"]
["R008173685","斎藤　亮真",4,"大分県"]
["R010334501","堺　彩葉",4,"大分県"]
["R010390442","酒井　康輔",4,"大分県"]
["R010448935","酒井　洸太",4,"大分県"]
["R010255192","界　脩二朗",4,"大分県"]
["R010261598","堺　大桜",4,"大分県"]
["R001251577","酒井　隆宏",4,"大分県"]
["R006932525","酒井　泰峰",4,"大分県"]
["R010281825","酒井　祐樹",4,"大分県"]
["R010376353","坂口　太一",4,"大分県"]
["R010189326","坂田　大樹",4,"大分県"]
["R010347380","坂本　海士朗",4,"大分県"]
["R010347379","坂本　颯士朗",4,"大分県"]
["R010388052","坂本　晴陽",4,"大分県"]
["R005430048","坂本　正実",4,"大分県"]
["R010261592","坂本　勇良",4,"大分県"]
["R010071981","坂本　璃王",4,"大分県"]
["R010283833","坂本　莉音",4,"大分県"]
["R010421577","坂本　陸",4,"大分県"]
["R010214446","相良　采和",4,"大分県"]
["R008173746","相良　宣雄",4,"大分県"]
["R009369456","相良　陸",4,"大分県"]
["R010444490","櫻井　貴寛",4,"大分県"]
["R010376906","桜本　航帆",4,"大分県"]
["R010281869","迫　宗次郎",4,"大分県"]
["R010391924","佐々木　新",4,"大分県"]
["R010432604","佐々木　匠実",4,"大分県"]
["R010281874","指原　健太郎",4,"大分県"]
["R010214626","指原　徹志",4,"大分県"]
["R010396573","佐田　惇",4,"大分県"]
["R010189039","目　匡弘",4,"大分県"]
["R010240550","里　昂大",4,"大分県"]
["R010259437","佐藤　愛莉",4,"大分県"]
["R001257076","佐藤　明",4,"大分県"]
["R010281887","佐藤　飛鳥",4,"大分県"]
["R010432620","佐藤　篤",4,"大分県"]
["R010355075","佐藤　快",4,"大分県"]
["R010364704","佐藤　海斗",4,"大分県"]
["R010448943","佐藤　凱翔",4,"大分県"]
["R010376318","佐藤　一史",4,"大分県"]
["R010303890","佐藤　和彦",4,"大分県"]
["R010432647","佐藤　亨志郎",4,"大分県"]
["R010416220","佐藤　圭市",4,"大分県"]
["R010352947","佐藤　圭太",4,"大分県"]
["R010396579","佐藤　健司",4,"大分県"]
["R010432605","佐藤　航輝",4,"大分県"]
["R001976153","佐藤　公亮",4,"大分県"]
["R010281835","佐藤　康介",4,"大分県"]
["R010396604","佐藤　耕輔",4,"大分県"]
["R010281798","佐藤　茂",4,"大分県"]
["R010445246","佐藤　秀",4,"大分県"]
["R010432632","佐藤　秀哉",4,"大分県"]
["R010248027","佐藤　駿",4,"大分県"]
["R010432616","佐藤　秀弥",4,"大分県"]
["R010432602","佐藤　翔太",4,"大分県"]
["R004386306","佐藤　慎也",4,"大分県"]
["R010214594","佐藤　隼",4,"大分県"]
["R010262644","佐藤　颯",4,"大分県"]
["R010416224","佐藤　大雅",4,"大分県"]
["R010396523","佐藤　匠人",4,"大分県"]
["R001257085","佐藤　武吉",4,"大分県"]
["R010261605","佐藤　大樹",4,"大分県"]
["R010376337","佐藤　直",4,"大分県"]
["R010396603","佐藤　颯",4,"大分県"]
["R010189325","佐藤　遥哉",4,"大分県"]
["R010281827","佐藤　秀昭",4,"大分県"]
["R001257137","佐藤　秀勝",4,"大分県"]
["R010189269","佐藤　寛季",4,"大分県"]
["R010354658","佐藤　史典",4,"大分県"]
["R010376310","佐藤　雅斗吏",4,"大分県"]
["R005603389","佐藤　光雄",4,"大分県"]
["R010391925","佐藤　祐介",4,"大分県"]
["R010432608","佐藤　悠星",4,"大分県"]
["R010396516","佐藤　侑大",4,"大分県"]
["R010243660","佐藤　勇仁",4,"大分県"]
["R010444501","佐藤　悠登",4,"大分県"]
["R010262601","佐藤　優馬",4,"大分県"]
["R010069874","佐藤　佑哉",4,"大分県"]
["R010263772","佐藤　友哉",4,"大分県"]
["R010352970","佐藤　巧基",4,"大分県"]
["R010314823","佐藤　善成",4,"大分県"]
["R007729210","佐藤　教春",4,"大分県"]
["R010189336","佐藤　陸歩",4,"大分県"]
["R010376270","佐藤　亮平",4,"大分県"]
["R010351373","佐藤　凜也",4,"大分県"]
["R010159142","佐藤　琉稀",4,"大分県"]
["R010396509","佐藤　蓮太",4,"大分県"]
["R010388045","實松　祐輝",4,"大分県"]
["R010303869","佐野　圭音",4,"大分県"]
["R010354816","佐野　翔梧",4,"大分県"]
["R010448933","佐野　大葵",4,"大分県"]
["R010214533","鮫島　裕貴",4,"大分県"]
["R010376311","澤井　駿樂",4,"大分県"]
["R010354807","澤井　優翔",4,"大分県"]
["R010390432","沢田　奏太",4,"大分県"]
["R010376331","澤田　弘教",4,"大分県"]
["R010396568","澤永　悠樹",4,"大分県"]
["R010358004","澤藤　慎之助",4,"大分県"]
["R010445856","参　誠志朗",4,"大分県"]
["R010415891","三ノ宮　真吾",4,"大分県"]
["R010448919","三ノ宮　琉偉",4,"大分県"]
["R010100659","財前　友担",4,"大分県"]
["R010432654","財前　飛向",4,"大分県"]
["R010376916","椎木　夢佐志",4,"大分県"]
["R005603291","椎原　健夫",4,"大分県"]
["R010255188","椎原　彪叶",4,"大分県"]
["R010167760","椎葉　颯貴",4,"大分県"]
["R010303855","椎葉　涼太",4,"大分県"]
["R010189312","塩月　又幸",4,"大分県"]
["R010281801","志賀　泰二",4,"大分県"]
["R010352944","式村　威吹",4,"大分県"]
["R010391927","重　遥大",4,"大分県"]
["R001257304","重藤　光",4,"大分県"]
["R010391920","重松　剛史",4,"大分県"]
["R010355071","志太波　直葵",4,"大分県"]
["R010444495","志藤　圭史朗",4,"大分県"]
["R010352955","篠田　星凪",4,"大分県"]
["R010445850","篠原　星成",4,"大分県"]
["R001257377","芝関　功",4,"大分県"]
["R010281852","柴田　叡昇",4,"大分県"]
["R010415895","島　拓朗",4,"大分県"]
["R010167757","嶋岡　烈士",4,"大分県"]
["R007959592","島崎　雄大",4,"大分県"]
["R001257447","島谷　真司",4,"大分県"]
["R010356121","嶌田　幸志",4,"大分県"]
["R010313749","嶋田　尚祐",4,"大分県"]
["R010382661","嶋田　優星",4,"大分県"]
["R010445837","嶋田　祐也",4,"大分県"]
["R010391958","島田　蓮平",4,"大分県"]
["R010391963","島津　悠揮",4,"大分県"]
["R010350236","清水　彩花",4,"大分県"]
["R010351365","清水　楓",4,"大分県"]
["R010396565","清水　和",4,"大分県"]
["R010071963","清水　嵩眺",4,"大分県"]
["R010376365","清水　新太",4,"大分県"]
["R005986981","清水　聖徳",4,"大分県"]
["R010069898","清水　樹生",4,"大分県"]
["R010189304","清水　哲也",4,"大分県"]
["R010264743","清水　晃",4,"大分県"]
["R010255172","清水　寛人",4,"大分県"]
["R010421576","清水　碧倭",4,"大分県"]
["R006221678","清水　雄介",4,"大分県"]
["R010069890","清水　優人",4,"大分県"]
["R010303857","清水　羅偉",4,"大分県"]
["R010093497","七五三　正寿",4,"大分県"]
["R010159143","下田　耀仁",4,"大分県"]
["R010364705","下藤　勝喜",4,"大分県"]
["R010376349","下村　直希",4,"大分県"]
["R010262624","下山　凌河",4,"大分県"]
["R010391955","首藤　海人",4,"大分県"]
["R010352987","首藤　和希",4,"大分県"]
["R010352940","首藤　保",4,"大分県"]
["R008643838","首藤　翼",4,"大分県"]
["R007002645","首藤　晴美",4,"大分県"]
["R010354788","首藤　弘樹",4,"大分県"]
["R010376326","首藤　博貴",4,"大分県"]
["R010376340","首藤　正叡",4,"大分県"]
["R010432614","首藤　唯斗",4,"大分県"]
["R010214469","首藤　梨花",4,"大分県"]
["R010356122","首藤　航",4,"大分県"]
["R010162994","首藤　光翼",4,"大分県"]
["R010415894","焦　哲",4,"大分県"]
["R003420029","庄　秀喜",4,"大分県"]
["R005527362","庄司　誠",4,"大分県"]
["R009460533","庄部　正人",4,"大分県"]
["R010445243","庄司　壮甫",4,"大分県"]
["R010352971","白石　琥太郎",4,"大分県"]
["R010261607","白石　悠馬",4,"大分県"]
["R010259417","白岩　孝啓",4,"大分県"]
["R010376278","白鞘　真彦",4,"大分県"]
["R010354662","秦　琥太郎",4,"大分県"]
["R010350238","秦　鼓乃実",4,"大分県"]
["R010306453","秦　翔平",4,"大分県"]
["R010444489","秦　拓真",4,"大分県"]
["R010364713","秦　翼",4,"大分県"]
["R010240532","新塘　統志也",4,"大分県"]
["R010347368","新原　優翔",4,"大分県"]
["R006123774","軸丸　耕平",4,"大分県"]
["R010313772","軸丸　翔矢",4,"大分県"]
["R010376291","軸丸　昇",4,"大分県"]
["R010120159","実本　悠太",4,"大分県"]
["R010303859","字室　航平",4,"大分県"]
["R010314825","積明　温斗",4,"大分県"]
["R009198335","城野　清",4,"大分県"]
["R010347371","城野　雅翔",4,"大分県"]
["R010390418","陣内　拓海",4,"大分県"]
["R007959167","須浦　清隆",4,"大分県"]
["R001257696","須浦　伸一",4,"大分県"]
["R010189331","末崎　智也",4,"大分県"]
["R004055424","末綱　海人",4,"大分県"]
["R001257711","末綱　航大",4,"大分県"]
["R006148463","末綱　太舟",4,"大分県"]
["R010262602","末永　京士朗",4,"大分県"]
["R009545995","末永　成久",4,"大分県"]
["R010264737","末永　孟久",4,"大分県"]
["R010445857","末平　智哉",4,"大分県"]
["R010262603","末平　陽祐",4,"大分県"]
["R010159129","菅　右京",4,"大分県"]
["R010390421","菅　左京",4,"大分県"]
["R007959820","菅　博幸",4,"大分県"]
["R010448947","管谷　陸斗",4,"大分県"]
["R010448640","菅川　輝空",4,"大分県"]
["R010448634","菅川　青空",4,"大分県"]
["R010396559","杉崎　景光",4,"大分県"]
["R008798004","杉崎　誠",4,"大分県"]
["R005528103","杉野　岳士",4,"大分県"]
["R010364738","杉原　雄太",4,"大分県"]
["R006220369","杉本　哲太",4,"大分県"]
["R010281838","鈴江　真士",4,"大分県"]
["R010281839","鈴江　涼生",4,"大分県"]
["R010214548","鈴木　公大",4,"大分県"]
["R010069892","鈴木　規久",4,"大分県"]
["R010444486","須藤　哲也",4,"大分県"]
["R010067965","須藤　夏羽",4,"大分県"]
["R010247793","須藤　美羽",4,"大分県"]
["R010445853","須永　芳雄",4,"大分県"]
["R007959185","巣野　哲平",4,"大分県"]
["R010128078","角　颯之介",4,"大分県"]
["R010356125","隅田　香織",4,"大分県"]
["R010214540","隅田　渚斗",4,"大分県"]
["R010356124","隅田　波希",4,"大分県"]
["R010303863","住田　翔",4,"大分県"]
["R008797838","図師　歌歩乃",4,"大分県"]
["R010162998","圖師　好至朗",4,"大分県"]
["R010159141","清家　航太",4,"大分県"]
["R010303887","瀬川　礼野",4,"大分県"]
["R003258422","関　一昭",4,"大分県"]
["R001257809","関　正二",4,"大分県"]
["R010352992","関　翼",4,"大分県"]
["R010189267","関　雅人",4,"大分県"]
["R007959750","関谷　僚人",4,"大分県"]
["R010376919","瀬口　修矢",4,"大分県"]
["R009533653","瀬田　英明",4,"大分県"]
["R010354812","瀬戸　天我",4,"大分県"]
["R010167767","瀬戸口　智哉",4,"大分県"]
["R010281872","千歳丸　忠",4,"大分県"]
["R010376360","惣川　朝太郎",4,"大分県"]
["R010376356","惣川　春太朗",4,"大分県"]
["R010396514","曽我　晃大",4,"大分県"]
["R010120162","曽根　文武",4,"大分県"]
["R010120127","曽根崎　忠",4,"大分県"]
["R001257854","曽根崎　照紀",4,"大分県"]
["R005987458","曽根田　康寿",4,"大分県"]
["R010262639","園　文来",4,"大分県"]
["R010386816","園　ひなの",4,"大分県"]
["R010306443","園田　純直",4,"大分県"]
["R010391926","園田　悠",4,"大分県"]
["R001257872","園田　雄二",4,"大分県"]
["R010069895","染矢　季琉",4,"大分県"]
["R010255156","染矢　陸",4,"大分県"]
["R010193717","空田　碧波",4,"大分県"]
["R010391935","平　拓巳",4,"大分県"]
["R010189295","高榎　健太郎",4,"大分県"]
["R008174037","高榎　祐太郎",4,"大分県"]
["R010347372","高尾　佳汰",4,"大分県"]
["R010351362","高岡　海堵",4,"大分県"]
["R010303881","髙岡　堅吾",4,"大分県"]
["R010259428","高木　伸",4,"大分県"]
["R010167745","高木　桐馬",4,"大分県"]
["R001257942","高倉　一城",4,"大分県"]
["R010444505","高倉　慶一",4,"大分県"]
["R010314802","高倉　左京",4,"大分県"]
["R010071976","高倉　凛",4,"大分県"]
["R010069872","高司　龍之介",4,"大分県"]
["R010027898","髙瀬　瑛里",4,"大分県"]
["R010073413","高瀬　心",4,"大分県"]
["R010391932","高瀬　大雅",4,"大分県"]
["R010358019","高田　虎之介",4,"大分県"]
["R001257997","高田　義友",4,"大分県"]
["R010376369","高月　隆成",4,"大分県"]
["R010376358","高野　賢吾",4,"大分県"]
["R010027825","髙野　翔大",4,"大分県"]
["R003578487","髙野　大輔",4,"大分県"]
["R010390448","高橋　蒼大",4,"大分県"]
["R010351355","高橋　海翔",4,"大分県"]
["R008798077","高橋　紀嘉",4,"大分県"]
["R010314827","高橋　巧希",4,"大分県"]
["R008798156","高橋　洸介",4,"大分県"]
["R010354798","高橋　劫多",4,"大分県"]
["R010093479","高橋　晃平",4,"大分県"]
["R010364702","高橋　周平",4,"大分県"]
["R010351359","高橋　颯太",4,"大分県"]
["R010432626","高橋　昊",4,"大分県"]
["R010189346","高橋　敏也",4,"大分県"]
["R010354794","高橋　那由多",4,"大分県"]
["R010444508","高橋　飛向",4,"大分県"]
["R007334924","高橋　央明",4,"大分県"]
["R007767432","高橋　瑞紀",4,"大分県"]
["R003256062","高橋　由資",4,"大分県"]
["R006220697","高橋　勇也",4,"大分県"]
["R010262604","高橋　陸",4,"大分県"]
["R010352959","髙橋　涼介",4,"大分県"]
["R010056101","高橋　蓮",4,"大分県"]
["R010214462","高畑　俊太",4,"大分県"]
["R010448944","高畠　将翔",4,"大分県"]
["R001258136","高原　啓司",4,"大分県"]
["R010159140","高原　成都",4,"大分県"]
["R010240538","高原　悠太",4,"大分県"]
["R010386811","高松　芹羽",4,"大分県"]
["R010351389","高見　啓太",4,"大分県"]
["R010351375","高見　陵太",4,"大分県"]
["R010350232","高本　澪奈",4,"大分県"]
["R010255176","高森　宗治",4,"大分県"]
["R010391919","高山　湧也",4,"大分県"]
["R009533440","田上　龍真",4,"大分県"]
["R010259435","田川　乃々香",4,"大分県"]
["R010448928","田北　豊将",4,"大分県"]
["R010281815","瀧田　好浩",4,"大分県"]
["R010259424","瀧水　蓮太郎",4,"大分県"]
["R010358000","田口　心之輔",4,"大分県"]
["R010128072","田口　晴基",4,"大分県"]
["R010391939","武石　新太",4,"大分県"]
["R010120190","武石　智彰",4,"大分県"]
["R010255180","武石　優作",4,"大分県"]
["R010281858","武内　一准",4,"大分県"]
["R010391953","武内　奨真",4,"大分県"]
["R010415914","武内　時人",4,"大分県"]
["R010396553","竹内　璃音",4,"大分県"]
["R010376903","竹下　輝",4,"大分県"]
["R010262605","竹島　琉",4,"大分県"]
["R010355743","竹田　竣",4,"大分県"]
["R010390412","竹田　海翔",4,"大分県"]
["R009198283","武田　顕一",4,"大分県"]
["R008616162","竹田　豪",4,"大分県"]
["R010255159","竹田　天馬",4,"大分県"]
["R003972498","武田　憲和",4,"大分県"]
["R007335127","竹中　啓司",4,"大分県"]
["R010396591","竹中　太志",4,"大分県"]
["R006612816","竹之内　亮",4,"大分県"]
["R010347363","武原　匠吾",4,"大分県"]
["R010415905","武久　文弥",4,"大分県"]
["R010262657","竹山　柊吾",4,"大分県"]
["R010432624","武吉　一颯",4,"大分県"]
["R010432615","田﨑　逸正",4,"大分県"]
["R010243664","田崎　斗翔",4,"大分県"]
["R010303882","田﨑　琉唯",4,"大分県"]
["R010432601","田下　己槻",4,"大分県"]
["R010432613","田島　尚季",4,"大分県"]
["R010306446","多嶋田　尚平",4,"大分県"]
["R004371818","田代　修三",4,"大分県"]
["R010303886","田代　翔太郎",4,"大分県"]
["R010376320","田尻　成",4,"大分県"]
["R010376305","田尻　優斗",4,"大分県"]
["R010376907","多田　侑槻",4,"大分県"]
["R010388057","立花　稜大",4,"大分県"]
["R010303872","立岩　玄輝",4,"大分県"]
["R010396537","建野　年也",4,"大分県"]
["R010162985","帯刀　悠",4,"大分県"]
["R010243656","田中　滉大",4,"大分県"]
["R010083857","田中　脩翔",4,"大分県"]
["R010214560","田中　俊丞",4,"大分県"]
["R009460542","田中　友浩",4,"大分県"]
["R010376342","田中　陽澄",4,"大分県"]
["R010303862","田中　真輝",4,"大分県"]
["R010376323","田中　真樹",4,"大分県"]
["R010056104","田中　雄大",4,"大分県"]
["R010351376","田中　陸翔",4,"大分県"]
["R010376339","田辺　旺生",4,"大分県"]
["R007728503","田邊　政治",4,"大分県"]
["R010376368","田辺　裕也",4,"大分県"]
["R010444515","谷川　滉樹",4,"大分県"]
["R008798484","谷川　潤弥",4,"大分県"]
["R010352981","谷口　直也",4,"大分県"]
["R010281834","谷崎　舞",4,"大分県"]
["R010073989","谷崎　涼",4,"大分県"]
["R009198539","谷崎　玲治",4,"大分県"]
["R010255173","谷脇　陸",4,"大分県"]
["R010159155","谷脇　蓮",4,"大分県"]
["R010214471","田野　愛華",4,"大分県"]
["R010167790","田野　翔大",4,"大分県"]
["R008523215","田原　龍之介",4,"大分県"]
["R010391947","田畑　篤郎",4,"大分県"]
["R010357152","玉城　宗馬",4,"大分県"]
["R009533510","田村　奎人",4,"大分県"]
["R008797704","田村　健二",4,"大分県"]
["R010169043","田村　駿伍",4,"大分県"]
["R010281809","田村　拓也",4,"大分県"]
["R010376901","田村　眞那斗",4,"大分県"]
["R010364719","大海　應介",4,"大分県"]
["R006111195","伊達　秀憲",4,"大分県"]
["R001251753","伊達　洋介",4,"大分県"]
["R001258455","千原　秀介",4,"大分県"]
["R010264738","千原　隼輔",4,"大分県"]
["R010071980","千原　瑠偉",4,"大分県"]
["R010396504","忠願寺　慶祐",4,"大分県"]
["R010354820","長木　環和",4,"大分県"]
["R010067943","通正　こころ",4,"大分県"]
["R010067949","通正　隆寿",4,"大分県"]
["R010261597","通正　隆之介",4,"大分県"]
["R010391960","潰田　輝太",4,"大分県"]
["R010448232","塚崎　高典",4,"大分県"]
["R010382665","塚崎　仁志",4,"大分県"]
["R010262606","塚崎　凛音",4,"大分県"]
["R010214610","津崎　祐二",4,"大分県"]
["R001258516","津下　一孝",4,"大分県"]
["R010445858","辻　奏音",4,"大分県"]
["R010444494","辻　真貴",4,"大分県"]
["R001258491","辻　道弘",4,"大分県"]
["R010093455","津田　敬太",4,"大分県"]
["R010376347","土屋　光輝",4,"大分県"]
["R010189345","筒井　愛",4,"大分県"]
["R010120146","筒井　映介",4,"大分県"]
["R010432612","筒井　大貴",4,"大分県"]
["R010396531","堤　太河",4,"大分県"]
["R008360148","堤　哲郎",4,"大分県"]
["R010214478","堤　晴菜",4,"大分県"]
["R010448247","堤　優菜",4,"大分県"]
["R008651794","都竹　創",4,"大分県"]
["R005429884","恒成　壮",4,"大分県"]
["R005405723","恒松　和也",4,"大分県"]
["R009198256","常行　隼史",4,"大分県"]
["R010303858","角田　海斗",4,"大分県"]
["R010391929","津村　真生",4,"大分県"]
["R006937089","津守　翔太",4,"大分県"]
["R010303879","津谷　海登",4,"大分県"]
["R010364712","築城　翔太",4,"大分県"]
["R010444498","都留　祐也",4,"大分県"]
["R010306444","鶴田　翔一",4,"大分県"]
["R010444506","鶴原　楓也",4,"大分県"]
["R010214528","手嶋　章博",4,"大分県"]
["R010261594","寺井　一",4,"大分県"]
["R001258613","出口　功",4,"大分県"]
["R010214470","藤内　なぎさ",4,"大分県"]
["R010243644","遠山　隼都",4,"大分県"]
["R010396517","時任　佑樹哉",4,"大分県"]
["R010074011","徳田　正信",4,"大分県"]
["R010074007","徳田　隆聖",4,"大分県"]
["R010364733","徳地　翔",4,"大分県"]
["R010355733","徳留　暁",4,"大分県"]
["R010093499","徳丸　淳治",4,"大分県"]
["R010376314","徳丸　太陽",4,"大分県"]
["R010255154","得丸　拓実",4,"大分県"]
["R010243652","徳丸　白空",4,"大分県"]
["R001258695","徳丸　英明",4,"大分県"]
["R001258686","得丸　政徳",4,"大分県"]
["R010391941","渡久地　蒔人",4,"大分県"]
["R010167753","都甲　明聖",4,"大分県"]
["R010379064","都甲　空",4,"大分県"]
["R010214587","利根　悠理",4,"大分県"]
["R009533583","利光　貴翔",4,"大分県"]
["R010396585","利光　慧斗",4,"大分県"]
["R010358018","利光　翔磨",4,"大分県"]
["R010445854","利光　蒼志",4,"大分県"]
["R010261602","利光　陽成",4,"大分県"]
["R010159150","戸田　汐音",4,"大分県"]
["R010159136","戸髙　滉基",4,"大分県"]
["R010376357","戸髙　航汰",4,"大分県"]
["R010350234","戸髙　花菜",4,"大分県"]
["R010046512","十時　優介",4,"大分県"]
["R010415910","苫川　銀雅",4,"大分県"]
["R010390447","富田　凱吏",4,"大分県"]
["R010027867","富田　靖夫",4,"大分県"]
["R007728974","冨田　保之",4,"大分県"]
["R010027830","富永　渉太",4,"大分県"]
["R001258765","富永　佳幸",4,"大分県"]
["R010351388","富松　慎之介",4,"大分県"]
["R005405608","冨吉　弘一",4,"大分県"]
["R010069889","留野　莉旺",4,"大分県"]
["R010281868","友田　裕斗",4,"大分県"]
["R010415915","友永　弥",4,"大分県"]
["R010128059","友成　拓夢",4,"大分県"]
["R010128070","友松　健太",4,"大分県"]
["R010100678","友松　誠二",4,"大分県"]
["R010163009","豊島　海斗",4,"大分県"]
["R010313755","豊島　勇樹",4,"大分県"]
["R010214570","豊田　馨",4,"大分県"]
["R010448248","豊田　颯花",4,"大分県"]
["R010355734","豊田　淳也",4,"大分県"]
["R010396515","豊田　洸",4,"大分県"]
["R003421170","豊田　裕司",4,"大分県"]
["R009369641","豊永　拓弥",4,"大分県"]
["R010248573","堂本　和馬",4,"大分県"]
["R010168000","仲　恭平",4,"大分県"]
["R010445845","仲　尚樹",4,"大分県"]
["R010354813","中井　琉惺",4,"大分県"]
["R010007815","中尾　圭介",4,"大分県"]
["R010120161","中尾　雅俊",4,"大分県"]
["R010390441","中岡　駿",4,"大分県"]
["R010255166","中岡　昇",4,"大分県"]
["R004793931","中川　勝裕",4,"大分県"]
["R001258880","中川　俊哉",4,"大分県"]
["R010432640","中川　陽斗",4,"大分県"]
["R010263774","中川　蓮太",4,"大分県"]
["R010448251","中倉　咲姫",4,"大分県"]
["R002530329","中島　大成",4,"大分県"]
["R010388049","中島　魁利",4,"大分県"]
["R010162981","中島　柊",4,"大分県"]
["R010396594","中島　忠伸",4,"大分県"]
["R010396533","中嶋　哲也",4,"大分県"]
["R010167786","中島　湧友",4,"大分県"]
["R010390417","中島　壮",4,"大分県"]
["R010352956","中島　拓磨",4,"大分県"]
["R010214567","中嶋　完",4,"大分県"]
["R001258914","中嶋　結孝",4,"大分県"]
["R009533662","中瀬　雄一郎",4,"大分県"]
["R010281836","仲宗根　玄昌",4,"大分県"]
["R010355740","中園　翔馬",4,"大分県"]
["R010214461","中園　太陽",4,"大分県"]
["R010281808","中園　貴志",4,"大分県"]
["R010240546","中面　成斗",4,"大分県"]
["R010083855","中津留　海翔",4,"大分県"]
["R010390452","中津留　将悟",4,"大分県"]
["R006125602","中津留　正三",4,"大分県"]
["R010334500","中津留　菜桜",4,"大分県"]
["R010432607","中津留　蓮",4,"大分県"]
["R007334942","中津留　治将",4,"大分県"]
["R002917412","中西　智彦",4,"大分県"]
["R010189275","中根　孝史",4,"大分県"]
["R001259038","中根　幹雄",4,"大分県"]
["R010056094","中根　武蔵",4,"大分県"]
["R010281799","中野　明",4,"大分県"]
["R010248583","中野　翔梧",4,"大分県"]
["R010298856","中野　翔太",4,"大分県"]
["R010281824","仲野　翔真",4,"大分県"]
["R010255160","仲野　穣",4,"大分県"]
["R001259056","中野　俊宏",4,"大分県"]
["R010093448","中野　智博",4,"大分県"]
["R010078598","中野　浩志",4,"大分県"]
["R010214472","中野　茉奈",4,"大分県"]
["R010448242","中野　康徳",4,"大分県"]
["R010358002","仲野　隆貴",4,"大分県"]
["R010281853","中野　竜太",4,"大分県"]
["R006574394","中畑　光宏",4,"大分県"]
["R010448243","中畑　祐也",4,"大分県"]
["R010396575","中原　壱春",4,"大分県"]
["R010448237","中原　笙",4,"大分県"]
["R010261596","中平　康士朗",4,"大分県"]
["R001251896","中間　敏彦",4,"大分県"]
["R010354814","中溝　遥",4,"大分県"]
["R010354801","中道　裕斗",4,"大分県"]
["R010016109","仲村　晃和",4,"大分県"]
["R010159153","中村　朝光",4,"大分県"]
["R010391933","中村　出海",4,"大分県"]
["R003316948","中村　冴里",4,"大分県"]
["R010262608","中村　真太朗",4,"大分県"]
["R010432643","中村　奏太",4,"大分県"]
["R009197585","中村　智美",4,"大分県"]
["R010281888","仲村　晃瑠",4,"大分県"]
["R001251911","中村　真彦",4,"大分県"]
["R010444500","中村　洋三",4,"大分県"]
["R009198274","中村　洋太",4,"大分県"]
["R010448938","中村　怜音",4,"大分県"]
["R010376273","中山　忍",4,"大分県"]
["R010351377","中山　遥",4,"大分県"]
["R010376280","中渡瀬　真樹",4,"大分県"]
["R010167747","永井　啓太朗",4,"大分県"]
["R010354806","長井　滉希",4,"大分県"]
["R010352943","永井　秀",4,"大分県"]
["R010262635","長井　舜佑",4,"大分県"]
["R010240580","永井　智大",4,"大分県"]
["R010214609","長尾　浩希",4,"大分県"]
["R010281817","永尾　透",4,"大分県"]
["R010448233","長岡　傑",4,"大分県"]
["R010376366","長岡　範",4,"大分県"]
["R010448231","永岡　才拓",4,"大分県"]
["R010445848","長岡　巧磨",4,"大分県"]
["R010120189","長澤　直樹",4,"大分県"]
["R001258950","長瀬　良理",4,"大分県"]
["R010390438","永田　壮一郎",4,"大分県"]
["R010448244","長田　佳洋",4,"大分県"]
["R010313765","永田　蓮二",4,"大分県"]
["R010214622","永冨　真依",4,"大分県"]
["R010083859","永野　慎之助",4,"大分県"]
["R010448245","永野　暁希",4,"大分県"]
["R010388058","長野　優飛",4,"大分県"]
["R010259414","永松　和寿",4,"大分県"]
["R010355073","永松　周",4,"大分県"]
["R005528264","永松　裕史",4,"大分県"]
["R010396535","永松　正規",4,"大分県"]
["R010303861","永松　涼介",4,"大分県"]
["R010390434","長溝　遥",4,"大分県"]
["R005527353","永山　正樹",4,"大分県"]
["R010193705","長山　祐介",4,"大分県"]
["R010396580","長吉　倖成",4,"大分県"]
["R005987403","流川　新",4,"大分県"]
["R010396599","奈須　要",4,"大分県"]
["R010396570","奈須　心勇",4,"大分県"]
["R010214537","奈須　哲平",4,"大分県"]
["R010027829","奈須　大和",4,"大分県"]
["R009072295","奈須野　安侑里",4,"大分県"]
["R010388054","楢原　翔大郎",4,"大分県"]
["R010262625","成重　柊哉",4,"大分県"]
["R010445247","縄田　遊乃亮",4,"大分県"]
["R010356119","新名　翔太",4,"大分県"]
["R010356118","新名　拓哉",4,"大分県"]
["R010358010","新納　永遠",4,"大分県"]
["R010364730","新納　琉冬",4,"大分県"]
["R010313756","新原　一希",4,"大分県"]
["R010391962","二川　史崇",4,"大分県"]
["R010306439","西　将輝",4,"大分県"]
["R010303853","西　瑞希",4,"大分県"]
["R010314809","西尾　圭翔",4,"大分県"]
["R010382659","西尾　紀博",4,"大分県"]
["R004386023","西尾　拓之",4,"大分県"]
["R010128071","西尾　悠吾",4,"大分県"]
["R010303856","西尾　陸",4,"大分県"]
["R001251957","西岡　京一郎",4,"大分県"]
["R010262641","西川　凜",4,"大分県"]
["R010393995","西田　愛奈",4,"大分県"]
["R009533538","西田　克海",4,"大分県"]
["R010396501","西田　翔",4,"大分県"]
["R004793375","西田　真也",4,"大分県"]
["R010391944","西野　凌平",4,"大分県"]
["R010354815","西野　凜太朗",4,"大分県"]
["R010281850","西村　陽佑",4,"大分県"]
["R010159135","ニ田　理央",4,"大分県"]
["R010448937","新田　莉生",4,"大分県"]
["R010391918","蜷川　勇来",4,"大分県"]
["R010390439","二宮　圭吾",4,"大分県"]
["R010261589","二宮　慶太",4,"大分県"]
["R010281837","二宮　大己",4,"大分県"]
["R010096809","二宮　大作",4,"大分県"]
["R004055664","二宮　康彰",4,"大分県"]
["R010120164","二宮　悠樹",4,"大分県"]
["R010432638","仁部屋　透晃",4,"大分県"]
["R010396551","丹生　良三",4,"大分県"]
["R010306454","入田　裕治",4,"大分県"]
["R010281856","如法寺　雅俊",4,"大分県"]
["R010390433","庭瀬　元希",4,"大分県"]
["R010355738","沼田　翔弥",4,"大分県"]
["R010444496","大戸　匠",4,"大分県"]
["R010376301","野上　拳跳",4,"大分県"]
["R010027878","野口　一輝",4,"大分県"]
["R010396600","野口　源若",4,"大分県"]
["R002917333","野口　康二郎",4,"大分県"]
["R010027885","野口　智隆",4,"大分県"]
["R010432606","野口　我太生",4,"大分県"]
["R010262637","野崎　央",4,"大分県"]
["R010167740","野崎　来",4,"大分県"]
["R005527830","野尻　崇",4,"大分県"]
["R010306450","野田　啓佑",4,"大分県"]
["R010214592","野田　航平",4,"大分県"]
["R010080607","野田　晶生",4,"大分県"]
["R010128060","野中　充登",4,"大分県"]
["R010445241","野中　慎之介",4,"大分県"]
["R010214556","野中　裕介",4,"大分県"]
["R010354660","野村　慶太",4,"大分県"]
["R001259436","野村　辰寿",4,"大分県"]
["R006125736","野村　哲也",4,"大分県"]
["R010354811","野村　春希",4,"大分県"]
["R010303877","野村　凌",4,"大分県"]
["R010388042","野依　桂",4,"大分県"]
["R006544278","則次　祐介",4,"大分県"]
["R004714721","袴田　真吾",4,"大分県"]
["R001259472","間　俊雄",4,"大分県"]
["R007003273","間　博紀",4,"大分県"]
["R010352972","間　勇翔",4,"大分県"]
["R010396567","狹間　優人",4,"大分県"]
["R010314814","橋口　一斗",4,"大分県"]
["R008634609","橋本　翔",4,"大分県"]
["R010396601","橋本　舜平",4,"大分県"]
["R010376361","橋本　淳平",4,"大分県"]
["R010396540","橋本　壮旦",4,"大分県"]
["R006221012","橋本　敏邦",4,"大分県"]
["R007959440","橋本　伸忠",4,"大分県"]
["R010393993","橋本　凜",4,"大分県"]
["R010240540","橋本　玲央",4,"大分県"]
["R010376915","蓮田　智",4,"大分県"]
["R007729098","長谷　明治",4,"大分県"]
["R010445839","秦　碧空",4,"大分県"]
["R010259429","畑　修一",4,"大分県"]
["R010432639","畑　央斗",4,"大分県"]
["R010262643","秦　龍生",4,"大分県"]
["R010388046","畑田　堅伸",4,"大分県"]
["R010248571","畑中　恒輝",4,"大分県"]
["R010100679","畑中　祝勝",4,"大分県"]
["R010314826","畑中　大和",4,"大分県"]
["R010352984","畑野　新司",4,"大分県"]
["R010281859","羽田野　凪",4,"大分県"]
["R010007845","波多野　政美",4,"大分県"]
["R010347358","畑辺　康年",4,"大分県"]
["R010259439","羽田野　徹",4,"大分県"]
["R010376287","羽田野　裕之",4,"大分県"]
["R010169052","羽田野　将斗",4,"大分県"]
["R010262647","服部　昌拓",4,"大分県"]
["R003421116","波津久　雄平",4,"大分県"]
["R010386809","花宮　うの",4,"大分県"]
["R010376277","花宮　大聖",4,"大分県"]
["R001259579","濱崎　賢一",4,"大分県"]
["R010390420","浜崎　颯太",4,"大分県"]
["R009460658","浜崎　拓海",4,"大分県"]
["R010352977","濱砂　樹",4,"大分県"]
["R010364708","濱田　碧空",4,"大分県"]
["R010364725","浜田　子龍",4,"大分県"]
["R010093435","濱田　尚希",4,"大分県"]
["R006221100","浜町　隆蒔",4,"大分県"]
["R010376285","林　航",4,"大分県"]
["R010396503","林田　健太",4,"大分県"]
["R010350231","原　愛由那",4,"大分県"]
["R008626965","原　海斗",4,"大分県"]
["R009528800","原　和将",4,"大分県"]
["R010141822","原　冴空",4,"大分県"]
["R008174365","原　貴宏",4,"大分県"]
["R006937113","原　大恭",4,"大分県"]
["R006220095","原　正佳",4,"大分県"]
["R010376905","原　由緋",4,"大分県"]
["R006220934","原井　健太郎",4,"大分県"]
["R010243653","原田　圭",4,"大分県"]
["R010259430","原田　光清",4,"大分県"]
["R010376900","原田　柊",4,"大分県"]
["R010432628","原田　隼大",4,"大分県"]
["R010445841","原田　惺斗",4,"大分県"]
["R010100690","原田　拓弥",4,"大分県"]
["R010313781","原田　琢也",4,"大分県"]
["R001259685","原田　健士",4,"大分県"]
["R010376329","原田　利男",4,"大分県"]
["R010390454","原田　直也",4,"大分県"]
["R010397207","原田　昌樹",4,"大分県"]
["R004747215","原田　宗法",4,"大分県"]
["R010189330","原田　裕規",4,"大分県"]
["R010432649","原田　琉唯",4,"大分県"]
["R010376309","馬場　一颯",4,"大分県"]
["R004111605","馬場　睦紀",4,"大分県"]
["R010386823","東　更紗",4,"大分県"]
["R010376345","東　大晟",4,"大分県"]
["R010391930","東方　優也",4,"大分県"]
["R010393238","匹田　晟哉",4,"大分県"]
["R010376333","日隈　駿",4,"大分県"]
["R010313751","日坂　仁哉",4,"大分県"]
["R010390450","久志　泰謙",4,"大分県"]
["R003350890","久田　祥孝",4,"大分県"]
["R010448934","久恒　碧哉",4,"大分県"]
["R007090701","久野　章吾",4,"大分県"]
["R010376324","菱川　翔平",4,"大分県"]
["R009533422","日高　世那",4,"大分県"]
["R010243639","日高　雄登",4,"大分県"]
["R010159133","日野　文翔",4,"大分県"]
["R010432629","日野　開智",4,"大分県"]
["R010255184","日野　颯太",4,"大分県"]
["R004111368","日野　崇",4,"大分県"]
["R010262611","日野　雄太",4,"大分県"]
["R010352937","日野　陽平",4,"大分県"]
["R010350230","姫野　杏妃",4,"大分県"]
["R010189332","姫野　賢吾",4,"大分県"]
["R006220183","姫野　航平",4,"大分県"]
["R010390435","姫野　柊斗",4,"大分県"]
["R010351361","姫野　聖太",4,"大分県"]
["R010352969","姫野　聖也",4,"大分県"]
["R010243665","姫野　青空",4,"大分県"]
["R010255170","姫野　天翔",4,"大分県"]
["R007959194","姫野　貴裕",4,"大分県"]
["R010027875","姫野　太輔",4,"大分県"]
["R010214596","姫野　晴人",4,"大分県"]
["R010376279","姫野　雅俊",4,"大分県"]
["R009430435","姫野　真智代",4,"大分県"]
["R010262645","姫野　隆太",4,"大分県"]
["R010074020","姫野　涼",4,"大分県"]
["R010262638","平井　楓",4,"大分県"]
["R010311845","平井　慧佑",4,"大分県"]
["R010396576","平井　康寛",4,"大分県"]
["R010128055","平池　悠馬",4,"大分県"]
["R010382664","平岡　和博",4,"大分県"]
["R010047300","平川　絢大",4,"大分県"]
["R010259426","平川　功ニ",4,"大分県"]
["R007753846","平川　大雅",4,"大分県"]
["R001259898","平川　孝幸",4,"大分県"]
["R010444519","平川　龍大",4,"大分県"]
["R010303899","平嶋　僚太",4,"大分県"]
["R010432600","平沼　鉄生",4,"大分県"]
["R010415899","平野　翔太",4,"大分県"]
["R001259986","平野　雅也",4,"大分県"]
["R010120147","平野　眞丸",4,"大分県"]
["R008174064","平野　道弘",4,"大分県"]
["R010248581","平野　靖成",4,"大分県"]
["R010376335","平野　泰寛",4,"大分県"]
["R004386193","平畠　数大",4,"大分県"]
["R010214604","平林　昭二",4,"大分県"]
["R010352938","平林　拓朗",4,"大分県"]
["R001260016","平原　晃",4,"大分県"]
["R008797953","平原　悟",4,"大分県"]
["R002384049","平原　修人",4,"大分県"]
["R010351358","平松　寛大",4,"大分県"]
["R010159158","平松　孝汰朗",4,"大分県"]
["R005603370","平松　大輔",4,"大分県"]
["R010376295","平山　鷹也",4,"大分県"]
["R009197901","廣井　隼人",4,"大分県"]
["R010243642","廣岡　将",4,"大分県"]
["R010354789","廣川　陽介",4,"大分県"]
["R010262652","廣瀬　長治",4,"大分県"]
["R010390436","廣瀬　丈倖",4,"大分県"]
["R010069886","廣瀬　直軌",4,"大分県"]
["R008798253","廣瀬　尚人",4,"大分県"]
["R010167787","広瀬　颯人",4,"大分県"]
["R006872296","廣瀬　光雄",4,"大分県"]
["R010351380","廣瀬　有気",4,"大分県"]
["R010415892","廣瀬　優磨",4,"大分県"]
["R010240551","広瀬　椋平",4,"大分県"]
["R010364736","深井　瞭太",4,"大分県"]
["R010069897","深田　涼雅",4,"大分県"]
["R010093449","深見　精二",4,"大分県"]
["R009369562","福井　健斗",4,"大分県"]
["R010306447","福島　達也",4,"大分県"]
["R010248037","福島　直矢",4,"大分県"]
["R010394158","福島　莉聖",4,"大分県"]
["R010314822","福谷　洸明",4,"大分県"]
["R010281885","福田　和輝",4,"大分県"]
["R010376913","福田　喬志郎",4,"大分県"]
["R010281831","福田　紫月",4,"大分県"]
["R010444513","福田　瑞樹",4,"大分県"]
["R010391917","福田　芳樹",4,"大分県"]
["R010128062","福永　有基",4,"大分県"]
["R010390446","福丸　秀虎",4,"大分県"]
["R010396500","藤井　健人",4,"大分県"]
["R010214568","藤井　俊輔",4,"大分県"]
["R009408825","藤井　康之",4,"大分県"]
["R010352952","藤岡　典之",4,"大分県"]
["R010445838","藤川　碧冬",4,"大分県"]
["R010351372","藤澤　昂大",4,"大分県"]
["R010313762","藤澤　康秀",4,"大分県"]
["R010396584","藤澤　琉人",4,"大分県"]
["R010313773","藤島　虹太",4,"大分県"]
["R010445847","藤島　星太",4,"大分県"]
["R008173667","藤末　学",4,"大分県"]
["R010261608","藤末　琉生",4,"大分県"]
["R010352946","藤田　翔",4,"大分県"]
["R010444499","藤田　恭輔",4,"大分県"]
["R010262648","藤田　健志",4,"大分県"]
["R010352948","藤田　倖輝",4,"大分県"]
["R010355729","藤田　翔輝",4,"大分県"]
["R010313758","藤田　匠平",4,"大分県"]
["R010167754","藤田　誠治",4,"大分県"]
["R010358014","藤田　聖也",4,"大分県"]
["R010432652","藤田　大幹",4,"大分県"]
["R010356133","藤田　望亜",4,"大分県"]
["R010391946","藤田　輝",4,"大分県"]
["R002530888","藤田　光弘",4,"大分県"]
["R006220837","藤高　豊彦",4,"大分県"]
["R006123862","藤並　敬大",4,"大分県"]
["R010445245","藤並　優月",4,"大分県"]
["R010396574","藤野　聖也",4,"大分県"]
["R010396505","藤野　哲哉",4,"大分県"]
["R007090941","藤野　誠",4,"大分県"]
["R010396545","藤松　秀那",4,"大分県"]
["R003351233","藤松　竜也",4,"大分県"]
["R010214617","藤本　宏平",4,"大分県"]
["R010303865","藤本　諒哉",4,"大分県"]
["R010261612","藤原　樂",4,"大分県"]
["R010421581","藤原　翔大",4,"大分県"]
["R010448931","藤原　迅",4,"大分県"]
["R005467945","藤原　妙子",4,"大分県"]
["R010262612","藤原　輝",4,"大分県"]
["R010352967","藤原　遥斗",4,"大分県"]
["R010159165","藤原　秀俊",4,"大分県"]
["R007959547","藤原　宏",4,"大分県"]
["R010255167","藤原　悠吾",4,"大分県"]
["R010364707","二神　翔馬",4,"大分県"]
["R010376304","渕上　力輝",4,"大分県"]
["R010396555","渕野　椋斗",4,"大分県"]
["R010169058","船杉　祐斗",4,"大分県"]
["R010243661","古川　大翔",4,"大分県"]
["R010376334","古代　峻也",4,"大分県"]
["R010432642","古寺　明日架",4,"大分県"]
["R010214608","古野　龍",4,"大分県"]
["R010396566","古野　渉",4,"大分県"]
["R001260405","古畑　親治",4,"大分県"]
["R010259415","戸次　敦",4,"大分県"]
["R002678009","保明　栄治",4,"大分県"]
["R010214547","帆足　大",4,"大分県"]
["R010314803","帆足　優莉",4,"大分県"]
["R010347384","宝珠　史洋",4,"大分県"]
["R010444504","法野　功太郎",4,"大分県"]
["R010448927","外池　健流",4,"大分県"]
["R010445842","外園　優心",4,"大分県"]
["R010355732","外薗　澪",4,"大分県"]
["R010376300","星　翔也",4,"大分県"]
["R010056105","星野　杏",4,"大分県"]
["R009484728","星野　嵐",4,"大分県"]
["R010354805","堀　宏斗",4,"大分県"]
["R010444520","堀　悠佑",4,"大分県"]
["R010356144","堀　優太",4,"大分県"]
["R010262629","堀江　晴輝",4,"大分県"]
["R010396512","堀切　鈴央",4,"大分県"]
["R010448646","堀田　憲利",4,"大分県"]
["R010376308","堀部　奏人",4,"大分県"]
["R010448636","本郷　魁正",4,"大分県"]
["R010354651","本城　瑛翔",4,"大分県"]
["R010351374","本住　蓮",4,"大分県"]
["R010396572","本田　敬恭",4,"大分県"]
["R010352975","本田　裟久哉",4,"大分県"]
["R001258899","本田　淳仁",4,"大分県"]
["R010120173","本多　太郎",4,"大分県"]
["R010364724","本田　輝",4,"大分県"]
["R010396569","本田　郁恭",4,"大分県"]
["R010355739","本田　陽司",4,"大分県"]
["R010396502","本間　智己",4,"大分県"]
["R010376912","本間　塁",4,"大分県"]
["R010314830","前園　健晴",4,"大分県"]
["R010159171","前田　耕輔",4,"大分県"]
["R010167793","前田　峻希",4,"大分県"]
["R006220192","前田　貴浩",4,"大分県"]
["R010240574","前田　優希",4,"大分県"]
["R010264736","前田　悠希",4,"大分県"]
["R010243663","前橋　咲太",4,"大分県"]
["R010432653","マガリェンス　アルナウド",4,"大分県"]
["R010248031","牧　青空",4,"大分県"]
["R010093496","牧　大佑",4,"大分県"]
["R008793276","牧野　翔",4,"大分県"]
["R010314832","桝田　憲人",4,"大分県"]
["R010128067","桝田　弘人",4,"大分県"]
["R010262614","増田　真聡",4,"大分県"]
["R010449558","桝永　真斗",4,"大分県"]
["R010214601","増野　凌雅",4,"大分県"]
["R010303852","増村　潮",4,"大分県"]
["R004386111","松井　孝仁",4,"大分県"]
["R010432611","松尾　歩",4,"大分県"]
["R010218308","松尾　一生",4,"大分県"]
["R009546949","松尾　一平",4,"大分県"]
["R007753660","松尾　和文",4,"大分県"]
["R005528097","松尾　国洋",4,"大分県"]
["R007334951","松尾　賢一",4,"大分県"]
["R010415893","松尾　洸陽",4,"大分県"]
["R010444487","松尾　征吾",4,"大分県"]
["R010262634","松尾　琢磨",4,"大分県"]
["R010448941","松尾　晴登",4,"大分県"]
["R010007816","松尾　勇",4,"大分県"]
["R010303854","松尾　勇斗",4,"大分県"]
["R010391936","松尾　涼真",4,"大分県"]
["R010390430","松尾　玲桜馬",4,"大分県"]
["R010351363","松木　明翔",4,"大分県"]
["R010415908","松坂　童夢",4,"大分県"]
["R010396597","松﨑　裕太郎",4,"大分県"]
["R010390425","松下　昂玄",4,"大分県"]
["R010314812","松下　衣舞希",4,"大分県"]
["R010390437","松下　昊稀",4,"大分県"]
["R010390426","松下　真也",4,"大分県"]
["R007959723","松下　立夫",4,"大分県"]
["R010416221","松下　響",4,"大分県"]
["R009546806","松下　稜河",4,"大分県"]
["R010376348","松島　賢汰",4,"大分県"]
["R010448936","松高　蓮",4,"大分県"]
["R010391921","松田　健吾",4,"大分県"]
["R010303897","松田　尚之",4,"大分県"]
["R010311808","松田　信行",4,"大分県"]
["R010100662","松田　幸雄",4,"大分県"]
["R010214585","松胴　敦",4,"大分県"]
["R010448234","松浪　大",4,"大分県"]
["R010376327","松原　舜",4,"大分県"]
["R010432598","松原　巧",4,"大分県"]
["R007002991","松原　広幸",4,"大分県"]
["R004714970","松原　政司",4,"大分県"]
["R010347359","松原　唯衣",4,"大分県"]
["R010376312","松原　雄梧",4,"大分県"]
["R010007830","松村　征治",4,"大分県"]
["R010354652","松村　晟直",4,"大分県"]
["R010416213","松村　真那",4,"大分県"]
["R010416214","松村　未来",4,"大分県"]
["R010281857","松本　明広",4,"大分県"]
["R010388060","松本　蒼空",4,"大分県"]
["R009533486","松本　圭太",4,"大分県"]
["R010027881","松本　元希",4,"大分県"]
["R010356126","松本　竜弥",4,"大分県"]
["R010386807","松本　ひなの",4,"大分県"]
["R010248579","松本　洋一",4,"大分県"]
["R010071978","松本　聖輝",4,"大分県"]
["R010350224","松本　芽依",4,"大分県"]
["R008634520","松元　勇",4,"大分県"]
["R010093445","松本　侑樹",4,"大分県"]
["R004793940","松本　祐輔",4,"大分県"]
["R010388044","松屋　海",4,"大分県"]
["R010007817","松吉　宏剛",4,"大分県"]
["R010313757","馬見塚　守",4,"大分県"]
["R010263771","丸石　蒼太",4,"大分県"]
["R010358003","三浦　櫂斗",4,"大分県"]
["R005603583","三浦　和美",4,"大分県"]
["R008634283","三浦　憲太郎",4,"大分県"]
["R010281804","三浦　建人",4,"大分県"]
["R010376286","三浦　弘大",4,"大分県"]
["R010120131","三浦　哲郎",4,"大分県"]
["R010432617","三浦　永遠",4,"大分県"]
["R010445836","三浦　隼",4,"大分県"]
["R006932437","三浦　雄大",4,"大分県"]
["R010351385","三重野　颯太",4,"大分県"]
["R006125772","三重野　英人",4,"大分県"]
["R010391950","三木　亨祐",4,"大分県"]
["R008523181","三木　慎博",4,"大分県"]
["R010390415","三木　誉歩斗",4,"大分県"]
["R010240577","三木　雄斗",4,"大分県"]
["R010391914","三代　賢司",4,"大分県"]
["R005987582","三代　義彦",4,"大分県"]
["R004060374","水島　義規",4,"大分県"]
["R010083858","水島　澪生",4,"大分県"]
["R010303885","水本　翔悠春",4,"大分県"]
["R010214618","水本　大登",4,"大分県"]
["R008797892","溝口　一陽",4,"大分県"]
["R010162993","溝口　飛和",4,"大分県"]
["R010255189","御手洗　響友",4,"大分県"]
["R004794073","御手洗　佑太",4,"大分県"]
["R010386812","道久　絵理",4,"大分県"]
["R010376283","三井　雄大",4,"大分県"]
["R010214591","三橋　諒",4,"大分県"]
["R010264739","三ツ股　郁海",4,"大分県"]
["R002917494","三笘　晋也",4,"大分県"]
["R001261060","三苫　靖",4,"大分県"]
["R010350225","南　佳織",4,"大分県"]
["R010386495","南　桂アレン",4,"大分県"]
["R010376920","南　豪哉",4,"大分県"]
["R010248586","南　周哉",4,"大分県"]
["R010352957","南　岳嗣",4,"大分県"]
["R010355741","南　早人",4,"大分県"]
["R006574011","南　裕",4,"大分県"]
["R010214563","峰尾　勝",4,"大分県"]
["R008480947","峯本　仁貴",4,"大分県"]
["R010416223","御幡　優介",4,"大分県"]
["R003677432","三原　将弥",4,"大分県"]
["R010376288","三股　正直",4,"大分県"]
["R010376890","宮井　翔太",4,"大分県"]
["R010159137","宮内　廉斗",4,"大分県"]
["R010376899","宮岡　泰河",4,"大分県"]
["R004793852","宮崎　友雅",4,"大分県"]
["R010364734","宮崎　正浩",4,"大分県"]
["R010376918","宮崎　留希矢",4,"大分県"]
["R010396588","宮里　直太郎",4,"大分県"]
["R010027911","宮田　侑揮",4,"大分県"]
["R010261593","宮成　啓介",4,"大分県"]
["R010351384","宮野　拓也",4,"大分県"]
["R007003060","宮原　雄一",4,"大分県"]
["R010444497","宮原　良介",4,"大分県"]
["R010261610","宮部　俊輝",4,"大分県"]
["R010352966","宮本　健介",4,"大分県"]
["R010262630","宮本　航志郎",4,"大分県"]
["R010390429","宮本　晄汰",4,"大分県"]
["R010356116","宮本　崇史",4,"大分県"]
["R010354797","宮本　陽紀",4,"大分県"]
["R010391945","宮本　悠希",4,"大分県"]
["R010243668","宮本　幸亜",4,"大分県"]
["R010415889","宮本　遼一",4,"大分県"]
["R010347376","三善　李空",4,"大分県"]
["R010314817","向井　翔夢",4,"大分県"]
["R010376894","向　拓磨",4,"大分県"]
["R010390455","牟田　風太",4,"大分県"]
["R010240541","鞭馬　大輝",4,"大分県"]
["R010247786","宗岡　胡桃",4,"大分県"]
["R004793755","宗岡　亮次",4,"大分県"]
["R010358006","村井　栄仁",4,"大分県"]
["R010045825","村井　拓磨",4,"大分県"]
["R010354655","村岡　拓海",4,"大分県"]
["R010162980","村上　一颯",4,"大分県"]
["R010214582","村上　叶恋",4,"大分県"]
["R010314806","村上　煌誠",4,"大分県"]
["R010313763","村上　瑳彩",4,"大分県"]
["R010347370","村上　紫叶",4,"大分県"]
["R010314805","村上　太惺",4,"大分県"]
["R009484986","村上　直士",4,"大分県"]
["R010376902","村上　直哉",4,"大分県"]
["R010376898","村上　滉心",4,"大分県"]
["R001261237","村上　康哉",4,"大分県"]
["R010027901","村上　裕祐",4,"大分県"]
["R010128051","村上　悠晟",4,"大分県"]
["R001737174","村上　洋平",4,"大分県"]
["R001252211","村瀬　勇",4,"大分県"]
["R010303878","村松　凌",4,"大分県"]
["R010162976","村本　輝",4,"大分県"]
["R008797908","村谷　祐一",4,"大分県"]
["R010214562","村山　武志",4,"大分県"]
["R010314810","用松　聖登",4,"大分県"]
["R010189285","元井　達貴",4,"大分県"]
["R010159162","元井　陽太",4,"大分県"]
["R010306448","元木　勇太",4,"大分県"]
["R010351357","元永　和真",4,"大分県"]
["R003421684","本野　秀貴",4,"大分県"]
["R010303904","本山　蓮",4,"大分県"]
["R010243647","森　愛斗",4,"大分県"]
["R010376895","森　栄紳",4,"大分県"]
["R010255181","森　海翔",4,"大分県"]
["R010214605","森　恭子",4,"大分県"]
["R010390423","森　健太朗",4,"大分県"]
["R010354653","森　桜大朗",4,"大分県"]
["R010120183","森　春樹",4,"大分県"]
["R010390416","森　勇太",4,"大分県"]
["R010214606","森　凛人",4,"大分県"]
["R010027876","森　隆嗣",4,"大分県"]
["R010281811","森崎　敬三",4,"大分県"]
["R010396548","森崎　翔愛",4,"大分県"]
["R010448918","森崎　瑠聖",4,"大分県"]
["R010113566","森﨑　龍之介",4,"大分県"]
["R010421575","森崎　瑠菜",4,"大分県"]
["R010261595","森迫　遥希",4,"大分県"]
["R010159147","森迫　聖",4,"大分県"]
["R010415902","森下　柊飛",4,"大分県"]
["R010069888","森下　晴悟",4,"大分県"]
["R010128061","森下　悠",4,"大分県"]
["R009547081","森田　章吾",4,"大分県"]
["R010391928","森田　尚貴",4,"大分県"]
["R010259432","森永　和彦",4,"大分県"]
["R010415904","森光　皇介",4,"大分県"]
["R006221191","森本　拓",4,"大分県"]
["R007753679","森本　響",4,"大分県"]
["R010416219","森山　敦能",4,"大分県"]
["R010350233","森山　久美",4,"大分県"]
["R010416222","森山　皓士郎",4,"大分県"]
["R010448946","森山　大翔",4,"大分県"]
["R010376911","矢川　魁人",4,"大分県"]
["R010354803","薬師寺　和波",4,"大分県"]
["R010352985","薬師寺　章伊",4,"大分県"]
["R010262653","薬師寺　凌矢",4,"大分県"]
["R009554735","八坂　直輝",4,"大分県"]
["R009460472","八坂　秀青",4,"大分県"]
["R010162983","屋敷　優成",4,"大分県"]
["R010396581","矢治　弘志郎",4,"大分県"]
["R007757602","保田　拓海",4,"大分県"]
["R010214593","安田　晴翔",4,"大分県"]
["R001261413","安永　正宏",4,"大分県"]
["R010093501","安波　俊英",4,"大分県"]
["R010214590","安波　大和",4,"大分県"]
["R010376892","安久　克也",4,"大分県"]
["R010100689","保本　忠広",4,"大分県"]
["R010314816","矢田　彩都",4,"大分県"]
["R010350227","矢田　景子",4,"大分県"]
["R010016094","矢田　理宇心",4,"大分県"]
["R010027880","柳井　颯太",4,"大分県"]
["R010303889","柳　侑吾",4,"大分県"]
["R010156516","矢野　翔太郎",4,"大分県"]
["R010415909","矢野　想翔",4,"大分県"]
["R009369544","矢野　太一",4,"大分県"]
["R010281882","矢野　巽也",4,"大分県"]
["R010255171","矢野　十央南",4,"大分県"]
["R010445840","矢野　虎乃介",4,"大分県"]
["R010078599","矢野　祐樹",4,"大分県"]
["R010047302","矢野　佑粋",4,"大分県"]
["R010281830","矢野　譲",4,"大分県"]
["R010421582","矢野　龍聖",4,"大分県"]
["R010388051","矢野　陵太",4,"大分県"]
["R010347365","矢羽田　翔音",4,"大分県"]
["R010391952","矢羽田　澪音",4,"大分県"]
["R010352990","矢部　泰史",4,"大分県"]
["R010159134","山岡　航大",4,"大分県"]
["R004385820","山北　治雄",4,"大分県"]
["R010354810","山岸　琥生",4,"大分県"]
["R010214476","山岸　琉佳",4,"大分県"]
["R010100675","山口　彰",4,"大分県"]
["R010306445","山口　健一郎",4,"大分県"]
["R009198265","山口　卓己",4,"大分県"]
["R010247789","山口　環",4,"大分県"]
["R001965722","山口　大介",4,"大分県"]
["R010169051","山口　氷河",4,"大分県"]
["R010303867","山崎　健治",4,"大分県"]
["R010214603","山崎　隼樹",4,"大分県"]
["R008174338","山﨑　爽暉",4,"大分県"]
["R006220873","山崎　武志",4,"大分県"]
["R010027826","山崎　友樹",4,"大分県"]
["R010391954","山崎　成遂",4,"大分県"]
["R010248590","山崎　大和",4,"大分県"]
["R010386820","山﨑　夢華",4,"大分県"]
["R010248576","山下　瞬亮",4,"大分県"]
["R010388056","山下　空",4,"大分県"]
["R007090792","山下　寛明",4,"大分県"]
["R010376893","山下　靖之",4,"大分県"]
["R010396554","山下　勇翔",4,"大分県"]
["R010376896","山下　竜二",4,"大分県"]
["R010358001","山添　陽生",4,"大分県"]
["R010167742","山田　俊輔",4,"大分県"]
["R010376367","山田　大雅",4,"大分県"]
["R010214542","山田　宏和",4,"大分県"]
["R010396589","山田　将来",4,"大分県"]
["R010396544","山田　結和",4,"大分県"]
["R010448238","山田　渉",4,"大分県"]
["R010214599","山西　蒼",4,"大分県"]
["R010303876","山西　翼",4,"大分県"]
["R006872311","山西　昇",4,"大分県"]
["R006220101","山根　雄治",4,"大分県"]
["R010189328","山野　聡士",4,"大分県"]
["R010189350","山野　雄士",4,"大分県"]
["R010445831","山野　裕斗",4,"大分県"]
["R010390428","山村　一聡",4,"大分県"]
["R010445843","山本　海璃",4,"大分県"]
["R006872612","山本　一夫",4,"大分県"]
["R006125639","山本　一広",4,"大分県"]
["R005603228","山本　康平",4,"大分県"]
["R010303888","山本　祥二",4,"大分県"]
["R008626886","山本　真乃介",4,"大分県"]
["R010189317","山本　純平",4,"大分県"]
["R010376891","山本　空",4,"大分県"]
["R010313746","山本　崇史",4,"大分県"]
["R009533608","山本　達之介",4,"大分県"]
["R010400187","山本　隼斗",4,"大分県"]
["R010169047","山本　政之介",4,"大分県"]
["R010262631","山本　祐翔",4,"大分県"]
["R010007812","山本　吉純",4,"大分県"]
["R010214619","山矢　修冬",4,"大分県"]
["R010386806","矢幡　芽生",4,"大分県"]
["R005164312","矢幡　裕一",4,"大分県"]
["R010169045","湯浅　翼",4,"大分県"]
["R010347364","湯浅　悠希",4,"大分県"]
["R006872339","湯浅　陽介",4,"大分県"]
["R010448921","湯浅　諒",4,"大分県"]
["R010214589","幸　偉風",4,"大分県"]
["R010396590","幸　凱斗",4,"大分県"]
["R010156526","幸　優成",4,"大分県"]
["R010214620","雪野　知花",4,"大分県"]
["R010352958","油野　陣大",4,"大分県"]
["R010261479","柚木　貴博",4,"大分県"]
["R010047306","弓場　将輝",4,"大分県"]
["R010448641","用正　蓮歩",4,"大分県"]
["R010298872","横井　俊斗",4,"大分県"]
["R010354800","横岩　颯",4,"大分県"]
["R010214553","横尾　茂",4,"大分県"]
["R010354817","横尾　夏希",4,"大分県"]
["R010376889","横尾　侑磨",4,"大分県"]
["R010364711","横大路　寛太",4,"大分県"]
["R010262633","横田　翔也",4,"大分県"]
["R010396519","横野　陸斗",4,"大分県"]
["R010391956","横道　俊輔",4,"大分県"]
["R010261614","横山　翔祗",4,"大分県"]
["R010356114","横山　淳",4,"大分県"]
["R010356123","横山　湊",4,"大分県"]
["R010448250","吉岡　七海",4,"大分県"]
["R010388047","吉岡　頼星",4,"大分県"]
["R001261811","吉川　和仁",4,"大分県"]
["R010281855","吉川　哲平",4,"大分県"]
["R010352978","吉川　徳彦",4,"大分県"]
["R010352988","吉川　大貴",4,"大分県"]
["R009430268","吉川　美里",4,"大分県"]
["R010214588","吉川　獅子心",4,"大分県"]
["R010354791","由川　凛大郞",4,"大分県"]
["R010214580","吉賀　信幸",4,"大分県"]
["R010352949","吉武　海都",4,"大分県"]
["R003421480","吉武　毅",4,"大分県"]
["R010390427","吉田　蒼威",4,"大分県"]
["R010056093","吉田　圭佑",4,"大分県"]
["R010255187","吉田　大晃",4,"大分県"]
["R010356132","吉田　智樹",4,"大分県"]
["R008798509","吉田　正男",4,"大分県"]
["R010448929","吉田　匡",4,"大分県"]
["R010444488","吉田　廉",4,"大分県"]
["R010448644","吉永　優希",4,"大分県"]
["R005603875","吉野　公司",4,"大分県"]
["R010347374","吉野　浩輔",4,"大分県"]
["R010448917","吉野　大峨",4,"大分県"]
["R010071979","吉野　遥紀",4,"大分県"]
["R010313768","吉野　遥菜",4,"大分県"]
["R008798466","吉原　喬樹",4,"大分県"]
["R010448638","吉廣　愛琉",4,"大分県"]
["R010396508","吉弘　周平",4,"大分県"]
["R010396595","吉廣　心太郎",4,"大分県"]
["R010120134","吉廣　年男",4,"大分県"]
["R010415907","吉弘　怜大",4,"大分県"]
["R001261918","吉松　健",4,"大分県"]
["R006147057","吉村　一生",4,"大分県"]
["R007728716","吉村　純二",4,"大分県"]
["R010314819","吉村　翼",4,"大分県"]
["R010356131","吉村　剣",4,"大分県"]
["R010189303","吉村　一",4,"大分県"]
["R010432635","吉村　由人",4,"大分県"]
["R001261936","佳元　省三",4,"大分県"]
["R010352954","吉本　隼磨",4,"大分県"]
["R010167789","吉元　優哉",4,"大分県"]
["R010248568","四井　吏響",4,"大分県"]
["R010314821","四井　琉偉",4,"大分県"]
["R009533644","米倉　孝一",4,"大分県"]
["R010396542","米澤　邦彦",4,"大分県"]
["R001261972","米田　尚司",4,"大分県"]
["R010313759","米田　拓",4,"大分県"]
["R010376908","餘野　尋斗",4,"大分県"]
["R010162992","若林　歩夢",4,"大分県"]
["R010281870","若林　大暉",4,"大分県"]
["R010156510","若松　莉駒",4,"大分県"]
["R010391934","若松　遼真",4,"大分県"]
["R010415901","和合　奏汰",4,"大分県"]
["R010298862","渡邊　葵",4,"大分県"]
["R008797971","渡辺　晃子",4,"大分県"]
["R010314828","渡邉　偉央",4,"大分県"]
["R010262616","渡邊　一星",4,"大分県"]
["R010444510","渡邊　瑛太",4,"大分県"]
["R009554896","渡辺　海斗",4,"大分県"]
["R010313778","渡邉　我聞",4,"大分県"]
["R010243636","渡辺　嵩也",4,"大分県"]
["R010259425","渡邊　舜",4,"大分県"]
["R010376897","渡邊　丈一朗",4,"大分県"]
["R010376909","渡辺　勝利",4,"大分県"]
["R004385945","渡辺　清一",4,"大分県"]
["R010262617","渡辺　創己",4,"大分県"]
["R010159130","渡邉　泰人",4,"大分県"]
["R010113537","渡邉　鷹也",4,"大分県"]
["R010255163","渡辺　剛大",4,"大分県"]
["R010007796","渡辺　達也",4,"大分県"]
["R010083873","渡辺　大翔",4,"大分県"]
["R010444491","渡邉　直耶",4,"大分県"]
["R008797698","渡辺　秀喜",4,"大分県"]
["R010390424","渡邉　寛人",4,"大分県"]
["R001262096","渡辺　寛幸",4,"大分県"]
["R010189289","渡邉　優憲",4,"大分県"]
["R009659544","渡邉　友輔",4,"大分県"]
["R010306435","和田　優作",4,"大分県"]
["R010243637","和間　翔",4,"大分県"]