{"text_format":"1","workbook":"xlsx","n_sheets":20,"sheets":["出場チーム","要項","組合せ抽選用","会場図","MCM資料","累積警告・退場","予選リーグ","予選リーグ (2)","予選リーグ公式記録(A北)","予選リーグ公式記録(A南)","予選リーグ公式記録(B北)","予選リーグ公式記録(B南)","決勝トーナメント","決勝T公式記録","準決勝公式記録No,29","準決勝公式記録No,31","決勝公式記録 No,33","審判員","選手名簿","項目"],"not_rendered":{"charts":0,"images":2,"macros":1,"external_links":0,"defined_names":9,"comments":0,"pivot_tables":0},"unopened":[],"bounds":{"document_bytes":16777216,"sheet_cells":100000,"rows_first":2000,"rows_last":500,"rows_between":2000,"halvings":0,"cell_chars":16384,"cell_head_chars":4096},"cells_cut":0,"cells_raw":0,"read":"whole","date_system":"1900"}

{"sheet":"出場チーム","index":0,"n_rows":40,"n_cols":12,"rows_kept":40,"cut":false,"hidden":false,"merged":[[39,1,39,4],[39,5,39,8],[39,9,39,11],[0,0,0,8],[0,9,0,11],[38,1,38,4],[38,5,38,8],[38,9,38,11],[14,7,15,7],[10,0,20,0],[12,7,13,7],[10,7,11,7],[16,7,17,7]]}
[{"$f":"要項!C2","v":"OFA 第 31 回 大分県ジュニアサッカー選手権大会"},null,null,null,null,null,null,null,null,"抽選会"]
[]
["１．日時",{"$f":"要項!C49","v":"11月24日(日)　18：30〜"}]
[]
["２．場所",{"$f":"要項!H49","v":"TOSテレビ大分　大会議室"}]
[]
["３．参加チーム",null,24,"チーム"]
[]
["Aブロック（フリー）",null,null,null,null,null,null,"Bブロック（奇数）"]
["地　　区","チーム名","申込","参加料","出欠",null,null,"地　　区","チーム名","申込","参加料","出欠"]
["大分","寒田少年サッカークラブ","○","11/5",null,null,null,"中津","ＦＣ中津ジュニア","○","2019-11-19"]
[null,"明野西ＪＦＣ","○","11/5",null,null,null,null,"はやぶさフットボールクラブ","○","11/5"]
[null,"ＫＩＮＧＳ　ＦＯＯＴＢＡＬＬＣＬＵＢ　Ｕ－１２","○","11/7",null,null,null,"速杵国東","日出サッカースポーツ少年団","○","11/5"]
[null,"日岡サッカースポーツ少年団","○","11/8",null,null,null,null,"ＦＣ安岐","○","11/5"]
[null,"スマイス　セレソン　スポーツクラブ","○","2019-11-11",null,null,null,"日田","太陽スポーツクラブ大分西","○","11/5"]
[null,"ブルーウイングフットボールクラブ","○","2019-11-11",null,null,null,null,"ＦＣアリアーレ","○","11/5"]
[null,"大分トリニータＵ－１２","○","2019-11-15",null,null,null,"別府","別府フットボールクラブ．ミネルバＵ－１２","△","11/5"]
[null,"ドリームキッズフットボールクラブ","○","2019-11-15",null,null,null,null,"スマイス・セレソン","○","2019-11-22"]
[null,"カティオーラフットボールクラブＵ－１２","○","2019-11-22",null,null,null,"宇佐高田","四日市南ＳＳＣ","○","2019-11-15"]
[null,"カティオーラフットボールクラブ　大在","○","2019-11-22",null,null,null,"佐伯","弥生少年サッカークラブ","○","2019-11-13"]
[null,"ＭＳＳ","○","2019-11-22",null,null,null,"豊肥","ＦＣ大野","○","2019-11-19"]
[null,null,null,null,null,null,null,"臼杵","市浜レッドソックス","○","11/1"]
[null,null,null,null,null,null,null,"津久見","千怒サッカースポーツ少年団","○","2019-11-14"]
[]
["４．会議次第"]
["　①ジュニア委員長あいさつ"]
["　②審判部より"]
["　　・大会１日目（予選リーグ）は、帯同審判員を（３級以上）チームで帯同する。"]
["　　　※出場チームにて責任を持って準備する事。"]
["　③要項の確認、質問、諸注意"]
["　④抽選"]
[]
["５．その他"]
["　　①選手証/指導者資格証/審判資格証を、持参のこと。"]
["　　②領収証は、｢振込みの際の領収証」にかえさせていただきます。"]
["　　③大会期間中は、「駐車証」を」車内に表示すること。"]
[]
["６．試合会場"]
[null,"会場",null,null,null,"住所",null,null,null,"電話番号"]
["A　/　B","大分ｽﾎﾟｰﾂ公園 昭和電工ｻｯｶｰ･ﾗｸﾞﾋﾞｰ場",null,null,null,"大分市大字松岡6841番地",null,null,null,"097-528-7700\n(管理事務所)"]

{"sheet":"要項","index":1,"n_rows":102,"n_cols":13,"rows_kept":102,"cut":false,"hidden":false,"merged":[[5,2,5,14],[0,12,0,14],[0,0,0,11]]}
[{"$f":"C2","v":"OFA 第 31 回 大分県ジュニアサッカー選手権大会"},null,null,null,null,null,null,null,null,null,null,null,"大会要項(案)"]
[1,"名　称","OFA 第 31 回 大分県ジュニアサッカー選手権大会"]
[2,"主　催","一般社団法人　大分県サッカー協会"]
[3,"主　管","一般社団法人　大分県サッカー協会ジュニア委員会"]
[4,"後　援","大分県教育委員会、大分県体育協会、TOSテレビ大分  大分合同新聞社(依頼中)"]
[5,"特別協賛","『対話式進学塾1対1ネッツ』"]
[6,"協賛","㈱モルテン"]
[7,"日　程","2019年12月7日(土)～8日(日)＊監督会議：7日(土)9:00より"]
[8,"会　場","大分県大分スポーツ公園　昭和電工サッカー・ラグビー場　"]
[null,null,"住所：大分市大字松岡6841　　電話番号：097-528-7700"]
[9,"参加資格","①日本サッカー協会第Ⅳ種に加盟登録したチームであること。"]
[null,null,"②各地区の代表チームであること。"]
[null,null,"③上記チームに所属し、2008年4月2日以降に出生(5年生以下)した選手で構成されたチームであること。"]
[null,null,"④日本協会発行の登録選手証を有し当日持っている者で、選手8名以上16名以内とする。"]
[null,null," 　協会登録チームからは1チームのみ出場できる。但し、5年生が16名以上いる場合、"]
[null,null," 　2チームの出場を認めるが、地区予選時及び上位大会でのメンバーの入れ替えはできない。"]
[null,null," 　その際、それぞれのチームに別々の指導者が帯同すること。同じ指導者が"]
[null,null,"　 チームにまたがって登録することはできない。審判員の扱いも同様である。"]
[null,null,"⑤大分県サッカー協会に2チーム以上加盟登録している同母体のチームについては、2重登録を禁止する。"]
[null,null,"　 また、地区大会と県大会においては、違うチームでの出場はできない。"]
[null,null,"　 加えて、年間を通じて同じチームで活動するチームであることとする。"]
[null,null,"　 他のチームで予選大会に出場またはエントリーされた移籍選手の出場は認めない。"]
[null,null,"　 移籍選手含め、9月末日までに選手登録及び移籍手続きが完了し、WEBエントリー申請ができることとする。"]
[null,null,"⑥健康であり、且つ保護者の同意を得た選手。"]
[null,null,"⑦傷害保険(スポーツ安全傷害保険)に加入しているチーム及び選手であり、大会中におけるケガや、"]
[null,null," 　賠償金の発生する損害については、当事者で解決すること。"]
[null,null,"⑧指導者は、当該チームを把握指導する責任ある指導者5名以内で、内1名はJFA公認指導者ライセンスを有する事。"]
[null,null,"⑨選手及び指導者、帯同審判員の最終変更は、上記に該当する者とし、11月28日(木)21:00までとする。"]
[null,null,"　 ただし、最終変更後に怪我や流行性の疾患などによるやむを得ない理由がある場合は、県事務局にて協議の上、認めることもある。"]
[null,null,"⑩大会1日目(予選リーグ)には、3級以上の帯同審判員を必ず有すること。"]
[null,null,"⑪大会運営に協力でき、マナーを守るチーム(保護者も含む)であること。"]
[10,"出場枠","各地区からの代表24チームとする。"]
[null,null,"ただし、24チームに満たない場合は、比例割の小数ポイントが高い順に推薦する。"]
[11,"大会申込","①11月21日(木)15:00までに、大会参加費(10,000円)の振り込みを済ませること。"]
[null,null,null,"《振込先》　大分銀行　南支店　普通　7500897","大分銀行　　南支店　　普通　　7500897"]
[null,null,null,"                               　　　　一般社団法人　大分県サッカー協会　代表理事　首藤隆憲","一般社団法人　　大分県サッカー協会　　"]
[null,null,"②11月1日(金)～11月21日(木)21:00までに、KICK OFF(JFA ID)の大会(大会への参加申込)より申込願います。"]
[null,null,null,"【大会エントリーガイド】を必ず確認し、対応をお願いします。"]
[null,null,null,"※ベンチスタッフは、大会申込のスタッフ情報に申請した5名のうち3名以内とし、内1名はJFA公認指導者ライセンス\nを有する事。\n"]
[null,null,null,"※帯同審判一覧及びその他スタッフ一覧の【帯同審判】は使用しない事。(各チーム責任を持って準備しておく事)。"]
[null,null,null,"※申請受理されているか確認の事。【大会エントリーガイド参照】"]
[null,null,null,null,"修正及び変更手続きについては、WEBエントリーの問い合わせ先まで連絡の事。"]
[null,null,null,"※プログラム作成の関係でできるだけ早めの提出をお願いします。※これ以降の変更は大会プログラムに反映されません。"]
[null,null,null,"選手及び指導者の変更は開幕10日前まで［11月28日(木)21:00申込完了］とする。"]
[null,null,null,"　　ただし、大会プログラムの掲載は、変更できないことをご了承ください。"]
[null,null,"③連絡先　　　一般社団法人　大分県サッカー協会ジュニア委員会　委員長　安東幹雄"]
[null,null,null," 自宅(Fax)：097-597-1834   携帯：090-8668-0697"]
[]
[12,"抽選方法","11月24日(日)　18：30〜",null,null,null,null,"TOSテレビ大分　大会議室"]
[null,null,"※必ず指導者が出席すること。"]
[13,"競技規則","本大会競技規則は、2018/2019(公財)日本サッカー協会競技規則及び8人制サッカー競技規則に基づく。"]
[null,null,"但し、以下の項目については、特に本大会用として大会規定を定める。"]
[null,null,"①ユニホームは、今大会で認定している正・副すべて異色のものを用意し、いずれも背番号は選手本人と一致すること。"]
[null,null,"　 又、番号は通し番号が望ましい。シャツについては、胸番号/背番号必須で一致してる事とする。"]
[null,null," ・半袖ユニホームの下にアンダーシャツを着用する場合は、その色が袖の主たる色と同色であること。"]
[null,null," ・広告表示については、ユニホーム規定により承認された場合のみ認める。"]
[null,null," ・JFA規約 ユニホームの既定 第5条(7)その他2に明記されているとおり、「チームは、各国代表チーム及び"]
[null,null,"　プロクラブチームのレプリカを着用して公式競技会に出場することはできない」こととする。"]
[null,null,"②ユニフォームの調整は、1日目は9:00からの監督会議の際に、2日目は1試合目の試合開始70分前にMCMを行い決定する。"]
[null,null,"　 2試合目以降は、試合終了後に本部にて決定。"]
[null,null,"　 1日目の監督会議及び2日目の1試合目のMCM時は、FP用/GK用各2種類を持参すること。"]
[null,null,"③本大会期間中、警告を2回受けた選手は次の1試合に出場できない。"]
[null,null,"④本大会に於いて退場を命じられた選手は、次の1試合に出場できず、それ以降の処置については"]
[null,null,"　 本大会の規律・フェアプレー委員会で決定する。"]
[null,null,"⑤グリーンカードを導入する。"]
[null,null,"⑥競技者は8人(内1人はGK)とし、6人未満となった場合0-5の負けとする。"]
[null,null,"⑦8人制のルールに則り、キックオフゴールは認められない。"]
[null,null,"⑧ベンチスタッフは、大会申込のスタッフ情報に申請した5名のうち3名以内とし、内1名はJFA公認指導者ライセンス\nを有する事。"]
[null,null,"⑨登録選手以外の選手のベンチ入りは認められない。"]
[null,null,"⑩登録できる交代要員および交代の最大人数は8名とし、交代して退いた競技者は交代要員となり、"]
[null,null,"　 再び出場することができる。交代の回数は制限されない。"]
[null,null,"　 交代は、第4審を通し交代ゾーンから行う。GKが交代する場合は、アウトオブプレー時に主審の許可を得て行う。"]
[14,"競技時間","15分ハーフの計30分とし、ハーフタイムのインターバルは10分とする。"]
[15,"選手交替","13.競技規則　⑩に準ずる。"]
[16,"競技方法","①予選リーグにおいては、参加24チームを3チーム毎の8パートに分けて総当たりによるリーグ戦を行う。"]
[null,null,"②予選リーグにおける順位は、勝ち点(勝3、引分1、負0)・当該対戦・得失点・総得点・抽選の順で決定する。"]
[null,null,"③予選リーグの各パート上位1チームにより、2日目に決勝トーナメントを行い、優勝チームを決定する。"]
[null,null,"④決勝トーナメントで同点の場合、3人制のPK方式にて次回戦進出チームを決定する。"]
[null,null,"　 次回戦進出チームを決定するPK方式においてFPをGKとする場合、その選手と同番号のGKユニホーム又は、サブユニホームの"]
[null,null,"　 シャツを着用させる。"]
[null,null,"⑤準決勝戦以降同点の場合は、6分間の延長(3分ハーフ)を行い、なお決しない場合は3人制のPK方式にて勝敗を決定する。"]
[17,"審判","審判は3級以上の有資格者3人に予備審1名を加え、4人制とする。"]
[18,"ボ ー ル","少年用4号球を本部で準備する。"]
[19,"競技場","①コート",null,"縦68m×横50m"]
[null,null,"②センターサークル",null,"半径7m"]
[null,null,"③ゴールエリア",null,"ゴールポスト外側へ4m、その地点からゴールラインに直角に4m"]
[null,null,"④ペナルティエリア",null,"ゴールポスト外側へ12m、その地点からゴールラインに直角に12m"]
[null,null,"⑤ペナルティマーク",null,"8m"]
[null,null,"⑥ゴール",null,"少年用ゴール・高さ2.15m、幅5m"]
[20,"その他","①異議：ベンチ(監督、コーチ、スタッフ等)が審判の判定に対して異議を唱えたり、選手に対し罵声を浴びせる等の"]
[null,null,"　 ネガティブなコーチングを行ったりして、主審から一度注意を受けた後に再度同様な行為があった場合は、主審の"]
[null,null,"　 判断により退席処分とし、それ以降はベンチからのコーチングを不可とする。"]
[null,null,"②監督会議：12月7日(土)9:00よりAコート本部テント前にて行う。"]
[null,null,"③閉会式：試合終了後直ちに行う。"]
[null,null,"④大会上位2チーム(大会運営に協力のできるチームでもあること)は3月21日(土)・22日(日)に沖縄県で"]
[null,null,"　 開催予定の「全国小学生8人制サッカー大会兼九州ジュニア(U-11)サッカー大会　ｉｎ　沖縄」に県代表として推薦する。"]
[null,null,"　 不足及び欠員が生じた場合は、順に補充する。"]
[null,null,"⑤会場設営(大分地区チームのみ)を8時より行います。"]
[null,null,"　大会終了後、ゴールの片付け(大分地区以外)を行います。ご協力をお願いします。"]
[null,null,"⑥練習は、1試合前のチームのみ、前半及びハーフタイムに所定の場所で可。"]
[null,null,"⑦大会期間中は、常に選手証、指導者資格証、審判資格証もしくは、それぞれの電子証の写しを携帯し、"]
[null,null,"　必要に応じて提示すること。"]

{"sheet":"組合せ抽選用","index":2,"n_rows":45,"n_cols":22,"rows_kept":45,"cut":false,"hidden":false,"merged":[[19,17,20,17],[21,17,22,17],[23,17,24,17],[33,9,34,10],[30,10,32,10],[29,13,30,13],[33,12,34,13],[30,12,32,12],[22,12,24,12],[25,17,26,17],[29,4,30,4],[25,12,26,13],[12,6,13,6],[12,13,13,13],[22,3,24,3],[22,5,24,5],[21,13,22,13],[23,4,24,4],[14,11,15,11],[12,11,13,11],[21,6,22,6],[29,11,30,11],[25,9,26,10],[22,10,24,10],[23,11,24,11],[21,11,22,11],[33,2,34,3],[33,5,34,6],[5,12,7,12],[8,12,9,13],[13,10,15,10],[13,12,15,12],[8,9,9,10],[6,11,7,11],[21,4,22,4],[29,6,30,6],[25,2,26,3],[25,5,26,6],[30,3,32,3],[30,5,32,5],[31,4,32,4],[31,11,32,11],[3,17,13,17],[13,5,15,5],[4,11,5,11],[4,13,5,13],[5,10,7,10],[5,5,7,5],[1,1,1,11],[1,12,1,14],[16,12,17,13],[8,5,9,6],[6,4,7,4],[4,4,5,4],[4,6,5,6],[16,2,17,3],[16,5,17,6],[13,3,15,3],[5,3,7,3],[12,4,13,4],[8,2,9,3],[14,4,15,4],[16,9,17,10]]}
[]
[null,{"$f":"要項!C2","v":"OFA 第 31 回 大分県ジュニアサッカー選手権大会"},null,null,null,null,null,null,null,null,null,null,"組み合わせ",null,null,null,null,"Aブロック（フリー）"]
[null,null,null,null,null,null,null,null,null,null,null,null,null,null,null,null,null,"地　　区","チーム名"]
[null,null,null,null,"「Aパート」",null,null,null,null,null,null,"「Cパート」",null,null,null,null,"A2","大分","寒田",null,{"$f":"出場チーム!B11","v":"寒田少年サッカークラブ"},"大分"]
[null,null,null,"A1",{"$f":"IF(ISERROR(VLOOKUP(D5,$Q:$S,3,FALSE))=TRUE,\"\",VLOOKUP(D5,$Q:$S,3,FALSE))","v":"はやぶさ"},null,null,null,null,null,"C1",{"$f":"IF(ISERROR(VLOOKUP(K5,$Q:$S,3,FALSE))=TRUE,\"\",VLOOKUP(K5,$Q:$S,3,FALSE))","v":"四日市南"},null,null,null,null,"C2",null,"明野西",null,{"$f":"出場チーム!B12","v":"明野西ＪＦＣ"},"大分"]
[null,null,null,null,null,null,null,null,null,null,null,null,null,null,null,null,"H2",null,"ＫＩＮＧＳ",null,{"$f":"出場チーム!B13","v":"ＫＩＮＧＳ　ＦＯＯＴＢＡＬＬＣＬＵＢ　Ｕ－１２"},"大分"]
[null,null,null,null,null,null,null,null,null,null,null,null,null,null,null,null,"F2",null,"日岡",null,{"$f":"出場チーム!B14","v":"日岡サッカースポーツ少年団"},"大分"]
[null,null,null,null,null,null,null,null,null,null,null,null,null,null,null,null,"H3",null,"スマイスＳＣ",null,{"$f":"出場チーム!B15","v":"スマイス　セレソン　スポーツクラブ"},"大分"]
[null,"A2",{"$f":"IF(ISERROR(VLOOKUP(B9,$Q:$S,3,FALSE))=TRUE,\"\",VLOOKUP(B9,$Q:$S,3,FALSE))","v":"寒田"},null,null,{"$f":"IF(ISERROR(VLOOKUP(H9,$Q:$S,3,FALSE))=TRUE,\"\",VLOOKUP(H9,$Q:$S,3,FALSE))","v":"弥生"},null,"A3","C2",{"$f":"IF(ISERROR(VLOOKUP(I9,$Q:$S,3,FALSE))=TRUE,\"\",VLOOKUP(I9,$Q:$S,3,FALSE))","v":"明野西"},null,null,{"$f":"IF(ISERROR(VLOOKUP(O9,$Q:$S,3,FALSE))=TRUE,\"\",VLOOKUP(O9,$Q:$S,3,FALSE))","v":"ミネルバ"},null,"C3",null,"B1",null,"ブルーウイング",null,{"$f":"出場チーム!B16","v":"ブルーウイングフットボールクラブ"},"大分"]
[null,null,null,null,null,null,null,null,null,null,null,null,null,null,null,null,"G2",null,"大分トリニータ",null,{"$f":"出場チーム!B17","v":"大分トリニータＵ－１２"},"大分"]
[null,null,null,null,null,null,null,null,null,null,null,null,null,null,null,null,"D1",null,"ドリームキッズ",null,{"$f":"出場チーム!B18","v":"ドリームキッズフットボールクラブ"},"大分"]
[null,null,null,null,"「Eパート」",null,null,null,null,null,null,"「Gパート」",null,null,null,null,"B2",null,"カティU-12",null,{"$f":"出場チーム!B19","v":"カティオーラフットボールクラブＵ－１２"},"大分"]
[null,null,null,"E1",{"$f":"IF(ISERROR(VLOOKUP(D13,$Q:$S,3,FALSE))=TRUE,\"\",VLOOKUP(D13,$Q:$S,3,FALSE))","v":"スマイス・セレソン"},null,null,null,null,null,"G1",{"$f":"IF(ISERROR(VLOOKUP(K13,$Q:$S,3,FALSE))=TRUE,\"\",VLOOKUP(K13,$Q:$S,3,FALSE))","v":"日出"},null,null,null,null,"E2",null,"カティ大在",null,{"$f":"出場チーム!B20","v":"カティオーラフットボールクラブ　大在"},"大分"]
[null,null,null,null,null,null,null,null,null,null,null,null,null,null,null,null,"D2",null,"ＭＳＳ",null,{"$f":"出場チーム!B21","v":"ＭＳＳ"},"大分"]
[]
[]
[null,"E2",{"$f":"IF(ISERROR(VLOOKUP(B17,$Q:$S,3,FALSE))=TRUE,\"\",VLOOKUP(B17,$Q:$S,3,FALSE))","v":"カティ大在"},null,null,{"$f":"IF(ISERROR(VLOOKUP(H17,$Q:$S,3,FALSE))=TRUE,\"\",VLOOKUP(H17,$Q:$S,3,FALSE))","v":"太陽大分西"},null,"E3","G2",{"$f":"IF(ISERROR(VLOOKUP(I17,$Q:$S,3,FALSE))=TRUE,\"\",VLOOKUP(I17,$Q:$S,3,FALSE))","v":"大分トリニータ"},null,null,{"$f":"IF(ISERROR(VLOOKUP(O17,$Q:$S,3,FALSE))=TRUE,\"\",VLOOKUP(O17,$Q:$S,3,FALSE))","v":"ＦＣ中津"},null,"G3"]
[null,null,null,null,null,null,null,null,null,null,null,null,null,null,null,null,null,"Bブロック（奇数）"]
[null,null,null,null,null,null,null,null,null,null,null,null,null,null,null,null,null,"地　　区","チーム名"]
[null,null,null,null,null,null,null,null,null,null,null,null,null,null,null,null,"G3","中津","ＦＣ中津",null,{"$f":"出場チーム!I11","v":"ＦＣ中津ジュニア"},"中津"]
[null,null,null,null,"「Bパート」",null,null,null,null,null,null,"「Dパート」",null,null,null,null,"A1",null,"はやぶさ",null,{"$f":"出場チーム!I12","v":"はやぶさフットボールクラブ"},"中津"]
[null,null,null,"B1",{"$f":"IF(ISERROR(VLOOKUP(D22,$Q:$S,3,FALSE))=TRUE,\"\",VLOOKUP(D22,$Q:$S,3,FALSE))","v":"ブルーウイング"},null,null,null,null,null,"D1",{"$f":"IF(ISERROR(VLOOKUP(K22,$Q:$S,3,FALSE))=TRUE,\"\",VLOOKUP(K22,$Q:$S,3,FALSE))","v":"ドリームキッズ"},null,null,null,null,"G1","速杵国東","日出",null,{"$f":"出場チーム!I13","v":"日出サッカースポーツ少年団"},"速杵国東"]
[null,null,null,null,null,null,null,null,null,null,null,null,null,null,null,null,"B3",null,"ＦＣ安岐",null,{"$f":"出場チーム!I14","v":"ＦＣ安岐"},"速杵国東"]
[null,null,null,null,null,null,null,null,null,null,null,null,null,null,null,null,"E3","日田","太陽大分西",null,{"$f":"出場チーム!I15","v":"太陽スポーツクラブ大分西"},"日田"]
[null,null,null,null,null,null,null,null,null,null,null,null,null,null,null,null,"H1",null,"アリアーレ",null,{"$f":"出場チーム!I16","v":"ＦＣアリアーレ"},"日田"]
[null,"B2",{"$f":"IF(ISERROR(VLOOKUP(B26,$Q:$S,3,FALSE))=TRUE,\"\",VLOOKUP(B26,$Q:$S,3,FALSE))","v":"カティU-12"},null,null,{"$f":"IF(ISERROR(VLOOKUP(H26,$Q:$S,3,FALSE))=TRUE,\"\",VLOOKUP(H26,$Q:$S,3,FALSE))","v":"ＦＣ安岐"},null,"B3","D2",{"$f":"IF(ISERROR(VLOOKUP(I26,$Q:$S,3,FALSE))=TRUE,\"\",VLOOKUP(I26,$Q:$S,3,FALSE))","v":"ＭＳＳ"},null,null,{"$f":"IF(ISERROR(VLOOKUP(O26,$Q:$S,3,FALSE))=TRUE,\"\",VLOOKUP(O26,$Q:$S,3,FALSE))","v":"ＦＣ大野"},null,"D3",null,"C3","別府","ミネルバ",null,{"$f":"出場チーム!I17","v":"別府フットボールクラブ．ミネルバＵ－１２"},"別府"]
[null,null,null,null,null,null,null,null,null,null,null,null,null,null,null,null,"E1",null,"スマイス・セレソン",null,{"$f":"出場チーム!I18","v":"スマイス・セレソン"},"別府"]
[null,null,null,null,null,null,null,null,null,null,null,null,null,null,null,null,"C1","宇佐高田","四日市南",null,{"$f":"出場チーム!I19","v":"四日市南ＳＳＣ"},"宇佐高田"]
[null,null,null,null,"「Fパート」",null,null,null,null,null,null,"「Hパート」",null,null,null,null,"A3","佐伯","弥生",null,{"$f":"出場チーム!I20","v":"弥生少年サッカークラブ"},"佐伯"]
[null,null,null,"F1",{"$f":"IF(ISERROR(VLOOKUP(D30,$Q:$S,3,FALSE))=TRUE,\"\",VLOOKUP(D30,$Q:$S,3,FALSE))","v":"市浜"},null,null,null,null,null,"H1",{"$f":"IF(ISERROR(VLOOKUP(K30,$Q:$S,3,FALSE))=TRUE,\"\",VLOOKUP(K30,$Q:$S,3,FALSE))","v":"アリアーレ"},null,null,null,null,"D3","豊肥","ＦＣ大野",null,{"$f":"出場チーム!I21","v":"ＦＣ大野"},"豊肥"]
[null,null,null,null,null,null,null,null,null,null,null,null,null,null,null,null,"F1","臼杵","市浜",null,{"$f":"出場チーム!I22","v":"市浜レッドソックス"},"臼杵"]
[null,null,null,null,null,null,null,null,null,null,null,null,null,null,null,null,"F3","津久見","千怒",null,{"$f":"出場チーム!I23","v":"千怒サッカースポーツ少年団"},"津久見"]
[]
[null,"F2",{"$f":"IF(ISERROR(VLOOKUP(B34,$Q:$S,3,FALSE))=TRUE,\"\",VLOOKUP(B34,$Q:$S,3,FALSE))","v":"日岡"},null,null,{"$f":"IF(ISERROR(VLOOKUP(H34,$Q:$S,3,FALSE))=TRUE,\"\",VLOOKUP(H34,$Q:$S,3,FALSE))","v":"千怒"},null,"F3","H2",{"$f":"IF(ISERROR(VLOOKUP(I34,$Q:$S,3,FALSE))=TRUE,\"\",VLOOKUP(I34,$Q:$S,3,FALSE))","v":"ＫＩＮＧＳ"},null,null,{"$f":"IF(ISERROR(VLOOKUP(O34,$Q:$S,3,FALSE))=TRUE,\"\",VLOOKUP(O34,$Q:$S,3,FALSE))","v":"スマイスＳＣ"},null,"H3"]
[]
[]
[]
[]
[]
[]
[null,null,null,null,null,null,null,null,null,null,null,null,null,null,null,null,null,"＜抽選方法＞"]
[null,null,null,null,null,null,null,null,null,null,null,null,null,null,null,null,null,"Bブロック 9地区の各第1代表が8パートに分かれるように抽選。"]
[null,null,null,null,null,null,null,null,null,null,null,null,null,null,null,null,null,"(まず、大分地区以外が全パートに入る事が前提で、開会式がある場合は、A1を選手宣誓とする。)"]
[null,null,null,null,null,null,null,null,null,null,null,null,null,null,null,null,null,"２チーム出場の地区が、第1代表と決勝戦まで対戦しないように、左右のパートに分かれるように抽選。"]
[null,null,null,null,null,null,null,null,null,null,null,null,null,null,null,null,null,"大分地区は、振込順にて抽選"]

{"sheet":"会場図","index":3,"n_rows":60,"n_cols":39,"rows_kept":60,"cut":false,"hidden":false,"merged":[[42,38,43,38],[45,37,46,37],[45,38,49,38],[49,37,50,37],[51,38,52,38],[37,0,55,1],[37,18,37,21],[45,3,46,3],[49,3,50,3],[56,15,57,23],[35,0,36,12],[23,23,24,32],[24,1,24,5],[27,22,29,27],[25,0,26,16],[25,18,25,21],[26,17,26,21],[23,6,24,15],[23,16,24,22],[27,0,33,16],[35,17,35,21],[36,18,36,21],[30,22,31,23],[32,22,33,27],[36,28,36,33],[34,18,34,19],[27,18,33,19],[24,33,24,37],[1,0,1,38],[4,0,20,1],[14,2,15,2],[22,18,22,20],[0,31,0,38],[0,0,0,30],[4,37,20,38],[10,2,11,2],[10,36,11,36],[14,36,15,36],[20,14,20,15],[2,15,3,23]]}
[{"$f":"要項!C2","v":"OFA 第 31 回 大分県ジュニアサッカー選手権大会"},null,null,null,null,null,null,null,null,null,null,null,null,null,null,null,null,null,null,null,null,null,null,null,null,null,null,null,null,null,null,"会場図"]
[{"$f":"要項!C9","v":"大分県大分スポーツ公園　昭和電工サッカー・ラグビー場　"}]
[null,null,null,null,null,null,null,null,null,null,null,null,null,null,null,"①芝生・応援席"]
[]
["芝生・応援席",null,null,null,null,null,null,null,"50m",null,null,null,null,null,null,null,null,null,null,null,null,null,null,null,null,null,null,null,null,null,null,null,null,null,null,null,null,"芝生・応援席"]
[]
[]
[]
[]
[]
[null,null,"ベンチ",null,null,null,null,null,null,null,null,null,null,null,null,null,null,null,null,null,null,null,null,null,null,null,null,null,null,null,null,null,null,null,null,null,"ベンチ"]
[]
[null,null,null,null,null,null,null,null,null,null,null,null,null,null,null,"68m"]
[]
[null,null,"ベンチ",null,null,null,null,null,null,null,null,null,null,null,null,null,null,null,null,null,null,null,null,null,null,null,null,null,null,null,null,null,null,null,null,null,"ベンチ"]
[]
[]
[]
[]
[]
[]
[]
[null,null,"↑",null,null,null,null,null,null,null,null,null,null,null,null,null,null,null,"本部ﾃﾝﾄ",null,null,null,null,null,null,null,null,null,null,null,null,null,null,null,null,null,"↑"]
[null,null,"↑",null,null,null,"①応援席(スタンド）",null,null,null,null,null,null,null,null,null,"④管理棟（来賓・役員）",null,null,null,null,null,null,"①応援席(スタンド）",null,null,null,null,null,null,null,null,null,null,null,null,"↑"]
[null,"②応援出入り口",null,null,null,null,null,null,null,null,null,null,null,null,null,null,null,null,null,null,null,null,null,null,null,null,null,null,null,null,null,null,null,"②応援出入り口"]
["⑥車進入禁止",null,null,null,null,null,null,null,null,null,null,null,null,null,null,null,null,null,"③出入口締切"]
[null,null,null,null,null,null,null,null,null,null,null,null,null,null,null,null,null,"（役員のみ）"]
["⑥Ｂ駐車場",null,null,null,null,null,null,null,null,null,null,null,null,null,null,null,null,null,"テント設営可",null,null,null,"倉庫"]
[]
[]
[null,null,null,null,null,null,null,null,null,null,null,null,null,null,null,null,null,null,null,null,null,null,"WC"]
[]
[]
[]
[null,null,null,null,null,null,null,null,null,null,null,null,null,null,"②","出"]
["①芝生・応援席",null,null,null,null,null,null,null,null,null,null,null,null,"←","応","入",null,"（役員のみ）"]
[null,null,null,null,null,null,null,null,null,null,null,null,null,"↓","援","口",null,null,"③出入口締切",null,null,null,null,null,null,null,null,null,"②応援出入り口"]
["芝生・応援席",null,"←","←","←","←","←","←","←","←","←","←","←","←",null,null,null,null,"本部ﾃﾝﾄ",null,null,null,null,null,null,null,null,null,null,null,null,null,"↓","→","→","→","→","→","↓"]
[]
[null,null,null,null,null,null,null,null,null,"50m"]
[]
[]
[]
[]
[]
[null,null,null,"ベンチ",null,null,null,null,null,null,null,null,null,null,null,null,null,null,null,null,null,null,null,null,null,null,null,null,null,null,null,null,null,null,null,null,null,"ベンチ"]
[]
[null,null,null,null,null,null,null,null,null,null,null,null,null,null,null,null,"68m"]
[]
[null,null,null,"ベンチ",null,null,null,null,null,null,null,null,null,null,null,null,null,null,null,null,null,null,null,null,null,null,null,null,null,null,null,null,null,null,null,null,null,"ベンチ"]
[]
[]
[]
[]
[]
[]
[null,null,null,null,null,null,null,null,null,null,null,null,null,null,null,"①芝生・応援席"]
[]
[null,"※チーム用テントの搬入は、②応援出入り口より行うこと。",null,null,null,null,null,null,null,null,null,null,null,null,null,null,null,null,null,null,null,null,"※喫煙は、本部テント裏の吸い殻入れ付近のみとする。"]
[null,"※チーム用横断幕は、ネットへの取り付け不可。",null,null,null,null,null,null,null,null,null,null,null,null,null,null,null,null,null,null,null,null,null,"Ａ管理棟裏を含む。"]

{"sheet":"MCM資料","index":4,"n_rows":109,"n_cols":36,"rows_kept":109,"cut":false,"hidden":false,"merged":[[78,2,79,38],[80,2,81,38],[82,2,83,38],[93,2,94,38],[108,1,109,33],[100,1,100,2],[101,9,101,18],[103,4,103,12],[103,14,103,19],[103,21,103,29],[105,14,105,19],[89,27,89,31],[90,1,90,2],[90,7,90,15],[91,7,91,15],[92,1,92,2],[49,1,49,2],[55,1,55,2],[36,2,37,38],[38,2,41,38],[50,1,54,38],[45,1,48,38],[31,1,31,2],[33,1,33,2],[35,1,35,2],[42,2,42,34],[44,1,44,2],[30,2,30,9],[24,1,24,2],[24,27,24,34],[24,35,24,36],[25,1,25,2],[25,27,25,34],[25,35,25,36],[26,1,26,2],[27,18,27,24],[28,1,28,2],[28,11,28,33],[29,2,29,9],[21,27,21,34],[21,35,21,36],[22,27,22,34],[22,35,22,36],[23,27,23,34],[23,35,23,36],[19,1,19,2],[19,3,19,11],[19,27,19,34],[19,35,19,36],[20,1,20,2],[20,27,20,34],[20,35,20,36],[18,35,18,36],[7,34,7,35],[10,0,10,34],[13,1,13,3],[13,5,13,33],[14,1,14,3],[14,5,14,33],[17,1,17,2],[17,27,17,34],[17,35,17,36],[18,1,18,2],[18,3,18,11],[18,27,18,34],[0,0,0,38],[1,0,3,38],[7,18,7,20],[9,0,9,38],[12,6,12,32],[5,14,5,21],[5,22,5,24],[7,3,7,11],[7,13,7,15],[7,16,7,17],[7,21,7,29],[7,31,7,33],[96,2,98,38],[56,2,58,38],[68,5,69,38],[71,2,72,38],[74,2,74,38],[75,2,76,38],[59,1,59,2],[62,5,62,32],[63,5,63,32],[64,9,64,14],[67,9,67,14],[70,1,70,2],[73,1,73,2],[77,2,77,38],[84,1,84,2],[89,20,89,24]]}
["マッチコーディネーションミーティング"]
[{"$f":"要項!C2","v":"OFA 第 31 回 大分県ジュニアサッカー選手権大会"}]
[]
[]
[]
[null,null,null,null,null,null,null,null,null,null,null,null,null,null,"マッチナンバー："]
[]
[null,null,null,"組み合わせ左側チーム",null,null,null,null,null,null,null,null,"（",null,null,null,"市）",null,"ｖｓ",null,null,"組み合わせ右側チーム",null,null,null,null,null,null,null,null,"（",null,null,null,"市）"]
[]
["　予選リーグ会場：大分スポーツ公園 昭和電工サッカー・ラグビー場 A / B【北】【南】"]
["　決勝トーナメント会場：大分スポーツ公園 昭和電工サッカー・ラグビー場 A【北】【南】"]
[]
[null,null,null,null,null,null,"２０１９年１２月７日（土）・１２月８日（日）"]
[null,"予選L",null,null,null,"①10:00　②10:50　③11:40　④12:30　⑤14:10　⑥15:00"]
[null,"決勝T",null,null,null,"①  9:30　②10:20　③11:10　④12:00　⑤14:10"]
[]
[1," 挨拶および出席者の確認",null,null,null,null,null,null,null,null,null,null,"主管協会（　一般社団法人　大分県サッカー協会　）"]
[null,"a)",null,"マッチコミッショナー・・・・・・・・・・・",null,null,null,null,null,null,null,null,null,null,null,null,null,null,null,null,null,null,null,null,null,null,null,null,null,null,null,null,null,null,null,"氏"]
[null,"b)",null,"組み合わせ左側チーム",null,null,null,null,null,null,null,null,"・・・・・・・・・・・・・・・・・",null,null,null,null,null,null,null,null,null,null,null,null,null,null,null,null,null,null,null,null,null,null,"氏"]
[null,"c)",null,"組み合わせ右側チーム",null,null,null,null,null,null,null,null,"・・・・・・・・・・・・・・・・・",null,null,null,null,null,null,null,null,null,null,null,null,null,null,null,null,null,null,null,null,null,null,"氏"]
[null,"d)",null,"審判団",null,null,null,"主審・・・・・・・・・・・・・・",null,null,null,null,null,null,null,null,null,null,null,null,null,null,null,null,null,null,null,null,null,null,null,null,null,null,null,"氏"]
[null,null,null,null,null,null,null,"副審１・・・・・・・・・・・・・・",null,null,null,null,null,null,null,null,null,null,null,null,null,null,null,null,null,null,null,null,null,null,null,null,null,null,null,"氏"]
[null,null,null,null,null,null,null,"副審２・・・・・・・・・・・・・・・",null,null,null,null,null,null,null,null,null,null,null,null,null,null,null,null,null,null,null,null,null,null,null,null,null,null,null,"氏"]
[null,null,null,null,null,null,null,"第4の審判員・・・・・・・・・・・・",null,null,null,null,null,null,null,null,null,null,null,null,null,null,null,null,null,null,null,null,null,null,null,null,null,null,null,"氏"]
[null,"e)",null,"主管サッカー協会(司会進行）・・・・・・・・・・・・・・",null,null,null,null,null,null,null,null,null,null,null,null,null,null,null,null,null,null,null,null,null,null,null,null,null,null,null,null,null,null,null,"氏"]
[null,"f)",null,"ウェルフェアオフィサー",null,null,null,null,null,null,null,null,null,null,null,null,null,null,null,null,null,null,null,null,null,null,null,null,null,null,null,null,null,null,null,"氏"]
[]
[2,"競技関連事項",null,null,null,null,null,null,null,"マッチコミッショナー",null,null,null,null,null,null,null,"（",null,null,null,null,null,null,null,"）"]
[null,"（1）",null,"累積警告選手の確認",null,null,null,null,null,null,null,"（本大会要項　（10）試合方法 ⑪）"]
[null,null,{"$f":"+D19","v":"組み合わせ左側チーム"}]
[null,null,{"$f":"+D20","v":"組み合わせ右側チーム"}]
[null,"（2）",null,"ユニフォームの色の決定"]
[]
[null,"（3）",null,"試合登録メンバー（選手および役員）の確認"]
[]
[null,"（４）",null,"試合時間"]
[null,"○","予選リーグは３０分とし、ハーフタイムのインターバル（前半終了から後半開始まで）は原則として10分とする。規定の競技時間内に勝敗の決しない場合は、引き分けとする。"]
[]
[null,"○","決勝トーナメントは３０分とし、ハーフタイムのインターバル（前半終了から後半開始まで）は原則として10分とする。規定の競技時間内に勝敗の決しない場合、3人制のPK方式にて勝敗を決定する。但し、準決勝以降は６分の延長戦を行い、それでも勝敗が決しない場合３人制のPK戦を行う。\n＊インターバル＝延長戦に入る前：3分、ペナルティーキック方式に入る前：1分"]
[]
[]
[]
[null,"○","飲水タイムをとる場合は、「その他の理由」により空費された時間として追加する。"]
[null,"○","アディッショナルタイムの標記:",null,null,null,null,null,null,null,null,null,null,null,"行う（表示用ボード）"]
[null,"（5）",null,"競技者の数"]
[null,"○ 試合開始時の人数は、8対8を原則とする。\n○ 競技中、怪我人が出た場合は、交代要員から補充すること。\n○ 退場者が出た場合は、交代要員から補充し、退場者のベンチ戻入は認めない。\n○ 競技者の数がアンバランスになるのは、該当チームに交代要員がいなくなった時に限る。"]
[]
[]
[]
[null,"（6）",null,"選手の交代"]
[null,"○ 競技開始前に登録した最大8名の交代要員の中から、自由な交代が認められ、交代して退いた競技者は交代要員となり、\n　 再び出場することができる。（交代の回数は制限されない。）\n○ 交代は、ボールがインプレー中、アウトオブプレー中にかかわらず行うことができ、チームの指導者、もしくは選手は「第4審」に\n 　交代選手の番号を口頭で報告し、用具チェックを受けた後、交代ゾーンから行う。ただし、交代で退く競技者が負傷している場合\n 　は、主審の承認を得た上でどこからフィールドを離れてもよい。また、ＧＫが交代する場合はアウトプレー時に主審を通じ行う。"]
[]
[]
[]
[]
[null,"（7）",null,"チームベンチへの人数"]
[null,null,"ベンチに入る指導者・選手は、あらかじめ明記した監督1名及びその他役職者２名の計３名（うち1名はJFA公認指導者ライセンスを有すること。）・交代要員となる選手８名を最大とする。\n※大会登録書（メンバー表）に記載された選手及び監督・役員以外のベンチ入りは認めない。"]
[]
[]
[null,"（8）",null,"ウォーミングアップ"]
[null,"***試合前***"]
[null,"○","場所：",null,null,"各会場の指定された区域にて"]
[null,"○","時間：",null,null,"ピッチ外：指定された区域にて"]
[null,null,null,null,null,"ピッチ内：ゴール使用　前の試合のハーフタイムのみ"]
[null,"○","ボール使用の可否：",null,null,null,null,null,null,"可"]
[null,"***試合中***"]
[null,"○","場所：",null,null,"ベンチ横"]
[null,"○","ボール使用の可否：",null,null,null,null,null,null,"否"]
[null,"○","着衣：",null,null,"交代要員の選手は、両チームのユニフォームおよび審判のユニフォームと明確に異なる色の着衣（ビブス等）を身につけること。"]
[]
[null,"（9）",null,"テクニカルエリア"]
[null,null,"戦術的指示を与える際は、その都度ただ1名の役員(監督に限定されない)のみが、テクニカルエリア(ベンチの両端から１メ－トルとタッチラインから1メ－トル)内で行うこと。"]
[]
[null,"（10）",null,"選手のけがの治療"]
[null,"○","レフェリ－が認める特別な場合でないかぎり、フィ－ルド内での医療処置は一切認められない。"]
[null,"○","ケガをした選手が運び出されたり、主審の許可によりフィ－ルドを出ることが認められる場合、医療担当者は医療処置をフィ－ルドの外で行う。"]
[]
[null,"○","主審の指示を受けた場合にのみ、2名以内のチ－ム役員と担架がフィ－ルドに入ることができる。"]
[null,"○","ゴ－ルキ－パ－がケガをした場合は試合を中断し、フィ－ルド内で手当てを受けることが許される。手当てが終わってから試合は再開される。"]
[]
[null,"○","負傷により出血した選手は、出血が止まったことを審判が確認し、主審の合図を受けてからフィールドに復帰することができる。"]
[]
[null,"○","負傷した選手が交代ゾーン以外からピッチを離れ、交替する場合は交替ゾーンから交替する選手は入場する。負傷した選手が治療をおえ、再度交替し入場する場合も交替ゾーンから行う。"]
[]
[null,"（11）",null,"選手の品行"]
[null,"○","フェアプレー"]
[null,"○","サッカーのイメージアップ"]
[null,"○","ストッキングを引き上げる"]
[null,"○","シャツをパンツの中に入れる"]
[null,"○","試合開始前および終了後のセレモニー",null,null,null,null,null,null,null,null,null,null,null,null,null,null,null,null,null,{"$f":"+E104","v":"組み合わせ左側チーム"},null,null,null,null,null,null,{"$f":"+V104","v":"組み合わせ右側チーム"}]
[null,"（12）",null,"試合球",null,null,"「","予選L：本部にて準備",null,null,null,null,null,null,null,null,"」"]
[null,null,null,null,null,null,"「","決勝T：本部にて準備",null,null,null,null,null,null,null,null,"」"]
[null,"（13）",null,"選手の用具",null,null,null,null,"用具及びメンバーチェック　　キックオフ10分前　"]
[null,"○","シャツについては、胸番号/背番号必須で一致していることとし、色彩は、審判員が通常着用する\n黒色と明確に判別し得るものでなければならない。"]
[]
[null,"○","すねあてを必ず着用（すねあて留めを使用する場合は、ソックスと同色である事）"]
[null,"○","※ユニホームの下にアンダーシャツを着用する場合は、その色が袖の主たる色と同色であること。\n※アンダーショーツおよびタイツは、ショーツの主たる色、またはショーツの裾の部分と同じ色でなければならない。\n 　同一チームの競技者が着用する場合、同色のものとする。"]
[]
[]
[null,"○","ゴ－ルキ－パ－は、フィ－ルドの状態、天候によっては長いパンツを着用しても良い"]
[null,"（14）",null,"キックオフ前のセレモニー"]
[null,"○","本部に挨拶を行い、",null,null,null,null,null,null,{"$f":"+V104","v":"組み合わせ右側チーム"},null,null,null,null,null,null,null,null,null,"から、主審に握手をしていく。"]
[]
[null,null,null,"《",{"$f":"+D19","v":"組み合わせ左側チーム"},null,null,null,null,null,null,null,null,"》","＜審判団＞",null,null,null,null,null,"《",{"$f":"+D20","v":"組み合わせ右側チーム"},null,null,null,null,null,null,null,null,"》"]
[null,null,null,null,null,null,null,null,null,null,null,null,null,null,"←","←","←","←","←","←"]
[null,null,null,null,null,null,null,null,null,null,null,null,null,null,"本部"]
[]
[3,"その他"]
[null,"本大会要項（20）その他を、役員・保護者等に周知徹底願います。"]

{"sheet":"累積警告・退場","index":5,"n_rows":28,"n_cols":23,"rows_kept":28,"cut":false,"hidden":false,"merged":[[4,1,14,1],[15,1,16,1],[17,1,18,1],[19,1,20,1],[21,1,22,1]]}
["×",null,{"$f":"要項!C2","v":"OFA 第 31 回 大分県ジュニアサッカー選手権大会"},null,null,"累積警告・退場"]
[null,null,{"$f":"要項!C8","v":"2019年12月7日(土)～8日(日)＊監督会議：7日(土)9:00より"}]
[null,null,null,"地区予選",null,null,null,"予選リーグ　（１試合目）",null,null,null,"予選リーグ　（2試合目）",null,null,null,"1回戦",null,null,null,"準決勝"]
["敗戦","地区","チーム名","背番号","氏名","警告/退場","内容","背番号","氏名","警告/退場","内容","背番号","氏名","警告/退場","内容","背番号","氏名","警告/退場","内容","背番号","氏名","警告/退場","内容"]
[null,"大分",{"$f":"出場チーム!B11","v":"寒田少年サッカークラブ"},"-"]
[null,null,{"$f":"出場チーム!B12","v":"明野西ＪＦＣ"},"-"]
[null,null,{"$f":"出場チーム!B13","v":"ＫＩＮＧＳ　ＦＯＯＴＢＡＬＬＣＬＵＢ　Ｕ－１２"},10,"甲斐　勇聖","警告","反スポ"]
[null,null,{"$f":"出場チーム!B14","v":"日岡サッカースポーツ少年団"},"-",null,null,null,null,null,null,null,null,null,null,null,10,"牧　礼桜","警告","反スポ"]
[null,null,{"$f":"出場チーム!B15","v":"スマイス　セレソン　スポーツクラブ"},"-",null,null,null,null,null,null,null,null,null,null,null,5,"二宮　颯春","警告","反スポ"]
[null,null,{"$f":"出場チーム!B16","v":"ブルーウイングフットボールクラブ"},"-",null,null,null,9,"村岡　俊","警告","ラフ"]
[null,null,{"$f":"出場チーム!B17","v":"大分トリニータＵ－１２"},"-"]
[null,null,{"$f":"出場チーム!B18","v":"ドリームキッズフットボールクラブ"},"-"]
[null,null,{"$f":"出場チーム!B19","v":"カティオーラフットボールクラブＵ－１２"},"-"]
[null,null,{"$f":"出場チーム!B20","v":"カティオーラフットボールクラブ　大在"},"-"]
[null,null,{"$f":"出場チーム!B21","v":"ＭＳＳ"},"-"]
[null,"中津",{"$f":"出場チーム!I11","v":"ＦＣ中津ジュニア"},"-"]
[null,null,{"$f":"出場チーム!I12","v":"はやぶさフットボールクラブ"},"-"]
[null,"速杵国東",{"$f":"出場チーム!I13","v":"日出サッカースポーツ少年団"},"-"]
[null,null,{"$f":"出場チーム!I14","v":"ＦＣ安岐"},"-"]
[null,"日田",{"$f":"出場チーム!I15","v":"太陽スポーツクラブ大分西"},"-"]
[null,null,{"$f":"出場チーム!I16","v":"ＦＣアリアーレ"},"-"]
[null,"別府",{"$f":"出場チーム!I17","v":"別府フットボールクラブ．ミネルバＵ－１２"},"-"]
[null,null,{"$f":"出場チーム!I18","v":"スマイス・セレソン"},"-"]
[null,"宇佐高田",{"$f":"出場チーム!I19","v":"四日市南ＳＳＣ"},"-"]
[null,"佐伯",{"$f":"出場チーム!I20","v":"弥生少年サッカークラブ"},"-"]
[null,"豊肥",{"$f":"出場チーム!I21","v":"ＦＣ大野"},"-"]
[null,"臼杵",{"$f":"出場チーム!I22","v":"市浜レッドソックス"},"-"]
[null,"津久見",{"$f":"出場チーム!I23","v":"千怒サッカースポーツ少年団"},"-"]

{"sheet":"予選リーグ","index":6,"n_rows":32,"n_cols":14,"rows_kept":32,"cut":false,"hidden":false,"merged":[[14,2,14,4],[14,11,14,13],[14,5,14,7],[16,11,16,13],[18,13,19,13],[18,11,19,11],[18,4,19,4],[18,5,19,5],[16,2,16,4],[16,5,16,7],[0,1,0,4],[24,2,25,2],[18,2,19,2],[20,2,21,2],[22,2,23,2],[18,1,19,1],[20,1,21,1],[24,4,25,4],[22,1,23,1],[13,2,13,7],[24,5,25,5],[20,7,21,7],[22,4,23,4],[18,7,19,7],[20,5,21,5],[1,2,1,3],[24,1,25,1],[24,0,25,0],[16,8,16,10],[18,8,19,8],[20,8,21,8],[22,8,23,8],[18,10,19,10],[18,0,19,0],[22,5,23,5],[20,4,21,4],[20,0,21,0],[22,0,23,0],[28,0,29,0],[30,0,31,0],[28,1,29,1],[30,1,31,1],[26,0,27,0],[26,1,27,1],[28,2,29,2],[30,2,31,2],[28,4,29,4],[30,7,31,7],[28,5,29,5],[30,5,31,5],[28,7,29,7],[30,11,31,11],[30,8,31,8],[20,10,21,10],[30,13,31,13],[28,10,29,10],[24,13,25,13],[24,11,25,11],[20,13,21,13],[22,13,23,13],[28,13,29,13],[30,10,31,10],[24,10,25,10],[28,11,29,11],[26,2,27,13],[28,8,29,8],[30,4,31,4],[1,6,1,7],[24,8,25,8],[22,11,23,11],[20,11,21,11],[22,10,23,10],[22,7,23,7],[24,7,25,7],[13,8,13,13],[14,8,14,10]]}
[null,"《予選リーグ日程》",null,null,null,"１２月７日（土）"]
[null,null,"８：００",null,"グラウンド設営",null,"９：００",null,"監督会議"]
[]
[null,null,null,"「Aパート」",null,null,"「Bパート」",null,null,"「Eパート」",null,null,"「Fパート」"]
[null,null,null,{"$f":"組合せ抽選用!E5","v":"はやぶさ"},null,null,{"$f":"組合せ抽選用!E22","v":"ブルーウイング"},null,null,{"$f":"組合せ抽選用!E13","v":"スマイス・セレソン"},null,null,{"$f":"組合せ抽選用!E30","v":"市浜"}]
[]
[null,null,{"$f":"組合せ抽選用!C9","v":"寒田"},null,{"$f":"組合せ抽選用!F9","v":"弥生"},{"$f":"組合せ抽選用!C26","v":"カティU-12"},null,{"$f":"組合せ抽選用!F26","v":"ＦＣ安岐"},{"$f":"組合せ抽選用!C17","v":"カティ大在"},null,{"$f":"組合せ抽選用!F17","v":"太陽大分西"},{"$f":"組合せ抽選用!C34","v":"日岡"},null,{"$f":"組合せ抽選用!F34","v":"千怒"}]
[]
[null,null,null,"「Cパート」",null,null,"「Dパート」",null,null,"「Gパート」",null,null,"「Hパート」"]
[null,null,null,{"$f":"組合せ抽選用!L5","v":"四日市南"},null,null,{"$f":"組合せ抽選用!L22","v":"ドリームキッズ"},null,null,{"$f":"組合せ抽選用!L13","v":"日出"},null,null,{"$f":"組合せ抽選用!L30","v":"アリアーレ"}]
[]
[null,null,{"$f":"組合せ抽選用!J9","v":"明野西"},null,{"$f":"組合せ抽選用!M9","v":"ミネルバ"},{"$f":"組合せ抽選用!J26","v":"ＭＳＳ"},null,{"$f":"組合せ抽選用!M26","v":"ＦＣ大野"},{"$f":"組合せ抽選用!J17","v":"大分トリニータ"},null,{"$f":"組合せ抽選用!M17","v":"ＦＣ中津"},{"$f":"組合せ抽選用!J34","v":"ＫＩＮＧＳ"},null,{"$f":"組合せ抽選用!M34","v":"スマイスＳＣ"}]
[]
[null,null,"サッカー・ラグビーＡコート",null,null,null,null,null,"サッカー・ラグビーBコート"]
[null,"開始時刻","「北」コート",null,null,"「南」コート",null,null,"「北」コート",null,null,"「南」コート"]
[null,"ﾗｲﾝ引"]
[null,"ｺﾞｰﾙ運搬"]
[null,"審判",null,"副審",null,null,"副審",null,null,"副審",null,null,"副審"]
["①","10:00:00",{"$f":"D5","v":"はやぶさ"},{"$f":"E12","v":"ミネルバ"},{"$f":"C7","v":"寒田"},{"$f":"G5","v":"ブルーウイング"},{"$f":"H12","v":"ＦＣ大野"},{"$f":"F7","v":"カティU-12"},{"$f":"J5","v":"スマイス・セレソン"},{"$f":"K12","v":"ＦＣ中津"},{"$f":"I7","v":"カティ大在"},{"$f":"M5","v":"市浜"},{"$f":"N12","v":"スマイスＳＣ"},{"$f":"L7","v":"日岡"}]
[null,null,null,{"$f":"D10","v":"四日市南"},null,null,{"$f":"G10","v":"ドリームキッズ"},null,null,{"$f":"J10","v":"日出"},null,null,{"$f":"M10","v":"アリアーレ"}]
["②","10:50:00",{"$f":"D10","v":"四日市南"},{"$f":"D5","v":"はやぶさ"},{"$f":"C12","v":"明野西"},{"$f":"G10","v":"ドリームキッズ"},{"$f":"G5","v":"ブルーウイング"},{"$f":"F12","v":"ＭＳＳ"},{"$f":"J10","v":"日出"},{"$f":"J5","v":"スマイス・セレソン"},{"$f":"I12","v":"大分トリニータ"},{"$f":"M10","v":"アリアーレ"},{"$f":"M5","v":"市浜"},{"$f":"L12","v":"ＫＩＮＧＳ"}]
[null,null,null,{"$f":"C7","v":"寒田"},null,null,{"$f":"F7","v":"カティU-12"},null,null,{"$f":"I7","v":"カティ大在"},null,null,{"$f":"L7","v":"日岡"}]
["③","11:40:00",{"$f":"C7","v":"寒田"},{"$f":"D10","v":"四日市南"},{"$f":"E7","v":"弥生"},{"$f":"F7","v":"カティU-12"},{"$f":"G10","v":"ドリームキッズ"},{"$f":"H7","v":"ＦＣ安岐"},{"$f":"I7","v":"カティ大在"},{"$f":"J10","v":"日出"},{"$f":"K7","v":"太陽大分西"},{"$f":"L7","v":"日岡"},{"$f":"M10","v":"アリアーレ"},{"$f":"N7","v":"千怒"}]
[null,null,null,{"$f":"C12","v":"明野西"},null,null,{"$f":"F12","v":"ＭＳＳ"},null,null,{"$f":"I12","v":"大分トリニータ"},null,null,{"$f":"L12","v":"ＫＩＮＧＳ"}]
["④","12:30:00",{"$f":"C12","v":"明野西"},{"$f":"C7","v":"寒田"},{"$f":"E12","v":"ミネルバ"},{"$f":"F12","v":"ＭＳＳ"},{"$f":"F7","v":"カティU-12"},{"$f":"H12","v":"ＦＣ大野"},{"$f":"I12","v":"大分トリニータ"},{"$f":"I7","v":"カティ大在"},{"$f":"K12","v":"ＦＣ中津"},{"$f":"L12","v":"ＫＩＮＧＳ"},{"$f":"L7","v":"日岡"},{"$f":"N12","v":"スマイスＳＣ"}]
[null,null,null,{"$f":"E7","v":"弥生"},null,null,{"$f":"H7","v":"ＦＣ安岐"},null,null,{"$f":"K7","v":"太陽大分西"},null,null,{"$f":"N7","v":"千怒"}]
[null,"13:20:00","休　　　　　　憩"]
[]
["⑤","14:10:00",{"$f":"E7","v":"弥生"},{"$f":"C12","v":"明野西"},{"$f":"D5","v":"はやぶさ"},{"$f":"H7","v":"ＦＣ安岐"},{"$f":"F12","v":"ＭＳＳ"},{"$f":"G5","v":"ブルーウイング"},{"$f":"K7","v":"太陽大分西"},{"$f":"I12","v":"大分トリニータ"},{"$f":"J5","v":"スマイス・セレソン"},{"$f":"N7","v":"千怒"},{"$f":"L12","v":"ＫＩＮＧＳ"},{"$f":"M5","v":"市浜"}]
[null,null,null,{"$f":"E12","v":"ミネルバ"},null,null,{"$f":"H12","v":"ＦＣ大野"},null,null,{"$f":"K12","v":"ＦＣ中津"},null,null,{"$f":"N12","v":"スマイスＳＣ"}]
["⑥","15:00:00",{"$f":"E12","v":"ミネルバ"},{"$f":"E7","v":"弥生"},{"$f":"D10","v":"四日市南"},{"$f":"H12","v":"ＦＣ大野"},{"$f":"H7","v":"ＦＣ安岐"},{"$f":"G10","v":"ドリームキッズ"},{"$f":"K12","v":"ＦＣ中津"},{"$f":"K7","v":"太陽大分西"},{"$f":"J10","v":"日出"},{"$f":"N12","v":"スマイスＳＣ"},{"$f":"N7","v":"千怒"},{"$f":"M10","v":"アリアーレ"}]
[null,null,null,{"$f":"D5","v":"はやぶさ"},null,null,{"$f":"G5","v":"ブルーウイング"},null,null,{"$f":"J5","v":"スマイス・セレソン"},null,null,{"$f":"M5","v":"市浜"}]

{"sheet":"予選リーグ (2)","index":7,"n_rows":77,"n_cols":53,"rows_kept":77,"cut":false,"hidden":false,"merged":[[75,52,76,53],[75,50,76,50],[73,50,74,50],[73,51,74,51],[73,52,74,53],[0,0,0,26],[0,28,0,54],[9,28,9,30],[9,0,9,2],[2,31,2,54],[3,49,3,54],[3,37,3,42],[3,43,3,48],[6,49,6,54],[4,43,4,48],[3,31,3,36],[4,31,4,36],[20,0,21,0],[20,1,21,2],[12,0,13,0],[12,1,13,2],[12,3,12,4],[13,3,13,4],[5,31,5,36],[75,45,76,45],[73,48,74,49],[75,46,76,46],[75,47,76,47],[75,48,76,49],[73,46,74,46],[73,45,74,45],[73,47,74,47],[75,51,76,51],[73,28,74,28],[75,42,76,42],[75,43,76,43],[75,44,76,44],[75,28,76,28],[75,29,75,30],[75,40,76,40],[75,41,76,41],[76,29,76,30],[73,40,74,40],[74,29,74,30],[73,42,74,42],[73,43,74,43],[73,44,74,44],[73,29,73,30],[73,41,74,41],[70,52,70,53],[70,50,70,51],[71,52,72,53],[71,50,72,50],[71,51,72,51],[71,28,72,28],[71,29,71,30],[71,40,72,40],[71,41,72,41],[72,29,72,30],[71,45,72,45],[71,42,72,42],[71,43,72,43],[71,44,72,44],[71,48,72,49],[71,46,72,46],[71,47,72,47],[68,29,68,30],[66,29,66,30],[67,48,68,49],[65,42,66,42],[65,28,66,28],[65,29,65,30],[65,40,66,40],[65,41,66,41],[70,31,70,33],[70,34,70,36],[70,37,70,39],[70,28,70,30],[67,28,68,28],[67,29,67,30],[70,46,70,47],[70,48,70,49],[65,46,66,46],[65,47,66,47],[65,48,66,49],[67,40,68,40],[67,41,68,41],[67,52,68,53],[65,44,66,44],[65,50,66,50],[65,51,66,51],[65,52,66,53],[67,51,68,51],[65,45,66,45],[67,50,68,50],[67,42,68,42],[67,43,68,43],[67,44,68,44],[67,45,68,45],[67,46,68,46],[67,47,68,47],[65,43,66,43],[62,52,62,53],[62,50,62,51],[63,52,64,53],[63,29,63,30],[63,40,64,40],[64,29,64,30],[63,51,64,51],[62,31,62,33],[62,34,62,36],[62,37,62,39],[63,45,64,45],[63,50,64,50],[63,48,64,49],[63,47,64,47],[63,46,64,46],[62,48,62,49],[62,46,62,47],[63,44,64,44],[59,41,60,41],[55,40,56,40],[55,45,56,45],[55,44,56,44],[55,43,56,43],[63,28,64,28],[63,42,64,42],[63,43,64,43],[63,41,64,41],[51,52,52,53],[51,50,52,50],[51,51,52,51],[57,52,58,53],[57,50,58,50],[57,51,58,51],[59,44,60,44],[57,44,58,44],[57,46,58,46],[59,52,60,53],[59,46,60,46],[59,47,60,47],[59,48,60,49],[59,51,60,51],[57,47,58,47],[57,48,58,49],[59,50,60,50],[59,45,60,45],[57,45,58,45],[67,22,68,22],[65,24,66,25],[62,24,62,25],[55,24,56,25],[54,31,54,33],[63,24,64,25],[51,44,52,44],[49,44,50,44],[57,40,58,40],[57,41,58,41],[59,42,60,42],[59,43,60,43],[57,42,58,42],[62,28,62,30],[59,28,60,28],[51,43,52,43],[59,29,59,30],[57,28,58,28],[58,29,58,30],[57,29,57,30],[60,29,60,30],[57,43,58,43],[55,41,56,41],[59,40,60,40],[73,16,74,16],[75,19,76,19],[67,24,68,25],[70,24,70,25],[75,20,76,21],[59,23,60,23],[73,22,74,22],[71,22,72,22],[71,23,72,23],[75,22,76,22],[73,23,74,23],[73,20,74,21],[63,23,64,23],[63,20,64,21],[63,22,64,22],[65,23,66,23],[65,22,66,22],[59,24,60,25],[75,23,76,23],[75,24,76,25],[67,23,68,23],[73,24,74,25],[70,22,70,23],[71,24,72,25],[75,0,76,0],[75,1,75,2],[75,12,76,12],[75,13,76,13],[76,1,76,2],[73,19,74,19],[75,14,76,14],[75,17,76,17],[71,1,71,2],[73,13,74,13],[74,1,74,2],[72,1,72,2],[71,12,72,12],[71,13,72,13],[75,15,76,15],[75,16,76,16],[73,12,74,12],[75,18,76,18],[71,15,72,15],[73,17,74,17],[73,18,74,18],[73,15,74,15],[71,16,72,16],[71,17,72,17],[71,0,72,0],[73,0,74,0],[73,1,73,2],[70,0,70,2],[70,3,70,5],[70,6,70,8],[70,9,70,11],[71,14,72,14],[73,14,74,14],[65,19,66,19],[65,20,66,21],[67,13,68,13],[67,0,68,0],[67,18,68,18],[67,17,68,17],[67,1,67,2],[67,12,68,12],[68,1,68,2],[71,20,72,21],[71,18,72,18],[70,18,70,19],[71,19,72,19],[70,20,70,21],[67,19,68,19],[67,14,68,14],[67,15,68,15],[67,16,68,16],[67,20,68,21],[63,0,64,0],[63,19,64,19],[62,18,62,19],[62,6,62,8],[62,9,62,11],[63,14,64,14],[63,15,64,15],[65,0,66,0],[65,1,65,2],[65,12,66,12],[65,13,66,13],[66,1,66,2],[63,16,64,16],[63,1,63,2],[63,12,64,12],[63,13,64,13],[64,1,64,2],[63,17,64,17],[65,14,66,14],[65,15,66,15],[65,16,66,16],[65,17,66,17],[63,18,64,18],[65,18,66,18],[60,1,60,2],[62,0,62,2],[62,3,62,5],[59,1,59,2],[57,14,58,14],[62,22,62,23],[57,20,58,21],[59,15,60,15],[59,16,60,16],[59,17,60,17],[59,20,60,21],[59,19,60,19],[59,18,60,18],[62,20,62,21],[59,22,60,22],[59,0,60,0],[59,12,60,12],[59,14,60,14],[57,19,58,19],[57,15,58,15],[57,16,58,16],[57,0,58,0],[57,1,57,2],[57,12,58,12],[47,52,48,53],[47,45,48,45],[47,43,48,43],[49,52,50,53],[49,48,50,49],[46,52,46,53],[46,50,46,51],[46,48,46,49],[59,13,60,13],[57,24,58,25],[49,45,50,45],[55,48,56,49],[55,47,56,47],[51,45,52,45],[54,48,54,49],[51,47,52,47],[54,46,54,47],[55,52,56,53],[55,50,56,50],[51,46,52,46],[55,46,56,46],[54,52,54,53],[54,50,54,51],[55,51,56,51],[12,49,12,51],[51,40,52,40],[13,31,13,32],[12,43,12,44],[14,40,14,42],[49,46,50,46],[49,47,50,47],[47,50,48,50],[47,48,48,49],[47,51,48,51],[51,48,52,49],[49,51,50,51],[49,50,50,50],[49,43,50,43],[46,31,46,33],[51,41,52,41],[49,41,50,41],[49,42,50,42],[47,40,48,40],[49,40,50,40],[46,34,46,36],[47,47,48,47],[47,46,48,46],[46,46,46,47],[47,41,48,41],[47,42,48,42],[54,24,54,25],[54,20,54,21],[54,34,54,36],[49,24,50,25],[51,28,52,28],[52,29,52,30],[54,37,54,39],[49,28,50,28],[49,29,49,30],[18,43,18,44],[24,12,24,14],[55,14,56,14],[22,12,22,14],[25,12,25,14],[47,14,48,14],[47,13,48,13],[51,42,52,42],[55,28,56,28],[55,29,55,30],[55,42,56,42],[56,29,56,30],[54,28,54,30],[51,24,52,25],[55,15,56,15],[55,16,56,16],[49,16,50,16],[49,14,50,14],[55,22,56,22],[55,23,56,23],[55,20,56,21],[46,37,46,39],[47,44,48,44],[55,19,56,19],[57,13,58,13],[58,1,58,2],[49,15,50,15],[55,12,56,12],[55,13,56,13],[54,6,54,8],[51,0,52,0],[51,1,51,2],[55,0,56,0],[55,1,55,2],[56,1,56,2],[52,1,52,2],[54,0,54,2],[49,0,50,0],[49,1,49,2],[57,17,58,17],[57,18,58,18],[55,17,56,17],[55,18,56,18],[57,22,58,22],[57,23,58,23],[24,9,24,11],[4,28,6,30],[10,28,10,30],[49,22,50,22],[51,16,52,16],[51,17,52,17],[51,15,52,15],[47,16,48,16],[23,9,23,11],[23,12,23,14],[20,3,21,26],[19,9,19,11],[18,9,18,11],[22,15,22,16],[19,15,19,16],[19,17,19,19],[18,24,18,26],[19,12,19,14],[18,12,18,14],[47,28,48,28],[47,29,47,30],[49,13,50,13],[51,29,51,30],[50,29,50,30],[11,0,11,2],[10,0,10,2],[14,15,14,16],[13,9,13,11],[24,15,24,16],[25,15,25,16],[23,17,23,19],[16,9,16,11],[15,5,15,7],[17,9,17,11],[15,12,15,14],[16,12,16,14],[23,15,23,16],[48,1,48,2],[50,1,50,2],[46,9,46,11],[25,9,25,11],[13,5,13,7],[11,40,11,42],[5,3,5,8],[6,15,6,20],[10,15,10,26],[11,24,11,26],[10,3,10,14],[5,9,5,14],[12,12,12,14],[12,15,12,16],[12,31,12,32],[12,33,12,35],[12,40,12,42],[12,37,12,39],[12,24,12,26],[12,5,12,7],[12,9,12,11],[4,49,4,54],[5,49,5,54],[10,31,10,42],[5,43,5,48],[6,43,6,48],[10,43,10,54],[5,37,5,42],[6,37,6,42],[4,37,4,42],[6,31,6,36],[12,52,12,54],[23,3,23,4],[23,5,23,7],[18,5,18,7],[11,52,11,54],[16,0,17,0],[16,1,17,2],[16,3,16,4],[17,3,17,4],[14,5,14,7],[14,0,15,0],[14,1,15,2],[14,3,14,4],[15,3,15,4],[16,52,16,54],[13,52,13,54],[13,49,13,51],[14,52,14,54],[15,52,15,54],[14,49,14,51],[15,49,15,51],[11,12,11,14],[14,12,14,14],[14,9,14,11],[2,28,2,30],[3,28,3,30],[12,28,13,28],[12,29,13,30],[11,28,11,30],[46,18,46,19],[22,21,22,23],[19,21,19,23],[20,29,21,30],[22,29,23,30],[46,20,46,21],[25,17,25,19],[14,24,14,26],[12,21,12,23],[13,17,13,19],[12,17,12,19],[16,28,17,28],[14,17,14,19],[19,24,19,26],[18,17,18,19],[22,17,22,19],[22,24,22,26],[18,21,18,23],[24,17,24,19],[13,45,13,47],[15,43,15,44],[15,31,15,32],[47,20,48,21],[24,28,25,28],[46,28,46,30],[47,22,48,22],[46,24,46,25],[47,23,48,23],[47,24,48,25],[46,22,46,23],[48,29,48,30],[23,24,23,26],[23,21,23,23],[25,45,25,47],[13,40,13,42],[14,45,14,47],[14,43,14,44],[13,33,13,35],[13,37,13,39],[25,43,25,44],[25,21,25,23],[25,37,25,39],[15,45,15,47],[12,45,12,47],[17,37,17,39],[17,45,17,47],[17,43,17,44],[16,40,16,42],[16,37,16,39],[15,40,15,42],[54,3,54,5],[13,12,13,14],[15,9,15,11],[22,9,22,11],[46,6,46,8],[49,20,50,21],[51,20,52,21],[49,17,50,17],[49,19,50,19],[18,15,18,16],[15,15,15,16],[16,15,16,16],[13,15,13,16],[17,15,17,16],[16,5,16,7],[17,5,17,7],[17,12,17,14],[54,18,54,19],[54,22,54,23],[54,9,54,11],[51,12,52,12],[51,14,52,14],[51,13,52,13],[51,23,52,23],[51,22,52,22],[47,17,48,17],[49,23,50,23],[47,12,48,12],[49,12,50,12],[47,18,48,18],[51,18,52,18],[49,18,50,18],[51,19,52,19],[47,15,48,15],[46,0,46,2],[24,0,25,0],[24,1,25,2],[25,5,25,7],[25,3,25,4],[22,0,23,0],[19,3,19,4],[24,3,24,4],[24,5,24,7],[19,5,19,7],[18,0,19,0],[18,1,19,2],[18,3,18,4],[2,0,2,2],[3,0,3,2],[4,0,6,2],[2,3,2,26],[3,3,3,8],[4,3,4,8],[6,3,6,8],[3,15,3,20],[4,15,4,20],[3,9,3,14],[4,9,4,14],[6,9,6,14],[3,21,3,26],[4,21,4,26],[6,21,6,26],[5,21,5,26],[5,15,5,20],[22,43,22,44],[23,43,23,44],[13,24,13,26],[14,21,14,23],[47,0,48,0],[47,1,47,2],[13,21,13,23],[14,33,14,35],[15,21,15,23],[14,28,15,28],[14,29,15,30],[14,31,14,32],[15,24,15,26],[47,19,48,19],[25,24,25,26],[24,24,24,26],[24,21,24,23],[19,33,19,35],[22,1,23,2],[22,3,22,4],[46,3,46,5],[22,5,22,7],[14,37,14,39],[13,43,13,44],[16,49,16,51],[16,45,16,47],[15,33,15,35],[16,33,16,35],[15,17,15,19],[16,29,17,30],[17,40,17,42],[17,49,17,51],[16,43,16,44],[16,17,16,19],[17,17,17,19],[17,21,17,23],[16,24,16,26],[17,24,17,26],[17,33,17,35],[16,31,16,32],[17,31,17,32],[16,21,16,23],[15,37,15,39],[25,52,25,54],[24,45,24,47],[23,40,23,42],[18,28,19,28],[23,37,23,39],[22,40,22,42],[18,37,18,39],[24,43,24,44],[22,28,23,28],[20,28,21,28],[25,33,25,35],[25,31,25,32],[24,29,25,30],[24,33,24,35],[24,31,24,32],[18,31,18,32],[18,33,18,35],[22,31,22,32],[22,33,22,35],[18,29,19,30],[19,31,19,32],[25,49,25,51],[25,40,25,42],[23,45,23,47],[17,52,17,54],[24,52,24,54],[18,49,18,51],[19,37,19,39],[19,43,19,44],[19,45,19,47],[19,49,19,51],[18,40,18,42],[24,37,24,39],[18,45,18,47],[24,40,24,42],[24,49,24,51],[18,52,18,54],[19,52,19,54],[22,52,22,54],[23,52,23,54],[20,31,21,54],[23,33,23,35],[19,40,19,42],[22,37,22,39],[23,31,23,32],[22,49,22,51],[23,49,23,51],[22,45,22,47]]}
["＜予選リーグ組み合わせ・結果＞",null,null,null,null,null,null,null,null,null,null,null,null,null,null,null,null,null,null,null,null,null,null,null,null,null,null,null,"＜予選リーグ組み合わせ・結果＞"]
[]
["会場",null,null,"サッカー・ラグビー　Ａコート",null,null,null,null,null,null,null,null,null,null,null,null,null,null,null,null,null,null,null,null,null,null,null,null,"会場",null,null,"サッカー・ラグビー　Ｂコート"]
["グループ",null,null,"【　A　】",null,null,null,null,null,"【　C　】",null,null,null,null,null,"【　B　】",null,null,null,null,null,"【　D　】",null,null,null,null,null,null,"グループ",null,null,"【　E　】",null,null,null,null,null,"【　G　】",null,null,null,null,null,"【　F　】",null,null,null,null,null,"【　H　】"]
["チーム",null,null,{"$f":"予選リーグ!D5","v":"はやぶさ"},null,null,null,null,null,{"$f":"予選リーグ!D10","v":"四日市南"},null,null,null,null,null,{"$f":"予選リーグ!G5","v":"ブルーウイング"},null,null,null,null,null,{"$f":"予選リーグ!G10","v":"ドリームキッズ"},null,null,null,null,null,null,"チーム",null,null,{"$f":"予選リーグ!J5","v":"スマイス・セレソン"},null,null,null,null,null,{"$f":"予選リーグ!J10","v":"日出"},null,null,null,null,null,{"$f":"予選リーグ!M5","v":"市浜"},null,null,null,null,null,{"$f":"予選リーグ!M10","v":"アリアーレ"}]
[null,null,null,{"$f":"予選リーグ!C7","v":"寒田"},null,null,null,null,null,{"$f":"予選リーグ!C12","v":"明野西"},null,null,null,null,null,{"$f":"予選リーグ!F7","v":"カティU-12"},null,null,null,null,null,{"$f":"予選リーグ!F12","v":"ＭＳＳ"},null,null,null,null,null,null,null,null,null,{"$f":"予選リーグ!I7","v":"カティ大在"},null,null,null,null,null,{"$f":"予選リーグ!I12","v":"大分トリニータ"},null,null,null,null,null,{"$f":"予選リーグ!L7","v":"日岡"},null,null,null,null,null,{"$f":"予選リーグ!L12","v":"ＫＩＮＧＳ"}]
[null,null,null,{"$f":"予選リーグ!E7","v":"弥生"},null,null,null,null,null,{"$f":"予選リーグ!E12","v":"ミネルバ"},null,null,null,null,null,{"$f":"予選リーグ!H7","v":"ＦＣ安岐"},null,null,null,null,null,{"$f":"予選リーグ!H12","v":"ＦＣ大野"},null,null,null,null,null,null,null,null,null,{"$f":"予選リーグ!K7","v":"太陽大分西"},null,null,null,null,null,{"$f":"予選リーグ!K12","v":"ＦＣ中津"},null,null,null,null,null,{"$f":"予選リーグ!N7","v":"千怒"},null,null,null,null,null,{"$f":"予選リーグ!N12","v":"スマイスＳＣ"}]
[]
[]
["【組合せ・時間割】",null,null,null,null,null,null,null,null,null,null,null,null,null,null,null,null,null,null,null,null,null,null,null,null,null,null,null,"【組合せ・時間割】"]
["コート",null,null,{"$f":"予選リーグ!C15","v":"「北」コート"},null,null,null,null,null,null,null,null,null,null,null,{"$f":"予選リーグ!F15","v":"「南」コート"},null,null,null,null,null,null,null,null,null,null,null,null,"コート",null,null,{"$f":"予選リーグ!I15","v":"「北」コート"},null,null,null,null,null,null,null,null,null,null,null,{"$f":"予選リーグ!L15","v":"「南」コート"}]
["試合時間",null,null,null,null,null,null,null,"対戦相手",null,null,null,"副審",null,null,null,null,null,null,null,"対戦相手",null,null,null,"副審",null,null,null,"試合時間",null,null,null,null,null,null,null,"対戦相手",null,null,null,"副審",null,null,null,null,null,null,null,"対戦相手",null,null,null,"副審"]
["①",{"$f":"予選リーグ!B19","v":"10:00:00"},null,"チーム名",null,{"$f":"予選リーグ!C19","v":"はやぶさ"},null,null,"-",{"$f":"予選リーグ!E19","v":"寒田"},null,null,{"$f":"予選リーグ!D19","v":"ミネルバ"},null,null,"チーム名",null,{"$f":"予選リーグ!F19","v":"ブルーウイング"},null,null,"-",{"$f":"予選リーグ!H19","v":"カティU-12"},null,null,{"$f":"予選リーグ!G19","v":"ＦＣ大野"},null,null,null,"①",{"$f":"予選リーグ!B19","v":"10:00:00"},null,"チーム名",null,{"$f":"予選リーグ!I19","v":"スマイス・セレソン"},null,null,"-",{"$f":"予選リーグ!K19","v":"カティ大在"},null,null,{"$f":"予選リーグ!J19","v":"ＦＣ中津"},null,null,"チーム名",null,{"$f":"予選リーグ!L19","v":"市浜"},null,null,"-",{"$f":"予選リーグ!N19","v":"日岡"},null,null,{"$f":"予選リーグ!M19","v":"スマイスＳＣ"}]
[null,null,null,"得失点",null,1,null,null,"-",3,null,null,{"$f":"予選リーグ!D20","v":"四日市南"},null,null,"得失点",null,0,null,null,"-",2,null,null,{"$f":"予選リーグ!G20","v":"ドリームキッズ"},null,null,null,null,null,null,"得失点",null,6,null,null,"-",0,null,null,{"$f":"予選リーグ!J20","v":"日出"},null,null,"得失点",null,0,null,null,"-",3,null,null,{"$f":"予選リーグ!M20","v":"アリアーレ"}]
["②",{"$f":"予選リーグ!B21","v":"10:50:00"},null,"チーム名",null,{"$f":"予選リーグ!C21","v":"四日市南"},null,null,"-",{"$f":"予選リーグ!E21","v":"明野西"},null,null,{"$f":"予選リーグ!D21","v":"はやぶさ"},null,null,"チーム名",null,{"$f":"予選リーグ!F21","v":"ドリームキッズ"},null,null,"-",{"$f":"予選リーグ!H21","v":"ＭＳＳ"},null,null,{"$f":"予選リーグ!G21","v":"ブルーウイング"},null,null,null,"②",{"$f":"予選リーグ!B21","v":"10:50:00"},null,"チーム名",null,{"$f":"予選リーグ!I21","v":"日出"},null,null,"-",{"$f":"予選リーグ!K21","v":"大分トリニータ"},null,null,{"$f":"予選リーグ!J21","v":"スマイス・セレソン"},null,null,"チーム名",null,{"$f":"予選リーグ!L21","v":"アリアーレ"},null,null,"-",{"$f":"予選リーグ!N21","v":"ＫＩＮＧＳ"},null,null,{"$f":"予選リーグ!M21","v":"市浜"}]
[null,null,null,"得失点",null,3,null,null,"-",0,null,null,{"$f":"予選リーグ!D22","v":"寒田"},null,null,"得失点",null,2,null,null,"-",1,null,null,{"$f":"予選リーグ!G22","v":"カティU-12"},null,null,null,null,null,null,"得失点",null,0,null,null,"-",10,null,null,{"$f":"予選リーグ!J22","v":"カティ大在"},null,null,"得失点",null,1,null,null,"-",1,null,null,{"$f":"予選リーグ!M22","v":"日岡"}]
["③",{"$f":"予選リーグ!B23","v":"11:40:00"},null,"チーム名",null,{"$f":"予選リーグ!C23","v":"寒田"},null,null,"-",{"$f":"予選リーグ!E23","v":"弥生"},null,null,{"$f":"予選リーグ!D23","v":"四日市南"},null,null,"チーム名",null,{"$f":"予選リーグ!F23","v":"カティU-12"},null,null,"-",{"$f":"予選リーグ!H23","v":"ＦＣ安岐"},null,null,{"$f":"予選リーグ!G23","v":"ドリームキッズ"},null,null,null,"③",{"$f":"予選リーグ!B23","v":"11:40:00"},null,"チーム名",null,{"$f":"予選リーグ!I23","v":"カティ大在"},null,null,"-",{"$f":"予選リーグ!K23","v":"太陽大分西"},null,null,{"$f":"予選リーグ!J23","v":"日出"},null,null,"チーム名",null,{"$f":"予選リーグ!L23","v":"日岡"},null,null,"-",{"$f":"予選リーグ!N23","v":"千怒"},null,null,{"$f":"予選リーグ!M23","v":"アリアーレ"}]
[null,null,null,"得失点",null,0,null,null,"-",0,null,null,{"$f":"予選リーグ!D24","v":"明野西"},null,null,"得失点",null,5,null,null,"-",0,null,null,{"$f":"予選リーグ!G24","v":"ＭＳＳ"},null,null,null,null,null,null,"得失点",null,0,null,null,"-",6,null,null,{"$f":"予選リーグ!J24","v":"大分トリニータ"},null,null,"得失点",null,8,null,null,"-",0,null,null,{"$f":"予選リーグ!M24","v":"ＫＩＮＧＳ"}]
["④",{"$f":"予選リーグ!B25","v":"12:30:00"},null,"チーム名",null,{"$f":"予選リーグ!C25","v":"明野西"},null,null,"-",{"$f":"予選リーグ!E25","v":"ミネルバ"},null,null,{"$f":"予選リーグ!D25","v":"寒田"},null,null,"チーム名",null,{"$f":"予選リーグ!F25","v":"ＭＳＳ"},null,null,"-",{"$f":"予選リーグ!H25","v":"ＦＣ大野"},null,null,{"$f":"予選リーグ!G25","v":"カティU-12"},null,null,null,"④",{"$f":"予選リーグ!B25","v":"12:30:00"},null,"チーム名",null,{"$f":"予選リーグ!I25","v":"大分トリニータ"},null,null,"-",{"$f":"予選リーグ!K25","v":"ＦＣ中津"},null,null,{"$f":"予選リーグ!J25","v":"カティ大在"},null,null,"チーム名",null,{"$f":"予選リーグ!L25","v":"ＫＩＮＧＳ"},null,null,"-",{"$f":"予選リーグ!N25","v":"スマイスＳＣ"},null,null,{"$f":"予選リーグ!M25","v":"日岡"}]
[null,null,null,"得失点",null,5,null,null,"-",0,null,null,{"$f":"予選リーグ!D26","v":"弥生"},null,null,"得失点",null,5,null,null,"-",1,null,null,{"$f":"予選リーグ!G26","v":"ＦＣ安岐"},null,null,null,null,null,null,"得失点",null,0,null,null,"-",0,null,null,{"$f":"予選リーグ!J26","v":"太陽大分西"},null,null,"得失点",null,0,null,null,"-",0,null,null,{"$f":"予選リーグ!M26","v":"千怒"}]
[null,{"$f":"予選リーグ!B27","v":"13:20:00"},null,"休　　　　憩",null,null,null,null,null,null,null,null,null,null,null,null,null,null,null,null,null,null,null,null,null,null,null,null,null,{"$f":"予選リーグ!B27","v":"13:20:00"},null,"休　　　　憩"]
[]
["⑤",{"$f":"予選リーグ!B29","v":"14:10:00"},null,"チーム名",null,{"$f":"予選リーグ!C29","v":"弥生"},null,null,"-",{"$f":"予選リーグ!E29","v":"はやぶさ"},null,null,{"$f":"予選リーグ!D29","v":"明野西"},null,null,"チーム名",null,{"$f":"予選リーグ!F29","v":"ＦＣ安岐"},null,null,"-",{"$f":"予選リーグ!H29","v":"ブルーウイング"},null,null,{"$f":"予選リーグ!G29","v":"ＭＳＳ"},null,null,null,"⑤",{"$f":"予選リーグ!B29","v":"14:10:00"},null,"チーム名",null,{"$f":"予選リーグ!I29","v":"太陽大分西"},null,null,"-",{"$f":"予選リーグ!K29","v":"スマイス・セレソン"},null,null,{"$f":"予選リーグ!J29","v":"大分トリニータ"},null,null,"チーム名",null,{"$f":"予選リーグ!L29","v":"千怒"},null,null,"-",{"$f":"予選リーグ!N29","v":"市浜"},null,null,{"$f":"予選リーグ!M29","v":"ＫＩＮＧＳ"}]
[null,null,null,"得失点",null,2,null,null,"-",0,null,null,{"$f":"予選リーグ!D30","v":"ミネルバ"},null,null,"得失点",null,1,null,null,"-",3,null,null,{"$f":"予選リーグ!G30","v":"ＦＣ大野"},null,null,null,null,null,null,"得失点",null,1,null,null,"-",5,null,null,{"$f":"予選リーグ!J30","v":"ＦＣ中津"},null,null,"得失点",null,0,null,null,"-",0,null,null,{"$f":"予選リーグ!M30","v":"スマイスＳＣ"}]
["⑥",{"$f":"予選リーグ!B31","v":"15:00:00"},null,"チーム名",null,{"$f":"予選リーグ!C31","v":"ミネルバ"},null,null,"-",{"$f":"予選リーグ!E31","v":"四日市南"},null,null,{"$f":"予選リーグ!D31","v":"弥生"},null,null,"チーム名",null,{"$f":"予選リーグ!F31","v":"ＦＣ大野"},null,null,"-",{"$f":"予選リーグ!H31","v":"ドリームキッズ"},null,null,{"$f":"予選リーグ!G31","v":"ＦＣ安岐"},null,null,null,"⑥",{"$f":"予選リーグ!B31","v":"15:00:00"},null,"チーム名",null,{"$f":"予選リーグ!I31","v":"ＦＣ中津"},null,null,"-",{"$f":"予選リーグ!K31","v":"日出"},null,null,{"$f":"予選リーグ!J31","v":"太陽大分西"},null,null,"チーム名",null,{"$f":"予選リーグ!L31","v":"スマイスＳＣ"},null,null,"-",{"$f":"予選リーグ!N31","v":"アリアーレ"},null,null,{"$f":"予選リーグ!M31","v":"千怒"}]
[null,null,null,"得失点",null,0,null,null,"-",5,null,null,{"$f":"予選リーグ!D32","v":"はやぶさ"},null,null,"得失点",null,0,null,null,"-",4,null,null,{"$f":"予選リーグ!G32","v":"ブルーウイング"},null,null,null,null,null,null,"得失点",null,8,null,null,"-",0,null,null,{"$f":"予選リーグ!J32","v":"スマイス・セレソン"},null,null,"得失点",null,3,null,null,"-",0,null,null,{"$f":"予選リーグ!M32","v":"市浜"}]
[]
[]
[]
[]
[]
[]
[]
[]
[]
[]
[]
[]
[]
[]
[]
[]
[]
[]
[null,null,null,null,null,"勝点表","勝",3,null,"分",1,null,"負",0,null,null,null,null,null,null,null,null,null,null,null,null,null,null,null,null,null,null,null,"勝点表","勝",3,null,"分",1,null,"負",0]
[]
["Aパート",null,null,{"$f":"A48","v":"はやぶさ"},null,null,{"$f":"A50","v":"寒田"},null,null,{"$f":"A52","v":"弥生"},null,null,"勝","分","敗","得\n点","失\n点","勝\n点","勝点\n順位",null,"得失\n点差",null,"得失\n順位",null,"ﾄｰﾀﾙ\n順位",null,null,null,"Eパート",null,null,{"$f":"AC48","v":"スマイス・セレソン"},null,null,{"$f":"AC50","v":"カティ大在"},null,null,{"$f":"AC52","v":"太陽大分西"},null,null,"勝","分","敗","得\n点","失\n点","勝\n点","勝点\n順位",null,"得失\n点差",null,"得失\n順位",null,"ﾄｰﾀﾙ\n順位"]
[{"$f":"予選リーグ!D5","v":"はやぶさ"},"星取表",null,null,null,null,null,{"$f":"IF(G49=\"\",\"\",IF(G49>I49,\"○\",IF(G49<I49,\"●\",IF(G49=I49,\"△\"))))","v":"●"},null,null,{"$f":"IF(J49=\"\",\"\",IF(J49>L49,\"○\",IF(J49<L49,\"●\",IF(J49=L49,\"△\"))))","v":"●"},null,{"$f":"COUNTIF(D48:L48,\"○\")","v":0},{"$f":"COUNTIF(D48:L48,\"△\")+COUNTIF(D48:L48,\"▲\")","v":0},{"$f":"COUNTIF(D48:L48,\"●\")","v":2},{"$f":"SUM(D49,G49,J49)","v":1},{"$f":"SUM(F49,I49,L49)","v":5},{"$f":"(M48*3)+(N48*1)","v":0},{"$f":"RANK(R48,R$48:R$53)","v":3},"位",{"$f":"P48-Q48","v":-4},null,{"$f":"RANK(U48,U$48:U$53)","v":3},"位",3,null,null,null,{"$f":"予選リーグ!J5","v":"スマイス・セレソン"},"星取表",null,null,null,null,null,{"$f":"IF(AI49=\"\",\"\",IF(AI49>AK49,\"○\",IF(AI49<AK49,\"●\",IF(AI49=AK49,\"△\"))))","v":"○"},null,null,{"$f":"IF(AL49=\"\",\"\",IF(AL49>AN49,\"○\",IF(AL49<AN49,\"●\",IF(AL49=AN49,\"△\"))))","v":"○"},null,{"$f":"COUNTIF(AF48:AN48,\"○\")","v":2},{"$f":"COUNTIF(AF48:AN48,\"△\")+COUNTIF(AF48:AN48,\"▲\")","v":0},{"$f":"COUNTIF(AF48:AN48,\"●\")","v":0},{"$f":"SUM(AF49,AI49,AL49)","v":11},{"$f":"SUM(AH49,AK49,AN49)","v":1},{"$f":"(AO48*3)+(AP48*1)","v":6},{"$f":"RANK(AT48,AT$48:AT$53)","v":1},"位",{"$f":"AR48-AS48","v":10},null,{"$f":"RANK(AW48,AW$48:AW$53)","v":1},"位",1]
[null,"得失点",null,null,null,null,{"$f":"F14","v":1},"-",{"$f":"J14","v":3},{"$f":"J24","v":0},"-",{"$f":"F24","v":2},null,null,null,null,null,null,null,null,null,null,null,null,null,null,null,null,null,"得失点",null,null,null,null,{"$f":"AH14","v":6},"-",{"$f":"AL14","v":0},{"$f":"AL24","v":5},"-",{"$f":"AH24","v":1}]
[{"$f":"予選リーグ!C7","v":"寒田"},"星取表",null,null,{"$f":"IF(D51=\"\",\"\",IF(D51>F51,\"○\",IF(D51<F51,\"●\",IF(D51=F51,\"△\"))))","v":"○"},null,null,null,null,null,{"$f":"IF(J51=\"\",\"\",IF(J51>L51,\"○\",IF(J51<L51,\"●\",IF(J51=L51,\"△\"))))","v":"△"},null,{"$f":"COUNTIF(D50:L50,\"○\")","v":1},{"$f":"COUNTIF(D50:L50,\"△\")+COUNTIF(D50:L50,\"▲\")","v":1},{"$f":"COUNTIF(D50:L50,\"●\")","v":0},{"$f":"SUM(D51,G51,J51)","v":3},{"$f":"SUM(F51,I51,L51)","v":1},{"$f":"(M50*3)+(N50*1)","v":4},{"$f":"RANK(R50,R$48:R$53)","v":1},"位",{"$f":"P50-Q50","v":2},null,{"$f":"RANK(U50,U$48:U$53)","v":1},"位",1,null,null,null,{"$f":"予選リーグ!I7","v":"カティ大在"},"星取表",null,null,{"$f":"IF(AF51=\"\",\"\",IF(AF51>AH51,\"○\",IF(AF51<AH51,\"●\",IF(AF51=AH51,\"△\"))))","v":"●"},null,null,null,null,null,{"$f":"IF(AL51=\"\",\"\",IF(AL51>AN51,\"○\",IF(AL51<AN51,\"●\",IF(AL51=AN51,\"△\"))))","v":"●"},null,{"$f":"COUNTIF(AF50:AN50,\"○\")","v":0},{"$f":"COUNTIF(AF50:AN50,\"△\")+COUNTIF(AF50:AN50,\"▲\")","v":0},{"$f":"COUNTIF(AF50:AN50,\"●\")","v":2},{"$f":"SUM(AF51,AI51,AL51)","v":0},{"$f":"SUM(AH51,AK51,AN51)","v":12},{"$f":"(AO50*3)+(AP50*1)","v":0},{"$f":"RANK(AT50,AT$48:AT$53)","v":3},"位",{"$f":"AR50-AS50","v":-12},null,{"$f":"RANK(AW50,AW$48:AW$53)","v":3},"位",3]
[null,"得失点",null,{"$f":"I49","v":3},"-",{"$f":"G49","v":1},null,null,null,{"$f":"F18","v":0},"-",{"$f":"J18","v":0},null,null,null,null,null,null,null,null,null,null,null,null,null,null,null,null,null,"得失点",null,{"$f":"AK49","v":0},"-",{"$f":"AI49","v":6},null,null,null,{"$f":"AH18","v":0},"-",{"$f":"AL18","v":6}]
[{"$f":"予選リーグ!E7","v":"弥生"},"星取表",null,null,{"$f":"IF(D53=\"\",\"\",IF(D53>F53,\"○\",IF(D53<F53,\"●\",IF(D53=F53,\"△\"))))","v":"○"},null,null,{"$f":"IF(G53=\"\",\"\",IF(G53>I53,\"○\",IF(G53<I53,\"●\",IF(G53=I53,\"△\"))))","v":"△"},null,null,null,null,{"$f":"COUNTIF(D52:L52,\"○\")","v":1},{"$f":"COUNTIF(D52:L52,\"△\")+COUNTIF(D52:L52,\"▲\")","v":1},{"$f":"COUNTIF(D52:L52,\"●\")","v":0},{"$f":"SUM(D53,G53,J53)","v":2},{"$f":"SUM(F53,I53,L53)","v":0},{"$f":"(M52*3)+(N52*1)","v":4},{"$f":"RANK(R52,R$48:R$53)","v":1},"位",{"$f":"P52-Q52","v":2},null,{"$f":"RANK(U52,U$48:U$53)","v":1},"位",2,null,null,null,{"$f":"予選リーグ!K7","v":"太陽大分西"},"星取表",null,null,{"$f":"IF(AF53=\"\",\"\",IF(AF53>AH53,\"○\",IF(AF53<AH53,\"●\",IF(AF53=AH53,\"△\"))))","v":"●"},null,null,{"$f":"IF(AI53=\"\",\"\",IF(AI53>AK53,\"○\",IF(AI53<AK53,\"●\",IF(AI53=AK53,\"△\"))))","v":"○"},null,null,null,null,{"$f":"COUNTIF(AF52:AN52,\"○\")","v":1},{"$f":"COUNTIF(AF52:AN52,\"△\")+COUNTIF(AF52:AN52,\"▲\")","v":0},{"$f":"COUNTIF(AF52:AN52,\"●\")","v":1},{"$f":"SUM(AF53,AI53,AL53)","v":7},{"$f":"SUM(AH53,AK53,AN53)","v":5},{"$f":"(AO52*3)+(AP52*1)","v":3},{"$f":"RANK(AT52,AT$48:AT$53)","v":2},"位",{"$f":"AR52-AS52","v":2},null,{"$f":"RANK(AW52,AW$48:AW$53)","v":2},"位",2]
[null,"得失点",null,{"$f":"L49","v":2},"-",{"$f":"J49","v":0},{"$f":"L51","v":0},"-",{"$f":"J51","v":0},null,null,null,null,null,null,null,null,null,null,null,null,null,null,null,null,null,null,null,null,"得失点",null,{"$f":"AN49","v":1},"-",{"$f":"AL49","v":5},{"$f":"AN51","v":6},"-",{"$f":"AL51","v":0}]
[]
["Bパート",null,null,{"$f":"A56","v":"ブルーウイング"},null,null,{"$f":"A58","v":"カティU-12"},null,null,{"$f":"A60","v":"ＦＣ安岐"},null,null,"勝","分","敗","得\n点","失\n点","勝\n点","勝点\n順位",null,"得失\n点差",null,"得失\n順位",null,"ﾄｰﾀﾙ\n順位",null,null,null,"Fパート",null,null,{"$f":"AC56","v":"市浜"},null,null,{"$f":"AC58","v":"日岡"},null,null,{"$f":"AC60","v":"千怒"},null,null,"勝","分","敗","得\n点","失\n点","勝\n点","勝点\n順位",null,"得失\n点差",null,"得失\n順位",null,"ﾄｰﾀﾙ\n順位"]
[{"$f":"予選リーグ!G5","v":"ブルーウイング"},"星取表",null,null,null,null,null,{"$f":"IF(G57=\"\",\"\",IF(G57>I57,\"○\",IF(G57<I57,\"●\",IF(G57=I57,\"△\"))))","v":"●"},null,null,{"$f":"IF(J57=\"\",\"\",IF(J57>L57,\"○\",IF(J57<L57,\"●\",IF(J57=L57,\"△\"))))","v":"○"},null,{"$f":"COUNTIF(D56:L56,\"○\")","v":1},{"$f":"COUNTIF(D56:L56,\"△\")+COUNTIF(D56:L56,\"▲\")","v":0},{"$f":"COUNTIF(D56:L56,\"●\")","v":1},{"$f":"SUM(D57,G57,J57)","v":3},{"$f":"SUM(F57,I57,L57)","v":3},{"$f":"(M56*3)+(N56*1)","v":3},{"$f":"RANK(R56,$R$56:$R$61)","v":2},"位",{"$f":"P56-Q56","v":0},null,{"$f":"RANK(U56,$U$56:$V$61)","v":2},"位",2,null,null,null,{"$f":"予選リーグ!M5","v":"市浜"},"星取表",null,null,null,null,null,{"$f":"IF(AI57=\"\",\"\",IF(AI57>AK57,\"○\",IF(AI57<AK57,\"●\",IF(AI57=AK57,\"△\"))))","v":"●"},null,null,{"$f":"IF(AL57=\"\",\"\",IF(AL57>AN57,\"○\",IF(AL57<AN57,\"●\",IF(AL57=AN57,\"△\"))))","v":"△"},null,{"$f":"COUNTIF(AF56:AN56,\"○\")","v":0},{"$f":"COUNTIF(AF56:AN56,\"△\")+COUNTIF(AF56:AN56,\"▲\")","v":1},{"$f":"COUNTIF(AF56:AN56,\"●\")","v":1},{"$f":"SUM(AF57,AI57,AL57)","v":0},{"$f":"SUM(AH57,AK57,AN57)","v":3},{"$f":"(AO56*3)+(AP56*1)","v":1},{"$f":"RANK(AT56,$AT$56:$AT$61)","v":2},"位",{"$f":"AR56-AS56","v":-3},null,{"$f":"RANK(AW56,$AW$56:$AW$61)","v":2},"位",2]
[null,"得失点",null,null,null,null,{"$f":"R14","v":0},"-",{"$f":"V14","v":2},{"$f":"V24","v":3},"-",{"$f":"R24","v":1},null,null,null,null,null,null,null,null,null,null,null,null,null,null,null,null,null,"得失点",null,null,null,null,{"$f":"AT14","v":0},"-",{"$f":"AX14","v":3},{"$f":"AX24","v":0},"-",{"$f":"AT24","v":0}]
[{"$f":"予選リーグ!F7","v":"カティU-12"},"星取表",null,null,{"$f":"IF(D59=\"\",\"\",IF(D59>F59,\"○\",IF(D59<F59,\"●\",IF(D59=F59,\"△\"))))","v":"○"},null,null,null,null,null,{"$f":"IF(J59=\"\",\"\",IF(J59>L59,\"○\",IF(J59<L59,\"●\",IF(J59=L59,\"△\"))))","v":"○"},null,{"$f":"COUNTIF(D58:L58,\"○\")","v":2},{"$f":"COUNTIF(D58:L58,\"△\")+COUNTIF(D58:L58,\"▲\")","v":0},{"$f":"COUNTIF(D58:L58,\"●\")","v":0},{"$f":"SUM(D59,G59,J59)","v":7},{"$f":"SUM(F59,I59,L59)","v":0},{"$f":"(M58*3)+(N58*1)","v":6},{"$f":"RANK(R58,$R$56:$R$61)","v":1},"位",{"$f":"P58-Q58","v":7},null,{"$f":"RANK(U58,$U$56:$V$61)","v":1},"位",1,null,null,null,{"$f":"予選リーグ!L7","v":"日岡"},"星取表",null,null,{"$f":"IF(AF59=\"\",\"\",IF(AF59>AH59,\"○\",IF(AF59<AH59,\"●\",IF(AF59=AH59,\"△\"))))","v":"○"},null,null,null,null,null,{"$f":"IF(AL59=\"\",\"\",IF(AL59>AN59,\"○\",IF(AL59<AN59,\"●\",IF(AL59=AN59,\"△\"))))","v":"○"},null,{"$f":"COUNTIF(AF58:AN58,\"○\")","v":2},{"$f":"COUNTIF(AF58:AN58,\"△\")+COUNTIF(AF58:AN58,\"▲\")","v":0},{"$f":"COUNTIF(AF58:AN58,\"●\")","v":0},{"$f":"SUM(AF59,AI59,AL59)","v":11},{"$f":"SUM(AH59,AK59,AN59)","v":0},{"$f":"(AO58*3)+(AP58*1)","v":6},{"$f":"RANK(AT58,$AT$56:$AT$61)","v":1},"位",{"$f":"AR58-AS58","v":11},null,{"$f":"RANK(AW58,$AW$56:$AW$61)","v":1},"位",1]
[null,"得失点",null,{"$f":"I57","v":2},"-",{"$f":"G57","v":0},null,null,null,{"$f":"R18","v":5},"-",{"$f":"V18","v":0},null,null,null,null,null,null,null,null,null,null,null,null,null,null,null,null,null,"得失点",null,{"$f":"AK57","v":3},"-",{"$f":"AI57","v":0},null,null,null,{"$f":"AT18","v":8},"-",{"$f":"AX18","v":0}]
[{"$f":"予選リーグ!H7","v":"ＦＣ安岐"},"星取表",null,null,{"$f":"IF(D61=\"\",\"\",IF(D61>F61,\"○\",IF(D61<F61,\"●\",IF(D61=F61,\"△\"))))","v":"●"},null,null,{"$f":"IF(G61=\"\",\"\",IF(G61>I61,\"○\",IF(G61<I61,\"●\",IF(G61=I61,\"△\"))))","v":"●"},null,null,null,null,{"$f":"COUNTIF(D60:L60,\"○\")","v":0},{"$f":"COUNTIF(D60:L60,\"△\")+COUNTIF(D60:L60,\"▲\")","v":0},{"$f":"COUNTIF(D60:L60,\"●\")","v":2},{"$f":"SUM(D61,G61,J61)","v":1},{"$f":"SUM(F61,I61,L61)","v":8},{"$f":"(M60*3)+(N60*1)","v":0},{"$f":"RANK(R60,$R$56:$R$61)","v":3},"位",{"$f":"P60-Q60","v":-7},null,{"$f":"RANK(U60,$U$56:$V$61)","v":3},"位",3,null,null,null,{"$f":"予選リーグ!N7","v":"千怒"},"星取表",null,null,{"$f":"IF(AF61=\"\",\"\",IF(AF61>AH61,\"○\",IF(AF61<AH61,\"●\",IF(AF61=AH61,\"△\"))))","v":"△"},null,null,{"$f":"IF(AI61=\"\",\"\",IF(AI61>AK61,\"○\",IF(AI61<AK61,\"●\",IF(AI61=AK61,\"△\"))))","v":"●"},null,null,null,null,{"$f":"COUNTIF(AF60:AN60,\"○\")","v":0},{"$f":"COUNTIF(AF60:AN60,\"△\")+COUNTIF(AF60:AN60,\"▲\")","v":1},{"$f":"COUNTIF(AF60:AN60,\"●\")","v":1},{"$f":"SUM(AF61,AI61,AL61)","v":0},{"$f":"SUM(AH61,AK61,AN61)","v":8},{"$f":"(AO60*3)+(AP60*1)","v":1},{"$f":"RANK(AT60,$AT$56:$AT$61)","v":2},"位",{"$f":"AR60-AS60","v":-8},null,{"$f":"RANK(AW60,$AW$56:$AW$61)","v":3},"位",3]
[null,"得失点",null,{"$f":"L57","v":1},"-",{"$f":"J57","v":3},{"$f":"L59","v":0},"-",{"$f":"J59","v":5},null,null,null,null,null,null,null,null,null,null,null,null,null,null,null,null,null,null,null,null,"得失点",null,{"$f":"AN57","v":0},"-",{"$f":"AL57","v":0},{"$f":"AN59","v":0},"-",{"$f":"AL59","v":8}]
[]
["Cパート",null,null,{"$f":"A64","v":"四日市南"},null,null,{"$f":"A66","v":"明野西"},null,null,{"$f":"A68","v":"ミネルバ"},null,null,"勝","分","敗","得\n点","失\n点","勝\n点","勝点\n順位",null,"得失\n点差",null,"得失\n順位",null,"ﾄｰﾀﾙ\n順位",null,null,null,"Gパート",null,null,{"$f":"AC64","v":"日出"},null,null,{"$f":"AC66","v":"大分トリニータ"},null,null,{"$f":"AC68","v":"ＦＣ中津"},null,null,"勝","分","敗","得\n点","失\n点","勝\n点","勝点\n順位",null,"得失\n点差",null,"得失\n順位",null,"ﾄｰﾀﾙ\n順位"]
[{"$f":"予選リーグ!D10","v":"四日市南"},"星取表",null,null,null,null,null,{"$f":"IF(G65=\"\",\"\",IF(G65>I65,\"○\",IF(G65<I65,\"●\",IF(G65=I65,\"△\"))))","v":"○"},null,null,{"$f":"IF(J65=\"\",\"\",IF(J65>L65,\"○\",IF(J65<L65,\"●\",IF(J65=L65,\"△\"))))","v":"○"},null,{"$f":"COUNTIF(D64:L64,\"○\")","v":2},{"$f":"COUNTIF(D64:L64,\"△\")+COUNTIF(D64:L64,\"▲\")","v":0},{"$f":"COUNTIF(D64:L64,\"●\")","v":0},{"$f":"SUM(D65,G65,J65)","v":8},{"$f":"SUM(F65,I65,L65)","v":0},{"$f":"(M64*3)+(N64*1)","v":6},{"$f":"RANK(R64,$R$64:$R$69)","v":1},"位",{"$f":"P64-Q64","v":8},null,{"$f":"RANK(U64,$U$64:$V$69)","v":1},"位",1,null,null,null,{"$f":"予選リーグ!J10","v":"日出"},"星取表",null,null,null,null,null,{"$f":"IF(AI65=\"\",\"\",IF(AI65>AK65,\"○\",IF(AI65<AK65,\"●\",IF(AI65=AK65,\"△\"))))","v":"●"},null,null,{"$f":"IF(AL65=\"\",\"\",IF(AL65>AN65,\"○\",IF(AL65<AN65,\"●\",IF(AL65=AN65,\"△\"))))","v":"●"},null,{"$f":"COUNTIF(AF64:AN64,\"○\")","v":0},{"$f":"COUNTIF(AF64:AN64,\"△\")+COUNTIF(AF64:AN64,\"▲\")","v":0},{"$f":"COUNTIF(AF64:AN64,\"●\")","v":2},{"$f":"SUM(AF65,AI65,AL65)","v":0},{"$f":"SUM(AH65,AK65,AN65)","v":18},{"$f":"(AO64*3)+(AP64*1)","v":0},{"$f":"RANK(AT64,$AT$64:$AT$69)","v":3},"位",{"$f":"AR64-AS64","v":-18},null,{"$f":"RANK(AW64,$AW$64:$AW$69)","v":3},"位",3]
[null,"得失点",null,null,null,null,{"$f":"F16","v":3},"-",{"$f":"J16","v":0},{"$f":"J26","v":5},"-",{"$f":"F26","v":0},null,null,null,null,null,null,null,null,null,null,null,null,null,null,null,null,null,"得失点",null,null,null,null,{"$f":"AH16","v":0},"-",{"$f":"AL16","v":10},{"$f":"AL26","v":0},"-",{"$f":"AH26","v":8}]
[{"$f":"予選リーグ!C12","v":"明野西"},"星取表",null,null,{"$f":"IF(D67=\"\",\"\",IF(D67>F67,\"○\",IF(D67<F67,\"●\",IF(D67=F67,\"△\"))))","v":"●"},null,null,null,null,null,{"$f":"IF(J67=\"\",\"\",IF(J67>L67,\"○\",IF(J67<L67,\"●\",IF(J67=L67,\"△\"))))","v":"○"},null,{"$f":"COUNTIF(D66:L66,\"○\")","v":1},{"$f":"COUNTIF(D66:L66,\"△\")+COUNTIF(D66:L66,\"▲\")","v":0},{"$f":"COUNTIF(D66:L66,\"●\")","v":1},{"$f":"SUM(D67,G67,J67)","v":5},{"$f":"SUM(F67,I67,L67)","v":3},{"$f":"(M66*3)+(N66*1)","v":3},{"$f":"RANK(R66,$R$64:$R$69)","v":2},"位",{"$f":"P66-Q66","v":2},null,{"$f":"RANK(U66,$U$64:$V$69)","v":2},"位",2,null,null,null,{"$f":"予選リーグ!I12","v":"大分トリニータ"},"星取表",null,null,{"$f":"IF(AF67=\"\",\"\",IF(AF67>AH67,\"○\",IF(AF67<AH67,\"●\",IF(AF67=AH67,\"△\"))))","v":"○"},null,null,null,null,null,{"$f":"IF(AL67=\"\",\"\",IF(AL67>AN67,\"○\",IF(AL67<AN67,\"●\",IF(AL67=AN67,\"△\"))))","v":"△"},null,{"$f":"COUNTIF(AF66:AN66,\"○\")","v":1},{"$f":"COUNTIF(AF66:AN66,\"△\")+COUNTIF(AF66:AN66,\"▲\")","v":1},{"$f":"COUNTIF(AF66:AN66,\"●\")","v":0},{"$f":"SUM(AF67,AI67,AL67)","v":10},{"$f":"SUM(AH67,AK67,AN67)","v":0},{"$f":"(AO66*3)+(AP66*1)","v":4},{"$f":"RANK(AT66,$AT$64:$AT$69)","v":1},"位",{"$f":"AR66-AS66","v":10},null,{"$f":"RANK(AW66,$AW$64:$AW$69)","v":1},"位",1]
[null,"得失点",null,{"$f":"I65","v":0},"-",{"$f":"G65","v":3},null,null,null,{"$f":"F20","v":5},"-",{"$f":"J20","v":0},null,null,null,null,null,null,null,null,null,null,null,null,null,null,null,null,null,"得失点",null,{"$f":"AK65","v":10},"-",{"$f":"AI65","v":0},null,null,null,{"$f":"AH20","v":0},"-",{"$f":"AL20","v":0}]
[{"$f":"予選リーグ!E12","v":"ミネルバ"},"星取表",null,null,{"$f":"IF(D69=\"\",\"\",IF(D69>F69,\"○\",IF(D69<F69,\"●\",IF(D69=F69,\"△\"))))","v":"●"},null,null,{"$f":"IF(G69=\"\",\"\",IF(G69>I69,\"○\",IF(G69<I69,\"●\",IF(G69=I69,\"△\"))))","v":"●"},null,null,null,null,{"$f":"COUNTIF(D68:L68,\"○\")","v":0},{"$f":"COUNTIF(D68:L68,\"△\")+COUNTIF(D68:L68,\"▲\")","v":0},{"$f":"COUNTIF(D68:L68,\"●\")","v":2},{"$f":"SUM(D69,G69,J69)","v":0},{"$f":"SUM(F69,I69,L69)","v":10},{"$f":"(M68*3)+(N68*1)","v":0},{"$f":"RANK(R68,$R$64:$R$69)","v":3},"位",{"$f":"P68-Q68","v":-10},null,{"$f":"RANK(U68,$U$64:$V$69)","v":3},"位",3,null,null,null,{"$f":"予選リーグ!K12","v":"ＦＣ中津"},"星取表",null,null,{"$f":"IF(AF69=\"\",\"\",IF(AF69>AH69,\"○\",IF(AF69<AH69,\"●\",IF(AF69=AH69,\"△\"))))","v":"○"},null,null,{"$f":"IF(AI69=\"\",\"\",IF(AI69>AK69,\"○\",IF(AI69<AK69,\"●\",IF(AI69=AK69,\"△\"))))","v":"△"},null,null,null,null,{"$f":"COUNTIF(AF68:AN68,\"○\")","v":1},{"$f":"COUNTIF(AF68:AN68,\"△\")+COUNTIF(AF68:AN68,\"▲\")","v":1},{"$f":"COUNTIF(AF68:AN68,\"●\")","v":0},{"$f":"SUM(AF69,AI69,AL69)","v":8},{"$f":"SUM(AH69,AK69,AN69)","v":0},{"$f":"(AO68*3)+(AP68*1)","v":4},{"$f":"RANK(AT68,$AT$64:$AT$69)","v":1},"位",{"$f":"AR68-AS68","v":8},null,{"$f":"RANK(AW68,$AW$64:$AW$69)","v":2},"位",2]
[null,"得失点",null,{"$f":"L65","v":0},"-",{"$f":"J65","v":5},{"$f":"L67","v":0},"-",{"$f":"J67","v":5},null,null,null,null,null,null,null,null,null,null,null,null,null,null,null,null,null,null,null,null,"得失点",null,{"$f":"AN65","v":8},"-",{"$f":"AL65","v":0},{"$f":"AN67","v":0},"-",{"$f":"AL67","v":0}]
[]
["Dパート",null,null,{"$f":"A72","v":"ドリームキッズ"},null,null,{"$f":"A74","v":"ＭＳＳ"},null,null,{"$f":"A76","v":"ＦＣ大野"},null,null,"勝","分","敗","得\n点","失\n点","勝\n点","勝点\n順位",null,"得失\n点差",null,"得失\n順位",null,"ﾄｰﾀﾙ\n順位",null,null,null,"Hパート",null,null,{"$f":"AC72","v":"アリアーレ"},null,null,{"$f":"AC74","v":"ＫＩＮＧＳ"},null,null,{"$f":"AC76","v":"スマイスＳＣ"},null,null,"勝","分","敗","得\n点","失\n点","勝\n点","勝点\n順位",null,"得失\n点差",null,"得失\n順位",null,"ﾄｰﾀﾙ\n順位"]
[{"$f":"予選リーグ!G10","v":"ドリームキッズ"},"星取表",null,null,null,null,null,{"$f":"IF(G73=\"\",\"\",IF(G73>I73,\"○\",IF(G73<I73,\"●\",IF(G73=I73,\"△\"))))","v":"○"},null,null,{"$f":"IF(J73=\"\",\"\",IF(J73>L73,\"○\",IF(J73<L73,\"●\",IF(J73=L73,\"△\"))))","v":"○"},null,{"$f":"COUNTIF(D72:L72,\"○\")","v":2},{"$f":"COUNTIF(D72:L72,\"△\")+COUNTIF(D72:L72,\"▲\")","v":0},{"$f":"COUNTIF(D72:L72,\"●\")","v":0},{"$f":"SUM(D73,G73,J73)","v":6},{"$f":"SUM(F73,I73,L73)","v":1},{"$f":"(M72*3)+(N72*1)","v":6},{"$f":"RANK(R72,$R$72:$R$77)","v":1},"位",{"$f":"P72-Q72","v":5},null,{"$f":"RANK(U72,$U$72:$V$77)","v":1},"位",1,null,null,null,{"$f":"予選リーグ!M10","v":"アリアーレ"},"星取表",null,null,null,null,null,{"$f":"IF(AI73=\"\",\"\",IF(AI73>AK73,\"○\",IF(AI73<AK73,\"●\",IF(AI73=AK73,\"△\"))))","v":"△"},null,null,{"$f":"IF(AL73=\"\",\"\",IF(AL73>AN73,\"○\",IF(AL73<AN73,\"●\",IF(AL73=AN73,\"△\"))))","v":"●"},null,{"$f":"COUNTIF(AF72:AN72,\"○\")","v":0},{"$f":"COUNTIF(AF72:AN72,\"△\")+COUNTIF(AF72:AN72,\"▲\")","v":1},{"$f":"COUNTIF(AF72:AN72,\"●\")","v":1},{"$f":"SUM(AF73,AI73,AL73)","v":1},{"$f":"SUM(AH73,AK73,AN73)","v":4},{"$f":"(AO72*3)+(AP72*1)","v":1},{"$f":"RANK(AT72,$AT$72:$AT$77)","v":3},"位",{"$f":"AR72-AS72","v":-3},null,{"$f":"RANK(AW72,$AW$72:$AW$77)","v":3},"位",3]
[null,"得失点",null,null,null,null,{"$f":"R16","v":2},"-",{"$f":"V16","v":1},{"$f":"V26","v":4},"-",{"$f":"R26","v":0},null,null,null,null,null,null,null,null,null,null,null,null,null,null,null,null,null,"得失点",null,null,null,null,{"$f":"AT16","v":1},"-",{"$f":"AX16","v":1},{"$f":"AX26","v":0},"-",{"$f":"AT26","v":3}]
[{"$f":"予選リーグ!F12","v":"ＭＳＳ"},"星取表",null,null,{"$f":"IF(D75=\"\",\"\",IF(D75>F75,\"○\",IF(D75<F75,\"●\",IF(D75=F75,\"△\"))))","v":"●"},null,null,null,null,null,{"$f":"IF(J75=\"\",\"\",IF(J75>L75,\"○\",IF(J75<L75,\"●\",IF(J75=L75,\"△\"))))","v":"○"},null,{"$f":"COUNTIF(D74:L74,\"○\")","v":1},{"$f":"COUNTIF(D74:L74,\"△\")+COUNTIF(D74:L74,\"▲\")","v":0},{"$f":"COUNTIF(D74:L74,\"●\")","v":1},{"$f":"SUM(D75,G75,J75)","v":6},{"$f":"SUM(F75,I75,L75)","v":3},{"$f":"(M74*3)+(N74*1)","v":3},{"$f":"RANK(R74,$R$72:$R$77)","v":2},"位",{"$f":"P74-Q74","v":3},null,{"$f":"RANK(U74,$U$72:$V$77)","v":2},"位",2,null,null,null,{"$f":"予選リーグ!L12","v":"ＫＩＮＧＳ"},"星取表",null,null,{"$f":"IF(AF75=\"\",\"\",IF(AF75>AH75,\"○\",IF(AF75<AH75,\"●\",IF(AF75=AH75,\"△\"))))","v":"△"},null,null,null,null,null,{"$f":"IF(AL75=\"\",\"\",IF(AL75>AN75,\"○\",IF(AL75<AN75,\"●\",IF(AL75=AN75,\"△\"))))","v":"△"},null,{"$f":"COUNTIF(AF74:AN74,\"○\")","v":0},{"$f":"COUNTIF(AF74:AN74,\"△\")+COUNTIF(AF74:AN74,\"▲\")","v":2},{"$f":"COUNTIF(AF74:AN74,\"●\")","v":0},{"$f":"SUM(AF75,AI75,AL75)","v":1},{"$f":"SUM(AH75,AK75,AN75)","v":1},{"$f":"(AO74*3)+(AP74*1)","v":2},{"$f":"RANK(AT74,$AT$72:$AT$77)","v":2},"位",{"$f":"AR74-AS74","v":0},null,{"$f":"RANK(AW74,$AW$72:$AW$77)","v":2},"位",2]
[null,"得失点",null,{"$f":"I73","v":1},"-",{"$f":"G73","v":2},null,null,null,{"$f":"R20","v":5},"-",{"$f":"V20","v":1},null,null,null,null,null,null,null,null,null,null,null,null,null,null,null,null,null,"得失点",null,{"$f":"AK73","v":1},"-",{"$f":"AI73","v":1},null,null,null,{"$f":"AT20","v":0},"-",{"$f":"AX20","v":0}]
[{"$f":"予選リーグ!H12","v":"ＦＣ大野"},"星取表",null,null,{"$f":"IF(D77=\"\",\"\",IF(D77>F77,\"○\",IF(D77<F77,\"●\",IF(D77=F77,\"△\"))))","v":"●"},null,null,{"$f":"IF(G77=\"\",\"\",IF(G77>I77,\"○\",IF(G77<I77,\"●\",IF(G77=I77,\"△\"))))","v":"●"},null,null,null,null,{"$f":"COUNTIF(D76:L76,\"○\")","v":0},{"$f":"COUNTIF(D76:L76,\"△\")+COUNTIF(D76:L76,\"▲\")","v":0},{"$f":"COUNTIF(D76:L76,\"●\")","v":2},{"$f":"SUM(D77,G77,J77)","v":1},{"$f":"SUM(F77,I77,L77)","v":9},{"$f":"(M76*3)+(N76*1)","v":0},{"$f":"RANK(R76,$R$72:$R$77)","v":3},"位",{"$f":"P76-Q76","v":-8},null,{"$f":"RANK(U76,$U$72:$V$77)","v":3},"位",3,null,null,null,{"$f":"予選リーグ!N12","v":"スマイスＳＣ"},"星取表",null,null,{"$f":"IF(AF77=\"\",\"\",IF(AF77>AH77,\"○\",IF(AF77<AH77,\"●\",IF(AF77=AH77,\"△\"))))","v":"○"},null,null,{"$f":"IF(AI77=\"\",\"\",IF(AI77>AK77,\"○\",IF(AI77<AK77,\"●\",IF(AI77=AK77,\"△\"))))","v":"△"},null,null,null,null,{"$f":"COUNTIF(AF76:AN76,\"○\")","v":1},{"$f":"COUNTIF(AF76:AN76,\"△\")+COUNTIF(AF76:AN76,\"▲\")","v":1},{"$f":"COUNTIF(AF76:AN76,\"●\")","v":0},{"$f":"SUM(AF77,AI77,AL77)","v":3},{"$f":"SUM(AH77,AK77,AN77)","v":0},{"$f":"(AO76*3)+(AP76*1)","v":4},{"$f":"RANK(AT76,$AT$72:$AT$77)","v":1},"位",{"$f":"AR76-AS76","v":3},null,{"$f":"RANK(AW76,$AW$72:$AW$77)","v":1},"位",1]
[null,"得失点",null,{"$f":"L73","v":0},"-",{"$f":"J73","v":4},{"$f":"L75","v":1},"-",{"$f":"J75","v":5},null,null,null,null,null,null,null,null,null,null,null,null,null,null,null,null,null,null,null,null,"得失点",null,{"$f":"AN73","v":3},"-",{"$f":"AL73","v":0},{"$f":"AN75","v":0},"-",{"$f":"AL75","v":0}]

{"sheet":"予選リーグ公式記録(A北)","index":8,"n_rows":89,"n_cols":31,"rows_kept":89,"cut":false,"hidden":false,"merged":[[4,28,4,29],[5,28,5,29],[4,21,4,27],[5,21,5,27],[4,12,4,13],[4,5,4,11],[5,5,5,11],[5,12,5,13],[9,13,11,13],[9,12,11,12],[6,28,6,29],[9,20,11,20],[9,21,11,21],[9,23,11,23],[6,12,6,13],[9,27,11,27],[9,28,11,28],[9,29,11,29],[9,22,11,22],[6,21,6,27],[6,5,6,11],[10,17,10,19],[11,17,11,19],[9,17,9,19],[9,4,11,4],[9,5,11,5],[9,6,11,6],[9,7,11,7],[9,11,11,11],[9,14,11,14],[26,1,26,2],[26,17,26,18],[23,17,23,19],[24,17,24,18],[25,17,25,19],[9,1,9,3],[10,1,10,3],[11,1,11,3],[38,23,40,23],[29,1,29,3],[29,17,29,19],[23,1,23,3],[24,1,24,2],[25,1,25,3],[27,1,27,3],[27,17,27,19],[28,1,28,2],[28,17,28,18],[39,1,39,3],[40,1,40,3],[39,17,39,19],[40,17,40,19],[38,1,38,3],[38,17,38,19],[38,27,40,27],[38,14,40,14],[30,1,30,2],[30,17,30,18],[38,4,40,4],[38,5,40,5],[38,6,40,6],[38,7,40,7],[81,1,81,3],[81,17,81,19],[57,1,57,2],[57,17,57,18],[58,1,58,3],[58,17,58,19],[52,1,52,3],[52,17,52,19],[53,1,53,2],[53,17,53,18],[38,13,40,13],[38,11,40,11],[38,12,40,12],[38,20,40,20],[38,21,40,21],[38,22,40,22],[82,1,82,2],[82,17,82,18],[67,13,69,13],[67,20,69,20],[67,21,69,21],[67,22,69,22],[67,23,69,23],[67,4,69,4],[67,5,69,5],[67,6,69,6],[67,7,69,7],[67,11,69,11],[67,12,69,12],[67,14,69,14],[70,0,70,3],[70,16,70,19],[68,1,68,3],[69,1,69,3],[68,17,68,19],[69,17,69,19],[67,1,67,3],[67,17,67,19],[86,1,86,2],[86,17,86,18],[87,1,87,3],[87,17,87,19],[88,1,88,2],[88,17,88,18],[83,1,83,3],[83,17,83,19],[84,1,84,2],[84,17,84,18],[85,1,85,3],[85,17,85,19],[67,28,69,28],[67,29,69,29],[67,27,69,27],[59,1,59,2],[59,17,59,18],[9,30,11,30],[38,30,40,30],[67,30,69,30],[0,0,0,9],[0,10,0,13],[0,16,0,25],[0,26,0,29],[12,0,12,3],[12,16,12,19],[41,0,41,3],[41,16,41,19],[54,1,54,3],[54,17,54,19],[55,1,55,2],[55,17,55,18],[56,1,56,3],[56,17,56,19],[38,28,40,28],[38,29,40,29]]}
[{"$f":"要項!C2","v":"OFA 第 31 回 大分県ジュニアサッカー選手権大会"},null,null,null,null,null,null,null,null,null,"予選リーグ結果　報告用紙",null,null,null,null,null,{"$f":"要項!C2","v":"OFA 第 31 回 大分県ジュニアサッカー選手権大会"},null,null,null,null,null,null,null,null,null,"予選リーグ結果　報告用紙"]
[]
["会場","大分県大分スポーツ公園　 昭和電工サッカー・ラグビー場　A　北側",null,null,null,null,null,null,null,null,null,null,null,null,null,null,null,"会場","大分県大分スポーツ公園　 昭和電工サッカー・ラグビー場　A　北側"]
[]
[null,null,null,null,"A1",{"$f":"VLOOKUP(E5,組合せ抽選用!$Q:$U,5,FALSE)","v":"はやぶさフットボールクラブ"},null,null,null,null,null,null,{"$f":"VLOOKUP(E5,組合せ抽選用!$Q:$V,6,FALSE)","v":"中津"},null,null,null,null,null,null,null,"C1",{"$f":"VLOOKUP(U5,組合せ抽選用!$Q:$U,5,FALSE)","v":"四日市南ＳＳＣ"},null,null,null,null,null,null,{"$f":"VLOOKUP(U5,組合せ抽選用!$Q:$V,6,FALSE)","v":"宇佐高田"}]
[null,null,null,null,"A2",{"$f":"VLOOKUP(E6,組合せ抽選用!$Q:$U,5,FALSE)","v":"寒田少年サッカークラブ"},null,null,null,null,null,null,{"$f":"VLOOKUP(E6,組合せ抽選用!$Q:$V,6,FALSE)","v":"大分"},null,null,null,null,null,null,null,"C2",{"$f":"VLOOKUP(U6,組合せ抽選用!$Q:$U,5,FALSE)","v":"明野西ＪＦＣ"},null,null,null,null,null,null,{"$f":"VLOOKUP(U6,組合せ抽選用!$Q:$V,6,FALSE)","v":"大分"}]
[null,null,null,null,"A3",{"$f":"VLOOKUP(E7,組合せ抽選用!$Q:$U,5,FALSE)","v":"弥生少年サッカークラブ"},null,null,null,null,null,null,{"$f":"VLOOKUP(E7,組合せ抽選用!$Q:$V,6,FALSE)","v":"佐伯"},null,null,null,null,null,null,null,"C3",{"$f":"VLOOKUP(U7,組合せ抽選用!$Q:$U,5,FALSE)","v":"別府フットボールクラブ．ミネルバＵ－１２"},null,null,null,null,null,null,{"$f":"VLOOKUP(U7,組合せ抽選用!$Q:$V,6,FALSE)","v":"別府"}]
[]
[]
["MC","安東　幹雄",null,null,{"$f":"予選リーグ!B19","v":"10:00:00"},{"$f":"F5","v":"はやぶさフットボールクラブ"},{"$f":"SUM(I10:I11)","v":1},"（",1,"前半",2,"）",{"$f":"SUM(K10:K11)","v":3},{"$f":"F6","v":"寒田少年サッカークラブ"},null,null,"MC","毛藤　勇三",null,null,{"$f":"予選リーグ!B21","v":"10:50:00"},{"$f":"V5","v":"四日市南ＳＳＣ"},{"$f":"SUM(Y10:Y11)","v":3},"（",1,"前半",0,"）",{"$f":"SUM(AA10:AA11)","v":0},{"$f":"V6","v":"明野西ＪＦＣ"}]
["Welfare\nOfficer",null,null,null,null,null,null,null,0,"後半",1,null,null,null,null,null,"Welfare\nOfficer",null,null,null,null,null,null,null,2,"後半",0]
["記録","秋吉　明",null,null,null,null,null,null,null,"PK",null,null,null,null,null,null,"記録","榊　謙治",null,null,null,null,null,null,null,"PK"]
["＜Referee＞",null,null,null,"警告/退場\n選択肢より","氏名","番号","分","内容\n選択肢より",null,"内容\n選択肢より","分","番号","氏名","警告/退場\n選択肢より",null,"＜Referee＞",null,null,null,"警告/退場\n選択肢より","氏名","番号","分","内容\n選択肢より",null,"内容\n選択肢より","分","番号","氏名","警告/退場\n選択肢より"]
[null,null,null,null,"得点者",{"$f":"IF(ISERROR(VLOOKUP(CONCATENATE($F$10,\"_\",G14),選手名簿!$A:$E,5,FALSE))=TRUE,\"\",VLOOKUP(CONCATENATE($F$10,\"_\",G14),選手名簿!$A:$E,5,FALSE))","v":""},null,null,null,null,null,null,null,{"$f":"IF(ISERROR(VLOOKUP(CONCATENATE($N$10,\"_\",M14),選手名簿!$A:$E,5,FALSE))=TRUE,\"\",VLOOKUP(CONCATENATE($N$10,\"_\",M14),選手名簿!$A:$E,5,FALSE))","v":""},null,null,null,null,null,null,"得点者",{"$f":"IF(ISERROR(VLOOKUP(CONCATENATE($V$10,\"_\",W14),選手名簿!$A:$E,5,FALSE))=TRUE,\"\",VLOOKUP(CONCATENATE($V$10,\"_\",W14),選手名簿!$A:$E,5,FALSE))","v":""},null,null,null,null,null,null,null,{"$f":"IF(ISERROR(VLOOKUP(CONCATENATE($AD$10,\"_\",AC14),選手名簿!$A:$E,5,FALSE))=TRUE,\"\",VLOOKUP(CONCATENATE($AD$10,\"_\",AC14),選手名簿!$A:$E,5,FALSE))","v":""}]
[null,null,null,null,"得点者",{"$f":"IF(ISERROR(VLOOKUP(CONCATENATE($F$10,\"_\",G15),選手名簿!$A:$E,5,FALSE))=TRUE,\"\",VLOOKUP(CONCATENATE($F$10,\"_\",G15),選手名簿!$A:$E,5,FALSE))","v":""},null,null,null,null,null,null,null,{"$f":"IF(ISERROR(VLOOKUP(CONCATENATE($N$10,\"_\",M15),選手名簿!$A:$E,5,FALSE))=TRUE,\"\",VLOOKUP(CONCATENATE($N$10,\"_\",M15),選手名簿!$A:$E,5,FALSE))","v":""},null,null,null,null,null,null,"得点者",{"$f":"IF(ISERROR(VLOOKUP(CONCATENATE($V$10,\"_\",W15),選手名簿!$A:$E,5,FALSE))=TRUE,\"\",VLOOKUP(CONCATENATE($V$10,\"_\",W15),選手名簿!$A:$E,5,FALSE))","v":""},null,null,null,null,null,null,null,{"$f":"IF(ISERROR(VLOOKUP(CONCATENATE($AD$10,\"_\",AC15),選手名簿!$A:$E,5,FALSE))=TRUE,\"\",VLOOKUP(CONCATENATE($AD$10,\"_\",AC15),選手名簿!$A:$E,5,FALSE))","v":""}]
[null,null,null,null,"得点者",{"$f":"IF(ISERROR(VLOOKUP(CONCATENATE($F$10,\"_\",G16),選手名簿!$A:$E,5,FALSE))=TRUE,\"\",VLOOKUP(CONCATENATE($F$10,\"_\",G16),選手名簿!$A:$E,5,FALSE))","v":""},null,null,null,null,null,null,null,{"$f":"IF(ISERROR(VLOOKUP(CONCATENATE($N$10,\"_\",M16),選手名簿!$A:$E,5,FALSE))=TRUE,\"\",VLOOKUP(CONCATENATE($N$10,\"_\",M16),選手名簿!$A:$E,5,FALSE))","v":""},null,null,null,null,null,null,"得点者",{"$f":"IF(ISERROR(VLOOKUP(CONCATENATE($V$10,\"_\",W16),選手名簿!$A:$E,5,FALSE))=TRUE,\"\",VLOOKUP(CONCATENATE($V$10,\"_\",W16),選手名簿!$A:$E,5,FALSE))","v":""},null,null,null,null,null,null,null,{"$f":"IF(ISERROR(VLOOKUP(CONCATENATE($AD$10,\"_\",AC16),選手名簿!$A:$E,5,FALSE))=TRUE,\"\",VLOOKUP(CONCATENATE($AD$10,\"_\",AC16),選手名簿!$A:$E,5,FALSE))","v":""}]
[null,null,null,null,"得点者",{"$f":"IF(ISERROR(VLOOKUP(CONCATENATE($F$10,\"_\",G17),選手名簿!$A:$E,5,FALSE))=TRUE,\"\",VLOOKUP(CONCATENATE($F$10,\"_\",G17),選手名簿!$A:$E,5,FALSE))","v":""},null,null,null,null,null,null,null,{"$f":"IF(ISERROR(VLOOKUP(CONCATENATE($N$10,\"_\",M17),選手名簿!$A:$E,5,FALSE))=TRUE,\"\",VLOOKUP(CONCATENATE($N$10,\"_\",M17),選手名簿!$A:$E,5,FALSE))","v":""},null,null,null,null,null,null,"得点者",{"$f":"IF(ISERROR(VLOOKUP(CONCATENATE($V$10,\"_\",W17),選手名簿!$A:$E,5,FALSE))=TRUE,\"\",VLOOKUP(CONCATENATE($V$10,\"_\",W17),選手名簿!$A:$E,5,FALSE))","v":""},null,null,null,null,null,null,null,{"$f":"IF(ISERROR(VLOOKUP(CONCATENATE($AD$10,\"_\",AC17),選手名簿!$A:$E,5,FALSE))=TRUE,\"\",VLOOKUP(CONCATENATE($AD$10,\"_\",AC17),選手名簿!$A:$E,5,FALSE))","v":""}]
[null,null,null,null,"得点者",{"$f":"IF(ISERROR(VLOOKUP(CONCATENATE($F$10,\"_\",G18),選手名簿!$A:$E,5,FALSE))=TRUE,\"\",VLOOKUP(CONCATENATE($F$10,\"_\",G18),選手名簿!$A:$E,5,FALSE))","v":""},null,null,null,null,null,null,null,{"$f":"IF(ISERROR(VLOOKUP(CONCATENATE($N$10,\"_\",M18),選手名簿!$A:$E,5,FALSE))=TRUE,\"\",VLOOKUP(CONCATENATE($N$10,\"_\",M18),選手名簿!$A:$E,5,FALSE))","v":""},null,null,null,null,null,null,"得点者",{"$f":"IF(ISERROR(VLOOKUP(CONCATENATE($V$10,\"_\",W18),選手名簿!$A:$E,5,FALSE))=TRUE,\"\",VLOOKUP(CONCATENATE($V$10,\"_\",W18),選手名簿!$A:$E,5,FALSE))","v":""},null,null,null,null,null,null,null,{"$f":"IF(ISERROR(VLOOKUP(CONCATENATE($AD$10,\"_\",AC18),選手名簿!$A:$E,5,FALSE))=TRUE,\"\",VLOOKUP(CONCATENATE($AD$10,\"_\",AC18),選手名簿!$A:$E,5,FALSE))","v":""}]
[null,null,null,null,"得点者",{"$f":"IF(ISERROR(VLOOKUP(CONCATENATE($F$10,\"_\",G19),選手名簿!$A:$E,5,FALSE))=TRUE,\"\",VLOOKUP(CONCATENATE($F$10,\"_\",G19),選手名簿!$A:$E,5,FALSE))","v":""},null,null,null,null,null,null,null,{"$f":"IF(ISERROR(VLOOKUP(CONCATENATE($N$10,\"_\",M19),選手名簿!$A:$E,5,FALSE))=TRUE,\"\",VLOOKUP(CONCATENATE($N$10,\"_\",M19),選手名簿!$A:$E,5,FALSE))","v":""},null,null,null,null,null,null,"得点者",{"$f":"IF(ISERROR(VLOOKUP(CONCATENATE($V$10,\"_\",W19),選手名簿!$A:$E,5,FALSE))=TRUE,\"\",VLOOKUP(CONCATENATE($V$10,\"_\",W19),選手名簿!$A:$E,5,FALSE))","v":""},null,null,null,null,null,null,null,{"$f":"IF(ISERROR(VLOOKUP(CONCATENATE($AD$10,\"_\",AC19),選手名簿!$A:$E,5,FALSE))=TRUE,\"\",VLOOKUP(CONCATENATE($AD$10,\"_\",AC19),選手名簿!$A:$E,5,FALSE))","v":""}]
[null,null,null,null,"得点者",{"$f":"IF(ISERROR(VLOOKUP(CONCATENATE($F$10,\"_\",G20),選手名簿!$A:$E,5,FALSE))=TRUE,\"\",VLOOKUP(CONCATENATE($F$10,\"_\",G20),選手名簿!$A:$E,5,FALSE))","v":""},null,null,null,null,null,null,null,{"$f":"IF(ISERROR(VLOOKUP(CONCATENATE($N$10,\"_\",M20),選手名簿!$A:$E,5,FALSE))=TRUE,\"\",VLOOKUP(CONCATENATE($N$10,\"_\",M20),選手名簿!$A:$E,5,FALSE))","v":""},null,null,null,null,null,null,"得点者",{"$f":"IF(ISERROR(VLOOKUP(CONCATENATE($V$10,\"_\",W20),選手名簿!$A:$E,5,FALSE))=TRUE,\"\",VLOOKUP(CONCATENATE($V$10,\"_\",W20),選手名簿!$A:$E,5,FALSE))","v":""},null,null,null,null,null,null,null,{"$f":"IF(ISERROR(VLOOKUP(CONCATENATE($AD$10,\"_\",AC20),選手名簿!$A:$E,5,FALSE))=TRUE,\"\",VLOOKUP(CONCATENATE($AD$10,\"_\",AC20),選手名簿!$A:$E,5,FALSE))","v":""}]
[null,null,null,null,"得点者",{"$f":"IF(ISERROR(VLOOKUP(CONCATENATE($F$10,\"_\",G21),選手名簿!$A:$E,5,FALSE))=TRUE,\"\",VLOOKUP(CONCATENATE($F$10,\"_\",G21),選手名簿!$A:$E,5,FALSE))","v":""},null,null,null,null,null,null,null,{"$f":"IF(ISERROR(VLOOKUP(CONCATENATE($N$10,\"_\",M21),選手名簿!$A:$E,5,FALSE))=TRUE,\"\",VLOOKUP(CONCATENATE($N$10,\"_\",M21),選手名簿!$A:$E,5,FALSE))","v":""},null,null,null,null,null,null,"得点者",{"$f":"IF(ISERROR(VLOOKUP(CONCATENATE($V$10,\"_\",W21),選手名簿!$A:$E,5,FALSE))=TRUE,\"\",VLOOKUP(CONCATENATE($V$10,\"_\",W21),選手名簿!$A:$E,5,FALSE))","v":""},null,null,null,null,null,null,null,{"$f":"IF(ISERROR(VLOOKUP(CONCATENATE($AD$10,\"_\",AC21),選手名簿!$A:$E,5,FALSE))=TRUE,\"\",VLOOKUP(CONCATENATE($AD$10,\"_\",AC21),選手名簿!$A:$E,5,FALSE))","v":""}]
[null,null,null,null,"得点者",{"$f":"IF(ISERROR(VLOOKUP(CONCATENATE($F$10,\"_\",G22),選手名簿!$A:$E,5,FALSE))=TRUE,\"\",VLOOKUP(CONCATENATE($F$10,\"_\",G22),選手名簿!$A:$E,5,FALSE))","v":""},null,null,null,null,null,null,null,{"$f":"IF(ISERROR(VLOOKUP(CONCATENATE($N$10,\"_\",M22),選手名簿!$A:$E,5,FALSE))=TRUE,\"\",VLOOKUP(CONCATENATE($N$10,\"_\",M22),選手名簿!$A:$E,5,FALSE))","v":""},null,null,null,null,null,null,"得点者",{"$f":"IF(ISERROR(VLOOKUP(CONCATENATE($V$10,\"_\",W22),選手名簿!$A:$E,5,FALSE))=TRUE,\"\",VLOOKUP(CONCATENATE($V$10,\"_\",W22),選手名簿!$A:$E,5,FALSE))","v":""},null,null,null,null,null,null,null,{"$f":"IF(ISERROR(VLOOKUP(CONCATENATE($AD$10,\"_\",AC22),選手名簿!$A:$E,5,FALSE))=TRUE,\"\",VLOOKUP(CONCATENATE($AD$10,\"_\",AC22),選手名簿!$A:$E,5,FALSE))","v":""}]
[null,null,null,null,"得点者",{"$f":"IF(ISERROR(VLOOKUP(CONCATENATE($F$10,\"_\",G23),選手名簿!$A:$E,5,FALSE))=TRUE,\"\",VLOOKUP(CONCATENATE($F$10,\"_\",G23),選手名簿!$A:$E,5,FALSE))","v":""},null,null,null,null,null,null,null,{"$f":"IF(ISERROR(VLOOKUP(CONCATENATE($N$10,\"_\",M23),選手名簿!$A:$E,5,FALSE))=TRUE,\"\",VLOOKUP(CONCATENATE($N$10,\"_\",M23),選手名簿!$A:$E,5,FALSE))","v":""},null,null,null,null,null,null,"得点者",{"$f":"IF(ISERROR(VLOOKUP(CONCATENATE($V$10,\"_\",W23),選手名簿!$A:$E,5,FALSE))=TRUE,\"\",VLOOKUP(CONCATENATE($V$10,\"_\",W23),選手名簿!$A:$E,5,FALSE))","v":""},null,null,null,null,null,null,null,{"$f":"IF(ISERROR(VLOOKUP(CONCATENATE($AD$10,\"_\",AC23),選手名簿!$A:$E,5,FALSE))=TRUE,\"\",VLOOKUP(CONCATENATE($AD$10,\"_\",AC23),選手名簿!$A:$E,5,FALSE))","v":""}]
["番号","R009546055",null,null,null,{"$f":"IF(ISERROR(VLOOKUP(CONCATENATE($F$10,\"_\",G24),選手名簿!$A:$E,5,FALSE))=TRUE,\"\",VLOOKUP(CONCATENATE($F$10,\"_\",G24),選手名簿!$A:$E,5,FALSE))","v":""},null,null,null,null,null,null,null,{"$f":"IF(ISERROR(VLOOKUP(CONCATENATE($N$10,\"_\",M24),選手名簿!$A:$E,5,FALSE))=TRUE,\"\",VLOOKUP(CONCATENATE($N$10,\"_\",M24),選手名簿!$A:$E,5,FALSE))","v":""},null,null,"番号","R010382275",null,null,null,{"$f":"IF(ISERROR(VLOOKUP(CONCATENATE($V$10,\"_\",W24),選手名簿!$A:$E,5,FALSE))=TRUE,\"\",VLOOKUP(CONCATENATE($V$10,\"_\",W24),選手名簿!$A:$E,5,FALSE))","v":""},null,null,null,null,null,null,null,{"$f":"IF(ISERROR(VLOOKUP(CONCATENATE($AD$10,\"_\",AC24),選手名簿!$A:$E,5,FALSE))=TRUE,\"\",VLOOKUP(CONCATENATE($AD$10,\"_\",AC24),選手名簿!$A:$E,5,FALSE))","v":""}]
["R",{"$f":"IF(ISERROR(VLOOKUP(B24,審判員!$A:$C,2,FALSE))=TRUE,\"\",VLOOKUP(B24,審判員!$A:$C,2,FALSE))","v":"吐合　直樹"},null,{"$f":"IF(ISERROR(VLOOKUP(B24,審判員!$A:$C,3,FALSE))=TRUE,\"\",VLOOKUP(B24,審判員!$A:$C,3,FALSE))","v":"３級"},null,{"$f":"IF(ISERROR(VLOOKUP(CONCATENATE($F$10,\"_\",G25),選手名簿!$A:$E,5,FALSE))=TRUE,\"\",VLOOKUP(CONCATENATE($F$10,\"_\",G25),選手名簿!$A:$E,5,FALSE))","v":""},null,null,null,null,null,null,null,{"$f":"IF(ISERROR(VLOOKUP(CONCATENATE($N$10,\"_\",M25),選手名簿!$A:$E,5,FALSE))=TRUE,\"\",VLOOKUP(CONCATENATE($N$10,\"_\",M25),選手名簿!$A:$E,5,FALSE))","v":""},null,null,"R",{"$f":"IF(ISERROR(VLOOKUP(R24,審判員!$A:$C,2,FALSE))=TRUE,\"\",VLOOKUP(R24,審判員!$A:$C,2,FALSE))","v":"中村　友海"},null,{"$f":"IF(ISERROR(VLOOKUP(R24,審判員!$A:$C,3,FALSE))=TRUE,\"\",VLOOKUP(R24,審判員!$A:$C,3,FALSE))","v":"３級"},null,{"$f":"IF(ISERROR(VLOOKUP(CONCATENATE($V$10,\"_\",W25),選手名簿!$A:$E,5,FALSE))=TRUE,\"\",VLOOKUP(CONCATENATE($V$10,\"_\",W25),選手名簿!$A:$E,5,FALSE))","v":""},null,null,null,null,null,null,null,{"$f":"IF(ISERROR(VLOOKUP(CONCATENATE($AD$10,\"_\",AC25),選手名簿!$A:$E,5,FALSE))=TRUE,\"\",VLOOKUP(CONCATENATE($AD$10,\"_\",AC25),選手名簿!$A:$E,5,FALSE))","v":""}]
["番号","R010189300",null,null,null,{"$f":"IF(ISERROR(VLOOKUP(CONCATENATE($F$10,\"_\",G26),選手名簿!$A:$E,5,FALSE))=TRUE,\"\",VLOOKUP(CONCATENATE($F$10,\"_\",G26),選手名簿!$A:$E,5,FALSE))","v":""},null,null,null,null,null,null,null,{"$f":"IF(ISERROR(VLOOKUP(CONCATENATE($N$10,\"_\",M26),選手名簿!$A:$E,5,FALSE))=TRUE,\"\",VLOOKUP(CONCATENATE($N$10,\"_\",M26),選手名簿!$A:$E,5,FALSE))","v":""},null,null,"番号","R006910259",null,null,null,{"$f":"IF(ISERROR(VLOOKUP(CONCATENATE($V$10,\"_\",W26),選手名簿!$A:$E,5,FALSE))=TRUE,\"\",VLOOKUP(CONCATENATE($V$10,\"_\",W26),選手名簿!$A:$E,5,FALSE))","v":""},null,null,null,null,null,null,null,{"$f":"IF(ISERROR(VLOOKUP(CONCATENATE($AD$10,\"_\",AC26),選手名簿!$A:$E,5,FALSE))=TRUE,\"\",VLOOKUP(CONCATENATE($AD$10,\"_\",AC26),選手名簿!$A:$E,5,FALSE))","v":""}]
["AR1:",{"$f":"IF(ISERROR(VLOOKUP(B26,審判員!$A:$C,2,FALSE))=TRUE,\"\",VLOOKUP(B26,審判員!$A:$C,2,FALSE))","v":"徳光　将太"},null,{"$f":"IF(ISERROR(VLOOKUP(B26,審判員!$A:$C,3,FALSE))=TRUE,\"\",VLOOKUP(B26,審判員!$A:$C,3,FALSE))","v":"３級"},null,{"$f":"IF(ISERROR(VLOOKUP(CONCATENATE($F$10,\"_\",G27),選手名簿!$A:$E,5,FALSE))=TRUE,\"\",VLOOKUP(CONCATENATE($F$10,\"_\",G27),選手名簿!$A:$E,5,FALSE))","v":""},null,null,null,null,null,null,null,{"$f":"IF(ISERROR(VLOOKUP(CONCATENATE($N$10,\"_\",M27),選手名簿!$A:$E,5,FALSE))=TRUE,\"\",VLOOKUP(CONCATENATE($N$10,\"_\",M27),選手名簿!$A:$E,5,FALSE))","v":""},null,null,"AR1:",{"$f":"IF(ISERROR(VLOOKUP(R26,審判員!$A:$C,2,FALSE))=TRUE,\"\",VLOOKUP(R26,審判員!$A:$C,2,FALSE))","v":"下原　優一"},null,{"$f":"IF(ISERROR(VLOOKUP(R26,審判員!$A:$C,3,FALSE))=TRUE,\"\",VLOOKUP(R26,審判員!$A:$C,3,FALSE))","v":"３級"},null,{"$f":"IF(ISERROR(VLOOKUP(CONCATENATE($V$10,\"_\",W27),選手名簿!$A:$E,5,FALSE))=TRUE,\"\",VLOOKUP(CONCATENATE($V$10,\"_\",W27),選手名簿!$A:$E,5,FALSE))","v":""},null,null,null,null,null,null,null,{"$f":"IF(ISERROR(VLOOKUP(CONCATENATE($AD$10,\"_\",AC27),選手名簿!$A:$E,5,FALSE))=TRUE,\"\",VLOOKUP(CONCATENATE($AD$10,\"_\",AC27),選手名簿!$A:$E,5,FALSE))","v":""}]
["番号","R003421161",null,null,null,{"$f":"IF(ISERROR(VLOOKUP(CONCATENATE($F$10,\"_\",G28),選手名簿!$A:$E,5,FALSE))=TRUE,\"\",VLOOKUP(CONCATENATE($F$10,\"_\",G28),選手名簿!$A:$E,5,FALSE))","v":""},null,null,null,null,null,null,null,{"$f":"IF(ISERROR(VLOOKUP(CONCATENATE($N$10,\"_\",M28),選手名簿!$A:$E,5,FALSE))=TRUE,\"\",VLOOKUP(CONCATENATE($N$10,\"_\",M28),選手名簿!$A:$E,5,FALSE))","v":""},null,null,"番号","R005528121",null,null,null,{"$f":"IF(ISERROR(VLOOKUP(CONCATENATE($V$10,\"_\",W28),選手名簿!$A:$E,5,FALSE))=TRUE,\"\",VLOOKUP(CONCATENATE($V$10,\"_\",W28),選手名簿!$A:$E,5,FALSE))","v":""},null,null,null,null,null,null,null,{"$f":"IF(ISERROR(VLOOKUP(CONCATENATE($AD$10,\"_\",AC28),選手名簿!$A:$E,5,FALSE))=TRUE,\"\",VLOOKUP(CONCATENATE($AD$10,\"_\",AC28),選手名簿!$A:$E,5,FALSE))","v":""}]
["AR2:",{"$f":"IF(ISERROR(VLOOKUP(B28,審判員!$A:$C,2,FALSE))=TRUE,\"\",VLOOKUP(B28,審判員!$A:$C,2,FALSE))","v":"永路　尚道"},null,{"$f":"IF(ISERROR(VLOOKUP(B28,審判員!$A:$C,3,FALSE))=TRUE,\"\",VLOOKUP(B28,審判員!$A:$C,3,FALSE))","v":"３級"},null,{"$f":"IF(ISERROR(VLOOKUP(CONCATENATE($F$10,\"_\",G29),選手名簿!$A:$E,5,FALSE))=TRUE,\"\",VLOOKUP(CONCATENATE($F$10,\"_\",G29),選手名簿!$A:$E,5,FALSE))","v":""},null,null,null,null,null,null,null,{"$f":"IF(ISERROR(VLOOKUP(CONCATENATE($N$10,\"_\",M29),選手名簿!$A:$E,5,FALSE))=TRUE,\"\",VLOOKUP(CONCATENATE($N$10,\"_\",M29),選手名簿!$A:$E,5,FALSE))","v":""},null,null,"AR2:",{"$f":"IF(ISERROR(VLOOKUP(R28,審判員!$A:$C,2,FALSE))=TRUE,\"\",VLOOKUP(R28,審判員!$A:$C,2,FALSE))","v":"大塚　勇司"},null,{"$f":"IF(ISERROR(VLOOKUP(R28,審判員!$A:$C,3,FALSE))=TRUE,\"\",VLOOKUP(R28,審判員!$A:$C,3,FALSE))","v":"３級"},null,{"$f":"IF(ISERROR(VLOOKUP(CONCATENATE($V$10,\"_\",W29),選手名簿!$A:$E,5,FALSE))=TRUE,\"\",VLOOKUP(CONCATENATE($V$10,\"_\",W29),選手名簿!$A:$E,5,FALSE))","v":""},null,null,null,null,null,null,null,{"$f":"IF(ISERROR(VLOOKUP(CONCATENATE($AD$10,\"_\",AC29),選手名簿!$A:$E,5,FALSE))=TRUE,\"\",VLOOKUP(CONCATENATE($AD$10,\"_\",AC29),選手名簿!$A:$E,5,FALSE))","v":""}]
["番号","R010382275",null,null,null,{"$f":"IF(ISERROR(VLOOKUP(CONCATENATE($F$10,\"_\",G30),選手名簿!$A:$E,5,FALSE))=TRUE,\"\",VLOOKUP(CONCATENATE($F$10,\"_\",G30),選手名簿!$A:$E,5,FALSE))","v":""},null,null,null,null,null,null,null,{"$f":"IF(ISERROR(VLOOKUP(CONCATENATE($N$10,\"_\",M30),選手名簿!$A:$E,5,FALSE))=TRUE,\"\",VLOOKUP(CONCATENATE($N$10,\"_\",M30),選手名簿!$A:$E,5,FALSE))","v":""},null,null,"番号","R009408904",null,null,null,{"$f":"IF(ISERROR(VLOOKUP(CONCATENATE($V$10,\"_\",W30),選手名簿!$A:$E,5,FALSE))=TRUE,\"\",VLOOKUP(CONCATENATE($V$10,\"_\",W30),選手名簿!$A:$E,5,FALSE))","v":""},null,null,null,null,null,null,null,{"$f":"IF(ISERROR(VLOOKUP(CONCATENATE($AD$10,\"_\",AC30),選手名簿!$A:$E,5,FALSE))=TRUE,\"\",VLOOKUP(CONCATENATE($AD$10,\"_\",AC30),選手名簿!$A:$E,5,FALSE))","v":""}]
["4th:",{"$f":"IF(ISERROR(VLOOKUP(B30,審判員!$A:$C,2,FALSE))=TRUE,\"\",VLOOKUP(B30,審判員!$A:$C,2,FALSE))","v":"中村　友海"},null,{"$f":"IF(ISERROR(VLOOKUP(B30,審判員!$A:$C,3,FALSE))=TRUE,\"\",VLOOKUP(B30,審判員!$A:$C,3,FALSE))","v":"３級"},null,{"$f":"IF(ISERROR(VLOOKUP(CONCATENATE($F$10,\"_\",G31),選手名簿!$A:$E,5,FALSE))=TRUE,\"\",VLOOKUP(CONCATENATE($F$10,\"_\",G31),選手名簿!$A:$E,5,FALSE))","v":""},null,null,null,null,null,null,null,{"$f":"IF(ISERROR(VLOOKUP(CONCATENATE($N$10,\"_\",M31),選手名簿!$A:$E,5,FALSE))=TRUE,\"\",VLOOKUP(CONCATENATE($N$10,\"_\",M31),選手名簿!$A:$E,5,FALSE))","v":""},null,null,"4th:",{"$f":"IF(ISERROR(VLOOKUP(R30,審判員!$A:$C,2,FALSE))=TRUE,\"\",VLOOKUP(R30,審判員!$A:$C,2,FALSE))","v":"石井　洋平"},null,{"$f":"IF(ISERROR(VLOOKUP(R30,審判員!$A:$C,3,FALSE))=TRUE,\"\",VLOOKUP(R30,審判員!$A:$C,3,FALSE))","v":"３級"},null,{"$f":"IF(ISERROR(VLOOKUP(CONCATENATE($V$10,\"_\",W31),選手名簿!$A:$E,5,FALSE))=TRUE,\"\",VLOOKUP(CONCATENATE($V$10,\"_\",W31),選手名簿!$A:$E,5,FALSE))","v":""},null,null,null,null,null,null,null,{"$f":"IF(ISERROR(VLOOKUP(CONCATENATE($AD$10,\"_\",AC31),選手名簿!$A:$E,5,FALSE))=TRUE,\"\",VLOOKUP(CONCATENATE($AD$10,\"_\",AC31),選手名簿!$A:$E,5,FALSE))","v":""}]
[]
[]
[]
[]
[]
[]
[]
["MC","秋吉　明",null,null,{"$f":"予選リーグ!B23","v":"11:40:00"},{"$f":"F6","v":"寒田少年サッカークラブ"},{"$f":"SUM(I39:I40)","v":0},"（",0,"前半",0,"）",{"$f":"SUM(K39:K40)","v":0},{"$f":"F7","v":"弥生少年サッカークラブ"},null,null,"MC","安東　幹雄",null,null,{"$f":"予選リーグ!B25","v":"12:30:00"},{"$f":"V6","v":"明野西ＪＦＣ"},{"$f":"SUM(Y39:Y40)","v":1},"（",1,"前半",1,"）",{"$f":"SUM(AA39:AA40)","v":3},{"$f":"V7","v":"別府フットボールクラブ．ミネルバＵ－１２"}]
["Welfare\nOfficer",null,null,null,null,null,null,null,0,"後半",0,null,null,null,null,null,"Welfare\nOfficer",null,null,null,null,null,null,null,0,"後半",2]
["記録","榊　謙治",null,null,null,null,null,null,null,"PK",null,null,null,null,null,null,"記録","秋吉　明",null,null,null,null,null,null,null,"PK"]
["＜Referee＞",null,null,null,"警告/退場\n選択肢より","氏名","番号","分","内容\n選択肢より",null,"内容\n選択肢より","分","番号","氏名","警告/退場\n選択肢より",null,"＜Referee＞",null,null,null,"警告/退場\n選択肢より","氏名","番号","分","内容\n選択肢より",null,"内容\n選択肢より","分","番号","氏名","警告/退場\n選択肢より"]
[null,null,null,null,"得点者",{"$f":"IF(ISERROR(VLOOKUP(CONCATENATE($F$39,\"_\",G43),選手名簿!$A:$E,5,FALSE))=TRUE,\"\",VLOOKUP(CONCATENATE($F$39,\"_\",G43),選手名簿!$A:$E,5,FALSE))","v":""},null,null,null,null,null,null,null,{"$f":"IF(ISERROR(VLOOKUP(CONCATENATE($N$39,\"_\",M43),選手名簿!$A:$E,5,FALSE))=TRUE,\"\",VLOOKUP(CONCATENATE($N$39,\"_\",M43),選手名簿!$A:$E,5,FALSE))","v":""},null,null,null,null,null,null,"得点者",{"$f":"IF(ISERROR(VLOOKUP(CONCATENATE($V$39,\"_\",W43),選手名簿!$A:$E,5,FALSE))=TRUE,\"\",VLOOKUP(CONCATENATE($V$39,\"_\",W43),選手名簿!$A:$E,5,FALSE))","v":""},null,null,null,null,null,null,null,{"$f":"IF(ISERROR(VLOOKUP(CONCATENATE($AD$39,\"_\",AC43),選手名簿!$A:$E,5,FALSE))=TRUE,\"\",VLOOKUP(CONCATENATE($AD$39,\"_\",AC43),選手名簿!$A:$E,5,FALSE))","v":""}]
[null,null,null,null,"得点者",{"$f":"IF(ISERROR(VLOOKUP(CONCATENATE($F$39,\"_\",G44),選手名簿!$A:$E,5,FALSE))=TRUE,\"\",VLOOKUP(CONCATENATE($F$39,\"_\",G44),選手名簿!$A:$E,5,FALSE))","v":""},null,null,null,null,null,null,null,{"$f":"IF(ISERROR(VLOOKUP(CONCATENATE($N$39,\"_\",M44),選手名簿!$A:$E,5,FALSE))=TRUE,\"\",VLOOKUP(CONCATENATE($N$39,\"_\",M44),選手名簿!$A:$E,5,FALSE))","v":""},null,null,null,null,null,null,"得点者",{"$f":"IF(ISERROR(VLOOKUP(CONCATENATE($V$39,\"_\",W44),選手名簿!$A:$E,5,FALSE))=TRUE,\"\",VLOOKUP(CONCATENATE($V$39,\"_\",W44),選手名簿!$A:$E,5,FALSE))","v":""},null,null,null,null,null,null,null,{"$f":"IF(ISERROR(VLOOKUP(CONCATENATE($AD$39,\"_\",AC44),選手名簿!$A:$E,5,FALSE))=TRUE,\"\",VLOOKUP(CONCATENATE($AD$39,\"_\",AC44),選手名簿!$A:$E,5,FALSE))","v":""}]
[null,null,null,null,"得点者",{"$f":"IF(ISERROR(VLOOKUP(CONCATENATE($F$39,\"_\",G45),選手名簿!$A:$E,5,FALSE))=TRUE,\"\",VLOOKUP(CONCATENATE($F$39,\"_\",G45),選手名簿!$A:$E,5,FALSE))","v":""},null,null,null,null,null,null,null,{"$f":"IF(ISERROR(VLOOKUP(CONCATENATE($N$39,\"_\",M45),選手名簿!$A:$E,5,FALSE))=TRUE,\"\",VLOOKUP(CONCATENATE($N$39,\"_\",M45),選手名簿!$A:$E,5,FALSE))","v":""},null,null,null,null,null,null,"得点者",{"$f":"IF(ISERROR(VLOOKUP(CONCATENATE($V$39,\"_\",W45),選手名簿!$A:$E,5,FALSE))=TRUE,\"\",VLOOKUP(CONCATENATE($V$39,\"_\",W45),選手名簿!$A:$E,5,FALSE))","v":""},null,null,null,null,null,null,null,{"$f":"IF(ISERROR(VLOOKUP(CONCATENATE($AD$39,\"_\",AC45),選手名簿!$A:$E,5,FALSE))=TRUE,\"\",VLOOKUP(CONCATENATE($AD$39,\"_\",AC45),選手名簿!$A:$E,5,FALSE))","v":""}]
[null,null,null,null,"得点者",{"$f":"IF(ISERROR(VLOOKUP(CONCATENATE($F$39,\"_\",G46),選手名簿!$A:$E,5,FALSE))=TRUE,\"\",VLOOKUP(CONCATENATE($F$39,\"_\",G46),選手名簿!$A:$E,5,FALSE))","v":""},null,null,null,null,null,null,null,{"$f":"IF(ISERROR(VLOOKUP(CONCATENATE($N$39,\"_\",M46),選手名簿!$A:$E,5,FALSE))=TRUE,\"\",VLOOKUP(CONCATENATE($N$39,\"_\",M46),選手名簿!$A:$E,5,FALSE))","v":""},null,null,null,null,null,null,"得点者",{"$f":"IF(ISERROR(VLOOKUP(CONCATENATE($V$39,\"_\",W46),選手名簿!$A:$E,5,FALSE))=TRUE,\"\",VLOOKUP(CONCATENATE($V$39,\"_\",W46),選手名簿!$A:$E,5,FALSE))","v":""},null,null,null,null,null,null,null,{"$f":"IF(ISERROR(VLOOKUP(CONCATENATE($AD$39,\"_\",AC46),選手名簿!$A:$E,5,FALSE))=TRUE,\"\",VLOOKUP(CONCATENATE($AD$39,\"_\",AC46),選手名簿!$A:$E,5,FALSE))","v":""}]
[null,null,null,null,"得点者",{"$f":"IF(ISERROR(VLOOKUP(CONCATENATE($F$39,\"_\",G47),選手名簿!$A:$E,5,FALSE))=TRUE,\"\",VLOOKUP(CONCATENATE($F$39,\"_\",G47),選手名簿!$A:$E,5,FALSE))","v":""},null,null,null,null,null,null,null,{"$f":"IF(ISERROR(VLOOKUP(CONCATENATE($N$39,\"_\",M47),選手名簿!$A:$E,5,FALSE))=TRUE,\"\",VLOOKUP(CONCATENATE($N$39,\"_\",M47),選手名簿!$A:$E,5,FALSE))","v":""},null,null,null,null,null,null,"得点者",{"$f":"IF(ISERROR(VLOOKUP(CONCATENATE($V$39,\"_\",W47),選手名簿!$A:$E,5,FALSE))=TRUE,\"\",VLOOKUP(CONCATENATE($V$39,\"_\",W47),選手名簿!$A:$E,5,FALSE))","v":""},null,null,null,null,null,null,null,{"$f":"IF(ISERROR(VLOOKUP(CONCATENATE($AD$39,\"_\",AC47),選手名簿!$A:$E,5,FALSE))=TRUE,\"\",VLOOKUP(CONCATENATE($AD$39,\"_\",AC47),選手名簿!$A:$E,5,FALSE))","v":""}]
[null,null,null,null,"得点者",{"$f":"IF(ISERROR(VLOOKUP(CONCATENATE($F$39,\"_\",G48),選手名簿!$A:$E,5,FALSE))=TRUE,\"\",VLOOKUP(CONCATENATE($F$39,\"_\",G48),選手名簿!$A:$E,5,FALSE))","v":""},null,null,null,null,null,null,null,{"$f":"IF(ISERROR(VLOOKUP(CONCATENATE($N$39,\"_\",M48),選手名簿!$A:$E,5,FALSE))=TRUE,\"\",VLOOKUP(CONCATENATE($N$39,\"_\",M48),選手名簿!$A:$E,5,FALSE))","v":""},null,null,null,null,null,null,"得点者",{"$f":"IF(ISERROR(VLOOKUP(CONCATENATE($V$39,\"_\",W48),選手名簿!$A:$E,5,FALSE))=TRUE,\"\",VLOOKUP(CONCATENATE($V$39,\"_\",W48),選手名簿!$A:$E,5,FALSE))","v":""},null,null,null,null,null,null,null,{"$f":"IF(ISERROR(VLOOKUP(CONCATENATE($AD$39,\"_\",AC48),選手名簿!$A:$E,5,FALSE))=TRUE,\"\",VLOOKUP(CONCATENATE($AD$39,\"_\",AC48),選手名簿!$A:$E,5,FALSE))","v":""}]
[null,null,null,null,"得点者",{"$f":"IF(ISERROR(VLOOKUP(CONCATENATE($F$39,\"_\",G49),選手名簿!$A:$E,5,FALSE))=TRUE,\"\",VLOOKUP(CONCATENATE($F$39,\"_\",G49),選手名簿!$A:$E,5,FALSE))","v":""},null,null,null,null,null,null,null,{"$f":"IF(ISERROR(VLOOKUP(CONCATENATE($N$39,\"_\",M49),選手名簿!$A:$E,5,FALSE))=TRUE,\"\",VLOOKUP(CONCATENATE($N$39,\"_\",M49),選手名簿!$A:$E,5,FALSE))","v":""},null,null,null,null,null,null,"得点者",{"$f":"IF(ISERROR(VLOOKUP(CONCATENATE($V$39,\"_\",W49),選手名簿!$A:$E,5,FALSE))=TRUE,\"\",VLOOKUP(CONCATENATE($V$39,\"_\",W49),選手名簿!$A:$E,5,FALSE))","v":""},null,null,null,null,null,null,null,{"$f":"IF(ISERROR(VLOOKUP(CONCATENATE($AD$39,\"_\",AC49),選手名簿!$A:$E,5,FALSE))=TRUE,\"\",VLOOKUP(CONCATENATE($AD$39,\"_\",AC49),選手名簿!$A:$E,5,FALSE))","v":""}]
[null,null,null,null,"得点者",{"$f":"IF(ISERROR(VLOOKUP(CONCATENATE($F$39,\"_\",G50),選手名簿!$A:$E,5,FALSE))=TRUE,\"\",VLOOKUP(CONCATENATE($F$39,\"_\",G50),選手名簿!$A:$E,5,FALSE))","v":""},null,null,null,null,null,null,null,{"$f":"IF(ISERROR(VLOOKUP(CONCATENATE($N$39,\"_\",M50),選手名簿!$A:$E,5,FALSE))=TRUE,\"\",VLOOKUP(CONCATENATE($N$39,\"_\",M50),選手名簿!$A:$E,5,FALSE))","v":""},null,null,null,null,null,null,"得点者",{"$f":"IF(ISERROR(VLOOKUP(CONCATENATE($V$39,\"_\",W50),選手名簿!$A:$E,5,FALSE))=TRUE,\"\",VLOOKUP(CONCATENATE($V$39,\"_\",W50),選手名簿!$A:$E,5,FALSE))","v":""},null,null,null,null,null,null,null,{"$f":"IF(ISERROR(VLOOKUP(CONCATENATE($AD$39,\"_\",AC50),選手名簿!$A:$E,5,FALSE))=TRUE,\"\",VLOOKUP(CONCATENATE($AD$39,\"_\",AC50),選手名簿!$A:$E,5,FALSE))","v":""}]
[null,null,null,null,"得点者",{"$f":"IF(ISERROR(VLOOKUP(CONCATENATE($F$39,\"_\",G51),選手名簿!$A:$E,5,FALSE))=TRUE,\"\",VLOOKUP(CONCATENATE($F$39,\"_\",G51),選手名簿!$A:$E,5,FALSE))","v":""},null,null,null,null,null,null,null,{"$f":"IF(ISERROR(VLOOKUP(CONCATENATE($N$39,\"_\",M51),選手名簿!$A:$E,5,FALSE))=TRUE,\"\",VLOOKUP(CONCATENATE($N$39,\"_\",M51),選手名簿!$A:$E,5,FALSE))","v":""},null,null,null,null,null,null,"得点者",{"$f":"IF(ISERROR(VLOOKUP(CONCATENATE($V$39,\"_\",W51),選手名簿!$A:$E,5,FALSE))=TRUE,\"\",VLOOKUP(CONCATENATE($V$39,\"_\",W51),選手名簿!$A:$E,5,FALSE))","v":""},null,null,null,null,null,null,null,{"$f":"IF(ISERROR(VLOOKUP(CONCATENATE($AD$39,\"_\",AC51),選手名簿!$A:$E,5,FALSE))=TRUE,\"\",VLOOKUP(CONCATENATE($AD$39,\"_\",AC51),選手名簿!$A:$E,5,FALSE))","v":""}]
[null,null,null,null,"得点者",{"$f":"IF(ISERROR(VLOOKUP(CONCATENATE($F$39,\"_\",G52),選手名簿!$A:$E,5,FALSE))=TRUE,\"\",VLOOKUP(CONCATENATE($F$39,\"_\",G52),選手名簿!$A:$E,5,FALSE))","v":""},null,null,null,null,null,null,null,{"$f":"IF(ISERROR(VLOOKUP(CONCATENATE($N$39,\"_\",M52),選手名簿!$A:$E,5,FALSE))=TRUE,\"\",VLOOKUP(CONCATENATE($N$39,\"_\",M52),選手名簿!$A:$E,5,FALSE))","v":""},null,null,null,null,null,null,"得点者",{"$f":"IF(ISERROR(VLOOKUP(CONCATENATE($V$39,\"_\",W52),選手名簿!$A:$E,5,FALSE))=TRUE,\"\",VLOOKUP(CONCATENATE($V$39,\"_\",W52),選手名簿!$A:$E,5,FALSE))","v":""},null,null,null,null,null,null,null,{"$f":"IF(ISERROR(VLOOKUP(CONCATENATE($AD$39,\"_\",AC52),選手名簿!$A:$E,5,FALSE))=TRUE,\"\",VLOOKUP(CONCATENATE($AD$39,\"_\",AC52),選手名簿!$A:$E,5,FALSE))","v":""}]
["番号","R009408904",null,null,null,{"$f":"IF(ISERROR(VLOOKUP(CONCATENATE($F$39,\"_\",G53),選手名簿!$A:$E,5,FALSE))=TRUE,\"\",VLOOKUP(CONCATENATE($F$39,\"_\",G53),選手名簿!$A:$E,5,FALSE))","v":""},null,null,null,null,null,null,null,{"$f":"IF(ISERROR(VLOOKUP(CONCATENATE($N$39,\"_\",M53),選手名簿!$A:$E,5,FALSE))=TRUE,\"\",VLOOKUP(CONCATENATE($N$39,\"_\",M53),選手名簿!$A:$E,5,FALSE))","v":""},null,null,"番号","R009546055",null,null,null,{"$f":"IF(ISERROR(VLOOKUP(CONCATENATE($V$39,\"_\",W53),選手名簿!$A:$E,5,FALSE))=TRUE,\"\",VLOOKUP(CONCATENATE($V$39,\"_\",W53),選手名簿!$A:$E,5,FALSE))","v":""},null,null,null,null,null,null,null,{"$f":"IF(ISERROR(VLOOKUP(CONCATENATE($AD$39,\"_\",AC53),選手名簿!$A:$E,5,FALSE))=TRUE,\"\",VLOOKUP(CONCATENATE($AD$39,\"_\",AC53),選手名簿!$A:$E,5,FALSE))","v":""}]
["R",{"$f":"IF(ISERROR(VLOOKUP(B53,審判員!$A:$C,2,FALSE))=TRUE,\"\",VLOOKUP(B53,審判員!$A:$C,2,FALSE))","v":"石井　洋平"},null,{"$f":"IF(ISERROR(VLOOKUP(B53,審判員!$A:$C,3,FALSE))=TRUE,\"\",VLOOKUP(B53,審判員!$A:$C,3,FALSE))","v":"３級"},null,{"$f":"IF(ISERROR(VLOOKUP(CONCATENATE($F$39,\"_\",G54),選手名簿!$A:$E,5,FALSE))=TRUE,\"\",VLOOKUP(CONCATENATE($F$39,\"_\",G54),選手名簿!$A:$E,5,FALSE))","v":""},null,null,null,null,null,null,null,{"$f":"IF(ISERROR(VLOOKUP(CONCATENATE($N$39,\"_\",M54),選手名簿!$A:$E,5,FALSE))=TRUE,\"\",VLOOKUP(CONCATENATE($N$39,\"_\",M54),選手名簿!$A:$E,5,FALSE))","v":""},null,null,"R",{"$f":"IF(ISERROR(VLOOKUP(R53,審判員!$A:$C,2,FALSE))=TRUE,\"\",VLOOKUP(R53,審判員!$A:$C,2,FALSE))","v":"吐合　直樹"},null,{"$f":"IF(ISERROR(VLOOKUP(R53,審判員!$A:$C,3,FALSE))=TRUE,\"\",VLOOKUP(R53,審判員!$A:$C,3,FALSE))","v":"３級"},null,{"$f":"IF(ISERROR(VLOOKUP(CONCATENATE($V$39,\"_\",W54),選手名簿!$A:$E,5,FALSE))=TRUE,\"\",VLOOKUP(CONCATENATE($V$39,\"_\",W54),選手名簿!$A:$E,5,FALSE))","v":""},null,null,null,null,null,null,null,{"$f":"IF(ISERROR(VLOOKUP(CONCATENATE($AD$39,\"_\",AC54),選手名簿!$A:$E,5,FALSE))=TRUE,\"\",VLOOKUP(CONCATENATE($AD$39,\"_\",AC54),選手名簿!$A:$E,5,FALSE))","v":""}]
["番号","R010189300",null,null,null,{"$f":"IF(ISERROR(VLOOKUP(CONCATENATE($F$39,\"_\",G55),選手名簿!$A:$E,5,FALSE))=TRUE,\"\",VLOOKUP(CONCATENATE($F$39,\"_\",G55),選手名簿!$A:$E,5,FALSE))","v":""},null,null,null,null,null,null,null,{"$f":"IF(ISERROR(VLOOKUP(CONCATENATE($N$39,\"_\",M55),選手名簿!$A:$E,5,FALSE))=TRUE,\"\",VLOOKUP(CONCATENATE($N$39,\"_\",M55),選手名簿!$A:$E,5,FALSE))","v":""},null,null,"番号","R005528121",null,null,null,{"$f":"IF(ISERROR(VLOOKUP(CONCATENATE($V$39,\"_\",W55),選手名簿!$A:$E,5,FALSE))=TRUE,\"\",VLOOKUP(CONCATENATE($V$39,\"_\",W55),選手名簿!$A:$E,5,FALSE))","v":""},null,null,null,null,null,null,null,{"$f":"IF(ISERROR(VLOOKUP(CONCATENATE($AD$39,\"_\",AC55),選手名簿!$A:$E,5,FALSE))=TRUE,\"\",VLOOKUP(CONCATENATE($AD$39,\"_\",AC55),選手名簿!$A:$E,5,FALSE))","v":""}]
["AR1:",{"$f":"IF(ISERROR(VLOOKUP(B55,審判員!$A:$C,2,FALSE))=TRUE,\"\",VLOOKUP(B55,審判員!$A:$C,2,FALSE))","v":"徳光　将太"},null,{"$f":"IF(ISERROR(VLOOKUP(B55,審判員!$A:$C,3,FALSE))=TRUE,\"\",VLOOKUP(B55,審判員!$A:$C,3,FALSE))","v":"３級"},null,{"$f":"IF(ISERROR(VLOOKUP(CONCATENATE($F$39,\"_\",G56),選手名簿!$A:$E,5,FALSE))=TRUE,\"\",VLOOKUP(CONCATENATE($F$39,\"_\",G56),選手名簿!$A:$E,5,FALSE))","v":""},null,null,null,null,null,null,null,{"$f":"IF(ISERROR(VLOOKUP(CONCATENATE($N$39,\"_\",M56),選手名簿!$A:$E,5,FALSE))=TRUE,\"\",VLOOKUP(CONCATENATE($N$39,\"_\",M56),選手名簿!$A:$E,5,FALSE))","v":""},null,null,"AR1:",{"$f":"IF(ISERROR(VLOOKUP(R55,審判員!$A:$C,2,FALSE))=TRUE,\"\",VLOOKUP(R55,審判員!$A:$C,2,FALSE))","v":"大塚　勇司"},null,{"$f":"IF(ISERROR(VLOOKUP(R55,審判員!$A:$C,3,FALSE))=TRUE,\"\",VLOOKUP(R55,審判員!$A:$C,3,FALSE))","v":"３級"},null,{"$f":"IF(ISERROR(VLOOKUP(CONCATENATE($V$39,\"_\",W56),選手名簿!$A:$E,5,FALSE))=TRUE,\"\",VLOOKUP(CONCATENATE($V$39,\"_\",W56),選手名簿!$A:$E,5,FALSE))","v":""},null,null,null,null,null,null,null,{"$f":"IF(ISERROR(VLOOKUP(CONCATENATE($AD$39,\"_\",AC56),選手名簿!$A:$E,5,FALSE))=TRUE,\"\",VLOOKUP(CONCATENATE($AD$39,\"_\",AC56),選手名簿!$A:$E,5,FALSE))","v":""}]
["番号","R001254051",null,null,null,{"$f":"IF(ISERROR(VLOOKUP(CONCATENATE($F$39,\"_\",G57),選手名簿!$A:$E,5,FALSE))=TRUE,\"\",VLOOKUP(CONCATENATE($F$39,\"_\",G57),選手名簿!$A:$E,5,FALSE))","v":""},null,null,null,null,null,null,null,{"$f":"IF(ISERROR(VLOOKUP(CONCATENATE($N$39,\"_\",M57),選手名簿!$A:$E,5,FALSE))=TRUE,\"\",VLOOKUP(CONCATENATE($N$39,\"_\",M57),選手名簿!$A:$E,5,FALSE))","v":""},null,null,"番号","R006093738",null,null,null,{"$f":"IF(ISERROR(VLOOKUP(CONCATENATE($V$39,\"_\",W57),選手名簿!$A:$E,5,FALSE))=TRUE,\"\",VLOOKUP(CONCATENATE($V$39,\"_\",W57),選手名簿!$A:$E,5,FALSE))","v":""},null,null,null,null,null,null,null,{"$f":"IF(ISERROR(VLOOKUP(CONCATENATE($AD$39,\"_\",AC57),選手名簿!$A:$E,5,FALSE))=TRUE,\"\",VLOOKUP(CONCATENATE($AD$39,\"_\",AC57),選手名簿!$A:$E,5,FALSE))","v":""}]
["AR2:",{"$f":"IF(ISERROR(VLOOKUP(B57,審判員!$A:$C,2,FALSE))=TRUE,\"\",VLOOKUP(B57,審判員!$A:$C,2,FALSE))","v":"井上　直樹"},null,{"$f":"IF(ISERROR(VLOOKUP(B57,審判員!$A:$C,3,FALSE))=TRUE,\"\",VLOOKUP(B57,審判員!$A:$C,3,FALSE))","v":"３級"},null,{"$f":"IF(ISERROR(VLOOKUP(CONCATENATE($F$39,\"_\",G58),選手名簿!$A:$E,5,FALSE))=TRUE,\"\",VLOOKUP(CONCATENATE($F$39,\"_\",G58),選手名簿!$A:$E,5,FALSE))","v":""},null,null,null,null,null,null,null,{"$f":"IF(ISERROR(VLOOKUP(CONCATENATE($N$39,\"_\",M58),選手名簿!$A:$E,5,FALSE))=TRUE,\"\",VLOOKUP(CONCATENATE($N$39,\"_\",M58),選手名簿!$A:$E,5,FALSE))","v":""},null,null,"AR2:",{"$f":"IF(ISERROR(VLOOKUP(R57,審判員!$A:$C,2,FALSE))=TRUE,\"\",VLOOKUP(R57,審判員!$A:$C,2,FALSE))","v":"大谷　伸二"},null,{"$f":"IF(ISERROR(VLOOKUP(R57,審判員!$A:$C,3,FALSE))=TRUE,\"\",VLOOKUP(R57,審判員!$A:$C,3,FALSE))","v":"３級"},null,{"$f":"IF(ISERROR(VLOOKUP(CONCATENATE($V$39,\"_\",W58),選手名簿!$A:$E,5,FALSE))=TRUE,\"\",VLOOKUP(CONCATENATE($V$39,\"_\",W58),選手名簿!$A:$E,5,FALSE))","v":""},null,null,null,null,null,null,null,{"$f":"IF(ISERROR(VLOOKUP(CONCATENATE($AD$39,\"_\",AC58),選手名簿!$A:$E,5,FALSE))=TRUE,\"\",VLOOKUP(CONCATENATE($AD$39,\"_\",AC58),選手名簿!$A:$E,5,FALSE))","v":""}]
["番号","R009546055",null,null,null,{"$f":"IF(ISERROR(VLOOKUP(CONCATENATE($F$39,\"_\",G59),選手名簿!$A:$E,5,FALSE))=TRUE,\"\",VLOOKUP(CONCATENATE($F$39,\"_\",G59),選手名簿!$A:$E,5,FALSE))","v":""},null,null,null,null,null,null,null,{"$f":"IF(ISERROR(VLOOKUP(CONCATENATE($N$39,\"_\",M59),選手名簿!$A:$E,5,FALSE))=TRUE,\"\",VLOOKUP(CONCATENATE($N$39,\"_\",M59),選手名簿!$A:$E,5,FALSE))","v":""},null,null,"番号","R010382275",null,null,null,{"$f":"IF(ISERROR(VLOOKUP(CONCATENATE($V$39,\"_\",W59),選手名簿!$A:$E,5,FALSE))=TRUE,\"\",VLOOKUP(CONCATENATE($V$39,\"_\",W59),選手名簿!$A:$E,5,FALSE))","v":""},null,null,null,null,null,null,null,{"$f":"IF(ISERROR(VLOOKUP(CONCATENATE($AD$39,\"_\",AC59),選手名簿!$A:$E,5,FALSE))=TRUE,\"\",VLOOKUP(CONCATENATE($AD$39,\"_\",AC59),選手名簿!$A:$E,5,FALSE))","v":""}]
["4th:",{"$f":"IF(ISERROR(VLOOKUP(B59,審判員!$A:$C,2,FALSE))=TRUE,\"\",VLOOKUP(B59,審判員!$A:$C,2,FALSE))","v":"吐合　直樹"},null,{"$f":"IF(ISERROR(VLOOKUP(B59,審判員!$A:$C,3,FALSE))=TRUE,\"\",VLOOKUP(B59,審判員!$A:$C,3,FALSE))","v":"３級"},null,{"$f":"IF(ISERROR(VLOOKUP(CONCATENATE($F$39,\"_\",G60),選手名簿!$A:$E,5,FALSE))=TRUE,\"\",VLOOKUP(CONCATENATE($F$39,\"_\",G60),選手名簿!$A:$E,5,FALSE))","v":""},null,null,null,null,null,null,null,{"$f":"IF(ISERROR(VLOOKUP(CONCATENATE($N$39,\"_\",M60),選手名簿!$A:$E,5,FALSE))=TRUE,\"\",VLOOKUP(CONCATENATE($N$39,\"_\",M60),選手名簿!$A:$E,5,FALSE))","v":""},null,null,"4th:",{"$f":"IF(ISERROR(VLOOKUP(R59,審判員!$A:$C,2,FALSE))=TRUE,\"\",VLOOKUP(R59,審判員!$A:$C,2,FALSE))","v":"中村　友海"},null,{"$f":"IF(ISERROR(VLOOKUP(R59,審判員!$A:$C,3,FALSE))=TRUE,\"\",VLOOKUP(R59,審判員!$A:$C,3,FALSE))","v":"３級"},null,{"$f":"IF(ISERROR(VLOOKUP(CONCATENATE($V$39,\"_\",W60),選手名簿!$A:$E,5,FALSE))=TRUE,\"\",VLOOKUP(CONCATENATE($V$39,\"_\",W60),選手名簿!$A:$E,5,FALSE))","v":""},null,null,null,null,null,null,null,{"$f":"IF(ISERROR(VLOOKUP(CONCATENATE($AD$39,\"_\",AC60),選手名簿!$A:$E,5,FALSE))=TRUE,\"\",VLOOKUP(CONCATENATE($AD$39,\"_\",AC60),選手名簿!$A:$E,5,FALSE))","v":""}]
[]
[]
[]
[]
[]
[]
[]
["MC","安東　幹雄",null,null,{"$f":"予選リーグ!B29","v":"14:10:00"},{"$f":"F7","v":"弥生少年サッカークラブ"},{"$f":"SUM(I68:I69)","v":2},"（",1,"前半",0,"）",{"$f":"SUM(K68:K69)","v":0},{"$f":"F5","v":"はやぶさフットボールクラブ"},null,null,"MC","秋吉　明",null,null,{"$f":"予選リーグ!B31","v":"15:00:00"},{"$f":"V7","v":"別府フットボールクラブ．ミネルバＵ－１２"},{"$f":"SUM(Y68:Y69)","v":2},"（",0,"前半",0,"）",{"$f":"SUM(AA68:AA69)","v":1},{"$f":"V5","v":"四日市南ＳＳＣ"}]
["Welfare\nOfficer",null,null,null,null,null,null,null,1,"後半",0,null,null,null,null,null,"Welfare\nOfficer",null,null,null,null,null,null,null,2,"後半",1]
["記録","河野　千恵子",null,null,null,null,null,null,null,"PK",null,null,null,null,null,null,"記録","毛藤　勇三",null,null,null,null,null,null,null,"PK"]
["＜Referee＞",null,null,null,"警告/退場\n選択肢より","氏名","番号","分","内容\n選択肢より",null,"内容\n選択肢より","分","番号","氏名","警告/退場\n選択肢より",null,"＜Referee＞",null,null,null,"警告/退場\n選択肢より","氏名","番号","分","内容\n選択肢より",null,"内容\n選択肢より","分","番号","氏名","警告/退場\n選択肢より"]
[null,null,null,null,"得点者",{"$f":"IF(ISERROR(VLOOKUP(CONCATENATE($F$68,\"_\",G72),選手名簿!$A:$E,5,FALSE))=TRUE,\"\",VLOOKUP(CONCATENATE($F$68,\"_\",G72),選手名簿!$A:$E,5,FALSE))","v":""},null,null,null,null,null,null,null,{"$f":"IF(ISERROR(VLOOKUP(CONCATENATE($N$68,\"_\",M72),選手名簿!$A:$E,5,FALSE))=TRUE,\"\",VLOOKUP(CONCATENATE($N$68,\"_\",M72),選手名簿!$A:$E,5,FALSE))","v":""},null,null,null,null,null,null,"得点者",{"$f":"IF(ISERROR(VLOOKUP(CONCATENATE($V$68,\"_\",W72),選手名簿!$A:$E,5,FALSE))=TRUE,\"\",VLOOKUP(CONCATENATE($V$68,\"_\",W72),選手名簿!$A:$E,5,FALSE))","v":""},null,null,null,null,null,null,null,{"$f":"IF(ISERROR(VLOOKUP(CONCATENATE($AD$68,\"_\",AC72),選手名簿!$A:$E,5,FALSE))=TRUE,\"\",VLOOKUP(CONCATENATE($AD$68,\"_\",AC72),選手名簿!$A:$E,5,FALSE))","v":""}]
[null,null,null,null,"得点者",{"$f":"IF(ISERROR(VLOOKUP(CONCATENATE($F$68,\"_\",G73),選手名簿!$A:$E,5,FALSE))=TRUE,\"\",VLOOKUP(CONCATENATE($F$68,\"_\",G73),選手名簿!$A:$E,5,FALSE))","v":""},null,null,null,null,null,null,null,{"$f":"IF(ISERROR(VLOOKUP(CONCATENATE($N$68,\"_\",M73),選手名簿!$A:$E,5,FALSE))=TRUE,\"\",VLOOKUP(CONCATENATE($N$68,\"_\",M73),選手名簿!$A:$E,5,FALSE))","v":""},null,null,null,null,null,null,"得点者",{"$f":"IF(ISERROR(VLOOKUP(CONCATENATE($V$68,\"_\",W73),選手名簿!$A:$E,5,FALSE))=TRUE,\"\",VLOOKUP(CONCATENATE($V$68,\"_\",W73),選手名簿!$A:$E,5,FALSE))","v":""},null,null,null,null,null,null,null,{"$f":"IF(ISERROR(VLOOKUP(CONCATENATE($AD$68,\"_\",AC73),選手名簿!$A:$E,5,FALSE))=TRUE,\"\",VLOOKUP(CONCATENATE($AD$68,\"_\",AC73),選手名簿!$A:$E,5,FALSE))","v":""}]
[null,null,null,null,"得点者",{"$f":"IF(ISERROR(VLOOKUP(CONCATENATE($F$68,\"_\",G74),選手名簿!$A:$E,5,FALSE))=TRUE,\"\",VLOOKUP(CONCATENATE($F$68,\"_\",G74),選手名簿!$A:$E,5,FALSE))","v":""},null,null,null,null,null,null,null,{"$f":"IF(ISERROR(VLOOKUP(CONCATENATE($N$68,\"_\",M74),選手名簿!$A:$E,5,FALSE))=TRUE,\"\",VLOOKUP(CONCATENATE($N$68,\"_\",M74),選手名簿!$A:$E,5,FALSE))","v":""},null,null,null,null,null,null,"得点者",{"$f":"IF(ISERROR(VLOOKUP(CONCATENATE($V$68,\"_\",W74),選手名簿!$A:$E,5,FALSE))=TRUE,\"\",VLOOKUP(CONCATENATE($V$68,\"_\",W74),選手名簿!$A:$E,5,FALSE))","v":""},null,null,null,null,null,null,null,{"$f":"IF(ISERROR(VLOOKUP(CONCATENATE($AD$68,\"_\",AC74),選手名簿!$A:$E,5,FALSE))=TRUE,\"\",VLOOKUP(CONCATENATE($AD$68,\"_\",AC74),選手名簿!$A:$E,5,FALSE))","v":""}]
[null,null,null,null,"得点者",{"$f":"IF(ISERROR(VLOOKUP(CONCATENATE($F$68,\"_\",G75),選手名簿!$A:$E,5,FALSE))=TRUE,\"\",VLOOKUP(CONCATENATE($F$68,\"_\",G75),選手名簿!$A:$E,5,FALSE))","v":""},null,null,null,null,null,null,null,{"$f":"IF(ISERROR(VLOOKUP(CONCATENATE($N$68,\"_\",M75),選手名簿!$A:$E,5,FALSE))=TRUE,\"\",VLOOKUP(CONCATENATE($N$68,\"_\",M75),選手名簿!$A:$E,5,FALSE))","v":""},null,null,null,null,null,null,"得点者",{"$f":"IF(ISERROR(VLOOKUP(CONCATENATE($V$68,\"_\",W75),選手名簿!$A:$E,5,FALSE))=TRUE,\"\",VLOOKUP(CONCATENATE($V$68,\"_\",W75),選手名簿!$A:$E,5,FALSE))","v":""},null,null,null,null,null,null,null,{"$f":"IF(ISERROR(VLOOKUP(CONCATENATE($AD$68,\"_\",AC75),選手名簿!$A:$E,5,FALSE))=TRUE,\"\",VLOOKUP(CONCATENATE($AD$68,\"_\",AC75),選手名簿!$A:$E,5,FALSE))","v":""}]
[null,null,null,null,"得点者",{"$f":"IF(ISERROR(VLOOKUP(CONCATENATE($F$68,\"_\",G76),選手名簿!$A:$E,5,FALSE))=TRUE,\"\",VLOOKUP(CONCATENATE($F$68,\"_\",G76),選手名簿!$A:$E,5,FALSE))","v":""},null,null,null,null,null,null,null,{"$f":"IF(ISERROR(VLOOKUP(CONCATENATE($N$68,\"_\",M76),選手名簿!$A:$E,5,FALSE))=TRUE,\"\",VLOOKUP(CONCATENATE($N$68,\"_\",M76),選手名簿!$A:$E,5,FALSE))","v":""},null,null,null,null,null,null,"得点者",{"$f":"IF(ISERROR(VLOOKUP(CONCATENATE($V$68,\"_\",W76),選手名簿!$A:$E,5,FALSE))=TRUE,\"\",VLOOKUP(CONCATENATE($V$68,\"_\",W76),選手名簿!$A:$E,5,FALSE))","v":""},null,null,null,null,null,null,null,{"$f":"IF(ISERROR(VLOOKUP(CONCATENATE($AD$68,\"_\",AC76),選手名簿!$A:$E,5,FALSE))=TRUE,\"\",VLOOKUP(CONCATENATE($AD$68,\"_\",AC76),選手名簿!$A:$E,5,FALSE))","v":""}]
[null,null,null,null,"得点者",{"$f":"IF(ISERROR(VLOOKUP(CONCATENATE($F$68,\"_\",G77),選手名簿!$A:$E,5,FALSE))=TRUE,\"\",VLOOKUP(CONCATENATE($F$68,\"_\",G77),選手名簿!$A:$E,5,FALSE))","v":""},null,null,null,null,null,null,null,{"$f":"IF(ISERROR(VLOOKUP(CONCATENATE($N$68,\"_\",M77),選手名簿!$A:$E,5,FALSE))=TRUE,\"\",VLOOKUP(CONCATENATE($N$68,\"_\",M77),選手名簿!$A:$E,5,FALSE))","v":""},null,null,null,null,null,null,"得点者",{"$f":"IF(ISERROR(VLOOKUP(CONCATENATE($V$68,\"_\",W77),選手名簿!$A:$E,5,FALSE))=TRUE,\"\",VLOOKUP(CONCATENATE($V$68,\"_\",W77),選手名簿!$A:$E,5,FALSE))","v":""},null,null,null,null,null,null,null,{"$f":"IF(ISERROR(VLOOKUP(CONCATENATE($AD$68,\"_\",AC77),選手名簿!$A:$E,5,FALSE))=TRUE,\"\",VLOOKUP(CONCATENATE($AD$68,\"_\",AC77),選手名簿!$A:$E,5,FALSE))","v":""}]
[null,null,null,null,"得点者",{"$f":"IF(ISERROR(VLOOKUP(CONCATENATE($F$68,\"_\",G78),選手名簿!$A:$E,5,FALSE))=TRUE,\"\",VLOOKUP(CONCATENATE($F$68,\"_\",G78),選手名簿!$A:$E,5,FALSE))","v":""},null,null,null,null,null,null,null,{"$f":"IF(ISERROR(VLOOKUP(CONCATENATE($N$68,\"_\",M78),選手名簿!$A:$E,5,FALSE))=TRUE,\"\",VLOOKUP(CONCATENATE($N$68,\"_\",M78),選手名簿!$A:$E,5,FALSE))","v":""},null,null,null,null,null,null,"得点者",{"$f":"IF(ISERROR(VLOOKUP(CONCATENATE($V$68,\"_\",W78),選手名簿!$A:$E,5,FALSE))=TRUE,\"\",VLOOKUP(CONCATENATE($V$68,\"_\",W78),選手名簿!$A:$E,5,FALSE))","v":""},null,null,null,null,null,null,null,{"$f":"IF(ISERROR(VLOOKUP(CONCATENATE($AD$68,\"_\",AC78),選手名簿!$A:$E,5,FALSE))=TRUE,\"\",VLOOKUP(CONCATENATE($AD$68,\"_\",AC78),選手名簿!$A:$E,5,FALSE))","v":""}]
[null,null,null,null,"得点者",{"$f":"IF(ISERROR(VLOOKUP(CONCATENATE($F$68,\"_\",G79),選手名簿!$A:$E,5,FALSE))=TRUE,\"\",VLOOKUP(CONCATENATE($F$68,\"_\",G79),選手名簿!$A:$E,5,FALSE))","v":""},null,null,null,null,null,null,null,{"$f":"IF(ISERROR(VLOOKUP(CONCATENATE($N$68,\"_\",M79),選手名簿!$A:$E,5,FALSE))=TRUE,\"\",VLOOKUP(CONCATENATE($N$68,\"_\",M79),選手名簿!$A:$E,5,FALSE))","v":""},null,null,null,null,null,null,"得点者",{"$f":"IF(ISERROR(VLOOKUP(CONCATENATE($V$68,\"_\",W79),選手名簿!$A:$E,5,FALSE))=TRUE,\"\",VLOOKUP(CONCATENATE($V$68,\"_\",W79),選手名簿!$A:$E,5,FALSE))","v":""},null,null,null,null,null,null,null,{"$f":"IF(ISERROR(VLOOKUP(CONCATENATE($AD$68,\"_\",AC79),選手名簿!$A:$E,5,FALSE))=TRUE,\"\",VLOOKUP(CONCATENATE($AD$68,\"_\",AC79),選手名簿!$A:$E,5,FALSE))","v":""}]
[null,null,null,null,"得点者",{"$f":"IF(ISERROR(VLOOKUP(CONCATENATE($F$68,\"_\",G80),選手名簿!$A:$E,5,FALSE))=TRUE,\"\",VLOOKUP(CONCATENATE($F$68,\"_\",G80),選手名簿!$A:$E,5,FALSE))","v":""},null,null,null,null,null,null,null,{"$f":"IF(ISERROR(VLOOKUP(CONCATENATE($N$68,\"_\",M80),選手名簿!$A:$E,5,FALSE))=TRUE,\"\",VLOOKUP(CONCATENATE($N$68,\"_\",M80),選手名簿!$A:$E,5,FALSE))","v":""},null,null,null,null,null,null,"得点者",{"$f":"IF(ISERROR(VLOOKUP(CONCATENATE($V$68,\"_\",W80),選手名簿!$A:$E,5,FALSE))=TRUE,\"\",VLOOKUP(CONCATENATE($V$68,\"_\",W80),選手名簿!$A:$E,5,FALSE))","v":""},null,null,null,null,null,null,null,{"$f":"IF(ISERROR(VLOOKUP(CONCATENATE($AD$68,\"_\",AC80),選手名簿!$A:$E,5,FALSE))=TRUE,\"\",VLOOKUP(CONCATENATE($AD$68,\"_\",AC80),選手名簿!$A:$E,5,FALSE))","v":""}]
[null,null,null,null,"得点者",{"$f":"IF(ISERROR(VLOOKUP(CONCATENATE($F$68,\"_\",G81),選手名簿!$A:$E,5,FALSE))=TRUE,\"\",VLOOKUP(CONCATENATE($F$68,\"_\",G81),選手名簿!$A:$E,5,FALSE))","v":""},null,null,null,null,null,null,null,{"$f":"IF(ISERROR(VLOOKUP(CONCATENATE($N$68,\"_\",M81),選手名簿!$A:$E,5,FALSE))=TRUE,\"\",VLOOKUP(CONCATENATE($N$68,\"_\",M81),選手名簿!$A:$E,5,FALSE))","v":""},null,null,null,null,null,null,"得点者",{"$f":"IF(ISERROR(VLOOKUP(CONCATENATE($V$68,\"_\",W81),選手名簿!$A:$E,5,FALSE))=TRUE,\"\",VLOOKUP(CONCATENATE($V$68,\"_\",W81),選手名簿!$A:$E,5,FALSE))","v":""},null,null,null,null,null,null,null,{"$f":"IF(ISERROR(VLOOKUP(CONCATENATE($AD$68,\"_\",AC81),選手名簿!$A:$E,5,FALSE))=TRUE,\"\",VLOOKUP(CONCATENATE($AD$68,\"_\",AC81),選手名簿!$A:$E,5,FALSE))","v":""}]
["番号","R010382275",null,null,null,{"$f":"IF(ISERROR(VLOOKUP(CONCATENATE($F$68,\"_\",G82),選手名簿!$A:$E,5,FALSE))=TRUE,\"\",VLOOKUP(CONCATENATE($F$68,\"_\",G82),選手名簿!$A:$E,5,FALSE))","v":""},null,null,null,null,null,null,null,{"$f":"IF(ISERROR(VLOOKUP(CONCATENATE($N$68,\"_\",M82),選手名簿!$A:$E,5,FALSE))=TRUE,\"\",VLOOKUP(CONCATENATE($N$68,\"_\",M82),選手名簿!$A:$E,5,FALSE))","v":""},null,null,"番号","R009408904",null,null,null,{"$f":"IF(ISERROR(VLOOKUP(CONCATENATE($V$68,\"_\",W82),選手名簿!$A:$E,5,FALSE))=TRUE,\"\",VLOOKUP(CONCATENATE($V$68,\"_\",W82),選手名簿!$A:$E,5,FALSE))","v":""},null,null,null,null,null,null,null,{"$f":"IF(ISERROR(VLOOKUP(CONCATENATE($AD$68,\"_\",AC82),選手名簿!$A:$E,5,FALSE))=TRUE,\"\",VLOOKUP(CONCATENATE($AD$68,\"_\",AC82),選手名簿!$A:$E,5,FALSE))","v":""}]
["R",{"$f":"IF(ISERROR(VLOOKUP(B82,審判員!$A:$C,2,FALSE))=TRUE,\"\",VLOOKUP(B82,審判員!$A:$C,2,FALSE))","v":"中村　友海"},null,{"$f":"IF(ISERROR(VLOOKUP(B82,審判員!$A:$C,3,FALSE))=TRUE,\"\",VLOOKUP(B82,審判員!$A:$C,3,FALSE))","v":"３級"},null,{"$f":"IF(ISERROR(VLOOKUP(CONCATENATE($F$68,\"_\",G83),選手名簿!$A:$E,5,FALSE))=TRUE,\"\",VLOOKUP(CONCATENATE($F$68,\"_\",G83),選手名簿!$A:$E,5,FALSE))","v":""},null,null,null,null,null,null,null,{"$f":"IF(ISERROR(VLOOKUP(CONCATENATE($N$68,\"_\",M83),選手名簿!$A:$E,5,FALSE))=TRUE,\"\",VLOOKUP(CONCATENATE($N$68,\"_\",M83),選手名簿!$A:$E,5,FALSE))","v":""},null,null,"R",{"$f":"IF(ISERROR(VLOOKUP(R82,審判員!$A:$C,2,FALSE))=TRUE,\"\",VLOOKUP(R82,審判員!$A:$C,2,FALSE))","v":"石井　洋平"},null,{"$f":"IF(ISERROR(VLOOKUP(R82,審判員!$A:$C,3,FALSE))=TRUE,\"\",VLOOKUP(R82,審判員!$A:$C,3,FALSE))","v":"３級"},null,{"$f":"IF(ISERROR(VLOOKUP(CONCATENATE($V$68,\"_\",W83),選手名簿!$A:$E,5,FALSE))=TRUE,\"\",VLOOKUP(CONCATENATE($V$68,\"_\",W83),選手名簿!$A:$E,5,FALSE))","v":""},null,null,null,null,null,null,null,{"$f":"IF(ISERROR(VLOOKUP(CONCATENATE($AD$68,\"_\",AC83),選手名簿!$A:$E,5,FALSE))=TRUE,\"\",VLOOKUP(CONCATENATE($AD$68,\"_\",AC83),選手名簿!$A:$E,5,FALSE))","v":""}]
["番号","R001254051",null,null,null,{"$f":"IF(ISERROR(VLOOKUP(CONCATENATE($F$68,\"_\",G84),選手名簿!$A:$E,5,FALSE))=TRUE,\"\",VLOOKUP(CONCATENATE($F$68,\"_\",G84),選手名簿!$A:$E,5,FALSE))","v":""},null,null,null,null,null,null,null,{"$f":"IF(ISERROR(VLOOKUP(CONCATENATE($N$68,\"_\",M84),選手名簿!$A:$E,5,FALSE))=TRUE,\"\",VLOOKUP(CONCATENATE($N$68,\"_\",M84),選手名簿!$A:$E,5,FALSE))","v":""},null,null,"番号","R006093738",null,null,null,{"$f":"IF(ISERROR(VLOOKUP(CONCATENATE($V$68,\"_\",W84),選手名簿!$A:$E,5,FALSE))=TRUE,\"\",VLOOKUP(CONCATENATE($V$68,\"_\",W84),選手名簿!$A:$E,5,FALSE))","v":""},null,null,null,null,null,null,null,{"$f":"IF(ISERROR(VLOOKUP(CONCATENATE($AD$68,\"_\",AC84),選手名簿!$A:$E,5,FALSE))=TRUE,\"\",VLOOKUP(CONCATENATE($AD$68,\"_\",AC84),選手名簿!$A:$E,5,FALSE))","v":""}]
["AR1:",{"$f":"IF(ISERROR(VLOOKUP(B84,審判員!$A:$C,2,FALSE))=TRUE,\"\",VLOOKUP(B84,審判員!$A:$C,2,FALSE))","v":"井上　直樹"},null,{"$f":"IF(ISERROR(VLOOKUP(B84,審判員!$A:$C,3,FALSE))=TRUE,\"\",VLOOKUP(B84,審判員!$A:$C,3,FALSE))","v":"３級"},null,{"$f":"IF(ISERROR(VLOOKUP(CONCATENATE($F$68,\"_\",G85),選手名簿!$A:$E,5,FALSE))=TRUE,\"\",VLOOKUP(CONCATENATE($F$68,\"_\",G85),選手名簿!$A:$E,5,FALSE))","v":""},null,null,null,null,null,null,null,{"$f":"IF(ISERROR(VLOOKUP(CONCATENATE($N$68,\"_\",M85),選手名簿!$A:$E,5,FALSE))=TRUE,\"\",VLOOKUP(CONCATENATE($N$68,\"_\",M85),選手名簿!$A:$E,5,FALSE))","v":""},null,null,"AR1:",{"$f":"IF(ISERROR(VLOOKUP(R84,審判員!$A:$C,2,FALSE))=TRUE,\"\",VLOOKUP(R84,審判員!$A:$C,2,FALSE))","v":"大谷　伸二"},null,{"$f":"IF(ISERROR(VLOOKUP(R84,審判員!$A:$C,3,FALSE))=TRUE,\"\",VLOOKUP(R84,審判員!$A:$C,3,FALSE))","v":"３級"},null,{"$f":"IF(ISERROR(VLOOKUP(CONCATENATE($V$68,\"_\",W85),選手名簿!$A:$E,5,FALSE))=TRUE,\"\",VLOOKUP(CONCATENATE($V$68,\"_\",W85),選手名簿!$A:$E,5,FALSE))","v":""},null,null,null,null,null,null,null,{"$f":"IF(ISERROR(VLOOKUP(CONCATENATE($AD$68,\"_\",AC85),選手名簿!$A:$E,5,FALSE))=TRUE,\"\",VLOOKUP(CONCATENATE($AD$68,\"_\",AC85),選手名簿!$A:$E,5,FALSE))","v":""}]
["番号","R003421161",null,null,null,{"$f":"IF(ISERROR(VLOOKUP(CONCATENATE($F$68,\"_\",G86),選手名簿!$A:$E,5,FALSE))=TRUE,\"\",VLOOKUP(CONCATENATE($F$68,\"_\",G86),選手名簿!$A:$E,5,FALSE))","v":""},null,null,null,null,null,null,null,{"$f":"IF(ISERROR(VLOOKUP(CONCATENATE($N$68,\"_\",M86),選手名簿!$A:$E,5,FALSE))=TRUE,\"\",VLOOKUP(CONCATENATE($N$68,\"_\",M86),選手名簿!$A:$E,5,FALSE))","v":""},null,null,"番号","R006910259",null,null,null,{"$f":"IF(ISERROR(VLOOKUP(CONCATENATE($V$68,\"_\",W86),選手名簿!$A:$E,5,FALSE))=TRUE,\"\",VLOOKUP(CONCATENATE($V$68,\"_\",W86),選手名簿!$A:$E,5,FALSE))","v":""},null,null,null,null,null,null,null,{"$f":"IF(ISERROR(VLOOKUP(CONCATENATE($AD$68,\"_\",AC86),選手名簿!$A:$E,5,FALSE))=TRUE,\"\",VLOOKUP(CONCATENATE($AD$68,\"_\",AC86),選手名簿!$A:$E,5,FALSE))","v":""}]
["AR2:",{"$f":"IF(ISERROR(VLOOKUP(B86,審判員!$A:$C,2,FALSE))=TRUE,\"\",VLOOKUP(B86,審判員!$A:$C,2,FALSE))","v":"永路　尚道"},null,{"$f":"IF(ISERROR(VLOOKUP(B86,審判員!$A:$C,3,FALSE))=TRUE,\"\",VLOOKUP(B86,審判員!$A:$C,3,FALSE))","v":"３級"},null,{"$f":"IF(ISERROR(VLOOKUP(CONCATENATE($F$68,\"_\",G87),選手名簿!$A:$E,5,FALSE))=TRUE,\"\",VLOOKUP(CONCATENATE($F$68,\"_\",G87),選手名簿!$A:$E,5,FALSE))","v":""},null,null,null,null,null,null,null,{"$f":"IF(ISERROR(VLOOKUP(CONCATENATE($N$68,\"_\",M87),選手名簿!$A:$E,5,FALSE))=TRUE,\"\",VLOOKUP(CONCATENATE($N$68,\"_\",M87),選手名簿!$A:$E,5,FALSE))","v":""},null,null,"AR2:",{"$f":"IF(ISERROR(VLOOKUP(R86,審判員!$A:$C,2,FALSE))=TRUE,\"\",VLOOKUP(R86,審判員!$A:$C,2,FALSE))","v":"下原　優一"},null,{"$f":"IF(ISERROR(VLOOKUP(R86,審判員!$A:$C,3,FALSE))=TRUE,\"\",VLOOKUP(R86,審判員!$A:$C,3,FALSE))","v":"３級"},null,{"$f":"IF(ISERROR(VLOOKUP(CONCATENATE($V$68,\"_\",W87),選手名簿!$A:$E,5,FALSE))=TRUE,\"\",VLOOKUP(CONCATENATE($V$68,\"_\",W87),選手名簿!$A:$E,5,FALSE))","v":""},null,null,null,null,null,null,null,{"$f":"IF(ISERROR(VLOOKUP(CONCATENATE($AD$68,\"_\",AC87),選手名簿!$A:$E,5,FALSE))=TRUE,\"\",VLOOKUP(CONCATENATE($AD$68,\"_\",AC87),選手名簿!$A:$E,5,FALSE))","v":""}]
["番号","R009408904",null,null,null,{"$f":"IF(ISERROR(VLOOKUP(CONCATENATE($F$68,\"_\",G88),選手名簿!$A:$E,5,FALSE))=TRUE,\"\",VLOOKUP(CONCATENATE($F$68,\"_\",G88),選手名簿!$A:$E,5,FALSE))","v":""},null,null,null,null,null,null,null,{"$f":"IF(ISERROR(VLOOKUP(CONCATENATE($N$68,\"_\",M88),選手名簿!$A:$E,5,FALSE))=TRUE,\"\",VLOOKUP(CONCATENATE($N$68,\"_\",M88),選手名簿!$A:$E,5,FALSE))","v":""},null,null,"番号","R009546055",null,null,null,{"$f":"IF(ISERROR(VLOOKUP(CONCATENATE($V$68,\"_\",W88),選手名簿!$A:$E,5,FALSE))=TRUE,\"\",VLOOKUP(CONCATENATE($V$68,\"_\",W88),選手名簿!$A:$E,5,FALSE))","v":""},null,null,null,null,null,null,null,{"$f":"IF(ISERROR(VLOOKUP(CONCATENATE($AD$68,\"_\",AC88),選手名簿!$A:$E,5,FALSE))=TRUE,\"\",VLOOKUP(CONCATENATE($AD$68,\"_\",AC88),選手名簿!$A:$E,5,FALSE))","v":""}]
["4th:",{"$f":"IF(ISERROR(VLOOKUP(B88,審判員!$A:$C,2,FALSE))=TRUE,\"\",VLOOKUP(B88,審判員!$A:$C,2,FALSE))","v":"石井　洋平"},null,{"$f":"IF(ISERROR(VLOOKUP(B88,審判員!$A:$C,3,FALSE))=TRUE,\"\",VLOOKUP(B88,審判員!$A:$C,3,FALSE))","v":"３級"},null,{"$f":"IF(ISERROR(VLOOKUP(CONCATENATE($F$68,\"_\",G89),選手名簿!$A:$E,5,FALSE))=TRUE,\"\",VLOOKUP(CONCATENATE($F$68,\"_\",G89),選手名簿!$A:$E,5,FALSE))","v":""},null,null,null,null,null,null,null,{"$f":"IF(ISERROR(VLOOKUP(CONCATENATE($N$68,\"_\",M89),選手名簿!$A:$E,5,FALSE))=TRUE,\"\",VLOOKUP(CONCATENATE($N$68,\"_\",M89),選手名簿!$A:$E,5,FALSE))","v":""},null,null,"4th:",{"$f":"IF(ISERROR(VLOOKUP(R88,審判員!$A:$C,2,FALSE))=TRUE,\"\",VLOOKUP(R88,審判員!$A:$C,2,FALSE))","v":"吐合　直樹"},null,{"$f":"IF(ISERROR(VLOOKUP(R88,審判員!$A:$C,3,FALSE))=TRUE,\"\",VLOOKUP(R88,審判員!$A:$C,3,FALSE))","v":"３級"},null,{"$f":"IF(ISERROR(VLOOKUP(CONCATENATE($V$68,\"_\",W89),選手名簿!$A:$E,5,FALSE))=TRUE,\"\",VLOOKUP(CONCATENATE($V$68,\"_\",W89),選手名簿!$A:$E,5,FALSE))","v":""},null,null,null,null,null,null,null,{"$f":"IF(ISERROR(VLOOKUP(CONCATENATE($AD$68,\"_\",AC89),選手名簿!$A:$E,5,FALSE))=TRUE,\"\",VLOOKUP(CONCATENATE($AD$68,\"_\",AC89),選手名簿!$A:$E,5,FALSE))","v":""}]

{"sheet":"予選リーグ公式記録(A南)","index":9,"n_rows":89,"n_cols":31,"rows_kept":89,"cut":false,"hidden":false,"merged":[[6,5,6,11],[23,1,23,3],[24,1,24,2],[38,20,40,20],[38,21,40,21],[9,7,11,7],[9,11,11,11],[9,4,11,4],[9,5,11,5],[23,17,23,19],[9,6,11,6],[38,4,40,4],[9,20,11,20],[9,21,11,21],[6,12,6,13],[9,12,11,12],[9,13,11,13],[24,17,24,18],[29,1,29,3],[29,17,29,19],[30,1,30,2],[30,17,30,18],[25,1,25,3],[25,17,25,19],[4,12,4,13],[4,5,4,11],[5,5,5,11],[5,12,5,13],[4,21,4,27],[0,0,0,9],[0,10,0,13],[0,16,0,25],[0,26,0,29],[9,27,11,27],[9,28,11,28],[9,29,11,29],[9,22,11,22],[5,21,5,27],[6,21,6,27],[4,28,4,29],[5,28,5,29],[6,28,6,29],[9,23,11,23],[38,23,40,23],[38,27,40,27],[38,28,40,28],[38,29,40,29],[52,1,52,3],[52,17,52,19],[38,5,40,5],[38,6,40,6],[38,7,40,7],[38,11,40,11],[38,12,40,12],[38,13,40,13],[38,22,40,22],[39,17,39,19],[40,17,40,19],[39,1,39,3],[40,1,40,3],[38,1,38,3],[38,17,38,19],[67,20,69,20],[67,21,69,21],[67,22,69,22],[67,4,69,4],[67,5,69,5],[67,6,69,6],[67,7,69,7],[67,11,69,11],[70,0,70,3],[70,16,70,19],[67,12,69,12],[67,13,69,13],[67,14,69,14],[68,1,68,3],[69,1,69,3],[68,17,68,19],[69,17,69,19],[67,1,67,3],[67,17,67,19],[88,1,88,2],[88,17,88,18],[84,1,84,2],[84,17,84,18],[85,1,85,3],[85,17,85,19],[86,1,86,2],[86,17,86,18],[81,1,81,3],[81,17,81,19],[82,1,82,2],[82,17,82,18],[83,1,83,3],[83,17,83,19],[59,17,59,18],[57,1,57,2],[57,17,57,18],[58,1,58,3],[58,17,58,19],[9,14,11,14],[38,14,40,14],[87,1,87,3],[87,17,87,19],[27,1,27,3],[27,17,27,19],[10,1,10,3],[11,1,11,3],[10,17,10,19],[11,17,11,19],[9,1,9,3],[9,17,9,19],[9,30,11,30],[38,30,40,30],[67,30,69,30],[12,0,12,3],[12,16,12,19],[41,0,41,3],[41,16,41,19],[53,1,53,2],[53,17,53,18],[54,1,54,3],[54,17,54,19],[55,1,55,2],[55,17,55,18],[28,1,28,2],[28,17,28,18],[67,29,69,29],[67,23,69,23],[67,27,69,27],[67,28,69,28],[26,1,26,2],[26,17,26,18],[56,1,56,3],[56,17,56,19],[59,1,59,2]]}
[{"$f":"要項!C2","v":"OFA 第 31 回 大分県ジュニアサッカー選手権大会"},null,null,null,null,null,null,null,null,null,"予選リーグ結果　報告用紙",null,null,null,null,null,{"$f":"要項!C2","v":"OFA 第 31 回 大分県ジュニアサッカー選手権大会"},null,null,null,null,null,null,null,null,null,"予選リーグ結果　報告用紙"]
[]
["会場","大分県大分スポーツ公園　 昭和電工サッカー・ラグビー場　A　南側",null,null,null,null,null,null,null,null,null,null,null,null,null,null,null,"会場","大分県大分スポーツ公園　 昭和電工サッカー・ラグビー場　A　南側"]
[]
[null,null,null,null,"B1",{"$f":"VLOOKUP(E5,組合せ抽選用!$Q:$U,5,FALSE)","v":"ブルーウイングフットボールクラブ"},null,null,null,null,null,null,{"$f":"VLOOKUP(E5,組合せ抽選用!$Q:$V,6,FALSE)","v":"大分"},null,null,null,null,null,null,null,"D1",{"$f":"VLOOKUP(U5,組合せ抽選用!$Q:$U,5,FALSE)","v":"ドリームキッズフットボールクラブ"},null,null,null,null,null,null,{"$f":"VLOOKUP(U5,組合せ抽選用!$Q:$V,6,FALSE)","v":"大分"}]
[null,null,null,null,"B2",{"$f":"VLOOKUP(E6,組合せ抽選用!$Q:$U,5,FALSE)","v":"カティオーラフットボールクラブＵ－１２"},null,null,null,null,null,null,{"$f":"VLOOKUP(E6,組合せ抽選用!$Q:$V,6,FALSE)","v":"大分"},null,null,null,null,null,null,null,"D2",{"$f":"VLOOKUP(U6,組合せ抽選用!$Q:$U,5,FALSE)","v":"ＭＳＳ"},null,null,null,null,null,null,{"$f":"VLOOKUP(U6,組合せ抽選用!$Q:$V,6,FALSE)","v":"大分"}]
[null,null,null,null,"B3",{"$f":"VLOOKUP(E7,組合せ抽選用!$Q:$U,5,FALSE)","v":"ＦＣ安岐"},null,null,null,null,null,null,{"$f":"VLOOKUP(E7,組合せ抽選用!$Q:$V,6,FALSE)","v":"速杵国東"},null,null,null,null,null,null,null,"D3",{"$f":"VLOOKUP(U7,組合せ抽選用!$Q:$U,5,FALSE)","v":"ＦＣ大野"},null,null,null,null,null,null,{"$f":"VLOOKUP(U7,組合せ抽選用!$Q:$V,6,FALSE)","v":"豊肥"}]
[]
[]
["MC","伊東　雅弘",null,null,{"$f":"予選リーグ!B19","v":"10:00:00"},{"$f":"F5","v":"ブルーウイングフットボールクラブ"},{"$f":"SUM(I10:I11)","v":0},"（",0,"前半",0,"）",{"$f":"SUM(K10:K11)","v":2},{"$f":"F6","v":"カティオーラフットボールクラブＵ－１２"},null,null,"MC","平尾　彰敏",null,null,{"$f":"予選リーグ!B21","v":"10:50:00"},{"$f":"V5","v":"ドリームキッズフットボールクラブ"},{"$f":"SUM(Y10:Y11)","v":2},"（",1,"前半",1,"）",{"$f":"SUM(AA10:AA11)","v":1},{"$f":"V6","v":"ＭＳＳ"}]
["Welfare\nOfficer",null,null,null,null,null,null,null,0,"後半",2,null,null,null,null,null,"Welfare\nOfficer",null,null,null,null,null,null,null,1,"後半",0]
["記録","後藤　寿",null,null,null,null,null,null,null,"PK",null,null,null,null,null,null,"記録","笠野　わかこ",null,null,null,null,null,null,null,"PK"]
["＜Referee＞",null,null,null,"警告/退場\n選択肢より","氏名","番号","分","内容\n選択肢より",null,"内容\n選択肢より","分","番号","氏名","警告/退場\n選択肢より",null,"＜Referee＞",null,null,null,"警告/退場\n選択肢より","氏名","番号","分","内容\n選択肢より",null,"内容\n選択肢より","分","番号","氏名","警告/退場\n選択肢より"]
[null,null,null,null,"得点者",{"$f":"IF(ISERROR(VLOOKUP(CONCATENATE($F$10,\"_\",G14),選手名簿!$A:$E,5,FALSE))=TRUE,\"\",VLOOKUP(CONCATENATE($F$10,\"_\",G14),選手名簿!$A:$E,5,FALSE))","v":""},null,null,null,null,null,null,null,{"$f":"IF(ISERROR(VLOOKUP(CONCATENATE($N$10,\"_\",M14),選手名簿!$A:$E,5,FALSE))=TRUE,\"\",VLOOKUP(CONCATENATE($N$10,\"_\",M14),選手名簿!$A:$E,5,FALSE))","v":""},null,null,null,null,null,null,"得点者",{"$f":"IF(ISERROR(VLOOKUP(CONCATENATE($V$10,\"_\",W14),選手名簿!$A:$E,5,FALSE))=TRUE,\"\",VLOOKUP(CONCATENATE($V$10,\"_\",W14),選手名簿!$A:$E,5,FALSE))","v":""},null,null,null,null,null,5,10,{"$f":"IF(ISERROR(VLOOKUP(CONCATENATE($AD$10,\"_\",AC14),選手名簿!$A:$E,5,FALSE))=TRUE,\"\",VLOOKUP(CONCATENATE($AD$10,\"_\",AC14),選手名簿!$A:$E,5,FALSE))","v":"石川　遥大"}]
[null,null,null,null,"得点者",{"$f":"IF(ISERROR(VLOOKUP(CONCATENATE($F$10,\"_\",G15),選手名簿!$A:$E,5,FALSE))=TRUE,\"\",VLOOKUP(CONCATENATE($F$10,\"_\",G15),選手名簿!$A:$E,5,FALSE))","v":""},null,null,null,null,null,null,null,{"$f":"IF(ISERROR(VLOOKUP(CONCATENATE($N$10,\"_\",M15),選手名簿!$A:$E,5,FALSE))=TRUE,\"\",VLOOKUP(CONCATENATE($N$10,\"_\",M15),選手名簿!$A:$E,5,FALSE))","v":""},null,null,null,null,null,null,"得点者",{"$f":"IF(ISERROR(VLOOKUP(CONCATENATE($V$10,\"_\",W15),選手名簿!$A:$E,5,FALSE))=TRUE,\"\",VLOOKUP(CONCATENATE($V$10,\"_\",W15),選手名簿!$A:$E,5,FALSE))","v":""},null,null,null,null,null,null,null,{"$f":"IF(ISERROR(VLOOKUP(CONCATENATE($AD$10,\"_\",AC15),選手名簿!$A:$E,5,FALSE))=TRUE,\"\",VLOOKUP(CONCATENATE($AD$10,\"_\",AC15),選手名簿!$A:$E,5,FALSE))","v":""}]
[null,null,null,null,"得点者",{"$f":"IF(ISERROR(VLOOKUP(CONCATENATE($F$10,\"_\",G16),選手名簿!$A:$E,5,FALSE))=TRUE,\"\",VLOOKUP(CONCATENATE($F$10,\"_\",G16),選手名簿!$A:$E,5,FALSE))","v":""},null,null,null,null,null,null,null,{"$f":"IF(ISERROR(VLOOKUP(CONCATENATE($N$10,\"_\",M16),選手名簿!$A:$E,5,FALSE))=TRUE,\"\",VLOOKUP(CONCATENATE($N$10,\"_\",M16),選手名簿!$A:$E,5,FALSE))","v":""},null,null,null,null,null,null,"得点者",{"$f":"IF(ISERROR(VLOOKUP(CONCATENATE($V$10,\"_\",W16),選手名簿!$A:$E,5,FALSE))=TRUE,\"\",VLOOKUP(CONCATENATE($V$10,\"_\",W16),選手名簿!$A:$E,5,FALSE))","v":""},null,null,null,null,null,null,null,{"$f":"IF(ISERROR(VLOOKUP(CONCATENATE($AD$10,\"_\",AC16),選手名簿!$A:$E,5,FALSE))=TRUE,\"\",VLOOKUP(CONCATENATE($AD$10,\"_\",AC16),選手名簿!$A:$E,5,FALSE))","v":""}]
[null,null,null,null,"得点者",{"$f":"IF(ISERROR(VLOOKUP(CONCATENATE($F$10,\"_\",G17),選手名簿!$A:$E,5,FALSE))=TRUE,\"\",VLOOKUP(CONCATENATE($F$10,\"_\",G17),選手名簿!$A:$E,5,FALSE))","v":""},null,null,null,null,null,null,null,{"$f":"IF(ISERROR(VLOOKUP(CONCATENATE($N$10,\"_\",M17),選手名簿!$A:$E,5,FALSE))=TRUE,\"\",VLOOKUP(CONCATENATE($N$10,\"_\",M17),選手名簿!$A:$E,5,FALSE))","v":""},null,null,null,null,null,null,"得点者",{"$f":"IF(ISERROR(VLOOKUP(CONCATENATE($V$10,\"_\",W17),選手名簿!$A:$E,5,FALSE))=TRUE,\"\",VLOOKUP(CONCATENATE($V$10,\"_\",W17),選手名簿!$A:$E,5,FALSE))","v":""},null,null,null,null,null,null,null,{"$f":"IF(ISERROR(VLOOKUP(CONCATENATE($AD$10,\"_\",AC17),選手名簿!$A:$E,5,FALSE))=TRUE,\"\",VLOOKUP(CONCATENATE($AD$10,\"_\",AC17),選手名簿!$A:$E,5,FALSE))","v":""}]
[null,null,null,null,"得点者",{"$f":"IF(ISERROR(VLOOKUP(CONCATENATE($F$10,\"_\",G18),選手名簿!$A:$E,5,FALSE))=TRUE,\"\",VLOOKUP(CONCATENATE($F$10,\"_\",G18),選手名簿!$A:$E,5,FALSE))","v":""},null,null,null,null,null,null,null,{"$f":"IF(ISERROR(VLOOKUP(CONCATENATE($N$10,\"_\",M18),選手名簿!$A:$E,5,FALSE))=TRUE,\"\",VLOOKUP(CONCATENATE($N$10,\"_\",M18),選手名簿!$A:$E,5,FALSE))","v":""},null,null,null,null,null,null,"得点者",{"$f":"IF(ISERROR(VLOOKUP(CONCATENATE($V$10,\"_\",W18),選手名簿!$A:$E,5,FALSE))=TRUE,\"\",VLOOKUP(CONCATENATE($V$10,\"_\",W18),選手名簿!$A:$E,5,FALSE))","v":""},null,null,null,null,null,null,null,{"$f":"IF(ISERROR(VLOOKUP(CONCATENATE($AD$10,\"_\",AC18),選手名簿!$A:$E,5,FALSE))=TRUE,\"\",VLOOKUP(CONCATENATE($AD$10,\"_\",AC18),選手名簿!$A:$E,5,FALSE))","v":""}]
[null,null,null,null,"得点者",{"$f":"IF(ISERROR(VLOOKUP(CONCATENATE($F$10,\"_\",G19),選手名簿!$A:$E,5,FALSE))=TRUE,\"\",VLOOKUP(CONCATENATE($F$10,\"_\",G19),選手名簿!$A:$E,5,FALSE))","v":""},null,null,null,null,null,null,null,{"$f":"IF(ISERROR(VLOOKUP(CONCATENATE($N$10,\"_\",M19),選手名簿!$A:$E,5,FALSE))=TRUE,\"\",VLOOKUP(CONCATENATE($N$10,\"_\",M19),選手名簿!$A:$E,5,FALSE))","v":""},null,null,null,null,null,null,"得点者",{"$f":"IF(ISERROR(VLOOKUP(CONCATENATE($V$10,\"_\",W19),選手名簿!$A:$E,5,FALSE))=TRUE,\"\",VLOOKUP(CONCATENATE($V$10,\"_\",W19),選手名簿!$A:$E,5,FALSE))","v":""},null,null,null,null,null,null,null,{"$f":"IF(ISERROR(VLOOKUP(CONCATENATE($AD$10,\"_\",AC19),選手名簿!$A:$E,5,FALSE))=TRUE,\"\",VLOOKUP(CONCATENATE($AD$10,\"_\",AC19),選手名簿!$A:$E,5,FALSE))","v":""}]
[null,null,null,null,"得点者",{"$f":"IF(ISERROR(VLOOKUP(CONCATENATE($F$10,\"_\",G20),選手名簿!$A:$E,5,FALSE))=TRUE,\"\",VLOOKUP(CONCATENATE($F$10,\"_\",G20),選手名簿!$A:$E,5,FALSE))","v":""},null,null,null,null,null,null,null,{"$f":"IF(ISERROR(VLOOKUP(CONCATENATE($N$10,\"_\",M20),選手名簿!$A:$E,5,FALSE))=TRUE,\"\",VLOOKUP(CONCATENATE($N$10,\"_\",M20),選手名簿!$A:$E,5,FALSE))","v":""},null,null,null,null,null,null,"得点者",{"$f":"IF(ISERROR(VLOOKUP(CONCATENATE($V$10,\"_\",W20),選手名簿!$A:$E,5,FALSE))=TRUE,\"\",VLOOKUP(CONCATENATE($V$10,\"_\",W20),選手名簿!$A:$E,5,FALSE))","v":""},null,null,null,null,null,null,null,{"$f":"IF(ISERROR(VLOOKUP(CONCATENATE($AD$10,\"_\",AC20),選手名簿!$A:$E,5,FALSE))=TRUE,\"\",VLOOKUP(CONCATENATE($AD$10,\"_\",AC20),選手名簿!$A:$E,5,FALSE))","v":""}]
[null,null,null,null,"得点者",{"$f":"IF(ISERROR(VLOOKUP(CONCATENATE($F$10,\"_\",G21),選手名簿!$A:$E,5,FALSE))=TRUE,\"\",VLOOKUP(CONCATENATE($F$10,\"_\",G21),選手名簿!$A:$E,5,FALSE))","v":""},null,null,null,null,null,null,null,{"$f":"IF(ISERROR(VLOOKUP(CONCATENATE($N$10,\"_\",M21),選手名簿!$A:$E,5,FALSE))=TRUE,\"\",VLOOKUP(CONCATENATE($N$10,\"_\",M21),選手名簿!$A:$E,5,FALSE))","v":""},null,null,null,null,null,null,"得点者",{"$f":"IF(ISERROR(VLOOKUP(CONCATENATE($V$10,\"_\",W21),選手名簿!$A:$E,5,FALSE))=TRUE,\"\",VLOOKUP(CONCATENATE($V$10,\"_\",W21),選手名簿!$A:$E,5,FALSE))","v":""},null,null,null,null,null,null,null,{"$f":"IF(ISERROR(VLOOKUP(CONCATENATE($AD$10,\"_\",AC21),選手名簿!$A:$E,5,FALSE))=TRUE,\"\",VLOOKUP(CONCATENATE($AD$10,\"_\",AC21),選手名簿!$A:$E,5,FALSE))","v":""}]
[null,null,null,null,"得点者",{"$f":"IF(ISERROR(VLOOKUP(CONCATENATE($F$10,\"_\",G22),選手名簿!$A:$E,5,FALSE))=TRUE,\"\",VLOOKUP(CONCATENATE($F$10,\"_\",G22),選手名簿!$A:$E,5,FALSE))","v":""},null,null,null,null,null,null,null,{"$f":"IF(ISERROR(VLOOKUP(CONCATENATE($N$10,\"_\",M22),選手名簿!$A:$E,5,FALSE))=TRUE,\"\",VLOOKUP(CONCATENATE($N$10,\"_\",M22),選手名簿!$A:$E,5,FALSE))","v":""},null,null,null,null,null,null,"得点者",{"$f":"IF(ISERROR(VLOOKUP(CONCATENATE($V$10,\"_\",W22),選手名簿!$A:$E,5,FALSE))=TRUE,\"\",VLOOKUP(CONCATENATE($V$10,\"_\",W22),選手名簿!$A:$E,5,FALSE))","v":""},null,null,null,null,null,null,null,{"$f":"IF(ISERROR(VLOOKUP(CONCATENATE($AD$10,\"_\",AC22),選手名簿!$A:$E,5,FALSE))=TRUE,\"\",VLOOKUP(CONCATENATE($AD$10,\"_\",AC22),選手名簿!$A:$E,5,FALSE))","v":""}]
[null,null,null,null,"得点者",{"$f":"IF(ISERROR(VLOOKUP(CONCATENATE($F$10,\"_\",G23),選手名簿!$A:$E,5,FALSE))=TRUE,\"\",VLOOKUP(CONCATENATE($F$10,\"_\",G23),選手名簿!$A:$E,5,FALSE))","v":""},null,null,null,null,null,null,null,{"$f":"IF(ISERROR(VLOOKUP(CONCATENATE($N$10,\"_\",M23),選手名簿!$A:$E,5,FALSE))=TRUE,\"\",VLOOKUP(CONCATENATE($N$10,\"_\",M23),選手名簿!$A:$E,5,FALSE))","v":""},null,null,null,null,null,null,"得点者",{"$f":"IF(ISERROR(VLOOKUP(CONCATENATE($V$10,\"_\",W23),選手名簿!$A:$E,5,FALSE))=TRUE,\"\",VLOOKUP(CONCATENATE($V$10,\"_\",W23),選手名簿!$A:$E,5,FALSE))","v":""},null,null,null,null,null,null,null,{"$f":"IF(ISERROR(VLOOKUP(CONCATENATE($AD$10,\"_\",AC23),選手名簿!$A:$E,5,FALSE))=TRUE,\"\",VLOOKUP(CONCATENATE($AD$10,\"_\",AC23),選手名簿!$A:$E,5,FALSE))","v":""}]
["番号","R006901613",null,null,"警告",{"$f":"IF(ISERROR(VLOOKUP(CONCATENATE($F$10,\"_\",G24),選手名簿!$A:$E,5,FALSE))=TRUE,\"\",VLOOKUP(CONCATENATE($F$10,\"_\",G24),選手名簿!$A:$E,5,FALSE))","v":"村岡　俊"},9,14,"ラフ",null,null,null,null,{"$f":"IF(ISERROR(VLOOKUP(CONCATENATE($N$10,\"_\",M24),選手名簿!$A:$E,5,FALSE))=TRUE,\"\",VLOOKUP(CONCATENATE($N$10,\"_\",M24),選手名簿!$A:$E,5,FALSE))","v":""},null,null,"番号","R005987050",null,null,null,{"$f":"IF(ISERROR(VLOOKUP(CONCATENATE($V$10,\"_\",W24),選手名簿!$A:$E,5,FALSE))=TRUE,\"\",VLOOKUP(CONCATENATE($V$10,\"_\",W24),選手名簿!$A:$E,5,FALSE))","v":""},null,null,null,null,null,null,null,{"$f":"IF(ISERROR(VLOOKUP(CONCATENATE($AD$10,\"_\",AC24),選手名簿!$A:$E,5,FALSE))=TRUE,\"\",VLOOKUP(CONCATENATE($AD$10,\"_\",AC24),選手名簿!$A:$E,5,FALSE))","v":""}]
["R",{"$f":"IF(ISERROR(VLOOKUP(B24,審判員!$A:$C,2,FALSE))=TRUE,\"\",VLOOKUP(B24,審判員!$A:$C,2,FALSE))","v":"岡部　明男"},null,{"$f":"IF(ISERROR(VLOOKUP(B24,審判員!$A:$C,3,FALSE))=TRUE,\"\",VLOOKUP(B24,審判員!$A:$C,3,FALSE))","v":"３級"},null,{"$f":"IF(ISERROR(VLOOKUP(CONCATENATE($F$10,\"_\",G25),選手名簿!$A:$E,5,FALSE))=TRUE,\"\",VLOOKUP(CONCATENATE($F$10,\"_\",G25),選手名簿!$A:$E,5,FALSE))","v":""},null,null,null,null,null,null,null,{"$f":"IF(ISERROR(VLOOKUP(CONCATENATE($N$10,\"_\",M25),選手名簿!$A:$E,5,FALSE))=TRUE,\"\",VLOOKUP(CONCATENATE($N$10,\"_\",M25),選手名簿!$A:$E,5,FALSE))","v":""},null,null,"R",{"$f":"IF(ISERROR(VLOOKUP(R24,審判員!$A:$C,2,FALSE))=TRUE,\"\",VLOOKUP(R24,審判員!$A:$C,2,FALSE))","v":"星野　敦"},null,{"$f":"IF(ISERROR(VLOOKUP(R24,審判員!$A:$C,3,FALSE))=TRUE,\"\",VLOOKUP(R24,審判員!$A:$C,3,FALSE))","v":"３級"},null,{"$f":"IF(ISERROR(VLOOKUP(CONCATENATE($V$10,\"_\",W25),選手名簿!$A:$E,5,FALSE))=TRUE,\"\",VLOOKUP(CONCATENATE($V$10,\"_\",W25),選手名簿!$A:$E,5,FALSE))","v":""},null,null,null,null,null,null,null,{"$f":"IF(ISERROR(VLOOKUP(CONCATENATE($AD$10,\"_\",AC25),選手名簿!$A:$E,5,FALSE))=TRUE,\"\",VLOOKUP(CONCATENATE($AD$10,\"_\",AC25),選手名簿!$A:$E,5,FALSE))","v":""}]
["番号","R001263448",null,null,null,{"$f":"IF(ISERROR(VLOOKUP(CONCATENATE($F$10,\"_\",G26),選手名簿!$A:$E,5,FALSE))=TRUE,\"\",VLOOKUP(CONCATENATE($F$10,\"_\",G26),選手名簿!$A:$E,5,FALSE))","v":""},null,null,null,null,null,null,null,{"$f":"IF(ISERROR(VLOOKUP(CONCATENATE($N$10,\"_\",M26),選手名簿!$A:$E,5,FALSE))=TRUE,\"\",VLOOKUP(CONCATENATE($N$10,\"_\",M26),選手名簿!$A:$E,5,FALSE))","v":""},null,null,"番号","R009624779",null,null,null,{"$f":"IF(ISERROR(VLOOKUP(CONCATENATE($V$10,\"_\",W26),選手名簿!$A:$E,5,FALSE))=TRUE,\"\",VLOOKUP(CONCATENATE($V$10,\"_\",W26),選手名簿!$A:$E,5,FALSE))","v":""},null,null,null,null,null,null,null,{"$f":"IF(ISERROR(VLOOKUP(CONCATENATE($AD$10,\"_\",AC26),選手名簿!$A:$E,5,FALSE))=TRUE,\"\",VLOOKUP(CONCATENATE($AD$10,\"_\",AC26),選手名簿!$A:$E,5,FALSE))","v":""}]
["AR1:",{"$f":"IF(ISERROR(VLOOKUP(B26,審判員!$A:$C,2,FALSE))=TRUE,\"\",VLOOKUP(B26,審判員!$A:$C,2,FALSE))","v":"佐藤　昭生"},null,{"$f":"IF(ISERROR(VLOOKUP(B26,審判員!$A:$C,3,FALSE))=TRUE,\"\",VLOOKUP(B26,審判員!$A:$C,3,FALSE))","v":"３級"},null,{"$f":"IF(ISERROR(VLOOKUP(CONCATENATE($F$10,\"_\",G27),選手名簿!$A:$E,5,FALSE))=TRUE,\"\",VLOOKUP(CONCATENATE($F$10,\"_\",G27),選手名簿!$A:$E,5,FALSE))","v":""},null,null,null,null,null,null,null,{"$f":"IF(ISERROR(VLOOKUP(CONCATENATE($N$10,\"_\",M27),選手名簿!$A:$E,5,FALSE))=TRUE,\"\",VLOOKUP(CONCATENATE($N$10,\"_\",M27),選手名簿!$A:$E,5,FALSE))","v":""},null,null,"AR1:",{"$f":"IF(ISERROR(VLOOKUP(R26,審判員!$A:$C,2,FALSE))=TRUE,\"\",VLOOKUP(R26,審判員!$A:$C,2,FALSE))","v":"株根　蒼太"},null,{"$f":"IF(ISERROR(VLOOKUP(R26,審判員!$A:$C,3,FALSE))=TRUE,\"\",VLOOKUP(R26,審判員!$A:$C,3,FALSE))","v":"３級"},null,{"$f":"IF(ISERROR(VLOOKUP(CONCATENATE($V$10,\"_\",W27),選手名簿!$A:$E,5,FALSE))=TRUE,\"\",VLOOKUP(CONCATENATE($V$10,\"_\",W27),選手名簿!$A:$E,5,FALSE))","v":""},null,null,null,null,null,null,null,{"$f":"IF(ISERROR(VLOOKUP(CONCATENATE($AD$10,\"_\",AC27),選手名簿!$A:$E,5,FALSE))=TRUE,\"\",VLOOKUP(CONCATENATE($AD$10,\"_\",AC27),選手名簿!$A:$E,5,FALSE))","v":""}]
["番号","R001261778",null,null,null,{"$f":"IF(ISERROR(VLOOKUP(CONCATENATE($F$10,\"_\",G28),選手名簿!$A:$E,5,FALSE))=TRUE,\"\",VLOOKUP(CONCATENATE($F$10,\"_\",G28),選手名簿!$A:$E,5,FALSE))","v":""},null,null,null,null,null,null,null,{"$f":"IF(ISERROR(VLOOKUP(CONCATENATE($N$10,\"_\",M28),選手名簿!$A:$E,5,FALSE))=TRUE,\"\",VLOOKUP(CONCATENATE($N$10,\"_\",M28),選手名簿!$A:$E,5,FALSE))","v":""},null,null,"番号","R006933694",null,null,null,{"$f":"IF(ISERROR(VLOOKUP(CONCATENATE($V$10,\"_\",W28),選手名簿!$A:$E,5,FALSE))=TRUE,\"\",VLOOKUP(CONCATENATE($V$10,\"_\",W28),選手名簿!$A:$E,5,FALSE))","v":""},null,null,null,null,null,null,null,{"$f":"IF(ISERROR(VLOOKUP(CONCATENATE($AD$10,\"_\",AC28),選手名簿!$A:$E,5,FALSE))=TRUE,\"\",VLOOKUP(CONCATENATE($AD$10,\"_\",AC28),選手名簿!$A:$E,5,FALSE))","v":""}]
["AR2:",{"$f":"IF(ISERROR(VLOOKUP(B28,審判員!$A:$C,2,FALSE))=TRUE,\"\",VLOOKUP(B28,審判員!$A:$C,2,FALSE))","v":"湯田　浩士"},null,{"$f":"IF(ISERROR(VLOOKUP(B28,審判員!$A:$C,3,FALSE))=TRUE,\"\",VLOOKUP(B28,審判員!$A:$C,3,FALSE))","v":"３級"},null,{"$f":"IF(ISERROR(VLOOKUP(CONCATENATE($F$10,\"_\",G29),選手名簿!$A:$E,5,FALSE))=TRUE,\"\",VLOOKUP(CONCATENATE($F$10,\"_\",G29),選手名簿!$A:$E,5,FALSE))","v":""},null,null,null,null,null,null,null,{"$f":"IF(ISERROR(VLOOKUP(CONCATENATE($N$10,\"_\",M29),選手名簿!$A:$E,5,FALSE))=TRUE,\"\",VLOOKUP(CONCATENATE($N$10,\"_\",M29),選手名簿!$A:$E,5,FALSE))","v":""},null,null,"AR2:",{"$f":"IF(ISERROR(VLOOKUP(R28,審判員!$A:$C,2,FALSE))=TRUE,\"\",VLOOKUP(R28,審判員!$A:$C,2,FALSE))","v":"東　紘造"},null,{"$f":"IF(ISERROR(VLOOKUP(R28,審判員!$A:$C,3,FALSE))=TRUE,\"\",VLOOKUP(R28,審判員!$A:$C,3,FALSE))","v":"３級"},null,{"$f":"IF(ISERROR(VLOOKUP(CONCATENATE($V$10,\"_\",W29),選手名簿!$A:$E,5,FALSE))=TRUE,\"\",VLOOKUP(CONCATENATE($V$10,\"_\",W29),選手名簿!$A:$E,5,FALSE))","v":""},null,null,null,null,null,null,null,{"$f":"IF(ISERROR(VLOOKUP(CONCATENATE($AD$10,\"_\",AC29),選手名簿!$A:$E,5,FALSE))=TRUE,\"\",VLOOKUP(CONCATENATE($AD$10,\"_\",AC29),選手名簿!$A:$E,5,FALSE))","v":""}]
["番号","R005987050",null,null,null,{"$f":"IF(ISERROR(VLOOKUP(CONCATENATE($F$10,\"_\",G30),選手名簿!$A:$E,5,FALSE))=TRUE,\"\",VLOOKUP(CONCATENATE($F$10,\"_\",G30),選手名簿!$A:$E,5,FALSE))","v":""},null,null,null,null,null,null,null,{"$f":"IF(ISERROR(VLOOKUP(CONCATENATE($N$10,\"_\",M30),選手名簿!$A:$E,5,FALSE))=TRUE,\"\",VLOOKUP(CONCATENATE($N$10,\"_\",M30),選手名簿!$A:$E,5,FALSE))","v":""},null,null,"番号","R010247516",null,null,null,{"$f":"IF(ISERROR(VLOOKUP(CONCATENATE($V$10,\"_\",W30),選手名簿!$A:$E,5,FALSE))=TRUE,\"\",VLOOKUP(CONCATENATE($V$10,\"_\",W30),選手名簿!$A:$E,5,FALSE))","v":""},null,null,null,null,null,null,null,{"$f":"IF(ISERROR(VLOOKUP(CONCATENATE($AD$10,\"_\",AC30),選手名簿!$A:$E,5,FALSE))=TRUE,\"\",VLOOKUP(CONCATENATE($AD$10,\"_\",AC30),選手名簿!$A:$E,5,FALSE))","v":""}]
["4th:",{"$f":"IF(ISERROR(VLOOKUP(B30,審判員!$A:$C,2,FALSE))=TRUE,\"\",VLOOKUP(B30,審判員!$A:$C,2,FALSE))","v":"星野　敦"},null,{"$f":"IF(ISERROR(VLOOKUP(B30,審判員!$A:$C,3,FALSE))=TRUE,\"\",VLOOKUP(B30,審判員!$A:$C,3,FALSE))","v":"３級"},null,{"$f":"IF(ISERROR(VLOOKUP(CONCATENATE($F$10,\"_\",G31),選手名簿!$A:$E,5,FALSE))=TRUE,\"\",VLOOKUP(CONCATENATE($F$10,\"_\",G31),選手名簿!$A:$E,5,FALSE))","v":""},null,null,null,null,null,null,null,{"$f":"IF(ISERROR(VLOOKUP(CONCATENATE($N$10,\"_\",M31),選手名簿!$A:$E,5,FALSE))=TRUE,\"\",VLOOKUP(CONCATENATE($N$10,\"_\",M31),選手名簿!$A:$E,5,FALSE))","v":""},null,null,"4th:",{"$f":"IF(ISERROR(VLOOKUP(R30,審判員!$A:$C,2,FALSE))=TRUE,\"\",VLOOKUP(R30,審判員!$A:$C,2,FALSE))","v":"草場　帆斗"},null,{"$f":"IF(ISERROR(VLOOKUP(R30,審判員!$A:$C,3,FALSE))=TRUE,\"\",VLOOKUP(R30,審判員!$A:$C,3,FALSE))","v":"３級"},null,{"$f":"IF(ISERROR(VLOOKUP(CONCATENATE($V$10,\"_\",W31),選手名簿!$A:$E,5,FALSE))=TRUE,\"\",VLOOKUP(CONCATENATE($V$10,\"_\",W31),選手名簿!$A:$E,5,FALSE))","v":""},null,null,null,null,null,null,null,{"$f":"IF(ISERROR(VLOOKUP(CONCATENATE($AD$10,\"_\",AC31),選手名簿!$A:$E,5,FALSE))=TRUE,\"\",VLOOKUP(CONCATENATE($AD$10,\"_\",AC31),選手名簿!$A:$E,5,FALSE))","v":""}]
[]
[]
[]
[]
[]
[]
[]
["MC","後藤　寿",null,null,{"$f":"予選リーグ!B23","v":"11:40:00"},{"$f":"F6","v":"カティオーラフットボールクラブＵ－１２"},{"$f":"SUM(I39:I40)","v":5},"（",2,"前半",0,"）",{"$f":"SUM(K39:K40)","v":0},{"$f":"F7","v":"ＦＣ安岐"},null,null,"MC","伊東　雅弘",null,null,{"$f":"予選リーグ!B25","v":"12:30:00"},{"$f":"V6","v":"ＭＳＳ"},{"$f":"SUM(Y39:Y40)","v":5},"（",3,"前半",0,"）",{"$f":"SUM(AA39:AA40)","v":1},{"$f":"V7","v":"ＦＣ大野"}]
["Welfare\nOfficer",null,null,null,null,null,null,null,3,"後半",0,null,null,null,null,null,"Welfare\nOfficer",null,null,null,null,null,null,null,2,"後半",1]
["記録","平尾　彰敏",null,null,null,null,null,null,null,"PK",null,null,null,null,null,null,"記録","後藤　寿",null,null,null,null,null,null,null,"PK"]
["＜Referee＞",null,null,null,"警告/退場\n選択肢より","氏名","番号","分","内容\n選択肢より",null,"内容\n選択肢より","分","番号","氏名","警告/退場\n選択肢より",null,"＜Referee＞",null,null,null,"警告/退場\n選択肢より","氏名","番号","分","内容\n選択肢より",null,"内容\n選択肢より","分","番号","氏名","警告/退場\n選択肢より"]
[null,null,null,null,"得点者",{"$f":"IF(ISERROR(VLOOKUP(CONCATENATE($F$39,\"_\",G43),選手名簿!$A:$E,5,FALSE))=TRUE,\"\",VLOOKUP(CONCATENATE($F$39,\"_\",G43),選手名簿!$A:$E,5,FALSE))","v":""},null,null,null,null,null,null,null,{"$f":"IF(ISERROR(VLOOKUP(CONCATENATE($N$39,\"_\",M43),選手名簿!$A:$E,5,FALSE))=TRUE,\"\",VLOOKUP(CONCATENATE($N$39,\"_\",M43),選手名簿!$A:$E,5,FALSE))","v":""},null,null,null,null,null,null,"得点者",{"$f":"IF(ISERROR(VLOOKUP(CONCATENATE($V$39,\"_\",W43),選手名簿!$A:$E,5,FALSE))=TRUE,\"\",VLOOKUP(CONCATENATE($V$39,\"_\",W43),選手名簿!$A:$E,5,FALSE))","v":""},null,null,null,null,null,null,null,{"$f":"IF(ISERROR(VLOOKUP(CONCATENATE($AD$39,\"_\",AC43),選手名簿!$A:$E,5,FALSE))=TRUE,\"\",VLOOKUP(CONCATENATE($AD$39,\"_\",AC43),選手名簿!$A:$E,5,FALSE))","v":""}]
[null,null,null,null,"得点者",{"$f":"IF(ISERROR(VLOOKUP(CONCATENATE($F$39,\"_\",G44),選手名簿!$A:$E,5,FALSE))=TRUE,\"\",VLOOKUP(CONCATENATE($F$39,\"_\",G44),選手名簿!$A:$E,5,FALSE))","v":""},null,null,null,null,null,null,null,{"$f":"IF(ISERROR(VLOOKUP(CONCATENATE($N$39,\"_\",M44),選手名簿!$A:$E,5,FALSE))=TRUE,\"\",VLOOKUP(CONCATENATE($N$39,\"_\",M44),選手名簿!$A:$E,5,FALSE))","v":""},null,null,null,null,null,null,"得点者",{"$f":"IF(ISERROR(VLOOKUP(CONCATENATE($V$39,\"_\",W44),選手名簿!$A:$E,5,FALSE))=TRUE,\"\",VLOOKUP(CONCATENATE($V$39,\"_\",W44),選手名簿!$A:$E,5,FALSE))","v":""},null,null,null,null,null,null,null,{"$f":"IF(ISERROR(VLOOKUP(CONCATENATE($AD$39,\"_\",AC44),選手名簿!$A:$E,5,FALSE))=TRUE,\"\",VLOOKUP(CONCATENATE($AD$39,\"_\",AC44),選手名簿!$A:$E,5,FALSE))","v":""}]
[null,null,null,null,"得点者",{"$f":"IF(ISERROR(VLOOKUP(CONCATENATE($F$39,\"_\",G45),選手名簿!$A:$E,5,FALSE))=TRUE,\"\",VLOOKUP(CONCATENATE($F$39,\"_\",G45),選手名簿!$A:$E,5,FALSE))","v":""},null,null,null,null,null,null,null,{"$f":"IF(ISERROR(VLOOKUP(CONCATENATE($N$39,\"_\",M45),選手名簿!$A:$E,5,FALSE))=TRUE,\"\",VLOOKUP(CONCATENATE($N$39,\"_\",M45),選手名簿!$A:$E,5,FALSE))","v":""},null,null,null,null,null,null,"得点者",{"$f":"IF(ISERROR(VLOOKUP(CONCATENATE($V$39,\"_\",W45),選手名簿!$A:$E,5,FALSE))=TRUE,\"\",VLOOKUP(CONCATENATE($V$39,\"_\",W45),選手名簿!$A:$E,5,FALSE))","v":""},null,null,null,null,null,null,null,{"$f":"IF(ISERROR(VLOOKUP(CONCATENATE($AD$39,\"_\",AC45),選手名簿!$A:$E,5,FALSE))=TRUE,\"\",VLOOKUP(CONCATENATE($AD$39,\"_\",AC45),選手名簿!$A:$E,5,FALSE))","v":""}]
[null,null,null,null,"得点者",{"$f":"IF(ISERROR(VLOOKUP(CONCATENATE($F$39,\"_\",G46),選手名簿!$A:$E,5,FALSE))=TRUE,\"\",VLOOKUP(CONCATENATE($F$39,\"_\",G46),選手名簿!$A:$E,5,FALSE))","v":""},null,null,null,null,null,null,null,{"$f":"IF(ISERROR(VLOOKUP(CONCATENATE($N$39,\"_\",M46),選手名簿!$A:$E,5,FALSE))=TRUE,\"\",VLOOKUP(CONCATENATE($N$39,\"_\",M46),選手名簿!$A:$E,5,FALSE))","v":""},null,null,null,null,null,null,"得点者",{"$f":"IF(ISERROR(VLOOKUP(CONCATENATE($V$39,\"_\",W46),選手名簿!$A:$E,5,FALSE))=TRUE,\"\",VLOOKUP(CONCATENATE($V$39,\"_\",W46),選手名簿!$A:$E,5,FALSE))","v":""},null,null,null,null,null,null,null,{"$f":"IF(ISERROR(VLOOKUP(CONCATENATE($AD$39,\"_\",AC46),選手名簿!$A:$E,5,FALSE))=TRUE,\"\",VLOOKUP(CONCATENATE($AD$39,\"_\",AC46),選手名簿!$A:$E,5,FALSE))","v":""}]
[null,null,null,null,"得点者",{"$f":"IF(ISERROR(VLOOKUP(CONCATENATE($F$39,\"_\",G47),選手名簿!$A:$E,5,FALSE))=TRUE,\"\",VLOOKUP(CONCATENATE($F$39,\"_\",G47),選手名簿!$A:$E,5,FALSE))","v":""},null,null,null,null,null,null,null,{"$f":"IF(ISERROR(VLOOKUP(CONCATENATE($N$39,\"_\",M47),選手名簿!$A:$E,5,FALSE))=TRUE,\"\",VLOOKUP(CONCATENATE($N$39,\"_\",M47),選手名簿!$A:$E,5,FALSE))","v":""},null,null,null,null,null,null,"得点者",{"$f":"IF(ISERROR(VLOOKUP(CONCATENATE($V$39,\"_\",W47),選手名簿!$A:$E,5,FALSE))=TRUE,\"\",VLOOKUP(CONCATENATE($V$39,\"_\",W47),選手名簿!$A:$E,5,FALSE))","v":""},null,null,null,null,null,null,null,{"$f":"IF(ISERROR(VLOOKUP(CONCATENATE($AD$39,\"_\",AC47),選手名簿!$A:$E,5,FALSE))=TRUE,\"\",VLOOKUP(CONCATENATE($AD$39,\"_\",AC47),選手名簿!$A:$E,5,FALSE))","v":""}]
[null,null,null,null,"得点者",{"$f":"IF(ISERROR(VLOOKUP(CONCATENATE($F$39,\"_\",G48),選手名簿!$A:$E,5,FALSE))=TRUE,\"\",VLOOKUP(CONCATENATE($F$39,\"_\",G48),選手名簿!$A:$E,5,FALSE))","v":""},null,null,null,null,null,null,null,{"$f":"IF(ISERROR(VLOOKUP(CONCATENATE($N$39,\"_\",M48),選手名簿!$A:$E,5,FALSE))=TRUE,\"\",VLOOKUP(CONCATENATE($N$39,\"_\",M48),選手名簿!$A:$E,5,FALSE))","v":""},null,null,null,null,null,null,"得点者",{"$f":"IF(ISERROR(VLOOKUP(CONCATENATE($V$39,\"_\",W48),選手名簿!$A:$E,5,FALSE))=TRUE,\"\",VLOOKUP(CONCATENATE($V$39,\"_\",W48),選手名簿!$A:$E,5,FALSE))","v":""},null,null,null,null,null,null,null,{"$f":"IF(ISERROR(VLOOKUP(CONCATENATE($AD$39,\"_\",AC48),選手名簿!$A:$E,5,FALSE))=TRUE,\"\",VLOOKUP(CONCATENATE($AD$39,\"_\",AC48),選手名簿!$A:$E,5,FALSE))","v":""}]
[null,null,null,null,"得点者",{"$f":"IF(ISERROR(VLOOKUP(CONCATENATE($F$39,\"_\",G49),選手名簿!$A:$E,5,FALSE))=TRUE,\"\",VLOOKUP(CONCATENATE($F$39,\"_\",G49),選手名簿!$A:$E,5,FALSE))","v":""},null,null,null,null,null,null,null,{"$f":"IF(ISERROR(VLOOKUP(CONCATENATE($N$39,\"_\",M49),選手名簿!$A:$E,5,FALSE))=TRUE,\"\",VLOOKUP(CONCATENATE($N$39,\"_\",M49),選手名簿!$A:$E,5,FALSE))","v":""},null,null,null,null,null,null,"得点者",{"$f":"IF(ISERROR(VLOOKUP(CONCATENATE($V$39,\"_\",W49),選手名簿!$A:$E,5,FALSE))=TRUE,\"\",VLOOKUP(CONCATENATE($V$39,\"_\",W49),選手名簿!$A:$E,5,FALSE))","v":""},null,null,null,null,null,null,null,{"$f":"IF(ISERROR(VLOOKUP(CONCATENATE($AD$39,\"_\",AC49),選手名簿!$A:$E,5,FALSE))=TRUE,\"\",VLOOKUP(CONCATENATE($AD$39,\"_\",AC49),選手名簿!$A:$E,5,FALSE))","v":""}]
[null,null,null,null,"得点者",{"$f":"IF(ISERROR(VLOOKUP(CONCATENATE($F$39,\"_\",G50),選手名簿!$A:$E,5,FALSE))=TRUE,\"\",VLOOKUP(CONCATENATE($F$39,\"_\",G50),選手名簿!$A:$E,5,FALSE))","v":""},null,null,null,null,null,null,null,{"$f":"IF(ISERROR(VLOOKUP(CONCATENATE($N$39,\"_\",M50),選手名簿!$A:$E,5,FALSE))=TRUE,\"\",VLOOKUP(CONCATENATE($N$39,\"_\",M50),選手名簿!$A:$E,5,FALSE))","v":""},null,null,null,null,null,null,"得点者",{"$f":"IF(ISERROR(VLOOKUP(CONCATENATE($V$39,\"_\",W50),選手名簿!$A:$E,5,FALSE))=TRUE,\"\",VLOOKUP(CONCATENATE($V$39,\"_\",W50),選手名簿!$A:$E,5,FALSE))","v":""},null,null,null,null,null,null,null,{"$f":"IF(ISERROR(VLOOKUP(CONCATENATE($AD$39,\"_\",AC50),選手名簿!$A:$E,5,FALSE))=TRUE,\"\",VLOOKUP(CONCATENATE($AD$39,\"_\",AC50),選手名簿!$A:$E,5,FALSE))","v":""}]
[null,null,null,null,"得点者",{"$f":"IF(ISERROR(VLOOKUP(CONCATENATE($F$39,\"_\",G51),選手名簿!$A:$E,5,FALSE))=TRUE,\"\",VLOOKUP(CONCATENATE($F$39,\"_\",G51),選手名簿!$A:$E,5,FALSE))","v":""},null,null,null,null,null,null,null,{"$f":"IF(ISERROR(VLOOKUP(CONCATENATE($N$39,\"_\",M51),選手名簿!$A:$E,5,FALSE))=TRUE,\"\",VLOOKUP(CONCATENATE($N$39,\"_\",M51),選手名簿!$A:$E,5,FALSE))","v":""},null,null,null,null,null,null,"得点者",{"$f":"IF(ISERROR(VLOOKUP(CONCATENATE($V$39,\"_\",W51),選手名簿!$A:$E,5,FALSE))=TRUE,\"\",VLOOKUP(CONCATENATE($V$39,\"_\",W51),選手名簿!$A:$E,5,FALSE))","v":""},null,null,null,null,null,null,null,{"$f":"IF(ISERROR(VLOOKUP(CONCATENATE($AD$39,\"_\",AC51),選手名簿!$A:$E,5,FALSE))=TRUE,\"\",VLOOKUP(CONCATENATE($AD$39,\"_\",AC51),選手名簿!$A:$E,5,FALSE))","v":""}]
[null,null,null,null,"得点者",{"$f":"IF(ISERROR(VLOOKUP(CONCATENATE($F$39,\"_\",G52),選手名簿!$A:$E,5,FALSE))=TRUE,\"\",VLOOKUP(CONCATENATE($F$39,\"_\",G52),選手名簿!$A:$E,5,FALSE))","v":""},null,null,null,null,null,null,null,{"$f":"IF(ISERROR(VLOOKUP(CONCATENATE($N$39,\"_\",M52),選手名簿!$A:$E,5,FALSE))=TRUE,\"\",VLOOKUP(CONCATENATE($N$39,\"_\",M52),選手名簿!$A:$E,5,FALSE))","v":""},null,null,null,null,null,null,"得点者",{"$f":"IF(ISERROR(VLOOKUP(CONCATENATE($V$39,\"_\",W52),選手名簿!$A:$E,5,FALSE))=TRUE,\"\",VLOOKUP(CONCATENATE($V$39,\"_\",W52),選手名簿!$A:$E,5,FALSE))","v":""},null,null,null,null,null,null,null,{"$f":"IF(ISERROR(VLOOKUP(CONCATENATE($AD$39,\"_\",AC52),選手名簿!$A:$E,5,FALSE))=TRUE,\"\",VLOOKUP(CONCATENATE($AD$39,\"_\",AC52),選手名簿!$A:$E,5,FALSE))","v":""}]
["番号","R010247516",null,null,null,{"$f":"IF(ISERROR(VLOOKUP(CONCATENATE($F$39,\"_\",G53),選手名簿!$A:$E,5,FALSE))=TRUE,\"\",VLOOKUP(CONCATENATE($F$39,\"_\",G53),選手名簿!$A:$E,5,FALSE))","v":""},null,null,null,null,null,null,null,{"$f":"IF(ISERROR(VLOOKUP(CONCATENATE($N$39,\"_\",M53),選手名簿!$A:$E,5,FALSE))=TRUE,\"\",VLOOKUP(CONCATENATE($N$39,\"_\",M53),選手名簿!$A:$E,5,FALSE))","v":""},null,null,"番号","R006901613",null,null,null,{"$f":"IF(ISERROR(VLOOKUP(CONCATENATE($V$39,\"_\",W53),選手名簿!$A:$E,5,FALSE))=TRUE,\"\",VLOOKUP(CONCATENATE($V$39,\"_\",W53),選手名簿!$A:$E,5,FALSE))","v":""},null,null,null,null,null,null,null,{"$f":"IF(ISERROR(VLOOKUP(CONCATENATE($AD$39,\"_\",AC53),選手名簿!$A:$E,5,FALSE))=TRUE,\"\",VLOOKUP(CONCATENATE($AD$39,\"_\",AC53),選手名簿!$A:$E,5,FALSE))","v":""}]
["R",{"$f":"IF(ISERROR(VLOOKUP(B53,審判員!$A:$C,2,FALSE))=TRUE,\"\",VLOOKUP(B53,審判員!$A:$C,2,FALSE))","v":"草場　帆斗"},null,{"$f":"IF(ISERROR(VLOOKUP(B53,審判員!$A:$C,3,FALSE))=TRUE,\"\",VLOOKUP(B53,審判員!$A:$C,3,FALSE))","v":"３級"},null,{"$f":"IF(ISERROR(VLOOKUP(CONCATENATE($F$39,\"_\",G54),選手名簿!$A:$E,5,FALSE))=TRUE,\"\",VLOOKUP(CONCATENATE($F$39,\"_\",G54),選手名簿!$A:$E,5,FALSE))","v":""},null,null,null,null,null,null,null,{"$f":"IF(ISERROR(VLOOKUP(CONCATENATE($N$39,\"_\",M54),選手名簿!$A:$E,5,FALSE))=TRUE,\"\",VLOOKUP(CONCATENATE($N$39,\"_\",M54),選手名簿!$A:$E,5,FALSE))","v":""},null,null,"R",{"$f":"IF(ISERROR(VLOOKUP(R53,審判員!$A:$C,2,FALSE))=TRUE,\"\",VLOOKUP(R53,審判員!$A:$C,2,FALSE))","v":"岡部　明男"},null,{"$f":"IF(ISERROR(VLOOKUP(R53,審判員!$A:$C,3,FALSE))=TRUE,\"\",VLOOKUP(R53,審判員!$A:$C,3,FALSE))","v":"３級"},null,{"$f":"IF(ISERROR(VLOOKUP(CONCATENATE($V$39,\"_\",W54),選手名簿!$A:$E,5,FALSE))=TRUE,\"\",VLOOKUP(CONCATENATE($V$39,\"_\",W54),選手名簿!$A:$E,5,FALSE))","v":""},null,null,null,null,null,null,null,{"$f":"IF(ISERROR(VLOOKUP(CONCATENATE($AD$39,\"_\",AC54),選手名簿!$A:$E,5,FALSE))=TRUE,\"\",VLOOKUP(CONCATENATE($AD$39,\"_\",AC54),選手名簿!$A:$E,5,FALSE))","v":""}]
["番号","R001263350",null,null,null,{"$f":"IF(ISERROR(VLOOKUP(CONCATENATE($F$39,\"_\",G55),選手名簿!$A:$E,5,FALSE))=TRUE,\"\",VLOOKUP(CONCATENATE($F$39,\"_\",G55),選手名簿!$A:$E,5,FALSE))","v":""},null,null,null,null,null,null,null,{"$f":"IF(ISERROR(VLOOKUP(CONCATENATE($N$39,\"_\",M55),選手名簿!$A:$E,5,FALSE))=TRUE,\"\",VLOOKUP(CONCATENATE($N$39,\"_\",M55),選手名簿!$A:$E,5,FALSE))","v":""},null,null,"番号","R006933694",null,null,null,{"$f":"IF(ISERROR(VLOOKUP(CONCATENATE($V$39,\"_\",W55),選手名簿!$A:$E,5,FALSE))=TRUE,\"\",VLOOKUP(CONCATENATE($V$39,\"_\",W55),選手名簿!$A:$E,5,FALSE))","v":""},null,null,null,null,null,null,null,{"$f":"IF(ISERROR(VLOOKUP(CONCATENATE($AD$39,\"_\",AC55),選手名簿!$A:$E,5,FALSE))=TRUE,\"\",VLOOKUP(CONCATENATE($AD$39,\"_\",AC55),選手名簿!$A:$E,5,FALSE))","v":""}]
["AR1:",{"$f":"IF(ISERROR(VLOOKUP(B55,審判員!$A:$C,2,FALSE))=TRUE,\"\",VLOOKUP(B55,審判員!$A:$C,2,FALSE))","v":"酒井　祐三"},null,{"$f":"IF(ISERROR(VLOOKUP(B55,審判員!$A:$C,3,FALSE))=TRUE,\"\",VLOOKUP(B55,審判員!$A:$C,3,FALSE))","v":"３級"},null,{"$f":"IF(ISERROR(VLOOKUP(CONCATENATE($F$39,\"_\",G56),選手名簿!$A:$E,5,FALSE))=TRUE,\"\",VLOOKUP(CONCATENATE($F$39,\"_\",G56),選手名簿!$A:$E,5,FALSE))","v":""},null,null,null,null,null,null,null,{"$f":"IF(ISERROR(VLOOKUP(CONCATENATE($N$39,\"_\",M56),選手名簿!$A:$E,5,FALSE))=TRUE,\"\",VLOOKUP(CONCATENATE($N$39,\"_\",M56),選手名簿!$A:$E,5,FALSE))","v":""},null,null,"AR1:",{"$f":"IF(ISERROR(VLOOKUP(R55,審判員!$A:$C,2,FALSE))=TRUE,\"\",VLOOKUP(R55,審判員!$A:$C,2,FALSE))","v":"東　紘造"},null,{"$f":"IF(ISERROR(VLOOKUP(R55,審判員!$A:$C,3,FALSE))=TRUE,\"\",VLOOKUP(R55,審判員!$A:$C,3,FALSE))","v":"３級"},null,{"$f":"IF(ISERROR(VLOOKUP(CONCATENATE($V$39,\"_\",W56),選手名簿!$A:$E,5,FALSE))=TRUE,\"\",VLOOKUP(CONCATENATE($V$39,\"_\",W56),選手名簿!$A:$E,5,FALSE))","v":""},null,null,null,null,null,null,null,{"$f":"IF(ISERROR(VLOOKUP(CONCATENATE($AD$39,\"_\",AC56),選手名簿!$A:$E,5,FALSE))=TRUE,\"\",VLOOKUP(CONCATENATE($AD$39,\"_\",AC56),選手名簿!$A:$E,5,FALSE))","v":""}]
["番号","R001261778",null,null,null,{"$f":"IF(ISERROR(VLOOKUP(CONCATENATE($F$39,\"_\",G57),選手名簿!$A:$E,5,FALSE))=TRUE,\"\",VLOOKUP(CONCATENATE($F$39,\"_\",G57),選手名簿!$A:$E,5,FALSE))","v":""},null,null,null,null,null,null,null,{"$f":"IF(ISERROR(VLOOKUP(CONCATENATE($N$39,\"_\",M57),選手名簿!$A:$E,5,FALSE))=TRUE,\"\",VLOOKUP(CONCATENATE($N$39,\"_\",M57),選手名簿!$A:$E,5,FALSE))","v":""},null,null,"番号","R009546073",null,null,null,{"$f":"IF(ISERROR(VLOOKUP(CONCATENATE($V$39,\"_\",W57),選手名簿!$A:$E,5,FALSE))=TRUE,\"\",VLOOKUP(CONCATENATE($V$39,\"_\",W57),選手名簿!$A:$E,5,FALSE))","v":""},null,null,null,null,null,null,null,{"$f":"IF(ISERROR(VLOOKUP(CONCATENATE($AD$39,\"_\",AC57),選手名簿!$A:$E,5,FALSE))=TRUE,\"\",VLOOKUP(CONCATENATE($AD$39,\"_\",AC57),選手名簿!$A:$E,5,FALSE))","v":""}]
["AR2:",{"$f":"IF(ISERROR(VLOOKUP(B57,審判員!$A:$C,2,FALSE))=TRUE,\"\",VLOOKUP(B57,審判員!$A:$C,2,FALSE))","v":"湯田　浩士"},null,{"$f":"IF(ISERROR(VLOOKUP(B57,審判員!$A:$C,3,FALSE))=TRUE,\"\",VLOOKUP(B57,審判員!$A:$C,3,FALSE))","v":"３級"},null,{"$f":"IF(ISERROR(VLOOKUP(CONCATENATE($F$39,\"_\",G58),選手名簿!$A:$E,5,FALSE))=TRUE,\"\",VLOOKUP(CONCATENATE($F$39,\"_\",G58),選手名簿!$A:$E,5,FALSE))","v":""},null,null,null,null,null,null,null,{"$f":"IF(ISERROR(VLOOKUP(CONCATENATE($N$39,\"_\",M58),選手名簿!$A:$E,5,FALSE))=TRUE,\"\",VLOOKUP(CONCATENATE($N$39,\"_\",M58),選手名簿!$A:$E,5,FALSE))","v":""},null,null,"AR2:",{"$f":"IF(ISERROR(VLOOKUP(R57,審判員!$A:$C,2,FALSE))=TRUE,\"\",VLOOKUP(R57,審判員!$A:$C,2,FALSE))","v":"小玉　篤史"},null,{"$f":"IF(ISERROR(VLOOKUP(R57,審判員!$A:$C,3,FALSE))=TRUE,\"\",VLOOKUP(R57,審判員!$A:$C,3,FALSE))","v":"３級"},null,{"$f":"IF(ISERROR(VLOOKUP(CONCATENATE($V$39,\"_\",W58),選手名簿!$A:$E,5,FALSE))=TRUE,\"\",VLOOKUP(CONCATENATE($V$39,\"_\",W58),選手名簿!$A:$E,5,FALSE))","v":""},null,null,null,null,null,null,null,{"$f":"IF(ISERROR(VLOOKUP(CONCATENATE($AD$39,\"_\",AC58),選手名簿!$A:$E,5,FALSE))=TRUE,\"\",VLOOKUP(CONCATENATE($AD$39,\"_\",AC58),選手名簿!$A:$E,5,FALSE))","v":""}]
["番号","R006901613",null,null,null,{"$f":"IF(ISERROR(VLOOKUP(CONCATENATE($F$39,\"_\",G59),選手名簿!$A:$E,5,FALSE))=TRUE,\"\",VLOOKUP(CONCATENATE($F$39,\"_\",G59),選手名簿!$A:$E,5,FALSE))","v":""},null,null,null,null,null,null,null,{"$f":"IF(ISERROR(VLOOKUP(CONCATENATE($N$39,\"_\",M59),選手名簿!$A:$E,5,FALSE))=TRUE,\"\",VLOOKUP(CONCATENATE($N$39,\"_\",M59),選手名簿!$A:$E,5,FALSE))","v":""},null,null,"番号","R005987050",null,null,null,{"$f":"IF(ISERROR(VLOOKUP(CONCATENATE($V$39,\"_\",W59),選手名簿!$A:$E,5,FALSE))=TRUE,\"\",VLOOKUP(CONCATENATE($V$39,\"_\",W59),選手名簿!$A:$E,5,FALSE))","v":""},null,null,null,null,null,null,null,{"$f":"IF(ISERROR(VLOOKUP(CONCATENATE($AD$39,\"_\",AC59),選手名簿!$A:$E,5,FALSE))=TRUE,\"\",VLOOKUP(CONCATENATE($AD$39,\"_\",AC59),選手名簿!$A:$E,5,FALSE))","v":""}]
["4th:",{"$f":"IF(ISERROR(VLOOKUP(B59,審判員!$A:$C,2,FALSE))=TRUE,\"\",VLOOKUP(B59,審判員!$A:$C,2,FALSE))","v":"岡部　明男"},null,{"$f":"IF(ISERROR(VLOOKUP(B59,審判員!$A:$C,3,FALSE))=TRUE,\"\",VLOOKUP(B59,審判員!$A:$C,3,FALSE))","v":"３級"},null,{"$f":"IF(ISERROR(VLOOKUP(CONCATENATE($F$39,\"_\",G60),選手名簿!$A:$E,5,FALSE))=TRUE,\"\",VLOOKUP(CONCATENATE($F$39,\"_\",G60),選手名簿!$A:$E,5,FALSE))","v":""},null,null,null,null,null,null,null,{"$f":"IF(ISERROR(VLOOKUP(CONCATENATE($N$39,\"_\",M60),選手名簿!$A:$E,5,FALSE))=TRUE,\"\",VLOOKUP(CONCATENATE($N$39,\"_\",M60),選手名簿!$A:$E,5,FALSE))","v":""},null,null,"4th:",{"$f":"IF(ISERROR(VLOOKUP(R59,審判員!$A:$C,2,FALSE))=TRUE,\"\",VLOOKUP(R59,審判員!$A:$C,2,FALSE))","v":"星野　敦"},null,{"$f":"IF(ISERROR(VLOOKUP(R59,審判員!$A:$C,3,FALSE))=TRUE,\"\",VLOOKUP(R59,審判員!$A:$C,3,FALSE))","v":"３級"},null,{"$f":"IF(ISERROR(VLOOKUP(CONCATENATE($V$39,\"_\",W60),選手名簿!$A:$E,5,FALSE))=TRUE,\"\",VLOOKUP(CONCATENATE($V$39,\"_\",W60),選手名簿!$A:$E,5,FALSE))","v":""},null,null,null,null,null,null,null,{"$f":"IF(ISERROR(VLOOKUP(CONCATENATE($AD$39,\"_\",AC60),選手名簿!$A:$E,5,FALSE))=TRUE,\"\",VLOOKUP(CONCATENATE($AD$39,\"_\",AC60),選手名簿!$A:$E,5,FALSE))","v":""}]
[]
[]
[]
[]
[]
[]
[]
["MC","伊東　雅弘",null,null,{"$f":"予選リーグ!B29","v":"14:10:00"},{"$f":"F7","v":"ＦＣ安岐"},{"$f":"SUM(I68:I69)","v":1},"（",1,"前半",0,"）",{"$f":"SUM(K68:K69)","v":3},{"$f":"F5","v":"ブルーウイングフットボールクラブ"},null,null,"MC","後藤　寿",null,null,{"$f":"予選リーグ!B31","v":"15:00:00"},{"$f":"V7","v":"ＦＣ大野"},{"$f":"SUM(Y68:Y69)","v":0},"（",0,"前半",2,"）",{"$f":"SUM(AA68:AA69)","v":4},{"$f":"V5","v":"ドリームキッズフットボールクラブ"}]
["Welfare\nOfficer",null,null,null,null,null,null,null,0,"後半",3,null,null,null,null,null,"Welfare\nOfficer",null,null,null,null,null,null,null,0,"後半",2]
["記録","榊　謙治",null,null,null,null,null,null,null,"PK",null,null,null,null,null,null,"記録","平尾　彰敏",null,null,null,null,null,null,null,"PK"]
["＜Referee＞",null,null,null,"警告/退場\n選択肢より","氏名","番号","分","内容\n選択肢より",null,"内容\n選択肢より","分","番号","氏名","警告/退場\n選択肢より",null,"＜Referee＞",null,null,null,"警告/退場\n選択肢より","氏名","番号","分","内容\n選択肢より",null,"内容\n選択肢より","分","番号","氏名","警告/退場\n選択肢より"]
[null,null,null,null,"得点者",{"$f":"IF(ISERROR(VLOOKUP(CONCATENATE($F$68,\"_\",G72),選手名簿!$A:$E,5,FALSE))=TRUE,\"\",VLOOKUP(CONCATENATE($F$68,\"_\",G72),選手名簿!$A:$E,5,FALSE))","v":""},null,null,null,null,null,19,9,{"$f":"IF(ISERROR(VLOOKUP(CONCATENATE($N$68,\"_\",M72),選手名簿!$A:$E,5,FALSE))=TRUE,\"\",VLOOKUP(CONCATENATE($N$68,\"_\",M72),選手名簿!$A:$E,5,FALSE))","v":"村岡　俊"},null,null,null,null,null,null,"得点者",{"$f":"IF(ISERROR(VLOOKUP(CONCATENATE($V$68,\"_\",W72),選手名簿!$A:$E,5,FALSE))=TRUE,\"\",VLOOKUP(CONCATENATE($V$68,\"_\",W72),選手名簿!$A:$E,5,FALSE))","v":""},null,null,null,null,null,null,null,{"$f":"IF(ISERROR(VLOOKUP(CONCATENATE($AD$68,\"_\",AC72),選手名簿!$A:$E,5,FALSE))=TRUE,\"\",VLOOKUP(CONCATENATE($AD$68,\"_\",AC72),選手名簿!$A:$E,5,FALSE))","v":""}]
[null,null,null,null,"得点者",{"$f":"IF(ISERROR(VLOOKUP(CONCATENATE($F$68,\"_\",G73),選手名簿!$A:$E,5,FALSE))=TRUE,\"\",VLOOKUP(CONCATENATE($F$68,\"_\",G73),選手名簿!$A:$E,5,FALSE))","v":""},null,null,null,null,null,null,null,{"$f":"IF(ISERROR(VLOOKUP(CONCATENATE($N$68,\"_\",M73),選手名簿!$A:$E,5,FALSE))=TRUE,\"\",VLOOKUP(CONCATENATE($N$68,\"_\",M73),選手名簿!$A:$E,5,FALSE))","v":""},null,null,null,null,null,null,"得点者",{"$f":"IF(ISERROR(VLOOKUP(CONCATENATE($V$68,\"_\",W73),選手名簿!$A:$E,5,FALSE))=TRUE,\"\",VLOOKUP(CONCATENATE($V$68,\"_\",W73),選手名簿!$A:$E,5,FALSE))","v":""},null,null,null,null,null,null,null,{"$f":"IF(ISERROR(VLOOKUP(CONCATENATE($AD$68,\"_\",AC73),選手名簿!$A:$E,5,FALSE))=TRUE,\"\",VLOOKUP(CONCATENATE($AD$68,\"_\",AC73),選手名簿!$A:$E,5,FALSE))","v":""}]
[null,null,null,null,"得点者",{"$f":"IF(ISERROR(VLOOKUP(CONCATENATE($F$68,\"_\",G74),選手名簿!$A:$E,5,FALSE))=TRUE,\"\",VLOOKUP(CONCATENATE($F$68,\"_\",G74),選手名簿!$A:$E,5,FALSE))","v":""},null,null,null,null,null,null,null,{"$f":"IF(ISERROR(VLOOKUP(CONCATENATE($N$68,\"_\",M74),選手名簿!$A:$E,5,FALSE))=TRUE,\"\",VLOOKUP(CONCATENATE($N$68,\"_\",M74),選手名簿!$A:$E,5,FALSE))","v":""},null,null,null,null,null,null,"得点者",{"$f":"IF(ISERROR(VLOOKUP(CONCATENATE($V$68,\"_\",W74),選手名簿!$A:$E,5,FALSE))=TRUE,\"\",VLOOKUP(CONCATENATE($V$68,\"_\",W74),選手名簿!$A:$E,5,FALSE))","v":""},null,null,null,null,null,null,null,{"$f":"IF(ISERROR(VLOOKUP(CONCATENATE($AD$68,\"_\",AC74),選手名簿!$A:$E,5,FALSE))=TRUE,\"\",VLOOKUP(CONCATENATE($AD$68,\"_\",AC74),選手名簿!$A:$E,5,FALSE))","v":""}]
[null,null,null,null,"得点者",{"$f":"IF(ISERROR(VLOOKUP(CONCATENATE($F$68,\"_\",G75),選手名簿!$A:$E,5,FALSE))=TRUE,\"\",VLOOKUP(CONCATENATE($F$68,\"_\",G75),選手名簿!$A:$E,5,FALSE))","v":""},null,null,null,null,null,null,null,{"$f":"IF(ISERROR(VLOOKUP(CONCATENATE($N$68,\"_\",M75),選手名簿!$A:$E,5,FALSE))=TRUE,\"\",VLOOKUP(CONCATENATE($N$68,\"_\",M75),選手名簿!$A:$E,5,FALSE))","v":""},null,null,null,null,null,null,"得点者",{"$f":"IF(ISERROR(VLOOKUP(CONCATENATE($V$68,\"_\",W75),選手名簿!$A:$E,5,FALSE))=TRUE,\"\",VLOOKUP(CONCATENATE($V$68,\"_\",W75),選手名簿!$A:$E,5,FALSE))","v":""},null,null,null,null,null,null,null,{"$f":"IF(ISERROR(VLOOKUP(CONCATENATE($AD$68,\"_\",AC75),選手名簿!$A:$E,5,FALSE))=TRUE,\"\",VLOOKUP(CONCATENATE($AD$68,\"_\",AC75),選手名簿!$A:$E,5,FALSE))","v":""}]
[null,null,null,null,"得点者",{"$f":"IF(ISERROR(VLOOKUP(CONCATENATE($F$68,\"_\",G76),選手名簿!$A:$E,5,FALSE))=TRUE,\"\",VLOOKUP(CONCATENATE($F$68,\"_\",G76),選手名簿!$A:$E,5,FALSE))","v":""},null,null,null,null,null,null,null,{"$f":"IF(ISERROR(VLOOKUP(CONCATENATE($N$68,\"_\",M76),選手名簿!$A:$E,5,FALSE))=TRUE,\"\",VLOOKUP(CONCATENATE($N$68,\"_\",M76),選手名簿!$A:$E,5,FALSE))","v":""},null,null,null,null,null,null,"得点者",{"$f":"IF(ISERROR(VLOOKUP(CONCATENATE($V$68,\"_\",W76),選手名簿!$A:$E,5,FALSE))=TRUE,\"\",VLOOKUP(CONCATENATE($V$68,\"_\",W76),選手名簿!$A:$E,5,FALSE))","v":""},null,null,null,null,null,null,null,{"$f":"IF(ISERROR(VLOOKUP(CONCATENATE($AD$68,\"_\",AC76),選手名簿!$A:$E,5,FALSE))=TRUE,\"\",VLOOKUP(CONCATENATE($AD$68,\"_\",AC76),選手名簿!$A:$E,5,FALSE))","v":""}]
[null,null,null,null,"得点者",{"$f":"IF(ISERROR(VLOOKUP(CONCATENATE($F$68,\"_\",G77),選手名簿!$A:$E,5,FALSE))=TRUE,\"\",VLOOKUP(CONCATENATE($F$68,\"_\",G77),選手名簿!$A:$E,5,FALSE))","v":""},null,null,null,null,null,null,null,{"$f":"IF(ISERROR(VLOOKUP(CONCATENATE($N$68,\"_\",M77),選手名簿!$A:$E,5,FALSE))=TRUE,\"\",VLOOKUP(CONCATENATE($N$68,\"_\",M77),選手名簿!$A:$E,5,FALSE))","v":""},null,null,null,null,null,null,"得点者",{"$f":"IF(ISERROR(VLOOKUP(CONCATENATE($V$68,\"_\",W77),選手名簿!$A:$E,5,FALSE))=TRUE,\"\",VLOOKUP(CONCATENATE($V$68,\"_\",W77),選手名簿!$A:$E,5,FALSE))","v":""},null,null,null,null,null,null,null,{"$f":"IF(ISERROR(VLOOKUP(CONCATENATE($AD$68,\"_\",AC77),選手名簿!$A:$E,5,FALSE))=TRUE,\"\",VLOOKUP(CONCATENATE($AD$68,\"_\",AC77),選手名簿!$A:$E,5,FALSE))","v":""}]
[null,null,null,null,"得点者",{"$f":"IF(ISERROR(VLOOKUP(CONCATENATE($F$68,\"_\",G78),選手名簿!$A:$E,5,FALSE))=TRUE,\"\",VLOOKUP(CONCATENATE($F$68,\"_\",G78),選手名簿!$A:$E,5,FALSE))","v":""},null,null,null,null,null,null,null,{"$f":"IF(ISERROR(VLOOKUP(CONCATENATE($N$68,\"_\",M78),選手名簿!$A:$E,5,FALSE))=TRUE,\"\",VLOOKUP(CONCATENATE($N$68,\"_\",M78),選手名簿!$A:$E,5,FALSE))","v":""},null,null,null,null,null,null,"得点者",{"$f":"IF(ISERROR(VLOOKUP(CONCATENATE($V$68,\"_\",W78),選手名簿!$A:$E,5,FALSE))=TRUE,\"\",VLOOKUP(CONCATENATE($V$68,\"_\",W78),選手名簿!$A:$E,5,FALSE))","v":""},null,null,null,null,null,null,null,{"$f":"IF(ISERROR(VLOOKUP(CONCATENATE($AD$68,\"_\",AC78),選手名簿!$A:$E,5,FALSE))=TRUE,\"\",VLOOKUP(CONCATENATE($AD$68,\"_\",AC78),選手名簿!$A:$E,5,FALSE))","v":""}]
[null,null,null,null,"得点者",{"$f":"IF(ISERROR(VLOOKUP(CONCATENATE($F$68,\"_\",G79),選手名簿!$A:$E,5,FALSE))=TRUE,\"\",VLOOKUP(CONCATENATE($F$68,\"_\",G79),選手名簿!$A:$E,5,FALSE))","v":""},null,null,null,null,null,null,null,{"$f":"IF(ISERROR(VLOOKUP(CONCATENATE($N$68,\"_\",M79),選手名簿!$A:$E,5,FALSE))=TRUE,\"\",VLOOKUP(CONCATENATE($N$68,\"_\",M79),選手名簿!$A:$E,5,FALSE))","v":""},null,null,null,null,null,null,"得点者",{"$f":"IF(ISERROR(VLOOKUP(CONCATENATE($V$68,\"_\",W79),選手名簿!$A:$E,5,FALSE))=TRUE,\"\",VLOOKUP(CONCATENATE($V$68,\"_\",W79),選手名簿!$A:$E,5,FALSE))","v":""},null,null,null,null,null,null,null,{"$f":"IF(ISERROR(VLOOKUP(CONCATENATE($AD$68,\"_\",AC79),選手名簿!$A:$E,5,FALSE))=TRUE,\"\",VLOOKUP(CONCATENATE($AD$68,\"_\",AC79),選手名簿!$A:$E,5,FALSE))","v":""}]
[null,null,null,null,"得点者",{"$f":"IF(ISERROR(VLOOKUP(CONCATENATE($F$68,\"_\",G80),選手名簿!$A:$E,5,FALSE))=TRUE,\"\",VLOOKUP(CONCATENATE($F$68,\"_\",G80),選手名簿!$A:$E,5,FALSE))","v":""},null,null,null,null,null,null,null,{"$f":"IF(ISERROR(VLOOKUP(CONCATENATE($N$68,\"_\",M80),選手名簿!$A:$E,5,FALSE))=TRUE,\"\",VLOOKUP(CONCATENATE($N$68,\"_\",M80),選手名簿!$A:$E,5,FALSE))","v":""},null,null,null,null,null,null,"得点者",{"$f":"IF(ISERROR(VLOOKUP(CONCATENATE($V$68,\"_\",W80),選手名簿!$A:$E,5,FALSE))=TRUE,\"\",VLOOKUP(CONCATENATE($V$68,\"_\",W80),選手名簿!$A:$E,5,FALSE))","v":""},null,null,null,null,null,null,null,{"$f":"IF(ISERROR(VLOOKUP(CONCATENATE($AD$68,\"_\",AC80),選手名簿!$A:$E,5,FALSE))=TRUE,\"\",VLOOKUP(CONCATENATE($AD$68,\"_\",AC80),選手名簿!$A:$E,5,FALSE))","v":""}]
[null,null,null,null,"得点者",{"$f":"IF(ISERROR(VLOOKUP(CONCATENATE($F$68,\"_\",G81),選手名簿!$A:$E,5,FALSE))=TRUE,\"\",VLOOKUP(CONCATENATE($F$68,\"_\",G81),選手名簿!$A:$E,5,FALSE))","v":""},null,null,null,null,null,null,null,{"$f":"IF(ISERROR(VLOOKUP(CONCATENATE($N$68,\"_\",M81),選手名簿!$A:$E,5,FALSE))=TRUE,\"\",VLOOKUP(CONCATENATE($N$68,\"_\",M81),選手名簿!$A:$E,5,FALSE))","v":""},null,null,null,null,null,null,"得点者",{"$f":"IF(ISERROR(VLOOKUP(CONCATENATE($V$68,\"_\",W81),選手名簿!$A:$E,5,FALSE))=TRUE,\"\",VLOOKUP(CONCATENATE($V$68,\"_\",W81),選手名簿!$A:$E,5,FALSE))","v":""},null,null,null,null,null,null,null,{"$f":"IF(ISERROR(VLOOKUP(CONCATENATE($AD$68,\"_\",AC81),選手名簿!$A:$E,5,FALSE))=TRUE,\"\",VLOOKUP(CONCATENATE($AD$68,\"_\",AC81),選手名簿!$A:$E,5,FALSE))","v":""}]
["番号","R005987050",null,null,null,{"$f":"IF(ISERROR(VLOOKUP(CONCATENATE($F$68,\"_\",G82),選手名簿!$A:$E,5,FALSE))=TRUE,\"\",VLOOKUP(CONCATENATE($F$68,\"_\",G82),選手名簿!$A:$E,5,FALSE))","v":""},null,null,null,null,null,null,null,{"$f":"IF(ISERROR(VLOOKUP(CONCATENATE($N$68,\"_\",M82),選手名簿!$A:$E,5,FALSE))=TRUE,\"\",VLOOKUP(CONCATENATE($N$68,\"_\",M82),選手名簿!$A:$E,5,FALSE))","v":""},null,null,"番号","R010247516",null,null,null,{"$f":"IF(ISERROR(VLOOKUP(CONCATENATE($V$68,\"_\",W82),選手名簿!$A:$E,5,FALSE))=TRUE,\"\",VLOOKUP(CONCATENATE($V$68,\"_\",W82),選手名簿!$A:$E,5,FALSE))","v":""},null,null,null,null,null,null,null,{"$f":"IF(ISERROR(VLOOKUP(CONCATENATE($AD$68,\"_\",AC82),選手名簿!$A:$E,5,FALSE))=TRUE,\"\",VLOOKUP(CONCATENATE($AD$68,\"_\",AC82),選手名簿!$A:$E,5,FALSE))","v":""}]
["R",{"$f":"IF(ISERROR(VLOOKUP(B82,審判員!$A:$C,2,FALSE))=TRUE,\"\",VLOOKUP(B82,審判員!$A:$C,2,FALSE))","v":"星野　敦"},null,{"$f":"IF(ISERROR(VLOOKUP(B82,審判員!$A:$C,3,FALSE))=TRUE,\"\",VLOOKUP(B82,審判員!$A:$C,3,FALSE))","v":"３級"},null,{"$f":"IF(ISERROR(VLOOKUP(CONCATENATE($F$68,\"_\",G83),選手名簿!$A:$E,5,FALSE))=TRUE,\"\",VLOOKUP(CONCATENATE($F$68,\"_\",G83),選手名簿!$A:$E,5,FALSE))","v":""},null,null,null,null,null,null,null,{"$f":"IF(ISERROR(VLOOKUP(CONCATENATE($N$68,\"_\",M83),選手名簿!$A:$E,5,FALSE))=TRUE,\"\",VLOOKUP(CONCATENATE($N$68,\"_\",M83),選手名簿!$A:$E,5,FALSE))","v":""},null,null,"R",{"$f":"IF(ISERROR(VLOOKUP(R82,審判員!$A:$C,2,FALSE))=TRUE,\"\",VLOOKUP(R82,審判員!$A:$C,2,FALSE))","v":"草場　帆斗"},null,{"$f":"IF(ISERROR(VLOOKUP(R82,審判員!$A:$C,3,FALSE))=TRUE,\"\",VLOOKUP(R82,審判員!$A:$C,3,FALSE))","v":"３級"},null,{"$f":"IF(ISERROR(VLOOKUP(CONCATENATE($V$68,\"_\",W83),選手名簿!$A:$E,5,FALSE))=TRUE,\"\",VLOOKUP(CONCATENATE($V$68,\"_\",W83),選手名簿!$A:$E,5,FALSE))","v":""},null,null,null,null,null,null,null,{"$f":"IF(ISERROR(VLOOKUP(CONCATENATE($AD$68,\"_\",AC83),選手名簿!$A:$E,5,FALSE))=TRUE,\"\",VLOOKUP(CONCATENATE($AD$68,\"_\",AC83),選手名簿!$A:$E,5,FALSE))","v":""}]
["番号","R001263350",null,null,null,{"$f":"IF(ISERROR(VLOOKUP(CONCATENATE($F$68,\"_\",G84),選手名簿!$A:$E,5,FALSE))=TRUE,\"\",VLOOKUP(CONCATENATE($F$68,\"_\",G84),選手名簿!$A:$E,5,FALSE))","v":""},null,null,null,null,null,null,null,{"$f":"IF(ISERROR(VLOOKUP(CONCATENATE($N$68,\"_\",M84),選手名簿!$A:$E,5,FALSE))=TRUE,\"\",VLOOKUP(CONCATENATE($N$68,\"_\",M84),選手名簿!$A:$E,5,FALSE))","v":""},null,null,"番号","R009546073",null,null,null,{"$f":"IF(ISERROR(VLOOKUP(CONCATENATE($V$68,\"_\",W84),選手名簿!$A:$E,5,FALSE))=TRUE,\"\",VLOOKUP(CONCATENATE($V$68,\"_\",W84),選手名簿!$A:$E,5,FALSE))","v":""},null,null,null,null,null,null,null,{"$f":"IF(ISERROR(VLOOKUP(CONCATENATE($AD$68,\"_\",AC84),選手名簿!$A:$E,5,FALSE))=TRUE,\"\",VLOOKUP(CONCATENATE($AD$68,\"_\",AC84),選手名簿!$A:$E,5,FALSE))","v":""}]
["AR1:",{"$f":"IF(ISERROR(VLOOKUP(B84,審判員!$A:$C,2,FALSE))=TRUE,\"\",VLOOKUP(B84,審判員!$A:$C,2,FALSE))","v":"酒井　祐三"},null,{"$f":"IF(ISERROR(VLOOKUP(B84,審判員!$A:$C,3,FALSE))=TRUE,\"\",VLOOKUP(B84,審判員!$A:$C,3,FALSE))","v":"３級"},null,{"$f":"IF(ISERROR(VLOOKUP(CONCATENATE($F$68,\"_\",G85),選手名簿!$A:$E,5,FALSE))=TRUE,\"\",VLOOKUP(CONCATENATE($F$68,\"_\",G85),選手名簿!$A:$E,5,FALSE))","v":""},null,null,null,null,null,null,null,{"$f":"IF(ISERROR(VLOOKUP(CONCATENATE($N$68,\"_\",M85),選手名簿!$A:$E,5,FALSE))=TRUE,\"\",VLOOKUP(CONCATENATE($N$68,\"_\",M85),選手名簿!$A:$E,5,FALSE))","v":""},null,null,"AR1:",{"$f":"IF(ISERROR(VLOOKUP(R84,審判員!$A:$C,2,FALSE))=TRUE,\"\",VLOOKUP(R84,審判員!$A:$C,2,FALSE))","v":"小玉　篤史"},null,{"$f":"IF(ISERROR(VLOOKUP(R84,審判員!$A:$C,3,FALSE))=TRUE,\"\",VLOOKUP(R84,審判員!$A:$C,3,FALSE))","v":"３級"},null,{"$f":"IF(ISERROR(VLOOKUP(CONCATENATE($V$68,\"_\",W85),選手名簿!$A:$E,5,FALSE))=TRUE,\"\",VLOOKUP(CONCATENATE($V$68,\"_\",W85),選手名簿!$A:$E,5,FALSE))","v":""},null,null,null,null,null,null,null,{"$f":"IF(ISERROR(VLOOKUP(CONCATENATE($AD$68,\"_\",AC85),選手名簿!$A:$E,5,FALSE))=TRUE,\"\",VLOOKUP(CONCATENATE($AD$68,\"_\",AC85),選手名簿!$A:$E,5,FALSE))","v":""}]
["番号","R001263448",null,null,null,{"$f":"IF(ISERROR(VLOOKUP(CONCATENATE($F$68,\"_\",G86),選手名簿!$A:$E,5,FALSE))=TRUE,\"\",VLOOKUP(CONCATENATE($F$68,\"_\",G86),選手名簿!$A:$E,5,FALSE))","v":""},null,null,null,null,null,null,null,{"$f":"IF(ISERROR(VLOOKUP(CONCATENATE($N$68,\"_\",M86),選手名簿!$A:$E,5,FALSE))=TRUE,\"\",VLOOKUP(CONCATENATE($N$68,\"_\",M86),選手名簿!$A:$E,5,FALSE))","v":""},null,null,"番号","R009624779",null,null,null,{"$f":"IF(ISERROR(VLOOKUP(CONCATENATE($V$68,\"_\",W86),選手名簿!$A:$E,5,FALSE))=TRUE,\"\",VLOOKUP(CONCATENATE($V$68,\"_\",W86),選手名簿!$A:$E,5,FALSE))","v":""},null,null,null,null,null,null,null,{"$f":"IF(ISERROR(VLOOKUP(CONCATENATE($AD$68,\"_\",AC86),選手名簿!$A:$E,5,FALSE))=TRUE,\"\",VLOOKUP(CONCATENATE($AD$68,\"_\",AC86),選手名簿!$A:$E,5,FALSE))","v":""}]
["AR2:",{"$f":"IF(ISERROR(VLOOKUP(B86,審判員!$A:$C,2,FALSE))=TRUE,\"\",VLOOKUP(B86,審判員!$A:$C,2,FALSE))","v":"佐藤　昭生"},null,{"$f":"IF(ISERROR(VLOOKUP(B86,審判員!$A:$C,3,FALSE))=TRUE,\"\",VLOOKUP(B86,審判員!$A:$C,3,FALSE))","v":"３級"},null,{"$f":"IF(ISERROR(VLOOKUP(CONCATENATE($F$68,\"_\",G87),選手名簿!$A:$E,5,FALSE))=TRUE,\"\",VLOOKUP(CONCATENATE($F$68,\"_\",G87),選手名簿!$A:$E,5,FALSE))","v":""},null,null,null,null,null,null,null,{"$f":"IF(ISERROR(VLOOKUP(CONCATENATE($N$68,\"_\",M87),選手名簿!$A:$E,5,FALSE))=TRUE,\"\",VLOOKUP(CONCATENATE($N$68,\"_\",M87),選手名簿!$A:$E,5,FALSE))","v":""},null,null,"AR2:",{"$f":"IF(ISERROR(VLOOKUP(R86,審判員!$A:$C,2,FALSE))=TRUE,\"\",VLOOKUP(R86,審判員!$A:$C,2,FALSE))","v":"株根　蒼太"},null,{"$f":"IF(ISERROR(VLOOKUP(R86,審判員!$A:$C,3,FALSE))=TRUE,\"\",VLOOKUP(R86,審判員!$A:$C,3,FALSE))","v":"３級"},null,{"$f":"IF(ISERROR(VLOOKUP(CONCATENATE($V$68,\"_\",W87),選手名簿!$A:$E,5,FALSE))=TRUE,\"\",VLOOKUP(CONCATENATE($V$68,\"_\",W87),選手名簿!$A:$E,5,FALSE))","v":""},null,null,null,null,null,null,null,{"$f":"IF(ISERROR(VLOOKUP(CONCATENATE($AD$68,\"_\",AC87),選手名簿!$A:$E,5,FALSE))=TRUE,\"\",VLOOKUP(CONCATENATE($AD$68,\"_\",AC87),選手名簿!$A:$E,5,FALSE))","v":""}]
["番号","R010247516",null,null,null,{"$f":"IF(ISERROR(VLOOKUP(CONCATENATE($F$68,\"_\",G88),選手名簿!$A:$E,5,FALSE))=TRUE,\"\",VLOOKUP(CONCATENATE($F$68,\"_\",G88),選手名簿!$A:$E,5,FALSE))","v":""},null,null,null,null,null,null,null,{"$f":"IF(ISERROR(VLOOKUP(CONCATENATE($N$68,\"_\",M88),選手名簿!$A:$E,5,FALSE))=TRUE,\"\",VLOOKUP(CONCATENATE($N$68,\"_\",M88),選手名簿!$A:$E,5,FALSE))","v":""},null,null,"番号","R006901613",null,null,null,{"$f":"IF(ISERROR(VLOOKUP(CONCATENATE($V$68,\"_\",W88),選手名簿!$A:$E,5,FALSE))=TRUE,\"\",VLOOKUP(CONCATENATE($V$68,\"_\",W88),選手名簿!$A:$E,5,FALSE))","v":""},null,null,null,null,null,null,null,{"$f":"IF(ISERROR(VLOOKUP(CONCATENATE($AD$68,\"_\",AC88),選手名簿!$A:$E,5,FALSE))=TRUE,\"\",VLOOKUP(CONCATENATE($AD$68,\"_\",AC88),選手名簿!$A:$E,5,FALSE))","v":""}]
["4th:",{"$f":"IF(ISERROR(VLOOKUP(B88,審判員!$A:$C,2,FALSE))=TRUE,\"\",VLOOKUP(B88,審判員!$A:$C,2,FALSE))","v":"草場　帆斗"},null,{"$f":"IF(ISERROR(VLOOKUP(B88,審判員!$A:$C,3,FALSE))=TRUE,\"\",VLOOKUP(B88,審判員!$A:$C,3,FALSE))","v":"３級"},null,{"$f":"IF(ISERROR(VLOOKUP(CONCATENATE($F$68,\"_\",G89),選手名簿!$A:$E,5,FALSE))=TRUE,\"\",VLOOKUP(CONCATENATE($F$68,\"_\",G89),選手名簿!$A:$E,5,FALSE))","v":""},null,null,null,null,null,null,null,{"$f":"IF(ISERROR(VLOOKUP(CONCATENATE($N$68,\"_\",M89),選手名簿!$A:$E,5,FALSE))=TRUE,\"\",VLOOKUP(CONCATENATE($N$68,\"_\",M89),選手名簿!$A:$E,5,FALSE))","v":""},null,null,"4th:",{"$f":"IF(ISERROR(VLOOKUP(R88,審判員!$A:$C,2,FALSE))=TRUE,\"\",VLOOKUP(R88,審判員!$A:$C,2,FALSE))","v":"岡部　明男"},null,{"$f":"IF(ISERROR(VLOOKUP(R88,審判員!$A:$C,3,FALSE))=TRUE,\"\",VLOOKUP(R88,審判員!$A:$C,3,FALSE))","v":"３級"},null,{"$f":"IF(ISERROR(VLOOKUP(CONCATENATE($V$68,\"_\",W89),選手名簿!$A:$E,5,FALSE))=TRUE,\"\",VLOOKUP(CONCATENATE($V$68,\"_\",W89),選手名簿!$A:$E,5,FALSE))","v":""},null,null,null,null,null,null,null,{"$f":"IF(ISERROR(VLOOKUP(CONCATENATE($AD$68,\"_\",AC89),選手名簿!$A:$E,5,FALSE))=TRUE,\"\",VLOOKUP(CONCATENATE($AD$68,\"_\",AC89),選手名簿!$A:$E,5,FALSE))","v":""}]

{"sheet":"予選リーグ公式記録(B北)","index":10,"n_rows":89,"n_cols":31,"rows_kept":89,"cut":false,"hidden":false,"merged":[[6,5,6,11],[23,1,23,3],[24,1,24,2],[38,20,40,20],[38,21,40,21],[9,7,11,7],[9,11,11,11],[9,4,11,4],[9,5,11,5],[23,17,23,19],[9,6,11,6],[38,4,40,4],[9,20,11,20],[9,21,11,21],[6,12,6,13],[9,12,11,12],[9,13,11,13],[24,17,24,18],[29,1,29,3],[29,17,29,19],[30,1,30,2],[30,17,30,18],[25,1,25,3],[25,17,25,19],[4,12,4,13],[4,5,4,11],[5,5,5,11],[5,12,5,13],[4,21,4,27],[0,0,0,9],[0,10,0,13],[0,16,0,25],[0,26,0,29],[9,27,11,27],[9,28,11,28],[9,29,11,29],[9,22,11,22],[5,21,5,27],[6,21,6,27],[4,28,4,29],[5,28,5,29],[6,28,6,29],[9,23,11,23],[38,23,40,23],[38,27,40,27],[38,28,40,28],[38,29,40,29],[52,1,52,3],[52,17,52,19],[38,5,40,5],[38,6,40,6],[38,7,40,7],[38,11,40,11],[38,12,40,12],[38,13,40,13],[38,22,40,22],[39,17,39,19],[40,17,40,19],[39,1,39,3],[40,1,40,3],[38,1,38,3],[38,17,38,19],[67,20,69,20],[67,21,69,21],[67,22,69,22],[67,4,69,4],[67,5,69,5],[67,6,69,6],[67,7,69,7],[67,11,69,11],[70,0,70,3],[70,16,70,19],[67,12,69,12],[67,13,69,13],[67,14,69,14],[68,1,68,3],[69,1,69,3],[68,17,68,19],[69,17,69,19],[67,1,67,3],[67,17,67,19],[88,1,88,2],[88,17,88,18],[84,1,84,2],[84,17,84,18],[85,1,85,3],[85,17,85,19],[86,1,86,2],[86,17,86,18],[81,1,81,3],[81,17,81,19],[82,1,82,2],[82,17,82,18],[83,1,83,3],[83,17,83,19],[59,17,59,18],[57,1,57,2],[57,17,57,18],[58,1,58,3],[58,17,58,19],[9,14,11,14],[38,14,40,14],[87,1,87,3],[87,17,87,19],[27,1,27,3],[27,17,27,19],[10,1,10,3],[11,1,11,3],[10,17,10,19],[11,17,11,19],[9,1,9,3],[9,17,9,19],[9,30,11,30],[38,30,40,30],[67,30,69,30],[12,0,12,3],[12,16,12,19],[41,0,41,3],[41,16,41,19],[53,1,53,2],[53,17,53,18],[54,1,54,3],[54,17,54,19],[55,1,55,2],[55,17,55,18],[28,1,28,2],[28,17,28,18],[67,29,69,29],[67,23,69,23],[67,27,69,27],[67,28,69,28],[26,1,26,2],[26,17,26,18],[56,1,56,3],[56,17,56,19],[59,1,59,2]]}
[{"$f":"要項!C2","v":"OFA 第 31 回 大分県ジュニアサッカー選手権大会"},null,null,null,null,null,null,null,null,null,"予選リーグ結果　報告用紙",null,null,null,null,null,{"$f":"要項!C2","v":"OFA 第 31 回 大分県ジュニアサッカー選手権大会"},null,null,null,null,null,null,null,null,null,"予選リーグ結果　報告用紙"]
[]
["会場","大分県大分スポーツ公園　 昭和電工サッカー・ラグビー場　B　北側",null,null,null,null,null,null,null,null,null,null,null,null,null,null,null,"会場","大分県大分スポーツ公園　 昭和電工サッカー・ラグビー場　B　北側"]
[]
[null,null,null,null,"E1",{"$f":"VLOOKUP(E5,組合せ抽選用!$Q:$U,5,FALSE)","v":"スマイス・セレソン"},null,null,null,null,null,null,{"$f":"VLOOKUP(E5,組合せ抽選用!$Q:$V,6,FALSE)","v":"別府"},null,null,null,null,null,null,null,"G1",{"$f":"VLOOKUP(U5,組合せ抽選用!$Q:$U,5,FALSE)","v":"日出サッカースポーツ少年団"},null,null,null,null,null,null,{"$f":"VLOOKUP(U5,組合せ抽選用!$Q:$V,6,FALSE)","v":"速杵国東"}]
[null,null,null,null,"E2",{"$f":"VLOOKUP(E6,組合せ抽選用!$Q:$U,5,FALSE)","v":"カティオーラフットボールクラブ　大在"},null,null,null,null,null,null,{"$f":"VLOOKUP(E6,組合せ抽選用!$Q:$V,6,FALSE)","v":"大分"},null,null,null,null,null,null,null,"G2",{"$f":"VLOOKUP(U6,組合せ抽選用!$Q:$U,5,FALSE)","v":"大分トリニータＵ－１２"},null,null,null,null,null,null,{"$f":"VLOOKUP(U6,組合せ抽選用!$Q:$V,6,FALSE)","v":"大分"}]
[null,null,null,null,"E3",{"$f":"VLOOKUP(E7,組合せ抽選用!$Q:$U,5,FALSE)","v":"太陽スポーツクラブ大分西"},null,null,null,null,null,null,{"$f":"VLOOKUP(E7,組合せ抽選用!$Q:$V,6,FALSE)","v":"日田"},null,null,null,null,null,null,null,"G3",{"$f":"VLOOKUP(U7,組合せ抽選用!$Q:$U,5,FALSE)","v":"ＦＣ中津ジュニア"},null,null,null,null,null,null,{"$f":"VLOOKUP(U7,組合せ抽選用!$Q:$V,6,FALSE)","v":"中津"}]
[]
[]
["MC","中原　圭介",null,null,{"$f":"予選リーグ!B19","v":"10:00:00"},{"$f":"F5","v":"スマイス・セレソン"},{"$f":"SUM(I10:I11)","v":6},"（",3,"前半",0,"）",{"$f":"SUM(K10:K11)","v":0},{"$f":"F6","v":"カティオーラフットボールクラブ　大在"},null,null,"MC","安東　信二",null,null,{"$f":"予選リーグ!B21","v":"10:50:00"},{"$f":"V5","v":"日出サッカースポーツ少年団"},{"$f":"SUM(Y10:Y11)","v":0},"（",0,"前半",4,"）",{"$f":"SUM(AA10:AA11)","v":10},{"$f":"V6","v":"大分トリニータＵ－１２"}]
["Welfare\nOfficer",null,null,null,null,null,null,null,3,"後半",0,null,null,null,null,null,"Welfare\nOfficer",null,null,null,null,null,null,null,0,"後半",6]
["記録","磯村　信一",null,null,null,null,null,null,null,"PK",null,null,null,null,null,null,"記録","中原　圭介",null,null,null,null,null,null,null,"PK"]
["＜Referee＞",null,null,null,"警告/退場\n選択肢より","氏名","番号","分","内容\n選択肢より",null,"内容\n選択肢より","分","番号","氏名","警告/退場\n選択肢より",null,"＜Referee＞",null,null,null,"警告/退場\n選択肢より","氏名","番号","分","内容\n選択肢より",null,"内容\n選択肢より","分","番号","氏名","警告/退場\n選択肢より"]
[null,null,null,null,"得点者",{"$f":"IF(ISERROR(VLOOKUP(CONCATENATE($F$10,\"_\",G14),選手名簿!$A:$E,5,FALSE))=TRUE,\"\",VLOOKUP(CONCATENATE($F$10,\"_\",G14),選手名簿!$A:$E,5,FALSE))","v":""},null,null,null,null,null,null,null,{"$f":"IF(ISERROR(VLOOKUP(CONCATENATE($N$10,\"_\",M14),選手名簿!$A:$E,5,FALSE))=TRUE,\"\",VLOOKUP(CONCATENATE($N$10,\"_\",M14),選手名簿!$A:$E,5,FALSE))","v":""},null,null,null,null,null,null,"得点者",{"$f":"IF(ISERROR(VLOOKUP(CONCATENATE($V$10,\"_\",W14),選手名簿!$A:$E,5,FALSE))=TRUE,\"\",VLOOKUP(CONCATENATE($V$10,\"_\",W14),選手名簿!$A:$E,5,FALSE))","v":""},null,null,null,null,null,null,null,{"$f":"IF(ISERROR(VLOOKUP(CONCATENATE($AD$10,\"_\",AC14),選手名簿!$A:$E,5,FALSE))=TRUE,\"\",VLOOKUP(CONCATENATE($AD$10,\"_\",AC14),選手名簿!$A:$E,5,FALSE))","v":""}]
[null,null,null,null,"得点者",{"$f":"IF(ISERROR(VLOOKUP(CONCATENATE($F$10,\"_\",G15),選手名簿!$A:$E,5,FALSE))=TRUE,\"\",VLOOKUP(CONCATENATE($F$10,\"_\",G15),選手名簿!$A:$E,5,FALSE))","v":""},null,null,null,null,null,null,null,{"$f":"IF(ISERROR(VLOOKUP(CONCATENATE($N$10,\"_\",M15),選手名簿!$A:$E,5,FALSE))=TRUE,\"\",VLOOKUP(CONCATENATE($N$10,\"_\",M15),選手名簿!$A:$E,5,FALSE))","v":""},null,null,null,null,null,null,"得点者",{"$f":"IF(ISERROR(VLOOKUP(CONCATENATE($V$10,\"_\",W15),選手名簿!$A:$E,5,FALSE))=TRUE,\"\",VLOOKUP(CONCATENATE($V$10,\"_\",W15),選手名簿!$A:$E,5,FALSE))","v":""},null,null,null,null,null,null,null,{"$f":"IF(ISERROR(VLOOKUP(CONCATENATE($AD$10,\"_\",AC15),選手名簿!$A:$E,5,FALSE))=TRUE,\"\",VLOOKUP(CONCATENATE($AD$10,\"_\",AC15),選手名簿!$A:$E,5,FALSE))","v":""}]
[null,null,null,null,"得点者",{"$f":"IF(ISERROR(VLOOKUP(CONCATENATE($F$10,\"_\",G16),選手名簿!$A:$E,5,FALSE))=TRUE,\"\",VLOOKUP(CONCATENATE($F$10,\"_\",G16),選手名簿!$A:$E,5,FALSE))","v":""},null,null,null,null,null,null,null,{"$f":"IF(ISERROR(VLOOKUP(CONCATENATE($N$10,\"_\",M16),選手名簿!$A:$E,5,FALSE))=TRUE,\"\",VLOOKUP(CONCATENATE($N$10,\"_\",M16),選手名簿!$A:$E,5,FALSE))","v":""},null,null,null,null,null,null,"得点者",{"$f":"IF(ISERROR(VLOOKUP(CONCATENATE($V$10,\"_\",W16),選手名簿!$A:$E,5,FALSE))=TRUE,\"\",VLOOKUP(CONCATENATE($V$10,\"_\",W16),選手名簿!$A:$E,5,FALSE))","v":""},null,null,null,null,null,null,null,{"$f":"IF(ISERROR(VLOOKUP(CONCATENATE($AD$10,\"_\",AC16),選手名簿!$A:$E,5,FALSE))=TRUE,\"\",VLOOKUP(CONCATENATE($AD$10,\"_\",AC16),選手名簿!$A:$E,5,FALSE))","v":""}]
[null,null,null,null,"得点者",{"$f":"IF(ISERROR(VLOOKUP(CONCATENATE($F$10,\"_\",G17),選手名簿!$A:$E,5,FALSE))=TRUE,\"\",VLOOKUP(CONCATENATE($F$10,\"_\",G17),選手名簿!$A:$E,5,FALSE))","v":""},null,null,null,null,null,null,null,{"$f":"IF(ISERROR(VLOOKUP(CONCATENATE($N$10,\"_\",M17),選手名簿!$A:$E,5,FALSE))=TRUE,\"\",VLOOKUP(CONCATENATE($N$10,\"_\",M17),選手名簿!$A:$E,5,FALSE))","v":""},null,null,null,null,null,null,"得点者",{"$f":"IF(ISERROR(VLOOKUP(CONCATENATE($V$10,\"_\",W17),選手名簿!$A:$E,5,FALSE))=TRUE,\"\",VLOOKUP(CONCATENATE($V$10,\"_\",W17),選手名簿!$A:$E,5,FALSE))","v":""},null,null,null,null,null,null,null,{"$f":"IF(ISERROR(VLOOKUP(CONCATENATE($AD$10,\"_\",AC17),選手名簿!$A:$E,5,FALSE))=TRUE,\"\",VLOOKUP(CONCATENATE($AD$10,\"_\",AC17),選手名簿!$A:$E,5,FALSE))","v":""}]
[null,null,null,null,"得点者",{"$f":"IF(ISERROR(VLOOKUP(CONCATENATE($F$10,\"_\",G18),選手名簿!$A:$E,5,FALSE))=TRUE,\"\",VLOOKUP(CONCATENATE($F$10,\"_\",G18),選手名簿!$A:$E,5,FALSE))","v":""},null,null,null,null,null,null,null,{"$f":"IF(ISERROR(VLOOKUP(CONCATENATE($N$10,\"_\",M18),選手名簿!$A:$E,5,FALSE))=TRUE,\"\",VLOOKUP(CONCATENATE($N$10,\"_\",M18),選手名簿!$A:$E,5,FALSE))","v":""},null,null,null,null,null,null,"得点者",{"$f":"IF(ISERROR(VLOOKUP(CONCATENATE($V$10,\"_\",W18),選手名簿!$A:$E,5,FALSE))=TRUE,\"\",VLOOKUP(CONCATENATE($V$10,\"_\",W18),選手名簿!$A:$E,5,FALSE))","v":""},null,null,null,null,null,null,null,{"$f":"IF(ISERROR(VLOOKUP(CONCATENATE($AD$10,\"_\",AC18),選手名簿!$A:$E,5,FALSE))=TRUE,\"\",VLOOKUP(CONCATENATE($AD$10,\"_\",AC18),選手名簿!$A:$E,5,FALSE))","v":""}]
[null,null,null,null,"得点者",{"$f":"IF(ISERROR(VLOOKUP(CONCATENATE($F$10,\"_\",G19),選手名簿!$A:$E,5,FALSE))=TRUE,\"\",VLOOKUP(CONCATENATE($F$10,\"_\",G19),選手名簿!$A:$E,5,FALSE))","v":""},null,null,null,null,null,null,null,{"$f":"IF(ISERROR(VLOOKUP(CONCATENATE($N$10,\"_\",M19),選手名簿!$A:$E,5,FALSE))=TRUE,\"\",VLOOKUP(CONCATENATE($N$10,\"_\",M19),選手名簿!$A:$E,5,FALSE))","v":""},null,null,null,null,null,null,"得点者",{"$f":"IF(ISERROR(VLOOKUP(CONCATENATE($V$10,\"_\",W19),選手名簿!$A:$E,5,FALSE))=TRUE,\"\",VLOOKUP(CONCATENATE($V$10,\"_\",W19),選手名簿!$A:$E,5,FALSE))","v":""},null,null,null,null,null,null,null,{"$f":"IF(ISERROR(VLOOKUP(CONCATENATE($AD$10,\"_\",AC19),選手名簿!$A:$E,5,FALSE))=TRUE,\"\",VLOOKUP(CONCATENATE($AD$10,\"_\",AC19),選手名簿!$A:$E,5,FALSE))","v":""}]
[null,null,null,null,"得点者",{"$f":"IF(ISERROR(VLOOKUP(CONCATENATE($F$10,\"_\",G20),選手名簿!$A:$E,5,FALSE))=TRUE,\"\",VLOOKUP(CONCATENATE($F$10,\"_\",G20),選手名簿!$A:$E,5,FALSE))","v":""},null,null,null,null,null,null,null,{"$f":"IF(ISERROR(VLOOKUP(CONCATENATE($N$10,\"_\",M20),選手名簿!$A:$E,5,FALSE))=TRUE,\"\",VLOOKUP(CONCATENATE($N$10,\"_\",M20),選手名簿!$A:$E,5,FALSE))","v":""},null,null,null,null,null,null,"得点者",{"$f":"IF(ISERROR(VLOOKUP(CONCATENATE($V$10,\"_\",W20),選手名簿!$A:$E,5,FALSE))=TRUE,\"\",VLOOKUP(CONCATENATE($V$10,\"_\",W20),選手名簿!$A:$E,5,FALSE))","v":""},null,null,null,null,null,null,null,{"$f":"IF(ISERROR(VLOOKUP(CONCATENATE($AD$10,\"_\",AC20),選手名簿!$A:$E,5,FALSE))=TRUE,\"\",VLOOKUP(CONCATENATE($AD$10,\"_\",AC20),選手名簿!$A:$E,5,FALSE))","v":""}]
[null,null,null,null,"得点者",{"$f":"IF(ISERROR(VLOOKUP(CONCATENATE($F$10,\"_\",G21),選手名簿!$A:$E,5,FALSE))=TRUE,\"\",VLOOKUP(CONCATENATE($F$10,\"_\",G21),選手名簿!$A:$E,5,FALSE))","v":""},null,null,null,null,null,null,null,{"$f":"IF(ISERROR(VLOOKUP(CONCATENATE($N$10,\"_\",M21),選手名簿!$A:$E,5,FALSE))=TRUE,\"\",VLOOKUP(CONCATENATE($N$10,\"_\",M21),選手名簿!$A:$E,5,FALSE))","v":""},null,null,null,null,null,null,"得点者",{"$f":"IF(ISERROR(VLOOKUP(CONCATENATE($V$10,\"_\",W21),選手名簿!$A:$E,5,FALSE))=TRUE,\"\",VLOOKUP(CONCATENATE($V$10,\"_\",W21),選手名簿!$A:$E,5,FALSE))","v":""},null,null,null,null,null,null,null,{"$f":"IF(ISERROR(VLOOKUP(CONCATENATE($AD$10,\"_\",AC21),選手名簿!$A:$E,5,FALSE))=TRUE,\"\",VLOOKUP(CONCATENATE($AD$10,\"_\",AC21),選手名簿!$A:$E,5,FALSE))","v":""}]
[null,null,null,null,"得点者",{"$f":"IF(ISERROR(VLOOKUP(CONCATENATE($F$10,\"_\",G22),選手名簿!$A:$E,5,FALSE))=TRUE,\"\",VLOOKUP(CONCATENATE($F$10,\"_\",G22),選手名簿!$A:$E,5,FALSE))","v":""},null,null,null,null,null,null,null,{"$f":"IF(ISERROR(VLOOKUP(CONCATENATE($N$10,\"_\",M22),選手名簿!$A:$E,5,FALSE))=TRUE,\"\",VLOOKUP(CONCATENATE($N$10,\"_\",M22),選手名簿!$A:$E,5,FALSE))","v":""},null,null,null,null,null,null,"得点者",{"$f":"IF(ISERROR(VLOOKUP(CONCATENATE($V$10,\"_\",W22),選手名簿!$A:$E,5,FALSE))=TRUE,\"\",VLOOKUP(CONCATENATE($V$10,\"_\",W22),選手名簿!$A:$E,5,FALSE))","v":""},null,null,null,null,null,null,null,{"$f":"IF(ISERROR(VLOOKUP(CONCATENATE($AD$10,\"_\",AC22),選手名簿!$A:$E,5,FALSE))=TRUE,\"\",VLOOKUP(CONCATENATE($AD$10,\"_\",AC22),選手名簿!$A:$E,5,FALSE))","v":""}]
[null,null,null,null,"得点者",{"$f":"IF(ISERROR(VLOOKUP(CONCATENATE($F$10,\"_\",G23),選手名簿!$A:$E,5,FALSE))=TRUE,\"\",VLOOKUP(CONCATENATE($F$10,\"_\",G23),選手名簿!$A:$E,5,FALSE))","v":""},null,null,null,null,null,null,null,{"$f":"IF(ISERROR(VLOOKUP(CONCATENATE($N$10,\"_\",M23),選手名簿!$A:$E,5,FALSE))=TRUE,\"\",VLOOKUP(CONCATENATE($N$10,\"_\",M23),選手名簿!$A:$E,5,FALSE))","v":""},null,null,null,null,null,null,"得点者",{"$f":"IF(ISERROR(VLOOKUP(CONCATENATE($V$10,\"_\",W23),選手名簿!$A:$E,5,FALSE))=TRUE,\"\",VLOOKUP(CONCATENATE($V$10,\"_\",W23),選手名簿!$A:$E,5,FALSE))","v":""},null,null,null,null,null,null,null,{"$f":"IF(ISERROR(VLOOKUP(CONCATENATE($AD$10,\"_\",AC23),選手名簿!$A:$E,5,FALSE))=TRUE,\"\",VLOOKUP(CONCATENATE($AD$10,\"_\",AC23),選手名簿!$A:$E,5,FALSE))","v":""}]
["番号","R004111340",null,null,null,{"$f":"IF(ISERROR(VLOOKUP(CONCATENATE($F$10,\"_\",G24),選手名簿!$A:$E,5,FALSE))=TRUE,\"\",VLOOKUP(CONCATENATE($F$10,\"_\",G24),選手名簿!$A:$E,5,FALSE))","v":""},null,null,null,null,null,null,null,{"$f":"IF(ISERROR(VLOOKUP(CONCATENATE($N$10,\"_\",M24),選手名簿!$A:$E,5,FALSE))=TRUE,\"\",VLOOKUP(CONCATENATE($N$10,\"_\",M24),選手名簿!$A:$E,5,FALSE))","v":""},null,null,"番号","R003972443",null,null,null,{"$f":"IF(ISERROR(VLOOKUP(CONCATENATE($V$10,\"_\",W24),選手名簿!$A:$E,5,FALSE))=TRUE,\"\",VLOOKUP(CONCATENATE($V$10,\"_\",W24),選手名簿!$A:$E,5,FALSE))","v":""},null,null,null,null,null,null,null,{"$f":"IF(ISERROR(VLOOKUP(CONCATENATE($AD$10,\"_\",AC24),選手名簿!$A:$E,5,FALSE))=TRUE,\"\",VLOOKUP(CONCATENATE($AD$10,\"_\",AC24),選手名簿!$A:$E,5,FALSE))","v":""}]
["R",{"$f":"IF(ISERROR(VLOOKUP(B24,審判員!$A:$C,2,FALSE))=TRUE,\"\",VLOOKUP(B24,審判員!$A:$C,2,FALSE))","v":"唐下　直之"},null,{"$f":"IF(ISERROR(VLOOKUP(B24,審判員!$A:$C,3,FALSE))=TRUE,\"\",VLOOKUP(B24,審判員!$A:$C,3,FALSE))","v":"３級"},null,{"$f":"IF(ISERROR(VLOOKUP(CONCATENATE($F$10,\"_\",G25),選手名簿!$A:$E,5,FALSE))=TRUE,\"\",VLOOKUP(CONCATENATE($F$10,\"_\",G25),選手名簿!$A:$E,5,FALSE))","v":""},null,null,null,null,null,null,null,{"$f":"IF(ISERROR(VLOOKUP(CONCATENATE($N$10,\"_\",M25),選手名簿!$A:$E,5,FALSE))=TRUE,\"\",VLOOKUP(CONCATENATE($N$10,\"_\",M25),選手名簿!$A:$E,5,FALSE))","v":""},null,null,"R",{"$f":"IF(ISERROR(VLOOKUP(R24,審判員!$A:$C,2,FALSE))=TRUE,\"\",VLOOKUP(R24,審判員!$A:$C,2,FALSE))","v":"矢野　三千生"},null,{"$f":"IF(ISERROR(VLOOKUP(R24,審判員!$A:$C,3,FALSE))=TRUE,\"\",VLOOKUP(R24,審判員!$A:$C,3,FALSE))","v":"３級"},null,{"$f":"IF(ISERROR(VLOOKUP(CONCATENATE($V$10,\"_\",W25),選手名簿!$A:$E,5,FALSE))=TRUE,\"\",VLOOKUP(CONCATENATE($V$10,\"_\",W25),選手名簿!$A:$E,5,FALSE))","v":""},null,null,null,null,null,null,null,{"$f":"IF(ISERROR(VLOOKUP(CONCATENATE($AD$10,\"_\",AC25),選手名簿!$A:$E,5,FALSE))=TRUE,\"\",VLOOKUP(CONCATENATE($AD$10,\"_\",AC25),選手名簿!$A:$E,5,FALSE))","v":""}]
["番号","R001263721",null,null,null,{"$f":"IF(ISERROR(VLOOKUP(CONCATENATE($F$10,\"_\",G26),選手名簿!$A:$E,5,FALSE))=TRUE,\"\",VLOOKUP(CONCATENATE($F$10,\"_\",G26),選手名簿!$A:$E,5,FALSE))","v":""},null,null,null,null,null,null,null,{"$f":"IF(ISERROR(VLOOKUP(CONCATENATE($N$10,\"_\",M26),選手名簿!$A:$E,5,FALSE))=TRUE,\"\",VLOOKUP(CONCATENATE($N$10,\"_\",M26),選手名簿!$A:$E,5,FALSE))","v":""},null,null,"番号","R004326535",null,null,null,{"$f":"IF(ISERROR(VLOOKUP(CONCATENATE($V$10,\"_\",W26),選手名簿!$A:$E,5,FALSE))=TRUE,\"\",VLOOKUP(CONCATENATE($V$10,\"_\",W26),選手名簿!$A:$E,5,FALSE))","v":""},null,null,null,null,null,null,null,{"$f":"IF(ISERROR(VLOOKUP(CONCATENATE($AD$10,\"_\",AC26),選手名簿!$A:$E,5,FALSE))=TRUE,\"\",VLOOKUP(CONCATENATE($AD$10,\"_\",AC26),選手名簿!$A:$E,5,FALSE))","v":""}]
["AR1:",{"$f":"IF(ISERROR(VLOOKUP(B26,審判員!$A:$C,2,FALSE))=TRUE,\"\",VLOOKUP(B26,審判員!$A:$C,2,FALSE))","v":"園　貴司"},null,{"$f":"IF(ISERROR(VLOOKUP(B26,審判員!$A:$C,3,FALSE))=TRUE,\"\",VLOOKUP(B26,審判員!$A:$C,3,FALSE))","v":"３級"},null,{"$f":"IF(ISERROR(VLOOKUP(CONCATENATE($F$10,\"_\",G27),選手名簿!$A:$E,5,FALSE))=TRUE,\"\",VLOOKUP(CONCATENATE($F$10,\"_\",G27),選手名簿!$A:$E,5,FALSE))","v":""},null,null,null,null,null,null,null,{"$f":"IF(ISERROR(VLOOKUP(CONCATENATE($N$10,\"_\",M27),選手名簿!$A:$E,5,FALSE))=TRUE,\"\",VLOOKUP(CONCATENATE($N$10,\"_\",M27),選手名簿!$A:$E,5,FALSE))","v":""},null,null,"AR1:",{"$f":"IF(ISERROR(VLOOKUP(R26,審判員!$A:$C,2,FALSE))=TRUE,\"\",VLOOKUP(R26,審判員!$A:$C,2,FALSE))","v":"信田　卓也"},null,{"$f":"IF(ISERROR(VLOOKUP(R26,審判員!$A:$C,3,FALSE))=TRUE,\"\",VLOOKUP(R26,審判員!$A:$C,3,FALSE))","v":"３級"},null,{"$f":"IF(ISERROR(VLOOKUP(CONCATENATE($V$10,\"_\",W27),選手名簿!$A:$E,5,FALSE))=TRUE,\"\",VLOOKUP(CONCATENATE($V$10,\"_\",W27),選手名簿!$A:$E,5,FALSE))","v":""},null,null,null,null,null,null,null,{"$f":"IF(ISERROR(VLOOKUP(CONCATENATE($AD$10,\"_\",AC27),選手名簿!$A:$E,5,FALSE))=TRUE,\"\",VLOOKUP(CONCATENATE($AD$10,\"_\",AC27),選手名簿!$A:$E,5,FALSE))","v":""}]
["番号","R001262829",null,null,null,{"$f":"IF(ISERROR(VLOOKUP(CONCATENATE($F$10,\"_\",G28),選手名簿!$A:$E,5,FALSE))=TRUE,\"\",VLOOKUP(CONCATENATE($F$10,\"_\",G28),選手名簿!$A:$E,5,FALSE))","v":""},null,null,null,null,null,null,null,{"$f":"IF(ISERROR(VLOOKUP(CONCATENATE($N$10,\"_\",M28),選手名簿!$A:$E,5,FALSE))=TRUE,\"\",VLOOKUP(CONCATENATE($N$10,\"_\",M28),選手名簿!$A:$E,5,FALSE))","v":""},null,null,"番号","R010376294",null,null,null,{"$f":"IF(ISERROR(VLOOKUP(CONCATENATE($V$10,\"_\",W28),選手名簿!$A:$E,5,FALSE))=TRUE,\"\",VLOOKUP(CONCATENATE($V$10,\"_\",W28),選手名簿!$A:$E,5,FALSE))","v":""},null,null,null,null,null,null,null,{"$f":"IF(ISERROR(VLOOKUP(CONCATENATE($AD$10,\"_\",AC28),選手名簿!$A:$E,5,FALSE))=TRUE,\"\",VLOOKUP(CONCATENATE($AD$10,\"_\",AC28),選手名簿!$A:$E,5,FALSE))","v":""}]
["AR2:",{"$f":"IF(ISERROR(VLOOKUP(B28,審判員!$A:$C,2,FALSE))=TRUE,\"\",VLOOKUP(B28,審判員!$A:$C,2,FALSE))","v":"笠置　忠照"},null,{"$f":"IF(ISERROR(VLOOKUP(B28,審判員!$A:$C,3,FALSE))=TRUE,\"\",VLOOKUP(B28,審判員!$A:$C,3,FALSE))","v":"３級"},null,{"$f":"IF(ISERROR(VLOOKUP(CONCATENATE($F$10,\"_\",G29),選手名簿!$A:$E,5,FALSE))=TRUE,\"\",VLOOKUP(CONCATENATE($F$10,\"_\",G29),選手名簿!$A:$E,5,FALSE))","v":""},null,null,null,null,null,null,null,{"$f":"IF(ISERROR(VLOOKUP(CONCATENATE($N$10,\"_\",M29),選手名簿!$A:$E,5,FALSE))=TRUE,\"\",VLOOKUP(CONCATENATE($N$10,\"_\",M29),選手名簿!$A:$E,5,FALSE))","v":""},null,null,"AR2:",{"$f":"IF(ISERROR(VLOOKUP(R28,審判員!$A:$C,2,FALSE))=TRUE,\"\",VLOOKUP(R28,審判員!$A:$C,2,FALSE))","v":"株根　聖太"},null,{"$f":"IF(ISERROR(VLOOKUP(R28,審判員!$A:$C,3,FALSE))=TRUE,\"\",VLOOKUP(R28,審判員!$A:$C,3,FALSE))","v":"３級"},null,{"$f":"IF(ISERROR(VLOOKUP(CONCATENATE($V$10,\"_\",W29),選手名簿!$A:$E,5,FALSE))=TRUE,\"\",VLOOKUP(CONCATENATE($V$10,\"_\",W29),選手名簿!$A:$E,5,FALSE))","v":""},null,null,null,null,null,null,null,{"$f":"IF(ISERROR(VLOOKUP(CONCATENATE($AD$10,\"_\",AC29),選手名簿!$A:$E,5,FALSE))=TRUE,\"\",VLOOKUP(CONCATENATE($AD$10,\"_\",AC29),選手名簿!$A:$E,5,FALSE))","v":""}]
["番号","R003972443",null,null,null,{"$f":"IF(ISERROR(VLOOKUP(CONCATENATE($F$10,\"_\",G30),選手名簿!$A:$E,5,FALSE))=TRUE,\"\",VLOOKUP(CONCATENATE($F$10,\"_\",G30),選手名簿!$A:$E,5,FALSE))","v":""},null,null,null,null,null,null,null,{"$f":"IF(ISERROR(VLOOKUP(CONCATENATE($N$10,\"_\",M30),選手名簿!$A:$E,5,FALSE))=TRUE,\"\",VLOOKUP(CONCATENATE($N$10,\"_\",M30),選手名簿!$A:$E,5,FALSE))","v":""},null,null,"番号","R010074018",null,null,null,{"$f":"IF(ISERROR(VLOOKUP(CONCATENATE($V$10,\"_\",W30),選手名簿!$A:$E,5,FALSE))=TRUE,\"\",VLOOKUP(CONCATENATE($V$10,\"_\",W30),選手名簿!$A:$E,5,FALSE))","v":""},null,null,null,null,null,null,null,{"$f":"IF(ISERROR(VLOOKUP(CONCATENATE($AD$10,\"_\",AC30),選手名簿!$A:$E,5,FALSE))=TRUE,\"\",VLOOKUP(CONCATENATE($AD$10,\"_\",AC30),選手名簿!$A:$E,5,FALSE))","v":""}]
["4th:",{"$f":"IF(ISERROR(VLOOKUP(B30,審判員!$A:$C,2,FALSE))=TRUE,\"\",VLOOKUP(B30,審判員!$A:$C,2,FALSE))","v":"矢野　三千生"},null,{"$f":"IF(ISERROR(VLOOKUP(B30,審判員!$A:$C,3,FALSE))=TRUE,\"\",VLOOKUP(B30,審判員!$A:$C,3,FALSE))","v":"３級"},null,{"$f":"IF(ISERROR(VLOOKUP(CONCATENATE($F$10,\"_\",G31),選手名簿!$A:$E,5,FALSE))=TRUE,\"\",VLOOKUP(CONCATENATE($F$10,\"_\",G31),選手名簿!$A:$E,5,FALSE))","v":""},null,null,null,null,null,null,null,{"$f":"IF(ISERROR(VLOOKUP(CONCATENATE($N$10,\"_\",M31),選手名簿!$A:$E,5,FALSE))=TRUE,\"\",VLOOKUP(CONCATENATE($N$10,\"_\",M31),選手名簿!$A:$E,5,FALSE))","v":""},null,null,"4th:",{"$f":"IF(ISERROR(VLOOKUP(R30,審判員!$A:$C,2,FALSE))=TRUE,\"\",VLOOKUP(R30,審判員!$A:$C,2,FALSE))","v":"長門　崚太"},null,{"$f":"IF(ISERROR(VLOOKUP(R30,審判員!$A:$C,3,FALSE))=TRUE,\"\",VLOOKUP(R30,審判員!$A:$C,3,FALSE))","v":"３級"},null,{"$f":"IF(ISERROR(VLOOKUP(CONCATENATE($V$10,\"_\",W31),選手名簿!$A:$E,5,FALSE))=TRUE,\"\",VLOOKUP(CONCATENATE($V$10,\"_\",W31),選手名簿!$A:$E,5,FALSE))","v":""},null,null,null,null,null,null,null,{"$f":"IF(ISERROR(VLOOKUP(CONCATENATE($AD$10,\"_\",AC31),選手名簿!$A:$E,5,FALSE))=TRUE,\"\",VLOOKUP(CONCATENATE($AD$10,\"_\",AC31),選手名簿!$A:$E,5,FALSE))","v":""}]
[]
[]
[]
[]
[]
[]
[]
["MC","磯村　信一",null,null,{"$f":"予選リーグ!B23","v":"11:40:00"},{"$f":"F6","v":"カティオーラフットボールクラブ　大在"},{"$f":"SUM(I39:I40)","v":0},"（",0,"前半",3,"）",{"$f":"SUM(K39:K40)","v":6},{"$f":"F7","v":"太陽スポーツクラブ大分西"},null,null,"MC","中原　圭介",null,null,{"$f":"予選リーグ!B25","v":"12:30:00"},{"$f":"V6","v":"大分トリニータＵ－１２"},{"$f":"SUM(Y39:Y40)","v":0},"（",0,"前半",0,"）",{"$f":"SUM(AA39:AA40)","v":0},{"$f":"V7","v":"ＦＣ中津ジュニア"}]
["Welfare\nOfficer",null,null,null,null,null,null,null,0,"後半",3,null,null,null,null,null,"Welfare\nOfficer",null,null,null,null,null,null,null,0,"後半",0]
["記録","安東　信二",null,null,null,null,null,null,null,"PK",null,null,null,null,null,null,"記録","磯村　信一",null,null,null,null,null,null,null,"PK"]
["＜Referee＞",null,null,null,"警告/退場\n選択肢より","氏名","番号","分","内容\n選択肢より",null,"内容\n選択肢より","分","番号","氏名","警告/退場\n選択肢より",null,"＜Referee＞",null,null,null,"警告/退場\n選択肢より","氏名","番号","分","内容\n選択肢より",null,"内容\n選択肢より","分","番号","氏名","警告/退場\n選択肢より"]
[null,null,null,null,"得点者",{"$f":"IF(ISERROR(VLOOKUP(CONCATENATE($F$39,\"_\",G43),選手名簿!$A:$E,5,FALSE))=TRUE,\"\",VLOOKUP(CONCATENATE($F$39,\"_\",G43),選手名簿!$A:$E,5,FALSE))","v":""},null,null,null,null,null,null,null,{"$f":"IF(ISERROR(VLOOKUP(CONCATENATE($N$39,\"_\",M43),選手名簿!$A:$E,5,FALSE))=TRUE,\"\",VLOOKUP(CONCATENATE($N$39,\"_\",M43),選手名簿!$A:$E,5,FALSE))","v":""},null,null,null,null,null,null,"得点者",{"$f":"IF(ISERROR(VLOOKUP(CONCATENATE($V$39,\"_\",W43),選手名簿!$A:$E,5,FALSE))=TRUE,\"\",VLOOKUP(CONCATENATE($V$39,\"_\",W43),選手名簿!$A:$E,5,FALSE))","v":""},null,null,null,null,null,null,null,{"$f":"IF(ISERROR(VLOOKUP(CONCATENATE($AD$39,\"_\",AC43),選手名簿!$A:$E,5,FALSE))=TRUE,\"\",VLOOKUP(CONCATENATE($AD$39,\"_\",AC43),選手名簿!$A:$E,5,FALSE))","v":""}]
[null,null,null,null,"得点者",{"$f":"IF(ISERROR(VLOOKUP(CONCATENATE($F$39,\"_\",G44),選手名簿!$A:$E,5,FALSE))=TRUE,\"\",VLOOKUP(CONCATENATE($F$39,\"_\",G44),選手名簿!$A:$E,5,FALSE))","v":""},null,null,null,null,null,null,null,{"$f":"IF(ISERROR(VLOOKUP(CONCATENATE($N$39,\"_\",M44),選手名簿!$A:$E,5,FALSE))=TRUE,\"\",VLOOKUP(CONCATENATE($N$39,\"_\",M44),選手名簿!$A:$E,5,FALSE))","v":""},null,null,null,null,null,null,"得点者",{"$f":"IF(ISERROR(VLOOKUP(CONCATENATE($V$39,\"_\",W44),選手名簿!$A:$E,5,FALSE))=TRUE,\"\",VLOOKUP(CONCATENATE($V$39,\"_\",W44),選手名簿!$A:$E,5,FALSE))","v":""},null,null,null,null,null,null,null,{"$f":"IF(ISERROR(VLOOKUP(CONCATENATE($AD$39,\"_\",AC44),選手名簿!$A:$E,5,FALSE))=TRUE,\"\",VLOOKUP(CONCATENATE($AD$39,\"_\",AC44),選手名簿!$A:$E,5,FALSE))","v":""}]
[null,null,null,null,"得点者",{"$f":"IF(ISERROR(VLOOKUP(CONCATENATE($F$39,\"_\",G45),選手名簿!$A:$E,5,FALSE))=TRUE,\"\",VLOOKUP(CONCATENATE($F$39,\"_\",G45),選手名簿!$A:$E,5,FALSE))","v":""},null,null,null,null,null,null,null,{"$f":"IF(ISERROR(VLOOKUP(CONCATENATE($N$39,\"_\",M45),選手名簿!$A:$E,5,FALSE))=TRUE,\"\",VLOOKUP(CONCATENATE($N$39,\"_\",M45),選手名簿!$A:$E,5,FALSE))","v":""},null,null,null,null,null,null,"得点者",{"$f":"IF(ISERROR(VLOOKUP(CONCATENATE($V$39,\"_\",W45),選手名簿!$A:$E,5,FALSE))=TRUE,\"\",VLOOKUP(CONCATENATE($V$39,\"_\",W45),選手名簿!$A:$E,5,FALSE))","v":""},null,null,null,null,null,null,null,{"$f":"IF(ISERROR(VLOOKUP(CONCATENATE($AD$39,\"_\",AC45),選手名簿!$A:$E,5,FALSE))=TRUE,\"\",VLOOKUP(CONCATENATE($AD$39,\"_\",AC45),選手名簿!$A:$E,5,FALSE))","v":""}]
[null,null,null,null,"得点者",{"$f":"IF(ISERROR(VLOOKUP(CONCATENATE($F$39,\"_\",G46),選手名簿!$A:$E,5,FALSE))=TRUE,\"\",VLOOKUP(CONCATENATE($F$39,\"_\",G46),選手名簿!$A:$E,5,FALSE))","v":""},null,null,null,null,null,null,null,{"$f":"IF(ISERROR(VLOOKUP(CONCATENATE($N$39,\"_\",M46),選手名簿!$A:$E,5,FALSE))=TRUE,\"\",VLOOKUP(CONCATENATE($N$39,\"_\",M46),選手名簿!$A:$E,5,FALSE))","v":""},null,null,null,null,null,null,"得点者",{"$f":"IF(ISERROR(VLOOKUP(CONCATENATE($V$39,\"_\",W46),選手名簿!$A:$E,5,FALSE))=TRUE,\"\",VLOOKUP(CONCATENATE($V$39,\"_\",W46),選手名簿!$A:$E,5,FALSE))","v":""},null,null,null,null,null,null,null,{"$f":"IF(ISERROR(VLOOKUP(CONCATENATE($AD$39,\"_\",AC46),選手名簿!$A:$E,5,FALSE))=TRUE,\"\",VLOOKUP(CONCATENATE($AD$39,\"_\",AC46),選手名簿!$A:$E,5,FALSE))","v":""}]
[null,null,null,null,"得点者",{"$f":"IF(ISERROR(VLOOKUP(CONCATENATE($F$39,\"_\",G47),選手名簿!$A:$E,5,FALSE))=TRUE,\"\",VLOOKUP(CONCATENATE($F$39,\"_\",G47),選手名簿!$A:$E,5,FALSE))","v":""},null,null,null,null,null,null,null,{"$f":"IF(ISERROR(VLOOKUP(CONCATENATE($N$39,\"_\",M47),選手名簿!$A:$E,5,FALSE))=TRUE,\"\",VLOOKUP(CONCATENATE($N$39,\"_\",M47),選手名簿!$A:$E,5,FALSE))","v":""},null,null,null,null,null,null,"得点者",{"$f":"IF(ISERROR(VLOOKUP(CONCATENATE($V$39,\"_\",W47),選手名簿!$A:$E,5,FALSE))=TRUE,\"\",VLOOKUP(CONCATENATE($V$39,\"_\",W47),選手名簿!$A:$E,5,FALSE))","v":""},null,null,null,null,null,null,null,{"$f":"IF(ISERROR(VLOOKUP(CONCATENATE($AD$39,\"_\",AC47),選手名簿!$A:$E,5,FALSE))=TRUE,\"\",VLOOKUP(CONCATENATE($AD$39,\"_\",AC47),選手名簿!$A:$E,5,FALSE))","v":""}]
[null,null,null,null,"得点者",{"$f":"IF(ISERROR(VLOOKUP(CONCATENATE($F$39,\"_\",G48),選手名簿!$A:$E,5,FALSE))=TRUE,\"\",VLOOKUP(CONCATENATE($F$39,\"_\",G48),選手名簿!$A:$E,5,FALSE))","v":""},null,null,null,null,null,null,null,{"$f":"IF(ISERROR(VLOOKUP(CONCATENATE($N$39,\"_\",M48),選手名簿!$A:$E,5,FALSE))=TRUE,\"\",VLOOKUP(CONCATENATE($N$39,\"_\",M48),選手名簿!$A:$E,5,FALSE))","v":""},null,null,null,null,null,null,"得点者",{"$f":"IF(ISERROR(VLOOKUP(CONCATENATE($V$39,\"_\",W48),選手名簿!$A:$E,5,FALSE))=TRUE,\"\",VLOOKUP(CONCATENATE($V$39,\"_\",W48),選手名簿!$A:$E,5,FALSE))","v":""},null,null,null,null,null,null,null,{"$f":"IF(ISERROR(VLOOKUP(CONCATENATE($AD$39,\"_\",AC48),選手名簿!$A:$E,5,FALSE))=TRUE,\"\",VLOOKUP(CONCATENATE($AD$39,\"_\",AC48),選手名簿!$A:$E,5,FALSE))","v":""}]
[null,null,null,null,"得点者",{"$f":"IF(ISERROR(VLOOKUP(CONCATENATE($F$39,\"_\",G49),選手名簿!$A:$E,5,FALSE))=TRUE,\"\",VLOOKUP(CONCATENATE($F$39,\"_\",G49),選手名簿!$A:$E,5,FALSE))","v":""},null,null,null,null,null,null,null,{"$f":"IF(ISERROR(VLOOKUP(CONCATENATE($N$39,\"_\",M49),選手名簿!$A:$E,5,FALSE))=TRUE,\"\",VLOOKUP(CONCATENATE($N$39,\"_\",M49),選手名簿!$A:$E,5,FALSE))","v":""},null,null,null,null,null,null,"得点者",{"$f":"IF(ISERROR(VLOOKUP(CONCATENATE($V$39,\"_\",W49),選手名簿!$A:$E,5,FALSE))=TRUE,\"\",VLOOKUP(CONCATENATE($V$39,\"_\",W49),選手名簿!$A:$E,5,FALSE))","v":""},null,null,null,null,null,null,null,{"$f":"IF(ISERROR(VLOOKUP(CONCATENATE($AD$39,\"_\",AC49),選手名簿!$A:$E,5,FALSE))=TRUE,\"\",VLOOKUP(CONCATENATE($AD$39,\"_\",AC49),選手名簿!$A:$E,5,FALSE))","v":""}]
[null,null,null,null,"得点者",{"$f":"IF(ISERROR(VLOOKUP(CONCATENATE($F$39,\"_\",G50),選手名簿!$A:$E,5,FALSE))=TRUE,\"\",VLOOKUP(CONCATENATE($F$39,\"_\",G50),選手名簿!$A:$E,5,FALSE))","v":""},null,null,null,null,null,null,null,{"$f":"IF(ISERROR(VLOOKUP(CONCATENATE($N$39,\"_\",M50),選手名簿!$A:$E,5,FALSE))=TRUE,\"\",VLOOKUP(CONCATENATE($N$39,\"_\",M50),選手名簿!$A:$E,5,FALSE))","v":""},null,null,null,null,null,null,"得点者",{"$f":"IF(ISERROR(VLOOKUP(CONCATENATE($V$39,\"_\",W50),選手名簿!$A:$E,5,FALSE))=TRUE,\"\",VLOOKUP(CONCATENATE($V$39,\"_\",W50),選手名簿!$A:$E,5,FALSE))","v":""},null,null,null,null,null,null,null,{"$f":"IF(ISERROR(VLOOKUP(CONCATENATE($AD$39,\"_\",AC50),選手名簿!$A:$E,5,FALSE))=TRUE,\"\",VLOOKUP(CONCATENATE($AD$39,\"_\",AC50),選手名簿!$A:$E,5,FALSE))","v":""}]
[null,null,null,null,"得点者",{"$f":"IF(ISERROR(VLOOKUP(CONCATENATE($F$39,\"_\",G51),選手名簿!$A:$E,5,FALSE))=TRUE,\"\",VLOOKUP(CONCATENATE($F$39,\"_\",G51),選手名簿!$A:$E,5,FALSE))","v":""},null,null,null,null,null,null,null,{"$f":"IF(ISERROR(VLOOKUP(CONCATENATE($N$39,\"_\",M51),選手名簿!$A:$E,5,FALSE))=TRUE,\"\",VLOOKUP(CONCATENATE($N$39,\"_\",M51),選手名簿!$A:$E,5,FALSE))","v":""},null,null,null,null,null,null,"得点者",{"$f":"IF(ISERROR(VLOOKUP(CONCATENATE($V$39,\"_\",W51),選手名簿!$A:$E,5,FALSE))=TRUE,\"\",VLOOKUP(CONCATENATE($V$39,\"_\",W51),選手名簿!$A:$E,5,FALSE))","v":""},null,null,null,null,null,null,null,{"$f":"IF(ISERROR(VLOOKUP(CONCATENATE($AD$39,\"_\",AC51),選手名簿!$A:$E,5,FALSE))=TRUE,\"\",VLOOKUP(CONCATENATE($AD$39,\"_\",AC51),選手名簿!$A:$E,5,FALSE))","v":""}]
[null,null,null,null,"得点者",{"$f":"IF(ISERROR(VLOOKUP(CONCATENATE($F$39,\"_\",G52),選手名簿!$A:$E,5,FALSE))=TRUE,\"\",VLOOKUP(CONCATENATE($F$39,\"_\",G52),選手名簿!$A:$E,5,FALSE))","v":""},null,null,null,null,null,null,null,{"$f":"IF(ISERROR(VLOOKUP(CONCATENATE($N$39,\"_\",M52),選手名簿!$A:$E,5,FALSE))=TRUE,\"\",VLOOKUP(CONCATENATE($N$39,\"_\",M52),選手名簿!$A:$E,5,FALSE))","v":""},null,null,null,null,null,null,"得点者",{"$f":"IF(ISERROR(VLOOKUP(CONCATENATE($V$39,\"_\",W52),選手名簿!$A:$E,5,FALSE))=TRUE,\"\",VLOOKUP(CONCATENATE($V$39,\"_\",W52),選手名簿!$A:$E,5,FALSE))","v":""},null,null,null,null,null,null,null,{"$f":"IF(ISERROR(VLOOKUP(CONCATENATE($AD$39,\"_\",AC52),選手名簿!$A:$E,5,FALSE))=TRUE,\"\",VLOOKUP(CONCATENATE($AD$39,\"_\",AC52),選手名簿!$A:$E,5,FALSE))","v":""}]
["番号","R010074018",null,null,null,{"$f":"IF(ISERROR(VLOOKUP(CONCATENATE($F$39,\"_\",G53),選手名簿!$A:$E,5,FALSE))=TRUE,\"\",VLOOKUP(CONCATENATE($F$39,\"_\",G53),選手名簿!$A:$E,5,FALSE))","v":""},null,null,null,null,null,null,null,{"$f":"IF(ISERROR(VLOOKUP(CONCATENATE($N$39,\"_\",M53),選手名簿!$A:$E,5,FALSE))=TRUE,\"\",VLOOKUP(CONCATENATE($N$39,\"_\",M53),選手名簿!$A:$E,5,FALSE))","v":""},null,null,"番号","R004111340",null,null,null,{"$f":"IF(ISERROR(VLOOKUP(CONCATENATE($V$39,\"_\",W53),選手名簿!$A:$E,5,FALSE))=TRUE,\"\",VLOOKUP(CONCATENATE($V$39,\"_\",W53),選手名簿!$A:$E,5,FALSE))","v":""},null,null,null,null,null,null,null,{"$f":"IF(ISERROR(VLOOKUP(CONCATENATE($AD$39,\"_\",AC53),選手名簿!$A:$E,5,FALSE))=TRUE,\"\",VLOOKUP(CONCATENATE($AD$39,\"_\",AC53),選手名簿!$A:$E,5,FALSE))","v":""}]
["R",{"$f":"IF(ISERROR(VLOOKUP(B53,審判員!$A:$C,2,FALSE))=TRUE,\"\",VLOOKUP(B53,審判員!$A:$C,2,FALSE))","v":"長門　崚太"},null,{"$f":"IF(ISERROR(VLOOKUP(B53,審判員!$A:$C,3,FALSE))=TRUE,\"\",VLOOKUP(B53,審判員!$A:$C,3,FALSE))","v":"３級"},null,{"$f":"IF(ISERROR(VLOOKUP(CONCATENATE($F$39,\"_\",G54),選手名簿!$A:$E,5,FALSE))=TRUE,\"\",VLOOKUP(CONCATENATE($F$39,\"_\",G54),選手名簿!$A:$E,5,FALSE))","v":""},null,null,null,null,null,null,null,{"$f":"IF(ISERROR(VLOOKUP(CONCATENATE($N$39,\"_\",M54),選手名簿!$A:$E,5,FALSE))=TRUE,\"\",VLOOKUP(CONCATENATE($N$39,\"_\",M54),選手名簿!$A:$E,5,FALSE))","v":""},null,null,"R",{"$f":"IF(ISERROR(VLOOKUP(R53,審判員!$A:$C,2,FALSE))=TRUE,\"\",VLOOKUP(R53,審判員!$A:$C,2,FALSE))","v":"唐下　直之"},null,{"$f":"IF(ISERROR(VLOOKUP(R53,審判員!$A:$C,3,FALSE))=TRUE,\"\",VLOOKUP(R53,審判員!$A:$C,3,FALSE))","v":"３級"},null,{"$f":"IF(ISERROR(VLOOKUP(CONCATENATE($V$39,\"_\",W54),選手名簿!$A:$E,5,FALSE))=TRUE,\"\",VLOOKUP(CONCATENATE($V$39,\"_\",W54),選手名簿!$A:$E,5,FALSE))","v":""},null,null,null,null,null,null,null,{"$f":"IF(ISERROR(VLOOKUP(CONCATENATE($AD$39,\"_\",AC54),選手名簿!$A:$E,5,FALSE))=TRUE,\"\",VLOOKUP(CONCATENATE($AD$39,\"_\",AC54),選手名簿!$A:$E,5,FALSE))","v":""}]
["番号","R001262829",null,null,null,{"$f":"IF(ISERROR(VLOOKUP(CONCATENATE($F$39,\"_\",G55),選手名簿!$A:$E,5,FALSE))=TRUE,\"\",VLOOKUP(CONCATENATE($F$39,\"_\",G55),選手名簿!$A:$E,5,FALSE))","v":""},null,null,null,null,null,null,null,{"$f":"IF(ISERROR(VLOOKUP(CONCATENATE($N$39,\"_\",M55),選手名簿!$A:$E,5,FALSE))=TRUE,\"\",VLOOKUP(CONCATENATE($N$39,\"_\",M55),選手名簿!$A:$E,5,FALSE))","v":""},null,null,"番号","R010376294",null,null,null,{"$f":"IF(ISERROR(VLOOKUP(CONCATENATE($V$39,\"_\",W55),選手名簿!$A:$E,5,FALSE))=TRUE,\"\",VLOOKUP(CONCATENATE($V$39,\"_\",W55),選手名簿!$A:$E,5,FALSE))","v":""},null,null,null,null,null,null,null,{"$f":"IF(ISERROR(VLOOKUP(CONCATENATE($AD$39,\"_\",AC55),選手名簿!$A:$E,5,FALSE))=TRUE,\"\",VLOOKUP(CONCATENATE($AD$39,\"_\",AC55),選手名簿!$A:$E,5,FALSE))","v":""}]
["AR1:",{"$f":"IF(ISERROR(VLOOKUP(B55,審判員!$A:$C,2,FALSE))=TRUE,\"\",VLOOKUP(B55,審判員!$A:$C,2,FALSE))","v":"笠置　忠照"},null,{"$f":"IF(ISERROR(VLOOKUP(B55,審判員!$A:$C,3,FALSE))=TRUE,\"\",VLOOKUP(B55,審判員!$A:$C,3,FALSE))","v":"３級"},null,{"$f":"IF(ISERROR(VLOOKUP(CONCATENATE($F$39,\"_\",G56),選手名簿!$A:$E,5,FALSE))=TRUE,\"\",VLOOKUP(CONCATENATE($F$39,\"_\",G56),選手名簿!$A:$E,5,FALSE))","v":""},null,null,null,null,null,null,null,{"$f":"IF(ISERROR(VLOOKUP(CONCATENATE($N$39,\"_\",M56),選手名簿!$A:$E,5,FALSE))=TRUE,\"\",VLOOKUP(CONCATENATE($N$39,\"_\",M56),選手名簿!$A:$E,5,FALSE))","v":""},null,null,"AR1:",{"$f":"IF(ISERROR(VLOOKUP(R55,審判員!$A:$C,2,FALSE))=TRUE,\"\",VLOOKUP(R55,審判員!$A:$C,2,FALSE))","v":"株根　聖太"},null,{"$f":"IF(ISERROR(VLOOKUP(R55,審判員!$A:$C,3,FALSE))=TRUE,\"\",VLOOKUP(R55,審判員!$A:$C,3,FALSE))","v":"３級"},null,{"$f":"IF(ISERROR(VLOOKUP(CONCATENATE($V$39,\"_\",W56),選手名簿!$A:$E,5,FALSE))=TRUE,\"\",VLOOKUP(CONCATENATE($V$39,\"_\",W56),選手名簿!$A:$E,5,FALSE))","v":""},null,null,null,null,null,null,null,{"$f":"IF(ISERROR(VLOOKUP(CONCATENATE($AD$39,\"_\",AC56),選手名簿!$A:$E,5,FALSE))=TRUE,\"\",VLOOKUP(CONCATENATE($AD$39,\"_\",AC56),選手名簿!$A:$E,5,FALSE))","v":""}]
["番号","R007075261",null,null,null,{"$f":"IF(ISERROR(VLOOKUP(CONCATENATE($F$39,\"_\",G57),選手名簿!$A:$E,5,FALSE))=TRUE,\"\",VLOOKUP(CONCATENATE($F$39,\"_\",G57),選手名簿!$A:$E,5,FALSE))","v":""},null,null,null,null,null,null,null,{"$f":"IF(ISERROR(VLOOKUP(CONCATENATE($N$39,\"_\",M57),選手名簿!$A:$E,5,FALSE))=TRUE,\"\",VLOOKUP(CONCATENATE($N$39,\"_\",M57),選手名簿!$A:$E,5,FALSE))","v":""},null,null,"番号","R010301990",null,null,null,{"$f":"IF(ISERROR(VLOOKUP(CONCATENATE($V$39,\"_\",W57),選手名簿!$A:$E,5,FALSE))=TRUE,\"\",VLOOKUP(CONCATENATE($V$39,\"_\",W57),選手名簿!$A:$E,5,FALSE))","v":""},null,null,null,null,null,null,null,{"$f":"IF(ISERROR(VLOOKUP(CONCATENATE($AD$39,\"_\",AC57),選手名簿!$A:$E,5,FALSE))=TRUE,\"\",VLOOKUP(CONCATENATE($AD$39,\"_\",AC57),選手名簿!$A:$E,5,FALSE))","v":""}]
["AR2:",{"$f":"IF(ISERROR(VLOOKUP(B57,審判員!$A:$C,2,FALSE))=TRUE,\"\",VLOOKUP(B57,審判員!$A:$C,2,FALSE))","v":"小川　翔太"},null,{"$f":"IF(ISERROR(VLOOKUP(B57,審判員!$A:$C,3,FALSE))=TRUE,\"\",VLOOKUP(B57,審判員!$A:$C,3,FALSE))","v":"３級"},null,{"$f":"IF(ISERROR(VLOOKUP(CONCATENATE($F$39,\"_\",G58),選手名簿!$A:$E,5,FALSE))=TRUE,\"\",VLOOKUP(CONCATENATE($F$39,\"_\",G58),選手名簿!$A:$E,5,FALSE))","v":""},null,null,null,null,null,null,null,{"$f":"IF(ISERROR(VLOOKUP(CONCATENATE($N$39,\"_\",M58),選手名簿!$A:$E,5,FALSE))=TRUE,\"\",VLOOKUP(CONCATENATE($N$39,\"_\",M58),選手名簿!$A:$E,5,FALSE))","v":""},null,null,"AR2:",{"$f":"IF(ISERROR(VLOOKUP(R57,審判員!$A:$C,2,FALSE))=TRUE,\"\",VLOOKUP(R57,審判員!$A:$C,2,FALSE))","v":"池本　岬"},null,{"$f":"IF(ISERROR(VLOOKUP(R57,審判員!$A:$C,3,FALSE))=TRUE,\"\",VLOOKUP(R57,審判員!$A:$C,3,FALSE))","v":"３級"},null,{"$f":"IF(ISERROR(VLOOKUP(CONCATENATE($V$39,\"_\",W58),選手名簿!$A:$E,5,FALSE))=TRUE,\"\",VLOOKUP(CONCATENATE($V$39,\"_\",W58),選手名簿!$A:$E,5,FALSE))","v":""},null,null,null,null,null,null,null,{"$f":"IF(ISERROR(VLOOKUP(CONCATENATE($AD$39,\"_\",AC58),選手名簿!$A:$E,5,FALSE))=TRUE,\"\",VLOOKUP(CONCATENATE($AD$39,\"_\",AC58),選手名簿!$A:$E,5,FALSE))","v":""}]
["番号","R004111340",null,null,null,{"$f":"IF(ISERROR(VLOOKUP(CONCATENATE($F$39,\"_\",G59),選手名簿!$A:$E,5,FALSE))=TRUE,\"\",VLOOKUP(CONCATENATE($F$39,\"_\",G59),選手名簿!$A:$E,5,FALSE))","v":""},null,null,null,null,null,null,null,{"$f":"IF(ISERROR(VLOOKUP(CONCATENATE($N$39,\"_\",M59),選手名簿!$A:$E,5,FALSE))=TRUE,\"\",VLOOKUP(CONCATENATE($N$39,\"_\",M59),選手名簿!$A:$E,5,FALSE))","v":""},null,null,"番号","R003972443",null,null,null,{"$f":"IF(ISERROR(VLOOKUP(CONCATENATE($V$39,\"_\",W59),選手名簿!$A:$E,5,FALSE))=TRUE,\"\",VLOOKUP(CONCATENATE($V$39,\"_\",W59),選手名簿!$A:$E,5,FALSE))","v":""},null,null,null,null,null,null,null,{"$f":"IF(ISERROR(VLOOKUP(CONCATENATE($AD$39,\"_\",AC59),選手名簿!$A:$E,5,FALSE))=TRUE,\"\",VLOOKUP(CONCATENATE($AD$39,\"_\",AC59),選手名簿!$A:$E,5,FALSE))","v":""}]
["4th:",{"$f":"IF(ISERROR(VLOOKUP(B59,審判員!$A:$C,2,FALSE))=TRUE,\"\",VLOOKUP(B59,審判員!$A:$C,2,FALSE))","v":"唐下　直之"},null,{"$f":"IF(ISERROR(VLOOKUP(B59,審判員!$A:$C,3,FALSE))=TRUE,\"\",VLOOKUP(B59,審判員!$A:$C,3,FALSE))","v":"３級"},null,{"$f":"IF(ISERROR(VLOOKUP(CONCATENATE($F$39,\"_\",G60),選手名簿!$A:$E,5,FALSE))=TRUE,\"\",VLOOKUP(CONCATENATE($F$39,\"_\",G60),選手名簿!$A:$E,5,FALSE))","v":""},null,null,null,null,null,null,null,{"$f":"IF(ISERROR(VLOOKUP(CONCATENATE($N$39,\"_\",M60),選手名簿!$A:$E,5,FALSE))=TRUE,\"\",VLOOKUP(CONCATENATE($N$39,\"_\",M60),選手名簿!$A:$E,5,FALSE))","v":""},null,null,"4th:",{"$f":"IF(ISERROR(VLOOKUP(R59,審判員!$A:$C,2,FALSE))=TRUE,\"\",VLOOKUP(R59,審判員!$A:$C,2,FALSE))","v":"矢野　三千生"},null,{"$f":"IF(ISERROR(VLOOKUP(R59,審判員!$A:$C,3,FALSE))=TRUE,\"\",VLOOKUP(R59,審判員!$A:$C,3,FALSE))","v":"３級"},null,{"$f":"IF(ISERROR(VLOOKUP(CONCATENATE($V$39,\"_\",W60),選手名簿!$A:$E,5,FALSE))=TRUE,\"\",VLOOKUP(CONCATENATE($V$39,\"_\",W60),選手名簿!$A:$E,5,FALSE))","v":""},null,null,null,null,null,null,null,{"$f":"IF(ISERROR(VLOOKUP(CONCATENATE($AD$39,\"_\",AC60),選手名簿!$A:$E,5,FALSE))=TRUE,\"\",VLOOKUP(CONCATENATE($AD$39,\"_\",AC60),選手名簿!$A:$E,5,FALSE))","v":""}]
[]
[]
[]
[]
[]
[]
[]
["MC","安東　信二",null,null,{"$f":"予選リーグ!B29","v":"14:10:00"},{"$f":"F7","v":"太陽スポーツクラブ大分西"},{"$f":"SUM(I68:I69)","v":1},"（",0,"前半",3,"）",{"$f":"SUM(K68:K69)","v":5},{"$f":"F5","v":"スマイス・セレソン"},null,null,"MC","磯村　信一",null,null,{"$f":"予選リーグ!B31","v":"15:00:00"},{"$f":"V7","v":"ＦＣ中津ジュニア"},{"$f":"SUM(Y68:Y69)","v":8},"（",3,"前半",0,"）",{"$f":"SUM(AA68:AA69)","v":0},{"$f":"V5","v":"日出サッカースポーツ少年団"}]
["Welfare\nOfficer",null,null,null,null,null,null,null,1,"後半",2,null,null,null,null,null,"Welfare\nOfficer",null,null,null,null,null,null,null,5,"後半",0]
["記録","中原　圭介",null,null,null,null,null,null,null,"PK",null,null,null,null,null,null,"記録","安東　信二",null,null,null,null,null,null,null,"PK"]
["＜Referee＞",null,null,null,"警告/退場\n選択肢より","氏名","番号","分","内容\n選択肢より",null,"内容\n選択肢より","分","番号","氏名","警告/退場\n選択肢より",null,"＜Referee＞",null,null,null,"警告/退場\n選択肢より","氏名","番号","分","内容\n選択肢より",null,"内容\n選択肢より","分","番号","氏名","警告/退場\n選択肢より"]
[null,null,null,null,"得点者",{"$f":"IF(ISERROR(VLOOKUP(CONCATENATE($F$68,\"_\",G72),選手名簿!$A:$E,5,FALSE))=TRUE,\"\",VLOOKUP(CONCATENATE($F$68,\"_\",G72),選手名簿!$A:$E,5,FALSE))","v":""},null,null,null,null,null,null,null,{"$f":"IF(ISERROR(VLOOKUP(CONCATENATE($N$68,\"_\",M72),選手名簿!$A:$E,5,FALSE))=TRUE,\"\",VLOOKUP(CONCATENATE($N$68,\"_\",M72),選手名簿!$A:$E,5,FALSE))","v":""},null,null,null,null,null,null,"得点者",{"$f":"IF(ISERROR(VLOOKUP(CONCATENATE($V$68,\"_\",W72),選手名簿!$A:$E,5,FALSE))=TRUE,\"\",VLOOKUP(CONCATENATE($V$68,\"_\",W72),選手名簿!$A:$E,5,FALSE))","v":""},null,null,null,null,null,null,null,{"$f":"IF(ISERROR(VLOOKUP(CONCATENATE($AD$68,\"_\",AC72),選手名簿!$A:$E,5,FALSE))=TRUE,\"\",VLOOKUP(CONCATENATE($AD$68,\"_\",AC72),選手名簿!$A:$E,5,FALSE))","v":""}]
[null,null,null,null,"得点者",{"$f":"IF(ISERROR(VLOOKUP(CONCATENATE($F$68,\"_\",G73),選手名簿!$A:$E,5,FALSE))=TRUE,\"\",VLOOKUP(CONCATENATE($F$68,\"_\",G73),選手名簿!$A:$E,5,FALSE))","v":""},null,null,null,null,null,null,null,{"$f":"IF(ISERROR(VLOOKUP(CONCATENATE($N$68,\"_\",M73),選手名簿!$A:$E,5,FALSE))=TRUE,\"\",VLOOKUP(CONCATENATE($N$68,\"_\",M73),選手名簿!$A:$E,5,FALSE))","v":""},null,null,null,null,null,null,"得点者",{"$f":"IF(ISERROR(VLOOKUP(CONCATENATE($V$68,\"_\",W73),選手名簿!$A:$E,5,FALSE))=TRUE,\"\",VLOOKUP(CONCATENATE($V$68,\"_\",W73),選手名簿!$A:$E,5,FALSE))","v":""},null,null,null,null,null,null,null,{"$f":"IF(ISERROR(VLOOKUP(CONCATENATE($AD$68,\"_\",AC73),選手名簿!$A:$E,5,FALSE))=TRUE,\"\",VLOOKUP(CONCATENATE($AD$68,\"_\",AC73),選手名簿!$A:$E,5,FALSE))","v":""}]
[null,null,null,null,"得点者",{"$f":"IF(ISERROR(VLOOKUP(CONCATENATE($F$68,\"_\",G74),選手名簿!$A:$E,5,FALSE))=TRUE,\"\",VLOOKUP(CONCATENATE($F$68,\"_\",G74),選手名簿!$A:$E,5,FALSE))","v":""},null,null,null,null,null,null,null,{"$f":"IF(ISERROR(VLOOKUP(CONCATENATE($N$68,\"_\",M74),選手名簿!$A:$E,5,FALSE))=TRUE,\"\",VLOOKUP(CONCATENATE($N$68,\"_\",M74),選手名簿!$A:$E,5,FALSE))","v":""},null,null,null,null,null,null,"得点者",{"$f":"IF(ISERROR(VLOOKUP(CONCATENATE($V$68,\"_\",W74),選手名簿!$A:$E,5,FALSE))=TRUE,\"\",VLOOKUP(CONCATENATE($V$68,\"_\",W74),選手名簿!$A:$E,5,FALSE))","v":""},null,null,null,null,null,null,null,{"$f":"IF(ISERROR(VLOOKUP(CONCATENATE($AD$68,\"_\",AC74),選手名簿!$A:$E,5,FALSE))=TRUE,\"\",VLOOKUP(CONCATENATE($AD$68,\"_\",AC74),選手名簿!$A:$E,5,FALSE))","v":""}]
[null,null,null,null,"得点者",{"$f":"IF(ISERROR(VLOOKUP(CONCATENATE($F$68,\"_\",G75),選手名簿!$A:$E,5,FALSE))=TRUE,\"\",VLOOKUP(CONCATENATE($F$68,\"_\",G75),選手名簿!$A:$E,5,FALSE))","v":""},null,null,null,null,null,null,null,{"$f":"IF(ISERROR(VLOOKUP(CONCATENATE($N$68,\"_\",M75),選手名簿!$A:$E,5,FALSE))=TRUE,\"\",VLOOKUP(CONCATENATE($N$68,\"_\",M75),選手名簿!$A:$E,5,FALSE))","v":""},null,null,null,null,null,null,"得点者",{"$f":"IF(ISERROR(VLOOKUP(CONCATENATE($V$68,\"_\",W75),選手名簿!$A:$E,5,FALSE))=TRUE,\"\",VLOOKUP(CONCATENATE($V$68,\"_\",W75),選手名簿!$A:$E,5,FALSE))","v":""},null,null,null,null,null,null,null,{"$f":"IF(ISERROR(VLOOKUP(CONCATENATE($AD$68,\"_\",AC75),選手名簿!$A:$E,5,FALSE))=TRUE,\"\",VLOOKUP(CONCATENATE($AD$68,\"_\",AC75),選手名簿!$A:$E,5,FALSE))","v":""}]
[null,null,null,null,"得点者",{"$f":"IF(ISERROR(VLOOKUP(CONCATENATE($F$68,\"_\",G76),選手名簿!$A:$E,5,FALSE))=TRUE,\"\",VLOOKUP(CONCATENATE($F$68,\"_\",G76),選手名簿!$A:$E,5,FALSE))","v":""},null,null,null,null,null,null,null,{"$f":"IF(ISERROR(VLOOKUP(CONCATENATE($N$68,\"_\",M76),選手名簿!$A:$E,5,FALSE))=TRUE,\"\",VLOOKUP(CONCATENATE($N$68,\"_\",M76),選手名簿!$A:$E,5,FALSE))","v":""},null,null,null,null,null,null,"得点者",{"$f":"IF(ISERROR(VLOOKUP(CONCATENATE($V$68,\"_\",W76),選手名簿!$A:$E,5,FALSE))=TRUE,\"\",VLOOKUP(CONCATENATE($V$68,\"_\",W76),選手名簿!$A:$E,5,FALSE))","v":""},null,null,null,null,null,null,null,{"$f":"IF(ISERROR(VLOOKUP(CONCATENATE($AD$68,\"_\",AC76),選手名簿!$A:$E,5,FALSE))=TRUE,\"\",VLOOKUP(CONCATENATE($AD$68,\"_\",AC76),選手名簿!$A:$E,5,FALSE))","v":""}]
[null,null,null,null,"得点者",{"$f":"IF(ISERROR(VLOOKUP(CONCATENATE($F$68,\"_\",G77),選手名簿!$A:$E,5,FALSE))=TRUE,\"\",VLOOKUP(CONCATENATE($F$68,\"_\",G77),選手名簿!$A:$E,5,FALSE))","v":""},null,null,null,null,null,null,null,{"$f":"IF(ISERROR(VLOOKUP(CONCATENATE($N$68,\"_\",M77),選手名簿!$A:$E,5,FALSE))=TRUE,\"\",VLOOKUP(CONCATENATE($N$68,\"_\",M77),選手名簿!$A:$E,5,FALSE))","v":""},null,null,null,null,null,null,"得点者",{"$f":"IF(ISERROR(VLOOKUP(CONCATENATE($V$68,\"_\",W77),選手名簿!$A:$E,5,FALSE))=TRUE,\"\",VLOOKUP(CONCATENATE($V$68,\"_\",W77),選手名簿!$A:$E,5,FALSE))","v":""},null,null,null,null,null,null,null,{"$f":"IF(ISERROR(VLOOKUP(CONCATENATE($AD$68,\"_\",AC77),選手名簿!$A:$E,5,FALSE))=TRUE,\"\",VLOOKUP(CONCATENATE($AD$68,\"_\",AC77),選手名簿!$A:$E,5,FALSE))","v":""}]
[null,null,null,null,"得点者",{"$f":"IF(ISERROR(VLOOKUP(CONCATENATE($F$68,\"_\",G78),選手名簿!$A:$E,5,FALSE))=TRUE,\"\",VLOOKUP(CONCATENATE($F$68,\"_\",G78),選手名簿!$A:$E,5,FALSE))","v":""},null,null,null,null,null,null,null,{"$f":"IF(ISERROR(VLOOKUP(CONCATENATE($N$68,\"_\",M78),選手名簿!$A:$E,5,FALSE))=TRUE,\"\",VLOOKUP(CONCATENATE($N$68,\"_\",M78),選手名簿!$A:$E,5,FALSE))","v":""},null,null,null,null,null,null,"得点者",{"$f":"IF(ISERROR(VLOOKUP(CONCATENATE($V$68,\"_\",W78),選手名簿!$A:$E,5,FALSE))=TRUE,\"\",VLOOKUP(CONCATENATE($V$68,\"_\",W78),選手名簿!$A:$E,5,FALSE))","v":""},null,null,null,null,null,null,null,{"$f":"IF(ISERROR(VLOOKUP(CONCATENATE($AD$68,\"_\",AC78),選手名簿!$A:$E,5,FALSE))=TRUE,\"\",VLOOKUP(CONCATENATE($AD$68,\"_\",AC78),選手名簿!$A:$E,5,FALSE))","v":""}]
[null,null,null,null,"得点者",{"$f":"IF(ISERROR(VLOOKUP(CONCATENATE($F$68,\"_\",G79),選手名簿!$A:$E,5,FALSE))=TRUE,\"\",VLOOKUP(CONCATENATE($F$68,\"_\",G79),選手名簿!$A:$E,5,FALSE))","v":""},null,null,null,null,null,null,null,{"$f":"IF(ISERROR(VLOOKUP(CONCATENATE($N$68,\"_\",M79),選手名簿!$A:$E,5,FALSE))=TRUE,\"\",VLOOKUP(CONCATENATE($N$68,\"_\",M79),選手名簿!$A:$E,5,FALSE))","v":""},null,null,null,null,null,null,"得点者",{"$f":"IF(ISERROR(VLOOKUP(CONCATENATE($V$68,\"_\",W79),選手名簿!$A:$E,5,FALSE))=TRUE,\"\",VLOOKUP(CONCATENATE($V$68,\"_\",W79),選手名簿!$A:$E,5,FALSE))","v":""},null,null,null,null,null,null,null,{"$f":"IF(ISERROR(VLOOKUP(CONCATENATE($AD$68,\"_\",AC79),選手名簿!$A:$E,5,FALSE))=TRUE,\"\",VLOOKUP(CONCATENATE($AD$68,\"_\",AC79),選手名簿!$A:$E,5,FALSE))","v":""}]
[null,null,null,null,"得点者",{"$f":"IF(ISERROR(VLOOKUP(CONCATENATE($F$68,\"_\",G80),選手名簿!$A:$E,5,FALSE))=TRUE,\"\",VLOOKUP(CONCATENATE($F$68,\"_\",G80),選手名簿!$A:$E,5,FALSE))","v":""},null,null,null,null,null,null,null,{"$f":"IF(ISERROR(VLOOKUP(CONCATENATE($N$68,\"_\",M80),選手名簿!$A:$E,5,FALSE))=TRUE,\"\",VLOOKUP(CONCATENATE($N$68,\"_\",M80),選手名簿!$A:$E,5,FALSE))","v":""},null,null,null,null,null,null,"得点者",{"$f":"IF(ISERROR(VLOOKUP(CONCATENATE($V$68,\"_\",W80),選手名簿!$A:$E,5,FALSE))=TRUE,\"\",VLOOKUP(CONCATENATE($V$68,\"_\",W80),選手名簿!$A:$E,5,FALSE))","v":""},null,null,null,null,null,null,null,{"$f":"IF(ISERROR(VLOOKUP(CONCATENATE($AD$68,\"_\",AC80),選手名簿!$A:$E,5,FALSE))=TRUE,\"\",VLOOKUP(CONCATENATE($AD$68,\"_\",AC80),選手名簿!$A:$E,5,FALSE))","v":""}]
[null,null,null,null,"得点者",{"$f":"IF(ISERROR(VLOOKUP(CONCATENATE($F$68,\"_\",G81),選手名簿!$A:$E,5,FALSE))=TRUE,\"\",VLOOKUP(CONCATENATE($F$68,\"_\",G81),選手名簿!$A:$E,5,FALSE))","v":""},null,null,null,null,null,null,null,{"$f":"IF(ISERROR(VLOOKUP(CONCATENATE($N$68,\"_\",M81),選手名簿!$A:$E,5,FALSE))=TRUE,\"\",VLOOKUP(CONCATENATE($N$68,\"_\",M81),選手名簿!$A:$E,5,FALSE))","v":""},null,null,null,null,null,null,"得点者",{"$f":"IF(ISERROR(VLOOKUP(CONCATENATE($V$68,\"_\",W81),選手名簿!$A:$E,5,FALSE))=TRUE,\"\",VLOOKUP(CONCATENATE($V$68,\"_\",W81),選手名簿!$A:$E,5,FALSE))","v":""},null,null,null,null,null,null,null,{"$f":"IF(ISERROR(VLOOKUP(CONCATENATE($AD$68,\"_\",AC81),選手名簿!$A:$E,5,FALSE))=TRUE,\"\",VLOOKUP(CONCATENATE($AD$68,\"_\",AC81),選手名簿!$A:$E,5,FALSE))","v":""}]
["番号","R003972443",null,null,null,{"$f":"IF(ISERROR(VLOOKUP(CONCATENATE($F$68,\"_\",G82),選手名簿!$A:$E,5,FALSE))=TRUE,\"\",VLOOKUP(CONCATENATE($F$68,\"_\",G82),選手名簿!$A:$E,5,FALSE))","v":""},null,null,null,null,null,null,null,{"$f":"IF(ISERROR(VLOOKUP(CONCATENATE($N$68,\"_\",M82),選手名簿!$A:$E,5,FALSE))=TRUE,\"\",VLOOKUP(CONCATENATE($N$68,\"_\",M82),選手名簿!$A:$E,5,FALSE))","v":""},null,null,"番号","R010074018",null,null,null,{"$f":"IF(ISERROR(VLOOKUP(CONCATENATE($V$68,\"_\",W82),選手名簿!$A:$E,5,FALSE))=TRUE,\"\",VLOOKUP(CONCATENATE($V$68,\"_\",W82),選手名簿!$A:$E,5,FALSE))","v":""},null,null,null,null,null,null,null,{"$f":"IF(ISERROR(VLOOKUP(CONCATENATE($AD$68,\"_\",AC82),選手名簿!$A:$E,5,FALSE))=TRUE,\"\",VLOOKUP(CONCATENATE($AD$68,\"_\",AC82),選手名簿!$A:$E,5,FALSE))","v":""}]
["R",{"$f":"IF(ISERROR(VLOOKUP(B82,審判員!$A:$C,2,FALSE))=TRUE,\"\",VLOOKUP(B82,審判員!$A:$C,2,FALSE))","v":"矢野　三千生"},null,{"$f":"IF(ISERROR(VLOOKUP(B82,審判員!$A:$C,3,FALSE))=TRUE,\"\",VLOOKUP(B82,審判員!$A:$C,3,FALSE))","v":"３級"},null,{"$f":"IF(ISERROR(VLOOKUP(CONCATENATE($F$68,\"_\",G83),選手名簿!$A:$E,5,FALSE))=TRUE,\"\",VLOOKUP(CONCATENATE($F$68,\"_\",G83),選手名簿!$A:$E,5,FALSE))","v":""},null,null,null,null,null,null,null,{"$f":"IF(ISERROR(VLOOKUP(CONCATENATE($N$68,\"_\",M83),選手名簿!$A:$E,5,FALSE))=TRUE,\"\",VLOOKUP(CONCATENATE($N$68,\"_\",M83),選手名簿!$A:$E,5,FALSE))","v":""},null,null,"R",{"$f":"IF(ISERROR(VLOOKUP(R82,審判員!$A:$C,2,FALSE))=TRUE,\"\",VLOOKUP(R82,審判員!$A:$C,2,FALSE))","v":"長門　崚太"},null,{"$f":"IF(ISERROR(VLOOKUP(R82,審判員!$A:$C,3,FALSE))=TRUE,\"\",VLOOKUP(R82,審判員!$A:$C,3,FALSE))","v":"３級"},null,{"$f":"IF(ISERROR(VLOOKUP(CONCATENATE($V$68,\"_\",W83),選手名簿!$A:$E,5,FALSE))=TRUE,\"\",VLOOKUP(CONCATENATE($V$68,\"_\",W83),選手名簿!$A:$E,5,FALSE))","v":""},null,null,null,null,null,null,null,{"$f":"IF(ISERROR(VLOOKUP(CONCATENATE($AD$68,\"_\",AC83),選手名簿!$A:$E,5,FALSE))=TRUE,\"\",VLOOKUP(CONCATENATE($AD$68,\"_\",AC83),選手名簿!$A:$E,5,FALSE))","v":""}]
["番号","R007075261",null,null,null,{"$f":"IF(ISERROR(VLOOKUP(CONCATENATE($F$68,\"_\",G84),選手名簿!$A:$E,5,FALSE))=TRUE,\"\",VLOOKUP(CONCATENATE($F$68,\"_\",G84),選手名簿!$A:$E,5,FALSE))","v":""},null,null,null,null,null,null,null,{"$f":"IF(ISERROR(VLOOKUP(CONCATENATE($N$68,\"_\",M84),選手名簿!$A:$E,5,FALSE))=TRUE,\"\",VLOOKUP(CONCATENATE($N$68,\"_\",M84),選手名簿!$A:$E,5,FALSE))","v":""},null,null,"番号","R010301990",null,null,null,{"$f":"IF(ISERROR(VLOOKUP(CONCATENATE($V$68,\"_\",W84),選手名簿!$A:$E,5,FALSE))=TRUE,\"\",VLOOKUP(CONCATENATE($V$68,\"_\",W84),選手名簿!$A:$E,5,FALSE))","v":""},null,null,null,null,null,null,null,{"$f":"IF(ISERROR(VLOOKUP(CONCATENATE($AD$68,\"_\",AC84),選手名簿!$A:$E,5,FALSE))=TRUE,\"\",VLOOKUP(CONCATENATE($AD$68,\"_\",AC84),選手名簿!$A:$E,5,FALSE))","v":""}]
["AR1:",{"$f":"IF(ISERROR(VLOOKUP(B84,審判員!$A:$C,2,FALSE))=TRUE,\"\",VLOOKUP(B84,審判員!$A:$C,2,FALSE))","v":"小川　翔太"},null,{"$f":"IF(ISERROR(VLOOKUP(B84,審判員!$A:$C,3,FALSE))=TRUE,\"\",VLOOKUP(B84,審判員!$A:$C,3,FALSE))","v":"３級"},null,{"$f":"IF(ISERROR(VLOOKUP(CONCATENATE($F$68,\"_\",G85),選手名簿!$A:$E,5,FALSE))=TRUE,\"\",VLOOKUP(CONCATENATE($F$68,\"_\",G85),選手名簿!$A:$E,5,FALSE))","v":""},null,null,null,null,null,null,null,{"$f":"IF(ISERROR(VLOOKUP(CONCATENATE($N$68,\"_\",M85),選手名簿!$A:$E,5,FALSE))=TRUE,\"\",VLOOKUP(CONCATENATE($N$68,\"_\",M85),選手名簿!$A:$E,5,FALSE))","v":""},null,null,"AR1:",{"$f":"IF(ISERROR(VLOOKUP(R84,審判員!$A:$C,2,FALSE))=TRUE,\"\",VLOOKUP(R84,審判員!$A:$C,2,FALSE))","v":"池本　岬"},null,{"$f":"IF(ISERROR(VLOOKUP(R84,審判員!$A:$C,3,FALSE))=TRUE,\"\",VLOOKUP(R84,審判員!$A:$C,3,FALSE))","v":"３級"},null,{"$f":"IF(ISERROR(VLOOKUP(CONCATENATE($V$68,\"_\",W85),選手名簿!$A:$E,5,FALSE))=TRUE,\"\",VLOOKUP(CONCATENATE($V$68,\"_\",W85),選手名簿!$A:$E,5,FALSE))","v":""},null,null,null,null,null,null,null,{"$f":"IF(ISERROR(VLOOKUP(CONCATENATE($AD$68,\"_\",AC85),選手名簿!$A:$E,5,FALSE))=TRUE,\"\",VLOOKUP(CONCATENATE($AD$68,\"_\",AC85),選手名簿!$A:$E,5,FALSE))","v":""}]
["番号","R001263721",null,null,null,{"$f":"IF(ISERROR(VLOOKUP(CONCATENATE($F$68,\"_\",G86),選手名簿!$A:$E,5,FALSE))=TRUE,\"\",VLOOKUP(CONCATENATE($F$68,\"_\",G86),選手名簿!$A:$E,5,FALSE))","v":""},null,null,null,null,null,null,null,{"$f":"IF(ISERROR(VLOOKUP(CONCATENATE($N$68,\"_\",M86),選手名簿!$A:$E,5,FALSE))=TRUE,\"\",VLOOKUP(CONCATENATE($N$68,\"_\",M86),選手名簿!$A:$E,5,FALSE))","v":""},null,null,"番号","R004326535",null,null,null,{"$f":"IF(ISERROR(VLOOKUP(CONCATENATE($V$68,\"_\",W86),選手名簿!$A:$E,5,FALSE))=TRUE,\"\",VLOOKUP(CONCATENATE($V$68,\"_\",W86),選手名簿!$A:$E,5,FALSE))","v":""},null,null,null,null,null,null,null,{"$f":"IF(ISERROR(VLOOKUP(CONCATENATE($AD$68,\"_\",AC86),選手名簿!$A:$E,5,FALSE))=TRUE,\"\",VLOOKUP(CONCATENATE($AD$68,\"_\",AC86),選手名簿!$A:$E,5,FALSE))","v":""}]
["AR2:",{"$f":"IF(ISERROR(VLOOKUP(B86,審判員!$A:$C,2,FALSE))=TRUE,\"\",VLOOKUP(B86,審判員!$A:$C,2,FALSE))","v":"園　貴司"},null,{"$f":"IF(ISERROR(VLOOKUP(B86,審判員!$A:$C,3,FALSE))=TRUE,\"\",VLOOKUP(B86,審判員!$A:$C,3,FALSE))","v":"３級"},null,{"$f":"IF(ISERROR(VLOOKUP(CONCATENATE($F$68,\"_\",G87),選手名簿!$A:$E,5,FALSE))=TRUE,\"\",VLOOKUP(CONCATENATE($F$68,\"_\",G87),選手名簿!$A:$E,5,FALSE))","v":""},null,null,null,null,null,null,null,{"$f":"IF(ISERROR(VLOOKUP(CONCATENATE($N$68,\"_\",M87),選手名簿!$A:$E,5,FALSE))=TRUE,\"\",VLOOKUP(CONCATENATE($N$68,\"_\",M87),選手名簿!$A:$E,5,FALSE))","v":""},null,null,"AR2:",{"$f":"IF(ISERROR(VLOOKUP(R86,審判員!$A:$C,2,FALSE))=TRUE,\"\",VLOOKUP(R86,審判員!$A:$C,2,FALSE))","v":"信田　卓也"},null,{"$f":"IF(ISERROR(VLOOKUP(R86,審判員!$A:$C,3,FALSE))=TRUE,\"\",VLOOKUP(R86,審判員!$A:$C,3,FALSE))","v":"３級"},null,{"$f":"IF(ISERROR(VLOOKUP(CONCATENATE($V$68,\"_\",W87),選手名簿!$A:$E,5,FALSE))=TRUE,\"\",VLOOKUP(CONCATENATE($V$68,\"_\",W87),選手名簿!$A:$E,5,FALSE))","v":""},null,null,null,null,null,null,null,{"$f":"IF(ISERROR(VLOOKUP(CONCATENATE($AD$68,\"_\",AC87),選手名簿!$A:$E,5,FALSE))=TRUE,\"\",VLOOKUP(CONCATENATE($AD$68,\"_\",AC87),選手名簿!$A:$E,5,FALSE))","v":""}]
["番号","R010074018",null,null,null,{"$f":"IF(ISERROR(VLOOKUP(CONCATENATE($F$68,\"_\",G88),選手名簿!$A:$E,5,FALSE))=TRUE,\"\",VLOOKUP(CONCATENATE($F$68,\"_\",G88),選手名簿!$A:$E,5,FALSE))","v":""},null,null,null,null,null,null,null,{"$f":"IF(ISERROR(VLOOKUP(CONCATENATE($N$68,\"_\",M88),選手名簿!$A:$E,5,FALSE))=TRUE,\"\",VLOOKUP(CONCATENATE($N$68,\"_\",M88),選手名簿!$A:$E,5,FALSE))","v":""},null,null,"番号","R004111340",null,null,null,{"$f":"IF(ISERROR(VLOOKUP(CONCATENATE($V$68,\"_\",W88),選手名簿!$A:$E,5,FALSE))=TRUE,\"\",VLOOKUP(CONCATENATE($V$68,\"_\",W88),選手名簿!$A:$E,5,FALSE))","v":""},null,null,null,null,null,null,null,{"$f":"IF(ISERROR(VLOOKUP(CONCATENATE($AD$68,\"_\",AC88),選手名簿!$A:$E,5,FALSE))=TRUE,\"\",VLOOKUP(CONCATENATE($AD$68,\"_\",AC88),選手名簿!$A:$E,5,FALSE))","v":""}]
["4th:",{"$f":"IF(ISERROR(VLOOKUP(B88,審判員!$A:$C,2,FALSE))=TRUE,\"\",VLOOKUP(B88,審判員!$A:$C,2,FALSE))","v":"長門　崚太"},null,{"$f":"IF(ISERROR(VLOOKUP(B88,審判員!$A:$C,3,FALSE))=TRUE,\"\",VLOOKUP(B88,審判員!$A:$C,3,FALSE))","v":"３級"},null,{"$f":"IF(ISERROR(VLOOKUP(CONCATENATE($F$68,\"_\",G89),選手名簿!$A:$E,5,FALSE))=TRUE,\"\",VLOOKUP(CONCATENATE($F$68,\"_\",G89),選手名簿!$A:$E,5,FALSE))","v":""},null,null,null,null,null,null,null,{"$f":"IF(ISERROR(VLOOKUP(CONCATENATE($N$68,\"_\",M89),選手名簿!$A:$E,5,FALSE))=TRUE,\"\",VLOOKUP(CONCATENATE($N$68,\"_\",M89),選手名簿!$A:$E,5,FALSE))","v":""},null,null,"4th:",{"$f":"IF(ISERROR(VLOOKUP(R88,審判員!$A:$C,2,FALSE))=TRUE,\"\",VLOOKUP(R88,審判員!$A:$C,2,FALSE))","v":"唐下　直之"},null,{"$f":"IF(ISERROR(VLOOKUP(R88,審判員!$A:$C,3,FALSE))=TRUE,\"\",VLOOKUP(R88,審判員!$A:$C,3,FALSE))","v":"３級"},null,{"$f":"IF(ISERROR(VLOOKUP(CONCATENATE($V$68,\"_\",W89),選手名簿!$A:$E,5,FALSE))=TRUE,\"\",VLOOKUP(CONCATENATE($V$68,\"_\",W89),選手名簿!$A:$E,5,FALSE))","v":""},null,null,null,null,null,null,null,{"$f":"IF(ISERROR(VLOOKUP(CONCATENATE($AD$68,\"_\",AC89),選手名簿!$A:$E,5,FALSE))=TRUE,\"\",VLOOKUP(CONCATENATE($AD$68,\"_\",AC89),選手名簿!$A:$E,5,FALSE))","v":""}]

{"sheet":"予選リーグ公式記録(B南)","index":11,"n_rows":89,"n_cols":31,"rows_kept":89,"cut":false,"hidden":false,"merged":[[27,17,27,19],[9,14,11,14],[23,17,23,19],[24,17,24,18],[25,17,25,19],[9,1,9,3],[9,17,9,19],[10,1,10,3],[11,1,11,3],[10,17,10,19],[11,17,11,19],[4,28,4,29],[5,28,5,29],[4,21,4,27],[5,21,5,27],[4,12,4,13],[4,5,4,11],[5,5,5,11],[5,12,5,13],[9,13,11,13],[9,12,11,12],[6,28,6,29],[9,20,11,20],[9,21,11,21],[9,23,11,23],[6,12,6,13],[9,27,11,27],[9,28,11,28],[9,29,11,29],[9,22,11,22],[6,21,6,27],[6,5,6,11],[9,5,11,5],[9,6,11,6],[9,7,11,7],[38,23,40,23],[38,27,40,27],[30,1,30,2],[30,17,30,18],[38,4,40,4],[38,5,40,5],[38,6,40,6],[38,7,40,7],[38,14,40,14],[38,11,40,11],[38,12,40,12],[38,13,40,13],[38,20,40,20],[39,17,39,19],[38,21,40,21],[38,22,40,22],[40,17,40,19],[39,1,39,3],[40,1,40,3],[38,1,38,3],[38,17,38,19],[29,1,29,3],[29,17,29,19],[23,1,23,3],[24,1,24,2],[25,1,25,3],[28,1,28,2],[28,17,28,18],[9,4,11,4],[87,1,87,3],[87,17,87,19],[70,16,70,19],[58,17,58,19],[53,1,53,2],[53,17,53,18],[68,1,68,3],[69,1,69,3],[68,17,68,19],[69,17,69,19],[67,1,67,3],[67,17,67,19],[9,11,11,11],[26,1,26,2],[26,17,26,18],[27,1,27,3],[88,1,88,2],[88,17,88,18],[83,1,83,3],[83,17,83,19],[84,1,84,2],[84,17,84,18],[85,1,85,3],[85,17,85,19],[67,28,69,28],[67,29,69,29],[67,27,69,27],[59,1,59,2],[59,17,59,18],[67,14,69,14],[86,1,86,2],[86,17,86,18],[81,1,81,3],[81,17,81,19],[82,1,82,2],[82,17,82,18],[67,13,69,13],[67,20,69,20],[67,21,69,21],[67,22,69,22],[67,23,69,23],[67,4,69,4],[67,5,69,5],[67,6,69,6],[67,7,69,7],[67,11,69,11],[67,12,69,12],[70,0,70,3],[9,30,11,30],[38,30,40,30],[67,30,69,30],[0,0,0,9],[0,10,0,13],[0,16,0,25],[0,26,0,29],[12,0,12,3],[12,16,12,19],[41,0,41,3],[41,16,41,19],[54,1,54,3],[54,17,54,19],[55,1,55,2],[55,17,55,18],[56,1,56,3],[56,17,56,19],[38,28,40,28],[38,29,40,29],[52,1,52,3],[52,17,52,19],[57,1,57,2],[57,17,57,18],[58,1,58,3]]}
[{"$f":"要項!C2","v":"OFA 第 31 回 大分県ジュニアサッカー選手権大会"},null,null,null,null,null,null,null,null,null,"予選リーグ結果　報告用紙",null,null,null,null,null,{"$f":"要項!C2","v":"OFA 第 31 回 大分県ジュニアサッカー選手権大会"},null,null,null,null,null,null,null,null,null,"予選リーグ結果　報告用紙"]
[]
["会場","大分県大分スポーツ公園　 昭和電工サッカー・ラグビー場　B　南側",null,null,null,null,null,null,null,null,null,null,null,null,null,null,null,"会場","大分県大分スポーツ公園　 昭和電工サッカー・ラグビー場　B　南側"]
[]
[null,null,null,null,"F1",{"$f":"VLOOKUP(E5,組合せ抽選用!$Q:$U,5,FALSE)","v":"市浜レッドソックス"},null,null,null,null,null,null,{"$f":"VLOOKUP(E5,組合せ抽選用!$Q:$V,6,FALSE)","v":"臼杵"},null,null,null,null,null,null,null,"H1",{"$f":"VLOOKUP(U5,組合せ抽選用!$Q:$U,5,FALSE)","v":"ＦＣアリアーレ"},null,null,null,null,null,null,{"$f":"VLOOKUP(U5,組合せ抽選用!$Q:$V,6,FALSE)","v":"日田"}]
[null,null,null,null,"F2",{"$f":"VLOOKUP(E6,組合せ抽選用!$Q:$U,5,FALSE)","v":"日岡サッカースポーツ少年団"},null,null,null,null,null,null,{"$f":"VLOOKUP(E6,組合せ抽選用!$Q:$V,6,FALSE)","v":"大分"},null,null,null,null,null,null,null,"H2",{"$f":"VLOOKUP(U6,組合せ抽選用!$Q:$U,5,FALSE)","v":"ＫＩＮＧＳ　ＦＯＯＴＢＡＬＬＣＬＵＢ　Ｕ－１２"},null,null,null,null,null,null,{"$f":"VLOOKUP(U6,組合せ抽選用!$Q:$V,6,FALSE)","v":"大分"}]
[null,null,null,null,"F3",{"$f":"VLOOKUP(E7,組合せ抽選用!$Q:$U,5,FALSE)","v":"千怒サッカースポーツ少年団"},null,null,null,null,null,null,{"$f":"VLOOKUP(E7,組合せ抽選用!$Q:$V,6,FALSE)","v":"津久見"},null,null,null,null,null,null,null,"H3",{"$f":"VLOOKUP(U7,組合せ抽選用!$Q:$U,5,FALSE)","v":"スマイス　セレソン　スポーツクラブ"},null,null,null,null,null,null,{"$f":"VLOOKUP(U7,組合せ抽選用!$Q:$V,6,FALSE)","v":"大分"}]
[]
[]
["MC","中野　観司郎",null,null,{"$f":"予選リーグ!B19","v":"10:00:00"},{"$f":"F5","v":"市浜レッドソックス"},{"$f":"SUM(I10:I11)","v":0},"（",0,"前半",1,"）",{"$f":"SUM(K10:K11)","v":3},{"$f":"F6","v":"日岡サッカースポーツ少年団"},null,null,"MC","津守　一雄",null,null,{"$f":"予選リーグ!B21","v":"10:50:00"},{"$f":"V5","v":"ＦＣアリアーレ"},{"$f":"SUM(Y10:Y11)","v":1},"（",0,"前半",1,"）",{"$f":"SUM(AA10:AA11)","v":1},{"$f":"V6","v":"ＫＩＮＧＳ　ＦＯＯＴＢＡＬＬＣＬＵＢ　Ｕ－１２"}]
["Welfare\nOfficer",null,null,null,null,null,null,null,0,"後半",2,null,null,null,null,null,"Welfare\nOfficer",null,null,null,null,null,null,null,1,"後半",0]
["記録","松下　省吾",null,null,null,null,null,null,null,"PK",null,null,null,null,null,null,"記録","佐々木　秀樹",null,null,null,null,null,null,null,"PK"]
["＜Referee＞",null,null,null,"警告/退場\n選択肢より","氏名","番号","分","内容\n選択肢より",null,"内容\n選択肢より","分","番号","氏名","警告/退場\n選択肢より",null,"＜Referee＞",null,null,null,"警告/退場\n選択肢より","氏名","番号","分","内容\n選択肢より",null,"内容\n選択肢より","分","番号","氏名","警告/退場\n選択肢より"]
[null,null,null,null,"得点者",{"$f":"IF(ISERROR(VLOOKUP(CONCATENATE($F$10,\"_\",G14),選手名簿!$A:$E,5,FALSE))=TRUE,\"\",VLOOKUP(CONCATENATE($F$10,\"_\",G14),選手名簿!$A:$E,5,FALSE))","v":""},null,null,null,null,null,null,null,{"$f":"IF(ISERROR(VLOOKUP(CONCATENATE($N$10,\"_\",M14),選手名簿!$A:$E,5,FALSE))=TRUE,\"\",VLOOKUP(CONCATENATE($N$10,\"_\",M14),選手名簿!$A:$E,5,FALSE))","v":""},null,null,null,null,null,null,"得点者",{"$f":"IF(ISERROR(VLOOKUP(CONCATENATE($V$10,\"_\",W14),選手名簿!$A:$E,5,FALSE))=TRUE,\"\",VLOOKUP(CONCATENATE($V$10,\"_\",W14),選手名簿!$A:$E,5,FALSE))","v":""},null,null,null,null,null,null,null,{"$f":"IF(ISERROR(VLOOKUP(CONCATENATE($AD$10,\"_\",AC14),選手名簿!$A:$E,5,FALSE))=TRUE,\"\",VLOOKUP(CONCATENATE($AD$10,\"_\",AC14),選手名簿!$A:$E,5,FALSE))","v":""}]
[null,null,null,null,"得点者",{"$f":"IF(ISERROR(VLOOKUP(CONCATENATE($F$10,\"_\",G15),選手名簿!$A:$E,5,FALSE))=TRUE,\"\",VLOOKUP(CONCATENATE($F$10,\"_\",G15),選手名簿!$A:$E,5,FALSE))","v":""},null,null,null,null,null,null,null,{"$f":"IF(ISERROR(VLOOKUP(CONCATENATE($N$10,\"_\",M15),選手名簿!$A:$E,5,FALSE))=TRUE,\"\",VLOOKUP(CONCATENATE($N$10,\"_\",M15),選手名簿!$A:$E,5,FALSE))","v":""},null,null,null,null,null,null,"得点者",{"$f":"IF(ISERROR(VLOOKUP(CONCATENATE($V$10,\"_\",W15),選手名簿!$A:$E,5,FALSE))=TRUE,\"\",VLOOKUP(CONCATENATE($V$10,\"_\",W15),選手名簿!$A:$E,5,FALSE))","v":""},null,null,null,null,null,null,null,{"$f":"IF(ISERROR(VLOOKUP(CONCATENATE($AD$10,\"_\",AC15),選手名簿!$A:$E,5,FALSE))=TRUE,\"\",VLOOKUP(CONCATENATE($AD$10,\"_\",AC15),選手名簿!$A:$E,5,FALSE))","v":""}]
[null,null,null,null,"得点者",{"$f":"IF(ISERROR(VLOOKUP(CONCATENATE($F$10,\"_\",G16),選手名簿!$A:$E,5,FALSE))=TRUE,\"\",VLOOKUP(CONCATENATE($F$10,\"_\",G16),選手名簿!$A:$E,5,FALSE))","v":""},null,null,null,null,null,null,null,{"$f":"IF(ISERROR(VLOOKUP(CONCATENATE($N$10,\"_\",M16),選手名簿!$A:$E,5,FALSE))=TRUE,\"\",VLOOKUP(CONCATENATE($N$10,\"_\",M16),選手名簿!$A:$E,5,FALSE))","v":""},null,null,null,null,null,null,"得点者",{"$f":"IF(ISERROR(VLOOKUP(CONCATENATE($V$10,\"_\",W16),選手名簿!$A:$E,5,FALSE))=TRUE,\"\",VLOOKUP(CONCATENATE($V$10,\"_\",W16),選手名簿!$A:$E,5,FALSE))","v":""},null,null,null,null,null,null,null,{"$f":"IF(ISERROR(VLOOKUP(CONCATENATE($AD$10,\"_\",AC16),選手名簿!$A:$E,5,FALSE))=TRUE,\"\",VLOOKUP(CONCATENATE($AD$10,\"_\",AC16),選手名簿!$A:$E,5,FALSE))","v":""}]
[null,null,null,null,"得点者",{"$f":"IF(ISERROR(VLOOKUP(CONCATENATE($F$10,\"_\",G17),選手名簿!$A:$E,5,FALSE))=TRUE,\"\",VLOOKUP(CONCATENATE($F$10,\"_\",G17),選手名簿!$A:$E,5,FALSE))","v":""},null,null,null,null,null,null,null,{"$f":"IF(ISERROR(VLOOKUP(CONCATENATE($N$10,\"_\",M17),選手名簿!$A:$E,5,FALSE))=TRUE,\"\",VLOOKUP(CONCATENATE($N$10,\"_\",M17),選手名簿!$A:$E,5,FALSE))","v":""},null,null,null,null,null,null,"得点者",{"$f":"IF(ISERROR(VLOOKUP(CONCATENATE($V$10,\"_\",W17),選手名簿!$A:$E,5,FALSE))=TRUE,\"\",VLOOKUP(CONCATENATE($V$10,\"_\",W17),選手名簿!$A:$E,5,FALSE))","v":""},null,null,null,null,null,null,null,{"$f":"IF(ISERROR(VLOOKUP(CONCATENATE($AD$10,\"_\",AC17),選手名簿!$A:$E,5,FALSE))=TRUE,\"\",VLOOKUP(CONCATENATE($AD$10,\"_\",AC17),選手名簿!$A:$E,5,FALSE))","v":""}]
[null,null,null,null,"得点者",{"$f":"IF(ISERROR(VLOOKUP(CONCATENATE($F$10,\"_\",G18),選手名簿!$A:$E,5,FALSE))=TRUE,\"\",VLOOKUP(CONCATENATE($F$10,\"_\",G18),選手名簿!$A:$E,5,FALSE))","v":""},null,null,null,null,null,null,null,{"$f":"IF(ISERROR(VLOOKUP(CONCATENATE($N$10,\"_\",M18),選手名簿!$A:$E,5,FALSE))=TRUE,\"\",VLOOKUP(CONCATENATE($N$10,\"_\",M18),選手名簿!$A:$E,5,FALSE))","v":""},null,null,null,null,null,null,"得点者",{"$f":"IF(ISERROR(VLOOKUP(CONCATENATE($V$10,\"_\",W18),選手名簿!$A:$E,5,FALSE))=TRUE,\"\",VLOOKUP(CONCATENATE($V$10,\"_\",W18),選手名簿!$A:$E,5,FALSE))","v":""},null,null,null,null,null,null,null,{"$f":"IF(ISERROR(VLOOKUP(CONCATENATE($AD$10,\"_\",AC18),選手名簿!$A:$E,5,FALSE))=TRUE,\"\",VLOOKUP(CONCATENATE($AD$10,\"_\",AC18),選手名簿!$A:$E,5,FALSE))","v":""}]
[null,null,null,null,"得点者",{"$f":"IF(ISERROR(VLOOKUP(CONCATENATE($F$10,\"_\",G19),選手名簿!$A:$E,5,FALSE))=TRUE,\"\",VLOOKUP(CONCATENATE($F$10,\"_\",G19),選手名簿!$A:$E,5,FALSE))","v":""},null,null,null,null,null,null,null,{"$f":"IF(ISERROR(VLOOKUP(CONCATENATE($N$10,\"_\",M19),選手名簿!$A:$E,5,FALSE))=TRUE,\"\",VLOOKUP(CONCATENATE($N$10,\"_\",M19),選手名簿!$A:$E,5,FALSE))","v":""},null,null,null,null,null,null,"得点者",{"$f":"IF(ISERROR(VLOOKUP(CONCATENATE($V$10,\"_\",W19),選手名簿!$A:$E,5,FALSE))=TRUE,\"\",VLOOKUP(CONCATENATE($V$10,\"_\",W19),選手名簿!$A:$E,5,FALSE))","v":""},null,null,null,null,null,null,null,{"$f":"IF(ISERROR(VLOOKUP(CONCATENATE($AD$10,\"_\",AC19),選手名簿!$A:$E,5,FALSE))=TRUE,\"\",VLOOKUP(CONCATENATE($AD$10,\"_\",AC19),選手名簿!$A:$E,5,FALSE))","v":""}]
[null,null,null,null,"得点者",{"$f":"IF(ISERROR(VLOOKUP(CONCATENATE($F$10,\"_\",G20),選手名簿!$A:$E,5,FALSE))=TRUE,\"\",VLOOKUP(CONCATENATE($F$10,\"_\",G20),選手名簿!$A:$E,5,FALSE))","v":""},null,null,null,null,null,null,null,{"$f":"IF(ISERROR(VLOOKUP(CONCATENATE($N$10,\"_\",M20),選手名簿!$A:$E,5,FALSE))=TRUE,\"\",VLOOKUP(CONCATENATE($N$10,\"_\",M20),選手名簿!$A:$E,5,FALSE))","v":""},null,null,null,null,null,null,"得点者",{"$f":"IF(ISERROR(VLOOKUP(CONCATENATE($V$10,\"_\",W20),選手名簿!$A:$E,5,FALSE))=TRUE,\"\",VLOOKUP(CONCATENATE($V$10,\"_\",W20),選手名簿!$A:$E,5,FALSE))","v":""},null,null,null,null,null,null,null,{"$f":"IF(ISERROR(VLOOKUP(CONCATENATE($AD$10,\"_\",AC20),選手名簿!$A:$E,5,FALSE))=TRUE,\"\",VLOOKUP(CONCATENATE($AD$10,\"_\",AC20),選手名簿!$A:$E,5,FALSE))","v":""}]
[null,null,null,null,"得点者",{"$f":"IF(ISERROR(VLOOKUP(CONCATENATE($F$10,\"_\",G21),選手名簿!$A:$E,5,FALSE))=TRUE,\"\",VLOOKUP(CONCATENATE($F$10,\"_\",G21),選手名簿!$A:$E,5,FALSE))","v":""},null,null,null,null,null,null,null,{"$f":"IF(ISERROR(VLOOKUP(CONCATENATE($N$10,\"_\",M21),選手名簿!$A:$E,5,FALSE))=TRUE,\"\",VLOOKUP(CONCATENATE($N$10,\"_\",M21),選手名簿!$A:$E,5,FALSE))","v":""},null,null,null,null,null,null,"得点者",{"$f":"IF(ISERROR(VLOOKUP(CONCATENATE($V$10,\"_\",W21),選手名簿!$A:$E,5,FALSE))=TRUE,\"\",VLOOKUP(CONCATENATE($V$10,\"_\",W21),選手名簿!$A:$E,5,FALSE))","v":""},null,null,null,null,null,null,null,{"$f":"IF(ISERROR(VLOOKUP(CONCATENATE($AD$10,\"_\",AC21),選手名簿!$A:$E,5,FALSE))=TRUE,\"\",VLOOKUP(CONCATENATE($AD$10,\"_\",AC21),選手名簿!$A:$E,5,FALSE))","v":""}]
[null,null,null,null,"得点者",{"$f":"IF(ISERROR(VLOOKUP(CONCATENATE($F$10,\"_\",G22),選手名簿!$A:$E,5,FALSE))=TRUE,\"\",VLOOKUP(CONCATENATE($F$10,\"_\",G22),選手名簿!$A:$E,5,FALSE))","v":""},null,null,null,null,null,null,null,{"$f":"IF(ISERROR(VLOOKUP(CONCATENATE($N$10,\"_\",M22),選手名簿!$A:$E,5,FALSE))=TRUE,\"\",VLOOKUP(CONCATENATE($N$10,\"_\",M22),選手名簿!$A:$E,5,FALSE))","v":""},null,null,null,null,null,null,"得点者",{"$f":"IF(ISERROR(VLOOKUP(CONCATENATE($V$10,\"_\",W22),選手名簿!$A:$E,5,FALSE))=TRUE,\"\",VLOOKUP(CONCATENATE($V$10,\"_\",W22),選手名簿!$A:$E,5,FALSE))","v":""},null,null,null,null,null,null,null,{"$f":"IF(ISERROR(VLOOKUP(CONCATENATE($AD$10,\"_\",AC22),選手名簿!$A:$E,5,FALSE))=TRUE,\"\",VLOOKUP(CONCATENATE($AD$10,\"_\",AC22),選手名簿!$A:$E,5,FALSE))","v":""}]
[null,null,null,null,"得点者",{"$f":"IF(ISERROR(VLOOKUP(CONCATENATE($F$10,\"_\",G23),選手名簿!$A:$E,5,FALSE))=TRUE,\"\",VLOOKUP(CONCATENATE($F$10,\"_\",G23),選手名簿!$A:$E,5,FALSE))","v":""},null,null,null,null,null,null,null,{"$f":"IF(ISERROR(VLOOKUP(CONCATENATE($N$10,\"_\",M23),選手名簿!$A:$E,5,FALSE))=TRUE,\"\",VLOOKUP(CONCATENATE($N$10,\"_\",M23),選手名簿!$A:$E,5,FALSE))","v":""},null,null,null,null,null,null,"得点者",{"$f":"IF(ISERROR(VLOOKUP(CONCATENATE($V$10,\"_\",W23),選手名簿!$A:$E,5,FALSE))=TRUE,\"\",VLOOKUP(CONCATENATE($V$10,\"_\",W23),選手名簿!$A:$E,5,FALSE))","v":""},null,null,null,null,null,null,null,{"$f":"IF(ISERROR(VLOOKUP(CONCATENATE($AD$10,\"_\",AC23),選手名簿!$A:$E,5,FALSE))=TRUE,\"\",VLOOKUP(CONCATENATE($AD$10,\"_\",AC23),選手名簿!$A:$E,5,FALSE))","v":""}]
["番号","R010027823",null,null,null,{"$f":"IF(ISERROR(VLOOKUP(CONCATENATE($F$10,\"_\",G24),選手名簿!$A:$E,5,FALSE))=TRUE,\"\",VLOOKUP(CONCATENATE($F$10,\"_\",G24),選手名簿!$A:$E,5,FALSE))","v":""},null,null,null,null,null,null,null,{"$f":"IF(ISERROR(VLOOKUP(CONCATENATE($N$10,\"_\",M24),選手名簿!$A:$E,5,FALSE))=TRUE,\"\",VLOOKUP(CONCATENATE($N$10,\"_\",M24),選手名簿!$A:$E,5,FALSE))","v":""},null,null,"番号","R001256402",null,null,null,{"$f":"IF(ISERROR(VLOOKUP(CONCATENATE($V$10,\"_\",W24),選手名簿!$A:$E,5,FALSE))=TRUE,\"\",VLOOKUP(CONCATENATE($V$10,\"_\",W24),選手名簿!$A:$E,5,FALSE))","v":""},null,null,null,null,null,null,null,{"$f":"IF(ISERROR(VLOOKUP(CONCATENATE($AD$10,\"_\",AC24),選手名簿!$A:$E,5,FALSE))=TRUE,\"\",VLOOKUP(CONCATENATE($AD$10,\"_\",AC24),選手名簿!$A:$E,5,FALSE))","v":""}]
["R",{"$f":"IF(ISERROR(VLOOKUP(B24,審判員!$A:$C,2,FALSE))=TRUE,\"\",VLOOKUP(B24,審判員!$A:$C,2,FALSE))","v":"清家　大介"},null,{"$f":"IF(ISERROR(VLOOKUP(B24,審判員!$A:$C,3,FALSE))=TRUE,\"\",VLOOKUP(B24,審判員!$A:$C,3,FALSE))","v":"３級"},null,{"$f":"IF(ISERROR(VLOOKUP(CONCATENATE($F$10,\"_\",G25),選手名簿!$A:$E,5,FALSE))=TRUE,\"\",VLOOKUP(CONCATENATE($F$10,\"_\",G25),選手名簿!$A:$E,5,FALSE))","v":""},null,null,null,null,null,null,null,{"$f":"IF(ISERROR(VLOOKUP(CONCATENATE($N$10,\"_\",M25),選手名簿!$A:$E,5,FALSE))=TRUE,\"\",VLOOKUP(CONCATENATE($N$10,\"_\",M25),選手名簿!$A:$E,5,FALSE))","v":""},null,null,"R",{"$f":"IF(ISERROR(VLOOKUP(R24,審判員!$A:$C,2,FALSE))=TRUE,\"\",VLOOKUP(R24,審判員!$A:$C,2,FALSE))","v":"小石川　悟"},null,{"$f":"IF(ISERROR(VLOOKUP(R24,審判員!$A:$C,3,FALSE))=TRUE,\"\",VLOOKUP(R24,審判員!$A:$C,3,FALSE))","v":"３級"},null,{"$f":"IF(ISERROR(VLOOKUP(CONCATENATE($V$10,\"_\",W25),選手名簿!$A:$E,5,FALSE))=TRUE,\"\",VLOOKUP(CONCATENATE($V$10,\"_\",W25),選手名簿!$A:$E,5,FALSE))","v":""},null,null,null,null,null,null,null,{"$f":"IF(ISERROR(VLOOKUP(CONCATENATE($AD$10,\"_\",AC25),選手名簿!$A:$E,5,FALSE))=TRUE,\"\",VLOOKUP(CONCATENATE($AD$10,\"_\",AC25),選手名簿!$A:$E,5,FALSE))","v":""}]
["番号","R001260557",null,null,null,{"$f":"IF(ISERROR(VLOOKUP(CONCATENATE($F$10,\"_\",G26),選手名簿!$A:$E,5,FALSE))=TRUE,\"\",VLOOKUP(CONCATENATE($F$10,\"_\",G26),選手名簿!$A:$E,5,FALSE))","v":""},null,null,null,null,null,null,null,{"$f":"IF(ISERROR(VLOOKUP(CONCATENATE($N$10,\"_\",M26),選手名簿!$A:$E,5,FALSE))=TRUE,\"\",VLOOKUP(CONCATENATE($N$10,\"_\",M26),選手名簿!$A:$E,5,FALSE))","v":""},null,null,"番号","R006093835",null,null,null,{"$f":"IF(ISERROR(VLOOKUP(CONCATENATE($V$10,\"_\",W26),選手名簿!$A:$E,5,FALSE))=TRUE,\"\",VLOOKUP(CONCATENATE($V$10,\"_\",W26),選手名簿!$A:$E,5,FALSE))","v":""},null,null,null,null,null,null,null,{"$f":"IF(ISERROR(VLOOKUP(CONCATENATE($AD$10,\"_\",AC26),選手名簿!$A:$E,5,FALSE))=TRUE,\"\",VLOOKUP(CONCATENATE($AD$10,\"_\",AC26),選手名簿!$A:$E,5,FALSE))","v":""}]
["AR1:",{"$f":"IF(ISERROR(VLOOKUP(B26,審判員!$A:$C,2,FALSE))=TRUE,\"\",VLOOKUP(B26,審判員!$A:$C,2,FALSE))","v":"マガリェンス　リシャルドソン"},null,{"$f":"IF(ISERROR(VLOOKUP(B26,審判員!$A:$C,3,FALSE))=TRUE,\"\",VLOOKUP(B26,審判員!$A:$C,3,FALSE))","v":"３級"},null,{"$f":"IF(ISERROR(VLOOKUP(CONCATENATE($F$10,\"_\",G27),選手名簿!$A:$E,5,FALSE))=TRUE,\"\",VLOOKUP(CONCATENATE($F$10,\"_\",G27),選手名簿!$A:$E,5,FALSE))","v":""},null,null,null,null,null,null,null,{"$f":"IF(ISERROR(VLOOKUP(CONCATENATE($N$10,\"_\",M27),選手名簿!$A:$E,5,FALSE))=TRUE,\"\",VLOOKUP(CONCATENATE($N$10,\"_\",M27),選手名簿!$A:$E,5,FALSE))","v":""},null,null,"AR1:",{"$f":"IF(ISERROR(VLOOKUP(R26,審判員!$A:$C,2,FALSE))=TRUE,\"\",VLOOKUP(R26,審判員!$A:$C,2,FALSE))","v":"板井　龍法"},null,{"$f":"IF(ISERROR(VLOOKUP(R26,審判員!$A:$C,3,FALSE))=TRUE,\"\",VLOOKUP(R26,審判員!$A:$C,3,FALSE))","v":"３級"},null,{"$f":"IF(ISERROR(VLOOKUP(CONCATENATE($V$10,\"_\",W27),選手名簿!$A:$E,5,FALSE))=TRUE,\"\",VLOOKUP(CONCATENATE($V$10,\"_\",W27),選手名簿!$A:$E,5,FALSE))","v":""},null,null,null,null,null,null,null,{"$f":"IF(ISERROR(VLOOKUP(CONCATENATE($AD$10,\"_\",AC27),選手名簿!$A:$E,5,FALSE))=TRUE,\"\",VLOOKUP(CONCATENATE($AD$10,\"_\",AC27),選手名簿!$A:$E,5,FALSE))","v":""}]
["番号","R001258871",null,null,null,{"$f":"IF(ISERROR(VLOOKUP(CONCATENATE($F$10,\"_\",G28),選手名簿!$A:$E,5,FALSE))=TRUE,\"\",VLOOKUP(CONCATENATE($F$10,\"_\",G28),選手名簿!$A:$E,5,FALSE))","v":""},null,null,null,null,null,null,null,{"$f":"IF(ISERROR(VLOOKUP(CONCATENATE($N$10,\"_\",M28),選手名簿!$A:$E,5,FALSE))=TRUE,\"\",VLOOKUP(CONCATENATE($N$10,\"_\",M28),選手名簿!$A:$E,5,FALSE))","v":""},null,null,"番号","R001262111",null,null,null,{"$f":"IF(ISERROR(VLOOKUP(CONCATENATE($V$10,\"_\",W28),選手名簿!$A:$E,5,FALSE))=TRUE,\"\",VLOOKUP(CONCATENATE($V$10,\"_\",W28),選手名簿!$A:$E,5,FALSE))","v":""},null,null,null,null,null,null,null,{"$f":"IF(ISERROR(VLOOKUP(CONCATENATE($AD$10,\"_\",AC28),選手名簿!$A:$E,5,FALSE))=TRUE,\"\",VLOOKUP(CONCATENATE($AD$10,\"_\",AC28),選手名簿!$A:$E,5,FALSE))","v":""}]
["AR2:",{"$f":"IF(ISERROR(VLOOKUP(B28,審判員!$A:$C,2,FALSE))=TRUE,\"\",VLOOKUP(B28,審判員!$A:$C,2,FALSE))","v":"長尾　信宏"},null,{"$f":"IF(ISERROR(VLOOKUP(B28,審判員!$A:$C,3,FALSE))=TRUE,\"\",VLOOKUP(B28,審判員!$A:$C,3,FALSE))","v":"３級"},null,{"$f":"IF(ISERROR(VLOOKUP(CONCATENATE($F$10,\"_\",G29),選手名簿!$A:$E,5,FALSE))=TRUE,\"\",VLOOKUP(CONCATENATE($F$10,\"_\",G29),選手名簿!$A:$E,5,FALSE))","v":""},null,null,null,null,null,null,null,{"$f":"IF(ISERROR(VLOOKUP(CONCATENATE($N$10,\"_\",M29),選手名簿!$A:$E,5,FALSE))=TRUE,\"\",VLOOKUP(CONCATENATE($N$10,\"_\",M29),選手名簿!$A:$E,5,FALSE))","v":""},null,null,"AR2:",{"$f":"IF(ISERROR(VLOOKUP(R28,審判員!$A:$C,2,FALSE))=TRUE,\"\",VLOOKUP(R28,審判員!$A:$C,2,FALSE))","v":"渡辺　陽一郎"},null,{"$f":"IF(ISERROR(VLOOKUP(R28,審判員!$A:$C,3,FALSE))=TRUE,\"\",VLOOKUP(R28,審判員!$A:$C,3,FALSE))","v":"３級"},null,{"$f":"IF(ISERROR(VLOOKUP(CONCATENATE($V$10,\"_\",W29),選手名簿!$A:$E,5,FALSE))=TRUE,\"\",VLOOKUP(CONCATENATE($V$10,\"_\",W29),選手名簿!$A:$E,5,FALSE))","v":""},null,null,null,null,null,null,null,{"$f":"IF(ISERROR(VLOOKUP(CONCATENATE($AD$10,\"_\",AC29),選手名簿!$A:$E,5,FALSE))=TRUE,\"\",VLOOKUP(CONCATENATE($AD$10,\"_\",AC29),選手名簿!$A:$E,5,FALSE))","v":""}]
["番号","R001256402",null,null,null,{"$f":"IF(ISERROR(VLOOKUP(CONCATENATE($F$10,\"_\",G30),選手名簿!$A:$E,5,FALSE))=TRUE,\"\",VLOOKUP(CONCATENATE($F$10,\"_\",G30),選手名簿!$A:$E,5,FALSE))","v":""},null,null,null,null,null,null,null,{"$f":"IF(ISERROR(VLOOKUP(CONCATENATE($N$10,\"_\",M30),選手名簿!$A:$E,5,FALSE))=TRUE,\"\",VLOOKUP(CONCATENATE($N$10,\"_\",M30),選手名簿!$A:$E,5,FALSE))","v":""},null,null,"番号","R007959103",null,null,null,{"$f":"IF(ISERROR(VLOOKUP(CONCATENATE($V$10,\"_\",W30),選手名簿!$A:$E,5,FALSE))=TRUE,\"\",VLOOKUP(CONCATENATE($V$10,\"_\",W30),選手名簿!$A:$E,5,FALSE))","v":""},null,null,null,null,null,null,null,{"$f":"IF(ISERROR(VLOOKUP(CONCATENATE($AD$10,\"_\",AC30),選手名簿!$A:$E,5,FALSE))=TRUE,\"\",VLOOKUP(CONCATENATE($AD$10,\"_\",AC30),選手名簿!$A:$E,5,FALSE))","v":""}]
["4th:",{"$f":"IF(ISERROR(VLOOKUP(B30,審判員!$A:$C,2,FALSE))=TRUE,\"\",VLOOKUP(B30,審判員!$A:$C,2,FALSE))","v":"小石川　悟"},null,{"$f":"IF(ISERROR(VLOOKUP(B30,審判員!$A:$C,3,FALSE))=TRUE,\"\",VLOOKUP(B30,審判員!$A:$C,3,FALSE))","v":"３級"},null,{"$f":"IF(ISERROR(VLOOKUP(CONCATENATE($F$10,\"_\",G31),選手名簿!$A:$E,5,FALSE))=TRUE,\"\",VLOOKUP(CONCATENATE($F$10,\"_\",G31),選手名簿!$A:$E,5,FALSE))","v":""},null,null,null,null,null,null,null,{"$f":"IF(ISERROR(VLOOKUP(CONCATENATE($N$10,\"_\",M31),選手名簿!$A:$E,5,FALSE))=TRUE,\"\",VLOOKUP(CONCATENATE($N$10,\"_\",M31),選手名簿!$A:$E,5,FALSE))","v":""},null,null,"4th:",{"$f":"IF(ISERROR(VLOOKUP(R30,審判員!$A:$C,2,FALSE))=TRUE,\"\",VLOOKUP(R30,審判員!$A:$C,2,FALSE))","v":"安倍　達也"},null,{"$f":"IF(ISERROR(VLOOKUP(R30,審判員!$A:$C,3,FALSE))=TRUE,\"\",VLOOKUP(R30,審判員!$A:$C,3,FALSE))","v":"３級"},null,{"$f":"IF(ISERROR(VLOOKUP(CONCATENATE($V$10,\"_\",W31),選手名簿!$A:$E,5,FALSE))=TRUE,\"\",VLOOKUP(CONCATENATE($V$10,\"_\",W31),選手名簿!$A:$E,5,FALSE))","v":""},null,null,null,null,null,null,null,{"$f":"IF(ISERROR(VLOOKUP(CONCATENATE($AD$10,\"_\",AC31),選手名簿!$A:$E,5,FALSE))=TRUE,\"\",VLOOKUP(CONCATENATE($AD$10,\"_\",AC31),選手名簿!$A:$E,5,FALSE))","v":""}]
[]
[]
[]
[]
[]
[]
[]
["MC","松下　省吾",null,null,{"$f":"予選リーグ!B23","v":"11:40:00"},{"$f":"F6","v":"日岡サッカースポーツ少年団"},{"$f":"SUM(I39:I40)","v":8},"（",2,"前半",0,"）",{"$f":"SUM(K39:K40)","v":0},{"$f":"F7","v":"千怒サッカースポーツ少年団"},null,null,"MC","佐々木　秀樹",null,null,{"$f":"予選リーグ!B25","v":"12:30:00"},{"$f":"V6","v":"ＫＩＮＧＳ　ＦＯＯＴＢＡＬＬＣＬＵＢ　Ｕ－１２"},{"$f":"SUM(Y39:Y40)","v":0},"（",0,"前半",0,"）",{"$f":"SUM(AA39:AA40)","v":0},{"$f":"V7","v":"スマイス　セレソン　スポーツクラブ"}]
["Welfare\nOfficer",null,null,null,null,null,null,null,6,"後半",0,null,null,null,null,null,"Welfare\nOfficer",null,null,null,null,null,null,null,0,"後半",0]
["記録","中野　観司郎",null,null,null,null,null,null,null,"PK",null,null,null,null,null,null,"記録","松下　省吾",null,null,null,null,null,null,null,"PK"]
["＜Referee＞",null,null,null,"警告/退場\n選択肢より","氏名","番号","分","内容\n選択肢より",null,"内容\n選択肢より","分","番号","氏名","警告/退場\n選択肢より",null,"＜Referee＞",null,null,null,"警告/退場\n選択肢より","氏名","番号","分","内容\n選択肢より",null,"内容\n選択肢より","分","番号","氏名","警告/退場\n選択肢より"]
[null,null,null,null,"得点者",{"$f":"IF(ISERROR(VLOOKUP(CONCATENATE($F$39,\"_\",G43),選手名簿!$A:$E,5,FALSE))=TRUE,\"\",VLOOKUP(CONCATENATE($F$39,\"_\",G43),選手名簿!$A:$E,5,FALSE))","v":""},null,null,null,null,null,null,null,{"$f":"IF(ISERROR(VLOOKUP(CONCATENATE($N$39,\"_\",M43),選手名簿!$A:$E,5,FALSE))=TRUE,\"\",VLOOKUP(CONCATENATE($N$39,\"_\",M43),選手名簿!$A:$E,5,FALSE))","v":""},null,null,null,null,null,null,"得点者",{"$f":"IF(ISERROR(VLOOKUP(CONCATENATE($V$39,\"_\",W43),選手名簿!$A:$E,5,FALSE))=TRUE,\"\",VLOOKUP(CONCATENATE($V$39,\"_\",W43),選手名簿!$A:$E,5,FALSE))","v":""},null,null,null,null,null,null,null,{"$f":"IF(ISERROR(VLOOKUP(CONCATENATE($AD$39,\"_\",AC43),選手名簿!$A:$E,5,FALSE))=TRUE,\"\",VLOOKUP(CONCATENATE($AD$39,\"_\",AC43),選手名簿!$A:$E,5,FALSE))","v":""}]
[null,null,null,null,"得点者",{"$f":"IF(ISERROR(VLOOKUP(CONCATENATE($F$39,\"_\",G44),選手名簿!$A:$E,5,FALSE))=TRUE,\"\",VLOOKUP(CONCATENATE($F$39,\"_\",G44),選手名簿!$A:$E,5,FALSE))","v":""},null,null,null,null,null,null,null,{"$f":"IF(ISERROR(VLOOKUP(CONCATENATE($N$39,\"_\",M44),選手名簿!$A:$E,5,FALSE))=TRUE,\"\",VLOOKUP(CONCATENATE($N$39,\"_\",M44),選手名簿!$A:$E,5,FALSE))","v":""},null,null,null,null,null,null,"得点者",{"$f":"IF(ISERROR(VLOOKUP(CONCATENATE($V$39,\"_\",W44),選手名簿!$A:$E,5,FALSE))=TRUE,\"\",VLOOKUP(CONCATENATE($V$39,\"_\",W44),選手名簿!$A:$E,5,FALSE))","v":""},null,null,null,null,null,null,null,{"$f":"IF(ISERROR(VLOOKUP(CONCATENATE($AD$39,\"_\",AC44),選手名簿!$A:$E,5,FALSE))=TRUE,\"\",VLOOKUP(CONCATENATE($AD$39,\"_\",AC44),選手名簿!$A:$E,5,FALSE))","v":""}]
[null,null,null,null,"得点者",{"$f":"IF(ISERROR(VLOOKUP(CONCATENATE($F$39,\"_\",G45),選手名簿!$A:$E,5,FALSE))=TRUE,\"\",VLOOKUP(CONCATENATE($F$39,\"_\",G45),選手名簿!$A:$E,5,FALSE))","v":""},null,null,null,null,null,null,null,{"$f":"IF(ISERROR(VLOOKUP(CONCATENATE($N$39,\"_\",M45),選手名簿!$A:$E,5,FALSE))=TRUE,\"\",VLOOKUP(CONCATENATE($N$39,\"_\",M45),選手名簿!$A:$E,5,FALSE))","v":""},null,null,null,null,null,null,"得点者",{"$f":"IF(ISERROR(VLOOKUP(CONCATENATE($V$39,\"_\",W45),選手名簿!$A:$E,5,FALSE))=TRUE,\"\",VLOOKUP(CONCATENATE($V$39,\"_\",W45),選手名簿!$A:$E,5,FALSE))","v":""},null,null,null,null,null,null,null,{"$f":"IF(ISERROR(VLOOKUP(CONCATENATE($AD$39,\"_\",AC45),選手名簿!$A:$E,5,FALSE))=TRUE,\"\",VLOOKUP(CONCATENATE($AD$39,\"_\",AC45),選手名簿!$A:$E,5,FALSE))","v":""}]
[null,null,null,null,"得点者",{"$f":"IF(ISERROR(VLOOKUP(CONCATENATE($F$39,\"_\",G46),選手名簿!$A:$E,5,FALSE))=TRUE,\"\",VLOOKUP(CONCATENATE($F$39,\"_\",G46),選手名簿!$A:$E,5,FALSE))","v":""},null,null,null,null,null,null,null,{"$f":"IF(ISERROR(VLOOKUP(CONCATENATE($N$39,\"_\",M46),選手名簿!$A:$E,5,FALSE))=TRUE,\"\",VLOOKUP(CONCATENATE($N$39,\"_\",M46),選手名簿!$A:$E,5,FALSE))","v":""},null,null,null,null,null,null,"得点者",{"$f":"IF(ISERROR(VLOOKUP(CONCATENATE($V$39,\"_\",W46),選手名簿!$A:$E,5,FALSE))=TRUE,\"\",VLOOKUP(CONCATENATE($V$39,\"_\",W46),選手名簿!$A:$E,5,FALSE))","v":""},null,null,null,null,null,null,null,{"$f":"IF(ISERROR(VLOOKUP(CONCATENATE($AD$39,\"_\",AC46),選手名簿!$A:$E,5,FALSE))=TRUE,\"\",VLOOKUP(CONCATENATE($AD$39,\"_\",AC46),選手名簿!$A:$E,5,FALSE))","v":""}]
[null,null,null,null,"得点者",{"$f":"IF(ISERROR(VLOOKUP(CONCATENATE($F$39,\"_\",G47),選手名簿!$A:$E,5,FALSE))=TRUE,\"\",VLOOKUP(CONCATENATE($F$39,\"_\",G47),選手名簿!$A:$E,5,FALSE))","v":""},null,null,null,null,null,null,null,{"$f":"IF(ISERROR(VLOOKUP(CONCATENATE($N$39,\"_\",M47),選手名簿!$A:$E,5,FALSE))=TRUE,\"\",VLOOKUP(CONCATENATE($N$39,\"_\",M47),選手名簿!$A:$E,5,FALSE))","v":""},null,null,null,null,null,null,"得点者",{"$f":"IF(ISERROR(VLOOKUP(CONCATENATE($V$39,\"_\",W47),選手名簿!$A:$E,5,FALSE))=TRUE,\"\",VLOOKUP(CONCATENATE($V$39,\"_\",W47),選手名簿!$A:$E,5,FALSE))","v":""},null,null,null,null,null,null,null,{"$f":"IF(ISERROR(VLOOKUP(CONCATENATE($AD$39,\"_\",AC47),選手名簿!$A:$E,5,FALSE))=TRUE,\"\",VLOOKUP(CONCATENATE($AD$39,\"_\",AC47),選手名簿!$A:$E,5,FALSE))","v":""}]
[null,null,null,null,"得点者",{"$f":"IF(ISERROR(VLOOKUP(CONCATENATE($F$39,\"_\",G48),選手名簿!$A:$E,5,FALSE))=TRUE,\"\",VLOOKUP(CONCATENATE($F$39,\"_\",G48),選手名簿!$A:$E,5,FALSE))","v":""},null,null,null,null,null,null,null,{"$f":"IF(ISERROR(VLOOKUP(CONCATENATE($N$39,\"_\",M48),選手名簿!$A:$E,5,FALSE))=TRUE,\"\",VLOOKUP(CONCATENATE($N$39,\"_\",M48),選手名簿!$A:$E,5,FALSE))","v":""},null,null,null,null,null,null,"得点者",{"$f":"IF(ISERROR(VLOOKUP(CONCATENATE($V$39,\"_\",W48),選手名簿!$A:$E,5,FALSE))=TRUE,\"\",VLOOKUP(CONCATENATE($V$39,\"_\",W48),選手名簿!$A:$E,5,FALSE))","v":""},null,null,null,null,null,null,null,{"$f":"IF(ISERROR(VLOOKUP(CONCATENATE($AD$39,\"_\",AC48),選手名簿!$A:$E,5,FALSE))=TRUE,\"\",VLOOKUP(CONCATENATE($AD$39,\"_\",AC48),選手名簿!$A:$E,5,FALSE))","v":""}]
[null,null,null,null,"得点者",{"$f":"IF(ISERROR(VLOOKUP(CONCATENATE($F$39,\"_\",G49),選手名簿!$A:$E,5,FALSE))=TRUE,\"\",VLOOKUP(CONCATENATE($F$39,\"_\",G49),選手名簿!$A:$E,5,FALSE))","v":""},null,null,null,null,null,null,null,{"$f":"IF(ISERROR(VLOOKUP(CONCATENATE($N$39,\"_\",M49),選手名簿!$A:$E,5,FALSE))=TRUE,\"\",VLOOKUP(CONCATENATE($N$39,\"_\",M49),選手名簿!$A:$E,5,FALSE))","v":""},null,null,null,null,null,null,"得点者",{"$f":"IF(ISERROR(VLOOKUP(CONCATENATE($V$39,\"_\",W49),選手名簿!$A:$E,5,FALSE))=TRUE,\"\",VLOOKUP(CONCATENATE($V$39,\"_\",W49),選手名簿!$A:$E,5,FALSE))","v":""},null,null,null,null,null,null,null,{"$f":"IF(ISERROR(VLOOKUP(CONCATENATE($AD$39,\"_\",AC49),選手名簿!$A:$E,5,FALSE))=TRUE,\"\",VLOOKUP(CONCATENATE($AD$39,\"_\",AC49),選手名簿!$A:$E,5,FALSE))","v":""}]
[null,null,null,null,"得点者",{"$f":"IF(ISERROR(VLOOKUP(CONCATENATE($F$39,\"_\",G50),選手名簿!$A:$E,5,FALSE))=TRUE,\"\",VLOOKUP(CONCATENATE($F$39,\"_\",G50),選手名簿!$A:$E,5,FALSE))","v":""},null,null,null,null,null,null,null,{"$f":"IF(ISERROR(VLOOKUP(CONCATENATE($N$39,\"_\",M50),選手名簿!$A:$E,5,FALSE))=TRUE,\"\",VLOOKUP(CONCATENATE($N$39,\"_\",M50),選手名簿!$A:$E,5,FALSE))","v":""},null,null,null,null,null,null,"得点者",{"$f":"IF(ISERROR(VLOOKUP(CONCATENATE($V$39,\"_\",W50),選手名簿!$A:$E,5,FALSE))=TRUE,\"\",VLOOKUP(CONCATENATE($V$39,\"_\",W50),選手名簿!$A:$E,5,FALSE))","v":""},null,null,null,null,null,null,null,{"$f":"IF(ISERROR(VLOOKUP(CONCATENATE($AD$39,\"_\",AC50),選手名簿!$A:$E,5,FALSE))=TRUE,\"\",VLOOKUP(CONCATENATE($AD$39,\"_\",AC50),選手名簿!$A:$E,5,FALSE))","v":""}]
[null,null,null,null,"得点者",{"$f":"IF(ISERROR(VLOOKUP(CONCATENATE($F$39,\"_\",G51),選手名簿!$A:$E,5,FALSE))=TRUE,\"\",VLOOKUP(CONCATENATE($F$39,\"_\",G51),選手名簿!$A:$E,5,FALSE))","v":""},null,null,null,null,null,null,null,{"$f":"IF(ISERROR(VLOOKUP(CONCATENATE($N$39,\"_\",M51),選手名簿!$A:$E,5,FALSE))=TRUE,\"\",VLOOKUP(CONCATENATE($N$39,\"_\",M51),選手名簿!$A:$E,5,FALSE))","v":""},null,null,null,null,null,null,"得点者",{"$f":"IF(ISERROR(VLOOKUP(CONCATENATE($V$39,\"_\",W51),選手名簿!$A:$E,5,FALSE))=TRUE,\"\",VLOOKUP(CONCATENATE($V$39,\"_\",W51),選手名簿!$A:$E,5,FALSE))","v":""},null,null,null,null,null,null,null,{"$f":"IF(ISERROR(VLOOKUP(CONCATENATE($AD$39,\"_\",AC51),選手名簿!$A:$E,5,FALSE))=TRUE,\"\",VLOOKUP(CONCATENATE($AD$39,\"_\",AC51),選手名簿!$A:$E,5,FALSE))","v":""}]
[null,null,null,null,"得点者",{"$f":"IF(ISERROR(VLOOKUP(CONCATENATE($F$39,\"_\",G52),選手名簿!$A:$E,5,FALSE))=TRUE,\"\",VLOOKUP(CONCATENATE($F$39,\"_\",G52),選手名簿!$A:$E,5,FALSE))","v":""},null,null,null,null,null,null,null,{"$f":"IF(ISERROR(VLOOKUP(CONCATENATE($N$39,\"_\",M52),選手名簿!$A:$E,5,FALSE))=TRUE,\"\",VLOOKUP(CONCATENATE($N$39,\"_\",M52),選手名簿!$A:$E,5,FALSE))","v":""},null,null,null,null,null,null,"得点者",{"$f":"IF(ISERROR(VLOOKUP(CONCATENATE($V$39,\"_\",W52),選手名簿!$A:$E,5,FALSE))=TRUE,\"\",VLOOKUP(CONCATENATE($V$39,\"_\",W52),選手名簿!$A:$E,5,FALSE))","v":""},null,null,null,null,null,null,null,{"$f":"IF(ISERROR(VLOOKUP(CONCATENATE($AD$39,\"_\",AC52),選手名簿!$A:$E,5,FALSE))=TRUE,\"\",VLOOKUP(CONCATENATE($AD$39,\"_\",AC52),選手名簿!$A:$E,5,FALSE))","v":""}]
["番号","R007959103",null,null,null,{"$f":"IF(ISERROR(VLOOKUP(CONCATENATE($F$39,\"_\",G53),選手名簿!$A:$E,5,FALSE))=TRUE,\"\",VLOOKUP(CONCATENATE($F$39,\"_\",G53),選手名簿!$A:$E,5,FALSE))","v":""},null,null,null,null,null,null,null,{"$f":"IF(ISERROR(VLOOKUP(CONCATENATE($N$39,\"_\",M53),選手名簿!$A:$E,5,FALSE))=TRUE,\"\",VLOOKUP(CONCATENATE($N$39,\"_\",M53),選手名簿!$A:$E,5,FALSE))","v":""},null,null,"番号","R010027823",null,null,null,{"$f":"IF(ISERROR(VLOOKUP(CONCATENATE($V$39,\"_\",W53),選手名簿!$A:$E,5,FALSE))=TRUE,\"\",VLOOKUP(CONCATENATE($V$39,\"_\",W53),選手名簿!$A:$E,5,FALSE))","v":""},null,null,null,null,null,null,null,{"$f":"IF(ISERROR(VLOOKUP(CONCATENATE($AD$39,\"_\",AC53),選手名簿!$A:$E,5,FALSE))=TRUE,\"\",VLOOKUP(CONCATENATE($AD$39,\"_\",AC53),選手名簿!$A:$E,5,FALSE))","v":""}]
["R",{"$f":"IF(ISERROR(VLOOKUP(B53,審判員!$A:$C,2,FALSE))=TRUE,\"\",VLOOKUP(B53,審判員!$A:$C,2,FALSE))","v":"安倍　達也"},null,{"$f":"IF(ISERROR(VLOOKUP(B53,審判員!$A:$C,3,FALSE))=TRUE,\"\",VLOOKUP(B53,審判員!$A:$C,3,FALSE))","v":"３級"},null,{"$f":"IF(ISERROR(VLOOKUP(CONCATENATE($F$39,\"_\",G54),選手名簿!$A:$E,5,FALSE))=TRUE,\"\",VLOOKUP(CONCATENATE($F$39,\"_\",G54),選手名簿!$A:$E,5,FALSE))","v":""},null,null,null,null,null,null,null,{"$f":"IF(ISERROR(VLOOKUP(CONCATENATE($N$39,\"_\",M54),選手名簿!$A:$E,5,FALSE))=TRUE,\"\",VLOOKUP(CONCATENATE($N$39,\"_\",M54),選手名簿!$A:$E,5,FALSE))","v":""},null,null,"R",{"$f":"IF(ISERROR(VLOOKUP(R53,審判員!$A:$C,2,FALSE))=TRUE,\"\",VLOOKUP(R53,審判員!$A:$C,2,FALSE))","v":"清家　大介"},null,{"$f":"IF(ISERROR(VLOOKUP(R53,審判員!$A:$C,3,FALSE))=TRUE,\"\",VLOOKUP(R53,審判員!$A:$C,3,FALSE))","v":"３級"},null,{"$f":"IF(ISERROR(VLOOKUP(CONCATENATE($V$39,\"_\",W54),選手名簿!$A:$E,5,FALSE))=TRUE,\"\",VLOOKUP(CONCATENATE($V$39,\"_\",W54),選手名簿!$A:$E,5,FALSE))","v":""},null,null,null,null,null,null,null,{"$f":"IF(ISERROR(VLOOKUP(CONCATENATE($AD$39,\"_\",AC54),選手名簿!$A:$E,5,FALSE))=TRUE,\"\",VLOOKUP(CONCATENATE($AD$39,\"_\",AC54),選手名簿!$A:$E,5,FALSE))","v":""}]
["番号","R001258871",null,null,null,{"$f":"IF(ISERROR(VLOOKUP(CONCATENATE($F$39,\"_\",G55),選手名簿!$A:$E,5,FALSE))=TRUE,\"\",VLOOKUP(CONCATENATE($F$39,\"_\",G55),選手名簿!$A:$E,5,FALSE))","v":""},null,null,null,null,null,null,null,{"$f":"IF(ISERROR(VLOOKUP(CONCATENATE($N$39,\"_\",M55),選手名簿!$A:$E,5,FALSE))=TRUE,\"\",VLOOKUP(CONCATENATE($N$39,\"_\",M55),選手名簿!$A:$E,5,FALSE))","v":""},null,null,"番号","R001262111",null,null,null,{"$f":"IF(ISERROR(VLOOKUP(CONCATENATE($V$39,\"_\",W55),選手名簿!$A:$E,5,FALSE))=TRUE,\"\",VLOOKUP(CONCATENATE($V$39,\"_\",W55),選手名簿!$A:$E,5,FALSE))","v":""},null,null,null,null,null,null,null,{"$f":"IF(ISERROR(VLOOKUP(CONCATENATE($AD$39,\"_\",AC55),選手名簿!$A:$E,5,FALSE))=TRUE,\"\",VLOOKUP(CONCATENATE($AD$39,\"_\",AC55),選手名簿!$A:$E,5,FALSE))","v":""}]
["AR1:",{"$f":"IF(ISERROR(VLOOKUP(B55,審判員!$A:$C,2,FALSE))=TRUE,\"\",VLOOKUP(B55,審判員!$A:$C,2,FALSE))","v":"長尾　信宏"},null,{"$f":"IF(ISERROR(VLOOKUP(B55,審判員!$A:$C,3,FALSE))=TRUE,\"\",VLOOKUP(B55,審判員!$A:$C,3,FALSE))","v":"３級"},null,{"$f":"IF(ISERROR(VLOOKUP(CONCATENATE($F$39,\"_\",G56),選手名簿!$A:$E,5,FALSE))=TRUE,\"\",VLOOKUP(CONCATENATE($F$39,\"_\",G56),選手名簿!$A:$E,5,FALSE))","v":""},null,null,null,null,null,null,null,{"$f":"IF(ISERROR(VLOOKUP(CONCATENATE($N$39,\"_\",M56),選手名簿!$A:$E,5,FALSE))=TRUE,\"\",VLOOKUP(CONCATENATE($N$39,\"_\",M56),選手名簿!$A:$E,5,FALSE))","v":""},null,null,"AR1:",{"$f":"IF(ISERROR(VLOOKUP(R55,審判員!$A:$C,2,FALSE))=TRUE,\"\",VLOOKUP(R55,審判員!$A:$C,2,FALSE))","v":"渡辺　陽一郎"},null,{"$f":"IF(ISERROR(VLOOKUP(R55,審判員!$A:$C,3,FALSE))=TRUE,\"\",VLOOKUP(R55,審判員!$A:$C,3,FALSE))","v":"３級"},null,{"$f":"IF(ISERROR(VLOOKUP(CONCATENATE($V$39,\"_\",W56),選手名簿!$A:$E,5,FALSE))=TRUE,\"\",VLOOKUP(CONCATENATE($V$39,\"_\",W56),選手名簿!$A:$E,5,FALSE))","v":""},null,null,null,null,null,null,null,{"$f":"IF(ISERROR(VLOOKUP(CONCATENATE($AD$39,\"_\",AC56),選手名簿!$A:$E,5,FALSE))=TRUE,\"\",VLOOKUP(CONCATENATE($AD$39,\"_\",AC56),選手名簿!$A:$E,5,FALSE))","v":""}]
["番号","R003972513",null,null,null,{"$f":"IF(ISERROR(VLOOKUP(CONCATENATE($F$39,\"_\",G57),選手名簿!$A:$E,5,FALSE))=TRUE,\"\",VLOOKUP(CONCATENATE($F$39,\"_\",G57),選手名簿!$A:$E,5,FALSE))","v":""},null,null,null,null,null,null,null,{"$f":"IF(ISERROR(VLOOKUP(CONCATENATE($N$39,\"_\",M57),選手名簿!$A:$E,5,FALSE))=TRUE,\"\",VLOOKUP(CONCATENATE($N$39,\"_\",M57),選手名簿!$A:$E,5,FALSE))","v":""},null,null,"番号","R005405255",null,null,null,{"$f":"IF(ISERROR(VLOOKUP(CONCATENATE($V$39,\"_\",W57),選手名簿!$A:$E,5,FALSE))=TRUE,\"\",VLOOKUP(CONCATENATE($V$39,\"_\",W57),選手名簿!$A:$E,5,FALSE))","v":""},null,null,null,null,null,null,null,{"$f":"IF(ISERROR(VLOOKUP(CONCATENATE($AD$39,\"_\",AC57),選手名簿!$A:$E,5,FALSE))=TRUE,\"\",VLOOKUP(CONCATENATE($AD$39,\"_\",AC57),選手名簿!$A:$E,5,FALSE))","v":""}]
["AR2:",{"$f":"IF(ISERROR(VLOOKUP(B57,審判員!$A:$C,2,FALSE))=TRUE,\"\",VLOOKUP(B57,審判員!$A:$C,2,FALSE))","v":"平川　伸吾"},null,{"$f":"IF(ISERROR(VLOOKUP(B57,審判員!$A:$C,3,FALSE))=TRUE,\"\",VLOOKUP(B57,審判員!$A:$C,3,FALSE))","v":"３級"},null,{"$f":"IF(ISERROR(VLOOKUP(CONCATENATE($F$39,\"_\",G58),選手名簿!$A:$E,5,FALSE))=TRUE,\"\",VLOOKUP(CONCATENATE($F$39,\"_\",G58),選手名簿!$A:$E,5,FALSE))","v":""},null,null,null,null,null,null,null,{"$f":"IF(ISERROR(VLOOKUP(CONCATENATE($N$39,\"_\",M58),選手名簿!$A:$E,5,FALSE))=TRUE,\"\",VLOOKUP(CONCATENATE($N$39,\"_\",M58),選手名簿!$A:$E,5,FALSE))","v":""},null,null,"AR2:",{"$f":"IF(ISERROR(VLOOKUP(R57,審判員!$A:$C,2,FALSE))=TRUE,\"\",VLOOKUP(R57,審判員!$A:$C,2,FALSE))","v":"小手川　朋輝"},null,{"$f":"IF(ISERROR(VLOOKUP(R57,審判員!$A:$C,3,FALSE))=TRUE,\"\",VLOOKUP(R57,審判員!$A:$C,3,FALSE))","v":"３級"},null,{"$f":"IF(ISERROR(VLOOKUP(CONCATENATE($V$39,\"_\",W58),選手名簿!$A:$E,5,FALSE))=TRUE,\"\",VLOOKUP(CONCATENATE($V$39,\"_\",W58),選手名簿!$A:$E,5,FALSE))","v":""},null,null,null,null,null,null,null,{"$f":"IF(ISERROR(VLOOKUP(CONCATENATE($AD$39,\"_\",AC58),選手名簿!$A:$E,5,FALSE))=TRUE,\"\",VLOOKUP(CONCATENATE($AD$39,\"_\",AC58),選手名簿!$A:$E,5,FALSE))","v":""}]
["番号","R010027823",null,null,null,{"$f":"IF(ISERROR(VLOOKUP(CONCATENATE($F$39,\"_\",G59),選手名簿!$A:$E,5,FALSE))=TRUE,\"\",VLOOKUP(CONCATENATE($F$39,\"_\",G59),選手名簿!$A:$E,5,FALSE))","v":""},null,null,null,null,null,null,null,{"$f":"IF(ISERROR(VLOOKUP(CONCATENATE($N$39,\"_\",M59),選手名簿!$A:$E,5,FALSE))=TRUE,\"\",VLOOKUP(CONCATENATE($N$39,\"_\",M59),選手名簿!$A:$E,5,FALSE))","v":""},null,null,"番号","R001256402",null,null,null,{"$f":"IF(ISERROR(VLOOKUP(CONCATENATE($V$39,\"_\",W59),選手名簿!$A:$E,5,FALSE))=TRUE,\"\",VLOOKUP(CONCATENATE($V$39,\"_\",W59),選手名簿!$A:$E,5,FALSE))","v":""},null,null,null,null,null,null,null,{"$f":"IF(ISERROR(VLOOKUP(CONCATENATE($AD$39,\"_\",AC59),選手名簿!$A:$E,5,FALSE))=TRUE,\"\",VLOOKUP(CONCATENATE($AD$39,\"_\",AC59),選手名簿!$A:$E,5,FALSE))","v":""}]
["4th:",{"$f":"IF(ISERROR(VLOOKUP(B59,審判員!$A:$C,2,FALSE))=TRUE,\"\",VLOOKUP(B59,審判員!$A:$C,2,FALSE))","v":"清家　大介"},null,{"$f":"IF(ISERROR(VLOOKUP(B59,審判員!$A:$C,3,FALSE))=TRUE,\"\",VLOOKUP(B59,審判員!$A:$C,3,FALSE))","v":"３級"},null,{"$f":"IF(ISERROR(VLOOKUP(CONCATENATE($F$39,\"_\",G60),選手名簿!$A:$E,5,FALSE))=TRUE,\"\",VLOOKUP(CONCATENATE($F$39,\"_\",G60),選手名簿!$A:$E,5,FALSE))","v":""},null,null,null,null,null,null,null,{"$f":"IF(ISERROR(VLOOKUP(CONCATENATE($N$39,\"_\",M60),選手名簿!$A:$E,5,FALSE))=TRUE,\"\",VLOOKUP(CONCATENATE($N$39,\"_\",M60),選手名簿!$A:$E,5,FALSE))","v":""},null,null,"4th:",{"$f":"IF(ISERROR(VLOOKUP(R59,審判員!$A:$C,2,FALSE))=TRUE,\"\",VLOOKUP(R59,審判員!$A:$C,2,FALSE))","v":"小石川　悟"},null,{"$f":"IF(ISERROR(VLOOKUP(R59,審判員!$A:$C,3,FALSE))=TRUE,\"\",VLOOKUP(R59,審判員!$A:$C,3,FALSE))","v":"３級"},null,{"$f":"IF(ISERROR(VLOOKUP(CONCATENATE($V$39,\"_\",W60),選手名簿!$A:$E,5,FALSE))=TRUE,\"\",VLOOKUP(CONCATENATE($V$39,\"_\",W60),選手名簿!$A:$E,5,FALSE))","v":""},null,null,null,null,null,null,null,{"$f":"IF(ISERROR(VLOOKUP(CONCATENATE($AD$39,\"_\",AC60),選手名簿!$A:$E,5,FALSE))=TRUE,\"\",VLOOKUP(CONCATENATE($AD$39,\"_\",AC60),選手名簿!$A:$E,5,FALSE))","v":""}]
[]
[]
[]
[]
[]
[]
[]
["MC","中野　観司郎",null,null,{"$f":"予選リーグ!B29","v":"14:10:00"},{"$f":"F7","v":"千怒サッカースポーツ少年団"},{"$f":"SUM(I68:I69)","v":0},"（",0,"前半",0,"）",{"$f":"SUM(K68:K69)","v":0},{"$f":"F5","v":"市浜レッドソックス"},null,null,"MC","松下　省吾",null,null,{"$f":"予選リーグ!B31","v":"15:00:00"},{"$f":"V7","v":"スマイス　セレソン　スポーツクラブ"},{"$f":"SUM(Y68:Y69)","v":3},"（",0,"前半",0,"）",{"$f":"SUM(AA68:AA69)","v":0},{"$f":"V5","v":"ＦＣアリアーレ"}]
["Welfare\nOfficer",null,null,null,null,null,null,null,0,"後半",0,null,null,null,null,null,"Welfare\nOfficer",null,null,null,null,null,null,null,3,"後半",0]
["記録","佐々木　秀樹",null,null,null,null,null,null,null,"PK",null,null,null,null,null,null,"記録","津守　一雄",null,null,null,null,null,null,null,"PK"]
["＜Referee＞",null,null,null,"警告/退場\n選択肢より","氏名","番号","分","内容\n選択肢より",null,"内容\n選択肢より","分","番号","氏名","警告/退場\n選択肢より",null,"＜Referee＞",null,null,null,"警告/退場\n選択肢より","氏名","番号","分","内容\n選択肢より",null,"内容\n選択肢より","分","番号","氏名","警告/退場\n選択肢より"]
[null,null,null,null,"得点者",{"$f":"IF(ISERROR(VLOOKUP(CONCATENATE($F$68,\"_\",G72),選手名簿!$A:$E,5,FALSE))=TRUE,\"\",VLOOKUP(CONCATENATE($F$68,\"_\",G72),選手名簿!$A:$E,5,FALSE))","v":""},null,null,null,null,null,null,null,{"$f":"IF(ISERROR(VLOOKUP(CONCATENATE($N$68,\"_\",M72),選手名簿!$A:$E,5,FALSE))=TRUE,\"\",VLOOKUP(CONCATENATE($N$68,\"_\",M72),選手名簿!$A:$E,5,FALSE))","v":""},null,null,null,null,null,null,"得点者",{"$f":"IF(ISERROR(VLOOKUP(CONCATENATE($V$68,\"_\",W72),選手名簿!$A:$E,5,FALSE))=TRUE,\"\",VLOOKUP(CONCATENATE($V$68,\"_\",W72),選手名簿!$A:$E,5,FALSE))","v":""},null,null,null,null,null,null,null,{"$f":"IF(ISERROR(VLOOKUP(CONCATENATE($AD$68,\"_\",AC72),選手名簿!$A:$E,5,FALSE))=TRUE,\"\",VLOOKUP(CONCATENATE($AD$68,\"_\",AC72),選手名簿!$A:$E,5,FALSE))","v":""}]
[null,null,null,null,"得点者",{"$f":"IF(ISERROR(VLOOKUP(CONCATENATE($F$68,\"_\",G73),選手名簿!$A:$E,5,FALSE))=TRUE,\"\",VLOOKUP(CONCATENATE($F$68,\"_\",G73),選手名簿!$A:$E,5,FALSE))","v":""},null,null,null,null,null,null,null,{"$f":"IF(ISERROR(VLOOKUP(CONCATENATE($N$68,\"_\",M73),選手名簿!$A:$E,5,FALSE))=TRUE,\"\",VLOOKUP(CONCATENATE($N$68,\"_\",M73),選手名簿!$A:$E,5,FALSE))","v":""},null,null,null,null,null,null,"得点者",{"$f":"IF(ISERROR(VLOOKUP(CONCATENATE($V$68,\"_\",W73),選手名簿!$A:$E,5,FALSE))=TRUE,\"\",VLOOKUP(CONCATENATE($V$68,\"_\",W73),選手名簿!$A:$E,5,FALSE))","v":""},null,null,null,null,null,null,null,{"$f":"IF(ISERROR(VLOOKUP(CONCATENATE($AD$68,\"_\",AC73),選手名簿!$A:$E,5,FALSE))=TRUE,\"\",VLOOKUP(CONCATENATE($AD$68,\"_\",AC73),選手名簿!$A:$E,5,FALSE))","v":""}]
[null,null,null,null,"得点者",{"$f":"IF(ISERROR(VLOOKUP(CONCATENATE($F$68,\"_\",G74),選手名簿!$A:$E,5,FALSE))=TRUE,\"\",VLOOKUP(CONCATENATE($F$68,\"_\",G74),選手名簿!$A:$E,5,FALSE))","v":""},null,null,null,null,null,null,null,{"$f":"IF(ISERROR(VLOOKUP(CONCATENATE($N$68,\"_\",M74),選手名簿!$A:$E,5,FALSE))=TRUE,\"\",VLOOKUP(CONCATENATE($N$68,\"_\",M74),選手名簿!$A:$E,5,FALSE))","v":""},null,null,null,null,null,null,"得点者",{"$f":"IF(ISERROR(VLOOKUP(CONCATENATE($V$68,\"_\",W74),選手名簿!$A:$E,5,FALSE))=TRUE,\"\",VLOOKUP(CONCATENATE($V$68,\"_\",W74),選手名簿!$A:$E,5,FALSE))","v":""},null,null,null,null,null,null,null,{"$f":"IF(ISERROR(VLOOKUP(CONCATENATE($AD$68,\"_\",AC74),選手名簿!$A:$E,5,FALSE))=TRUE,\"\",VLOOKUP(CONCATENATE($AD$68,\"_\",AC74),選手名簿!$A:$E,5,FALSE))","v":""}]
[null,null,null,null,"得点者",{"$f":"IF(ISERROR(VLOOKUP(CONCATENATE($F$68,\"_\",G75),選手名簿!$A:$E,5,FALSE))=TRUE,\"\",VLOOKUP(CONCATENATE($F$68,\"_\",G75),選手名簿!$A:$E,5,FALSE))","v":""},null,null,null,null,null,null,null,{"$f":"IF(ISERROR(VLOOKUP(CONCATENATE($N$68,\"_\",M75),選手名簿!$A:$E,5,FALSE))=TRUE,\"\",VLOOKUP(CONCATENATE($N$68,\"_\",M75),選手名簿!$A:$E,5,FALSE))","v":""},null,null,null,null,null,null,"得点者",{"$f":"IF(ISERROR(VLOOKUP(CONCATENATE($V$68,\"_\",W75),選手名簿!$A:$E,5,FALSE))=TRUE,\"\",VLOOKUP(CONCATENATE($V$68,\"_\",W75),選手名簿!$A:$E,5,FALSE))","v":""},null,null,null,null,null,null,null,{"$f":"IF(ISERROR(VLOOKUP(CONCATENATE($AD$68,\"_\",AC75),選手名簿!$A:$E,5,FALSE))=TRUE,\"\",VLOOKUP(CONCATENATE($AD$68,\"_\",AC75),選手名簿!$A:$E,5,FALSE))","v":""}]
[null,null,null,null,"得点者",{"$f":"IF(ISERROR(VLOOKUP(CONCATENATE($F$68,\"_\",G76),選手名簿!$A:$E,5,FALSE))=TRUE,\"\",VLOOKUP(CONCATENATE($F$68,\"_\",G76),選手名簿!$A:$E,5,FALSE))","v":""},null,null,null,null,null,null,null,{"$f":"IF(ISERROR(VLOOKUP(CONCATENATE($N$68,\"_\",M76),選手名簿!$A:$E,5,FALSE))=TRUE,\"\",VLOOKUP(CONCATENATE($N$68,\"_\",M76),選手名簿!$A:$E,5,FALSE))","v":""},null,null,null,null,null,null,"得点者",{"$f":"IF(ISERROR(VLOOKUP(CONCATENATE($V$68,\"_\",W76),選手名簿!$A:$E,5,FALSE))=TRUE,\"\",VLOOKUP(CONCATENATE($V$68,\"_\",W76),選手名簿!$A:$E,5,FALSE))","v":""},null,null,null,null,null,null,null,{"$f":"IF(ISERROR(VLOOKUP(CONCATENATE($AD$68,\"_\",AC76),選手名簿!$A:$E,5,FALSE))=TRUE,\"\",VLOOKUP(CONCATENATE($AD$68,\"_\",AC76),選手名簿!$A:$E,5,FALSE))","v":""}]
[null,null,null,null,"得点者",{"$f":"IF(ISERROR(VLOOKUP(CONCATENATE($F$68,\"_\",G77),選手名簿!$A:$E,5,FALSE))=TRUE,\"\",VLOOKUP(CONCATENATE($F$68,\"_\",G77),選手名簿!$A:$E,5,FALSE))","v":""},null,null,null,null,null,null,null,{"$f":"IF(ISERROR(VLOOKUP(CONCATENATE($N$68,\"_\",M77),選手名簿!$A:$E,5,FALSE))=TRUE,\"\",VLOOKUP(CONCATENATE($N$68,\"_\",M77),選手名簿!$A:$E,5,FALSE))","v":""},null,null,null,null,null,null,"得点者",{"$f":"IF(ISERROR(VLOOKUP(CONCATENATE($V$68,\"_\",W77),選手名簿!$A:$E,5,FALSE))=TRUE,\"\",VLOOKUP(CONCATENATE($V$68,\"_\",W77),選手名簿!$A:$E,5,FALSE))","v":""},null,null,null,null,null,null,null,{"$f":"IF(ISERROR(VLOOKUP(CONCATENATE($AD$68,\"_\",AC77),選手名簿!$A:$E,5,FALSE))=TRUE,\"\",VLOOKUP(CONCATENATE($AD$68,\"_\",AC77),選手名簿!$A:$E,5,FALSE))","v":""}]
[null,null,null,null,"得点者",{"$f":"IF(ISERROR(VLOOKUP(CONCATENATE($F$68,\"_\",G78),選手名簿!$A:$E,5,FALSE))=TRUE,\"\",VLOOKUP(CONCATENATE($F$68,\"_\",G78),選手名簿!$A:$E,5,FALSE))","v":""},null,null,null,null,null,null,null,{"$f":"IF(ISERROR(VLOOKUP(CONCATENATE($N$68,\"_\",M78),選手名簿!$A:$E,5,FALSE))=TRUE,\"\",VLOOKUP(CONCATENATE($N$68,\"_\",M78),選手名簿!$A:$E,5,FALSE))","v":""},null,null,null,null,null,null,"得点者",{"$f":"IF(ISERROR(VLOOKUP(CONCATENATE($V$68,\"_\",W78),選手名簿!$A:$E,5,FALSE))=TRUE,\"\",VLOOKUP(CONCATENATE($V$68,\"_\",W78),選手名簿!$A:$E,5,FALSE))","v":""},null,null,null,null,null,null,null,{"$f":"IF(ISERROR(VLOOKUP(CONCATENATE($AD$68,\"_\",AC78),選手名簿!$A:$E,5,FALSE))=TRUE,\"\",VLOOKUP(CONCATENATE($AD$68,\"_\",AC78),選手名簿!$A:$E,5,FALSE))","v":""}]
[null,null,null,null,"得点者",{"$f":"IF(ISERROR(VLOOKUP(CONCATENATE($F$68,\"_\",G79),選手名簿!$A:$E,5,FALSE))=TRUE,\"\",VLOOKUP(CONCATENATE($F$68,\"_\",G79),選手名簿!$A:$E,5,FALSE))","v":""},null,null,null,null,null,null,null,{"$f":"IF(ISERROR(VLOOKUP(CONCATENATE($N$68,\"_\",M79),選手名簿!$A:$E,5,FALSE))=TRUE,\"\",VLOOKUP(CONCATENATE($N$68,\"_\",M79),選手名簿!$A:$E,5,FALSE))","v":""},null,null,null,null,null,null,"得点者",{"$f":"IF(ISERROR(VLOOKUP(CONCATENATE($V$68,\"_\",W79),選手名簿!$A:$E,5,FALSE))=TRUE,\"\",VLOOKUP(CONCATENATE($V$68,\"_\",W79),選手名簿!$A:$E,5,FALSE))","v":""},null,null,null,null,null,null,null,{"$f":"IF(ISERROR(VLOOKUP(CONCATENATE($AD$68,\"_\",AC79),選手名簿!$A:$E,5,FALSE))=TRUE,\"\",VLOOKUP(CONCATENATE($AD$68,\"_\",AC79),選手名簿!$A:$E,5,FALSE))","v":""}]
[null,null,null,null,"得点者",{"$f":"IF(ISERROR(VLOOKUP(CONCATENATE($F$68,\"_\",G80),選手名簿!$A:$E,5,FALSE))=TRUE,\"\",VLOOKUP(CONCATENATE($F$68,\"_\",G80),選手名簿!$A:$E,5,FALSE))","v":""},null,null,null,null,null,null,null,{"$f":"IF(ISERROR(VLOOKUP(CONCATENATE($N$68,\"_\",M80),選手名簿!$A:$E,5,FALSE))=TRUE,\"\",VLOOKUP(CONCATENATE($N$68,\"_\",M80),選手名簿!$A:$E,5,FALSE))","v":""},null,null,null,null,null,null,"得点者",{"$f":"IF(ISERROR(VLOOKUP(CONCATENATE($V$68,\"_\",W80),選手名簿!$A:$E,5,FALSE))=TRUE,\"\",VLOOKUP(CONCATENATE($V$68,\"_\",W80),選手名簿!$A:$E,5,FALSE))","v":""},null,null,null,null,null,null,null,{"$f":"IF(ISERROR(VLOOKUP(CONCATENATE($AD$68,\"_\",AC80),選手名簿!$A:$E,5,FALSE))=TRUE,\"\",VLOOKUP(CONCATENATE($AD$68,\"_\",AC80),選手名簿!$A:$E,5,FALSE))","v":""}]
[null,null,null,null,"得点者",{"$f":"IF(ISERROR(VLOOKUP(CONCATENATE($F$68,\"_\",G81),選手名簿!$A:$E,5,FALSE))=TRUE,\"\",VLOOKUP(CONCATENATE($F$68,\"_\",G81),選手名簿!$A:$E,5,FALSE))","v":""},null,null,null,null,null,null,null,{"$f":"IF(ISERROR(VLOOKUP(CONCATENATE($N$68,\"_\",M81),選手名簿!$A:$E,5,FALSE))=TRUE,\"\",VLOOKUP(CONCATENATE($N$68,\"_\",M81),選手名簿!$A:$E,5,FALSE))","v":""},null,null,null,null,null,null,"得点者",{"$f":"IF(ISERROR(VLOOKUP(CONCATENATE($V$68,\"_\",W81),選手名簿!$A:$E,5,FALSE))=TRUE,\"\",VLOOKUP(CONCATENATE($V$68,\"_\",W81),選手名簿!$A:$E,5,FALSE))","v":""},null,null,null,null,null,null,null,{"$f":"IF(ISERROR(VLOOKUP(CONCATENATE($AD$68,\"_\",AC81),選手名簿!$A:$E,5,FALSE))=TRUE,\"\",VLOOKUP(CONCATENATE($AD$68,\"_\",AC81),選手名簿!$A:$E,5,FALSE))","v":""}]
["番号","R001256402",null,null,null,{"$f":"IF(ISERROR(VLOOKUP(CONCATENATE($F$68,\"_\",G82),選手名簿!$A:$E,5,FALSE))=TRUE,\"\",VLOOKUP(CONCATENATE($F$68,\"_\",G82),選手名簿!$A:$E,5,FALSE))","v":""},null,null,null,null,null,null,null,{"$f":"IF(ISERROR(VLOOKUP(CONCATENATE($N$68,\"_\",M82),選手名簿!$A:$E,5,FALSE))=TRUE,\"\",VLOOKUP(CONCATENATE($N$68,\"_\",M82),選手名簿!$A:$E,5,FALSE))","v":""},null,null,"番号","R007959103",null,null,null,{"$f":"IF(ISERROR(VLOOKUP(CONCATENATE($V$68,\"_\",W82),選手名簿!$A:$E,5,FALSE))=TRUE,\"\",VLOOKUP(CONCATENATE($V$68,\"_\",W82),選手名簿!$A:$E,5,FALSE))","v":""},null,null,null,null,null,null,null,{"$f":"IF(ISERROR(VLOOKUP(CONCATENATE($AD$68,\"_\",AC82),選手名簿!$A:$E,5,FALSE))=TRUE,\"\",VLOOKUP(CONCATENATE($AD$68,\"_\",AC82),選手名簿!$A:$E,5,FALSE))","v":""}]
["R",{"$f":"IF(ISERROR(VLOOKUP(B82,審判員!$A:$C,2,FALSE))=TRUE,\"\",VLOOKUP(B82,審判員!$A:$C,2,FALSE))","v":"小石川　悟"},null,{"$f":"IF(ISERROR(VLOOKUP(B82,審判員!$A:$C,3,FALSE))=TRUE,\"\",VLOOKUP(B82,審判員!$A:$C,3,FALSE))","v":"３級"},null,{"$f":"IF(ISERROR(VLOOKUP(CONCATENATE($F$68,\"_\",G83),選手名簿!$A:$E,5,FALSE))=TRUE,\"\",VLOOKUP(CONCATENATE($F$68,\"_\",G83),選手名簿!$A:$E,5,FALSE))","v":""},null,null,null,null,null,null,null,{"$f":"IF(ISERROR(VLOOKUP(CONCATENATE($N$68,\"_\",M83),選手名簿!$A:$E,5,FALSE))=TRUE,\"\",VLOOKUP(CONCATENATE($N$68,\"_\",M83),選手名簿!$A:$E,5,FALSE))","v":""},null,null,"R",{"$f":"IF(ISERROR(VLOOKUP(R82,審判員!$A:$C,2,FALSE))=TRUE,\"\",VLOOKUP(R82,審判員!$A:$C,2,FALSE))","v":"安倍　達也"},null,{"$f":"IF(ISERROR(VLOOKUP(R82,審判員!$A:$C,3,FALSE))=TRUE,\"\",VLOOKUP(R82,審判員!$A:$C,3,FALSE))","v":"３級"},null,{"$f":"IF(ISERROR(VLOOKUP(CONCATENATE($V$68,\"_\",W83),選手名簿!$A:$E,5,FALSE))=TRUE,\"\",VLOOKUP(CONCATENATE($V$68,\"_\",W83),選手名簿!$A:$E,5,FALSE))","v":""},null,null,null,null,null,null,null,{"$f":"IF(ISERROR(VLOOKUP(CONCATENATE($AD$68,\"_\",AC83),選手名簿!$A:$E,5,FALSE))=TRUE,\"\",VLOOKUP(CONCATENATE($AD$68,\"_\",AC83),選手名簿!$A:$E,5,FALSE))","v":""}]
["番号","R003972513",null,null,null,{"$f":"IF(ISERROR(VLOOKUP(CONCATENATE($F$68,\"_\",G84),選手名簿!$A:$E,5,FALSE))=TRUE,\"\",VLOOKUP(CONCATENATE($F$68,\"_\",G84),選手名簿!$A:$E,5,FALSE))","v":""},null,null,null,null,null,null,null,{"$f":"IF(ISERROR(VLOOKUP(CONCATENATE($N$68,\"_\",M84),選手名簿!$A:$E,5,FALSE))=TRUE,\"\",VLOOKUP(CONCATENATE($N$68,\"_\",M84),選手名簿!$A:$E,5,FALSE))","v":""},null,null,"番号","R005405255",null,null,null,{"$f":"IF(ISERROR(VLOOKUP(CONCATENATE($V$68,\"_\",W84),選手名簿!$A:$E,5,FALSE))=TRUE,\"\",VLOOKUP(CONCATENATE($V$68,\"_\",W84),選手名簿!$A:$E,5,FALSE))","v":""},null,null,null,null,null,null,null,{"$f":"IF(ISERROR(VLOOKUP(CONCATENATE($AD$68,\"_\",AC84),選手名簿!$A:$E,5,FALSE))=TRUE,\"\",VLOOKUP(CONCATENATE($AD$68,\"_\",AC84),選手名簿!$A:$E,5,FALSE))","v":""}]
["AR1:",{"$f":"IF(ISERROR(VLOOKUP(B84,審判員!$A:$C,2,FALSE))=TRUE,\"\",VLOOKUP(B84,審判員!$A:$C,2,FALSE))","v":"平川　伸吾"},null,{"$f":"IF(ISERROR(VLOOKUP(B84,審判員!$A:$C,3,FALSE))=TRUE,\"\",VLOOKUP(B84,審判員!$A:$C,3,FALSE))","v":"３級"},null,{"$f":"IF(ISERROR(VLOOKUP(CONCATENATE($F$68,\"_\",G85),選手名簿!$A:$E,5,FALSE))=TRUE,\"\",VLOOKUP(CONCATENATE($F$68,\"_\",G85),選手名簿!$A:$E,5,FALSE))","v":""},null,null,null,null,null,null,null,{"$f":"IF(ISERROR(VLOOKUP(CONCATENATE($N$68,\"_\",M85),選手名簿!$A:$E,5,FALSE))=TRUE,\"\",VLOOKUP(CONCATENATE($N$68,\"_\",M85),選手名簿!$A:$E,5,FALSE))","v":""},null,null,"AR1:",{"$f":"IF(ISERROR(VLOOKUP(R84,審判員!$A:$C,2,FALSE))=TRUE,\"\",VLOOKUP(R84,審判員!$A:$C,2,FALSE))","v":"小手川　朋輝"},null,{"$f":"IF(ISERROR(VLOOKUP(R84,審判員!$A:$C,3,FALSE))=TRUE,\"\",VLOOKUP(R84,審判員!$A:$C,3,FALSE))","v":"３級"},null,{"$f":"IF(ISERROR(VLOOKUP(CONCATENATE($V$68,\"_\",W85),選手名簿!$A:$E,5,FALSE))=TRUE,\"\",VLOOKUP(CONCATENATE($V$68,\"_\",W85),選手名簿!$A:$E,5,FALSE))","v":""},null,null,null,null,null,null,null,{"$f":"IF(ISERROR(VLOOKUP(CONCATENATE($AD$68,\"_\",AC85),選手名簿!$A:$E,5,FALSE))=TRUE,\"\",VLOOKUP(CONCATENATE($AD$68,\"_\",AC85),選手名簿!$A:$E,5,FALSE))","v":""}]
["番号","R001260557",null,null,null,{"$f":"IF(ISERROR(VLOOKUP(CONCATENATE($F$68,\"_\",G86),選手名簿!$A:$E,5,FALSE))=TRUE,\"\",VLOOKUP(CONCATENATE($F$68,\"_\",G86),選手名簿!$A:$E,5,FALSE))","v":""},null,null,null,null,null,null,null,{"$f":"IF(ISERROR(VLOOKUP(CONCATENATE($N$68,\"_\",M86),選手名簿!$A:$E,5,FALSE))=TRUE,\"\",VLOOKUP(CONCATENATE($N$68,\"_\",M86),選手名簿!$A:$E,5,FALSE))","v":""},null,null,"番号","R006093835",null,null,null,{"$f":"IF(ISERROR(VLOOKUP(CONCATENATE($V$68,\"_\",W86),選手名簿!$A:$E,5,FALSE))=TRUE,\"\",VLOOKUP(CONCATENATE($V$68,\"_\",W86),選手名簿!$A:$E,5,FALSE))","v":""},null,null,null,null,null,null,null,{"$f":"IF(ISERROR(VLOOKUP(CONCATENATE($AD$68,\"_\",AC86),選手名簿!$A:$E,5,FALSE))=TRUE,\"\",VLOOKUP(CONCATENATE($AD$68,\"_\",AC86),選手名簿!$A:$E,5,FALSE))","v":""}]
["AR2:",{"$f":"IF(ISERROR(VLOOKUP(B86,審判員!$A:$C,2,FALSE))=TRUE,\"\",VLOOKUP(B86,審判員!$A:$C,2,FALSE))","v":"マガリェンス　リシャルドソン"},null,{"$f":"IF(ISERROR(VLOOKUP(B86,審判員!$A:$C,3,FALSE))=TRUE,\"\",VLOOKUP(B86,審判員!$A:$C,3,FALSE))","v":"３級"},null,{"$f":"IF(ISERROR(VLOOKUP(CONCATENATE($F$68,\"_\",G87),選手名簿!$A:$E,5,FALSE))=TRUE,\"\",VLOOKUP(CONCATENATE($F$68,\"_\",G87),選手名簿!$A:$E,5,FALSE))","v":""},null,null,null,null,null,null,null,{"$f":"IF(ISERROR(VLOOKUP(CONCATENATE($N$68,\"_\",M87),選手名簿!$A:$E,5,FALSE))=TRUE,\"\",VLOOKUP(CONCATENATE($N$68,\"_\",M87),選手名簿!$A:$E,5,FALSE))","v":""},null,null,"AR2:",{"$f":"IF(ISERROR(VLOOKUP(R86,審判員!$A:$C,2,FALSE))=TRUE,\"\",VLOOKUP(R86,審判員!$A:$C,2,FALSE))","v":"板井　龍法"},null,{"$f":"IF(ISERROR(VLOOKUP(R86,審判員!$A:$C,3,FALSE))=TRUE,\"\",VLOOKUP(R86,審判員!$A:$C,3,FALSE))","v":"３級"},null,{"$f":"IF(ISERROR(VLOOKUP(CONCATENATE($V$68,\"_\",W87),選手名簿!$A:$E,5,FALSE))=TRUE,\"\",VLOOKUP(CONCATENATE($V$68,\"_\",W87),選手名簿!$A:$E,5,FALSE))","v":""},null,null,null,null,null,null,null,{"$f":"IF(ISERROR(VLOOKUP(CONCATENATE($AD$68,\"_\",AC87),選手名簿!$A:$E,5,FALSE))=TRUE,\"\",VLOOKUP(CONCATENATE($AD$68,\"_\",AC87),選手名簿!$A:$E,5,FALSE))","v":""}]
["番号","R007959103",null,null,null,{"$f":"IF(ISERROR(VLOOKUP(CONCATENATE($F$68,\"_\",G88),選手名簿!$A:$E,5,FALSE))=TRUE,\"\",VLOOKUP(CONCATENATE($F$68,\"_\",G88),選手名簿!$A:$E,5,FALSE))","v":""},null,null,null,null,null,null,null,{"$f":"IF(ISERROR(VLOOKUP(CONCATENATE($N$68,\"_\",M88),選手名簿!$A:$E,5,FALSE))=TRUE,\"\",VLOOKUP(CONCATENATE($N$68,\"_\",M88),選手名簿!$A:$E,5,FALSE))","v":""},null,null,"番号","R010027823",null,null,null,{"$f":"IF(ISERROR(VLOOKUP(CONCATENATE($V$68,\"_\",W88),選手名簿!$A:$E,5,FALSE))=TRUE,\"\",VLOOKUP(CONCATENATE($V$68,\"_\",W88),選手名簿!$A:$E,5,FALSE))","v":""},null,null,null,null,null,null,null,{"$f":"IF(ISERROR(VLOOKUP(CONCATENATE($AD$68,\"_\",AC88),選手名簿!$A:$E,5,FALSE))=TRUE,\"\",VLOOKUP(CONCATENATE($AD$68,\"_\",AC88),選手名簿!$A:$E,5,FALSE))","v":""}]
["4th:",{"$f":"IF(ISERROR(VLOOKUP(B88,審判員!$A:$C,2,FALSE))=TRUE,\"\",VLOOKUP(B88,審判員!$A:$C,2,FALSE))","v":"安倍　達也"},null,{"$f":"IF(ISERROR(VLOOKUP(B88,審判員!$A:$C,3,FALSE))=TRUE,\"\",VLOOKUP(B88,審判員!$A:$C,3,FALSE))","v":"３級"},null,{"$f":"IF(ISERROR(VLOOKUP(CONCATENATE($F$68,\"_\",G89),選手名簿!$A:$E,5,FALSE))=TRUE,\"\",VLOOKUP(CONCATENATE($F$68,\"_\",G89),選手名簿!$A:$E,5,FALSE))","v":""},null,null,null,null,null,null,null,{"$f":"IF(ISERROR(VLOOKUP(CONCATENATE($N$68,\"_\",M89),選手名簿!$A:$E,5,FALSE))=TRUE,\"\",VLOOKUP(CONCATENATE($N$68,\"_\",M89),選手名簿!$A:$E,5,FALSE))","v":""},null,null,"4th:",{"$f":"IF(ISERROR(VLOOKUP(R88,審判員!$A:$C,2,FALSE))=TRUE,\"\",VLOOKUP(R88,審判員!$A:$C,2,FALSE))","v":"清家　大介"},null,{"$f":"IF(ISERROR(VLOOKUP(R88,審判員!$A:$C,3,FALSE))=TRUE,\"\",VLOOKUP(R88,審判員!$A:$C,3,FALSE))","v":"３級"},null,{"$f":"IF(ISERROR(VLOOKUP(CONCATENATE($V$68,\"_\",W89),選手名簿!$A:$E,5,FALSE))=TRUE,\"\",VLOOKUP(CONCATENATE($V$68,\"_\",W89),選手名簿!$A:$E,5,FALSE))","v":""},null,null,null,null,null,null,null,{"$f":"IF(ISERROR(VLOOKUP(CONCATENATE($AD$68,\"_\",AC89),選手名簿!$A:$E,5,FALSE))=TRUE,\"\",VLOOKUP(CONCATENATE($AD$68,\"_\",AC89),選手名簿!$A:$E,5,FALSE))","v":""}]

{"sheet":"決勝トーナメント","index":12,"n_rows":31,"n_cols":32,"rows_kept":31,"cut":false,"hidden":false,"merged":[[3,13,3,17],[6,13,6,17],[7,13,7,17],[26,27,27,28],[26,31,27,32],[28,27,29,28],[28,31,29,32],[18,27,19,28],[18,31,19,32],[20,21,21,22],[20,25,21,26],[20,27,21,28],[20,31,21,32],[22,21,23,22],[22,25,23,26],[22,27,23,28],[22,31,23,32],[26,21,27,22],[26,25,27,26],[28,21,29,22],[28,25,29,26],[30,18,31,18],[30,21,31,32],[24,21,25,32],[2,21,3,26],[2,27,3,32],[26,23,29,24],[26,29,29,30],[20,23,23,24],[20,29,23,30],[16,23,19,24],[16,29,19,30],[12,29,15,30],[12,23,15,24],[8,23,11,24],[8,29,11,30],[8,21,9,22],[8,25,9,26],[8,27,9,28],[8,31,9,32],[10,31,11,32],[10,27,11,28],[10,25,11,26],[10,21,11,22],[12,21,13,22],[0,21,1,32],[30,19,31,20],[26,19,29,20],[24,19,25,20],[20,19,23,20],[16,19,19,20],[12,19,15,20],[8,19,11,20],[6,19,7,20],[4,19,5,20],[2,19,3,20],[12,25,13,26],[12,27,13,28],[12,31,13,32],[14,21,15,22],[14,25,15,26],[14,27,15,28],[14,31,15,32],[16,21,17,22],[16,25,17,26],[16,27,17,28],[16,31,17,32],[18,21,19,22],[18,25,19,26],[25,11,25,12],[29,4,29,5],[19,4,19,5],[25,1,25,2],[22,2,22,3],[20,6,20,7],[22,6,22,7],[25,9,25,10],[27,6,27,7],[27,10,27,11],[23,2,23,3],[25,3,25,4],[27,2,27,3],[28,4,28,5],[28,12,28,13],[29,12,29,13],[24,11,24,12],[23,10,23,11],[20,10,20,11],[24,13,24,14],[22,10,22,11],[27,14,27,15],[19,12,19,13],[13,12,16,13],[5,13,5,14],[24,3,24,4],[11,4,11,5],[20,2,20,3],[24,1,24,2],[18,4,18,5],[13,4,16,5],[24,5,24,6],[2,6,2,11],[2,13,2,14],[24,9,24,10],[8,18,11,18],[12,18,15,18],[16,18,19,18],[20,18,23,18],[26,18,29,18],[24,18,25,18],[24,15,24,16],[23,14,23,15],[23,6,23,7],[25,15,25,16],[25,13,25,14],[18,12,18,13],[25,7,25,8],[24,7,24,8],[20,14,20,15],[22,14,22,15],[25,5,25,6],[4,8,7,9],[9,8,9,9],[10,8,10,9],[11,12,11,13]]}
[null,"《決勝トーナメント日程》",null,null,null,null,null,"１２月８日（日）",null,null,null,null,"８：００　開場",null,null,null,null,null,null,null,null,"サッカー・ラグビーＡコート"]
[]
[null,null,null,null,null,null,"大分トリニータＵ－１２",null,null,null,null,null,null,"☆準優勝",null,null,null,null,null,"開始時刻",null,"「北」コート",null,null,null,null,null,"「南」コート"]
[null,null,null,null,null,null,null,null,null,null,null,null,null,"・スマイス・セレソン"]
[null,null,null,null,null,null,null,null,{"$f":"X27","v":"Match No：33\n0　 前半 　0\n0 　後半 　1\n--------------\n0 　合計 　1"},null,null,null,null,null,null,null,null,null,null,"ﾗｲﾝ引"]
[null,null,null,null,null,null,null,null,null,null,null,null,null,"☆３位"]
[null,null,null,null,null,null,null,null,null,null,null,null,null,"・ドリームキッズフットボールクラブ",null,null,null,null,null,"審判"]
[null,null,null,null,null,null,null,null,null,null,null,null,null,"・カティオーラフットボールクラブＵ－１２"]
[null,null,null,null,null,null,null,null,null,null,null,null,null,null,null,null,null,null,"①","09:30:00",null,"A-１位",null,"Match No：25\n0　 前半 　1\n0 　後半 　1\n--------------\n0 　合計 　2",null,"E-１位",null,"B-１位",null,"Match No：26\n0　 前半 　0\n2 　後半 　0\n--------------\n2 　合計 　0",null,"F-１位"]
[null,null,null,null,null,null,null,null,"Match No：33"]
[null,null,null,null,null,null,null,null,"１４：２０～北",null,null,null,null,null,null,null,null,null,null,null,null,{"$f":"B26","v":"寒田"},null,null,null,{"$f":"D26","v":"スマイス・セレソン"},null,{"$f":"F26","v":"カティU-12"},null,null,null,{"$f":"H26","v":"日岡"}]
[null,null,null,null,"スマイス・セレソン",null,null,null,null,null,null,null,"大分トリニータ"]
[null,null,null,null,null,null,null,null,null,null,null,null,null,null,null,null,null,null,"②","10:20:00",null,"C-１位",null,"Match No：27\n0　 前半 　1\n0 　後半 　2\n--------------\n0 　合計 　3",null,"G-１位",null,"D-１位",null,"Match No：28\n0　 前半 　0\n1 　後半 　0\n--------------\n1 　合計 　0",null,"H-１位"]
[null,null,null,null,{"$f":"X17","v":"Match No：29\n0　 前半 　0\n0 　後半 　0\n0　 延前 　0\n0 　延後 　0\n--------------\n0 　合計 　0\n4 　ＰＫ 　3"},null,null,null,null,null,null,null,{"$f":"X21","v":"Match No：31\n3　 前半 　0\n0 　後半 　0\n--------------\n3 　合計 　0"}]
[null,null,null,null,null,null,null,null,null,null,null,null,null,null,null,null,null,null,null,null,null,{"$f":"J26","v":"四日市南"},null,null,null,{"$f":"L26","v":"大分トリニータ"},null,{"$f":"N26","v":"ドリームキッズ"},null,null,null,{"$f":"P26","v":"スマイスＳＣ"}]
[]
[null,null,null,null,null,null,null,null,null,null,null,null,null,null,null,null,null,null,"③","11:10:00",null,"Match No：25 勝",null,"Match No：29\n0　 前半 　0\n0 　後半 　0\n0　 延前 　0\n0 　延後 　0\n--------------\n0 　合計 　0\n4 　ＰＫ 　3",null,"Match No：26 勝",null,"Match No：25  負",null,"Match No：30\n0　 前半 　1\n0 　後半 　4\n--------------\n0 　合計 　5",null,"Match No：26  負"]
[]
[null,null,null,null,"Match No：29",null,null,null,null,null,null,null,"Match No：31",null,null,null,null,null,null,null,null,{"$f":"C21","v":"スマイス・セレソン"},null,null,null,{"$f":"G21","v":"カティU-12"},null,{"$f":"C28","v":"寒田"},null,null,null,{"$f":"G28","v":"日岡"}]
[null,null,null,null,"１１：１０～北",null,null,null,null,null,null,null,"１２：００～北"]
[null,null,"スマイス・セレソン",null,null,null,"カティU-12",null,null,null,"大分トリニータ",null,null,null,"ドリームキッズ",null,null,null,"④","12:00:00",null,"Match No：27 勝",null,"Match No：31\n3　 前半 　0\n0 　後半 　0\n--------------\n3 　合計 　0",null,"Match No：28 勝",null,"Match No：27  負",null,"Match No：32\n2　 前半 　0\n0 　後半 　1\n--------------\n2 　合計 　1",null,"Match No：28  負"]
[]
[null,null,"Match No：25",null,null,null,"Match No：26",null,null,null,"Match No：27",null,null,null,"Match No：28",null,null,null,null,null,null,{"$f":"K21","v":"大分トリニータ"},null,null,null,{"$f":"O21","v":"ドリームキッズ"},null,{"$f":"K28","v":"四日市南"},null,null,null,{"$f":"O28","v":"スマイスＳＣ"}]
[null,null,"９：３０～北",null,null,null,"９：３０～南",null,null,null,"１０：２０～北",null,null,null,"１０：２０～南"]
[null,"A-１位",null,"E-１位",null,"B-１位",null,"F-１位",null,"C-１位",null,"G-１位",null,"D-１位",null,"H-１位",null,null,null,"12:50:00",null,"休憩"]
[null,"寒田",null,"スマイス・セレソン",null,"カティU-12",null,"日岡",null,"四日市南",null,"大分トリニータ",null,"ドリームキッズ",null,"スマイスＳＣ"]
[null,null,null,null,null,null,null,null,null,null,null,null,null,null,null,null,null,null,"⑤","14:10:00",null,"Match No：29 勝",null,"Match No：33\n0　 前半 　0\n0 　後半 　1\n--------------\n0 　合計 　1",null,"Match No：31 勝"]
[null,null,"寒田",null,null,null,"日岡",null,null,null,"四日市南",null,null,null,"スマイスＳＣ"]
[null,null,null,null,"Match No：30",null,null,null,null,null,null,null,"Match No：32",null,null,null,null,null,null,null,null,{"$f":"E12","v":"スマイス・セレソン"},null,null,null,{"$f":"M12","v":"大分トリニータ"}]
[null,null,null,null,"１１：１０～南",null,null,null,null,null,null,null,"１２：００～南"]
[null,null,null,null,null,null,null,null,null,null,null,null,null,null,null,null,null,null,null,"15:00:00",null,"閉会式"]

{"sheet":"決勝T公式記録","index":13,"n_rows":84,"n_cols":31,"rows_kept":84,"cut":false,"hidden":false,"merged":[[83,1,83,2],[83,17,83,18],[61,23,63,23],[61,27,63,27],[61,28,63,28],[81,1,81,2],[81,17,81,18],[82,1,82,3],[82,17,82,19],[76,1,76,3],[75,0,75,3],[79,1,79,2],[79,17,79,18],[80,1,80,3],[80,17,80,19],[77,17,77,18],[61,4,63,4],[61,5,63,5],[62,1,62,3],[63,1,63,3],[62,17,62,19],[63,17,63,19],[61,1,61,3],[61,17,61,19],[5,21,7,21],[5,22,7,22],[5,28,7,28],[5,29,7,29],[5,23,7,23],[5,27,7,27],[61,29,63,29],[78,1,78,3],[78,17,78,19],[61,20,63,20],[61,21,63,21],[61,22,63,22],[76,17,76,19],[77,1,77,2],[61,6,63,6],[61,7,63,7],[61,11,63,11],[61,12,63,12],[61,13,63,13],[5,11,7,11],[5,12,7,12],[5,13,7,13],[5,20,7,20],[5,4,7,4],[5,5,7,5],[5,6,7,6],[5,7,7,7],[5,14,7,14],[23,1,23,2],[23,17,23,18],[24,1,24,3],[24,17,24,19],[25,1,25,2],[25,17,25,18],[20,1,20,3],[20,17,20,19],[21,1,21,2],[21,17,21,18],[22,1,22,3],[22,17,22,19],[6,1,6,3],[7,1,7,3],[6,17,6,19],[7,17,7,19],[5,1,5,3],[5,17,5,19],[27,1,27,2],[27,17,27,18],[52,17,52,19],[33,4,35,4],[33,5,35,5],[33,6,35,6],[33,7,35,7],[51,1,51,2],[51,17,51,18],[52,1,52,3],[34,17,34,19],[35,17,35,19],[34,1,34,3],[35,1,35,3],[33,1,33,3],[33,17,33,19],[55,1,55,2],[61,14,63,14],[33,29,35,29],[48,17,48,19],[49,1,49,2],[49,17,49,18],[50,1,50,3],[50,17,50,19],[33,20,35,20],[33,21,35,21],[33,22,35,22],[33,23,35,23],[48,1,48,3],[33,14,35,14],[5,30,7,30],[33,30,35,30],[61,30,63,30],[0,0,0,9],[0,10,0,13],[0,16,0,25],[0,26,0,29],[75,16,75,19],[33,11,35,11],[33,12,35,12],[33,13,35,13],[19,0,19,3],[19,16,19,19],[47,0,47,3],[47,16,47,19],[54,17,54,19],[26,1,26,3],[33,27,35,27],[33,28,35,28],[55,17,55,18],[53,1,53,2],[53,17,53,18],[54,1,54,3],[26,17,26,19]]}
[{"$f":"要項!C2","v":"OFA 第 31 回 大分県ジュニアサッカー選手権大会"},null,null,null,null,null,null,null,null,null,"決勝トーナメント結果　報告用紙",null,null,null,null,null,{"$f":"要項!C2","v":"OFA 第 31 回 大分県ジュニアサッカー選手権大会"},null,null,null,null,null,null,null,null,null,"決勝トーナメント結果　報告用紙"]
[]
["会場","大分県大分スポーツ公園　 昭和電工サッカー・ラグビー場　A　北側",null,null,null,null,null,null,null,null,null,null,null,null,null,null,null,"会場","大分県大分スポーツ公園　 昭和電工サッカー・ラグビー場　A　南側"]
[]
[null,"Match No：25",null,null,null,null,null,null,null,null,null,null,null,null,null,null,null,"Match No：26"]
["MC","中原　圭介",null,null,{"$f":"決勝トーナメント!T9","v":"09:30:00"},{"$f":"出場チーム!B11","v":"寒田少年サッカークラブ"},{"$f":"SUM(I6:I7)","v":0},"（",0,"前半",1,"）",{"$f":"SUM(K6:K7)","v":2},{"$f":"出場チーム!I18","v":"スマイス・セレソン"},null,null,"MC","安東　信二",null,null,{"$f":"決勝トーナメント!T9","v":"09:30:00"},{"$f":"出場チーム!B19","v":"カティオーラフットボールクラブＵ－１２"},{"$f":"SUM(Y6:Y7)","v":2},"（",0,"前半",0,"）",{"$f":"SUM(AA6:AA7)","v":0},{"$f":"出場チーム!B14","v":"日岡サッカースポーツ少年団"}]
["Welfare\nOfficer","戸髙　博秋",null,null,null,null,null,null,0,"後半",1,null,null,null,null,null,"Welfare\nOfficer","市原　宗久",null,null,null,null,null,null,2,"後半",0]
["記録","佐々木　秀樹",null,null,null,null,null,null,null,"PK",null,null,null,null,null,null,"記録","榊　謙治",null,null,null,null,null,null,null,"PK"]
[null,null,null,null,null,"氏名","番号","分",null,null,null,"分","番号","氏名",null,null,null,null,null,null,null,"氏名","番号","分",null,null,null,"分","番号","氏名"]
[null,null,null,null,"得点者",{"$f":"IF(ISERROR(VLOOKUP(CONCATENATE($F$6,\"_\",G10),選手名簿!$A:$E,5,FALSE))=TRUE,\"\",VLOOKUP(CONCATENATE($F$6,\"_\",G10),選手名簿!$A:$E,5,FALSE))","v":""},null,null,null,null,null,null,null,{"$f":"IF(ISERROR(VLOOKUP(CONCATENATE($N$6,\"_\",M10),選手名簿!$A:$E,5,FALSE))=TRUE,\"\",VLOOKUP(CONCATENATE($N$6,\"_\",M10),選手名簿!$A:$E,5,FALSE))","v":""},null,null,null,null,null,null,"得点者",{"$f":"IF(ISERROR(VLOOKUP(CONCATENATE($V$6,\"_\",W10),選手名簿!$A:$E,5,FALSE))=TRUE,\"\",VLOOKUP(CONCATENATE($V$6,\"_\",W10),選手名簿!$A:$E,5,FALSE))","v":""},null,null,null,null,null,null,null,{"$f":"IF(ISERROR(VLOOKUP(CONCATENATE($AD$6,\"_\",AC10),選手名簿!$A:$E,5,FALSE))=TRUE,\"\",VLOOKUP(CONCATENATE($AD$6,\"_\",AC10),選手名簿!$A:$E,5,FALSE))","v":""}]
[null,null,null,null,"得点者",{"$f":"IF(ISERROR(VLOOKUP(CONCATENATE($F$6,\"_\",G11),選手名簿!$A:$E,5,FALSE))=TRUE,\"\",VLOOKUP(CONCATENATE($F$6,\"_\",G11),選手名簿!$A:$E,5,FALSE))","v":""},null,null,null,null,null,null,null,{"$f":"IF(ISERROR(VLOOKUP(CONCATENATE($N$6,\"_\",M11),選手名簿!$A:$E,5,FALSE))=TRUE,\"\",VLOOKUP(CONCATENATE($N$6,\"_\",M11),選手名簿!$A:$E,5,FALSE))","v":""},null,null,null,null,null,null,"得点者",{"$f":"IF(ISERROR(VLOOKUP(CONCATENATE($V$6,\"_\",W11),選手名簿!$A:$E,5,FALSE))=TRUE,\"\",VLOOKUP(CONCATENATE($V$6,\"_\",W11),選手名簿!$A:$E,5,FALSE))","v":""},null,null,null,null,null,null,null,{"$f":"IF(ISERROR(VLOOKUP(CONCATENATE($AD$6,\"_\",AC11),選手名簿!$A:$E,5,FALSE))=TRUE,\"\",VLOOKUP(CONCATENATE($AD$6,\"_\",AC11),選手名簿!$A:$E,5,FALSE))","v":""}]
[null,null,null,null,"得点者",{"$f":"IF(ISERROR(VLOOKUP(CONCATENATE($F$6,\"_\",G12),選手名簿!$A:$E,5,FALSE))=TRUE,\"\",VLOOKUP(CONCATENATE($F$6,\"_\",G12),選手名簿!$A:$E,5,FALSE))","v":""},null,null,null,null,null,null,null,{"$f":"IF(ISERROR(VLOOKUP(CONCATENATE($N$6,\"_\",M12),選手名簿!$A:$E,5,FALSE))=TRUE,\"\",VLOOKUP(CONCATENATE($N$6,\"_\",M12),選手名簿!$A:$E,5,FALSE))","v":""},null,null,null,null,null,null,"得点者",{"$f":"IF(ISERROR(VLOOKUP(CONCATENATE($V$6,\"_\",W12),選手名簿!$A:$E,5,FALSE))=TRUE,\"\",VLOOKUP(CONCATENATE($V$6,\"_\",W12),選手名簿!$A:$E,5,FALSE))","v":""},null,null,null,null,null,null,null,{"$f":"IF(ISERROR(VLOOKUP(CONCATENATE($AD$6,\"_\",AC12),選手名簿!$A:$E,5,FALSE))=TRUE,\"\",VLOOKUP(CONCATENATE($AD$6,\"_\",AC12),選手名簿!$A:$E,5,FALSE))","v":""}]
[null,null,null,null,"得点者",{"$f":"IF(ISERROR(VLOOKUP(CONCATENATE($F$6,\"_\",G13),選手名簿!$A:$E,5,FALSE))=TRUE,\"\",VLOOKUP(CONCATENATE($F$6,\"_\",G13),選手名簿!$A:$E,5,FALSE))","v":""},null,null,null,null,null,null,null,{"$f":"IF(ISERROR(VLOOKUP(CONCATENATE($N$6,\"_\",M13),選手名簿!$A:$E,5,FALSE))=TRUE,\"\",VLOOKUP(CONCATENATE($N$6,\"_\",M13),選手名簿!$A:$E,5,FALSE))","v":""},null,null,null,null,null,null,"得点者",{"$f":"IF(ISERROR(VLOOKUP(CONCATENATE($V$6,\"_\",W13),選手名簿!$A:$E,5,FALSE))=TRUE,\"\",VLOOKUP(CONCATENATE($V$6,\"_\",W13),選手名簿!$A:$E,5,FALSE))","v":""},null,null,null,null,null,null,null,{"$f":"IF(ISERROR(VLOOKUP(CONCATENATE($AD$6,\"_\",AC13),選手名簿!$A:$E,5,FALSE))=TRUE,\"\",VLOOKUP(CONCATENATE($AD$6,\"_\",AC13),選手名簿!$A:$E,5,FALSE))","v":""}]
[null,null,null,null,"得点者",{"$f":"IF(ISERROR(VLOOKUP(CONCATENATE($F$6,\"_\",G14),選手名簿!$A:$E,5,FALSE))=TRUE,\"\",VLOOKUP(CONCATENATE($F$6,\"_\",G14),選手名簿!$A:$E,5,FALSE))","v":""},null,null,null,null,null,null,null,{"$f":"IF(ISERROR(VLOOKUP(CONCATENATE($N$6,\"_\",M14),選手名簿!$A:$E,5,FALSE))=TRUE,\"\",VLOOKUP(CONCATENATE($N$6,\"_\",M14),選手名簿!$A:$E,5,FALSE))","v":""},null,null,null,null,null,null,"得点者",{"$f":"IF(ISERROR(VLOOKUP(CONCATENATE($V$6,\"_\",W14),選手名簿!$A:$E,5,FALSE))=TRUE,\"\",VLOOKUP(CONCATENATE($V$6,\"_\",W14),選手名簿!$A:$E,5,FALSE))","v":""},null,null,null,null,null,null,null,{"$f":"IF(ISERROR(VLOOKUP(CONCATENATE($AD$6,\"_\",AC14),選手名簿!$A:$E,5,FALSE))=TRUE,\"\",VLOOKUP(CONCATENATE($AD$6,\"_\",AC14),選手名簿!$A:$E,5,FALSE))","v":""}]
[null,null,null,null,"得点者",{"$f":"IF(ISERROR(VLOOKUP(CONCATENATE($F$6,\"_\",G15),選手名簿!$A:$E,5,FALSE))=TRUE,\"\",VLOOKUP(CONCATENATE($F$6,\"_\",G15),選手名簿!$A:$E,5,FALSE))","v":""},null,null,null,null,null,null,null,{"$f":"IF(ISERROR(VLOOKUP(CONCATENATE($N$6,\"_\",M15),選手名簿!$A:$E,5,FALSE))=TRUE,\"\",VLOOKUP(CONCATENATE($N$6,\"_\",M15),選手名簿!$A:$E,5,FALSE))","v":""},null,null,null,null,null,null,"得点者",{"$f":"IF(ISERROR(VLOOKUP(CONCATENATE($V$6,\"_\",W15),選手名簿!$A:$E,5,FALSE))=TRUE,\"\",VLOOKUP(CONCATENATE($V$6,\"_\",W15),選手名簿!$A:$E,5,FALSE))","v":""},null,null,null,null,null,null,null,{"$f":"IF(ISERROR(VLOOKUP(CONCATENATE($AD$6,\"_\",AC15),選手名簿!$A:$E,5,FALSE))=TRUE,\"\",VLOOKUP(CONCATENATE($AD$6,\"_\",AC15),選手名簿!$A:$E,5,FALSE))","v":""}]
[null,null,null,null,"得点者",{"$f":"IF(ISERROR(VLOOKUP(CONCATENATE($F$6,\"_\",G16),選手名簿!$A:$E,5,FALSE))=TRUE,\"\",VLOOKUP(CONCATENATE($F$6,\"_\",G16),選手名簿!$A:$E,5,FALSE))","v":""},null,null,null,null,null,null,null,{"$f":"IF(ISERROR(VLOOKUP(CONCATENATE($N$6,\"_\",M16),選手名簿!$A:$E,5,FALSE))=TRUE,\"\",VLOOKUP(CONCATENATE($N$6,\"_\",M16),選手名簿!$A:$E,5,FALSE))","v":""},null,null,null,null,null,null,"得点者",{"$f":"IF(ISERROR(VLOOKUP(CONCATENATE($V$6,\"_\",W16),選手名簿!$A:$E,5,FALSE))=TRUE,\"\",VLOOKUP(CONCATENATE($V$6,\"_\",W16),選手名簿!$A:$E,5,FALSE))","v":""},null,null,null,null,null,null,null,{"$f":"IF(ISERROR(VLOOKUP(CONCATENATE($AD$6,\"_\",AC16),選手名簿!$A:$E,5,FALSE))=TRUE,\"\",VLOOKUP(CONCATENATE($AD$6,\"_\",AC16),選手名簿!$A:$E,5,FALSE))","v":""}]
[null,null,null,null,"得点者",{"$f":"IF(ISERROR(VLOOKUP(CONCATENATE($F$6,\"_\",G17),選手名簿!$A:$E,5,FALSE))=TRUE,\"\",VLOOKUP(CONCATENATE($F$6,\"_\",G17),選手名簿!$A:$E,5,FALSE))","v":""},null,null,null,null,null,null,null,{"$f":"IF(ISERROR(VLOOKUP(CONCATENATE($N$6,\"_\",M17),選手名簿!$A:$E,5,FALSE))=TRUE,\"\",VLOOKUP(CONCATENATE($N$6,\"_\",M17),選手名簿!$A:$E,5,FALSE))","v":""},null,null,null,null,null,null,"得点者",{"$f":"IF(ISERROR(VLOOKUP(CONCATENATE($V$6,\"_\",W17),選手名簿!$A:$E,5,FALSE))=TRUE,\"\",VLOOKUP(CONCATENATE($V$6,\"_\",W17),選手名簿!$A:$E,5,FALSE))","v":""},null,null,null,null,null,null,null,{"$f":"IF(ISERROR(VLOOKUP(CONCATENATE($AD$6,\"_\",AC17),選手名簿!$A:$E,5,FALSE))=TRUE,\"\",VLOOKUP(CONCATENATE($AD$6,\"_\",AC17),選手名簿!$A:$E,5,FALSE))","v":""}]
[null,null,null,null,"得点者",{"$f":"IF(ISERROR(VLOOKUP(CONCATENATE($F$6,\"_\",G18),選手名簿!$A:$E,5,FALSE))=TRUE,\"\",VLOOKUP(CONCATENATE($F$6,\"_\",G18),選手名簿!$A:$E,5,FALSE))","v":""},null,null,null,null,null,null,null,{"$f":"IF(ISERROR(VLOOKUP(CONCATENATE($N$6,\"_\",M18),選手名簿!$A:$E,5,FALSE))=TRUE,\"\",VLOOKUP(CONCATENATE($N$6,\"_\",M18),選手名簿!$A:$E,5,FALSE))","v":""},null,null,null,null,null,null,"得点者",{"$f":"IF(ISERROR(VLOOKUP(CONCATENATE($V$6,\"_\",W18),選手名簿!$A:$E,5,FALSE))=TRUE,\"\",VLOOKUP(CONCATENATE($V$6,\"_\",W18),選手名簿!$A:$E,5,FALSE))","v":""},null,null,null,null,null,null,null,{"$f":"IF(ISERROR(VLOOKUP(CONCATENATE($AD$6,\"_\",AC18),選手名簿!$A:$E,5,FALSE))=TRUE,\"\",VLOOKUP(CONCATENATE($AD$6,\"_\",AC18),選手名簿!$A:$E,5,FALSE))","v":""}]
[null,null,null,null,"得点者",{"$f":"IF(ISERROR(VLOOKUP(CONCATENATE($F$6,\"_\",G19),選手名簿!$A:$E,5,FALSE))=TRUE,\"\",VLOOKUP(CONCATENATE($F$6,\"_\",G19),選手名簿!$A:$E,5,FALSE))","v":""},null,null,null,null,null,null,null,{"$f":"IF(ISERROR(VLOOKUP(CONCATENATE($N$6,\"_\",M19),選手名簿!$A:$E,5,FALSE))=TRUE,\"\",VLOOKUP(CONCATENATE($N$6,\"_\",M19),選手名簿!$A:$E,5,FALSE))","v":""},null,null,null,null,null,null,"得点者",{"$f":"IF(ISERROR(VLOOKUP(CONCATENATE($V$6,\"_\",W19),選手名簿!$A:$E,5,FALSE))=TRUE,\"\",VLOOKUP(CONCATENATE($V$6,\"_\",W19),選手名簿!$A:$E,5,FALSE))","v":""},null,null,null,null,null,null,null,{"$f":"IF(ISERROR(VLOOKUP(CONCATENATE($AD$6,\"_\",AC19),選手名簿!$A:$E,5,FALSE))=TRUE,\"\",VLOOKUP(CONCATENATE($AD$6,\"_\",AC19),選手名簿!$A:$E,5,FALSE))","v":""}]
["＜Referee＞",null,null,null,"警告/退場\n選択肢より","氏名","番号","分","内容\n選択肢より",null,"内容\n選択肢より","分","番号","氏名","警告/退場\n選択肢より",null,"＜Referee＞",null,null,null,"警告/退場\n選択肢より","氏名","番号","分","内容\n選択肢より",null,"内容\n選択肢より","分","番号","氏名","警告/退場\n選択肢より"]
["番号","R001264304",null,null,null,{"$f":"IF(ISERROR(VLOOKUP(CONCATENATE($F$6,\"_\",G21),選手名簿!$A:$E,5,FALSE))=TRUE,\"\",VLOOKUP(CONCATENATE($F$6,\"_\",G21),選手名簿!$A:$E,5,FALSE))","v":""},null,null,null,null,null,null,null,{"$f":"IF(ISERROR(VLOOKUP(CONCATENATE($N$6,\"_\",M21),選手名簿!$A:$E,5,FALSE))=TRUE,\"\",VLOOKUP(CONCATENATE($N$6,\"_\",M21),選手名簿!$A:$E,5,FALSE))","v":""},null,null,"番号","R008537139",null,null,null,{"$f":"IF(ISERROR(VLOOKUP(CONCATENATE($V$6,\"_\",W21),選手名簿!$A:$E,5,FALSE))=TRUE,\"\",VLOOKUP(CONCATENATE($V$6,\"_\",W21),選手名簿!$A:$E,5,FALSE))","v":""},null,null,null,null,"反スポ",27,10,{"$f":"IF(ISERROR(VLOOKUP(CONCATENATE($AD$6,\"_\",AC21),選手名簿!$A:$E,5,FALSE))=TRUE,\"\",VLOOKUP(CONCATENATE($AD$6,\"_\",AC21),選手名簿!$A:$E,5,FALSE))","v":"牧　礼桜"},"警告"]
["R",{"$f":"IF(ISERROR(VLOOKUP(B21,審判員!$A:$C,2,FALSE))=TRUE,\"\",VLOOKUP(B21,審判員!$A:$C,2,FALSE))","v":"羽田野　亘"},null,{"$f":"IF(ISERROR(VLOOKUP(B21,審判員!$A:$C,3,FALSE))=TRUE,\"\",VLOOKUP(B21,審判員!$A:$C,3,FALSE))","v":"３級"},null,{"$f":"IF(ISERROR(VLOOKUP(CONCATENATE($F$6,\"_\",G22),選手名簿!$A:$E,5,FALSE))=TRUE,\"\",VLOOKUP(CONCATENATE($F$6,\"_\",G22),選手名簿!$A:$E,5,FALSE))","v":""},null,null,null,null,null,null,null,{"$f":"IF(ISERROR(VLOOKUP(CONCATENATE($N$6,\"_\",M22),選手名簿!$A:$E,5,FALSE))=TRUE,\"\",VLOOKUP(CONCATENATE($N$6,\"_\",M22),選手名簿!$A:$E,5,FALSE))","v":""},null,null,"R",{"$f":"IF(ISERROR(VLOOKUP(R21,審判員!$A:$C,2,FALSE))=TRUE,\"\",VLOOKUP(R21,審判員!$A:$C,2,FALSE))","v":"矢羽田　崇"},null,{"$f":"IF(ISERROR(VLOOKUP(R21,審判員!$A:$C,3,FALSE))=TRUE,\"\",VLOOKUP(R21,審判員!$A:$C,3,FALSE))","v":"３級"},null,{"$f":"IF(ISERROR(VLOOKUP(CONCATENATE($V$6,\"_\",W22),選手名簿!$A:$E,5,FALSE))=TRUE,\"\",VLOOKUP(CONCATENATE($V$6,\"_\",W22),選手名簿!$A:$E,5,FALSE))","v":""},null,null,null,null,null,null,null,{"$f":"IF(ISERROR(VLOOKUP(CONCATENATE($AD$6,\"_\",AC22),選手名簿!$A:$E,5,FALSE))=TRUE,\"\",VLOOKUP(CONCATENATE($AD$6,\"_\",AC22),選手名簿!$A:$E,5,FALSE))","v":""}]
["番号","R010093494",null,null,null,{"$f":"IF(ISERROR(VLOOKUP(CONCATENATE($F$6,\"_\",G23),選手名簿!$A:$E,5,FALSE))=TRUE,\"\",VLOOKUP(CONCATENATE($F$6,\"_\",G23),選手名簿!$A:$E,5,FALSE))","v":""},null,null,null,null,null,null,null,{"$f":"IF(ISERROR(VLOOKUP(CONCATENATE($N$6,\"_\",M23),選手名簿!$A:$E,5,FALSE))=TRUE,\"\",VLOOKUP(CONCATENATE($N$6,\"_\",M23),選手名簿!$A:$E,5,FALSE))","v":""},null,null,"番号","R003972391",null,null,null,{"$f":"IF(ISERROR(VLOOKUP(CONCATENATE($V$6,\"_\",W23),選手名簿!$A:$E,5,FALSE))=TRUE,\"\",VLOOKUP(CONCATENATE($V$6,\"_\",W23),選手名簿!$A:$E,5,FALSE))","v":""},null,null,null,null,null,null,null,{"$f":"IF(ISERROR(VLOOKUP(CONCATENATE($AD$6,\"_\",AC23),選手名簿!$A:$E,5,FALSE))=TRUE,\"\",VLOOKUP(CONCATENATE($AD$6,\"_\",AC23),選手名簿!$A:$E,5,FALSE))","v":""}]
["AR1:",{"$f":"IF(ISERROR(VLOOKUP(B23,審判員!$A:$C,2,FALSE))=TRUE,\"\",VLOOKUP(B23,審判員!$A:$C,2,FALSE))","v":"大本　敏行"},null,{"$f":"IF(ISERROR(VLOOKUP(B23,審判員!$A:$C,3,FALSE))=TRUE,\"\",VLOOKUP(B23,審判員!$A:$C,3,FALSE))","v":"３級"},null,{"$f":"IF(ISERROR(VLOOKUP(CONCATENATE($F$6,\"_\",G24),選手名簿!$A:$E,5,FALSE))=TRUE,\"\",VLOOKUP(CONCATENATE($F$6,\"_\",G24),選手名簿!$A:$E,5,FALSE))","v":""},null,null,null,null,null,null,null,{"$f":"IF(ISERROR(VLOOKUP(CONCATENATE($N$6,\"_\",M24),選手名簿!$A:$E,5,FALSE))=TRUE,\"\",VLOOKUP(CONCATENATE($N$6,\"_\",M24),選手名簿!$A:$E,5,FALSE))","v":""},null,null,"AR1:",{"$f":"IF(ISERROR(VLOOKUP(R23,審判員!$A:$C,2,FALSE))=TRUE,\"\",VLOOKUP(R23,審判員!$A:$C,2,FALSE))","v":"朝比奈　義行"},null,{"$f":"IF(ISERROR(VLOOKUP(R23,審判員!$A:$C,3,FALSE))=TRUE,\"\",VLOOKUP(R23,審判員!$A:$C,3,FALSE))","v":"３級"},null,{"$f":"IF(ISERROR(VLOOKUP(CONCATENATE($V$6,\"_\",W24),選手名簿!$A:$E,5,FALSE))=TRUE,\"\",VLOOKUP(CONCATENATE($V$6,\"_\",W24),選手名簿!$A:$E,5,FALSE))","v":""},null,null,null,null,null,null,null,{"$f":"IF(ISERROR(VLOOKUP(CONCATENATE($AD$6,\"_\",AC24),選手名簿!$A:$E,5,FALSE))=TRUE,\"\",VLOOKUP(CONCATENATE($AD$6,\"_\",AC24),選手名簿!$A:$E,5,FALSE))","v":""}]
["番号","R006901613",null,null,null,{"$f":"IF(ISERROR(VLOOKUP(CONCATENATE($F$6,\"_\",G25),選手名簿!$A:$E,5,FALSE))=TRUE,\"\",VLOOKUP(CONCATENATE($F$6,\"_\",G25),選手名簿!$A:$E,5,FALSE))","v":""},null,null,null,null,null,null,null,{"$f":"IF(ISERROR(VLOOKUP(CONCATENATE($N$6,\"_\",M25),選手名簿!$A:$E,5,FALSE))=TRUE,\"\",VLOOKUP(CONCATENATE($N$6,\"_\",M25),選手名簿!$A:$E,5,FALSE))","v":""},null,null,"番号","R009197594",null,null,null,{"$f":"IF(ISERROR(VLOOKUP(CONCATENATE($V$6,\"_\",W25),選手名簿!$A:$E,5,FALSE))=TRUE,\"\",VLOOKUP(CONCATENATE($V$6,\"_\",W25),選手名簿!$A:$E,5,FALSE))","v":""},null,null,null,null,null,null,null,{"$f":"IF(ISERROR(VLOOKUP(CONCATENATE($AD$6,\"_\",AC25),選手名簿!$A:$E,5,FALSE))=TRUE,\"\",VLOOKUP(CONCATENATE($AD$6,\"_\",AC25),選手名簿!$A:$E,5,FALSE))","v":""}]
["AR2:",{"$f":"IF(ISERROR(VLOOKUP(B25,審判員!$A:$C,2,FALSE))=TRUE,\"\",VLOOKUP(B25,審判員!$A:$C,2,FALSE))","v":"岡部　明男"},null,{"$f":"IF(ISERROR(VLOOKUP(B25,審判員!$A:$C,3,FALSE))=TRUE,\"\",VLOOKUP(B25,審判員!$A:$C,3,FALSE))","v":"３級"},null,{"$f":"IF(ISERROR(VLOOKUP(CONCATENATE($F$6,\"_\",G26),選手名簿!$A:$E,5,FALSE))=TRUE,\"\",VLOOKUP(CONCATENATE($F$6,\"_\",G26),選手名簿!$A:$E,5,FALSE))","v":""},null,null,null,null,null,null,null,{"$f":"IF(ISERROR(VLOOKUP(CONCATENATE($N$6,\"_\",M26),選手名簿!$A:$E,5,FALSE))=TRUE,\"\",VLOOKUP(CONCATENATE($N$6,\"_\",M26),選手名簿!$A:$E,5,FALSE))","v":""},null,null,"AR2:",{"$f":"IF(ISERROR(VLOOKUP(R25,審判員!$A:$C,2,FALSE))=TRUE,\"\",VLOOKUP(R25,審判員!$A:$C,2,FALSE))","v":"柳元　哲哉"},null,{"$f":"IF(ISERROR(VLOOKUP(R25,審判員!$A:$C,3,FALSE))=TRUE,\"\",VLOOKUP(R25,審判員!$A:$C,3,FALSE))","v":"３級"},null,{"$f":"IF(ISERROR(VLOOKUP(CONCATENATE($V$6,\"_\",W26),選手名簿!$A:$E,5,FALSE))=TRUE,\"\",VLOOKUP(CONCATENATE($V$6,\"_\",W26),選手名簿!$A:$E,5,FALSE))","v":""},null,null,null,null,null,null,null,{"$f":"IF(ISERROR(VLOOKUP(CONCATENATE($AD$6,\"_\",AC26),選手名簿!$A:$E,5,FALSE))=TRUE,\"\",VLOOKUP(CONCATENATE($AD$6,\"_\",AC26),選手名簿!$A:$E,5,FALSE))","v":""}]
["番号","R003350854",null,null,null,{"$f":"IF(ISERROR(VLOOKUP(CONCATENATE($F$6,\"_\",G27),選手名簿!$A:$E,5,FALSE))=TRUE,\"\",VLOOKUP(CONCATENATE($F$6,\"_\",G27),選手名簿!$A:$E,5,FALSE))","v":""},null,null,null,null,null,null,null,{"$f":"IF(ISERROR(VLOOKUP(CONCATENATE($N$6,\"_\",M27),選手名簿!$A:$E,5,FALSE))=TRUE,\"\",VLOOKUP(CONCATENATE($N$6,\"_\",M27),選手名簿!$A:$E,5,FALSE))","v":""},null,null,"番号","R010356115",null,null,null,{"$f":"IF(ISERROR(VLOOKUP(CONCATENATE($V$6,\"_\",W27),選手名簿!$A:$E,5,FALSE))=TRUE,\"\",VLOOKUP(CONCATENATE($V$6,\"_\",W27),選手名簿!$A:$E,5,FALSE))","v":""},null,null,null,null,null,null,null,{"$f":"IF(ISERROR(VLOOKUP(CONCATENATE($AD$6,\"_\",AC27),選手名簿!$A:$E,5,FALSE))=TRUE,\"\",VLOOKUP(CONCATENATE($AD$6,\"_\",AC27),選手名簿!$A:$E,5,FALSE))","v":""}]
["4th:",{"$f":"IF(ISERROR(VLOOKUP(B27,審判員!$A:$C,2,FALSE))=TRUE,\"\",VLOOKUP(B27,審判員!$A:$C,2,FALSE))","v":"毛藤　勇三"},null,{"$f":"IF(ISERROR(VLOOKUP(B27,審判員!$A:$C,3,FALSE))=TRUE,\"\",VLOOKUP(B27,審判員!$A:$C,3,FALSE))","v":"３級"},null,{"$f":"IF(ISERROR(VLOOKUP(CONCATENATE($F$6,\"_\",G28),選手名簿!$A:$E,5,FALSE))=TRUE,\"\",VLOOKUP(CONCATENATE($F$6,\"_\",G28),選手名簿!$A:$E,5,FALSE))","v":""},null,null,null,null,null,null,null,{"$f":"IF(ISERROR(VLOOKUP(CONCATENATE($N$6,\"_\",M28),選手名簿!$A:$E,5,FALSE))=TRUE,\"\",VLOOKUP(CONCATENATE($N$6,\"_\",M28),選手名簿!$A:$E,5,FALSE))","v":""},null,null,"4th:",{"$f":"IF(ISERROR(VLOOKUP(R27,審判員!$A:$C,2,FALSE))=TRUE,\"\",VLOOKUP(R27,審判員!$A:$C,2,FALSE))","v":"榊　謙治"},null,{"$f":"IF(ISERROR(VLOOKUP(R27,審判員!$A:$C,3,FALSE))=TRUE,\"\",VLOOKUP(R27,審判員!$A:$C,3,FALSE))","v":"３級"},null,{"$f":"IF(ISERROR(VLOOKUP(CONCATENATE($V$6,\"_\",W28),選手名簿!$A:$E,5,FALSE))=TRUE,\"\",VLOOKUP(CONCATENATE($V$6,\"_\",W28),選手名簿!$A:$E,5,FALSE))","v":""},null,null,null,null,null,null,null,{"$f":"IF(ISERROR(VLOOKUP(CONCATENATE($AD$6,\"_\",AC28),選手名簿!$A:$E,5,FALSE))=TRUE,\"\",VLOOKUP(CONCATENATE($AD$6,\"_\",AC28),選手名簿!$A:$E,5,FALSE))","v":""}]
[]
[]
[]
[]
[null,"Match No：27",null,null,null,null,null,null,null,null,null,null,null,null,null,null,null,"Match No：28"]
["MC","松尾　章",null,null,{"$f":"決勝トーナメント!T13","v":"10:20:00"},{"$f":"出場チーム!I19","v":"四日市南ＳＳＣ"},{"$f":"SUM(I34:I35)","v":0},"（",0,"前半",1,"）",{"$f":"SUM(K34:K35)","v":3},{"$f":"出場チーム!B17","v":"大分トリニータＵ－１２"},null,null,"MC","伊東　雅弘",null,null,{"$f":"決勝トーナメント!T13","v":"10:20:00"},{"$f":"出場チーム!B18","v":"ドリームキッズフットボールクラブ"},{"$f":"SUM(Y34:Y35)","v":1},"（",0,"前半",0,"）",{"$f":"SUM(AA34:AA35)","v":0},{"$f":"出場チーム!B15","v":"スマイス　セレソン　スポーツクラブ"}]
["Welfare\nOfficer","山野内　哲朗",null,null,null,null,null,null,0,"後半",2,null,null,null,null,null,"Welfare\nOfficer","仲野　昭博",null,null,null,null,null,null,1,"後半",0]
["記録","中野　観司郎",null,null,null,null,null,null,null,"PK",null,null,null,null,null,null,"記録","津守　一雄",null,null,null,null,null,null,null,"PK"]
[null,null,null,null,null,"氏名","番号","分",null,null,null,"分","番号","氏名",null,null,null,null,null,null,null,"氏名","番号","分",null,null,null,"分","番号","氏名"]
[null,null,null,null,"得点者",{"$f":"IF(ISERROR(VLOOKUP(CONCATENATE($F$34,\"_\",G38),選手名簿!$A:$E,5,FALSE))=TRUE,\"\",VLOOKUP(CONCATENATE($F$34,\"_\",G38),選手名簿!$A:$E,5,FALSE))","v":""},null,null,null,null,null,null,null,{"$f":"IF(ISERROR(VLOOKUP(CONCATENATE($N$34,\"_\",M38),選手名簿!$A:$E,5,FALSE))=TRUE,\"\",VLOOKUP(CONCATENATE($N$34,\"_\",M38),選手名簿!$A:$E,5,FALSE))","v":""},null,null,null,null,null,null,"得点者",{"$f":"IF(ISERROR(VLOOKUP(CONCATENATE($V$34,\"_\",W38),選手名簿!$A:$E,5,FALSE))=TRUE,\"\",VLOOKUP(CONCATENATE($V$34,\"_\",W38),選手名簿!$A:$E,5,FALSE))","v":""},null,null,null,null,null,null,null,{"$f":"IF(ISERROR(VLOOKUP(CONCATENATE($AD$34,\"_\",AC38),選手名簿!$A:$E,5,FALSE))=TRUE,\"\",VLOOKUP(CONCATENATE($AD$34,\"_\",AC38),選手名簿!$A:$E,5,FALSE))","v":""}]
[null,null,null,null,"得点者",{"$f":"IF(ISERROR(VLOOKUP(CONCATENATE($F$34,\"_\",G39),選手名簿!$A:$E,5,FALSE))=TRUE,\"\",VLOOKUP(CONCATENATE($F$34,\"_\",G39),選手名簿!$A:$E,5,FALSE))","v":""},null,null,null,null,null,null,null,{"$f":"IF(ISERROR(VLOOKUP(CONCATENATE($N$34,\"_\",M39),選手名簿!$A:$E,5,FALSE))=TRUE,\"\",VLOOKUP(CONCATENATE($N$34,\"_\",M39),選手名簿!$A:$E,5,FALSE))","v":""},null,null,null,null,null,null,"得点者",{"$f":"IF(ISERROR(VLOOKUP(CONCATENATE($V$34,\"_\",W39),選手名簿!$A:$E,5,FALSE))=TRUE,\"\",VLOOKUP(CONCATENATE($V$34,\"_\",W39),選手名簿!$A:$E,5,FALSE))","v":""},null,null,null,null,null,null,null,{"$f":"IF(ISERROR(VLOOKUP(CONCATENATE($AD$34,\"_\",AC39),選手名簿!$A:$E,5,FALSE))=TRUE,\"\",VLOOKUP(CONCATENATE($AD$34,\"_\",AC39),選手名簿!$A:$E,5,FALSE))","v":""}]
[null,null,null,null,"得点者",{"$f":"IF(ISERROR(VLOOKUP(CONCATENATE($F$34,\"_\",G40),選手名簿!$A:$E,5,FALSE))=TRUE,\"\",VLOOKUP(CONCATENATE($F$34,\"_\",G40),選手名簿!$A:$E,5,FALSE))","v":""},null,null,null,null,null,null,null,{"$f":"IF(ISERROR(VLOOKUP(CONCATENATE($N$34,\"_\",M40),選手名簿!$A:$E,5,FALSE))=TRUE,\"\",VLOOKUP(CONCATENATE($N$34,\"_\",M40),選手名簿!$A:$E,5,FALSE))","v":""},null,null,null,null,null,null,"得点者",{"$f":"IF(ISERROR(VLOOKUP(CONCATENATE($V$34,\"_\",W40),選手名簿!$A:$E,5,FALSE))=TRUE,\"\",VLOOKUP(CONCATENATE($V$34,\"_\",W40),選手名簿!$A:$E,5,FALSE))","v":""},null,null,null,null,null,null,null,{"$f":"IF(ISERROR(VLOOKUP(CONCATENATE($AD$34,\"_\",AC40),選手名簿!$A:$E,5,FALSE))=TRUE,\"\",VLOOKUP(CONCATENATE($AD$34,\"_\",AC40),選手名簿!$A:$E,5,FALSE))","v":""}]
[null,null,null,null,"得点者",{"$f":"IF(ISERROR(VLOOKUP(CONCATENATE($F$34,\"_\",G41),選手名簿!$A:$E,5,FALSE))=TRUE,\"\",VLOOKUP(CONCATENATE($F$34,\"_\",G41),選手名簿!$A:$E,5,FALSE))","v":""},null,null,null,null,null,null,null,{"$f":"IF(ISERROR(VLOOKUP(CONCATENATE($N$34,\"_\",M41),選手名簿!$A:$E,5,FALSE))=TRUE,\"\",VLOOKUP(CONCATENATE($N$34,\"_\",M41),選手名簿!$A:$E,5,FALSE))","v":""},null,null,null,null,null,null,"得点者",{"$f":"IF(ISERROR(VLOOKUP(CONCATENATE($V$34,\"_\",W41),選手名簿!$A:$E,5,FALSE))=TRUE,\"\",VLOOKUP(CONCATENATE($V$34,\"_\",W41),選手名簿!$A:$E,5,FALSE))","v":""},null,null,null,null,null,null,null,{"$f":"IF(ISERROR(VLOOKUP(CONCATENATE($AD$34,\"_\",AC41),選手名簿!$A:$E,5,FALSE))=TRUE,\"\",VLOOKUP(CONCATENATE($AD$34,\"_\",AC41),選手名簿!$A:$E,5,FALSE))","v":""}]
[null,null,null,null,"得点者",{"$f":"IF(ISERROR(VLOOKUP(CONCATENATE($F$34,\"_\",G42),選手名簿!$A:$E,5,FALSE))=TRUE,\"\",VLOOKUP(CONCATENATE($F$34,\"_\",G42),選手名簿!$A:$E,5,FALSE))","v":""},null,null,null,null,null,null,null,{"$f":"IF(ISERROR(VLOOKUP(CONCATENATE($N$34,\"_\",M42),選手名簿!$A:$E,5,FALSE))=TRUE,\"\",VLOOKUP(CONCATENATE($N$34,\"_\",M42),選手名簿!$A:$E,5,FALSE))","v":""},null,null,null,null,null,null,"得点者",{"$f":"IF(ISERROR(VLOOKUP(CONCATENATE($V$34,\"_\",W42),選手名簿!$A:$E,5,FALSE))=TRUE,\"\",VLOOKUP(CONCATENATE($V$34,\"_\",W42),選手名簿!$A:$E,5,FALSE))","v":""},null,null,null,null,null,null,null,{"$f":"IF(ISERROR(VLOOKUP(CONCATENATE($AD$34,\"_\",AC42),選手名簿!$A:$E,5,FALSE))=TRUE,\"\",VLOOKUP(CONCATENATE($AD$34,\"_\",AC42),選手名簿!$A:$E,5,FALSE))","v":""}]
[null,null,null,null,"得点者",{"$f":"IF(ISERROR(VLOOKUP(CONCATENATE($F$34,\"_\",G43),選手名簿!$A:$E,5,FALSE))=TRUE,\"\",VLOOKUP(CONCATENATE($F$34,\"_\",G43),選手名簿!$A:$E,5,FALSE))","v":""},null,null,null,null,null,null,null,{"$f":"IF(ISERROR(VLOOKUP(CONCATENATE($N$34,\"_\",M43),選手名簿!$A:$E,5,FALSE))=TRUE,\"\",VLOOKUP(CONCATENATE($N$34,\"_\",M43),選手名簿!$A:$E,5,FALSE))","v":""},null,null,null,null,null,null,"得点者",{"$f":"IF(ISERROR(VLOOKUP(CONCATENATE($V$34,\"_\",W43),選手名簿!$A:$E,5,FALSE))=TRUE,\"\",VLOOKUP(CONCATENATE($V$34,\"_\",W43),選手名簿!$A:$E,5,FALSE))","v":""},null,null,null,null,null,null,null,{"$f":"IF(ISERROR(VLOOKUP(CONCATENATE($AD$34,\"_\",AC43),選手名簿!$A:$E,5,FALSE))=TRUE,\"\",VLOOKUP(CONCATENATE($AD$34,\"_\",AC43),選手名簿!$A:$E,5,FALSE))","v":""}]
[null,null,null,null,"得点者",{"$f":"IF(ISERROR(VLOOKUP(CONCATENATE($F$34,\"_\",G44),選手名簿!$A:$E,5,FALSE))=TRUE,\"\",VLOOKUP(CONCATENATE($F$34,\"_\",G44),選手名簿!$A:$E,5,FALSE))","v":""},null,null,null,null,null,null,null,{"$f":"IF(ISERROR(VLOOKUP(CONCATENATE($N$34,\"_\",M44),選手名簿!$A:$E,5,FALSE))=TRUE,\"\",VLOOKUP(CONCATENATE($N$34,\"_\",M44),選手名簿!$A:$E,5,FALSE))","v":""},null,null,null,null,null,null,"得点者",{"$f":"IF(ISERROR(VLOOKUP(CONCATENATE($V$34,\"_\",W44),選手名簿!$A:$E,5,FALSE))=TRUE,\"\",VLOOKUP(CONCATENATE($V$34,\"_\",W44),選手名簿!$A:$E,5,FALSE))","v":""},null,null,null,null,null,null,null,{"$f":"IF(ISERROR(VLOOKUP(CONCATENATE($AD$34,\"_\",AC44),選手名簿!$A:$E,5,FALSE))=TRUE,\"\",VLOOKUP(CONCATENATE($AD$34,\"_\",AC44),選手名簿!$A:$E,5,FALSE))","v":""}]
[null,null,null,null,"得点者",{"$f":"IF(ISERROR(VLOOKUP(CONCATENATE($F$34,\"_\",G45),選手名簿!$A:$E,5,FALSE))=TRUE,\"\",VLOOKUP(CONCATENATE($F$34,\"_\",G45),選手名簿!$A:$E,5,FALSE))","v":""},null,null,null,null,null,null,null,{"$f":"IF(ISERROR(VLOOKUP(CONCATENATE($N$34,\"_\",M45),選手名簿!$A:$E,5,FALSE))=TRUE,\"\",VLOOKUP(CONCATENATE($N$34,\"_\",M45),選手名簿!$A:$E,5,FALSE))","v":""},null,null,null,null,null,null,"得点者",{"$f":"IF(ISERROR(VLOOKUP(CONCATENATE($V$34,\"_\",W45),選手名簿!$A:$E,5,FALSE))=TRUE,\"\",VLOOKUP(CONCATENATE($V$34,\"_\",W45),選手名簿!$A:$E,5,FALSE))","v":""},null,null,null,null,null,null,null,{"$f":"IF(ISERROR(VLOOKUP(CONCATENATE($AD$34,\"_\",AC45),選手名簿!$A:$E,5,FALSE))=TRUE,\"\",VLOOKUP(CONCATENATE($AD$34,\"_\",AC45),選手名簿!$A:$E,5,FALSE))","v":""}]
[null,null,null,null,"得点者",{"$f":"IF(ISERROR(VLOOKUP(CONCATENATE($F$34,\"_\",G46),選手名簿!$A:$E,5,FALSE))=TRUE,\"\",VLOOKUP(CONCATENATE($F$34,\"_\",G46),選手名簿!$A:$E,5,FALSE))","v":""},null,null,null,null,null,null,null,{"$f":"IF(ISERROR(VLOOKUP(CONCATENATE($N$34,\"_\",M46),選手名簿!$A:$E,5,FALSE))=TRUE,\"\",VLOOKUP(CONCATENATE($N$34,\"_\",M46),選手名簿!$A:$E,5,FALSE))","v":""},null,null,null,null,null,null,"得点者",{"$f":"IF(ISERROR(VLOOKUP(CONCATENATE($V$34,\"_\",W46),選手名簿!$A:$E,5,FALSE))=TRUE,\"\",VLOOKUP(CONCATENATE($V$34,\"_\",W46),選手名簿!$A:$E,5,FALSE))","v":""},null,null,null,null,null,null,null,{"$f":"IF(ISERROR(VLOOKUP(CONCATENATE($AD$34,\"_\",AC46),選手名簿!$A:$E,5,FALSE))=TRUE,\"\",VLOOKUP(CONCATENATE($AD$34,\"_\",AC46),選手名簿!$A:$E,5,FALSE))","v":""}]
[null,null,null,null,"得点者",{"$f":"IF(ISERROR(VLOOKUP(CONCATENATE($F$34,\"_\",G47),選手名簿!$A:$E,5,FALSE))=TRUE,\"\",VLOOKUP(CONCATENATE($F$34,\"_\",G47),選手名簿!$A:$E,5,FALSE))","v":""},null,null,null,null,null,null,null,{"$f":"IF(ISERROR(VLOOKUP(CONCATENATE($N$34,\"_\",M47),選手名簿!$A:$E,5,FALSE))=TRUE,\"\",VLOOKUP(CONCATENATE($N$34,\"_\",M47),選手名簿!$A:$E,5,FALSE))","v":""},null,null,null,null,null,null,"得点者",{"$f":"IF(ISERROR(VLOOKUP(CONCATENATE($V$34,\"_\",W47),選手名簿!$A:$E,5,FALSE))=TRUE,\"\",VLOOKUP(CONCATENATE($V$34,\"_\",W47),選手名簿!$A:$E,5,FALSE))","v":""},null,null,null,null,null,null,null,{"$f":"IF(ISERROR(VLOOKUP(CONCATENATE($AD$34,\"_\",AC47),選手名簿!$A:$E,5,FALSE))=TRUE,\"\",VLOOKUP(CONCATENATE($AD$34,\"_\",AC47),選手名簿!$A:$E,5,FALSE))","v":""}]
["＜Referee＞",null,null,null,"警告/退場\n選択肢より","氏名","番号","分","内容\n選択肢より",null,"内容\n選択肢より","分","番号","氏名","警告/退場\n選択肢より",null,"＜Referee＞",null,null,null,"警告/退場\n選択肢より","氏名","番号","分","内容\n選択肢より",null,"内容\n選択肢より","分","番号","氏名","警告/退場\n選択肢より"]
["番号","R010382275",null,null,null,{"$f":"IF(ISERROR(VLOOKUP(CONCATENATE($F$34,\"_\",G49),選手名簿!$A:$E,5,FALSE))=TRUE,\"\",VLOOKUP(CONCATENATE($F$34,\"_\",G49),選手名簿!$A:$E,5,FALSE))","v":""},null,null,null,null,null,null,null,{"$f":"IF(ISERROR(VLOOKUP(CONCATENATE($N$34,\"_\",M49),選手名簿!$A:$E,5,FALSE))=TRUE,\"\",VLOOKUP(CONCATENATE($N$34,\"_\",M49),選手名簿!$A:$E,5,FALSE))","v":""},null,null,"番号","R010044664",null,null,null,{"$f":"IF(ISERROR(VLOOKUP(CONCATENATE($V$34,\"_\",W49),選手名簿!$A:$E,5,FALSE))=TRUE,\"\",VLOOKUP(CONCATENATE($V$34,\"_\",W49),選手名簿!$A:$E,5,FALSE))","v":""},null,null,null,null,"反スポ",27,5,{"$f":"IF(ISERROR(VLOOKUP(CONCATENATE($AD$34,\"_\",AC49),選手名簿!$A:$E,5,FALSE))=TRUE,\"\",VLOOKUP(CONCATENATE($AD$34,\"_\",AC49),選手名簿!$A:$E,5,FALSE))","v":"二宮　颯春"},"警告"]
["R",{"$f":"IF(ISERROR(VLOOKUP(B49,審判員!$A:$C,2,FALSE))=TRUE,\"\",VLOOKUP(B49,審判員!$A:$C,2,FALSE))","v":"中村　友海"},null,{"$f":"IF(ISERROR(VLOOKUP(B49,審判員!$A:$C,3,FALSE))=TRUE,\"\",VLOOKUP(B49,審判員!$A:$C,3,FALSE))","v":"３級"},null,{"$f":"IF(ISERROR(VLOOKUP(CONCATENATE($F$34,\"_\",G50),選手名簿!$A:$E,5,FALSE))=TRUE,\"\",VLOOKUP(CONCATENATE($F$34,\"_\",G50),選手名簿!$A:$E,5,FALSE))","v":""},null,null,null,null,null,null,null,{"$f":"IF(ISERROR(VLOOKUP(CONCATENATE($N$34,\"_\",M50),選手名簿!$A:$E,5,FALSE))=TRUE,\"\",VLOOKUP(CONCATENATE($N$34,\"_\",M50),選手名簿!$A:$E,5,FALSE))","v":""},null,null,"R",{"$f":"IF(ISERROR(VLOOKUP(R49,審判員!$A:$C,2,FALSE))=TRUE,\"\",VLOOKUP(R49,審判員!$A:$C,2,FALSE))","v":"穴井　裕大"},null,{"$f":"IF(ISERROR(VLOOKUP(R49,審判員!$A:$C,3,FALSE))=TRUE,\"\",VLOOKUP(R49,審判員!$A:$C,3,FALSE))","v":"３級"},null,{"$f":"IF(ISERROR(VLOOKUP(CONCATENATE($V$34,\"_\",W50),選手名簿!$A:$E,5,FALSE))=TRUE,\"\",VLOOKUP(CONCATENATE($V$34,\"_\",W50),選手名簿!$A:$E,5,FALSE))","v":""},null,null,null,null,null,null,null,{"$f":"IF(ISERROR(VLOOKUP(CONCATENATE($AD$34,\"_\",AC50),選手名簿!$A:$E,5,FALSE))=TRUE,\"\",VLOOKUP(CONCATENATE($AD$34,\"_\",AC50),選手名簿!$A:$E,5,FALSE))","v":""}]
["番号","R010069871",null,null,null,{"$f":"IF(ISERROR(VLOOKUP(CONCATENATE($F$34,\"_\",G51),選手名簿!$A:$E,5,FALSE))=TRUE,\"\",VLOOKUP(CONCATENATE($F$34,\"_\",G51),選手名簿!$A:$E,5,FALSE))","v":""},null,null,null,null,null,null,null,{"$f":"IF(ISERROR(VLOOKUP(CONCATENATE($N$34,\"_\",M51),選手名簿!$A:$E,5,FALSE))=TRUE,\"\",VLOOKUP(CONCATENATE($N$34,\"_\",M51),選手名簿!$A:$E,5,FALSE))","v":""},null,null,"番号","R010027823",null,null,null,{"$f":"IF(ISERROR(VLOOKUP(CONCATENATE($V$34,\"_\",W51),選手名簿!$A:$E,5,FALSE))=TRUE,\"\",VLOOKUP(CONCATENATE($V$34,\"_\",W51),選手名簿!$A:$E,5,FALSE))","v":""},null,null,null,null,null,null,null,{"$f":"IF(ISERROR(VLOOKUP(CONCATENATE($AD$34,\"_\",AC51),選手名簿!$A:$E,5,FALSE))=TRUE,\"\",VLOOKUP(CONCATENATE($AD$34,\"_\",AC51),選手名簿!$A:$E,5,FALSE))","v":""}]
["AR1:",{"$f":"IF(ISERROR(VLOOKUP(B51,審判員!$A:$C,2,FALSE))=TRUE,\"\",VLOOKUP(B51,審判員!$A:$C,2,FALSE))","v":"足立　卓也"},null,{"$f":"IF(ISERROR(VLOOKUP(B51,審判員!$A:$C,3,FALSE))=TRUE,\"\",VLOOKUP(B51,審判員!$A:$C,3,FALSE))","v":"３級"},null,{"$f":"IF(ISERROR(VLOOKUP(CONCATENATE($F$34,\"_\",G52),選手名簿!$A:$E,5,FALSE))=TRUE,\"\",VLOOKUP(CONCATENATE($F$34,\"_\",G52),選手名簿!$A:$E,5,FALSE))","v":""},null,null,null,null,null,null,null,{"$f":"IF(ISERROR(VLOOKUP(CONCATENATE($N$34,\"_\",M52),選手名簿!$A:$E,5,FALSE))=TRUE,\"\",VLOOKUP(CONCATENATE($N$34,\"_\",M52),選手名簿!$A:$E,5,FALSE))","v":""},null,null,"AR1:",{"$f":"IF(ISERROR(VLOOKUP(R51,審判員!$A:$C,2,FALSE))=TRUE,\"\",VLOOKUP(R51,審判員!$A:$C,2,FALSE))","v":"清家　大介"},null,{"$f":"IF(ISERROR(VLOOKUP(R51,審判員!$A:$C,3,FALSE))=TRUE,\"\",VLOOKUP(R51,審判員!$A:$C,3,FALSE))","v":"３級"},null,{"$f":"IF(ISERROR(VLOOKUP(CONCATENATE($V$34,\"_\",W52),選手名簿!$A:$E,5,FALSE))=TRUE,\"\",VLOOKUP(CONCATENATE($V$34,\"_\",W52),選手名簿!$A:$E,5,FALSE))","v":""},null,null,null,null,null,null,null,{"$f":"IF(ISERROR(VLOOKUP(CONCATENATE($AD$34,\"_\",AC52),選手名簿!$A:$E,5,FALSE))=TRUE,\"\",VLOOKUP(CONCATENATE($AD$34,\"_\",AC52),選手名簿!$A:$E,5,FALSE))","v":""}]
["番号","R005405255",null,null,null,{"$f":"IF(ISERROR(VLOOKUP(CONCATENATE($F$34,\"_\",G53),選手名簿!$A:$E,5,FALSE))=TRUE,\"\",VLOOKUP(CONCATENATE($F$34,\"_\",G53),選手名簿!$A:$E,5,FALSE))","v":""},null,null,null,null,null,null,null,{"$f":"IF(ISERROR(VLOOKUP(CONCATENATE($N$34,\"_\",M53),選手名簿!$A:$E,5,FALSE))=TRUE,\"\",VLOOKUP(CONCATENATE($N$34,\"_\",M53),選手名簿!$A:$E,5,FALSE))","v":""},null,null,"番号","R001256402",null,null,null,{"$f":"IF(ISERROR(VLOOKUP(CONCATENATE($V$34,\"_\",W53),選手名簿!$A:$E,5,FALSE))=TRUE,\"\",VLOOKUP(CONCATENATE($V$34,\"_\",W53),選手名簿!$A:$E,5,FALSE))","v":""},null,null,null,null,null,null,null,{"$f":"IF(ISERROR(VLOOKUP(CONCATENATE($AD$34,\"_\",AC53),選手名簿!$A:$E,5,FALSE))=TRUE,\"\",VLOOKUP(CONCATENATE($AD$34,\"_\",AC53),選手名簿!$A:$E,5,FALSE))","v":""}]
["AR2:",{"$f":"IF(ISERROR(VLOOKUP(B53,審判員!$A:$C,2,FALSE))=TRUE,\"\",VLOOKUP(B53,審判員!$A:$C,2,FALSE))","v":"小手川　朋輝"},null,{"$f":"IF(ISERROR(VLOOKUP(B53,審判員!$A:$C,3,FALSE))=TRUE,\"\",VLOOKUP(B53,審判員!$A:$C,3,FALSE))","v":"３級"},null,{"$f":"IF(ISERROR(VLOOKUP(CONCATENATE($F$34,\"_\",G54),選手名簿!$A:$E,5,FALSE))=TRUE,\"\",VLOOKUP(CONCATENATE($F$34,\"_\",G54),選手名簿!$A:$E,5,FALSE))","v":""},null,null,null,null,null,null,null,{"$f":"IF(ISERROR(VLOOKUP(CONCATENATE($N$34,\"_\",M54),選手名簿!$A:$E,5,FALSE))=TRUE,\"\",VLOOKUP(CONCATENATE($N$34,\"_\",M54),選手名簿!$A:$E,5,FALSE))","v":""},null,null,"AR2:",{"$f":"IF(ISERROR(VLOOKUP(R53,審判員!$A:$C,2,FALSE))=TRUE,\"\",VLOOKUP(R53,審判員!$A:$C,2,FALSE))","v":"小石川　悟"},null,{"$f":"IF(ISERROR(VLOOKUP(R53,審判員!$A:$C,3,FALSE))=TRUE,\"\",VLOOKUP(R53,審判員!$A:$C,3,FALSE))","v":"３級"},null,{"$f":"IF(ISERROR(VLOOKUP(CONCATENATE($V$34,\"_\",W54),選手名簿!$A:$E,5,FALSE))=TRUE,\"\",VLOOKUP(CONCATENATE($V$34,\"_\",W54),選手名簿!$A:$E,5,FALSE))","v":""},null,null,null,null,null,null,null,{"$f":"IF(ISERROR(VLOOKUP(CONCATENATE($AD$34,\"_\",AC54),選手名簿!$A:$E,5,FALSE))=TRUE,\"\",VLOOKUP(CONCATENATE($AD$34,\"_\",AC54),選手名簿!$A:$E,5,FALSE))","v":""}]
["番号","R001265428",null,null,null,{"$f":"IF(ISERROR(VLOOKUP(CONCATENATE($F$34,\"_\",G55),選手名簿!$A:$E,5,FALSE))=TRUE,\"\",VLOOKUP(CONCATENATE($F$34,\"_\",G55),選手名簿!$A:$E,5,FALSE))","v":""},null,null,null,null,null,null,null,{"$f":"IF(ISERROR(VLOOKUP(CONCATENATE($N$34,\"_\",M55),選手名簿!$A:$E,5,FALSE))=TRUE,\"\",VLOOKUP(CONCATENATE($N$34,\"_\",M55),選手名簿!$A:$E,5,FALSE))","v":""},null,null,"番号","R008798013",null,null,null,{"$f":"IF(ISERROR(VLOOKUP(CONCATENATE($V$34,\"_\",W55),選手名簿!$A:$E,5,FALSE))=TRUE,\"\",VLOOKUP(CONCATENATE($V$34,\"_\",W55),選手名簿!$A:$E,5,FALSE))","v":""},null,null,null,null,null,null,null,{"$f":"IF(ISERROR(VLOOKUP(CONCATENATE($AD$34,\"_\",AC55),選手名簿!$A:$E,5,FALSE))=TRUE,\"\",VLOOKUP(CONCATENATE($AD$34,\"_\",AC55),選手名簿!$A:$E,5,FALSE))","v":""}]
["4th:",{"$f":"IF(ISERROR(VLOOKUP(B55,審判員!$A:$C,2,FALSE))=TRUE,\"\",VLOOKUP(B55,審判員!$A:$C,2,FALSE))","v":"坪井　和幸"},null,{"$f":"IF(ISERROR(VLOOKUP(B55,審判員!$A:$C,3,FALSE))=TRUE,\"\",VLOOKUP(B55,審判員!$A:$C,3,FALSE))","v":"２級"},null,{"$f":"IF(ISERROR(VLOOKUP(CONCATENATE($F$34,\"_\",G56),選手名簿!$A:$E,5,FALSE))=TRUE,\"\",VLOOKUP(CONCATENATE($F$34,\"_\",G56),選手名簿!$A:$E,5,FALSE))","v":""},null,null,null,null,null,null,null,{"$f":"IF(ISERROR(VLOOKUP(CONCATENATE($N$34,\"_\",M56),選手名簿!$A:$E,5,FALSE))=TRUE,\"\",VLOOKUP(CONCATENATE($N$34,\"_\",M56),選手名簿!$A:$E,5,FALSE))","v":""},null,null,"4th:",{"$f":"IF(ISERROR(VLOOKUP(R55,審判員!$A:$C,2,FALSE))=TRUE,\"\",VLOOKUP(R55,審判員!$A:$C,2,FALSE))","v":"隅田　哲平"},null,{"$f":"IF(ISERROR(VLOOKUP(R55,審判員!$A:$C,3,FALSE))=TRUE,\"\",VLOOKUP(R55,審判員!$A:$C,3,FALSE))","v":"３級"},null,{"$f":"IF(ISERROR(VLOOKUP(CONCATENATE($V$34,\"_\",W56),選手名簿!$A:$E,5,FALSE))=TRUE,\"\",VLOOKUP(CONCATENATE($V$34,\"_\",W56),選手名簿!$A:$E,5,FALSE))","v":""},null,null,null,null,null,null,null,{"$f":"IF(ISERROR(VLOOKUP(CONCATENATE($AD$34,\"_\",AC56),選手名簿!$A:$E,5,FALSE))=TRUE,\"\",VLOOKUP(CONCATENATE($AD$34,\"_\",AC56),選手名簿!$A:$E,5,FALSE))","v":""}]
[]
[]
[]
[]
[null,"Match No：30",null,null,null,null,null,null,null,null,null,null,null,null,null,null,null,"Match No：32"]
["MC","榊　謙治",null,null,{"$f":"決勝トーナメント!T17","v":"11:10:00"},{"$f":"F6","v":"寒田少年サッカークラブ"},{"$f":"SUM(I62:I63)","v":0},"（",0,"前半",1,"）",{"$f":"SUM(K62:K63)","v":5},{"$f":"AD6","v":"日岡サッカースポーツ少年団"},null,null,"MC","伊東　雅弘",null,null,{"$f":"決勝トーナメント!T21","v":"12:00:00"},{"$f":"F34","v":"四日市南ＳＳＣ"},{"$f":"SUM(Y62:Y63)","v":2},"（",2,"前半",0,"）",{"$f":"SUM(AA62:AA63)","v":1},{"$f":"AD34","v":"スマイス　セレソン　スポーツクラブ"}]
["Welfare\nOfficer",null,null,null,null,null,null,null,0,"後半",4,null,null,null,null,null,"Welfare\nOfficer",null,null,null,null,null,null,null,0,"後半",1]
["記録","榊　謙治",null,null,null,null,null,null,null,"PK",null,null,null,null,null,null,"記録","伊東　雅弘",null,null,null,null,null,null,null,"PK"]
[null,null,null,null,null,"氏名","番号","分",null,null,null,"分","番号","氏名",null,null,null,null,null,null,null,"氏名","番号","分",null,null,null,"分","番号","氏名"]
[null,null,null,null,"得点者",{"$f":"IF(ISERROR(VLOOKUP(CONCATENATE($F$62,\"_\",G66),選手名簿!$A:$E,5,FALSE))=TRUE,\"\",VLOOKUP(CONCATENATE($F$62,\"_\",G66),選手名簿!$A:$E,5,FALSE))","v":""},null,null,null,null,null,null,null,{"$f":"IF(ISERROR(VLOOKUP(CONCATENATE($N$62,\"_\",M66),選手名簿!$A:$E,5,FALSE))=TRUE,\"\",VLOOKUP(CONCATENATE($N$62,\"_\",M66),選手名簿!$A:$E,5,FALSE))","v":""},null,null,null,null,null,null,"得点者",{"$f":"IF(ISERROR(VLOOKUP(CONCATENATE($V$62,\"_\",W66),選手名簿!$A:$E,5,FALSE))=TRUE,\"\",VLOOKUP(CONCATENATE($V$62,\"_\",W66),選手名簿!$A:$E,5,FALSE))","v":""},null,null,null,null,null,null,null,{"$f":"IF(ISERROR(VLOOKUP(CONCATENATE($AD$62,\"_\",AC66),選手名簿!$A:$E,5,FALSE))=TRUE,\"\",VLOOKUP(CONCATENATE($AD$62,\"_\",AC66),選手名簿!$A:$E,5,FALSE))","v":""}]
[null,null,null,null,"得点者",{"$f":"IF(ISERROR(VLOOKUP(CONCATENATE($F$62,\"_\",G67),選手名簿!$A:$E,5,FALSE))=TRUE,\"\",VLOOKUP(CONCATENATE($F$62,\"_\",G67),選手名簿!$A:$E,5,FALSE))","v":""},null,null,null,null,null,null,null,{"$f":"IF(ISERROR(VLOOKUP(CONCATENATE($N$62,\"_\",M67),選手名簿!$A:$E,5,FALSE))=TRUE,\"\",VLOOKUP(CONCATENATE($N$62,\"_\",M67),選手名簿!$A:$E,5,FALSE))","v":""},null,null,null,null,null,null,"得点者",{"$f":"IF(ISERROR(VLOOKUP(CONCATENATE($V$62,\"_\",W67),選手名簿!$A:$E,5,FALSE))=TRUE,\"\",VLOOKUP(CONCATENATE($V$62,\"_\",W67),選手名簿!$A:$E,5,FALSE))","v":""},null,null,null,null,null,null,null,{"$f":"IF(ISERROR(VLOOKUP(CONCATENATE($AD$62,\"_\",AC67),選手名簿!$A:$E,5,FALSE))=TRUE,\"\",VLOOKUP(CONCATENATE($AD$62,\"_\",AC67),選手名簿!$A:$E,5,FALSE))","v":""}]
[null,null,null,null,"得点者",{"$f":"IF(ISERROR(VLOOKUP(CONCATENATE($F$62,\"_\",G68),選手名簿!$A:$E,5,FALSE))=TRUE,\"\",VLOOKUP(CONCATENATE($F$62,\"_\",G68),選手名簿!$A:$E,5,FALSE))","v":""},null,null,null,null,null,null,null,{"$f":"IF(ISERROR(VLOOKUP(CONCATENATE($N$62,\"_\",M68),選手名簿!$A:$E,5,FALSE))=TRUE,\"\",VLOOKUP(CONCATENATE($N$62,\"_\",M68),選手名簿!$A:$E,5,FALSE))","v":""},null,null,null,null,null,null,"得点者",{"$f":"IF(ISERROR(VLOOKUP(CONCATENATE($V$62,\"_\",W68),選手名簿!$A:$E,5,FALSE))=TRUE,\"\",VLOOKUP(CONCATENATE($V$62,\"_\",W68),選手名簿!$A:$E,5,FALSE))","v":""},null,null,null,null,null,null,null,{"$f":"IF(ISERROR(VLOOKUP(CONCATENATE($AD$62,\"_\",AC68),選手名簿!$A:$E,5,FALSE))=TRUE,\"\",VLOOKUP(CONCATENATE($AD$62,\"_\",AC68),選手名簿!$A:$E,5,FALSE))","v":""}]
[null,null,null,null,"得点者",{"$f":"IF(ISERROR(VLOOKUP(CONCATENATE($F$62,\"_\",G69),選手名簿!$A:$E,5,FALSE))=TRUE,\"\",VLOOKUP(CONCATENATE($F$62,\"_\",G69),選手名簿!$A:$E,5,FALSE))","v":""},null,null,null,null,null,null,null,{"$f":"IF(ISERROR(VLOOKUP(CONCATENATE($N$62,\"_\",M69),選手名簿!$A:$E,5,FALSE))=TRUE,\"\",VLOOKUP(CONCATENATE($N$62,\"_\",M69),選手名簿!$A:$E,5,FALSE))","v":""},null,null,null,null,null,null,"得点者",{"$f":"IF(ISERROR(VLOOKUP(CONCATENATE($V$62,\"_\",W69),選手名簿!$A:$E,5,FALSE))=TRUE,\"\",VLOOKUP(CONCATENATE($V$62,\"_\",W69),選手名簿!$A:$E,5,FALSE))","v":""},null,null,null,null,null,null,null,{"$f":"IF(ISERROR(VLOOKUP(CONCATENATE($AD$62,\"_\",AC69),選手名簿!$A:$E,5,FALSE))=TRUE,\"\",VLOOKUP(CONCATENATE($AD$62,\"_\",AC69),選手名簿!$A:$E,5,FALSE))","v":""}]
[null,null,null,null,"得点者",{"$f":"IF(ISERROR(VLOOKUP(CONCATENATE($F$62,\"_\",G70),選手名簿!$A:$E,5,FALSE))=TRUE,\"\",VLOOKUP(CONCATENATE($F$62,\"_\",G70),選手名簿!$A:$E,5,FALSE))","v":""},null,null,null,null,null,null,null,{"$f":"IF(ISERROR(VLOOKUP(CONCATENATE($N$62,\"_\",M70),選手名簿!$A:$E,5,FALSE))=TRUE,\"\",VLOOKUP(CONCATENATE($N$62,\"_\",M70),選手名簿!$A:$E,5,FALSE))","v":""},null,null,null,null,null,null,"得点者",{"$f":"IF(ISERROR(VLOOKUP(CONCATENATE($V$62,\"_\",W70),選手名簿!$A:$E,5,FALSE))=TRUE,\"\",VLOOKUP(CONCATENATE($V$62,\"_\",W70),選手名簿!$A:$E,5,FALSE))","v":""},null,null,null,null,null,null,null,{"$f":"IF(ISERROR(VLOOKUP(CONCATENATE($AD$62,\"_\",AC70),選手名簿!$A:$E,5,FALSE))=TRUE,\"\",VLOOKUP(CONCATENATE($AD$62,\"_\",AC70),選手名簿!$A:$E,5,FALSE))","v":""}]
[null,null,null,null,"得点者",{"$f":"IF(ISERROR(VLOOKUP(CONCATENATE($F$62,\"_\",G71),選手名簿!$A:$E,5,FALSE))=TRUE,\"\",VLOOKUP(CONCATENATE($F$62,\"_\",G71),選手名簿!$A:$E,5,FALSE))","v":""},null,null,null,null,null,null,null,{"$f":"IF(ISERROR(VLOOKUP(CONCATENATE($N$62,\"_\",M71),選手名簿!$A:$E,5,FALSE))=TRUE,\"\",VLOOKUP(CONCATENATE($N$62,\"_\",M71),選手名簿!$A:$E,5,FALSE))","v":""},null,null,null,null,null,null,"得点者",{"$f":"IF(ISERROR(VLOOKUP(CONCATENATE($V$62,\"_\",W71),選手名簿!$A:$E,5,FALSE))=TRUE,\"\",VLOOKUP(CONCATENATE($V$62,\"_\",W71),選手名簿!$A:$E,5,FALSE))","v":""},null,null,null,null,null,null,null,{"$f":"IF(ISERROR(VLOOKUP(CONCATENATE($AD$62,\"_\",AC71),選手名簿!$A:$E,5,FALSE))=TRUE,\"\",VLOOKUP(CONCATENATE($AD$62,\"_\",AC71),選手名簿!$A:$E,5,FALSE))","v":""}]
[null,null,null,null,"得点者",{"$f":"IF(ISERROR(VLOOKUP(CONCATENATE($F$62,\"_\",G72),選手名簿!$A:$E,5,FALSE))=TRUE,\"\",VLOOKUP(CONCATENATE($F$62,\"_\",G72),選手名簿!$A:$E,5,FALSE))","v":""},null,null,null,null,null,null,null,{"$f":"IF(ISERROR(VLOOKUP(CONCATENATE($N$62,\"_\",M72),選手名簿!$A:$E,5,FALSE))=TRUE,\"\",VLOOKUP(CONCATENATE($N$62,\"_\",M72),選手名簿!$A:$E,5,FALSE))","v":""},null,null,null,null,null,null,"得点者",{"$f":"IF(ISERROR(VLOOKUP(CONCATENATE($V$62,\"_\",W72),選手名簿!$A:$E,5,FALSE))=TRUE,\"\",VLOOKUP(CONCATENATE($V$62,\"_\",W72),選手名簿!$A:$E,5,FALSE))","v":""},null,null,null,null,null,null,null,{"$f":"IF(ISERROR(VLOOKUP(CONCATENATE($AD$62,\"_\",AC72),選手名簿!$A:$E,5,FALSE))=TRUE,\"\",VLOOKUP(CONCATENATE($AD$62,\"_\",AC72),選手名簿!$A:$E,5,FALSE))","v":""}]
[null,null,null,null,"得点者",{"$f":"IF(ISERROR(VLOOKUP(CONCATENATE($F$62,\"_\",G73),選手名簿!$A:$E,5,FALSE))=TRUE,\"\",VLOOKUP(CONCATENATE($F$62,\"_\",G73),選手名簿!$A:$E,5,FALSE))","v":""},null,null,null,null,null,null,null,{"$f":"IF(ISERROR(VLOOKUP(CONCATENATE($N$62,\"_\",M73),選手名簿!$A:$E,5,FALSE))=TRUE,\"\",VLOOKUP(CONCATENATE($N$62,\"_\",M73),選手名簿!$A:$E,5,FALSE))","v":""},null,null,null,null,null,null,"得点者",{"$f":"IF(ISERROR(VLOOKUP(CONCATENATE($V$62,\"_\",W73),選手名簿!$A:$E,5,FALSE))=TRUE,\"\",VLOOKUP(CONCATENATE($V$62,\"_\",W73),選手名簿!$A:$E,5,FALSE))","v":""},null,null,null,null,null,null,null,{"$f":"IF(ISERROR(VLOOKUP(CONCATENATE($AD$62,\"_\",AC73),選手名簿!$A:$E,5,FALSE))=TRUE,\"\",VLOOKUP(CONCATENATE($AD$62,\"_\",AC73),選手名簿!$A:$E,5,FALSE))","v":""}]
[null,null,null,null,"得点者",{"$f":"IF(ISERROR(VLOOKUP(CONCATENATE($F$62,\"_\",G74),選手名簿!$A:$E,5,FALSE))=TRUE,\"\",VLOOKUP(CONCATENATE($F$62,\"_\",G74),選手名簿!$A:$E,5,FALSE))","v":""},null,null,null,null,null,null,null,{"$f":"IF(ISERROR(VLOOKUP(CONCATENATE($N$62,\"_\",M74),選手名簿!$A:$E,5,FALSE))=TRUE,\"\",VLOOKUP(CONCATENATE($N$62,\"_\",M74),選手名簿!$A:$E,5,FALSE))","v":""},null,null,null,null,null,null,"得点者",{"$f":"IF(ISERROR(VLOOKUP(CONCATENATE($V$62,\"_\",W74),選手名簿!$A:$E,5,FALSE))=TRUE,\"\",VLOOKUP(CONCATENATE($V$62,\"_\",W74),選手名簿!$A:$E,5,FALSE))","v":""},null,null,null,null,null,null,null,{"$f":"IF(ISERROR(VLOOKUP(CONCATENATE($AD$62,\"_\",AC74),選手名簿!$A:$E,5,FALSE))=TRUE,\"\",VLOOKUP(CONCATENATE($AD$62,\"_\",AC74),選手名簿!$A:$E,5,FALSE))","v":""}]
[null,null,null,null,"得点者",{"$f":"IF(ISERROR(VLOOKUP(CONCATENATE($F$62,\"_\",G75),選手名簿!$A:$E,5,FALSE))=TRUE,\"\",VLOOKUP(CONCATENATE($F$62,\"_\",G75),選手名簿!$A:$E,5,FALSE))","v":""},null,null,null,null,null,null,null,{"$f":"IF(ISERROR(VLOOKUP(CONCATENATE($N$62,\"_\",M75),選手名簿!$A:$E,5,FALSE))=TRUE,\"\",VLOOKUP(CONCATENATE($N$62,\"_\",M75),選手名簿!$A:$E,5,FALSE))","v":""},null,null,null,null,null,null,"得点者",{"$f":"IF(ISERROR(VLOOKUP(CONCATENATE($V$62,\"_\",W75),選手名簿!$A:$E,5,FALSE))=TRUE,\"\",VLOOKUP(CONCATENATE($V$62,\"_\",W75),選手名簿!$A:$E,5,FALSE))","v":""},null,null,null,null,null,null,null,{"$f":"IF(ISERROR(VLOOKUP(CONCATENATE($AD$62,\"_\",AC75),選手名簿!$A:$E,5,FALSE))=TRUE,\"\",VLOOKUP(CONCATENATE($AD$62,\"_\",AC75),選手名簿!$A:$E,5,FALSE))","v":""}]
["＜Referee＞",null,null,null,"警告/退場\n選択肢より","氏名","番号","分","内容\n選択肢より",null,"内容\n選択肢より","分","番号","氏名","警告/退場\n選択肢より",null,"＜Referee＞",null,null,null,"警告/退場\n選択肢より","氏名","番号","分","内容\n選択肢より",null,"内容\n選択肢より","分","番号","氏名","警告/退場\n選択肢より"]
["番号","R003972391",null,null,null,{"$f":"IF(ISERROR(VLOOKUP(CONCATENATE($F$62,\"_\",G77),選手名簿!$A:$E,5,FALSE))=TRUE,\"\",VLOOKUP(CONCATENATE($F$62,\"_\",G77),選手名簿!$A:$E,5,FALSE))","v":""},null,null,null,null,null,null,null,{"$f":"IF(ISERROR(VLOOKUP(CONCATENATE($N$62,\"_\",M77),選手名簿!$A:$E,5,FALSE))=TRUE,\"\",VLOOKUP(CONCATENATE($N$62,\"_\",M77),選手名簿!$A:$E,5,FALSE))","v":""},null,null,"番号","R001256402",null,null,null,{"$f":"IF(ISERROR(VLOOKUP(CONCATENATE($V$62,\"_\",W77),選手名簿!$A:$E,5,FALSE))=TRUE,\"\",VLOOKUP(CONCATENATE($V$62,\"_\",W77),選手名簿!$A:$E,5,FALSE))","v":""},null,null,null,null,null,null,null,{"$f":"IF(ISERROR(VLOOKUP(CONCATENATE($AD$62,\"_\",AC77),選手名簿!$A:$E,5,FALSE))=TRUE,\"\",VLOOKUP(CONCATENATE($AD$62,\"_\",AC77),選手名簿!$A:$E,5,FALSE))","v":""}]
["R",{"$f":"IF(ISERROR(VLOOKUP(B77,審判員!$A:$C,2,FALSE))=TRUE,\"\",VLOOKUP(B77,審判員!$A:$C,2,FALSE))","v":"朝比奈　義行"},null,{"$f":"IF(ISERROR(VLOOKUP(B77,審判員!$A:$C,3,FALSE))=TRUE,\"\",VLOOKUP(B77,審判員!$A:$C,3,FALSE))","v":"３級"},null,{"$f":"IF(ISERROR(VLOOKUP(CONCATENATE($F$62,\"_\",G78),選手名簿!$A:$E,5,FALSE))=TRUE,\"\",VLOOKUP(CONCATENATE($F$62,\"_\",G78),選手名簿!$A:$E,5,FALSE))","v":""},null,null,null,null,null,null,null,{"$f":"IF(ISERROR(VLOOKUP(CONCATENATE($N$62,\"_\",M78),選手名簿!$A:$E,5,FALSE))=TRUE,\"\",VLOOKUP(CONCATENATE($N$62,\"_\",M78),選手名簿!$A:$E,5,FALSE))","v":""},null,null,"R",{"$f":"IF(ISERROR(VLOOKUP(R77,審判員!$A:$C,2,FALSE))=TRUE,\"\",VLOOKUP(R77,審判員!$A:$C,2,FALSE))","v":"小石川　悟"},null,{"$f":"IF(ISERROR(VLOOKUP(R77,審判員!$A:$C,3,FALSE))=TRUE,\"\",VLOOKUP(R77,審判員!$A:$C,3,FALSE))","v":"３級"},null,{"$f":"IF(ISERROR(VLOOKUP(CONCATENATE($V$62,\"_\",W78),選手名簿!$A:$E,5,FALSE))=TRUE,\"\",VLOOKUP(CONCATENATE($V$62,\"_\",W78),選手名簿!$A:$E,5,FALSE))","v":""},null,null,null,null,null,null,null,{"$f":"IF(ISERROR(VLOOKUP(CONCATENATE($AD$62,\"_\",AC78),選手名簿!$A:$E,5,FALSE))=TRUE,\"\",VLOOKUP(CONCATENATE($AD$62,\"_\",AC78),選手名簿!$A:$E,5,FALSE))","v":""}]
["番号",null,null,null,null,{"$f":"IF(ISERROR(VLOOKUP(CONCATENATE($F$62,\"_\",G79),選手名簿!$A:$E,5,FALSE))=TRUE,\"\",VLOOKUP(CONCATENATE($F$62,\"_\",G79),選手名簿!$A:$E,5,FALSE))","v":""},null,null,null,null,null,null,null,{"$f":"IF(ISERROR(VLOOKUP(CONCATENATE($N$62,\"_\",M79),選手名簿!$A:$E,5,FALSE))=TRUE,\"\",VLOOKUP(CONCATENATE($N$62,\"_\",M79),選手名簿!$A:$E,5,FALSE))","v":""},null,null,"番号",null,null,null,null,{"$f":"IF(ISERROR(VLOOKUP(CONCATENATE($V$62,\"_\",W79),選手名簿!$A:$E,5,FALSE))=TRUE,\"\",VLOOKUP(CONCATENATE($V$62,\"_\",W79),選手名簿!$A:$E,5,FALSE))","v":""},null,null,null,null,null,null,null,{"$f":"IF(ISERROR(VLOOKUP(CONCATENATE($AD$62,\"_\",AC79),選手名簿!$A:$E,5,FALSE))=TRUE,\"\",VLOOKUP(CONCATENATE($AD$62,\"_\",AC79),選手名簿!$A:$E,5,FALSE))","v":""}]
["AR1:",{"$f":"IF(ISERROR(VLOOKUP(B79,審判員!$A:$C,2,FALSE))=TRUE,\"\",VLOOKUP(B79,審判員!$A:$C,2,FALSE))","v":""},null,{"$f":"IF(ISERROR(VLOOKUP(B79,審判員!$A:$C,3,FALSE))=TRUE,\"\",VLOOKUP(B79,審判員!$A:$C,3,FALSE))","v":""},null,{"$f":"IF(ISERROR(VLOOKUP(CONCATENATE($F$62,\"_\",G80),選手名簿!$A:$E,5,FALSE))=TRUE,\"\",VLOOKUP(CONCATENATE($F$62,\"_\",G80),選手名簿!$A:$E,5,FALSE))","v":""},null,null,null,null,null,null,null,{"$f":"IF(ISERROR(VLOOKUP(CONCATENATE($N$62,\"_\",M80),選手名簿!$A:$E,5,FALSE))=TRUE,\"\",VLOOKUP(CONCATENATE($N$62,\"_\",M80),選手名簿!$A:$E,5,FALSE))","v":""},null,null,"AR1:",{"$f":"IF(ISERROR(VLOOKUP(R79,審判員!$A:$C,2,FALSE))=TRUE,\"\",VLOOKUP(R79,審判員!$A:$C,2,FALSE))","v":""},null,{"$f":"IF(ISERROR(VLOOKUP(R79,審判員!$A:$C,3,FALSE))=TRUE,\"\",VLOOKUP(R79,審判員!$A:$C,3,FALSE))","v":""},null,{"$f":"IF(ISERROR(VLOOKUP(CONCATENATE($V$62,\"_\",W80),選手名簿!$A:$E,5,FALSE))=TRUE,\"\",VLOOKUP(CONCATENATE($V$62,\"_\",W80),選手名簿!$A:$E,5,FALSE))","v":""},null,null,null,null,null,null,null,{"$f":"IF(ISERROR(VLOOKUP(CONCATENATE($AD$62,\"_\",AC80),選手名簿!$A:$E,5,FALSE))=TRUE,\"\",VLOOKUP(CONCATENATE($AD$62,\"_\",AC80),選手名簿!$A:$E,5,FALSE))","v":""}]
["番号",null,null,null,null,{"$f":"IF(ISERROR(VLOOKUP(CONCATENATE($F$62,\"_\",G81),選手名簿!$A:$E,5,FALSE))=TRUE,\"\",VLOOKUP(CONCATENATE($F$62,\"_\",G81),選手名簿!$A:$E,5,FALSE))","v":""},null,null,null,null,null,null,null,{"$f":"IF(ISERROR(VLOOKUP(CONCATENATE($N$62,\"_\",M81),選手名簿!$A:$E,5,FALSE))=TRUE,\"\",VLOOKUP(CONCATENATE($N$62,\"_\",M81),選手名簿!$A:$E,5,FALSE))","v":""},null,null,"番号",null,null,null,null,{"$f":"IF(ISERROR(VLOOKUP(CONCATENATE($V$62,\"_\",W81),選手名簿!$A:$E,5,FALSE))=TRUE,\"\",VLOOKUP(CONCATENATE($V$62,\"_\",W81),選手名簿!$A:$E,5,FALSE))","v":""},null,null,null,null,null,null,null,{"$f":"IF(ISERROR(VLOOKUP(CONCATENATE($AD$62,\"_\",AC81),選手名簿!$A:$E,5,FALSE))=TRUE,\"\",VLOOKUP(CONCATENATE($AD$62,\"_\",AC81),選手名簿!$A:$E,5,FALSE))","v":""}]
["AR2:",{"$f":"IF(ISERROR(VLOOKUP(B81,審判員!$A:$C,2,FALSE))=TRUE,\"\",VLOOKUP(B81,審判員!$A:$C,2,FALSE))","v":""},null,{"$f":"IF(ISERROR(VLOOKUP(B81,審判員!$A:$C,3,FALSE))=TRUE,\"\",VLOOKUP(B81,審判員!$A:$C,3,FALSE))","v":""},null,{"$f":"IF(ISERROR(VLOOKUP(CONCATENATE($F$62,\"_\",G82),選手名簿!$A:$E,5,FALSE))=TRUE,\"\",VLOOKUP(CONCATENATE($F$62,\"_\",G82),選手名簿!$A:$E,5,FALSE))","v":""},null,null,null,null,null,null,null,{"$f":"IF(ISERROR(VLOOKUP(CONCATENATE($N$62,\"_\",M82),選手名簿!$A:$E,5,FALSE))=TRUE,\"\",VLOOKUP(CONCATENATE($N$62,\"_\",M82),選手名簿!$A:$E,5,FALSE))","v":""},null,null,"AR2:",{"$f":"IF(ISERROR(VLOOKUP(R81,審判員!$A:$C,2,FALSE))=TRUE,\"\",VLOOKUP(R81,審判員!$A:$C,2,FALSE))","v":""},null,{"$f":"IF(ISERROR(VLOOKUP(R81,審判員!$A:$C,3,FALSE))=TRUE,\"\",VLOOKUP(R81,審判員!$A:$C,3,FALSE))","v":""},null,{"$f":"IF(ISERROR(VLOOKUP(CONCATENATE($V$62,\"_\",W82),選手名簿!$A:$E,5,FALSE))=TRUE,\"\",VLOOKUP(CONCATENATE($V$62,\"_\",W82),選手名簿!$A:$E,5,FALSE))","v":""},null,null,null,null,null,null,null,{"$f":"IF(ISERROR(VLOOKUP(CONCATENATE($AD$62,\"_\",AC82),選手名簿!$A:$E,5,FALSE))=TRUE,\"\",VLOOKUP(CONCATENATE($AD$62,\"_\",AC82),選手名簿!$A:$E,5,FALSE))","v":""}]
["番号",null,null,null,null,{"$f":"IF(ISERROR(VLOOKUP(CONCATENATE($F$62,\"_\",G83),選手名簿!$A:$E,5,FALSE))=TRUE,\"\",VLOOKUP(CONCATENATE($F$62,\"_\",G83),選手名簿!$A:$E,5,FALSE))","v":""},null,null,null,null,null,null,null,{"$f":"IF(ISERROR(VLOOKUP(CONCATENATE($N$62,\"_\",M83),選手名簿!$A:$E,5,FALSE))=TRUE,\"\",VLOOKUP(CONCATENATE($N$62,\"_\",M83),選手名簿!$A:$E,5,FALSE))","v":""},null,null,"番号",null,null,null,null,{"$f":"IF(ISERROR(VLOOKUP(CONCATENATE($V$62,\"_\",W83),選手名簿!$A:$E,5,FALSE))=TRUE,\"\",VLOOKUP(CONCATENATE($V$62,\"_\",W83),選手名簿!$A:$E,5,FALSE))","v":""},null,null,null,null,null,null,null,{"$f":"IF(ISERROR(VLOOKUP(CONCATENATE($AD$62,\"_\",AC83),選手名簿!$A:$E,5,FALSE))=TRUE,\"\",VLOOKUP(CONCATENATE($AD$62,\"_\",AC83),選手名簿!$A:$E,5,FALSE))","v":""}]
["4th:",{"$f":"IF(ISERROR(VLOOKUP(B83,審判員!$A:$C,2,FALSE))=TRUE,\"\",VLOOKUP(B83,審判員!$A:$C,2,FALSE))","v":""},null,{"$f":"IF(ISERROR(VLOOKUP(B83,審判員!$A:$C,3,FALSE))=TRUE,\"\",VLOOKUP(B83,審判員!$A:$C,3,FALSE))","v":""},null,{"$f":"IF(ISERROR(VLOOKUP(CONCATENATE($F$62,\"_\",G84),選手名簿!$A:$E,5,FALSE))=TRUE,\"\",VLOOKUP(CONCATENATE($F$62,\"_\",G84),選手名簿!$A:$E,5,FALSE))","v":""},null,null,null,null,null,null,null,{"$f":"IF(ISERROR(VLOOKUP(CONCATENATE($N$62,\"_\",M84),選手名簿!$A:$E,5,FALSE))=TRUE,\"\",VLOOKUP(CONCATENATE($N$62,\"_\",M84),選手名簿!$A:$E,5,FALSE))","v":""},null,null,"4th:",{"$f":"IF(ISERROR(VLOOKUP(R83,審判員!$A:$C,2,FALSE))=TRUE,\"\",VLOOKUP(R83,審判員!$A:$C,2,FALSE))","v":""},null,{"$f":"IF(ISERROR(VLOOKUP(R83,審判員!$A:$C,3,FALSE))=TRUE,\"\",VLOOKUP(R83,審判員!$A:$C,3,FALSE))","v":""},null,{"$f":"IF(ISERROR(VLOOKUP(CONCATENATE($V$62,\"_\",W84),選手名簿!$A:$E,5,FALSE))=TRUE,\"\",VLOOKUP(CONCATENATE($V$62,\"_\",W84),選手名簿!$A:$E,5,FALSE))","v":""},null,null,null,null,null,null,null,{"$f":"IF(ISERROR(VLOOKUP(CONCATENATE($AD$62,\"_\",AC84),選手名簿!$A:$E,5,FALSE))=TRUE,\"\",VLOOKUP(CONCATENATE($AD$62,\"_\",AC84),選手名簿!$A:$E,5,FALSE))","v":""}]

{"sheet":"準決勝公式記録No,29","index":14,"n_rows":71,"n_cols":51,"rows_kept":71,"cut":false,"hidden":false,"merged":[[1,28,2,29],[1,31,1,35],[2,0,2,1],[2,14,2,15],[2,16,2,17],[2,18,2,26],[2,31,2,35],[0,0,0,5],[0,6,0,9],[0,10,0,11],[1,0,1,1],[1,2,3,13],[1,15,1,16],[3,0,3,1],[3,14,3,15],[3,16,3,17],[3,18,3,26],[3,28,3,29],[5,18,5,19],[5,21,5,25],[5,26,5,30],[3,31,3,35],[4,0,4,1],[4,2,6,8],[4,11,4,12],[4,18,4,19],[5,0,5,1],[5,11,5,12],[5,13,5,14],[6,0,6,1],[6,11,6,12],[5,31,5,35],[6,13,6,14],[6,18,6,19],[6,26,6,30],[7,20,11,20],[7,21,7,23],[9,12,9,14],[9,17,9,18],[8,11,8,14],[8,17,8,18],[8,22,8,31],[9,21,9,23],[7,0,7,2],[7,11,7,14],[7,15,11,15],[7,17,7,18],[10,13,10,14],[10,11,10,12],[11,17,11,18],[13,41,13,42],[10,17,10,18],[10,21,10,22],[10,23,10,24],[8,32,8,35],[7,32,7,35],[8,1,8,10],[14,0,14,1],[14,2,14,3],[14,4,14,5],[14,6,14,7],[14,8,14,9],[14,26,14,27],[14,28,14,29],[12,41,12,42],[13,0,13,1],[13,2,13,3],[13,4,13,5],[13,6,13,7],[13,8,13,9],[13,17,13,18],[13,26,13,27],[13,28,13,29],[13,30,13,31],[12,2,12,9],[14,30,14,31],[14,32,14,33],[14,34,14,35],[12,26,12,33],[15,11,15,15],[15,20,15,24],[16,11,16,15],[16,20,16,24],[13,32,13,33],[13,34,13,35],[20,11,20,15],[20,20,20,24],[21,11,21,15],[21,20,21,24],[22,11,22,15],[22,20,22,24],[17,11,17,15],[17,20,17,24],[18,11,18,15],[18,20,18,24],[19,11,19,15],[19,20,19,24],[27,11,27,15],[27,20,27,24],[28,11,28,15],[28,20,28,24],[29,11,29,15],[29,20,29,24],[23,16,23,19],[24,11,24,15],[24,20,24,24],[25,11,25,15],[25,20,25,24],[26,11,26,15],[26,20,26,24],[30,11,30,15],[30,20,30,24],[31,11,31,15],[31,20,31,24],[35,20,36,26],[35,27,36,27],[32,11,32,15],[32,20,32,24],[33,11,33,15],[33,20,33,24],[35,10,36,16],[35,17,35,18],[38,4,38,8],[38,12,38,16],[38,22,38,26],[34,11,34,15],[34,17,34,18],[34,20,34,24],[38,30,38,34],[39,4,39,8],[39,12,39,16],[39,22,39,26],[39,30,39,34],[35,28,36,34],[36,17,36,18],[37,4,37,8],[37,12,37,16],[37,22,37,26],[37,30,37,34],[35,2,36,8],[35,9,36,9],[40,4,40,8],[40,12,40,16],[40,22,40,26],[40,30,40,34],[43,30,43,34],[44,4,44,8],[44,12,44,16],[44,22,44,26],[44,30,44,34],[41,4,41,8],[41,12,41,16],[41,22,41,26],[41,30,41,34],[42,4,42,8],[42,12,42,16],[42,22,42,26],[42,30,42,34],[45,0,45,6],[45,7,45,8],[45,9,45,10],[45,11,45,12],[45,13,45,14],[45,15,45,16],[43,4,43,8],[43,12,43,16],[43,22,43,26],[45,29,45,35],[46,7,46,8],[46,9,46,10],[46,11,46,12],[46,13,46,14],[46,15,46,16],[46,19,46,20],[46,21,46,22],[46,23,46,24],[46,25,46,26],[45,17,45,18],[45,19,45,20],[45,21,45,22],[45,23,45,24],[45,25,45,26],[45,27,45,28],[46,27,46,28],[49,25,49,26],[47,27,47,28],[48,7,48,8],[48,9,48,10],[48,11,48,12],[48,13,48,14],[48,15,48,16],[48,19,48,20],[48,21,48,22],[48,23,48,24],[48,25,48,26],[48,27,48,28],[47,7,47,8],[47,9,47,10],[47,11,47,12],[47,13,47,14],[47,15,47,16],[47,19,47,20],[47,21,47,22],[47,23,47,24],[47,25,47,26],[51,0,51,2],[51,3,51,4],[51,5,51,17],[51,18,51,20],[51,21,51,22],[51,23,51,35],[49,27,49,28],[50,7,50,8],[50,9,50,10],[50,11,50,12],[50,13,50,14],[50,15,50,16],[50,19,50,20],[50,21,50,22],[50,23,50,24],[50,25,50,26],[49,7,49,8],[49,9,49,10],[49,11,49,12],[49,13,49,14],[49,15,49,16],[49,19,49,20],[49,21,49,22],[49,23,49,24],[52,3,52,4],[52,5,52,17],[52,21,52,22],[52,23,52,35],[53,3,53,4],[53,5,53,17],[53,21,53,22],[53,23,53,35],[50,27,50,28],[56,3,56,4],[56,5,56,17],[56,21,56,22],[56,23,56,35],[57,3,57,4],[57,5,57,17],[57,21,57,22],[57,23,57,35],[54,3,54,4],[54,5,54,17],[54,21,54,22],[54,23,54,35],[55,3,55,4],[55,5,55,17],[55,21,55,22],[55,23,55,35],[69,13,69,19],[69,20,69,26],[69,27,69,35],[70,13,72,19],[70,20,72,26],[70,27,72,35],[58,29,58,30],[60,0,60,3],[60,5,60,9],[60,12,60,16],[60,18,60,33],[61,0,67,35],[58,3,58,5],[58,7,58,8],[58,11,58,13],[58,16,58,17],[58,20,58,21],[58,24,58,26],[69,6,69,12],[70,6,72,12]]}
["公式記録",null,null,null,null,null,"Match No：",null,null,null,29]
["大",null,"OFA 第31回 \n大分県ジュニアサッカー選手権大会\n大分県大会",null,null,null,null,null,null,null,null,null,null,null,"第",2,null,"日",null,null,null,null,null,null,null,null,null,"競技","30分",null,"記"]
["会",null,null,null,null,null,null,null,null,null,null,null,null,null,"1回戦",null,"2回戦",null,"令和元年　12月8日（日）",null,null,null,null,null,null,null,null,"時間",null,null,"録","戸髙　博秋"]
["名",null,null,null,null,null,null,null,null,null,null,null,null,null,"準決勝",null,"決勝",null,"試合開始　11時10分～",null,null,null,null,null,null,null,null,"延長","6分",null,"者","市原　宗久"]
["会",null,"大分県大分スポーツ公園\n昭和電工サッカー・ラグビー場\nＡコート　北側",null,null,null,null,null,null,"天","晴","風",null,"強","弱","無","芝","状","良好",null,"審","主審",null,null,null,null,"副審",null,null,null,null,"第4の審判員"]
[null,null,null,null,null,null,null,null,null,null,"曇","気温",null,11,null,"℃",null,null,"不良",null,null,"幸　壮一郎",null,null,null,null,"柳元　哲哉",null,null,null,null,"大本　敏行"]
["場",null,null,null,null,null,null,null,null,"候","雨","湿度",null,48,null,"％","土","態","泥沼",null,"判",null,null,null,null,null,"矢羽田　崇"]
["【チーム名】",null,null,null,null,null,null,null,null,null,null,null,null,null,null,0,0,"前半",null,0,0,"【チーム名】"]
[null,{"$f":"+AR13","v":"スマイス・セレソン"},null,null,null,null,null,null,null,null,null,{"$f":"AR14","v":"別府市"},null,null,null,null,0,"後半",null,0,null,null,{"$f":"+AY13","v":"カティオーラフットボールクラブＵ－１２"},null,null,null,null,null,null,null,null,null,{"$f":"AY14","v":"大分市"}]
[null,null,null,null,null,null,null,null,null,null,null,null,"kick off",null,null,null,0,"延前",null,0,null,"kick off"]
[null,null,null,null,null,null,null,9,1,10,7,"番号",null,"PK",null,null,0,"延後",null,0,null,"PK",null,"番号",null,10,8,9,5]
[null,null,null,null,null,null,null,"○","○","○","○","○","×","先","後",null,4,"ＰＫ戦",null,3,null,"先","後","○","×","○","○","○","×"]
[null,null,"シュート（得点者は○印）",null,null,null,null,null,null,null,"学",null,null,null,null,null,"番",null,null,"番",null,null,null,null,null,"学","シュート（得点者は○印）",null,null,null,null,null,null,null,null,null,null,null,null,null,null,"チーム名",null,"スマイス・セレソン",null,null,null,null,null,"チーム名","カティオーラフットボールクラブＵ－１２"]
["合",null,"延",null,"延",null,"後",null,"前",null,null,null,"選","手","名",null,null,"位置",null,null,null,"選","手","名",null,null,"前",null,"後",null,"延",null,"延",null,"合",null,null,null,null,null,null,"地区名",null,"別府市",null,null,null,null,null,"地区名","大分市"]
["計",null,"後",null,"前",null,"半",null,"半",null,"年",null,null,null,null,null,"号",null,null,"号",null,null,null,null,null,"年","半",null,"半",null,"前",null,"後",null,"計"]
[null,{"$f":"SUM(D16,F16,H16,J16)","v":0},null,null,null,null,null,null,null,null,{"$f":"IF(ISERROR(VLOOKUP(CONCATENATE($B$9,\"_\",Q16),選手名簿!$A:$G,7,FALSE))=TRUE,\"\",VLOOKUP(CONCATENATE($B$9,\"_\",Q16),選手名簿!$A:$G,7,FALSE))","v":5},{"$f":"IF(ISERROR(VLOOKUP(CONCATENATE($B$9,\"_\",Q16),選手名簿!$A:$E,5,FALSE))=TRUE,\"\",VLOOKUP(CONCATENATE($B$9,\"_\",Q16),選手名簿!$A:$E,5,FALSE))","v":"望月　翔太"},null,null,null,null,16,{"$f":"IF(ISERROR(VLOOKUP(CONCATENATE($B$9,\"_\",Q16),選手名簿!$A:$E,4,FALSE))=TRUE,\"\",VLOOKUP(CONCATENATE($B$9,\"_\",Q16),選手名簿!$A:$E,4,FALSE))","v":"GK"},{"$f":"IF(ISERROR(VLOOKUP(CONCATENATE($W$9,\"_\",T16),選手名簿!$A:$E,4,FALSE))=TRUE,\"\",VLOOKUP(CONCATENATE($W$9,\"_\",T16),選手名簿!$A:$E,4,FALSE))","v":"GK"},1,{"$f":"IF(ISERROR(VLOOKUP(CONCATENATE($W$9,\"_\",T16),選手名簿!$A:$E,5,FALSE))=TRUE,\"\",VLOOKUP(CONCATENATE($W$9,\"_\",T16),選手名簿!$A:$E,5,FALSE))","v":"浜小路　大智"},null,null,null,null,{"$f":"IF(ISERROR(VLOOKUP(CONCATENATE($W$9,\"_\",T16),選手名簿!$A:$G,7,FALSE))=TRUE,\"\",VLOOKUP(CONCATENATE($W$9,\"_\",T16),選手名簿!$A:$G,7,FALSE))","v":4},null,null,null,null,null,null,null,null,null,{"$f":"SUM(AB16,AD16,AF16,AH16)","v":0}]
[null,6,null,2,null,null,null,3,null,1,{"$f":"IF(ISERROR(VLOOKUP(CONCATENATE($B$9,\"_\",Q17),選手名簿!$A:$G,7,FALSE))=TRUE,\"\",VLOOKUP(CONCATENATE($B$9,\"_\",Q17),選手名簿!$A:$G,7,FALSE))","v":5},{"$f":"IF(ISERROR(VLOOKUP(CONCATENATE($B$9,\"_\",Q17),選手名簿!$A:$E,5,FALSE))=TRUE,\"\",VLOOKUP(CONCATENATE($B$9,\"_\",Q17),選手名簿!$A:$E,5,FALSE))","v":"原田　煌也"},null,null,null,null,1,{"$f":"IF(ISERROR(VLOOKUP(CONCATENATE($B$9,\"_\",Q17),選手名簿!$A:$E,4,FALSE))=TRUE,\"\",VLOOKUP(CONCATENATE($B$9,\"_\",Q17),選手名簿!$A:$E,4,FALSE))","v":"DF"},{"$f":"IF(ISERROR(VLOOKUP(CONCATENATE($W$9,\"_\",T17),選手名簿!$A:$E,4,FALSE))=TRUE,\"\",VLOOKUP(CONCATENATE($W$9,\"_\",T17),選手名簿!$A:$E,4,FALSE))","v":"DF"},4,{"$f":"IF(ISERROR(VLOOKUP(CONCATENATE($W$9,\"_\",T17),選手名簿!$A:$E,5,FALSE))=TRUE,\"\",VLOOKUP(CONCATENATE($W$9,\"_\",T17),選手名簿!$A:$E,5,FALSE))","v":"白岩　裕晟"},null,null,null,null,{"$f":"IF(ISERROR(VLOOKUP(CONCATENATE($W$9,\"_\",T17),選手名簿!$A:$G,7,FALSE))=TRUE,\"\",VLOOKUP(CONCATENATE($W$9,\"_\",T17),選手名簿!$A:$G,7,FALSE))","v":5},null,null,null,1,null,null,null,null,null,1]
[null,0,null,null,null,null,null,null,null,null,{"$f":"IF(ISERROR(VLOOKUP(CONCATENATE($B$9,\"_\",Q18),選手名簿!$A:$G,7,FALSE))=TRUE,\"\",VLOOKUP(CONCATENATE($B$9,\"_\",Q18),選手名簿!$A:$G,7,FALSE))","v":5},{"$f":"IF(ISERROR(VLOOKUP(CONCATENATE($B$9,\"_\",Q18),選手名簿!$A:$E,5,FALSE))=TRUE,\"\",VLOOKUP(CONCATENATE($B$9,\"_\",Q18),選手名簿!$A:$E,5,FALSE))","v":"桐村　虎夢"},null,null,null,null,4,{"$f":"IF(ISERROR(VLOOKUP(CONCATENATE($B$9,\"_\",Q18),選手名簿!$A:$E,4,FALSE))=TRUE,\"\",VLOOKUP(CONCATENATE($B$9,\"_\",Q18),選手名簿!$A:$E,4,FALSE))","v":"DF"},{"$f":"IF(ISERROR(VLOOKUP(CONCATENATE($W$9,\"_\",T18),選手名簿!$A:$E,4,FALSE))=TRUE,\"\",VLOOKUP(CONCATENATE($W$9,\"_\",T18),選手名簿!$A:$E,4,FALSE))","v":"DF"},5,{"$f":"IF(ISERROR(VLOOKUP(CONCATENATE($W$9,\"_\",T18),選手名簿!$A:$E,5,FALSE))=TRUE,\"\",VLOOKUP(CONCATENATE($W$9,\"_\",T18),選手名簿!$A:$E,5,FALSE))","v":"野尻　憲慎"},null,null,null,null,{"$f":"IF(ISERROR(VLOOKUP(CONCATENATE($W$9,\"_\",T18),選手名簿!$A:$G,7,FALSE))=TRUE,\"\",VLOOKUP(CONCATENATE($W$9,\"_\",T18),選手名簿!$A:$G,7,FALSE))","v":5},null,null,null,null,null,null,null,null,null,0]
[null,0,null,null,null,null,null,null,null,null,{"$f":"IF(ISERROR(VLOOKUP(CONCATENATE($B$9,\"_\",Q19),選手名簿!$A:$G,7,FALSE))=TRUE,\"\",VLOOKUP(CONCATENATE($B$9,\"_\",Q19),選手名簿!$A:$G,7,FALSE))","v":5},{"$f":"IF(ISERROR(VLOOKUP(CONCATENATE($B$9,\"_\",Q19),選手名簿!$A:$E,5,FALSE))=TRUE,\"\",VLOOKUP(CONCATENATE($B$9,\"_\",Q19),選手名簿!$A:$E,5,FALSE))","v":"宮崎　海迅"},null,null,null,null,5,{"$f":"IF(ISERROR(VLOOKUP(CONCATENATE($B$9,\"_\",Q19),選手名簿!$A:$E,4,FALSE))=TRUE,\"\",VLOOKUP(CONCATENATE($B$9,\"_\",Q19),選手名簿!$A:$E,4,FALSE))","v":"DF"},{"$f":"IF(ISERROR(VLOOKUP(CONCATENATE($W$9,\"_\",T19),選手名簿!$A:$E,4,FALSE))=TRUE,\"\",VLOOKUP(CONCATENATE($W$9,\"_\",T19),選手名簿!$A:$E,4,FALSE))","v":"MF"},7,{"$f":"IF(ISERROR(VLOOKUP(CONCATENATE($W$9,\"_\",T19),選手名簿!$A:$E,5,FALSE))=TRUE,\"\",VLOOKUP(CONCATENATE($W$9,\"_\",T19),選手名簿!$A:$E,5,FALSE))","v":"軸丸　生己"},null,null,null,null,{"$f":"IF(ISERROR(VLOOKUP(CONCATENATE($W$9,\"_\",T19),選手名簿!$A:$G,7,FALSE))=TRUE,\"\",VLOOKUP(CONCATENATE($W$9,\"_\",T19),選手名簿!$A:$G,7,FALSE))","v":5},null,null,null,null,null,2,null,null,null,2]
[null,1,null,null,null,null,null,null,null,1,{"$f":"IF(ISERROR(VLOOKUP(CONCATENATE($B$9,\"_\",Q20),選手名簿!$A:$G,7,FALSE))=TRUE,\"\",VLOOKUP(CONCATENATE($B$9,\"_\",Q20),選手名簿!$A:$G,7,FALSE))","v":5},{"$f":"IF(ISERROR(VLOOKUP(CONCATENATE($B$9,\"_\",Q20),選手名簿!$A:$E,5,FALSE))=TRUE,\"\",VLOOKUP(CONCATENATE($B$9,\"_\",Q20),選手名簿!$A:$E,5,FALSE))","v":"横田　啓"},null,null,null,null,7,{"$f":"IF(ISERROR(VLOOKUP(CONCATENATE($B$9,\"_\",Q20),選手名簿!$A:$E,4,FALSE))=TRUE,\"\",VLOOKUP(CONCATENATE($B$9,\"_\",Q20),選手名簿!$A:$E,4,FALSE))","v":"MF"},{"$f":"IF(ISERROR(VLOOKUP(CONCATENATE($W$9,\"_\",T20),選手名簿!$A:$E,4,FALSE))=TRUE,\"\",VLOOKUP(CONCATENATE($W$9,\"_\",T20),選手名簿!$A:$E,4,FALSE))","v":"MF"},8,{"$f":"IF(ISERROR(VLOOKUP(CONCATENATE($W$9,\"_\",T20),選手名簿!$A:$E,5,FALSE))=TRUE,\"\",VLOOKUP(CONCATENATE($W$9,\"_\",T20),選手名簿!$A:$E,5,FALSE))","v":"花宮　蓮"},null,null,null,null,{"$f":"IF(ISERROR(VLOOKUP(CONCATENATE($W$9,\"_\",T20),選手名簿!$A:$G,7,FALSE))=TRUE,\"\",VLOOKUP(CONCATENATE($W$9,\"_\",T20),選手名簿!$A:$G,7,FALSE))","v":5},null,null,null,null,null,null,null,1,null,1]
[null,2,null,null,null,null,null,null,null,2,{"$f":"IF(ISERROR(VLOOKUP(CONCATENATE($B$9,\"_\",Q21),選手名簿!$A:$G,7,FALSE))=TRUE,\"\",VLOOKUP(CONCATENATE($B$9,\"_\",Q21),選手名簿!$A:$G,7,FALSE))","v":5},{"$f":"IF(ISERROR(VLOOKUP(CONCATENATE($B$9,\"_\",Q21),選手名簿!$A:$E,5,FALSE))=TRUE,\"\",VLOOKUP(CONCATENATE($B$9,\"_\",Q21),選手名簿!$A:$E,5,FALSE))","v":"佐々木　大和"},null,null,null,null,10,{"$f":"IF(ISERROR(VLOOKUP(CONCATENATE($B$9,\"_\",Q21),選手名簿!$A:$E,4,FALSE))=TRUE,\"\",VLOOKUP(CONCATENATE($B$9,\"_\",Q21),選手名簿!$A:$E,4,FALSE))","v":"MF"},{"$f":"IF(ISERROR(VLOOKUP(CONCATENATE($W$9,\"_\",T21),選手名簿!$A:$E,4,FALSE))=TRUE,\"\",VLOOKUP(CONCATENATE($W$9,\"_\",T21),選手名簿!$A:$E,4,FALSE))","v":"MF"},10,{"$f":"IF(ISERROR(VLOOKUP(CONCATENATE($W$9,\"_\",T21),選手名簿!$A:$E,5,FALSE))=TRUE,\"\",VLOOKUP(CONCATENATE($W$9,\"_\",T21),選手名簿!$A:$E,5,FALSE))","v":"渡辺　碧海"},null,null,null,null,{"$f":"IF(ISERROR(VLOOKUP(CONCATENATE($W$9,\"_\",T21),選手名簿!$A:$G,7,FALSE))=TRUE,\"\",VLOOKUP(CONCATENATE($W$9,\"_\",T21),選手名簿!$A:$G,7,FALSE))","v":5},null,null,null,1,null,null,null,null,null,1]
[null,0,null,null,null,null,null,null,null,null,{"$f":"IF(ISERROR(VLOOKUP(CONCATENATE($B$9,\"_\",Q22),選手名簿!$A:$G,7,FALSE))=TRUE,\"\",VLOOKUP(CONCATENATE($B$9,\"_\",Q22),選手名簿!$A:$G,7,FALSE))","v":5},{"$f":"IF(ISERROR(VLOOKUP(CONCATENATE($B$9,\"_\",Q22),選手名簿!$A:$E,5,FALSE))=TRUE,\"\",VLOOKUP(CONCATENATE($B$9,\"_\",Q22),選手名簿!$A:$E,5,FALSE))","v":"安部　颯"},null,null,null,null,9,{"$f":"IF(ISERROR(VLOOKUP(CONCATENATE($B$9,\"_\",Q22),選手名簿!$A:$E,4,FALSE))=TRUE,\"\",VLOOKUP(CONCATENATE($B$9,\"_\",Q22),選手名簿!$A:$E,4,FALSE))","v":"FW"},{"$f":"IF(ISERROR(VLOOKUP(CONCATENATE($W$9,\"_\",T22),選手名簿!$A:$E,4,FALSE))=TRUE,\"\",VLOOKUP(CONCATENATE($W$9,\"_\",T22),選手名簿!$A:$E,4,FALSE))","v":"MF"},13,{"$f":"IF(ISERROR(VLOOKUP(CONCATENATE($W$9,\"_\",T22),選手名簿!$A:$E,5,FALSE))=TRUE,\"\",VLOOKUP(CONCATENATE($W$9,\"_\",T22),選手名簿!$A:$E,5,FALSE))","v":"尼崎　琉太"},null,null,null,null,{"$f":"IF(ISERROR(VLOOKUP(CONCATENATE($W$9,\"_\",T22),選手名簿!$A:$G,7,FALSE))=TRUE,\"\",VLOOKUP(CONCATENATE($W$9,\"_\",T22),選手名簿!$A:$G,7,FALSE))","v":4},null,null,null,null,null,null,null,null,null,0]
[null,0,null,null,null,null,null,null,null,null,{"$f":"IF(ISERROR(VLOOKUP(CONCATENATE($B$9,\"_\",Q23),選手名簿!$A:$G,7,FALSE))=TRUE,\"\",VLOOKUP(CONCATENATE($B$9,\"_\",Q23),選手名簿!$A:$G,7,FALSE))","v":4},{"$f":"IF(ISERROR(VLOOKUP(CONCATENATE($B$9,\"_\",Q23),選手名簿!$A:$E,5,FALSE))=TRUE,\"\",VLOOKUP(CONCATENATE($B$9,\"_\",Q23),選手名簿!$A:$E,5,FALSE))","v":"大室　匠"},null,null,null,null,11,{"$f":"IF(ISERROR(VLOOKUP(CONCATENATE($B$9,\"_\",Q23),選手名簿!$A:$E,4,FALSE))=TRUE,\"\",VLOOKUP(CONCATENATE($B$9,\"_\",Q23),選手名簿!$A:$E,4,FALSE))","v":"FW"},{"$f":"IF(ISERROR(VLOOKUP(CONCATENATE($W$9,\"_\",T23),選手名簿!$A:$E,4,FALSE))=TRUE,\"\",VLOOKUP(CONCATENATE($W$9,\"_\",T23),選手名簿!$A:$E,4,FALSE))","v":"MF"},14,{"$f":"IF(ISERROR(VLOOKUP(CONCATENATE($W$9,\"_\",T23),選手名簿!$A:$E,5,FALSE))=TRUE,\"\",VLOOKUP(CONCATENATE($W$9,\"_\",T23),選手名簿!$A:$E,5,FALSE))","v":"矢野　圭悟"},null,null,null,null,{"$f":"IF(ISERROR(VLOOKUP(CONCATENATE($W$9,\"_\",T23),選手名簿!$A:$G,7,FALSE))=TRUE,\"\",VLOOKUP(CONCATENATE($W$9,\"_\",T23),選手名簿!$A:$G,7,FALSE))","v":4},null,null,null,null,null,null,null,null,null,0]
[null,null,null,null,null,null,null,null,null,null,null,null,null,null,null,null,"交替要員"]
[null,{"$f":"SUM(D25,F25,H25,J25)","v":0},null,null,null,null,null,null,null,null,{"$f":"IF(ISERROR(VLOOKUP(CONCATENATE($B$9,\"_\",Q25),選手名簿!$A:$G,7,FALSE))=TRUE,\"\",VLOOKUP(CONCATENATE($B$9,\"_\",Q25),選手名簿!$A:$G,7,FALSE))","v":5},{"$f":"IF(ISERROR(VLOOKUP(CONCATENATE($B$9,\"_\",Q25),選手名簿!$A:$E,5,FALSE))=TRUE,\"\",VLOOKUP(CONCATENATE($B$9,\"_\",Q25),選手名簿!$A:$E,5,FALSE))","v":"竹友　勝虎"},null,null,null,null,2,{"$f":"IF(ISERROR(VLOOKUP(CONCATENATE($B$9,\"_\",Q25),選手名簿!$A:$E,4,FALSE))=TRUE,\"\",VLOOKUP(CONCATENATE($B$9,\"_\",Q25),選手名簿!$A:$E,4,FALSE))","v":"DF"},{"$f":"IF(ISERROR(VLOOKUP(CONCATENATE($W$9,\"_\",T25),選手名簿!$A:$E,4,FALSE))=TRUE,\"\",VLOOKUP(CONCATENATE($W$9,\"_\",T25),選手名簿!$A:$E,4,FALSE))","v":"DF"},2,{"$f":"IF(ISERROR(VLOOKUP(CONCATENATE($W$9,\"_\",T25),選手名簿!$A:$E,5,FALSE))=TRUE,\"\",VLOOKUP(CONCATENATE($W$9,\"_\",T25),選手名簿!$A:$E,5,FALSE))","v":"中城　篤也"},null,null,null,null,{"$f":"IF(ISERROR(VLOOKUP(CONCATENATE($W$9,\"_\",T25),選手名簿!$A:$G,7,FALSE))=TRUE,\"\",VLOOKUP(CONCATENATE($W$9,\"_\",T25),選手名簿!$A:$G,7,FALSE))","v":5},null,null,null,null,null,null,null,null,null,{"$f":"SUM(AB25,AD25,AF25,AH25)","v":0}]
[null,0,null,null,null,null,null,null,null,null,{"$f":"IF(ISERROR(VLOOKUP(CONCATENATE($B$9,\"_\",Q26),選手名簿!$A:$G,7,FALSE))=TRUE,\"\",VLOOKUP(CONCATENATE($B$9,\"_\",Q26),選手名簿!$A:$G,7,FALSE))","v":5},{"$f":"IF(ISERROR(VLOOKUP(CONCATENATE($B$9,\"_\",Q26),選手名簿!$A:$E,5,FALSE))=TRUE,\"\",VLOOKUP(CONCATENATE($B$9,\"_\",Q26),選手名簿!$A:$E,5,FALSE))","v":"大西　拓海"},null,null,null,null,3,{"$f":"IF(ISERROR(VLOOKUP(CONCATENATE($B$9,\"_\",Q26),選手名簿!$A:$E,4,FALSE))=TRUE,\"\",VLOOKUP(CONCATENATE($B$9,\"_\",Q26),選手名簿!$A:$E,4,FALSE))","v":"DF"},{"$f":"IF(ISERROR(VLOOKUP(CONCATENATE($W$9,\"_\",T26),選手名簿!$A:$E,4,FALSE))=TRUE,\"\",VLOOKUP(CONCATENATE($W$9,\"_\",T26),選手名簿!$A:$E,4,FALSE))","v":"FW"},9,{"$f":"IF(ISERROR(VLOOKUP(CONCATENATE($W$9,\"_\",T26),選手名簿!$A:$E,5,FALSE))=TRUE,\"\",VLOOKUP(CONCATENATE($W$9,\"_\",T26),選手名簿!$A:$E,5,FALSE))","v":"川﨑　太洋"},null,null,null,null,{"$f":"IF(ISERROR(VLOOKUP(CONCATENATE($W$9,\"_\",T26),選手名簿!$A:$G,7,FALSE))=TRUE,\"\",VLOOKUP(CONCATENATE($W$9,\"_\",T26),選手名簿!$A:$G,7,FALSE))","v":5},null,null,null,null,null,null,null,null,null,0]
[null,0,null,null,null,null,null,null,null,null,{"$f":"IF(ISERROR(VLOOKUP(CONCATENATE($B$9,\"_\",Q27),選手名簿!$A:$G,7,FALSE))=TRUE,\"\",VLOOKUP(CONCATENATE($B$9,\"_\",Q27),選手名簿!$A:$G,7,FALSE))","v":4},{"$f":"IF(ISERROR(VLOOKUP(CONCATENATE($B$9,\"_\",Q27),選手名簿!$A:$E,5,FALSE))=TRUE,\"\",VLOOKUP(CONCATENATE($B$9,\"_\",Q27),選手名簿!$A:$E,5,FALSE))","v":"松本　快理"},null,null,null,null,6,{"$f":"IF(ISERROR(VLOOKUP(CONCATENATE($B$9,\"_\",Q27),選手名簿!$A:$E,4,FALSE))=TRUE,\"\",VLOOKUP(CONCATENATE($B$9,\"_\",Q27),選手名簿!$A:$E,4,FALSE))","v":"FW"},{"$f":"IF(ISERROR(VLOOKUP(CONCATENATE($W$9,\"_\",T27),選手名簿!$A:$E,4,FALSE))=TRUE,\"\",VLOOKUP(CONCATENATE($W$9,\"_\",T27),選手名簿!$A:$E,4,FALSE))","v":"FW"},11,{"$f":"IF(ISERROR(VLOOKUP(CONCATENATE($W$9,\"_\",T27),選手名簿!$A:$E,5,FALSE))=TRUE,\"\",VLOOKUP(CONCATENATE($W$9,\"_\",T27),選手名簿!$A:$E,5,FALSE))","v":"山崎　竜斗"},null,null,null,null,{"$f":"IF(ISERROR(VLOOKUP(CONCATENATE($W$9,\"_\",T27),選手名簿!$A:$G,7,FALSE))=TRUE,\"\",VLOOKUP(CONCATENATE($W$9,\"_\",T27),選手名簿!$A:$G,7,FALSE))","v":5},null,null,null,null,null,null,null,null,null,0]
[null,0,null,null,null,null,null,null,null,null,{"$f":"IF(ISERROR(VLOOKUP(CONCATENATE($B$9,\"_\",Q28),選手名簿!$A:$G,7,FALSE))=TRUE,\"\",VLOOKUP(CONCATENATE($B$9,\"_\",Q28),選手名簿!$A:$G,7,FALSE))","v":5},{"$f":"IF(ISERROR(VLOOKUP(CONCATENATE($B$9,\"_\",Q28),選手名簿!$A:$E,5,FALSE))=TRUE,\"\",VLOOKUP(CONCATENATE($B$9,\"_\",Q28),選手名簿!$A:$E,5,FALSE))","v":"岩崎　蓮武"},null,null,null,null,8,{"$f":"IF(ISERROR(VLOOKUP(CONCATENATE($B$9,\"_\",Q28),選手名簿!$A:$E,4,FALSE))=TRUE,\"\",VLOOKUP(CONCATENATE($B$9,\"_\",Q28),選手名簿!$A:$E,4,FALSE))","v":"MF"},{"$f":"IF(ISERROR(VLOOKUP(CONCATENATE($W$9,\"_\",T28),選手名簿!$A:$E,4,FALSE))=TRUE,\"\",VLOOKUP(CONCATENATE($W$9,\"_\",T28),選手名簿!$A:$E,4,FALSE))","v":"FW"},15,{"$f":"IF(ISERROR(VLOOKUP(CONCATENATE($W$9,\"_\",T28),選手名簿!$A:$E,5,FALSE))=TRUE,\"\",VLOOKUP(CONCATENATE($W$9,\"_\",T28),選手名簿!$A:$E,5,FALSE))","v":"二宮　秀太"},null,null,null,null,{"$f":"IF(ISERROR(VLOOKUP(CONCATENATE($W$9,\"_\",T28),選手名簿!$A:$G,7,FALSE))=TRUE,\"\",VLOOKUP(CONCATENATE($W$9,\"_\",T28),選手名簿!$A:$G,7,FALSE))","v":4},null,null,null,null,null,null,null,null,null,0]
[null,{"$f":"SUM(D29,F29,H29,J29)","v":0},null,null,null,null,null,null,null,null,{"$f":"IF(ISERROR(VLOOKUP(CONCATENATE($B$9,\"_\",Q29),選手名簿!$A:$G,7,FALSE))=TRUE,\"\",VLOOKUP(CONCATENATE($B$9,\"_\",Q29),選手名簿!$A:$G,7,FALSE))","v":4},{"$f":"IF(ISERROR(VLOOKUP(CONCATENATE($B$9,\"_\",Q29),選手名簿!$A:$E,5,FALSE))=TRUE,\"\",VLOOKUP(CONCATENATE($B$9,\"_\",Q29),選手名簿!$A:$E,5,FALSE))","v":"西野　凌太朗"},null,null,null,null,12,{"$f":"IF(ISERROR(VLOOKUP(CONCATENATE($B$9,\"_\",Q29),選手名簿!$A:$E,4,FALSE))=TRUE,\"\",VLOOKUP(CONCATENATE($B$9,\"_\",Q29),選手名簿!$A:$E,4,FALSE))","v":"FW"},{"$f":"IF(ISERROR(VLOOKUP(CONCATENATE($W$9,\"_\",T29),選手名簿!$A:$E,4,FALSE))=TRUE,\"\",VLOOKUP(CONCATENATE($W$9,\"_\",T29),選手名簿!$A:$E,4,FALSE))","v":""},null,{"$f":"IF(ISERROR(VLOOKUP(CONCATENATE($W$9,\"_\",T29),選手名簿!$A:$E,5,FALSE))=TRUE,\"\",VLOOKUP(CONCATENATE($W$9,\"_\",T29),選手名簿!$A:$E,5,FALSE))","v":""},null,null,null,null,{"$f":"IF(ISERROR(VLOOKUP(CONCATENATE($W$9,\"_\",T29),選手名簿!$A:$G,7,FALSE))=TRUE,\"\",VLOOKUP(CONCATENATE($W$9,\"_\",T29),選手名簿!$A:$G,7,FALSE))","v":""},null,null,null,null,null,null,null,null,null,{"$f":"SUM(AB29,AD29,AF29,AH29)","v":0}]
[null,{"$f":"SUM(D30,F30,H30,J30)","v":0},null,null,null,null,null,null,null,null,{"$f":"IF(ISERROR(VLOOKUP(CONCATENATE($B$9,\"_\",Q30),選手名簿!$A:$G,7,FALSE))=TRUE,\"\",VLOOKUP(CONCATENATE($B$9,\"_\",Q30),選手名簿!$A:$G,7,FALSE))","v":4},{"$f":"IF(ISERROR(VLOOKUP(CONCATENATE($B$9,\"_\",Q30),選手名簿!$A:$E,5,FALSE))=TRUE,\"\",VLOOKUP(CONCATENATE($B$9,\"_\",Q30),選手名簿!$A:$E,5,FALSE))","v":"小田　聖翔"},null,null,null,null,13,{"$f":"IF(ISERROR(VLOOKUP(CONCATENATE($B$9,\"_\",Q30),選手名簿!$A:$E,4,FALSE))=TRUE,\"\",VLOOKUP(CONCATENATE($B$9,\"_\",Q30),選手名簿!$A:$E,4,FALSE))","v":"DF"},{"$f":"IF(ISERROR(VLOOKUP(CONCATENATE($W$9,\"_\",T30),選手名簿!$A:$E,4,FALSE))=TRUE,\"\",VLOOKUP(CONCATENATE($W$9,\"_\",T30),選手名簿!$A:$E,4,FALSE))","v":""},null,{"$f":"IF(ISERROR(VLOOKUP(CONCATENATE($W$9,\"_\",T30),選手名簿!$A:$E,5,FALSE))=TRUE,\"\",VLOOKUP(CONCATENATE($W$9,\"_\",T30),選手名簿!$A:$E,5,FALSE))","v":""},null,null,null,null,{"$f":"IF(ISERROR(VLOOKUP(CONCATENATE($W$9,\"_\",T30),選手名簿!$A:$G,7,FALSE))=TRUE,\"\",VLOOKUP(CONCATENATE($W$9,\"_\",T30),選手名簿!$A:$G,7,FALSE))","v":""},null,null,null,null,null,null,null,null,null,{"$f":"SUM(AB30,AD30,AF30,AH30)","v":0}]
[null,0,null,null,null,null,null,null,null,null,{"$f":"IF(ISERROR(VLOOKUP(CONCATENATE($B$9,\"_\",Q31),選手名簿!$A:$G,7,FALSE))=TRUE,\"\",VLOOKUP(CONCATENATE($B$9,\"_\",Q31),選手名簿!$A:$G,7,FALSE))","v":5},{"$f":"IF(ISERROR(VLOOKUP(CONCATENATE($B$9,\"_\",Q31),選手名簿!$A:$E,5,FALSE))=TRUE,\"\",VLOOKUP(CONCATENATE($B$9,\"_\",Q31),選手名簿!$A:$E,5,FALSE))","v":"後藤　健"},null,null,null,null,14,{"$f":"IF(ISERROR(VLOOKUP(CONCATENATE($B$9,\"_\",Q31),選手名簿!$A:$E,4,FALSE))=TRUE,\"\",VLOOKUP(CONCATENATE($B$9,\"_\",Q31),選手名簿!$A:$E,4,FALSE))","v":"FW"},{"$f":"IF(ISERROR(VLOOKUP(CONCATENATE($W$9,\"_\",T31),選手名簿!$A:$E,4,FALSE))=TRUE,\"\",VLOOKUP(CONCATENATE($W$9,\"_\",T31),選手名簿!$A:$E,4,FALSE))","v":""},null,{"$f":"IF(ISERROR(VLOOKUP(CONCATENATE($W$9,\"_\",T31),選手名簿!$A:$E,5,FALSE))=TRUE,\"\",VLOOKUP(CONCATENATE($W$9,\"_\",T31),選手名簿!$A:$E,5,FALSE))","v":""},null,null,null,null,{"$f":"IF(ISERROR(VLOOKUP(CONCATENATE($W$9,\"_\",T31),選手名簿!$A:$G,7,FALSE))=TRUE,\"\",VLOOKUP(CONCATENATE($W$9,\"_\",T31),選手名簿!$A:$G,7,FALSE))","v":""},null,null,null,null,null,null,null,null,null,0]
[null,0,null,null,null,null,null,null,null,null,{"$f":"IF(ISERROR(VLOOKUP(CONCATENATE($B$9,\"_\",Q32),選手名簿!$A:$G,7,FALSE))=TRUE,\"\",VLOOKUP(CONCATENATE($B$9,\"_\",Q32),選手名簿!$A:$G,7,FALSE))","v":5},{"$f":"IF(ISERROR(VLOOKUP(CONCATENATE($B$9,\"_\",Q32),選手名簿!$A:$E,5,FALSE))=TRUE,\"\",VLOOKUP(CONCATENATE($B$9,\"_\",Q32),選手名簿!$A:$E,5,FALSE))","v":"岩尾　芯"},null,null,null,null,15,{"$f":"IF(ISERROR(VLOOKUP(CONCATENATE($B$9,\"_\",Q32),選手名簿!$A:$E,4,FALSE))=TRUE,\"\",VLOOKUP(CONCATENATE($B$9,\"_\",Q32),選手名簿!$A:$E,4,FALSE))","v":"DF"},{"$f":"IF(ISERROR(VLOOKUP(CONCATENATE($W$9,\"_\",T32),選手名簿!$A:$E,4,FALSE))=TRUE,\"\",VLOOKUP(CONCATENATE($W$9,\"_\",T32),選手名簿!$A:$E,4,FALSE))","v":""},null,{"$f":"IF(ISERROR(VLOOKUP(CONCATENATE($W$9,\"_\",T32),選手名簿!$A:$E,5,FALSE))=TRUE,\"\",VLOOKUP(CONCATENATE($W$9,\"_\",T32),選手名簿!$A:$E,5,FALSE))","v":""},null,null,null,null,{"$f":"IF(ISERROR(VLOOKUP(CONCATENATE($W$9,\"_\",T32),選手名簿!$A:$G,7,FALSE))=TRUE,\"\",VLOOKUP(CONCATENATE($W$9,\"_\",T32),選手名簿!$A:$G,7,FALSE))","v":""},null,null,null,null,null,null,null,null,null,0]
[null,0,null,null,null,null,null,null,null,null,{"$f":"IF(ISERROR(VLOOKUP(CONCATENATE($B$9,\"_\",Q33),選手名簿!$A:$G,7,FALSE))=TRUE,\"\",VLOOKUP(CONCATENATE($B$9,\"_\",Q33),選手名簿!$A:$G,7,FALSE))","v":""},{"$f":"IF(ISERROR(VLOOKUP(CONCATENATE($B$9,\"_\",Q33),選手名簿!$A:$E,5,FALSE))=TRUE,\"\",VLOOKUP(CONCATENATE($B$9,\"_\",Q33),選手名簿!$A:$E,5,FALSE))","v":""},null,null,null,null,null,{"$f":"IF(ISERROR(VLOOKUP(CONCATENATE($B$9,\"_\",Q33),選手名簿!$A:$E,4,FALSE))=TRUE,\"\",VLOOKUP(CONCATENATE($B$9,\"_\",Q33),選手名簿!$A:$E,4,FALSE))","v":""},{"$f":"IF(ISERROR(VLOOKUP(CONCATENATE($W$9,\"_\",T33),選手名簿!$A:$E,4,FALSE))=TRUE,\"\",VLOOKUP(CONCATENATE($W$9,\"_\",T33),選手名簿!$A:$E,4,FALSE))","v":""},null,{"$f":"IF(ISERROR(VLOOKUP(CONCATENATE($W$9,\"_\",T33),選手名簿!$A:$E,5,FALSE))=TRUE,\"\",VLOOKUP(CONCATENATE($W$9,\"_\",T33),選手名簿!$A:$E,5,FALSE))","v":""},null,null,null,null,{"$f":"IF(ISERROR(VLOOKUP(CONCATENATE($W$9,\"_\",T33),選手名簿!$A:$G,7,FALSE))=TRUE,\"\",VLOOKUP(CONCATENATE($W$9,\"_\",T33),選手名簿!$A:$G,7,FALSE))","v":""},null,null,null,null,null,null,null,null,null,0]
[null,0,null,null,null,null,null,null,null,null,{"$f":"IF(ISERROR(VLOOKUP(CONCATENATE($B$9,\"_\",Q34),選手名簿!$A:$G,7,FALSE))=TRUE,\"\",VLOOKUP(CONCATENATE($B$9,\"_\",Q34),選手名簿!$A:$G,7,FALSE))","v":""},{"$f":"IF(ISERROR(VLOOKUP(CONCATENATE($B$9,\"_\",Q34),選手名簿!$A:$E,5,FALSE))=TRUE,\"\",VLOOKUP(CONCATENATE($B$9,\"_\",Q34),選手名簿!$A:$E,5,FALSE))","v":""},null,null,null,null,null,{"$f":"IF(ISERROR(VLOOKUP(CONCATENATE($B$9,\"_\",Q34),選手名簿!$A:$E,4,FALSE))=TRUE,\"\",VLOOKUP(CONCATENATE($B$9,\"_\",Q34),選手名簿!$A:$E,4,FALSE))","v":""},{"$f":"IF(ISERROR(VLOOKUP(CONCATENATE($W$9,\"_\",T34),選手名簿!$A:$E,4,FALSE))=TRUE,\"\",VLOOKUP(CONCATENATE($W$9,\"_\",T34),選手名簿!$A:$E,4,FALSE))","v":""},null,{"$f":"IF(ISERROR(VLOOKUP(CONCATENATE($W$9,\"_\",T34),選手名簿!$A:$E,5,FALSE))=TRUE,\"\",VLOOKUP(CONCATENATE($W$9,\"_\",T34),選手名簿!$A:$E,5,FALSE))","v":""},null,null,null,null,{"$f":"IF(ISERROR(VLOOKUP(CONCATENATE($W$9,\"_\",T34),選手名簿!$A:$G,7,FALSE))=TRUE,\"\",VLOOKUP(CONCATENATE($W$9,\"_\",T34),選手名簿!$A:$G,7,FALSE))","v":""},null,null,null,null,null,null,null,null,null,0]
[null,{"$f":"SUM(C35:J35)","v":9},null,{"$f":"SUM(D16:D23,D25:D34)","v":2},null,{"$f":"SUM(F16:F23,F25:F34)","v":0},null,{"$f":"SUM(H16:H23,H25:H34)","v":3},null,{"$f":"SUM(J16:J23,J25:J34)","v":4},"小計",{"$f":"SUM(D35,F35,H35,J35)","v":9},null,null,null,null,"合計","シュート数",null,"合計",{"$f":"SUM(AB35,AD35,AF35,AH35)","v":5},null,null,null,null,"小計",null,{"$f":"SUM(AB16:AB23,AB25:AB34)","v":0},null,{"$f":"SUM(AD16:AD23,AD25:AD34)","v":2},null,{"$f":"SUM(AF16:AF23,AF25:AF34)","v":2},null,{"$f":"SUM(AH16:AH23,AH25:AH34)","v":1},null,{"$f":"SUM(AA35:AH35)","v":5}]
[null,null,"OUT",null,null,null,null,null,null,"→","IN",null,null,null,null,null,null,"交代",null,null,"OUT",null,null,null,null,null,null,"→","IN"]
[null,null,null,null,null,null,null,null,null,null,null,null,null,null,null,null,null,"選手"]
[null,"分",null,"番",{"$f":"IF(ISERROR(VLOOKUP(CONCATENATE($B$9,\"_\",C38),選手名簿!$A:$E,5,FALSE))=TRUE,\"\",VLOOKUP(CONCATENATE($B$9,\"_\",C38),選手名簿!$A:$E,5,FALSE))","v":""},null,null,null,null,"→",null,"番",{"$f":"IF(ISERROR(VLOOKUP(CONCATENATE($B$9,\"_\",K38),選手名簿!$A:$E,5,FALSE))=TRUE,\"\",VLOOKUP(CONCATENATE($B$9,\"_\",K38),選手名簿!$A:$E,5,FALSE))","v":""},null,null,null,null,null,9,"分",13,"番",{"$f":"IF(ISERROR(VLOOKUP(CONCATENATE($W$9,\"_\",U38),選手名簿!$A:$E,5,FALSE))=TRUE,\"\",VLOOKUP(CONCATENATE($W$9,\"_\",U38),選手名簿!$A:$E,5,FALSE))","v":"尼崎　琉太"},null,null,null,null,"→",11,"番",{"$f":"IF(ISERROR(VLOOKUP(CONCATENATE($W$9,\"_\",AC38),選手名簿!$A:$E,5,FALSE))=TRUE,\"\",VLOOKUP(CONCATENATE($W$9,\"_\",AC38),選手名簿!$A:$E,5,FALSE))","v":"山崎　竜斗"}]
[null,"分",null,"番",{"$f":"IF(ISERROR(VLOOKUP(CONCATENATE($B$9,\"_\",C39),選手名簿!$A:$E,5,FALSE))=TRUE,\"\",VLOOKUP(CONCATENATE($B$9,\"_\",C39),選手名簿!$A:$E,5,FALSE))","v":""},null,null,null,null,"→",null,"番",{"$f":"IF(ISERROR(VLOOKUP(CONCATENATE($B$9,\"_\",K39),選手名簿!$A:$E,5,FALSE))=TRUE,\"\",VLOOKUP(CONCATENATE($B$9,\"_\",K39),選手名簿!$A:$E,5,FALSE))","v":""},null,null,null,null,null,21,"分",1,"番",{"$f":"IF(ISERROR(VLOOKUP(CONCATENATE($W$9,\"_\",U39),選手名簿!$A:$E,5,FALSE))=TRUE,\"\",VLOOKUP(CONCATENATE($W$9,\"_\",U39),選手名簿!$A:$E,5,FALSE))","v":"浜小路　大智"},null,null,null,null,"→",13,"番",{"$f":"IF(ISERROR(VLOOKUP(CONCATENATE($W$9,\"_\",AC39),選手名簿!$A:$E,5,FALSE))=TRUE,\"\",VLOOKUP(CONCATENATE($W$9,\"_\",AC39),選手名簿!$A:$E,5,FALSE))","v":"尼崎　琉太"}]
[null,"分",null,"番",{"$f":"IF(ISERROR(VLOOKUP(CONCATENATE($B$9,\"_\",C40),選手名簿!$A:$E,5,FALSE))=TRUE,\"\",VLOOKUP(CONCATENATE($B$9,\"_\",C40),選手名簿!$A:$E,5,FALSE))","v":""},null,null,null,null,"→",null,"番",{"$f":"IF(ISERROR(VLOOKUP(CONCATENATE($B$9,\"_\",K40),選手名簿!$A:$E,5,FALSE))=TRUE,\"\",VLOOKUP(CONCATENATE($B$9,\"_\",K40),選手名簿!$A:$E,5,FALSE))","v":""},null,null,null,null,null,null,"分",null,"番",{"$f":"IF(ISERROR(VLOOKUP(CONCATENATE($W$9,\"_\",U40),選手名簿!$A:$E,5,FALSE))=TRUE,\"\",VLOOKUP(CONCATENATE($W$9,\"_\",U40),選手名簿!$A:$E,5,FALSE))","v":""},null,null,null,null,"→",11,"番","山崎　竜斗(FP→GK)"]
[null,"分",null,"番",{"$f":"IF(ISERROR(VLOOKUP(CONCATENATE($B$9,\"_\",C41),選手名簿!$A:$E,5,FALSE))=TRUE,\"\",VLOOKUP(CONCATENATE($B$9,\"_\",C41),選手名簿!$A:$E,5,FALSE))","v":""},null,null,null,null,"→",null,"番",{"$f":"IF(ISERROR(VLOOKUP(CONCATENATE($B$9,\"_\",K41),選手名簿!$A:$E,5,FALSE))=TRUE,\"\",VLOOKUP(CONCATENATE($B$9,\"_\",K41),選手名簿!$A:$E,5,FALSE))","v":""},null,null,null,null,null,30,"分",13,"番",{"$f":"IF(ISERROR(VLOOKUP(CONCATENATE($W$9,\"_\",U41),選手名簿!$A:$E,5,FALSE))=TRUE,\"\",VLOOKUP(CONCATENATE($W$9,\"_\",U41),選手名簿!$A:$E,5,FALSE))","v":"尼崎　琉太"},null,null,null,null,"→",9,"番",{"$f":"IF(ISERROR(VLOOKUP(CONCATENATE($W$9,\"_\",AC41),選手名簿!$A:$E,5,FALSE))=TRUE,\"\",VLOOKUP(CONCATENATE($W$9,\"_\",AC41),選手名簿!$A:$E,5,FALSE))","v":"川﨑　太洋"}]
[null,"分",null,"番",{"$f":"IF(ISERROR(VLOOKUP(CONCATENATE($B$9,\"_\",C42),選手名簿!$A:$E,5,FALSE))=TRUE,\"\",VLOOKUP(CONCATENATE($B$9,\"_\",C42),選手名簿!$A:$E,5,FALSE))","v":""},null,null,null,null,"→",null,"番",{"$f":"IF(ISERROR(VLOOKUP(CONCATENATE($B$9,\"_\",K42),選手名簿!$A:$E,5,FALSE))=TRUE,\"\",VLOOKUP(CONCATENATE($B$9,\"_\",K42),選手名簿!$A:$E,5,FALSE))","v":""},null,null,null,null,null,null,"分",null,"番",{"$f":"IF(ISERROR(VLOOKUP(CONCATENATE($W$9,\"_\",U42),選手名簿!$A:$E,5,FALSE))=TRUE,\"\",VLOOKUP(CONCATENATE($W$9,\"_\",U42),選手名簿!$A:$E,5,FALSE))","v":""},null,null,null,null,"→",null,"番",{"$f":"IF(ISERROR(VLOOKUP(CONCATENATE($W$9,\"_\",AC42),選手名簿!$A:$E,5,FALSE))=TRUE,\"\",VLOOKUP(CONCATENATE($W$9,\"_\",AC42),選手名簿!$A:$E,5,FALSE))","v":""}]
[null,"分",null,"番",{"$f":"IF(ISERROR(VLOOKUP(CONCATENATE($B$9,\"_\",C43),選手名簿!$A:$E,5,FALSE))=TRUE,\"\",VLOOKUP(CONCATENATE($B$9,\"_\",C43),選手名簿!$A:$E,5,FALSE))","v":""},null,null,null,null,"→",null,"番",{"$f":"IF(ISERROR(VLOOKUP(CONCATENATE($B$9,\"_\",K43),選手名簿!$A:$E,5,FALSE))=TRUE,\"\",VLOOKUP(CONCATENATE($B$9,\"_\",K43),選手名簿!$A:$E,5,FALSE))","v":""},null,null,null,null,null,null,"分",null,"番",{"$f":"IF(ISERROR(VLOOKUP(CONCATENATE($W$9,\"_\",U43),選手名簿!$A:$E,5,FALSE))=TRUE,\"\",VLOOKUP(CONCATENATE($W$9,\"_\",U43),選手名簿!$A:$E,5,FALSE))","v":""},null,null,null,null,"→",null,"番",{"$f":"IF(ISERROR(VLOOKUP(CONCATENATE($W$9,\"_\",AC43),選手名簿!$A:$E,5,FALSE))=TRUE,\"\",VLOOKUP(CONCATENATE($W$9,\"_\",AC43),選手名簿!$A:$E,5,FALSE))","v":""}]
[null,"分",null,"番",{"$f":"IF(ISERROR(VLOOKUP(CONCATENATE($B$9,\"_\",C44),選手名簿!$A:$E,5,FALSE))=TRUE,\"\",VLOOKUP(CONCATENATE($B$9,\"_\",C44),選手名簿!$A:$E,5,FALSE))","v":""},null,null,null,null,"→",null,"番",{"$f":"IF(ISERROR(VLOOKUP(CONCATENATE($B$9,\"_\",K44),選手名簿!$A:$E,5,FALSE))=TRUE,\"\",VLOOKUP(CONCATENATE($B$9,\"_\",K44),選手名簿!$A:$E,5,FALSE))","v":""},null,null,null,null,null,null,"分",null,"番",{"$f":"IF(ISERROR(VLOOKUP(CONCATENATE($W$9,\"_\",U44),選手名簿!$A:$E,5,FALSE))=TRUE,\"\",VLOOKUP(CONCATENATE($W$9,\"_\",U44),選手名簿!$A:$E,5,FALSE))","v":""},null,null,null,null,"→",null,"番",{"$f":"IF(ISERROR(VLOOKUP(CONCATENATE($W$9,\"_\",AC44),選手名簿!$A:$E,5,FALSE))=TRUE,\"\",VLOOKUP(CONCATENATE($W$9,\"_\",AC44),選手名簿!$A:$E,5,FALSE))","v":""}]
[null,"分",null,"番",{"$f":"IF(ISERROR(VLOOKUP(CONCATENATE($B$9,\"_\",C45),選手名簿!$A:$E,5,FALSE))=TRUE,\"\",VLOOKUP(CONCATENATE($B$9,\"_\",C45),選手名簿!$A:$E,5,FALSE))","v":""},null,null,null,null,"→",null,"番",{"$f":"IF(ISERROR(VLOOKUP(CONCATENATE($B$9,\"_\",K45),選手名簿!$A:$E,5,FALSE))=TRUE,\"\",VLOOKUP(CONCATENATE($B$9,\"_\",K45),選手名簿!$A:$E,5,FALSE))","v":""},null,null,null,null,null,null,"分",null,"番",{"$f":"IF(ISERROR(VLOOKUP(CONCATENATE($W$9,\"_\",U45),選手名簿!$A:$E,5,FALSE))=TRUE,\"\",VLOOKUP(CONCATENATE($W$9,\"_\",U45),選手名簿!$A:$E,5,FALSE))","v":""},null,null,null,null,"→",null,"番",{"$f":"IF(ISERROR(VLOOKUP(CONCATENATE($W$9,\"_\",AC45),選手名簿!$A:$E,5,FALSE))=TRUE,\"\",VLOOKUP(CONCATENATE($W$9,\"_\",AC45),選手名簿!$A:$E,5,FALSE))","v":""}]
["警告（Ｃ）・退場（Ｓ）など",null,null,null,null,null,null,"合計",null,"延後",null,"延前",null,"後半",null,"前半",null,"チーム\n合計",null,"前半",null,"後半",null,"延前",null,"延後",null,"合計",null,"警告（Ｃ）・退場（Ｓ）など"]
[null,null,null,null,null,null,null,{"$f":"SUM(J47:Q47)","v":4},null,0,null,1,null,1,null,2,null,"Ｇ","Ｋ",3,null,2,null,0,null,0,null,{"$f":"SUM(T47:AA47)","v":5}]
[null,null,null,null,null,null,null,{"$f":"SUM(J48:Q48)","v":1},null,0,null,0,null,0,null,1,null,"Ｃ","Ｋ",0,null,0,null,1,null,0,null,{"$f":"SUM(T48:AA48)","v":1}]
[null,null,null,null,null,null,null,{"$f":"SUM(J49:Q49)","v":1},null,1,null,0,null,0,null,0,null,"直接","ＦＫ",1,null,2,null,0,null,0,null,{"$f":"SUM(T49:AA49)","v":3}]
[null,null,null,null,null,null,null,{"$f":"SUM(J50:Q50)","v":1},null,0,null,0,null,1,null,0,null,"間接","ＦＫ",0,null,0,null,0,null,0,null,{"$f":"SUM(T50:AA50)","v":0}]
[null,null,null,null,null,null,null,{"$f":"SUM(J51:Q51)","v":0},null,0,null,0,null,0,null,0,null,"Ｐ","Ｋ",0,null,0,null,0,null,0,null,{"$f":"SUM(T51:AA51)","v":0}]
["時間",null,null,"得点者",null,"得　　点　　経　　過",null,null,null,null,null,null,null,null,null,null,null,null,"時間",null,null,"得点者",null,"得　　点　　経　　過"]
[null,null,"分",null,null,null,null,null,null,null,null,null,null,null,null,null,null,null,null,null,"分"]
[null,null,"分",null,null,null,null,null,null,null,null,null,null,null,null,null,null,null,null,null,"分"]
[null,null,"分",null,null,null,null,null,null,null,null,null,null,null,null,null,null,null,null,null,"分"]
[null,null,"分",null,null,null,null,null,null,null,null,null,null,null,null,null,null,null,null,null,"分"]
[null,null,"分",null,null,null,null,null,null,null,null,null,null,null,null,null,null,null,null,null,"分"]
[null,null,"分",null,null,null,null,null,null,null,null,null,null,null,null,null,null,null,null,null,"分"]
[" ",null,null,"《略号例》",null,null,null,"ドリブル",null,"～",null,"ゴロのパス",null,null,"→",null,"浮き球",null,"∩",null,"混戦",null,"×",null,"ヘディング",null,null,"H",null,"シュート",null,"S"]
[]
["戦評者氏名",null,null,null,"（",null,null,null,null,null,"）",null,"勤務先または所属",null,null,null,null,"（","一般社団法人　大分県サッカー協会　技術委員会",null,null,null,null,null,null,null,null,null,null,null,null,null,null,null,"　）"]
[]
[]
[]
[]
[]
[]
[]
[]
[null,null,null,null,null,null,"M   C",null,null,null,null,null,null,"会　場　長",null,null,null,null,null,null,"ウェルフェアオフィサー",null,null,null,null,null,null,"主　　審"]
[null,null,null,null,null,null,"佐々木　秀樹",null,null,null,null,null,null,"安東　幹雄",null,null,null,null,null,null,"安東　信二",null,null,null,null,null,null,"幸　壮一郎"]

{"sheet":"準決勝公式記録No,31","index":15,"n_rows":71,"n_cols":51,"rows_kept":71,"cut":false,"hidden":false,"merged":[[1,28,2,29],[1,31,1,35],[2,0,2,1],[2,14,2,15],[2,16,2,17],[2,18,2,26],[2,31,2,35],[0,0,0,5],[0,6,0,9],[0,10,0,11],[1,0,1,1],[1,2,3,13],[1,15,1,16],[3,0,3,1],[3,14,3,15],[3,16,3,17],[3,18,3,26],[3,28,3,29],[5,18,5,19],[5,21,5,25],[5,26,5,30],[3,31,3,35],[4,0,4,1],[4,2,6,8],[4,11,4,12],[4,18,4,19],[5,0,5,1],[5,11,5,12],[5,13,5,14],[6,0,6,1],[6,11,6,12],[5,31,5,35],[6,13,6,14],[6,18,6,19],[6,26,6,30],[7,20,11,20],[7,21,7,23],[9,12,9,14],[9,17,9,18],[8,11,8,14],[8,17,8,18],[8,22,8,31],[9,21,9,23],[7,0,7,2],[7,11,7,14],[7,15,11,15],[7,17,7,18],[10,13,10,14],[10,11,10,12],[11,17,11,18],[13,41,13,42],[10,17,10,18],[10,21,10,22],[10,23,10,24],[8,32,8,35],[7,32,7,35],[8,1,8,10],[14,0,14,1],[14,2,14,3],[14,4,14,5],[14,6,14,7],[14,8,14,9],[14,26,14,27],[14,28,14,29],[12,41,12,42],[13,0,13,1],[13,2,13,3],[13,4,13,5],[13,6,13,7],[13,8,13,9],[13,17,13,18],[13,26,13,27],[13,28,13,29],[13,30,13,31],[12,2,12,9],[14,30,14,31],[14,32,14,33],[14,34,14,35],[12,26,12,33],[15,11,15,15],[15,20,15,24],[16,11,16,15],[16,20,16,24],[13,32,13,33],[13,34,13,35],[20,11,20,15],[20,20,20,24],[21,11,21,15],[21,20,21,24],[22,11,22,15],[22,20,22,24],[17,11,17,15],[17,20,17,24],[18,11,18,15],[18,20,18,24],[19,11,19,15],[19,20,19,24],[27,11,27,15],[27,20,27,24],[28,11,28,15],[28,20,28,24],[29,11,29,15],[29,20,29,24],[23,16,23,19],[24,11,24,15],[24,20,24,24],[25,11,25,15],[25,20,25,24],[26,11,26,15],[26,20,26,24],[30,11,30,15],[30,20,30,24],[31,11,31,15],[31,20,31,24],[35,20,36,26],[35,27,36,27],[32,11,32,15],[32,20,32,24],[33,11,33,15],[33,20,33,24],[35,10,36,16],[35,17,35,18],[38,4,38,8],[38,12,38,16],[38,22,38,26],[34,11,34,15],[34,17,34,18],[34,20,34,24],[38,30,38,34],[39,4,39,8],[39,12,39,16],[39,22,39,26],[39,30,39,34],[35,28,36,34],[36,17,36,18],[37,4,37,8],[37,12,37,16],[37,22,37,26],[37,30,37,34],[35,2,36,8],[35,9,36,9],[40,4,40,8],[40,12,40,16],[40,22,40,26],[40,30,40,34],[43,30,43,34],[44,4,44,8],[44,12,44,16],[44,22,44,26],[44,30,44,34],[41,4,41,8],[41,12,41,16],[41,22,41,26],[41,30,41,34],[42,4,42,8],[42,12,42,16],[42,22,42,26],[42,30,42,34],[45,0,45,6],[45,7,45,8],[45,9,45,10],[45,11,45,12],[45,13,45,14],[45,15,45,16],[43,4,43,8],[43,12,43,16],[43,22,43,26],[45,29,45,35],[46,7,46,8],[46,9,46,10],[46,11,46,12],[46,13,46,14],[46,15,46,16],[46,19,46,20],[46,21,46,22],[46,23,46,24],[46,25,46,26],[45,17,45,18],[45,19,45,20],[45,21,45,22],[45,23,45,24],[45,25,45,26],[45,27,45,28],[46,27,46,28],[49,25,49,26],[47,27,47,28],[48,7,48,8],[48,9,48,10],[48,11,48,12],[48,13,48,14],[48,15,48,16],[48,19,48,20],[48,21,48,22],[48,23,48,24],[48,25,48,26],[48,27,48,28],[47,7,47,8],[47,9,47,10],[47,11,47,12],[47,13,47,14],[47,15,47,16],[47,19,47,20],[47,21,47,22],[47,23,47,24],[47,25,47,26],[51,0,51,2],[51,3,51,4],[51,5,51,17],[51,18,51,20],[51,21,51,22],[51,23,51,35],[49,27,49,28],[50,7,50,8],[50,9,50,10],[50,11,50,12],[50,13,50,14],[50,15,50,16],[50,19,50,20],[50,21,50,22],[50,23,50,24],[50,25,50,26],[49,7,49,8],[49,9,49,10],[49,11,49,12],[49,13,49,14],[49,15,49,16],[49,19,49,20],[49,21,49,22],[49,23,49,24],[52,3,52,4],[52,5,52,17],[52,21,52,22],[52,23,52,35],[53,3,53,4],[53,5,53,17],[53,21,53,22],[53,23,53,35],[50,27,50,28],[56,3,56,4],[56,5,56,17],[56,21,56,22],[56,23,56,35],[57,3,57,4],[57,5,57,17],[57,21,57,22],[57,23,57,35],[54,3,54,4],[54,5,54,17],[54,21,54,22],[54,23,54,35],[55,3,55,4],[55,5,55,17],[55,21,55,22],[55,23,55,35],[69,13,69,19],[69,20,69,26],[69,27,69,35],[70,13,72,19],[70,20,72,26],[70,27,72,35],[58,29,58,30],[60,0,60,3],[60,5,60,9],[60,12,60,16],[60,18,60,33],[61,0,67,35],[58,3,58,5],[58,7,58,8],[58,11,58,13],[58,16,58,17],[58,20,58,21],[58,24,58,26],[69,6,69,12],[70,6,72,12]]}
["公式記録",null,null,null,null,null,"Match No：",null,null,null,31]
["大",null,"OFA 第31回 \n大分県ジュニアサッカー選手権大会\n大分県大会",null,null,null,null,null,null,null,null,null,null,null,"第",2,null,"日",null,null,null,null,null,null,null,null,null,"競技","30分",null,"記"]
["会",null,null,null,null,null,null,null,null,null,null,null,null,null,"1回戦",null,"2回戦",null,"令和元年　12月8日（日）",null,null,null,null,null,null,null,null,"時間",null,null,"録","松尾　章"]
["名",null,null,null,null,null,null,null,null,null,null,null,null,null,"準決勝",null,"決勝",null,"試合開始　12時00分～",null,null,null,null,null,null,null,null,"延長","6分",null,"者","中野　観司郎"]
["会",null,"大分県大分スポーツ公園\n昭和電工サッカー・ラグビー場\nＡコート　北側",null,null,null,null,null,null,"天","晴","風",null,"強","弱","無","芝","状","良好",null,"審","主審",null,null,null,null,"副審",null,null,null,null,"第4の審判員"]
[null,null,null,null,null,null,null,null,null,null,"曇","気温",null,14,null,"℃",null,null,"不良",null,null,"坪井　和幸",null,null,null,null,"穴井　裕大",null,null,null,null,"岡部　明男"]
["場",null,null,null,null,null,null,null,null,"候","雨","湿度",null,50,null,"％","土","態","泥沼",null,"判",null,null,null,null,null,"清家　大介"]
["【チーム名】",null,null,null,null,null,null,null,null,null,null,null,null,null,null,3,3,"前半",null,0,0,"【チーム名】"]
[null,{"$f":"+AR13","v":"大分トリニータＵ－１２"},null,null,null,null,null,null,null,null,null,{"$f":"AR14","v":"大分市"},null,null,null,null,0,"後半",null,0,null,null,{"$f":"+AY13","v":"ドリームキッズフットボールクラブ"},null,null,null,null,null,null,null,null,null,{"$f":"AY14","v":"大分市"}]
[null,null,null,null,null,null,null,null,null,null,null,null,"kick off",null,null,null,null,"延前",null,null,null,"kick off"]
[null,null,null,null,null,null,null,null,null,null,null,"番号",null,"PK",null,null,null,"延後",null,null,null,"PK",null,"番号"]
[null,null,null,null,null,null,null,null,null,null,null,"○","×","先","後",null,null,"ＰＫ戦",null,null,null,"先","後","○","×"]
[null,null,"シュート（得点者は○印）",null,null,null,null,null,null,null,"学",null,null,null,null,null,"番",null,null,"番",null,null,null,null,null,"学","シュート（得点者は○印）",null,null,null,null,null,null,null,null,null,null,null,null,null,null,"チーム名",null,"大分トリニータＵ－１２",null,null,null,null,null,"チーム名","ドリームキッズフットボールクラブ"]
["合",null,"延",null,"延",null,"後",null,"前",null,null,null,"選","手","名",null,null,"位置",null,null,null,"選","手","名",null,null,"前",null,"後",null,"延",null,"延",null,"合",null,null,null,null,null,null,"地区名",null,"大分市",null,null,null,null,null,"地区名","大分市"]
["計",null,"後",null,"前",null,"半",null,"半",null,"年",null,null,null,null,null,"号",null,null,"号",null,null,null,null,null,"年","半",null,"半",null,"前",null,"後",null,"計"]
[null,{"$f":"SUM(D16,F16,H16,J16)","v":0},null,null,null,null,null,null,null,null,{"$f":"IF(ISERROR(VLOOKUP(CONCATENATE($B$9,\"_\",Q16),選手名簿!$A:$G,7,FALSE))=TRUE,\"\",VLOOKUP(CONCATENATE($B$9,\"_\",Q16),選手名簿!$A:$G,7,FALSE))","v":5},{"$f":"IF(ISERROR(VLOOKUP(CONCATENATE($B$9,\"_\",Q16),選手名簿!$A:$E,5,FALSE))=TRUE,\"\",VLOOKUP(CONCATENATE($B$9,\"_\",Q16),選手名簿!$A:$E,5,FALSE))","v":"木津　心汰"},null,null,null,null,1,{"$f":"IF(ISERROR(VLOOKUP(CONCATENATE($B$9,\"_\",Q16),選手名簿!$A:$E,4,FALSE))=TRUE,\"\",VLOOKUP(CONCATENATE($B$9,\"_\",Q16),選手名簿!$A:$E,4,FALSE))","v":"GK"},{"$f":"IF(ISERROR(VLOOKUP(CONCATENATE($W$9,\"_\",T16),選手名簿!$A:$E,4,FALSE))=TRUE,\"\",VLOOKUP(CONCATENATE($W$9,\"_\",T16),選手名簿!$A:$E,4,FALSE))","v":"GK"},1,{"$f":"IF(ISERROR(VLOOKUP(CONCATENATE($W$9,\"_\",T16),選手名簿!$A:$E,5,FALSE))=TRUE,\"\",VLOOKUP(CONCATENATE($W$9,\"_\",T16),選手名簿!$A:$E,5,FALSE))","v":"岩本　凌真"},null,null,null,null,{"$f":"IF(ISERROR(VLOOKUP(CONCATENATE($W$9,\"_\",T16),選手名簿!$A:$G,7,FALSE))=TRUE,\"\",VLOOKUP(CONCATENATE($W$9,\"_\",T16),選手名簿!$A:$G,7,FALSE))","v":5},null,null,null,null,null,null,null,null,null,{"$f":"SUM(AB16,AD16,AF16,AH16)","v":0}]
[null,1,null,null,null,null,null,1,null,null,{"$f":"IF(ISERROR(VLOOKUP(CONCATENATE($B$9,\"_\",Q17),選手名簿!$A:$G,7,FALSE))=TRUE,\"\",VLOOKUP(CONCATENATE($B$9,\"_\",Q17),選手名簿!$A:$G,7,FALSE))","v":5},{"$f":"IF(ISERROR(VLOOKUP(CONCATENATE($B$9,\"_\",Q17),選手名簿!$A:$E,5,FALSE))=TRUE,\"\",VLOOKUP(CONCATENATE($B$9,\"_\",Q17),選手名簿!$A:$E,5,FALSE))","v":"金井　佑磨"},null,null,null,null,2,{"$f":"IF(ISERROR(VLOOKUP(CONCATENATE($B$9,\"_\",Q17),選手名簿!$A:$E,4,FALSE))=TRUE,\"\",VLOOKUP(CONCATENATE($B$9,\"_\",Q17),選手名簿!$A:$E,4,FALSE))","v":"DF"},{"$f":"IF(ISERROR(VLOOKUP(CONCATENATE($W$9,\"_\",T17),選手名簿!$A:$E,4,FALSE))=TRUE,\"\",VLOOKUP(CONCATENATE($W$9,\"_\",T17),選手名簿!$A:$E,4,FALSE))","v":"DF"},4,{"$f":"IF(ISERROR(VLOOKUP(CONCATENATE($W$9,\"_\",T17),選手名簿!$A:$E,5,FALSE))=TRUE,\"\",VLOOKUP(CONCATENATE($W$9,\"_\",T17),選手名簿!$A:$E,5,FALSE))","v":"伊東　海星"},null,null,null,null,{"$f":"IF(ISERROR(VLOOKUP(CONCATENATE($W$9,\"_\",T17),選手名簿!$A:$G,7,FALSE))=TRUE,\"\",VLOOKUP(CONCATENATE($W$9,\"_\",T17),選手名簿!$A:$G,7,FALSE))","v":5},null,null,null,null,null,null,null,null,null,0]
[null,0,null,null,null,null,null,null,null,null,{"$f":"IF(ISERROR(VLOOKUP(CONCATENATE($B$9,\"_\",Q18),選手名簿!$A:$G,7,FALSE))=TRUE,\"\",VLOOKUP(CONCATENATE($B$9,\"_\",Q18),選手名簿!$A:$G,7,FALSE))","v":5},{"$f":"IF(ISERROR(VLOOKUP(CONCATENATE($B$9,\"_\",Q18),選手名簿!$A:$E,5,FALSE))=TRUE,\"\",VLOOKUP(CONCATENATE($B$9,\"_\",Q18),選手名簿!$A:$E,5,FALSE))","v":"椎原　蓮央"},null,null,null,null,4,{"$f":"IF(ISERROR(VLOOKUP(CONCATENATE($B$9,\"_\",Q18),選手名簿!$A:$E,4,FALSE))=TRUE,\"\",VLOOKUP(CONCATENATE($B$9,\"_\",Q18),選手名簿!$A:$E,4,FALSE))","v":"MF"},{"$f":"IF(ISERROR(VLOOKUP(CONCATENATE($W$9,\"_\",T18),選手名簿!$A:$E,4,FALSE))=TRUE,\"\",VLOOKUP(CONCATENATE($W$9,\"_\",T18),選手名簿!$A:$E,4,FALSE))","v":"DF"},8,{"$f":"IF(ISERROR(VLOOKUP(CONCATENATE($W$9,\"_\",T18),選手名簿!$A:$E,5,FALSE))=TRUE,\"\",VLOOKUP(CONCATENATE($W$9,\"_\",T18),選手名簿!$A:$E,5,FALSE))","v":"鱒村　侑士"},null,null,null,null,{"$f":"IF(ISERROR(VLOOKUP(CONCATENATE($W$9,\"_\",T18),選手名簿!$A:$G,7,FALSE))=TRUE,\"\",VLOOKUP(CONCATENATE($W$9,\"_\",T18),選手名簿!$A:$G,7,FALSE))","v":5},null,null,null,null,null,null,null,null,null,0]
[null,0,null,null,null,null,null,null,null,null,{"$f":"IF(ISERROR(VLOOKUP(CONCATENATE($B$9,\"_\",Q19),選手名簿!$A:$G,7,FALSE))=TRUE,\"\",VLOOKUP(CONCATENATE($B$9,\"_\",Q19),選手名簿!$A:$G,7,FALSE))","v":5},{"$f":"IF(ISERROR(VLOOKUP(CONCATENATE($B$9,\"_\",Q19),選手名簿!$A:$E,5,FALSE))=TRUE,\"\",VLOOKUP(CONCATENATE($B$9,\"_\",Q19),選手名簿!$A:$E,5,FALSE))","v":"奈須　翔大"},null,null,null,null,9,{"$f":"IF(ISERROR(VLOOKUP(CONCATENATE($B$9,\"_\",Q19),選手名簿!$A:$E,4,FALSE))=TRUE,\"\",VLOOKUP(CONCATENATE($B$9,\"_\",Q19),選手名簿!$A:$E,4,FALSE))","v":"MF"},{"$f":"IF(ISERROR(VLOOKUP(CONCATENATE($W$9,\"_\",T19),選手名簿!$A:$E,4,FALSE))=TRUE,\"\",VLOOKUP(CONCATENATE($W$9,\"_\",T19),選手名簿!$A:$E,4,FALSE))","v":"DF"},9,{"$f":"IF(ISERROR(VLOOKUP(CONCATENATE($W$9,\"_\",T19),選手名簿!$A:$E,5,FALSE))=TRUE,\"\",VLOOKUP(CONCATENATE($W$9,\"_\",T19),選手名簿!$A:$E,5,FALSE))","v":"子守　悠真"},null,null,null,null,{"$f":"IF(ISERROR(VLOOKUP(CONCATENATE($W$9,\"_\",T19),選手名簿!$A:$G,7,FALSE))=TRUE,\"\",VLOOKUP(CONCATENATE($W$9,\"_\",T19),選手名簿!$A:$G,7,FALSE))","v":5},null,null,null,1,null,null,null,null,null,1]
[null,1,null,null,null,null,null,1,null,null,{"$f":"IF(ISERROR(VLOOKUP(CONCATENATE($B$9,\"_\",Q20),選手名簿!$A:$G,7,FALSE))=TRUE,\"\",VLOOKUP(CONCATENATE($B$9,\"_\",Q20),選手名簿!$A:$G,7,FALSE))","v":5},{"$f":"IF(ISERROR(VLOOKUP(CONCATENATE($B$9,\"_\",Q20),選手名簿!$A:$E,5,FALSE))=TRUE,\"\",VLOOKUP(CONCATENATE($B$9,\"_\",Q20),選手名簿!$A:$E,5,FALSE))","v":"中道　大聖"},null,null,null,null,10,{"$f":"IF(ISERROR(VLOOKUP(CONCATENATE($B$9,\"_\",Q20),選手名簿!$A:$E,4,FALSE))=TRUE,\"\",VLOOKUP(CONCATENATE($B$9,\"_\",Q20),選手名簿!$A:$E,4,FALSE))","v":"MF"},{"$f":"IF(ISERROR(VLOOKUP(CONCATENATE($W$9,\"_\",T20),選手名簿!$A:$E,4,FALSE))=TRUE,\"\",VLOOKUP(CONCATENATE($W$9,\"_\",T20),選手名簿!$A:$E,4,FALSE))","v":"DF"},11,{"$f":"IF(ISERROR(VLOOKUP(CONCATENATE($W$9,\"_\",T20),選手名簿!$A:$E,5,FALSE))=TRUE,\"\",VLOOKUP(CONCATENATE($W$9,\"_\",T20),選手名簿!$A:$E,5,FALSE))","v":"山下　紫凰"},null,null,null,null,{"$f":"IF(ISERROR(VLOOKUP(CONCATENATE($W$9,\"_\",T20),選手名簿!$A:$G,7,FALSE))=TRUE,\"\",VLOOKUP(CONCATENATE($W$9,\"_\",T20),選手名簿!$A:$G,7,FALSE))","v":5},null,null,null,1,null,null,null,null,null,1]
[null,1,null,null,null,null,null,null,"①",1,{"$f":"IF(ISERROR(VLOOKUP(CONCATENATE($B$9,\"_\",Q21),選手名簿!$A:$G,7,FALSE))=TRUE,\"\",VLOOKUP(CONCATENATE($B$9,\"_\",Q21),選手名簿!$A:$G,7,FALSE))","v":5},{"$f":"IF(ISERROR(VLOOKUP(CONCATENATE($B$9,\"_\",Q21),選手名簿!$A:$E,5,FALSE))=TRUE,\"\",VLOOKUP(CONCATENATE($B$9,\"_\",Q21),選手名簿!$A:$E,5,FALSE))","v":"高野　真音"},null,null,null,null,11,{"$f":"IF(ISERROR(VLOOKUP(CONCATENATE($B$9,\"_\",Q21),選手名簿!$A:$E,4,FALSE))=TRUE,\"\",VLOOKUP(CONCATENATE($B$9,\"_\",Q21),選手名簿!$A:$E,4,FALSE))","v":"MF"},{"$f":"IF(ISERROR(VLOOKUP(CONCATENATE($W$9,\"_\",T21),選手名簿!$A:$E,4,FALSE))=TRUE,\"\",VLOOKUP(CONCATENATE($W$9,\"_\",T21),選手名簿!$A:$E,4,FALSE))","v":"MF"},6,{"$f":"IF(ISERROR(VLOOKUP(CONCATENATE($W$9,\"_\",T21),選手名簿!$A:$E,5,FALSE))=TRUE,\"\",VLOOKUP(CONCATENATE($W$9,\"_\",T21),選手名簿!$A:$E,5,FALSE))","v":"大久保　桧埜"},null,null,null,null,{"$f":"IF(ISERROR(VLOOKUP(CONCATENATE($W$9,\"_\",T21),選手名簿!$A:$G,7,FALSE))=TRUE,\"\",VLOOKUP(CONCATENATE($W$9,\"_\",T21),選手名簿!$A:$G,7,FALSE))","v":4},null,null,null,null,null,null,null,null,null,0]
[null,1,null,null,null,null,null,null,"①",1,{"$f":"IF(ISERROR(VLOOKUP(CONCATENATE($B$9,\"_\",Q22),選手名簿!$A:$G,7,FALSE))=TRUE,\"\",VLOOKUP(CONCATENATE($B$9,\"_\",Q22),選手名簿!$A:$G,7,FALSE))","v":4},{"$f":"IF(ISERROR(VLOOKUP(CONCATENATE($B$9,\"_\",Q22),選手名簿!$A:$E,5,FALSE))=TRUE,\"\",VLOOKUP(CONCATENATE($B$9,\"_\",Q22),選手名簿!$A:$E,5,FALSE))","v":"波多野　瑛太"},null,null,null,null,6,{"$f":"IF(ISERROR(VLOOKUP(CONCATENATE($B$9,\"_\",Q22),選手名簿!$A:$E,4,FALSE))=TRUE,\"\",VLOOKUP(CONCATENATE($B$9,\"_\",Q22),選手名簿!$A:$E,4,FALSE))","v":"FW"},{"$f":"IF(ISERROR(VLOOKUP(CONCATENATE($W$9,\"_\",T22),選手名簿!$A:$E,4,FALSE))=TRUE,\"\",VLOOKUP(CONCATENATE($W$9,\"_\",T22),選手名簿!$A:$E,4,FALSE))","v":"MF"},10,{"$f":"IF(ISERROR(VLOOKUP(CONCATENATE($W$9,\"_\",T22),選手名簿!$A:$E,5,FALSE))=TRUE,\"\",VLOOKUP(CONCATENATE($W$9,\"_\",T22),選手名簿!$A:$E,5,FALSE))","v":"大谷　悟史"},null,null,null,null,{"$f":"IF(ISERROR(VLOOKUP(CONCATENATE($W$9,\"_\",T22),選手名簿!$A:$G,7,FALSE))=TRUE,\"\",VLOOKUP(CONCATENATE($W$9,\"_\",T22),選手名簿!$A:$G,7,FALSE))","v":5},null,1,null,2,null,null,null,null,null,3]
[null,5,null,null,null,null,null,3,"①",2,{"$f":"IF(ISERROR(VLOOKUP(CONCATENATE($B$9,\"_\",Q23),選手名簿!$A:$G,7,FALSE))=TRUE,\"\",VLOOKUP(CONCATENATE($B$9,\"_\",Q23),選手名簿!$A:$G,7,FALSE))","v":5},{"$f":"IF(ISERROR(VLOOKUP(CONCATENATE($B$9,\"_\",Q23),選手名簿!$A:$E,5,FALSE))=TRUE,\"\",VLOOKUP(CONCATENATE($B$9,\"_\",Q23),選手名簿!$A:$E,5,FALSE))","v":"河野　真剣"},null,null,null,null,12,{"$f":"IF(ISERROR(VLOOKUP(CONCATENATE($B$9,\"_\",Q23),選手名簿!$A:$E,4,FALSE))=TRUE,\"\",VLOOKUP(CONCATENATE($B$9,\"_\",Q23),選手名簿!$A:$E,4,FALSE))","v":"FW"},{"$f":"IF(ISERROR(VLOOKUP(CONCATENATE($W$9,\"_\",T23),選手名簿!$A:$E,4,FALSE))=TRUE,\"\",VLOOKUP(CONCATENATE($W$9,\"_\",T23),選手名簿!$A:$E,4,FALSE))","v":"FW"},7,{"$f":"IF(ISERROR(VLOOKUP(CONCATENATE($W$9,\"_\",T23),選手名簿!$A:$E,5,FALSE))=TRUE,\"\",VLOOKUP(CONCATENATE($W$9,\"_\",T23),選手名簿!$A:$E,5,FALSE))","v":"下郡　遼平"},null,null,null,null,{"$f":"IF(ISERROR(VLOOKUP(CONCATENATE($W$9,\"_\",T23),選手名簿!$A:$G,7,FALSE))=TRUE,\"\",VLOOKUP(CONCATENATE($W$9,\"_\",T23),選手名簿!$A:$G,7,FALSE))","v":4},null,null,null,null,null,null,null,null,null,0]
[null,null,null,null,null,null,null,null,null,null,null,null,null,null,null,null,"交替要員"]
[null,{"$f":"SUM(D25,F25,H25,J25)","v":0},null,null,null,null,null,null,null,null,{"$f":"IF(ISERROR(VLOOKUP(CONCATENATE($B$9,\"_\",Q25),選手名簿!$A:$G,7,FALSE))=TRUE,\"\",VLOOKUP(CONCATENATE($B$9,\"_\",Q25),選手名簿!$A:$G,7,FALSE))","v":5},{"$f":"IF(ISERROR(VLOOKUP(CONCATENATE($B$9,\"_\",Q25),選手名簿!$A:$E,5,FALSE))=TRUE,\"\",VLOOKUP(CONCATENATE($B$9,\"_\",Q25),選手名簿!$A:$E,5,FALSE))","v":"金子　斉恩"},null,null,null,null,3,{"$f":"IF(ISERROR(VLOOKUP(CONCATENATE($B$9,\"_\",Q25),選手名簿!$A:$E,4,FALSE))=TRUE,\"\",VLOOKUP(CONCATENATE($B$9,\"_\",Q25),選手名簿!$A:$E,4,FALSE))","v":"MF"},{"$f":"IF(ISERROR(VLOOKUP(CONCATENATE($W$9,\"_\",T25),選手名簿!$A:$E,4,FALSE))=TRUE,\"\",VLOOKUP(CONCATENATE($W$9,\"_\",T25),選手名簿!$A:$E,4,FALSE))","v":"DF"},2,{"$f":"IF(ISERROR(VLOOKUP(CONCATENATE($W$9,\"_\",T25),選手名簿!$A:$E,5,FALSE))=TRUE,\"\",VLOOKUP(CONCATENATE($W$9,\"_\",T25),選手名簿!$A:$E,5,FALSE))","v":"松下　未来翔"},null,null,null,null,{"$f":"IF(ISERROR(VLOOKUP(CONCATENATE($W$9,\"_\",T25),選手名簿!$A:$G,7,FALSE))=TRUE,\"\",VLOOKUP(CONCATENATE($W$9,\"_\",T25),選手名簿!$A:$G,7,FALSE))","v":5},null,null,null,null,null,null,null,null,null,{"$f":"SUM(AB25,AD25,AF25,AH25)","v":0}]
[null,0,null,null,null,null,null,null,null,null,{"$f":"IF(ISERROR(VLOOKUP(CONCATENATE($B$9,\"_\",Q26),選手名簿!$A:$G,7,FALSE))=TRUE,\"\",VLOOKUP(CONCATENATE($B$9,\"_\",Q26),選手名簿!$A:$G,7,FALSE))","v":5},{"$f":"IF(ISERROR(VLOOKUP(CONCATENATE($B$9,\"_\",Q26),選手名簿!$A:$E,5,FALSE))=TRUE,\"\",VLOOKUP(CONCATENATE($B$9,\"_\",Q26),選手名簿!$A:$E,5,FALSE))","v":"麻生　瑛太"},null,null,null,null,5,{"$f":"IF(ISERROR(VLOOKUP(CONCATENATE($B$9,\"_\",Q26),選手名簿!$A:$E,4,FALSE))=TRUE,\"\",VLOOKUP(CONCATENATE($B$9,\"_\",Q26),選手名簿!$A:$E,4,FALSE))","v":"DF"},{"$f":"IF(ISERROR(VLOOKUP(CONCATENATE($W$9,\"_\",T26),選手名簿!$A:$E,4,FALSE))=TRUE,\"\",VLOOKUP(CONCATENATE($W$9,\"_\",T26),選手名簿!$A:$E,4,FALSE))","v":"MF"},3,{"$f":"IF(ISERROR(VLOOKUP(CONCATENATE($W$9,\"_\",T26),選手名簿!$A:$E,5,FALSE))=TRUE,\"\",VLOOKUP(CONCATENATE($W$9,\"_\",T26),選手名簿!$A:$E,5,FALSE))","v":"阿部　夏樹"},null,null,null,null,{"$f":"IF(ISERROR(VLOOKUP(CONCATENATE($W$9,\"_\",T26),選手名簿!$A:$G,7,FALSE))=TRUE,\"\",VLOOKUP(CONCATENATE($W$9,\"_\",T26),選手名簿!$A:$G,7,FALSE))","v":5},null,null,null,null,null,null,null,null,null,0]
[null,0,null,null,null,null,null,null,null,null,{"$f":"IF(ISERROR(VLOOKUP(CONCATENATE($B$9,\"_\",Q27),選手名簿!$A:$G,7,FALSE))=TRUE,\"\",VLOOKUP(CONCATENATE($B$9,\"_\",Q27),選手名簿!$A:$G,7,FALSE))","v":5},{"$f":"IF(ISERROR(VLOOKUP(CONCATENATE($B$9,\"_\",Q27),選手名簿!$A:$E,5,FALSE))=TRUE,\"\",VLOOKUP(CONCATENATE($B$9,\"_\",Q27),選手名簿!$A:$E,5,FALSE))","v":"板井　航一"},null,null,null,null,7,{"$f":"IF(ISERROR(VLOOKUP(CONCATENATE($B$9,\"_\",Q27),選手名簿!$A:$E,4,FALSE))=TRUE,\"\",VLOOKUP(CONCATENATE($B$9,\"_\",Q27),選手名簿!$A:$E,4,FALSE))","v":"MF"},{"$f":"IF(ISERROR(VLOOKUP(CONCATENATE($W$9,\"_\",T27),選手名簿!$A:$E,4,FALSE))=TRUE,\"\",VLOOKUP(CONCATENATE($W$9,\"_\",T27),選手名簿!$A:$E,4,FALSE))","v":"FW"},5,{"$f":"IF(ISERROR(VLOOKUP(CONCATENATE($W$9,\"_\",T27),選手名簿!$A:$E,5,FALSE))=TRUE,\"\",VLOOKUP(CONCATENATE($W$9,\"_\",T27),選手名簿!$A:$E,5,FALSE))","v":"佐藤　嘉人"},null,null,null,null,{"$f":"IF(ISERROR(VLOOKUP(CONCATENATE($W$9,\"_\",T27),選手名簿!$A:$G,7,FALSE))=TRUE,\"\",VLOOKUP(CONCATENATE($W$9,\"_\",T27),選手名簿!$A:$G,7,FALSE))","v":4},null,null,null,null,null,null,null,null,null,0]
[null,1,null,null,null,null,null,1,null,null,{"$f":"IF(ISERROR(VLOOKUP(CONCATENATE($B$9,\"_\",Q28),選手名簿!$A:$G,7,FALSE))=TRUE,\"\",VLOOKUP(CONCATENATE($B$9,\"_\",Q28),選手名簿!$A:$G,7,FALSE))","v":5},{"$f":"IF(ISERROR(VLOOKUP(CONCATENATE($B$9,\"_\",Q28),選手名簿!$A:$E,5,FALSE))=TRUE,\"\",VLOOKUP(CONCATENATE($B$9,\"_\",Q28),選手名簿!$A:$E,5,FALSE))","v":"佐藤　成"},null,null,null,null,8,{"$f":"IF(ISERROR(VLOOKUP(CONCATENATE($B$9,\"_\",Q28),選手名簿!$A:$E,4,FALSE))=TRUE,\"\",VLOOKUP(CONCATENATE($B$9,\"_\",Q28),選手名簿!$A:$E,4,FALSE))","v":"MF"},{"$f":"IF(ISERROR(VLOOKUP(CONCATENATE($W$9,\"_\",T28),選手名簿!$A:$E,4,FALSE))=TRUE,\"\",VLOOKUP(CONCATENATE($W$9,\"_\",T28),選手名簿!$A:$E,4,FALSE))","v":"GK"},1,{"$f":"IF(ISERROR(VLOOKUP(CONCATENATE($W$9,\"_\",T28),選手名簿!$A:$E,5,FALSE))=TRUE,\"\",VLOOKUP(CONCATENATE($W$9,\"_\",T28),選手名簿!$A:$E,5,FALSE))","v":"岩本　凌真"},null,null,null,null,{"$f":"IF(ISERROR(VLOOKUP(CONCATENATE($W$9,\"_\",T28),選手名簿!$A:$G,7,FALSE))=TRUE,\"\",VLOOKUP(CONCATENATE($W$9,\"_\",T28),選手名簿!$A:$G,7,FALSE))","v":5},null,null,null,null,null,null,null,null,null,0]
[null,{"$f":"SUM(D29,F29,H29,J29)","v":0},null,null,null,null,null,null,null,null,{"$f":"IF(ISERROR(VLOOKUP(CONCATENATE($B$9,\"_\",Q29),選手名簿!$A:$G,7,FALSE))=TRUE,\"\",VLOOKUP(CONCATENATE($B$9,\"_\",Q29),選手名簿!$A:$G,7,FALSE))","v":4},{"$f":"IF(ISERROR(VLOOKUP(CONCATENATE($B$9,\"_\",Q29),選手名簿!$A:$E,5,FALSE))=TRUE,\"\",VLOOKUP(CONCATENATE($B$9,\"_\",Q29),選手名簿!$A:$E,5,FALSE))","v":"増永　大生獅"},null,null,null,null,13,{"$f":"IF(ISERROR(VLOOKUP(CONCATENATE($B$9,\"_\",Q29),選手名簿!$A:$E,4,FALSE))=TRUE,\"\",VLOOKUP(CONCATENATE($B$9,\"_\",Q29),選手名簿!$A:$E,4,FALSE))","v":"MF"},{"$f":"IF(ISERROR(VLOOKUP(CONCATENATE($W$9,\"_\",T29),選手名簿!$A:$E,4,FALSE))=TRUE,\"\",VLOOKUP(CONCATENATE($W$9,\"_\",T29),選手名簿!$A:$E,4,FALSE))","v":"MF"},13,{"$f":"IF(ISERROR(VLOOKUP(CONCATENATE($W$9,\"_\",T29),選手名簿!$A:$E,5,FALSE))=TRUE,\"\",VLOOKUP(CONCATENATE($W$9,\"_\",T29),選手名簿!$A:$E,5,FALSE))","v":"麻生　拓夢"},null,null,null,null,{"$f":"IF(ISERROR(VLOOKUP(CONCATENATE($W$9,\"_\",T29),選手名簿!$A:$G,7,FALSE))=TRUE,\"\",VLOOKUP(CONCATENATE($W$9,\"_\",T29),選手名簿!$A:$G,7,FALSE))","v":4},null,null,null,null,null,null,null,null,null,{"$f":"SUM(AB29,AD29,AF29,AH29)","v":0}]
[null,{"$f":"SUM(D30,F30,H30,J30)","v":0},null,null,null,null,null,null,null,null,{"$f":"IF(ISERROR(VLOOKUP(CONCATENATE($B$9,\"_\",Q30),選手名簿!$A:$G,7,FALSE))=TRUE,\"\",VLOOKUP(CONCATENATE($B$9,\"_\",Q30),選手名簿!$A:$G,7,FALSE))","v":4},{"$f":"IF(ISERROR(VLOOKUP(CONCATENATE($B$9,\"_\",Q30),選手名簿!$A:$E,5,FALSE))=TRUE,\"\",VLOOKUP(CONCATENATE($B$9,\"_\",Q30),選手名簿!$A:$E,5,FALSE))","v":"増田　壮我"},null,null,null,null,14,{"$f":"IF(ISERROR(VLOOKUP(CONCATENATE($B$9,\"_\",Q30),選手名簿!$A:$E,4,FALSE))=TRUE,\"\",VLOOKUP(CONCATENATE($B$9,\"_\",Q30),選手名簿!$A:$E,4,FALSE))","v":"MF"},{"$f":"IF(ISERROR(VLOOKUP(CONCATENATE($W$9,\"_\",T30),選手名簿!$A:$E,4,FALSE))=TRUE,\"\",VLOOKUP(CONCATENATE($W$9,\"_\",T30),選手名簿!$A:$E,4,FALSE))","v":"FW"},14,{"$f":"IF(ISERROR(VLOOKUP(CONCATENATE($W$9,\"_\",T30),選手名簿!$A:$E,5,FALSE))=TRUE,\"\",VLOOKUP(CONCATENATE($W$9,\"_\",T30),選手名簿!$A:$E,5,FALSE))","v":"川上　徐生"},null,null,null,null,{"$f":"IF(ISERROR(VLOOKUP(CONCATENATE($W$9,\"_\",T30),選手名簿!$A:$G,7,FALSE))=TRUE,\"\",VLOOKUP(CONCATENATE($W$9,\"_\",T30),選手名簿!$A:$G,7,FALSE))","v":4},null,null,null,null,null,null,null,null,null,{"$f":"SUM(AB30,AD30,AF30,AH30)","v":0}]
[null,0,null,null,null,null,null,null,null,null,{"$f":"IF(ISERROR(VLOOKUP(CONCATENATE($B$9,\"_\",Q31),選手名簿!$A:$G,7,FALSE))=TRUE,\"\",VLOOKUP(CONCATENATE($B$9,\"_\",Q31),選手名簿!$A:$G,7,FALSE))","v":5},{"$f":"IF(ISERROR(VLOOKUP(CONCATENATE($B$9,\"_\",Q31),選手名簿!$A:$E,5,FALSE))=TRUE,\"\",VLOOKUP(CONCATENATE($B$9,\"_\",Q31),選手名簿!$A:$E,5,FALSE))","v":"財津　翔大"},null,null,null,null,15,{"$f":"IF(ISERROR(VLOOKUP(CONCATENATE($B$9,\"_\",Q31),選手名簿!$A:$E,4,FALSE))=TRUE,\"\",VLOOKUP(CONCATENATE($B$9,\"_\",Q31),選手名簿!$A:$E,4,FALSE))","v":"MF"},{"$f":"IF(ISERROR(VLOOKUP(CONCATENATE($W$9,\"_\",T31),選手名簿!$A:$E,4,FALSE))=TRUE,\"\",VLOOKUP(CONCATENATE($W$9,\"_\",T31),選手名簿!$A:$E,4,FALSE))","v":"DF"},15,{"$f":"IF(ISERROR(VLOOKUP(CONCATENATE($W$9,\"_\",T31),選手名簿!$A:$E,5,FALSE))=TRUE,\"\",VLOOKUP(CONCATENATE($W$9,\"_\",T31),選手名簿!$A:$E,5,FALSE))","v":"長田　賢昇"},null,null,null,null,{"$f":"IF(ISERROR(VLOOKUP(CONCATENATE($W$9,\"_\",T31),選手名簿!$A:$G,7,FALSE))=TRUE,\"\",VLOOKUP(CONCATENATE($W$9,\"_\",T31),選手名簿!$A:$G,7,FALSE))","v":4},null,null,null,null,null,null,null,null,null,0]
[null,0,null,null,null,null,null,null,null,null,{"$f":"IF(ISERROR(VLOOKUP(CONCATENATE($B$9,\"_\",Q32),選手名簿!$A:$G,7,FALSE))=TRUE,\"\",VLOOKUP(CONCATENATE($B$9,\"_\",Q32),選手名簿!$A:$G,7,FALSE))","v":4},{"$f":"IF(ISERROR(VLOOKUP(CONCATENATE($B$9,\"_\",Q32),選手名簿!$A:$E,5,FALSE))=TRUE,\"\",VLOOKUP(CONCATENATE($B$9,\"_\",Q32),選手名簿!$A:$E,5,FALSE))","v":"佐藤　煌将"},null,null,null,null,16,{"$f":"IF(ISERROR(VLOOKUP(CONCATENATE($B$9,\"_\",Q32),選手名簿!$A:$E,4,FALSE))=TRUE,\"\",VLOOKUP(CONCATENATE($B$9,\"_\",Q32),選手名簿!$A:$E,4,FALSE))","v":"FW"},{"$f":"IF(ISERROR(VLOOKUP(CONCATENATE($W$9,\"_\",T32),選手名簿!$A:$E,4,FALSE))=TRUE,\"\",VLOOKUP(CONCATENATE($W$9,\"_\",T32),選手名簿!$A:$E,4,FALSE))","v":"GK"},16,{"$f":"IF(ISERROR(VLOOKUP(CONCATENATE($W$9,\"_\",T32),選手名簿!$A:$E,5,FALSE))=TRUE,\"\",VLOOKUP(CONCATENATE($W$9,\"_\",T32),選手名簿!$A:$E,5,FALSE))","v":"北田　旺佑"},null,null,null,null,{"$f":"IF(ISERROR(VLOOKUP(CONCATENATE($W$9,\"_\",T32),選手名簿!$A:$G,7,FALSE))=TRUE,\"\",VLOOKUP(CONCATENATE($W$9,\"_\",T32),選手名簿!$A:$G,7,FALSE))","v":4},null,null,null,null,null,null,null,null,null,0]
[null,0,null,null,null,null,null,null,null,null,{"$f":"IF(ISERROR(VLOOKUP(CONCATENATE($B$9,\"_\",Q33),選手名簿!$A:$G,7,FALSE))=TRUE,\"\",VLOOKUP(CONCATENATE($B$9,\"_\",Q33),選手名簿!$A:$G,7,FALSE))","v":""},{"$f":"IF(ISERROR(VLOOKUP(CONCATENATE($B$9,\"_\",Q33),選手名簿!$A:$E,5,FALSE))=TRUE,\"\",VLOOKUP(CONCATENATE($B$9,\"_\",Q33),選手名簿!$A:$E,5,FALSE))","v":""},null,null,null,null,null,{"$f":"IF(ISERROR(VLOOKUP(CONCATENATE($B$9,\"_\",Q33),選手名簿!$A:$E,4,FALSE))=TRUE,\"\",VLOOKUP(CONCATENATE($B$9,\"_\",Q33),選手名簿!$A:$E,4,FALSE))","v":""},{"$f":"IF(ISERROR(VLOOKUP(CONCATENATE($W$9,\"_\",T33),選手名簿!$A:$E,4,FALSE))=TRUE,\"\",VLOOKUP(CONCATENATE($W$9,\"_\",T33),選手名簿!$A:$E,4,FALSE))","v":""},null,{"$f":"IF(ISERROR(VLOOKUP(CONCATENATE($W$9,\"_\",T33),選手名簿!$A:$E,5,FALSE))=TRUE,\"\",VLOOKUP(CONCATENATE($W$9,\"_\",T33),選手名簿!$A:$E,5,FALSE))","v":""},null,null,null,null,{"$f":"IF(ISERROR(VLOOKUP(CONCATENATE($W$9,\"_\",T33),選手名簿!$A:$G,7,FALSE))=TRUE,\"\",VLOOKUP(CONCATENATE($W$9,\"_\",T33),選手名簿!$A:$G,7,FALSE))","v":""},null,null,null,null,null,null,null,null,null,0]
[null,0,null,null,null,null,null,null,null,null,{"$f":"IF(ISERROR(VLOOKUP(CONCATENATE($B$9,\"_\",Q34),選手名簿!$A:$G,7,FALSE))=TRUE,\"\",VLOOKUP(CONCATENATE($B$9,\"_\",Q34),選手名簿!$A:$G,7,FALSE))","v":""},{"$f":"IF(ISERROR(VLOOKUP(CONCATENATE($B$9,\"_\",Q34),選手名簿!$A:$E,5,FALSE))=TRUE,\"\",VLOOKUP(CONCATENATE($B$9,\"_\",Q34),選手名簿!$A:$E,5,FALSE))","v":""},null,null,null,null,null,{"$f":"IF(ISERROR(VLOOKUP(CONCATENATE($B$9,\"_\",Q34),選手名簿!$A:$E,4,FALSE))=TRUE,\"\",VLOOKUP(CONCATENATE($B$9,\"_\",Q34),選手名簿!$A:$E,4,FALSE))","v":""},{"$f":"IF(ISERROR(VLOOKUP(CONCATENATE($W$9,\"_\",T34),選手名簿!$A:$E,4,FALSE))=TRUE,\"\",VLOOKUP(CONCATENATE($W$9,\"_\",T34),選手名簿!$A:$E,4,FALSE))","v":""},null,{"$f":"IF(ISERROR(VLOOKUP(CONCATENATE($W$9,\"_\",T34),選手名簿!$A:$E,5,FALSE))=TRUE,\"\",VLOOKUP(CONCATENATE($W$9,\"_\",T34),選手名簿!$A:$E,5,FALSE))","v":""},null,null,null,null,{"$f":"IF(ISERROR(VLOOKUP(CONCATENATE($W$9,\"_\",T34),選手名簿!$A:$G,7,FALSE))=TRUE,\"\",VLOOKUP(CONCATENATE($W$9,\"_\",T34),選手名簿!$A:$G,7,FALSE))","v":""},null,null,null,null,null,null,null,null,null,0]
[null,{"$f":"SUM(C35:J35)","v":10},null,{"$f":"SUM(D16:D23,D25:D34)","v":0},null,{"$f":"SUM(F16:F23,F25:F34)","v":0},null,{"$f":"SUM(H16:H23,H25:H34)","v":6},null,{"$f":"SUM(J16:J23,J25:J34)","v":4},"小計",{"$f":"SUM(D35,F35,H35,J35)","v":10},null,null,null,null,"合計","シュート数",null,"合計",{"$f":"SUM(AB35,AD35,AF35,AH35)","v":5},null,null,null,null,"小計",null,{"$f":"SUM(AB16:AB23,AB25:AB34)","v":1},null,{"$f":"SUM(AD16:AD23,AD25:AD34)","v":4},null,{"$f":"SUM(AF16:AF23,AF25:AF34)","v":0},null,{"$f":"SUM(AH16:AH23,AH25:AH34)","v":0},null,{"$f":"SUM(AA35:AH35)","v":5}]
[null,null,"OUT",null,null,null,null,null,null,"→","IN",null,null,null,null,null,null,"交代",null,null,"OUT",null,null,null,null,null,null,"→","IN"]
[null,null,null,null,null,null,null,null,null,null,null,null,null,null,null,null,null,"選手"]
[25,"分",9,"番",{"$f":"IF(ISERROR(VLOOKUP(CONCATENATE($B$9,\"_\",C38),選手名簿!$A:$E,5,FALSE))=TRUE,\"\",VLOOKUP(CONCATENATE($B$9,\"_\",C38),選手名簿!$A:$E,5,FALSE))","v":"奈須　翔大"},null,null,null,null,"→",7,"番",{"$f":"IF(ISERROR(VLOOKUP(CONCATENATE($B$9,\"_\",K38),選手名簿!$A:$E,5,FALSE))=TRUE,\"\",VLOOKUP(CONCATENATE($B$9,\"_\",K38),選手名簿!$A:$E,5,FALSE))","v":"板井　航一"},null,null,null,null,null,null,"分",null,"番",{"$f":"IF(ISERROR(VLOOKUP(CONCATENATE($W$9,\"_\",U38),選手名簿!$A:$E,5,FALSE))=TRUE,\"\",VLOOKUP(CONCATENATE($W$9,\"_\",U38),選手名簿!$A:$E,5,FALSE))","v":""},null,null,null,null,"→",null,"番",{"$f":"IF(ISERROR(VLOOKUP(CONCATENATE($W$9,\"_\",AC38),選手名簿!$A:$E,5,FALSE))=TRUE,\"\",VLOOKUP(CONCATENATE($W$9,\"_\",AC38),選手名簿!$A:$E,5,FALSE))","v":""}]
[28,"分",10,"番",{"$f":"IF(ISERROR(VLOOKUP(CONCATENATE($B$9,\"_\",C39),選手名簿!$A:$E,5,FALSE))=TRUE,\"\",VLOOKUP(CONCATENATE($B$9,\"_\",C39),選手名簿!$A:$E,5,FALSE))","v":"中道　大聖"},null,null,null,null,"→",8,"番",{"$f":"IF(ISERROR(VLOOKUP(CONCATENATE($B$9,\"_\",K39),選手名簿!$A:$E,5,FALSE))=TRUE,\"\",VLOOKUP(CONCATENATE($B$9,\"_\",K39),選手名簿!$A:$E,5,FALSE))","v":"佐藤　成"},null,null,null,null,null,null,"分",null,"番",{"$f":"IF(ISERROR(VLOOKUP(CONCATENATE($W$9,\"_\",U39),選手名簿!$A:$E,5,FALSE))=TRUE,\"\",VLOOKUP(CONCATENATE($W$9,\"_\",U39),選手名簿!$A:$E,5,FALSE))","v":""},null,null,null,null,"→",null,"番",{"$f":"IF(ISERROR(VLOOKUP(CONCATENATE($W$9,\"_\",AC39),選手名簿!$A:$E,5,FALSE))=TRUE,\"\",VLOOKUP(CONCATENATE($W$9,\"_\",AC39),選手名簿!$A:$E,5,FALSE))","v":""}]
[28,"分",6,"番",{"$f":"IF(ISERROR(VLOOKUP(CONCATENATE($B$9,\"_\",C40),選手名簿!$A:$E,5,FALSE))=TRUE,\"\",VLOOKUP(CONCATENATE($B$9,\"_\",C40),選手名簿!$A:$E,5,FALSE))","v":"波多野　瑛太"},null,null,null,null,"→",3,"番",{"$f":"IF(ISERROR(VLOOKUP(CONCATENATE($B$9,\"_\",K40),選手名簿!$A:$E,5,FALSE))=TRUE,\"\",VLOOKUP(CONCATENATE($B$9,\"_\",K40),選手名簿!$A:$E,5,FALSE))","v":"金子　斉恩"},null,null,null,null,null,null,"分",null,"番",{"$f":"IF(ISERROR(VLOOKUP(CONCATENATE($W$9,\"_\",U40),選手名簿!$A:$E,5,FALSE))=TRUE,\"\",VLOOKUP(CONCATENATE($W$9,\"_\",U40),選手名簿!$A:$E,5,FALSE))","v":""},null,null,null,null,"→",null,"番",{"$f":"IF(ISERROR(VLOOKUP(CONCATENATE($W$9,\"_\",AC40),選手名簿!$A:$E,5,FALSE))=TRUE,\"\",VLOOKUP(CONCATENATE($W$9,\"_\",AC40),選手名簿!$A:$E,5,FALSE))","v":""}]
[29,"分",11,"番",{"$f":"IF(ISERROR(VLOOKUP(CONCATENATE($B$9,\"_\",C41),選手名簿!$A:$E,5,FALSE))=TRUE,\"\",VLOOKUP(CONCATENATE($B$9,\"_\",C41),選手名簿!$A:$E,5,FALSE))","v":"高野　真音"},null,null,null,null,"→",5,"番",{"$f":"IF(ISERROR(VLOOKUP(CONCATENATE($B$9,\"_\",K41),選手名簿!$A:$E,5,FALSE))=TRUE,\"\",VLOOKUP(CONCATENATE($B$9,\"_\",K41),選手名簿!$A:$E,5,FALSE))","v":"麻生　瑛太"},null,null,null,null,null,null,"分",null,"番",{"$f":"IF(ISERROR(VLOOKUP(CONCATENATE($W$9,\"_\",U41),選手名簿!$A:$E,5,FALSE))=TRUE,\"\",VLOOKUP(CONCATENATE($W$9,\"_\",U41),選手名簿!$A:$E,5,FALSE))","v":""},null,null,null,null,"→",null,"番",{"$f":"IF(ISERROR(VLOOKUP(CONCATENATE($W$9,\"_\",AC41),選手名簿!$A:$E,5,FALSE))=TRUE,\"\",VLOOKUP(CONCATENATE($W$9,\"_\",AC41),選手名簿!$A:$E,5,FALSE))","v":""}]
[null,"分",null,"番",{"$f":"IF(ISERROR(VLOOKUP(CONCATENATE($B$9,\"_\",C42),選手名簿!$A:$E,5,FALSE))=TRUE,\"\",VLOOKUP(CONCATENATE($B$9,\"_\",C42),選手名簿!$A:$E,5,FALSE))","v":""},null,null,null,null,"→",null,"番",{"$f":"IF(ISERROR(VLOOKUP(CONCATENATE($B$9,\"_\",K42),選手名簿!$A:$E,5,FALSE))=TRUE,\"\",VLOOKUP(CONCATENATE($B$9,\"_\",K42),選手名簿!$A:$E,5,FALSE))","v":""},null,null,null,null,null,null,"分",null,"番",{"$f":"IF(ISERROR(VLOOKUP(CONCATENATE($W$9,\"_\",U42),選手名簿!$A:$E,5,FALSE))=TRUE,\"\",VLOOKUP(CONCATENATE($W$9,\"_\",U42),選手名簿!$A:$E,5,FALSE))","v":""},null,null,null,null,"→",null,"番",{"$f":"IF(ISERROR(VLOOKUP(CONCATENATE($W$9,\"_\",AC42),選手名簿!$A:$E,5,FALSE))=TRUE,\"\",VLOOKUP(CONCATENATE($W$9,\"_\",AC42),選手名簿!$A:$E,5,FALSE))","v":""}]
[null,"分",null,"番",{"$f":"IF(ISERROR(VLOOKUP(CONCATENATE($B$9,\"_\",C43),選手名簿!$A:$E,5,FALSE))=TRUE,\"\",VLOOKUP(CONCATENATE($B$9,\"_\",C43),選手名簿!$A:$E,5,FALSE))","v":""},null,null,null,null,"→",null,"番",{"$f":"IF(ISERROR(VLOOKUP(CONCATENATE($B$9,\"_\",K43),選手名簿!$A:$E,5,FALSE))=TRUE,\"\",VLOOKUP(CONCATENATE($B$9,\"_\",K43),選手名簿!$A:$E,5,FALSE))","v":""},null,null,null,null,null,null,"分",null,"番",{"$f":"IF(ISERROR(VLOOKUP(CONCATENATE($W$9,\"_\",U43),選手名簿!$A:$E,5,FALSE))=TRUE,\"\",VLOOKUP(CONCATENATE($W$9,\"_\",U43),選手名簿!$A:$E,5,FALSE))","v":""},null,null,null,null,"→",null,"番",{"$f":"IF(ISERROR(VLOOKUP(CONCATENATE($W$9,\"_\",AC43),選手名簿!$A:$E,5,FALSE))=TRUE,\"\",VLOOKUP(CONCATENATE($W$9,\"_\",AC43),選手名簿!$A:$E,5,FALSE))","v":""}]
[null,"分",null,"番",{"$f":"IF(ISERROR(VLOOKUP(CONCATENATE($B$9,\"_\",C44),選手名簿!$A:$E,5,FALSE))=TRUE,\"\",VLOOKUP(CONCATENATE($B$9,\"_\",C44),選手名簿!$A:$E,5,FALSE))","v":""},null,null,null,null,"→",null,"番",{"$f":"IF(ISERROR(VLOOKUP(CONCATENATE($B$9,\"_\",K44),選手名簿!$A:$E,5,FALSE))=TRUE,\"\",VLOOKUP(CONCATENATE($B$9,\"_\",K44),選手名簿!$A:$E,5,FALSE))","v":""},null,null,null,null,null,null,"分",null,"番",{"$f":"IF(ISERROR(VLOOKUP(CONCATENATE($W$9,\"_\",U44),選手名簿!$A:$E,5,FALSE))=TRUE,\"\",VLOOKUP(CONCATENATE($W$9,\"_\",U44),選手名簿!$A:$E,5,FALSE))","v":""},null,null,null,null,"→",null,"番",{"$f":"IF(ISERROR(VLOOKUP(CONCATENATE($W$9,\"_\",AC44),選手名簿!$A:$E,5,FALSE))=TRUE,\"\",VLOOKUP(CONCATENATE($W$9,\"_\",AC44),選手名簿!$A:$E,5,FALSE))","v":""}]
[null,"分",null,"番",{"$f":"IF(ISERROR(VLOOKUP(CONCATENATE($B$9,\"_\",C45),選手名簿!$A:$E,5,FALSE))=TRUE,\"\",VLOOKUP(CONCATENATE($B$9,\"_\",C45),選手名簿!$A:$E,5,FALSE))","v":""},null,null,null,null,"→",null,"番",{"$f":"IF(ISERROR(VLOOKUP(CONCATENATE($B$9,\"_\",K45),選手名簿!$A:$E,5,FALSE))=TRUE,\"\",VLOOKUP(CONCATENATE($B$9,\"_\",K45),選手名簿!$A:$E,5,FALSE))","v":""},null,null,null,null,null,null,"分",null,"番",{"$f":"IF(ISERROR(VLOOKUP(CONCATENATE($W$9,\"_\",U45),選手名簿!$A:$E,5,FALSE))=TRUE,\"\",VLOOKUP(CONCATENATE($W$9,\"_\",U45),選手名簿!$A:$E,5,FALSE))","v":""},null,null,null,null,"→",null,"番",{"$f":"IF(ISERROR(VLOOKUP(CONCATENATE($W$9,\"_\",AC45),選手名簿!$A:$E,5,FALSE))=TRUE,\"\",VLOOKUP(CONCATENATE($W$9,\"_\",AC45),選手名簿!$A:$E,5,FALSE))","v":""}]
["警告（Ｃ）・退場（Ｓ）など",null,null,null,null,null,null,"合計",null,"延後",null,"延前",null,"後半",null,"前半",null,"チーム\n合計",null,"前半",null,"後半",null,"延前",null,"延後",null,"合計",null,"警告（Ｃ）・退場（Ｓ）など"]
[null,null,null,null,null,null,null,{"$f":"SUM(J47:Q47)","v":7},null,null,null,null,null,1,null,6,null,"Ｇ","Ｋ",3,null,5,null,null,null,null,null,{"$f":"SUM(T47:AA47)","v":8}]
[null,null,null,null,null,null,null,{"$f":"SUM(J48:Q48)","v":5},null,null,null,null,null,2,null,3,null,"Ｃ","Ｋ",2,null,0,null,null,null,null,null,{"$f":"SUM(T48:AA48)","v":2}]
[null,null,null,null,null,null,null,{"$f":"SUM(J49:Q49)","v":3},null,null,null,null,null,3,null,0,null,"直接","ＦＫ",2,null,2,null,null,null,null,null,{"$f":"SUM(T49:AA49)","v":4}]
[null,null,null,null,null,null,null,{"$f":"SUM(J50:Q50)","v":0},null,null,null,null,null,0,null,0,null,"間接","ＦＫ",0,null,0,null,null,null,null,null,{"$f":"SUM(T50:AA50)","v":0}]
[null,null,null,null,null,null,null,{"$f":"SUM(J51:Q51)","v":0},null,null,null,null,null,0,null,0,null,"Ｐ","Ｋ",0,null,0,null,null,null,null,null,{"$f":"SUM(T51:AA51)","v":0}]
["時間",null,null,"得点者",null,"得　　点　　経　　過",null,null,null,null,null,null,null,null,null,null,null,null,"時間",null,null,"得点者",null,"得　　点　　経　　過"]
[null,1,"分",6,null,"10　→　6S",null,null,null,null,null,null,null,null,null,null,null,null,null,null,"分"]
[null,5,"分",12,null,"9　∩　12S",null,null,null,null,null,null,null,null,null,null,null,null,null,null,"分"]
[null,11,"分",11,null,"10　→　11S",null,null,null,null,null,null,null,null,null,null,null,null,null,null,"分"]
[null,null,"分",null,null,null,null,null,null,null,null,null,null,null,null,null,null,null,null,null,"分"]
[null,null,"分",null,null,null,null,null,null,null,null,null,null,null,null,null,null,null,null,null,"分"]
[null,null,"分",null,null,null,null,null,null,null,null,null,null,null,null,null,null,null,null,null,"分"]
[" ",null,null,"《略号例》",null,null,null,"ドリブル",null,"～",null,"ゴロのパス",null,null,"→",null,"浮き球",null,"∩",null,"混戦",null,"×",null,"ヘディング",null,null,"H",null,"シュート",null,"S"]
[]
["戦評者氏名",null,null,null,"（",null,null,null,null,null,"）",null,"勤務先または所属",null,null,null,null,"（","一般社団法人　大分県サッカー協会　技術委員会",null,null,null,null,null,null,null,null,null,null,null,null,null,null,null,"　）"]
[]
[]
[]
[]
[]
[]
[]
[]
[null,null,null,null,null,null,"M   C",null,null,null,null,null,null,"会　場　長",null,null,null,null,null,null,"ウェルフェアオフィサー",null,null,null,null,null,null,"主　　審"]
[null,null,null,null,null,null,"中原　圭介",null,null,null,null,null,null,"安東　幹雄",null,null,null,null,null,null,"津守　一雄",null,null,null,null,null,null,"坪井　和幸"]

{"sheet":"決勝公式記録 No,33","index":16,"n_rows":71,"n_cols":51,"rows_kept":71,"cut":false,"hidden":false,"merged":[[1,28,2,29],[1,31,1,35],[2,0,2,1],[2,14,2,15],[2,16,2,17],[2,18,2,26],[2,31,2,35],[0,0,0,5],[0,6,0,9],[0,10,0,11],[1,0,1,1],[1,2,3,13],[1,15,1,16],[3,0,3,1],[3,14,3,15],[3,16,3,17],[3,18,3,26],[3,28,3,29],[5,18,5,19],[5,21,5,25],[5,26,5,30],[3,31,3,35],[4,0,4,1],[4,2,6,8],[4,11,4,12],[4,18,4,19],[5,0,5,1],[5,11,5,12],[5,13,5,14],[6,0,6,1],[6,11,6,12],[5,31,5,35],[6,13,6,14],[6,18,6,19],[6,26,6,30],[7,20,11,20],[7,21,7,23],[9,12,9,14],[9,17,9,18],[8,11,8,14],[8,17,8,18],[8,22,8,31],[9,21,9,23],[7,0,7,2],[7,11,7,14],[7,15,11,15],[7,17,7,18],[10,13,10,14],[10,11,10,12],[11,17,11,18],[13,41,13,42],[10,17,10,18],[10,21,10,22],[10,23,10,24],[8,32,8,35],[7,32,7,35],[8,1,8,10],[14,0,14,1],[14,2,14,3],[14,4,14,5],[14,6,14,7],[14,8,14,9],[14,26,14,27],[14,28,14,29],[12,41,12,42],[13,0,13,1],[13,2,13,3],[13,4,13,5],[13,6,13,7],[13,8,13,9],[13,17,13,18],[13,26,13,27],[13,28,13,29],[13,30,13,31],[12,2,12,9],[14,30,14,31],[14,32,14,33],[14,34,14,35],[12,26,12,33],[15,11,15,15],[15,20,15,24],[16,11,16,15],[16,20,16,24],[13,32,13,33],[13,34,13,35],[20,11,20,15],[20,20,20,24],[21,11,21,15],[21,20,21,24],[22,11,22,15],[22,20,22,24],[17,11,17,15],[17,20,17,24],[18,11,18,15],[18,20,18,24],[19,11,19,15],[19,20,19,24],[27,11,27,15],[27,20,27,24],[28,11,28,15],[28,20,28,24],[29,11,29,15],[29,20,29,24],[23,16,23,19],[24,11,24,15],[24,20,24,24],[25,11,25,15],[25,20,25,24],[26,11,26,15],[26,20,26,24],[30,11,30,15],[30,20,30,24],[31,11,31,15],[31,20,31,24],[35,20,36,26],[35,27,36,27],[32,11,32,15],[32,20,32,24],[33,11,33,15],[33,20,33,24],[35,10,36,16],[35,17,35,18],[38,4,38,8],[38,12,38,16],[38,22,38,26],[34,11,34,15],[34,17,34,18],[34,20,34,24],[38,30,38,34],[39,4,39,8],[39,12,39,16],[39,22,39,26],[39,30,39,34],[35,28,36,34],[36,17,36,18],[37,4,37,8],[37,12,37,16],[37,22,37,26],[37,30,37,34],[35,2,36,8],[35,9,36,9],[40,4,40,8],[40,12,40,16],[40,22,40,26],[40,30,40,34],[43,30,43,34],[44,4,44,8],[44,12,44,16],[44,22,44,26],[44,30,44,34],[41,4,41,8],[41,12,41,16],[41,22,41,26],[41,30,41,34],[42,4,42,8],[42,12,42,16],[42,22,42,26],[42,30,42,34],[45,0,45,6],[45,7,45,8],[45,9,45,10],[45,11,45,12],[45,13,45,14],[45,15,45,16],[43,4,43,8],[43,12,43,16],[43,22,43,26],[45,29,45,35],[46,7,46,8],[46,9,46,10],[46,11,46,12],[46,13,46,14],[46,15,46,16],[46,19,46,20],[46,21,46,22],[46,23,46,24],[46,25,46,26],[45,17,45,18],[45,19,45,20],[45,21,45,22],[45,23,45,24],[45,25,45,26],[45,27,45,28],[46,27,46,28],[49,25,49,26],[47,27,47,28],[48,7,48,8],[48,9,48,10],[48,11,48,12],[48,13,48,14],[48,15,48,16],[48,19,48,20],[48,21,48,22],[48,23,48,24],[48,25,48,26],[48,27,48,28],[47,7,47,8],[47,9,47,10],[47,11,47,12],[47,13,47,14],[47,15,47,16],[47,19,47,20],[47,21,47,22],[47,23,47,24],[47,25,47,26],[51,0,51,2],[51,3,51,4],[51,5,51,17],[51,18,51,20],[51,21,51,22],[51,23,51,35],[49,27,49,28],[50,7,50,8],[50,9,50,10],[50,11,50,12],[50,13,50,14],[50,15,50,16],[50,19,50,20],[50,21,50,22],[50,23,50,24],[50,25,50,26],[49,7,49,8],[49,9,49,10],[49,11,49,12],[49,13,49,14],[49,15,49,16],[49,19,49,20],[49,21,49,22],[49,23,49,24],[52,3,52,4],[52,5,52,17],[52,21,52,22],[52,23,52,35],[53,3,53,4],[53,5,53,17],[53,21,53,22],[53,23,53,35],[50,27,50,28],[56,3,56,4],[56,5,56,17],[56,21,56,22],[56,23,56,35],[57,3,57,4],[57,5,57,17],[57,21,57,22],[57,23,57,35],[54,3,54,4],[54,5,54,17],[54,21,54,22],[54,23,54,35],[55,3,55,4],[55,5,55,17],[55,21,55,22],[55,23,55,35],[69,13,69,19],[69,20,69,26],[69,27,69,35],[70,13,72,19],[70,20,72,26],[70,27,72,35],[58,29,58,30],[60,0,60,3],[60,5,60,9],[60,12,60,16],[60,18,60,33],[61,0,67,35],[58,3,58,5],[58,7,58,8],[58,11,58,13],[58,16,58,17],[58,20,58,21],[58,24,58,26],[69,6,69,12],[70,6,72,12]]}
["公式記録",null,null,null,null,null,"Match No：",null,null,null,33]
["大",null,"OFA 第31回 \n大分県ジュニアサッカー選手権大会\n大分県大会",null,null,null,null,null,null,null,null,null,null,null,"第",2,null,"日",null,null,null,null,null,null,null,null,null,"競技","30分",null,"記"]
["会",null,null,null,null,null,null,null,null,null,null,null,null,null,"1回戦",null,"2回戦",null,"令和元年　12月8日（日）",null,null,null,null,null,null,null,null,"時間",null,null,"録","中原　圭介"]
["名",null,null,null,null,null,null,null,null,null,null,null,null,null,"準決勝",null,"決勝",null,"試合開始　14時20分～",null,null,null,null,null,null,null,null,"延長","6分",null,"者","松下　省吾"]
["会",null,"大分県大分スポーツ公園\n昭和電工サッカー・ラグビー場\nＡコート　北側",null,null,null,null,null,null,"天","晴","風",null,"強","弱","無","芝","状","良好",null,"審","主審",null,null,null,null,"副審",null,null,null,null,"第4の審判員"]
[null,null,null,null,null,null,null,null,null,null,"曇","気温",null,19.7,null,"℃",null,null,"不良",null,null,"幸　壮一郎",null,null,null,null,"羽田野　亘",null,null,null,null,"中村　友海"]
["場",null,null,null,null,null,null,null,null,"候","雨","湿度",null,21.7,null,"％","土","態","泥沼",null,"判",null,null,null,null,null,"足立　卓也"]
["【チーム名】",null,null,null,null,null,null,null,null,null,null,null,null,null,null,0,0,"前半",null,0,1,"【チーム名】"]
[null,{"$f":"AR13","v":"スマイス・セレソン"},null,null,null,null,null,null,null,null,null,{"$f":"AR14","v":"別府市"},null,null,null,null,0,"後半",null,1,null,null,{"$f":"AY13","v":"大分トリニータＵ－１２"},null,null,null,null,null,null,null,null,null,{"$f":"AY14","v":"大分市"}]
[null,null,null,null,null,null,null,null,null,null,null,null,"kick off",null,null,null,null,"延前",null,null,null,"kick off"]
[null,null,null,null,null,null,null,null,null,null,null,"番号",null,"PK",null,null,null,"延後",null,null,null,"PK",null,"番号"]
[null,null,null,null,null,null,null,null,null,null,null,"○","×","先","後",null,null,"ＰＫ戦",null,null,null,"先","後","○","×"]
[null,null,"シュート（得点者は○印）",null,null,null,null,null,null,null,"学",null,null,null,null,null,"番",null,null,"番",null,null,null,null,null,"学","シュート（得点者は○印）",null,null,null,null,null,null,null,null,null,null,null,null,null,null,"チーム名",null,"スマイス・セレソン",null,null,null,null,null,"チーム名","大分トリニータＵ－１２"]
["合",null,"延",null,"延",null,"後",null,"前",null,null,null,"選","手","名",null,null,"位置",null,null,null,"選","手","名",null,null,"前",null,"後",null,"延",null,"延",null,"合",null,null,null,null,null,null,"地区名",null,"別府市",null,null,null,null,null,"地区名","大分市"]
["計",null,"後",null,"前",null,"半",null,"半",null,"年",null,null,null,null,null,"号",null,null,"号",null,null,null,null,null,"年","半",null,"半",null,"前",null,"後",null,"計"]
[null,{"$f":"SUM(D16,F16,H16,J16)","v":0},null,null,null,null,null,0,null,0,{"$f":"IF(ISERROR(VLOOKUP(CONCATENATE($B$9,\"_\",Q16),選手名簿!$A:$G,7,FALSE))=TRUE,\"\",VLOOKUP(CONCATENATE($B$9,\"_\",Q16),選手名簿!$A:$G,7,FALSE))","v":5},{"$f":"IF(ISERROR(VLOOKUP(CONCATENATE($B$9,\"_\",Q16),選手名簿!$A:$E,5,FALSE))=TRUE,\"\",VLOOKUP(CONCATENATE($B$9,\"_\",Q16),選手名簿!$A:$E,5,FALSE))","v":"原田　煌也"},null,null,null,null,1,"GK",{"$f":"IF(ISERROR(VLOOKUP(CONCATENATE($W$9,\"_\",T16),選手名簿!$A:$E,4,FALSE))=TRUE,\"\",VLOOKUP(CONCATENATE($W$9,\"_\",T16),選手名簿!$A:$E,4,FALSE))","v":"GK"},1,{"$f":"IF(ISERROR(VLOOKUP(CONCATENATE($W$9,\"_\",T16),選手名簿!$A:$E,5,FALSE))=TRUE,\"\",VLOOKUP(CONCATENATE($W$9,\"_\",T16),選手名簿!$A:$E,5,FALSE))","v":"木津　心汰"},null,null,null,null,{"$f":"IF(ISERROR(VLOOKUP(CONCATENATE($W$9,\"_\",T16),選手名簿!$A:$G,7,FALSE))=TRUE,\"\",VLOOKUP(CONCATENATE($W$9,\"_\",T16),選手名簿!$A:$G,7,FALSE))","v":5},null,0,null,0,null,null,null,null,null,{"$f":"SUM(AB16,AD16,AF16,AH16)","v":0}]
[null,0,null,null,null,null,null,0,null,0,{"$f":"IF(ISERROR(VLOOKUP(CONCATENATE($B$9,\"_\",Q17),選手名簿!$A:$G,7,FALSE))=TRUE,\"\",VLOOKUP(CONCATENATE($B$9,\"_\",Q17),選手名簿!$A:$G,7,FALSE))","v":5},{"$f":"IF(ISERROR(VLOOKUP(CONCATENATE($B$9,\"_\",Q17),選手名簿!$A:$E,5,FALSE))=TRUE,\"\",VLOOKUP(CONCATENATE($B$9,\"_\",Q17),選手名簿!$A:$E,5,FALSE))","v":"竹友　勝虎"},null,null,null,null,2,{"$f":"IF(ISERROR(VLOOKUP(CONCATENATE($B$9,\"_\",Q17),選手名簿!$A:$E,4,FALSE))=TRUE,\"\",VLOOKUP(CONCATENATE($B$9,\"_\",Q17),選手名簿!$A:$E,4,FALSE))","v":"DF"},{"$f":"IF(ISERROR(VLOOKUP(CONCATENATE($W$9,\"_\",T17),選手名簿!$A:$E,4,FALSE))=TRUE,\"\",VLOOKUP(CONCATENATE($W$9,\"_\",T17),選手名簿!$A:$E,4,FALSE))","v":"DF"},2,{"$f":"IF(ISERROR(VLOOKUP(CONCATENATE($W$9,\"_\",T17),選手名簿!$A:$E,5,FALSE))=TRUE,\"\",VLOOKUP(CONCATENATE($W$9,\"_\",T17),選手名簿!$A:$E,5,FALSE))","v":"金井　佑磨"},null,null,null,null,{"$f":"IF(ISERROR(VLOOKUP(CONCATENATE($W$9,\"_\",T17),選手名簿!$A:$G,7,FALSE))=TRUE,\"\",VLOOKUP(CONCATENATE($W$9,\"_\",T17),選手名簿!$A:$G,7,FALSE))","v":5},null,0,null,2,null,null,null,null,null,2]
[null,0,null,null,null,null,null,0,null,0,{"$f":"IF(ISERROR(VLOOKUP(CONCATENATE($B$9,\"_\",Q18),選手名簿!$A:$G,7,FALSE))=TRUE,\"\",VLOOKUP(CONCATENATE($B$9,\"_\",Q18),選手名簿!$A:$G,7,FALSE))","v":5},{"$f":"IF(ISERROR(VLOOKUP(CONCATENATE($B$9,\"_\",Q18),選手名簿!$A:$E,5,FALSE))=TRUE,\"\",VLOOKUP(CONCATENATE($B$9,\"_\",Q18),選手名簿!$A:$E,5,FALSE))","v":"桐村　虎夢"},null,null,null,null,4,{"$f":"IF(ISERROR(VLOOKUP(CONCATENATE($B$9,\"_\",Q18),選手名簿!$A:$E,4,FALSE))=TRUE,\"\",VLOOKUP(CONCATENATE($B$9,\"_\",Q18),選手名簿!$A:$E,4,FALSE))","v":"DF"},{"$f":"IF(ISERROR(VLOOKUP(CONCATENATE($W$9,\"_\",T18),選手名簿!$A:$E,4,FALSE))=TRUE,\"\",VLOOKUP(CONCATENATE($W$9,\"_\",T18),選手名簿!$A:$E,4,FALSE))","v":"DF"},5,{"$f":"IF(ISERROR(VLOOKUP(CONCATENATE($W$9,\"_\",T18),選手名簿!$A:$E,5,FALSE))=TRUE,\"\",VLOOKUP(CONCATENATE($W$9,\"_\",T18),選手名簿!$A:$E,5,FALSE))","v":"麻生　瑛太"},null,null,null,null,{"$f":"IF(ISERROR(VLOOKUP(CONCATENATE($W$9,\"_\",T18),選手名簿!$A:$G,7,FALSE))=TRUE,\"\",VLOOKUP(CONCATENATE($W$9,\"_\",T18),選手名簿!$A:$G,7,FALSE))","v":5},null,0,null,0,null,null,null,null,null,0]
[null,0,null,null,null,null,null,0,null,0,{"$f":"IF(ISERROR(VLOOKUP(CONCATENATE($B$9,\"_\",Q19),選手名簿!$A:$G,7,FALSE))=TRUE,\"\",VLOOKUP(CONCATENATE($B$9,\"_\",Q19),選手名簿!$A:$G,7,FALSE))","v":5},{"$f":"IF(ISERROR(VLOOKUP(CONCATENATE($B$9,\"_\",Q19),選手名簿!$A:$E,5,FALSE))=TRUE,\"\",VLOOKUP(CONCATENATE($B$9,\"_\",Q19),選手名簿!$A:$E,5,FALSE))","v":"宮崎　海迅"},null,null,null,null,5,{"$f":"IF(ISERROR(VLOOKUP(CONCATENATE($B$9,\"_\",Q19),選手名簿!$A:$E,4,FALSE))=TRUE,\"\",VLOOKUP(CONCATENATE($B$9,\"_\",Q19),選手名簿!$A:$E,4,FALSE))","v":"DF"},{"$f":"IF(ISERROR(VLOOKUP(CONCATENATE($W$9,\"_\",T19),選手名簿!$A:$E,4,FALSE))=TRUE,\"\",VLOOKUP(CONCATENATE($W$9,\"_\",T19),選手名簿!$A:$E,4,FALSE))","v":"MF"},7,{"$f":"IF(ISERROR(VLOOKUP(CONCATENATE($W$9,\"_\",T19),選手名簿!$A:$E,5,FALSE))=TRUE,\"\",VLOOKUP(CONCATENATE($W$9,\"_\",T19),選手名簿!$A:$E,5,FALSE))","v":"板井　航一"},null,null,null,null,{"$f":"IF(ISERROR(VLOOKUP(CONCATENATE($W$9,\"_\",T19),選手名簿!$A:$G,7,FALSE))=TRUE,\"\",VLOOKUP(CONCATENATE($W$9,\"_\",T19),選手名簿!$A:$G,7,FALSE))","v":5},null,1,null,1,null,null,null,null,null,2]
[null,1,null,null,null,null,null,0,null,1,{"$f":"IF(ISERROR(VLOOKUP(CONCATENATE($B$9,\"_\",Q20),選手名簿!$A:$G,7,FALSE))=TRUE,\"\",VLOOKUP(CONCATENATE($B$9,\"_\",Q20),選手名簿!$A:$G,7,FALSE))","v":5},{"$f":"IF(ISERROR(VLOOKUP(CONCATENATE($B$9,\"_\",Q20),選手名簿!$A:$E,5,FALSE))=TRUE,\"\",VLOOKUP(CONCATENATE($B$9,\"_\",Q20),選手名簿!$A:$E,5,FALSE))","v":"横田　啓"},null,null,null,null,7,{"$f":"IF(ISERROR(VLOOKUP(CONCATENATE($B$9,\"_\",Q20),選手名簿!$A:$E,4,FALSE))=TRUE,\"\",VLOOKUP(CONCATENATE($B$9,\"_\",Q20),選手名簿!$A:$E,4,FALSE))","v":"MF"},{"$f":"IF(ISERROR(VLOOKUP(CONCATENATE($W$9,\"_\",T20),選手名簿!$A:$E,4,FALSE))=TRUE,\"\",VLOOKUP(CONCATENATE($W$9,\"_\",T20),選手名簿!$A:$E,4,FALSE))","v":"MF"},8,{"$f":"IF(ISERROR(VLOOKUP(CONCATENATE($W$9,\"_\",T20),選手名簿!$A:$E,5,FALSE))=TRUE,\"\",VLOOKUP(CONCATENATE($W$9,\"_\",T20),選手名簿!$A:$E,5,FALSE))","v":"佐藤　成"},null,null,null,null,{"$f":"IF(ISERROR(VLOOKUP(CONCATENATE($W$9,\"_\",T20),選手名簿!$A:$G,7,FALSE))=TRUE,\"\",VLOOKUP(CONCATENATE($W$9,\"_\",T20),選手名簿!$A:$G,7,FALSE))","v":5},null,4,null,0,null,null,null,null,null,4]
[null,0,null,null,null,null,null,0,null,0,{"$f":"IF(ISERROR(VLOOKUP(CONCATENATE($B$9,\"_\",Q21),選手名簿!$A:$G,7,FALSE))=TRUE,\"\",VLOOKUP(CONCATENATE($B$9,\"_\",Q21),選手名簿!$A:$G,7,FALSE))","v":5},{"$f":"IF(ISERROR(VLOOKUP(CONCATENATE($B$9,\"_\",Q21),選手名簿!$A:$E,5,FALSE))=TRUE,\"\",VLOOKUP(CONCATENATE($B$9,\"_\",Q21),選手名簿!$A:$E,5,FALSE))","v":"佐々木　大和"},null,null,null,null,10,{"$f":"IF(ISERROR(VLOOKUP(CONCATENATE($B$9,\"_\",Q21),選手名簿!$A:$E,4,FALSE))=TRUE,\"\",VLOOKUP(CONCATENATE($B$9,\"_\",Q21),選手名簿!$A:$E,4,FALSE))","v":"MF"},{"$f":"IF(ISERROR(VLOOKUP(CONCATENATE($W$9,\"_\",T21),選手名簿!$A:$E,4,FALSE))=TRUE,\"\",VLOOKUP(CONCATENATE($W$9,\"_\",T21),選手名簿!$A:$E,4,FALSE))","v":"MF"},9,{"$f":"IF(ISERROR(VLOOKUP(CONCATENATE($W$9,\"_\",T21),選手名簿!$A:$E,5,FALSE))=TRUE,\"\",VLOOKUP(CONCATENATE($W$9,\"_\",T21),選手名簿!$A:$E,5,FALSE))","v":"奈須　翔大"},null,null,null,null,{"$f":"IF(ISERROR(VLOOKUP(CONCATENATE($W$9,\"_\",T21),選手名簿!$A:$G,7,FALSE))=TRUE,\"\",VLOOKUP(CONCATENATE($W$9,\"_\",T21),選手名簿!$A:$G,7,FALSE))","v":5},null,1,null,0,null,null,null,null,null,1]
[null,0,null,null,null,null,null,0,null,0,{"$f":"IF(ISERROR(VLOOKUP(CONCATENATE($B$9,\"_\",Q22),選手名簿!$A:$G,7,FALSE))=TRUE,\"\",VLOOKUP(CONCATENATE($B$9,\"_\",Q22),選手名簿!$A:$G,7,FALSE))","v":5},{"$f":"IF(ISERROR(VLOOKUP(CONCATENATE($B$9,\"_\",Q22),選手名簿!$A:$E,5,FALSE))=TRUE,\"\",VLOOKUP(CONCATENATE($B$9,\"_\",Q22),選手名簿!$A:$E,5,FALSE))","v":"安部　颯"},null,null,null,null,9,{"$f":"IF(ISERROR(VLOOKUP(CONCATENATE($B$9,\"_\",Q22),選手名簿!$A:$E,4,FALSE))=TRUE,\"\",VLOOKUP(CONCATENATE($B$9,\"_\",Q22),選手名簿!$A:$E,4,FALSE))","v":"FW"},{"$f":"IF(ISERROR(VLOOKUP(CONCATENATE($W$9,\"_\",T22),選手名簿!$A:$E,4,FALSE))=TRUE,\"\",VLOOKUP(CONCATENATE($W$9,\"_\",T22),選手名簿!$A:$E,4,FALSE))","v":"FW"},12,{"$f":"IF(ISERROR(VLOOKUP(CONCATENATE($W$9,\"_\",T22),選手名簿!$A:$E,5,FALSE))=TRUE,\"\",VLOOKUP(CONCATENATE($W$9,\"_\",T22),選手名簿!$A:$E,5,FALSE))","v":"河野　真剣"},null,null,null,null,{"$f":"IF(ISERROR(VLOOKUP(CONCATENATE($W$9,\"_\",T22),選手名簿!$A:$G,7,FALSE))=TRUE,\"\",VLOOKUP(CONCATENATE($W$9,\"_\",T22),選手名簿!$A:$G,7,FALSE))","v":5},null,0,null,1,null,null,null,null,null,1]
[null,0,null,null,null,null,null,0,null,0,{"$f":"IF(ISERROR(VLOOKUP(CONCATENATE($B$9,\"_\",Q23),選手名簿!$A:$G,7,FALSE))=TRUE,\"\",VLOOKUP(CONCATENATE($B$9,\"_\",Q23),選手名簿!$A:$G,7,FALSE))","v":4},{"$f":"IF(ISERROR(VLOOKUP(CONCATENATE($B$9,\"_\",Q23),選手名簿!$A:$E,5,FALSE))=TRUE,\"\",VLOOKUP(CONCATENATE($B$9,\"_\",Q23),選手名簿!$A:$E,5,FALSE))","v":"西野　凌太朗"},null,null,null,null,12,{"$f":"IF(ISERROR(VLOOKUP(CONCATENATE($B$9,\"_\",Q23),選手名簿!$A:$E,4,FALSE))=TRUE,\"\",VLOOKUP(CONCATENATE($B$9,\"_\",Q23),選手名簿!$A:$E,4,FALSE))","v":"FW"},{"$f":"IF(ISERROR(VLOOKUP(CONCATENATE($W$9,\"_\",T23),選手名簿!$A:$E,4,FALSE))=TRUE,\"\",VLOOKUP(CONCATENATE($W$9,\"_\",T23),選手名簿!$A:$E,4,FALSE))","v":"MF"},15,{"$f":"IF(ISERROR(VLOOKUP(CONCATENATE($W$9,\"_\",T23),選手名簿!$A:$E,5,FALSE))=TRUE,\"\",VLOOKUP(CONCATENATE($W$9,\"_\",T23),選手名簿!$A:$E,5,FALSE))","v":"財津　翔大"},null,null,null,null,{"$f":"IF(ISERROR(VLOOKUP(CONCATENATE($W$9,\"_\",T23),選手名簿!$A:$G,7,FALSE))=TRUE,\"\",VLOOKUP(CONCATENATE($W$9,\"_\",T23),選手名簿!$A:$G,7,FALSE))","v":5},null,2,null,0,null,null,null,null,null,2]
[null,null,null,null,null,null,null,null,null,null,null,null,null,null,null,null,"交替要員"]
[null,{"$f":"SUM(D25,F25,H25,J25)","v":0},null,null,null,null,null,0,null,0,{"$f":"IF(ISERROR(VLOOKUP(CONCATENATE($B$9,\"_\",Q25),選手名簿!$A:$G,7,FALSE))=TRUE,\"\",VLOOKUP(CONCATENATE($B$9,\"_\",Q25),選手名簿!$A:$G,7,FALSE))","v":5},{"$f":"IF(ISERROR(VLOOKUP(CONCATENATE($B$9,\"_\",Q25),選手名簿!$A:$E,5,FALSE))=TRUE,\"\",VLOOKUP(CONCATENATE($B$9,\"_\",Q25),選手名簿!$A:$E,5,FALSE))","v":"望月　翔太"},null,null,null,null,16,{"$f":"IF(ISERROR(VLOOKUP(CONCATENATE($B$9,\"_\",Q25),選手名簿!$A:$E,4,FALSE))=TRUE,\"\",VLOOKUP(CONCATENATE($B$9,\"_\",Q25),選手名簿!$A:$E,4,FALSE))","v":"GK"},{"$f":"IF(ISERROR(VLOOKUP(CONCATENATE($W$9,\"_\",T25),選手名簿!$A:$E,4,FALSE))=TRUE,\"\",VLOOKUP(CONCATENATE($W$9,\"_\",T25),選手名簿!$A:$E,4,FALSE))","v":"MF"},3,{"$f":"IF(ISERROR(VLOOKUP(CONCATENATE($W$9,\"_\",T25),選手名簿!$A:$E,5,FALSE))=TRUE,\"\",VLOOKUP(CONCATENATE($W$9,\"_\",T25),選手名簿!$A:$E,5,FALSE))","v":"金子　斉恩"},null,null,null,null,{"$f":"IF(ISERROR(VLOOKUP(CONCATENATE($W$9,\"_\",T25),選手名簿!$A:$G,7,FALSE))=TRUE,\"\",VLOOKUP(CONCATENATE($W$9,\"_\",T25),選手名簿!$A:$G,7,FALSE))","v":5},null,0,null,0,null,null,null,null,null,{"$f":"SUM(AB25,AD25,AF25,AH25)","v":0}]
[null,0,null,null,null,null,null,0,null,0,{"$f":"IF(ISERROR(VLOOKUP(CONCATENATE($B$9,\"_\",Q26),選手名簿!$A:$G,7,FALSE))=TRUE,\"\",VLOOKUP(CONCATENATE($B$9,\"_\",Q26),選手名簿!$A:$G,7,FALSE))","v":5},{"$f":"IF(ISERROR(VLOOKUP(CONCATENATE($B$9,\"_\",Q26),選手名簿!$A:$E,5,FALSE))=TRUE,\"\",VLOOKUP(CONCATENATE($B$9,\"_\",Q26),選手名簿!$A:$E,5,FALSE))","v":"大西　拓海"},null,null,null,null,3,{"$f":"IF(ISERROR(VLOOKUP(CONCATENATE($B$9,\"_\",Q26),選手名簿!$A:$E,4,FALSE))=TRUE,\"\",VLOOKUP(CONCATENATE($B$9,\"_\",Q26),選手名簿!$A:$E,4,FALSE))","v":"DF"},{"$f":"IF(ISERROR(VLOOKUP(CONCATENATE($W$9,\"_\",T26),選手名簿!$A:$E,4,FALSE))=TRUE,\"\",VLOOKUP(CONCATENATE($W$9,\"_\",T26),選手名簿!$A:$E,4,FALSE))","v":"MF"},4,{"$f":"IF(ISERROR(VLOOKUP(CONCATENATE($W$9,\"_\",T26),選手名簿!$A:$E,5,FALSE))=TRUE,\"\",VLOOKUP(CONCATENATE($W$9,\"_\",T26),選手名簿!$A:$E,5,FALSE))","v":"椎原　蓮央"},null,null,null,null,{"$f":"IF(ISERROR(VLOOKUP(CONCATENATE($W$9,\"_\",T26),選手名簿!$A:$G,7,FALSE))=TRUE,\"\",VLOOKUP(CONCATENATE($W$9,\"_\",T26),選手名簿!$A:$G,7,FALSE))","v":5},null,0,null,0,null,null,null,null,null,0]
[null,0,null,null,null,null,null,0,null,0,{"$f":"IF(ISERROR(VLOOKUP(CONCATENATE($B$9,\"_\",Q27),選手名簿!$A:$G,7,FALSE))=TRUE,\"\",VLOOKUP(CONCATENATE($B$9,\"_\",Q27),選手名簿!$A:$G,7,FALSE))","v":4},{"$f":"IF(ISERROR(VLOOKUP(CONCATENATE($B$9,\"_\",Q27),選手名簿!$A:$E,5,FALSE))=TRUE,\"\",VLOOKUP(CONCATENATE($B$9,\"_\",Q27),選手名簿!$A:$E,5,FALSE))","v":"松本　快理"},null,null,null,null,6,{"$f":"IF(ISERROR(VLOOKUP(CONCATENATE($B$9,\"_\",Q27),選手名簿!$A:$E,4,FALSE))=TRUE,\"\",VLOOKUP(CONCATENATE($B$9,\"_\",Q27),選手名簿!$A:$E,4,FALSE))","v":"FW"},{"$f":"IF(ISERROR(VLOOKUP(CONCATENATE($W$9,\"_\",T27),選手名簿!$A:$E,4,FALSE))=TRUE,\"\",VLOOKUP(CONCATENATE($W$9,\"_\",T27),選手名簿!$A:$E,4,FALSE))","v":"FW"},6,{"$f":"IF(ISERROR(VLOOKUP(CONCATENATE($W$9,\"_\",T27),選手名簿!$A:$E,5,FALSE))=TRUE,\"\",VLOOKUP(CONCATENATE($W$9,\"_\",T27),選手名簿!$A:$E,5,FALSE))","v":"波多野　瑛太"},null,null,null,null,{"$f":"IF(ISERROR(VLOOKUP(CONCATENATE($W$9,\"_\",T27),選手名簿!$A:$G,7,FALSE))=TRUE,\"\",VLOOKUP(CONCATENATE($W$9,\"_\",T27),選手名簿!$A:$G,7,FALSE))","v":4},null,0,"①",3,null,null,null,null,null,3]
[null,0,null,null,null,null,null,0,null,0,{"$f":"IF(ISERROR(VLOOKUP(CONCATENATE($B$9,\"_\",Q28),選手名簿!$A:$G,7,FALSE))=TRUE,\"\",VLOOKUP(CONCATENATE($B$9,\"_\",Q28),選手名簿!$A:$G,7,FALSE))","v":5},{"$f":"IF(ISERROR(VLOOKUP(CONCATENATE($B$9,\"_\",Q28),選手名簿!$A:$E,5,FALSE))=TRUE,\"\",VLOOKUP(CONCATENATE($B$9,\"_\",Q28),選手名簿!$A:$E,5,FALSE))","v":"岩崎　蓮武"},null,null,null,null,8,{"$f":"IF(ISERROR(VLOOKUP(CONCATENATE($B$9,\"_\",Q28),選手名簿!$A:$E,4,FALSE))=TRUE,\"\",VLOOKUP(CONCATENATE($B$9,\"_\",Q28),選手名簿!$A:$E,4,FALSE))","v":"MF"},{"$f":"IF(ISERROR(VLOOKUP(CONCATENATE($W$9,\"_\",T28),選手名簿!$A:$E,4,FALSE))=TRUE,\"\",VLOOKUP(CONCATENATE($W$9,\"_\",T28),選手名簿!$A:$E,4,FALSE))","v":"MF"},10,{"$f":"IF(ISERROR(VLOOKUP(CONCATENATE($W$9,\"_\",T28),選手名簿!$A:$E,5,FALSE))=TRUE,\"\",VLOOKUP(CONCATENATE($W$9,\"_\",T28),選手名簿!$A:$E,5,FALSE))","v":"中道　大聖"},null,null,null,null,{"$f":"IF(ISERROR(VLOOKUP(CONCATENATE($W$9,\"_\",T28),選手名簿!$A:$G,7,FALSE))=TRUE,\"\",VLOOKUP(CONCATENATE($W$9,\"_\",T28),選手名簿!$A:$G,7,FALSE))","v":5},null,0,null,3,null,null,null,null,null,3]
[null,{"$f":"SUM(D29,F29,H29,J29)","v":0},null,null,null,null,null,0,null,0,{"$f":"IF(ISERROR(VLOOKUP(CONCATENATE($B$9,\"_\",Q29),選手名簿!$A:$G,7,FALSE))=TRUE,\"\",VLOOKUP(CONCATENATE($B$9,\"_\",Q29),選手名簿!$A:$G,7,FALSE))","v":4},{"$f":"IF(ISERROR(VLOOKUP(CONCATENATE($B$9,\"_\",Q29),選手名簿!$A:$E,5,FALSE))=TRUE,\"\",VLOOKUP(CONCATENATE($B$9,\"_\",Q29),選手名簿!$A:$E,5,FALSE))","v":"大室　匠"},null,null,null,null,11,{"$f":"IF(ISERROR(VLOOKUP(CONCATENATE($B$9,\"_\",Q29),選手名簿!$A:$E,4,FALSE))=TRUE,\"\",VLOOKUP(CONCATENATE($B$9,\"_\",Q29),選手名簿!$A:$E,4,FALSE))","v":"FW"},{"$f":"IF(ISERROR(VLOOKUP(CONCATENATE($W$9,\"_\",T29),選手名簿!$A:$E,4,FALSE))=TRUE,\"\",VLOOKUP(CONCATENATE($W$9,\"_\",T29),選手名簿!$A:$E,4,FALSE))","v":"MF"},11,{"$f":"IF(ISERROR(VLOOKUP(CONCATENATE($W$9,\"_\",T29),選手名簿!$A:$E,5,FALSE))=TRUE,\"\",VLOOKUP(CONCATENATE($W$9,\"_\",T29),選手名簿!$A:$E,5,FALSE))","v":"高野　真音"},null,null,null,null,{"$f":"IF(ISERROR(VLOOKUP(CONCATENATE($W$9,\"_\",T29),選手名簿!$A:$G,7,FALSE))=TRUE,\"\",VLOOKUP(CONCATENATE($W$9,\"_\",T29),選手名簿!$A:$G,7,FALSE))","v":5},null,0,null,1,null,null,null,null,null,{"$f":"SUM(AB29,AD29,AF29,AH29)","v":1}]
[null,{"$f":"SUM(D30,F30,H30,J30)","v":0},null,null,null,null,null,0,null,0,{"$f":"IF(ISERROR(VLOOKUP(CONCATENATE($B$9,\"_\",Q30),選手名簿!$A:$G,7,FALSE))=TRUE,\"\",VLOOKUP(CONCATENATE($B$9,\"_\",Q30),選手名簿!$A:$G,7,FALSE))","v":4},{"$f":"IF(ISERROR(VLOOKUP(CONCATENATE($B$9,\"_\",Q30),選手名簿!$A:$E,5,FALSE))=TRUE,\"\",VLOOKUP(CONCATENATE($B$9,\"_\",Q30),選手名簿!$A:$E,5,FALSE))","v":"小田　聖翔"},null,null,null,null,13,{"$f":"IF(ISERROR(VLOOKUP(CONCATENATE($B$9,\"_\",Q30),選手名簿!$A:$E,4,FALSE))=TRUE,\"\",VLOOKUP(CONCATENATE($B$9,\"_\",Q30),選手名簿!$A:$E,4,FALSE))","v":"DF"},{"$f":"IF(ISERROR(VLOOKUP(CONCATENATE($W$9,\"_\",T30),選手名簿!$A:$E,4,FALSE))=TRUE,\"\",VLOOKUP(CONCATENATE($W$9,\"_\",T30),選手名簿!$A:$E,4,FALSE))","v":"MF"},13,{"$f":"IF(ISERROR(VLOOKUP(CONCATENATE($W$9,\"_\",T30),選手名簿!$A:$E,5,FALSE))=TRUE,\"\",VLOOKUP(CONCATENATE($W$9,\"_\",T30),選手名簿!$A:$E,5,FALSE))","v":"増永　大生獅"},null,null,null,null,{"$f":"IF(ISERROR(VLOOKUP(CONCATENATE($W$9,\"_\",T30),選手名簿!$A:$G,7,FALSE))=TRUE,\"\",VLOOKUP(CONCATENATE($W$9,\"_\",T30),選手名簿!$A:$G,7,FALSE))","v":4},null,0,null,0,null,null,null,null,null,{"$f":"SUM(AB30,AD30,AF30,AH30)","v":0}]
[null,0,null,null,null,null,null,0,null,0,{"$f":"IF(ISERROR(VLOOKUP(CONCATENATE($B$9,\"_\",Q31),選手名簿!$A:$G,7,FALSE))=TRUE,\"\",VLOOKUP(CONCATENATE($B$9,\"_\",Q31),選手名簿!$A:$G,7,FALSE))","v":5},{"$f":"IF(ISERROR(VLOOKUP(CONCATENATE($B$9,\"_\",Q31),選手名簿!$A:$E,5,FALSE))=TRUE,\"\",VLOOKUP(CONCATENATE($B$9,\"_\",Q31),選手名簿!$A:$E,5,FALSE))","v":"後藤　健"},null,null,null,null,14,{"$f":"IF(ISERROR(VLOOKUP(CONCATENATE($B$9,\"_\",Q31),選手名簿!$A:$E,4,FALSE))=TRUE,\"\",VLOOKUP(CONCATENATE($B$9,\"_\",Q31),選手名簿!$A:$E,4,FALSE))","v":"FW"},{"$f":"IF(ISERROR(VLOOKUP(CONCATENATE($W$9,\"_\",T31),選手名簿!$A:$E,4,FALSE))=TRUE,\"\",VLOOKUP(CONCATENATE($W$9,\"_\",T31),選手名簿!$A:$E,4,FALSE))","v":"MF"},14,{"$f":"IF(ISERROR(VLOOKUP(CONCATENATE($W$9,\"_\",T31),選手名簿!$A:$E,5,FALSE))=TRUE,\"\",VLOOKUP(CONCATENATE($W$9,\"_\",T31),選手名簿!$A:$E,5,FALSE))","v":"増田　壮我"},null,null,null,null,{"$f":"IF(ISERROR(VLOOKUP(CONCATENATE($W$9,\"_\",T31),選手名簿!$A:$G,7,FALSE))=TRUE,\"\",VLOOKUP(CONCATENATE($W$9,\"_\",T31),選手名簿!$A:$G,7,FALSE))","v":4},null,0,null,0,null,null,null,null,null,0]
[null,0,null,null,null,null,null,0,null,0,{"$f":"IF(ISERROR(VLOOKUP(CONCATENATE($B$9,\"_\",Q32),選手名簿!$A:$G,7,FALSE))=TRUE,\"\",VLOOKUP(CONCATENATE($B$9,\"_\",Q32),選手名簿!$A:$G,7,FALSE))","v":5},{"$f":"IF(ISERROR(VLOOKUP(CONCATENATE($B$9,\"_\",Q32),選手名簿!$A:$E,5,FALSE))=TRUE,\"\",VLOOKUP(CONCATENATE($B$9,\"_\",Q32),選手名簿!$A:$E,5,FALSE))","v":"岩尾　芯"},null,null,null,null,15,{"$f":"IF(ISERROR(VLOOKUP(CONCATENATE($B$9,\"_\",Q32),選手名簿!$A:$E,4,FALSE))=TRUE,\"\",VLOOKUP(CONCATENATE($B$9,\"_\",Q32),選手名簿!$A:$E,4,FALSE))","v":"DF"},{"$f":"IF(ISERROR(VLOOKUP(CONCATENATE($W$9,\"_\",T32),選手名簿!$A:$E,4,FALSE))=TRUE,\"\",VLOOKUP(CONCATENATE($W$9,\"_\",T32),選手名簿!$A:$E,4,FALSE))","v":"FW"},16,{"$f":"IF(ISERROR(VLOOKUP(CONCATENATE($W$9,\"_\",T32),選手名簿!$A:$E,5,FALSE))=TRUE,\"\",VLOOKUP(CONCATENATE($W$9,\"_\",T32),選手名簿!$A:$E,5,FALSE))","v":"佐藤　煌将"},null,null,null,null,{"$f":"IF(ISERROR(VLOOKUP(CONCATENATE($W$9,\"_\",T32),選手名簿!$A:$G,7,FALSE))=TRUE,\"\",VLOOKUP(CONCATENATE($W$9,\"_\",T32),選手名簿!$A:$G,7,FALSE))","v":4},null,0,null,0,null,null,null,null,null,0]
[null,0,null,null,null,null,null,null,null,null,{"$f":"IF(ISERROR(VLOOKUP(CONCATENATE($B$9,\"_\",Q33),選手名簿!$A:$G,7,FALSE))=TRUE,\"\",VLOOKUP(CONCATENATE($B$9,\"_\",Q33),選手名簿!$A:$G,7,FALSE))","v":""},{"$f":"IF(ISERROR(VLOOKUP(CONCATENATE($B$9,\"_\",Q33),選手名簿!$A:$E,5,FALSE))=TRUE,\"\",VLOOKUP(CONCATENATE($B$9,\"_\",Q33),選手名簿!$A:$E,5,FALSE))","v":""},null,null,null,null,null,{"$f":"IF(ISERROR(VLOOKUP(CONCATENATE($B$9,\"_\",Q33),選手名簿!$A:$E,4,FALSE))=TRUE,\"\",VLOOKUP(CONCATENATE($B$9,\"_\",Q33),選手名簿!$A:$E,4,FALSE))","v":""},{"$f":"IF(ISERROR(VLOOKUP(CONCATENATE($W$9,\"_\",T33),選手名簿!$A:$E,4,FALSE))=TRUE,\"\",VLOOKUP(CONCATENATE($W$9,\"_\",T33),選手名簿!$A:$E,4,FALSE))","v":""},null,{"$f":"IF(ISERROR(VLOOKUP(CONCATENATE($W$9,\"_\",T33),選手名簿!$A:$E,5,FALSE))=TRUE,\"\",VLOOKUP(CONCATENATE($W$9,\"_\",T33),選手名簿!$A:$E,5,FALSE))","v":""},null,null,null,null,{"$f":"IF(ISERROR(VLOOKUP(CONCATENATE($W$9,\"_\",T33),選手名簿!$A:$G,7,FALSE))=TRUE,\"\",VLOOKUP(CONCATENATE($W$9,\"_\",T33),選手名簿!$A:$G,7,FALSE))","v":""},null,null,null,null,null,null,null,null,null,0]
[null,0,null,null,null,null,null,null,null,null,{"$f":"IF(ISERROR(VLOOKUP(CONCATENATE($B$9,\"_\",Q34),選手名簿!$A:$G,7,FALSE))=TRUE,\"\",VLOOKUP(CONCATENATE($B$9,\"_\",Q34),選手名簿!$A:$G,7,FALSE))","v":""},{"$f":"IF(ISERROR(VLOOKUP(CONCATENATE($B$9,\"_\",Q34),選手名簿!$A:$E,5,FALSE))=TRUE,\"\",VLOOKUP(CONCATENATE($B$9,\"_\",Q34),選手名簿!$A:$E,5,FALSE))","v":""},null,null,null,null,null,{"$f":"IF(ISERROR(VLOOKUP(CONCATENATE($B$9,\"_\",Q34),選手名簿!$A:$E,4,FALSE))=TRUE,\"\",VLOOKUP(CONCATENATE($B$9,\"_\",Q34),選手名簿!$A:$E,4,FALSE))","v":""},{"$f":"IF(ISERROR(VLOOKUP(CONCATENATE($W$9,\"_\",T34),選手名簿!$A:$E,4,FALSE))=TRUE,\"\",VLOOKUP(CONCATENATE($W$9,\"_\",T34),選手名簿!$A:$E,4,FALSE))","v":""},null,{"$f":"IF(ISERROR(VLOOKUP(CONCATENATE($W$9,\"_\",T34),選手名簿!$A:$E,5,FALSE))=TRUE,\"\",VLOOKUP(CONCATENATE($W$9,\"_\",T34),選手名簿!$A:$E,5,FALSE))","v":""},null,null,null,null,{"$f":"IF(ISERROR(VLOOKUP(CONCATENATE($W$9,\"_\",T34),選手名簿!$A:$G,7,FALSE))=TRUE,\"\",VLOOKUP(CONCATENATE($W$9,\"_\",T34),選手名簿!$A:$G,7,FALSE))","v":""},null,null,null,null,null,null,null,null,null,0]
[null,{"$f":"SUM(C35:J35)","v":1},null,{"$f":"SUM(D16:D23,D25:D34)","v":0},null,{"$f":"SUM(F16:F23,F25:F34)","v":0},null,{"$f":"SUM(H16:H23,H25:H34)","v":0},null,{"$f":"SUM(J16:J23,J25:J34)","v":1},"小計",{"$f":"SUM(D35,F35,H35,J35)","v":1},null,null,null,null,"合計","シュート数",null,"合計",{"$f":"SUM(AB35,AD35,AF35,AH35)","v":19},null,null,null,null,"小計",null,{"$f":"SUM(AB16:AB23,AB25:AB34)","v":8},null,{"$f":"SUM(AD16:AD23,AD25:AD34)","v":11},null,{"$f":"SUM(AF16:AF23,AF25:AF34)","v":0},null,{"$f":"SUM(AH16:AH23,AH25:AH34)","v":0},null,{"$f":"SUM(AA35:AH35)","v":19}]
[null,null,"OUT",null,null,null,null,null,null,"→","IN",null,null,null,null,null,null,"交代",null,null,"OUT",null,null,null,null,null,null,"→","IN"]
[null,null,null,null,null,null,null,null,null,null,null,null,null,null,null,null,null,"選手"]
[26,"分",2,"番",{"$f":"IF(ISERROR(VLOOKUP(CONCATENATE($B$9,\"_\",C38),選手名簿!$A:$E,5,FALSE))=TRUE,\"\",VLOOKUP(CONCATENATE($B$9,\"_\",C38),選手名簿!$A:$E,5,FALSE))","v":"竹友　勝虎"},null,null,null,null,"→",8,"番",{"$f":"IF(ISERROR(VLOOKUP(CONCATENATE($B$9,\"_\",K38),選手名簿!$A:$E,5,FALSE))=TRUE,\"\",VLOOKUP(CONCATENATE($B$9,\"_\",K38),選手名簿!$A:$E,5,FALSE))","v":"岩崎　蓮武"},null,null,null,null,null,15,"分",8,"番",{"$f":"IF(ISERROR(VLOOKUP(CONCATENATE($W$9,\"_\",U38),選手名簿!$A:$E,5,FALSE))=TRUE,\"\",VLOOKUP(CONCATENATE($W$9,\"_\",U38),選手名簿!$A:$E,5,FALSE))","v":"佐藤　成"},null,null,null,null,"→",10,"番",{"$f":"IF(ISERROR(VLOOKUP(CONCATENATE($W$9,\"_\",AC38),選手名簿!$A:$E,5,FALSE))=TRUE,\"\",VLOOKUP(CONCATENATE($W$9,\"_\",AC38),選手名簿!$A:$E,5,FALSE))","v":"中道　大聖"}]
[null,"分",null,"番",{"$f":"IF(ISERROR(VLOOKUP(CONCATENATE($B$9,\"_\",C39),選手名簿!$A:$E,5,FALSE))=TRUE,\"\",VLOOKUP(CONCATENATE($B$9,\"_\",C39),選手名簿!$A:$E,5,FALSE))","v":""},null,null,null,null,"→",null,"番",{"$f":"IF(ISERROR(VLOOKUP(CONCATENATE($B$9,\"_\",K39),選手名簿!$A:$E,5,FALSE))=TRUE,\"\",VLOOKUP(CONCATENATE($B$9,\"_\",K39),選手名簿!$A:$E,5,FALSE))","v":""},null,null,null,null,null,15,"分",15,"番",{"$f":"IF(ISERROR(VLOOKUP(CONCATENATE($W$9,\"_\",U39),選手名簿!$A:$E,5,FALSE))=TRUE,\"\",VLOOKUP(CONCATENATE($W$9,\"_\",U39),選手名簿!$A:$E,5,FALSE))","v":"財津　翔大"},null,null,null,null,"→",11,"番",{"$f":"IF(ISERROR(VLOOKUP(CONCATENATE($W$9,\"_\",AC39),選手名簿!$A:$E,5,FALSE))=TRUE,\"\",VLOOKUP(CONCATENATE($W$9,\"_\",AC39),選手名簿!$A:$E,5,FALSE))","v":"高野　真音"}]
[null,"分",null,"番",{"$f":"IF(ISERROR(VLOOKUP(CONCATENATE($B$9,\"_\",C40),選手名簿!$A:$E,5,FALSE))=TRUE,\"\",VLOOKUP(CONCATENATE($B$9,\"_\",C40),選手名簿!$A:$E,5,FALSE))","v":""},null,null,null,null,"→",null,"番",{"$f":"IF(ISERROR(VLOOKUP(CONCATENATE($B$9,\"_\",K40),選手名簿!$A:$E,5,FALSE))=TRUE,\"\",VLOOKUP(CONCATENATE($B$9,\"_\",K40),選手名簿!$A:$E,5,FALSE))","v":""},null,null,null,null,null,15,"分",9,"番",{"$f":"IF(ISERROR(VLOOKUP(CONCATENATE($W$9,\"_\",U40),選手名簿!$A:$E,5,FALSE))=TRUE,\"\",VLOOKUP(CONCATENATE($W$9,\"_\",U40),選手名簿!$A:$E,5,FALSE))","v":"奈須　翔大"},null,null,null,null,"→",6,"番",{"$f":"IF(ISERROR(VLOOKUP(CONCATENATE($W$9,\"_\",AC40),選手名簿!$A:$E,5,FALSE))=TRUE,\"\",VLOOKUP(CONCATENATE($W$9,\"_\",AC40),選手名簿!$A:$E,5,FALSE))","v":"波多野　瑛太"}]
[null,"分",null,"番",{"$f":"IF(ISERROR(VLOOKUP(CONCATENATE($B$9,\"_\",C41),選手名簿!$A:$E,5,FALSE))=TRUE,\"\",VLOOKUP(CONCATENATE($B$9,\"_\",C41),選手名簿!$A:$E,5,FALSE))","v":""},null,null,null,null,"→",null,"番",{"$f":"IF(ISERROR(VLOOKUP(CONCATENATE($B$9,\"_\",K41),選手名簿!$A:$E,5,FALSE))=TRUE,\"\",VLOOKUP(CONCATENATE($B$9,\"_\",K41),選手名簿!$A:$E,5,FALSE))","v":""},null,null,null,null,null,20,"分",5,"番",{"$f":"IF(ISERROR(VLOOKUP(CONCATENATE($W$9,\"_\",U41),選手名簿!$A:$E,5,FALSE))=TRUE,\"\",VLOOKUP(CONCATENATE($W$9,\"_\",U41),選手名簿!$A:$E,5,FALSE))","v":"麻生　瑛太"},null,null,null,null,"→",4,"番",{"$f":"IF(ISERROR(VLOOKUP(CONCATENATE($W$9,\"_\",AC41),選手名簿!$A:$E,5,FALSE))=TRUE,\"\",VLOOKUP(CONCATENATE($W$9,\"_\",AC41),選手名簿!$A:$E,5,FALSE))","v":"椎原　蓮央"}]
[null,"分",null,"番",{"$f":"IF(ISERROR(VLOOKUP(CONCATENATE($B$9,\"_\",C42),選手名簿!$A:$E,5,FALSE))=TRUE,\"\",VLOOKUP(CONCATENATE($B$9,\"_\",C42),選手名簿!$A:$E,5,FALSE))","v":""},null,null,null,null,"→",null,"番",{"$f":"IF(ISERROR(VLOOKUP(CONCATENATE($B$9,\"_\",K42),選手名簿!$A:$E,5,FALSE))=TRUE,\"\",VLOOKUP(CONCATENATE($B$9,\"_\",K42),選手名簿!$A:$E,5,FALSE))","v":""},null,null,null,null,null,29,"分",7,"番",{"$f":"IF(ISERROR(VLOOKUP(CONCATENATE($W$9,\"_\",U42),選手名簿!$A:$E,5,FALSE))=TRUE,\"\",VLOOKUP(CONCATENATE($W$9,\"_\",U42),選手名簿!$A:$E,5,FALSE))","v":"板井　航一"},null,null,null,null,"→",3,"番",{"$f":"IF(ISERROR(VLOOKUP(CONCATENATE($W$9,\"_\",AC42),選手名簿!$A:$E,5,FALSE))=TRUE,\"\",VLOOKUP(CONCATENATE($W$9,\"_\",AC42),選手名簿!$A:$E,5,FALSE))","v":"金子　斉恩"}]
[null,"分",null,"番",{"$f":"IF(ISERROR(VLOOKUP(CONCATENATE($B$9,\"_\",C43),選手名簿!$A:$E,5,FALSE))=TRUE,\"\",VLOOKUP(CONCATENATE($B$9,\"_\",C43),選手名簿!$A:$E,5,FALSE))","v":""},null,null,null,null,"→",null,"番",{"$f":"IF(ISERROR(VLOOKUP(CONCATENATE($B$9,\"_\",K43),選手名簿!$A:$E,5,FALSE))=TRUE,\"\",VLOOKUP(CONCATENATE($B$9,\"_\",K43),選手名簿!$A:$E,5,FALSE))","v":""},null,null,null,null,null,null,"分",null,"番",{"$f":"IF(ISERROR(VLOOKUP(CONCATENATE($W$9,\"_\",U43),選手名簿!$A:$E,5,FALSE))=TRUE,\"\",VLOOKUP(CONCATENATE($W$9,\"_\",U43),選手名簿!$A:$E,5,FALSE))","v":""},null,null,null,null,"→",null,"番",{"$f":"IF(ISERROR(VLOOKUP(CONCATENATE($W$9,\"_\",AC43),選手名簿!$A:$E,5,FALSE))=TRUE,\"\",VLOOKUP(CONCATENATE($W$9,\"_\",AC43),選手名簿!$A:$E,5,FALSE))","v":""}]
[null,"分",null,"番",{"$f":"IF(ISERROR(VLOOKUP(CONCATENATE($B$9,\"_\",C44),選手名簿!$A:$E,5,FALSE))=TRUE,\"\",VLOOKUP(CONCATENATE($B$9,\"_\",C44),選手名簿!$A:$E,5,FALSE))","v":""},null,null,null,null,"→",null,"番",{"$f":"IF(ISERROR(VLOOKUP(CONCATENATE($B$9,\"_\",K44),選手名簿!$A:$E,5,FALSE))=TRUE,\"\",VLOOKUP(CONCATENATE($B$9,\"_\",K44),選手名簿!$A:$E,5,FALSE))","v":""},null,null,null,null,null,null,"分",null,"番",{"$f":"IF(ISERROR(VLOOKUP(CONCATENATE($W$9,\"_\",U44),選手名簿!$A:$E,5,FALSE))=TRUE,\"\",VLOOKUP(CONCATENATE($W$9,\"_\",U44),選手名簿!$A:$E,5,FALSE))","v":""},null,null,null,null,"→",null,"番",{"$f":"IF(ISERROR(VLOOKUP(CONCATENATE($W$9,\"_\",AC44),選手名簿!$A:$E,5,FALSE))=TRUE,\"\",VLOOKUP(CONCATENATE($W$9,\"_\",AC44),選手名簿!$A:$E,5,FALSE))","v":""}]
[null,"分",null,"番",{"$f":"IF(ISERROR(VLOOKUP(CONCATENATE($B$9,\"_\",C45),選手名簿!$A:$E,5,FALSE))=TRUE,\"\",VLOOKUP(CONCATENATE($B$9,\"_\",C45),選手名簿!$A:$E,5,FALSE))","v":""},null,null,null,null,"→",null,"番",{"$f":"IF(ISERROR(VLOOKUP(CONCATENATE($B$9,\"_\",K45),選手名簿!$A:$E,5,FALSE))=TRUE,\"\",VLOOKUP(CONCATENATE($B$9,\"_\",K45),選手名簿!$A:$E,5,FALSE))","v":""},null,null,null,null,null,null,"分",null,"番",{"$f":"IF(ISERROR(VLOOKUP(CONCATENATE($W$9,\"_\",U45),選手名簿!$A:$E,5,FALSE))=TRUE,\"\",VLOOKUP(CONCATENATE($W$9,\"_\",U45),選手名簿!$A:$E,5,FALSE))","v":""},null,null,null,null,"→",null,"番",{"$f":"IF(ISERROR(VLOOKUP(CONCATENATE($W$9,\"_\",AC45),選手名簿!$A:$E,5,FALSE))=TRUE,\"\",VLOOKUP(CONCATENATE($W$9,\"_\",AC45),選手名簿!$A:$E,5,FALSE))","v":""}]
["警告（Ｃ）・退場（Ｓ）など",null,null,null,null,null,null,"合計",null,"延後",null,"延前",null,"後半",null,"前半",null,"チーム\n合計",null,"前半",null,"後半",null,"延前",null,"延後",null,"合計",null,"警告（Ｃ）・退場（Ｓ）など"]
[null,null,null,null,null,null,null,{"$f":"SUM(J47:Q47)","v":11},null,null,null,null,null,6,null,5,null,"Ｇ","Ｋ",0,null,1,null,null,null,null,null,{"$f":"SUM(T47:AA47)","v":1}]
[null,null,null,null,null,null,null,{"$f":"SUM(J48:Q48)","v":0},null,null,null,null,null,0,null,0,null,"Ｃ","Ｋ",3,null,1,null,null,null,null,null,{"$f":"SUM(T48:AA48)","v":4}]
[null,null,null,null,null,null,null,{"$f":"SUM(J49:Q49)","v":0},null,null,null,null,null,0,null,0,null,"直接","ＦＫ",0,null,1,null,null,null,null,null,{"$f":"SUM(T49:AA49)","v":1}]
[null,null,null,null,null,null,null,{"$f":"SUM(J50:Q50)","v":0},null,null,null,null,null,0,null,0,null,"間接","ＦＫ",0,null,1,null,null,null,null,null,{"$f":"SUM(T50:AA50)","v":1}]
[null,null,null,null,null,null,null,{"$f":"SUM(J51:Q51)","v":0},null,null,null,null,null,0,null,0,null,"Ｐ","Ｋ",0,null,0,null,null,null,null,null,{"$f":"SUM(T51:AA51)","v":0}]
["時間",null,null,"得点者",null,"得　　点　　経　　過",null,null,null,null,null,null,null,null,null,null,null,null,"時間",null,null,"得点者",null,"得　　点　　経　　過"]
[null,null,"分",null,null,null,null,null,null,null,null,null,null,null,null,null,null,null,null,26,"分",6,null,"10～→　6S"]
[null,null,"分",null,null,null,null,null,null,null,null,null,null,null,null,null,null,null,null,null,"分"]
[null,null,"分",null,null,null,null,null,null,null,null,null,null,null,null,null,null,null,null,null,"分"]
[null,null,"分",null,null,null,null,null,null,null,null,null,null,null,null,null,null,null,null,null,"分"]
[null,null,"分",null,null,null,null,null,null,null,null,null,null,null,null,null,null,null,null,null,"分"]
[null,null,"分",null,null,null,null,null,null,null,null,null,null,null,null,null,null,null,null,null,"分"]
[" ",null,null,"《略号例》",null,null,null,"ドリブル",null,"～",null,"ゴロのパス",null,null,"→",null,"浮き球",null,"∩",null,"混戦",null,"×",null,"ヘディング",null,null,"H",null,"シュート",null,"S"]
[]
["戦評者氏名",null,null,null,"（",null,null,null,null,null,"）",null,"勤務先または所属",null,null,null,null,"（","一般社団法人　大分県サッカー協会　ジュニア委員会",null,null,null,null,null,null,null,null,null,null,null,null,null,null,null,"　）"]
[]
[]
[]
[]
[]
[]
[]
[]
[null,null,null,null,null,null,"M   C",null,null,null,null,null,null,"会　場　長",null,null,null,null,null,null,"ウェルフェアオフィサー",null,null,null,null,null,null,"主　　審"]
[null,null,null,null,null,null,"仲野　昭博",null,null,null,null,null,null,"安東　幹雄",null,null,null,null,null,null,"山野内　哲朗",null,null,null,null,null,null,"幸　壮一郎"]

{"sheet":"審判員","index":17,"n_rows":2809,"n_cols":11,"rows_kept":2809,"cut":false,"hidden":true,"merged":[]}
["審判登録番号","氏名","資格","性別","技能区分","所属協会","第二登録協会",null,"選択肢より",null,"＜警告選択肢＞"]
["R010209402","三浦　龍一","３級","男性","S審判","福岡県","大分県",null,"警告",null,"反スポ"]
["R010315949","溝口　介","４級","男性","S審判","福岡県","大分県",null,"退場",null,"ラフ"]
["R010413186","吉田　靖明","４級","男性","S審判","福岡県","大分県",null,null,null,"異議"]
["R010247516","草場　帆斗","３級","男性","S審判","長崎県","大分県",null,null,null,"繰り返し"]
["R001251601","佐々木　慎哉","１級","男性","S審判","大分県",null,null,null,null,"遅延"]
["R001265145","秋元　昭一","２級","男性","S審判","大分県",null,null,null,null,"距離"]
["R000879756","足達　実生","２級","男性","S審判","大分県",null,null,null,null,"無断入"]
["R001253502","安藤　博幸","２級","男性","S審判","大分県",null,null,null,null,"無断去"]
["R006221377","池添　将大","２級","男性","S審判","大分県",null,null,null,null,"＜退場選択肢＞"]
["R001262333","諌本　秀樹","２級","男性","S審判","大分県",null,null,null,null,"不正"]
["R001254060","井上　大知","２級","男性","S審判","大分県",null,null,null,null,"乱暴"]
["R001265172","岩尾　雅広","２級","男性","S審判","大分県",null,null,null,null,"つば"]
["R001262546","岩崎　浩也","２級","男性","S審判","大分県",null,null,null,null,"阻止(手)"]
["R001265190","宇野　耕二","２級","男性","S審判","大分県",null,null,null,null,"阻止(他)"]
["R001265224","大塚　浩司","２級","男性","S審判","大分県",null,null,null,null,"暴言"]
["R001265233","大野　髙洋","２級","男性","S審判","大分県",null,null,null,null,"警告2"]
["R009212325","戒田　直樹","２級","男性","S審判","大分県"]
["R001262971","木下　富喜","２級","男性","S審判","大分県"]
["R001262999","木原　一心","２級","男性","S審判","大分県"]
["R005528255","黒田　大貴","２級","男性","S審判","大分県"]
["R001265349","小出　康博","２級","男性","S審判","大分県"]
["R001265376","後藤　樹明","２級","男性","S審判","大分県"]
["R000876616","後藤　晋平","２級","男性","S審判","大分県"]
["R001265367","後藤　啓之","２級","男性","S審判","大分県"]
["R001256943","笹原　年浩","２級","男性","S審判","大分県"]
["R003255841","塩月　勇輝","２級","男性","S審判","大分県"]
["R001265385","須藤　健二","２級","男性","S審判","大分県"]
["R001257818","関　太啓","２級","男性","S審判","大分県"]
["R006221465","曽我　拓実","２級","男性","S審判","大分県"]
["R010052667","高木　翔","２級","男性","S審判","大分県"]
["R001257924","高木　哲也","２級","男性","S審判","大分県"]
["R000892429","田中　博","２級","男性","S審判","大分県"]
["R001265428","坪井　和幸","２級","男性","S審判","大分県"]
["R001265437","寺林　豊","２級","男性","S審判","大分県"]
["R008254236","時髙　美紅","２級","女性","S審判","大分県","福岡県"]
["R001265455","中井　賢太郎","２級","男性","S審判","大分県"]
["R010250271","中尾　亜夢","２級","男性","S審判","大分県"]
["R006151032","中尾　優志","２級","男性","S審判","大分県"]
["R003317390","中園　健太郎","２級","男性","S審判","大分県"]
["R004162335","中原　元希","２級","男性","S審判","大分県"]
["R001265464","仲摩　則孝","２級","男性","S審判","大分県"]
["R001265358","西田　亜矢","２級","女性","S審判","大分県"]
["R010167733","原　大貴","２級","男性","S審判","大分県"]
["R001265473","引地　弘幸","２級","男性","S審判","大分県"]
["R001260140","福田　人志","２級","男性","S審判","大分県"]
["R001265534","前山　精治","２級","男性","S審判","大分県"]
["R001260593","増永　伸也","２級","男性","S審判","大分県"]
["R001265552","松原　マヤ","２級","女性","S審判","大分県"]
["R002331010","丸小野　聡暢","２級","男性","S審判","大分県"]
["R004793649","水江　真太郎","２級","男性","S審判","大分県"]
["R001264632","湊　弘智","２級","男性","S審判","大分県"]
["R006093817","幸　壮一郎","２級","男性","S審判","大分県"]
["R001262023","和田　敬生","２級","男性","S審判","大分県"]
["R007728956","秋鹿　栄","３級","男性","S審判","大分県"]
["R010093470","合澤　慎太郎","３級","男性","S審判","大分県"]
["R010093434","赤嶺　将太","３級","男性","S審判","大分県"]
["R001264881","赤山　千晶","３級","男性","S審判","大分県"]
["R001253007","秋元　貴生","３級","男性","S審判","大分県"]
["R001253025","秋吉　明","３級","男性","S審判","大分県"]
["R010382663","秋吉　崇志","３級","男性","S審判","大分県"]
["R010382666","秋吉　徹男","３級","男性","S審判","大分県"]
["R007960093","浅井　佑太","３級","男性","S審判","大分県"]
["R010169055","朝来野　勇志","３級","男性","S審判","大分県"]
["R007728424","浅田　雄太","３級","男性","S審判","大分県"]
["R003972391","朝比奈　義行","３級","男性","S審判","大分県"]
["R003317336","朝吹　崇宏","３級","男性","S審判","大分県"]
["R006933694","東　紘造","３級","男性","S審判","大分県"]
["R001253159","麻生　勝稔","３級","男性","S審判","大分県"]
["R001265154","足立　英二","３級","男性","S審判","大分県"]
["R001253557","安達　信也","３級","男性","S審判","大分県"]
["R001253195","足立　淳","３級","男性","S審判","大分県"]
["R010069871","足立　卓也","３級","男性","S審判","大分県"]
["R009198423","足立　光","３級","男性","S審判","大分県"]
["R010189040","阿地　孝","３級","男性","S審判","大分県"]
["R010313745","穴井　大地","３級","男性","S審判","大分県"]
["R010044664","穴井　裕大","３級","男性","S審判","大分県"]
["R001262184","安部　一徳","３級","男性","S審判","大分県"]
["R006573784","安倍　和広","３級","男性","S審判","大分県"]
["R009460436","安部　隆行","３級","男性","S審判","大分県"]
["R010189323","安部　孝之","３級","男性","S審判","大分県"]
["R007959103","安倍　達也","３級","男性","S審判","大分県"]
["R001262209","阿部　浩之","３級","男性","S審判","大分県"]
["R010281814","安部　正信","３級","男性","S審判","大分県"]
["R005336098","荒木　宗明","３級","男性","S審判","大分県"]
["R004225713","有田　裕哉","３級","男性","S審判","大分県"]
["R010189314","有村　惇志","３級","男性","S審判","大分県"]
["R001251036","有村　季幸","３級","男性","S審判","大分県"]
["R001262236","有吉　剛","３級","男性","S審判","大分県"]
["R008634229","安藤　昭徳","３級","男性","S審判","大分県"]
["R007003033","安藤　和洋","３級","男性","S審判","大分県"]
["R001253496","安東　信二","３級","男性","S審判","大分県"]
["R010013254","安藤　暢","３級","男性","S審判","大分県"]
["R010064829","安藤　英明","３級","男性","S審判","大分県"]
["R001253548","安藤　洋樹","３級","男性","S審判","大分県"]
["R001262254","安東　幹雄","３級","男性","S審判","大分県"]
["R009547124","安藤　洋一","３級","男性","S審判","大分県"]
["R007960084","安部　武志","３級","男性","S審判","大分県"]
["R001262290","池江　浩一郎","３級","男性","S審判","大分県"]
["R010306442","池田　達哉","３級","男性","S審判","大分県"]
["R002384216","池田　浩","３級","男性","S審判","大分県"]
["R010093456","池邉　賢一","３級","男性","S審判","大分県"]
["R001262324","池辺　俊明","３級","男性","S審判","大分県"]
["R010301990","池本　岬","３級","男性","S審判","大分県"]
["R009408904","石井　洋平","３級","男性","S審判","大分県"]
["R001262360","石川　幸二","３級","男性","S審判","大分県"]
["R001262379","石川　慎也","３級","男性","S審判","大分県"]
["R010027832","石川　裕明","３級","男性","S審判","大分県"]
["R004060329","石松　卓哉","３級","男性","S審判","大分県"]
["R001262397","石丸　泰幸","３級","男性","S審判","大分県"]
["R007753129","石本　直也","３級","男性","S審判","大分県"]
["R010189276","石本　侑己","３級","男性","S審判","大分県"]
["R001262403","石山　慎史","３級","男性","S審判","大分県"]
["R003421338","五十川　文明","３級","男性","S審判","大分県"]
["R005467918","磯村　信一","３級","男性","S審判","大分県"]
["R008536972","板井　晋一","３級","男性","S審判","大分県"]
["R010281826","板井　崇晃","３級","男性","S審判","大分県"]
["R006093835","板井　龍法","３級","男性","S審判","大分県"]
["R006151041","板倉　瑛希","３級","男性","S審判","大分県"]
["R007686234","市田　翔太","３級","男性","S審判","大分県"]
["R002384191","居塚　繁","３級","男性","S審判","大分県"]
["R002531522","伊藤　宏充","３級","男性","S審判","大分県"]
["R001262458","伊東　雅弘","３級","男性","S審判","大分県"]
["R008634478","伊藤　勇士","３級","女性","S審判","大分県"]
["R006173919","井上　健次郎","３級","男性","S審判","大分県"]
["R010281875","井上　颯太","３級","男性","S審判","大分県"]
["R001254051","井上　直樹","３級","男性","S審判","大分県"]
["R001869093","井上　秀文","３級","男性","S審判","大分県"]
["R006574172","猪下　侑恭","３級","男性","S審判","大分県"]
["R001262494","井堀　貴康","３級","男性","S審判","大分県"]
["R001262500","今井　克人","３級","男性","S審判","大分県"]
["R003677104","今宮　俊一","３級","男性","S審判","大分県"]
["R010090347","岩男　行祐","３級","男性","S審判","大分県"]
["R005603820","岩尾　潤一郎","３級","男性","S審判","大分県"]
["R010096810","岩尾　瑞貴","３級","男性","S審判","大分県"]
["R006664758","岩男　雄一郎","３級","男性","S審判","大分県"]
["R001254176","岩坂　康範","３級","男性","S審判","大分県"]
["R004778507","岩崎　彰範","３級","男性","S審判","大分県"]
["R010100667","岩波　豊治","３級","男性","S審判","大分県"]
["R007335297","岩丸　海斗","３級","男性","S審判","大分県"]
["R001262573","上尾　泰裕","３級","男性","S審判","大分県"]
["R004055390","植木　邦彦","３級","男性","S審判","大分県"]
["R001254282","上田　大吾","３級","男性","S審判","大分県"]
["R001262582","上田　輝彦","３級","男性","S審判","大分県"]
["R010169040","上本　慎一郎","３級","男性","S審判","大分県"]
["R009408773","植山　功喜","３級","男性","S審判","大分県"]
["R010189280","魚住　健人","３級","男性","S審判","大分県"]
["R007003431","宇髙　篤史","３級","男性","S審判","大分県"]
["R003421231","内丸　貴裕","３級","男性","S審判","大分県"]
["R010396521","内山　隆寛","３級","男性","S審判","大分県"]
["R010093443","内山田　光史","３級","男性","S審判","大分県"]
["R001262874","宇都宮　潤也","３級","男性","S審判","大分県"]
["R005527609","宇都宮　貴之","３級","男性","S審判","大分県"]
["R010193702","梅田　高志","３級","男性","S審判","大分県"]
["R010189311","梅徳　里一","３級","男性","S審判","大分県"]
["R010100691","浦本　雅志","３級","男性","S審判","大分県"]
["R003421161","永路　尚道","３級","男性","S審判","大分県"]
["R010076621","江上　和希","３級","男性","S審判","大分県"]
["R005603361","江口　晃平","３級","男性","S審判","大分県"]
["R010281880","江口　大介","３級","男性","S審判","大分県"]
["R002530064","江崎　康平","３級","男性","S審判","大分県"]
["R001254538","江藤　修","３級","男性","S審判","大分県"]
["R005603866","衛藤　圭典","３級","男性","S審判","大分県"]
["R001254510","衛藤　兼一","３級","男性","S審判","大分県"]
["R001262607","衛藤　俊明","３級","男性","S審判","大分県"]
["R001254477","江藤　雅章","３級","男性","S審判","大分県"]
["R009197619","恵美　圭介","３級","男性","S審判","大分県"]
["R002384580","江良　信司","３級","男性","S審判","大分県"]
["R001262625","大久保　邦彦","３級","男性","S審判","大分県"]
["R008377616","大久保　稔生","３級","男性","S審判","大分県"]
["R003421912","大久保　正明","３級","男性","S審判","大分県"]
["R006093738","大谷　伸二","３級","男性","S審判","大分県"]
["R001254714","大塚　浩介","３級","男性","S審判","大分県"]
["R005528121","大塚　勇司","３級","男性","S審判","大分県"]
["R008174019","大塚　良輝","３級","男性","S審判","大分県"]
["R003351109","大津留　健太","３級","男性","S審判","大分県"]
["R003317080","大津留　聖太","３級","男性","S審判","大分県"]
["R010281884","大戸　聡平","３級","男性","S審判","大分県"]
["R001262670","大渡　年春","３級","男性","S審判","大分県"]
["R007686261","大友　拓郎","３級","男性","S審判","大分県"]
["R003421222","大野　盛通","３級","男性","S審判","大分県"]
["R008523330","大場　剛","３級","男性","S審判","大分県"]
["R010093494","大本　敏行","３級","男性","S審判","大分県"]
["R007660573","岡　智史","３級","男性","S審判","大分県"]
["R010313747","岡崎　俊介","３級","男性","S審判","大分県"]
["R006901613","岡部　明男","３級","男性","S審判","大分県"]
["R001254875","岡部　司","３級","男性","S審判","大分県"]
["R007959088","岡本　遼","３級","男性","S審判","大分県"]
["R001262698","緒方　崇","３級","男性","S審判","大分県"]
["R007075261","小川　翔太","３級","男性","S審判","大分県"]
["R006573979","小川　雅和","３級","男性","S審判","大分県"]
["R009460515","奥田　和彦","３級","男性","S審判","大分県"]
["R010100676","奥村　浩勝","３級","男性","S審判","大分県"]
["R003972355","小倉　正広","３級","男性","S審判","大分県"]
["R001262731","長田　敏明","３級","男性","S審判","大分県"]
["R010189320","尾崎　勇","３級","男性","S審判","大分県"]
["R010099453","小関　啓太郎","３級","男性","S審判","大分県"]
["R007960109","小田　将大","３級","男性","S審判","大分県"]
["R006901589","小田原　蓮","３級","男性","S審判","大分県"]
["R010311884","越智　龍平","３級","男性","S審判","大分県"]
["R002996695","乙部　哲也","３級","男性","S審判","大分県"]
["R007959954","オトメ　仁孝","３級","男性","S審判","大分県"]
["R002917661","小野　晃央","３級","男性","S審判","大分県"]
["R001262768","小野　和生","３級","男性","S審判","大分県"]
["R001255184","小野　聡","３級","男性","S審判","大分県"]
["R005603608","小野　智史","３級","男性","S審判","大分県"]
["R001255193","小野　修太郎","３級","男性","S審判","大分県"]
["R001262759","小野　俊二郎","３級","男性","S審判","大分県"]
["R001255139","小野　慎一","３級","男性","S審判","大分県"]
["R010255178","小野　智弘","３級","男性","S審判","大分県"]
["R005604005","小野　裕二","３級","男性","S審判","大分県"]
["R001262786","小野　幸登","３級","男性","S審判","大分県"]
["R010390125","小野　友美子","３級","女性","S審判","大分県"]
["R001262777","小野　亮一","３級","男性","S審判","大分県"]
["R002996659","小畑　郁夫","３級","男性","S審判","大分県"]
["R005164303","小幡　栄治","３級","男性","S審判","大分県"]
["R000466941","小畑　克則","３級","男性","S審判","大分県"]
["R002530125","小畑　広大","３級","男性","S審判","大分県"]
["R008173700","甲斐　剛樹","３級","男性","S審判","大分県"]
["R001265260","甲斐　正三","３級","男性","S審判","大分県"]
["R003258501","甲斐　真号","３級","男性","S審判","大分県"]
["R000892818","甲斐　睦記","３級","男性","S審判","大分県"]
["R004794055","笠置　貴路","３級","男性","S審判","大分県"]
["R001262829","笠置　忠照","３級","男性","S審判","大分県"]
["R003255771","笠野　わかこ","３級","女性","S審判","大分県"]
["R004793542","梶川　和志","３級","男性","S審判","大分県"]
["R006574154","梶原　公","３級","男性","S審判","大分県"]
["R004055585","梶原　賢士","３級","男性","S審判","大分県"]
["R009198511","梶原　幸平","３級","男性","S審判","大分県"]
["R001262838","梶原　誠司","３級","男性","S審判","大分県"]
["R010099455","糟谷　浩志","３級","男性","S審判","大分県"]
["R004714642","加藤　敦士","３級","男性","S審判","大分県"]
["R007959608","加藤　恭介","３級","男性","S審判","大分県"]
["R010189342","加藤　拓己","３級","男性","S審判","大分県"]
["R009197929","加藤　泰広","３級","男性","S審判","大分県"]
["R010261482","金子　翔","３級","男性","S審判","大分県"]
["R010376294","株根　聖太","３級","男性","S審判","大分県"]
["R009624779","株根　蒼太","３級","男性","S審判","大分県"]
["R001262883","神川　基","３級","男性","S審判","大分県"]
["R002996668","上西　亮次","３級","男性","S審判","大分県"]
["R010120143","萱嶌　修平","３級","男性","S審判","大分県"]
["R001255616","川井　勇介","３級","男性","S審判","大分県"]
["R007959963","川内　智弘","３級","男性","S審判","大分県"]
["R010070659","川浦　光晨","３級","男性","S審判","大分県"]
["R006220952","川﨑　浩司","３級","男性","S審判","大分県"]
["R002917430","河津　裕徳","３級","男性","S審判","大分県"]
["R005103418","河野　貴裕","３級","男性","S審判","大分県"]
["R001255740","川野　剛","３級","男性","S審判","大分県"]
["R001255713","河野　英樹","３級","男性","S審判","大分県"]
["R001262935","河野　裕明","３級","男性","S審判","大分県"]
["R010281800","河野　光喜","３級","男性","S審判","大分県"]
["R006094001","河野　祐司","３級","男性","S審判","大分県"]
["R001255722","河野　隆次","３級","男性","S審判","大分県"]
["R010214623","川畑　拓人","３級","男性","S審判","大分県"]
["R010093459","川辺　祐介","３級","男性","S審判","大分県"]
["R003351145","川村　啓一郎","３級","男性","S審判","大分県"]
["R001255935","川村　正樹","３級","男性","S審判","大分県"]
["R004112020","川元　翔","３級","男性","S審判","大分県"]
["R003256053","菊地　謙一","３級","男性","S審判","大分県"]
["R007890271","菊地　玄","３級","男性","S審判","大分県"]
["R010255152","菊池　芳郎","３級","男性","S審判","大分県"]
["R010376296","木島　悠","３級","男性","S審判","大分県"]
["R007959583","吉川　一馬","３級","男性","S審判","大分県"]
["R010074021","木津　洋孝","３級","男性","S審判","大分県"]
["R007003468","木本　翔平","３級","男性","S審判","大分県"]
["R001256129","木本　信之","３級","男性","S審判","大分県"]
["R001256138","木本　将斗","３級","男性","S審判","大分県"]
["R001251504","清原　雄太","３級","男性","S審判","大分県"]
["R007003486","清松　隆浩","３級","男性","S審判","大分県"]
["R001263022","吉良　和明","３級","男性","S審判","大分県"]
["R001263031","吉良　信輝","３級","男性","S審判","大分県"]
["R001263040","吉良　光峰","３級","男性","S審判","大分県"]
["R001263068","切封　智和","３級","男性","S審判","大分県"]
["R001263077","草野　学","３級","男性","S審判","大分県"]
["R010247785","楠本　未沙都","３級","女性","S審判","大分県"]
["R001263129","工藤　慎一","３級","男性","S審判","大分県"]
["R003258413","工藤　隆貴","３級","男性","S審判","大分県"]
["R001265312","工藤　高信","３級","男性","S審判","大分県"]
["R010189301","工藤　拓海","３級","男性","S審判","大分県"]
["R001263086","工藤　信弘","３級","男性","S審判","大分県"]
["R003351251","工藤　暢裕","３級","男性","S審判","大分県"]
["R007002982","工藤　政野","３級","男性","S審判","大分県"]
["R001263110","工藤　康博","３級","男性","S審判","大分県"]
["R008798262","工藤　龍成","３級","男性","S審判","大分県"]
["R003677131","久保　雅敬","３級","男性","S審判","大分県"]
["R001256305","久保田　英樹","３級","男性","S審判","大分県"]
["R010259420","窪田　雅一","３級","男性","S審判","大分県"]
["R001256314","久保山　守","３級","男性","S審判","大分県"]
["R010120185","熊谷　薫","３級","男性","S審判","大分県"]
["R001263165","熊谷　浩之","３級","男性","S審判","大分県"]
["R007334890","熊谷　勇哉","３級","男性","S審判","大分県"]
["R010193706","倉光　勇弥","３級","男性","S審判","大分県"]
["R010074028","栗井　勝","３級","男性","S審判","大分県"]
["R002037275","栗牧　翔一","３級","男性","S審判","大分県"]
["R001263183","桑原　栄二郎","３級","男性","S審判","大分県"]
["R008634487","桑原　将吾","３級","男性","S審判","大分県"]
["R001256402","小石川　悟","３級","男性","S審判","大分県"]
["R001263192","小出　和明","３級","男性","S審判","大分県"]
["R007003228","河野　晋也","３級","男性","S審判","大分県"]
["R006220387","河野　翼","３級","男性","S審判","大分県"]
["R010376271","古賀　嵐士","３級","男性","S審判","大分県"]
["R001263235","小嶋　亮","３級","男性","S審判","大分県"]
["R009546073","小玉　篤史","３級","男性","S審判","大分県"]
["R009198502","児玉　祥吾","３級","男性","S審判","大分県"]
["R005405255","小手川　朋輝","３級","男性","S審判","大分県"]
["R010080887","古西　譲司","３級","男性","S審判","大分県"]
["R007728673","小林　亮介","３級","男性","S審判","大分県"]
["R005987209","小堀　良祐","３級","男性","S審判","大分県"]
["R001263314","近藤　健二","３級","男性","S審判","大分県"]
["R006591364","近藤　裕之","３級","男性","S審判","大分県"]
["R001263305","近藤　靖彦","３級","男性","S審判","大分県"]
["R010376355","合嶋　雄大","３級","男性","S審判","大分県"]
["R009408852","後藤　憲治","３級","男性","S審判","大分県"]
["R004793667","後藤　悟","３級","男性","S審判","大分県"]
["R001263299","後藤　伸太郎","３級","男性","S審判","大分県"]
["R008798226","後藤　貴志","３級","男性","S審判","大分県"]
["R001251540","後藤　毅","３級","男性","S審判","大分県"]
["R010306452","後藤　知仁","３級","男性","S審判","大分県"]
["R001256624","後藤　文生","３級","男性","S審判","大分県"]
["R010067947","後藤　美宇","３級","女性","S審判","大分県"]
["R001263271","後藤　稔","３級","男性","S審判","大分県"]
["R007960215","後藤　裕也","３級","男性","S審判","大分県"]
["R001263332","斎藤　克己","３級","男性","S審判","大分県"]
["R001263369","酒井　清行","３級","男性","S審判","大分県"]
["R001263350","酒井　祐三","３級","男性","S審判","大分県"]
["R010356115","榊　謙治","３級","男性","S審判","大分県"]
["R004714688","坂本　克也","３級","男性","S審判","大分県"]
["R003350863","坂本　圭","３級","男性","S審判","大分県"]
["R009072268","坂本　載瑛","３級","女性","S審判","大分県"]
["R001263402","坂本　淳吾","３級","男性","S審判","大分県"]
["R006849191","坂本　大典","３級","男性","S審判","大分県"]
["R006574400","酒盛　政晴","３級","男性","S審判","大分県"]
["R006664864","相良　章成","３級","男性","S審判","大分県"]
["R002917500","迫　裕作","３級","男性","S審判","大分県"]
["R007335136","佐々木　秀樹","３級","男性","S審判","大分県"]
["R001263411","佐々木　正志","３級","男性","S審判","大分県"]
["R003677052","佐田　敬介","３級","男性","S審判","大分県"]
["R001263448","佐藤　昭生","３級","男性","S審判","大分県"]
["R001263484","佐藤　一好","３級","男性","S審判","大分県"]
["R005603981","佐藤　健","３級","男性","S審判","大分県"]
["R010261478","佐藤　賢太","３級","男性","S審判","大分県"]
["R009460551","佐藤　慎二","３級","男性","S審判","大分県"]
["R005164394","佐藤　嵩隼","３級","男性","S審判","大分県"]
["R008634706","佐藤　巨規","３級","男性","S審判","大分県"]
["R007728512","佐藤　誠","３級","男性","S審判","大分県"]
["R002530161","佐藤　光義","３級","男性","S審判","大分県"]
["R007959811","佐藤　康之","３級","男性","S審判","大分県"]
["R007003291","佐藤　優介","３級","男性","S審判","大分県"]
["R010382660","佐藤　祐輔","３級","男性","S審判","大分県"]
["R001263475","佐藤　隆太","３級","男性","S審判","大分県"]
["R009552560","佐藤　亮","３級","男性","S審判","大分県"]
["R010096806","猿渡　崇史","３級","男性","S審判","大分県"]
["R001257252","三宮　仁","３級","男性","S審判","大分県"]
["R007959936","塩田　誠","３級","男性","S審判","大分県"]
["R010167723","敷島　孝太","３級","男性","S審判","大分県"]
["R009546781","四嶋　遼大","３級","男性","S審判","大分県"]
["R001257322","師藤　一也","３級","男性","S審判","大分県"]
["R001257340","篠田　公成","３級","男性","S審判","大分県"]
["R004326535","信田　卓也","３級","男性","S審判","大分県"]
["R010073990","篠田　裕也","３級","男性","S審判","大分県"]
["R010189333","芝崎　駿","３級","男性","S審判","大分県"]
["R008634715","柴田　健一","３級","男性","S審判","大分県"]
["R010214543","柴田　峻佑","３級","男性","S審判","大分県"]
["R002938017","柴田　徹","３級","男性","S審判","大分県"]
["R001263536","渋谷　崇","３級","男性","S審判","大分県"]
["R001263545","島　邦彦","３級","男性","S審判","大分県"]
["R003317114","島津　広光","３級","男性","S審判","大分県"]
["R007686216","清水　圭二","３級","男性","S審判","大分県"]
["R001558364","下野　智洋","３級","男性","S審判","大分県"]
["R006910259","下原　優一","３級","男性","S審判","大分県"]
["R010390129","下村　華央","３級","女性","S審判","大分県"]
["R006849182","志谷　進","３級","男性","S審判","大分県"]
["R001263590","首藤　圭介","３級","男性","S審判","大分県"]
["R001934616","首藤　貴弘","３級","男性","S審判","大分県"]
["R001263624","白石　正","３級","男性","S審判","大分県"]
["R009554780","白江　直樹","３級","男性","S審判","大分県"]
["R010390128","白木原　琳花","３級","女性","S審判","大分県"]
["R006849128","城全　晃孝","３級","男性","S審判","大分県"]
["R001263606","城全　孝成","３級","男性","S審判","大分県"]
["R001263651","秦　啓一郎","３級","男性","S審判","大分県"]
["R001257641","秦　達郎","３級","男性","S審判","大分県"]
["R001263633","秦　雅暢","３級","男性","S審判","大分県"]
["R001257650","新貝　学","３級","男性","S審判","大分県"]
["R004793834","末松　敬雅","３級","男性","S審判","大分県"]
["R006097345","末松　由貴","３級","男性","S審判","大分県"]
["R006664961","末吉　裕樹","３級","男性","S審判","大分県"]
["R008515571","菅川　智","３級","男性","S審判","大分県"]
["R007003024","杉崎　恭介","３級","男性","S審判","大分県"]
["R010074299","杉本　大実","３級","男性","S審判","大分県"]
["R002530860","鈴木　史朗","３級","男性","S審判","大分県"]
["R008798369","鈴木　優希","３級","男性","S審判","大分県"]
["R008798013","隅田　哲平","３級","男性","S審判","大分県"]
["R010027823","清家　大介","３級","男性","S審判","大分県"]
["R001263679","関　憲二","３級","男性","S審判","大分県"]
["R000896665","関　文雄","３級","男性","S審判","大分県"]
["R008798174","関屋　俊侑","３級","男性","S審判","大分県"]
["R001263688","瀬口　篤","３級","男性","S審判","大分県"]
["R010376284","瀬戸口　雄","３級","男性","S審判","大分県"]
["R007606238","相馬　大典","３級","男性","S審判","大分県"]
["R010247795","曽我　彩夏","３級","女性","S審判","大分県"]
["R001263697","曽我　大一郎","３級","男性","S審判","大分県"]
["R001263721","園　貴司","３級","男性","S審判","大分県"]
["R005987032","園　秀利","３級","男性","S審判","大分県"]
["R008798305","染矢　恭明","３級","男性","S審判","大分県"]
["R005987430","平　和隆","３級","男性","S審判","大分県"]
["R001263749","高尾　次郎","３級","男性","S審判","大分県"]
["R006664615","高柿　康平","３級","男性","S審判","大分県"]
["R001258048","高橋　修一","３級","男性","S審判","大分県"]
["R001263794","高橋　豊信","３級","男性","S審判","大分県"]
["R001263819","高橋　雅浩","３級","男性","S審判","大分県"]
["R001263828","髙橋　享誠","３級","男性","S審判","大分県"]
["R001263785","高橋　芳洋","３級","男性","S審判","大分県"]
["R005987120","高橋　涼太","３級","男性","S審判","大分県"]
["R001263846","高畑　徳治郎","３級","男性","S審判","大分県"]
["R001263837","高畑　智秀","３級","男性","S審判","大分県"]
["R002996738","高原　英司","３級","男性","S審判","大分県"]
["R003258477","田上　和広","３級","男性","S審判","大分県"]
["R001262272","瀧山　理恵","３級","女性","S審判","大分県"]
["R001263882","竹内　進","３級","男性","S審判","大分県"]
["R003972489","竹嶋　仁","３級","男性","S審判","大分県"]
["R006220484","武智　正敏","３級","男性","S審判","大分県"]
["R007754243","竹中　勇人","３級","男性","S審判","大分県"]
["R006030599","竹村　研一郎","３級","男性","S審判","大分県"]
["R007335075","田坂　将和","３級","男性","S審判","大分県"]
["R010120124","田尻　貴志","３級","男性","S審判","大分県"]
["R004060170","立花　陽一郎","３級","男性","S審判","大分県"]
["R008626770","立川　大記","３級","男性","S審判","大分県"]
["R010281886","立川　拓未","３級","男性","S審判","大分県"]
["R009430578","立川　千紗","３級","女性","S審判","大分県"]
["R008627043","立川　充","３級","男性","S審判","大分県"]
["R004683874","田中　貴大","３級","男性","S審判","大分県"]
["R001258394","田邉　義晶","３級","男性","S審判","大分県"]
["R005164677","田村　孝弘","３級","男性","S審判","大分県"]
["R010190756","垰　真樹","３級","男性","S審判","大分県"]
["R004793579","團塚　晋之祐","３級","男性","S審判","大分県"]
["R001263961","津崎　雅彦","３級","男性","S審判","大分県"]
["R005430057","辻　一陽","３級","男性","S審判","大分県"]
["R010281819","辻井　拓夢","３級","男性","S審判","大分県"]
["R001265419","津田　憲生","３級","男性","S審判","大分県"]
["R001263998","堤　祐慈","３級","男性","S審判","大分県"]
["R002996677","坪根　晃","３級","男性","S審判","大分県"]
["R001264003","津守　一雄","３級","男性","S審判","大分県"]
["R001264012","津守　正博","３級","男性","S審判","大分県"]
["R010376298","鶴田　和也","３級","男性","S審判","大分県"]
["R009408782","手島　冠","３級","男性","S審判","大分県"]
["R001264058","寺岡　富夫","３級","男性","S審判","大分県"]
["R001264049","寺岡　義彦","３級","男性","S審判","大分県"]
["R010120117","寺次　良生","３級","男性","S審判","大分県"]
["R004226749","寺本　義高","３級","男性","S審判","大分県"]
["R004111340","唐下　直之","３級","男性","S審判","大分県"]
["R010167725","東藤　正幸","３級","男性","S審判","大分県"]
["R001264076","藤内　伸悟","３級","男性","S審判","大分県"]
["R001264085","塔元　繁喜","３級","男性","S審判","大分県"]
["R004385653","徳永　尚也","３級","男性","S審判","大分県"]
["R002848671","徳永　浩幸","３級","男性","S審判","大分県"]
["R010189300","徳光　将太","３級","男性","S審判","大分県"]
["R001258701","都甲　昌亨","３級","男性","S審判","大分県"]
["R006220961","歳納　真人","３級","男性","S審判","大分県"]
["R003972230","戸田　清","３級","男性","S審判","大分県"]
["R001258738","戸髙　博秋","３級","男性","S審判","大分県"]
["R003317354","戸伏　重治","３級","男性","S審判","大分県"]
["R008797759","冨永　憲司","３級","男性","S審判","大分県"]
["R002935472","友成　義朗","３級","男性","S審判","大分県"]
["R010214602","内藤　翔悟","３級","男性","S審判","大分県"]
["R010261477","仲　慎太郎","３級","男性","S審判","大分県"]
["R002917722","中尾　倫彰","３級","男性","S審判","大分県"]
["R002530046","中上　聡志","３級","男性","S審判","大分県"]
["R010248585","中坂　大","３級","男性","S審判","大分県"]
["R003317071","中島　圭太","３級","男性","S審判","大分県"]
["R008634681","中島　康平","３級","男性","S審判","大分県"]
["R010190757","中島　佑介","３級","男性","S審判","大分県"]
["R010007829","中島　亮太","３級","男性","S審判","大分県"]
["R002996686","中園　真栄","３級","男性","S審判","大分県"]
["R001258969","中田　邦明","３級","男性","S審判","大分県"]
["R007728804","中根　龍馬","３級","男性","S審判","大分県"]
["R001264164","仲野　昭博","３級","男性","S審判","大分県"]
["R005429893","中野　佐和三","３級","男性","S審判","大分県"]
["R003421310","中野　雄斗","３級","男性","S審判","大分県"]
["R001264182","中原　圭介","３級","男性","S審判","大分県"]
["R010099448","中原　丈聖","３級","男性","S審判","大分県"]
["R001265297","中村　圭一郎","３級","男性","S審判","大分県"]
["R010279448","中村　俊太","３級","男性","S審判","大分県"]
["R007959990","中村　髙峰","３級","男性","S審判","大分県"]
["R010382275","中村　友海","３級","男性","S審判","大分県"]
["R010073993","仲村　陽一郎","３級","男性","S審判","大分県"]
["R010189259","中山　修一","３級","男性","S審判","大分県"]
["R005987528","中山　昌樹","３級","男性","S審判","大分県"]
["R010376274","永井　翔也","３級","男性","S審判","大分県"]
["R004111580","永井　勇司","３級","男性","S審判","大分県"]
["R001258871","長尾　信宏","３級","男性","S審判","大分県"]
["R001264128","長尾　寿郎","３級","男性","S審判","大分県"]
["R001264137","永木　桂","３級","男性","S審判","大分県"]
["R001258978","長田　義弘","３級","男性","S審判","大分県"]
["R010074018","長門　崚太","３級","男性","S審判","大分県"]
["R008798129","長野　佳太","３級","男性","S審判","大分県"]
["R001259092","長野　省三","３級","男性","S審判","大分県"]
["R005164941","永松　真朗","３級","男性","S審判","大分県"]
["R006889108","永松　真樹","３級","女性","S審判","大分県"]
["R010306440","永芳　卓磨","３級","男性","S審判","大分県"]
["R005986954","成原　政治","３級","男性","S審判","大分県"]
["R002908335","南里　秀樹","３級","男性","S審判","大分県"]
["R010027839","西川　侑希","３級","男性","S審判","大分県"]
["R001251975","西田　淳一","３級","男性","S審判","大分県"]
["R005987102","西村　和久","３級","男性","S審判","大分県"]
["R001264234","西村　誠","３級","男性","S審判","大分県"]
["R009670176","西村　竜司","３級","男性","S審判","大分県"]
["R006148515","西山　文朗","３級","男性","S審判","大分県"]
["R001259287","新田　祐一郎","３級","男性","S審判","大分県"]
["R001264252","二ノ谷　徹","３級","男性","S審判","大分県"]
["R010095349","二宮　慎太郎","３級","男性","S審判","大分県"]
["R001264289","野田　洋平","３級","男性","S審判","大分県"]
["R007757994","野村　康佳","３級","男性","S審判","大分県"]
["R009546055","吐合　直樹","３級","男性","S審判","大分県"]
["R010027819","狭間　照央","３級","男性","S審判","大分県"]
["R001252017","橋本　伸太郎","３級","男性","S審判","大分県"]
["R008797962","橋本　葉音","３級","女性","S審判","大分県"]
["R010080634","畑中　賢三","３級","男性","S審判","大分県"]
["R010214541","羽田野　順一","３級","女性","S審判","大分県"]
["R001264304","羽田野　亘","３級","男性","S審判","大分県"]
["R008450238","浜崎　憲","３級","男性","S審判","大分県"]
["R001259588","浜崎　陽介","３級","男性","S審判","大分県"]
["R006221094","浜町　拓也","３級","男性","S審判","大分県"]
["R002384225","濱本　真治","３級","男性","S審判","大分県"]
["R001259667","原　宏一","３級","男性","S審判","大分県"]
["R005603802","原　俊輔","３級","男性","S審判","大分県"]
["R001264340","原田　浩司","３級","男性","S審判","大分県"]
["R007003413","原田　雅也","３級","男性","S審判","大分県"]
["R007211182","原田　龍太郎","３級","男性","S審判","大分県"]
["R010067952","半谷　風花","３級","女性","S審判","大分県"]
["R002384465","東　一騎","３級","男性","S審判","大分県"]
["R001264359","東　和弘","３級","男性","S審判","大分県"]
["R001265482","久野　慎吾","３級","男性","S審判","大分県"]
["R006147048","姫野　一陽","３級","男性","S審判","大分県"]
["R005528307","姫野　恵一","３級","男性","S審判","大分県"]
["R010027843","姫野　孝太","３級","男性","S審判","大分県"]
["R001251151","姫野　隆英","３級","男性","S審判","大分県"]
["R010189272","姫野　佑太郎","３級","男性","S審判","大分県"]
["R010313780","姫野　祐太朗","３級","男性","S審判","大分県"]
["R010355742","姫野　烈也","３級","男性","S審判","大分県"]
["R010352963","平井　彩斗","３級","男性","S審判","大分県"]
["R001259870","平岡　正広","３級","男性","S審判","大分県"]
["R003972513","平川　伸吾","３級","男性","S審判","大分県"]
["R007002724","平原　裕己","３級","男性","S審判","大分県"]
["R007003501","廣瀬　惣一朗","３級","男性","S審判","大分県"]
["R001264401","廣瀬　文明","３級","男性","S審判","大分県"]
["R004386120","廣瀬　賢明","３級","男性","S審判","大分県"]
["R001264410","廣田　寧孝","３級","男性","S審判","大分県"]
["R001260070","廣戸　誠一","３級","男性","S審判","大分県"]
["R010069903","深田　知秀","３級","男性","S審判","大分県"]
["R010376332","深津　弘毅","３級","男性","S審判","大分県"]
["R009197691","深堀　祥司","３級","男性","S審判","大分県"]
["R010027861","福井　康平","３級","男性","S審判","大分県"]
["R001260113","福川　寿一","３級","男性","S審判","大分県"]
["R010178915","福島　瑞季","３級","男性","S審判","大分県"]
["R010099458","福原　元希","３級","男性","S審判","大分県"]
["R001264447","福元　研治","３級","男性","S審判","大分県"]
["R008798183","藤田　和也","３級","男性","S審判","大分県"]
["R008798217","藤本　勝爾","３級","男性","S審判","大分県"]
["R007753819","藤本　洋","３級","男性","S審判","大分県"]
["R001264474","藤原　達郎","３級","男性","S審判","大分県"]
["R007335288","藤原　大輔","３級","男性","S審判","大分県"]
["R010027860","藤原　佑史朗","３級","男性","S審判","大分県"]
["R003421772","藤原　龍司","３級","男性","S審判","大分県"]
["R001264483","渕　辰雄","３級","男性","S審判","大分県"]
["R004060189","古川　高","３級","男性","S審判","大分県"]
["R001600205","古戸　雅崇","３級","男性","S審判","大分県"]
["R001264508","古畑　葵","３級","男性","S審判","大分県"]
["R001264492","古畑　翼","３級","男性","S審判","大分県"]
["R005336104","古元　準一郎","３級","男性","S審判","大分県"]
["R010214558","分藤　真央","３級","男性","S審判","大分県"]
["R005987050","星野　敦","３級","男性","S審判","大分県"]
["R003351288","保月　寿智","３級","男性","S審判","大分県"]
["R006112343","堀内　信敏","３級","男性","S審判","大分県"]
["R010074297","堀口　隆志","３級","男性","S審判","大分県"]
["R006574066","本田　和也","３級","男性","S審判","大分県"]
["R002530310","本多　裕介","３級","男性","S審判","大分県"]
["R010127606","本戸　峰","３級","男性","S審判","大分県"]
["R007003422","前田　篤史","３級","男性","S審判","大分県"]
["R001260557","マガリェンス　リシャルドソン","３級","男性","S審判","大分県"]
["R001264544","牧　和志","３級","男性","S審判","大分県"]
["R007002733","柾木　洋平","３級","男性","S審判","大分県"]
["R009547115","桝永　龍己","３級","男性","S審判","大分県"]
["R010390127","松井　璃音","３級","女性","S審判","大分県"]
["R003421736","松浦　将志","３級","男性","S審判","大分県"]
["R010093436","松尾　達也","３級","男性","S審判","大分県"]
["R005987555","松崎　智則","３級","男性","S審判","大分県"]
["R004793816","松下　明史","３級","男性","S審判","大分県"]
["R004055479","松下　昌史","３級","男性","S審判","大分県"]
["R007335303","松田　稜","３級","男性","S審判","大分県"]
["R005987564","松野　祐太","３級","男性","S審判","大分県"]
["R009408737","松原　亜衣","３級","女性","S審判","大分県"]
["R006220916","松原　慎也","３級","男性","S審判","大分県"]
["R001264562","松本　光将","３級","男性","S審判","大分県"]
["R004060259","松本　祐輔","３級","男性","S審判","大分県"]
["R008481113","松山　和寛","３級","男性","S審判","大分県"]
["R006011372","松山　大二郎","３級","男性","S審判","大分県"]
["R001264580","真鍋　裕一","３級","男性","S審判","大分県"]
["R010264267","馬原　直人","３級","男性","S審判","大分県"]
["R008515535","丸尾　諭志","３級","男性","S審判","大分県"]
["R005405699","箕迫　雄介","３級","男性","S審判","大分県"]
["R007003307","水口　裕太","３級","女性","S審判","大分県"]
["R008174046","溝辺　宏輝","３級","男性","S審判","大分県"]
["R002917263","溝邊　祐幸","３級","男性","S審判","大分県"]
["R001264605","御手洗　毅","３級","男性","S審判","大分県"]
["R004793658","光根　明徳","３級","男性","S審判","大分県"]
["R001264669","美濃　誠","３級","男性","S審判","大分県"]
["R004793764","三原　隼人","３級","男性","S審判","大分県"]
["R010306451","宮川　大志","３級","男性","S審判","大分県"]
["R004112057","都　学志","３級","男性","S審判","大分県"]
["R001264687","宮迫　利範","３級","男性","S審判","大分県"]
["R004385495","宮崎　隆史","３級","男性","S審判","大分県"]
["R010099454","宮田　繁輝","３級","男性","S審判","大分県"]
["R001264696","宮部　修次","３級","男性","S審判","大分県"]
["R001252196","三好　美輝","３級","男性","S審判","大分県"]
["R001264702","向　直樹","３級","男性","S審判","大分県"]
["R010001968","宗岡　弦徳","３級","男性","S審判","大分県"]
["R001264711","村上　一幸","３級","男性","S審判","大分県"]
["R001265118","村上　貴志","３級","男性","S審判","大分県"]
["R010390126","村上　遥香","３級","女性","S審判","大分県"]
["R003350854","毛藤　勇三","３級","男性","S審判","大分県"]
["R001252220","毛利　明博","３級","男性","S審判","大分県"]
["R007705326","用松　修平","３級","男性","S審判","大分県"]
["R008173861","本末　総治朗","３級","男性","S審判","大分県"]
["R002530851","本杉　拓也","３級","男性","S審判","大分県"]
["R010376370","元永　許一郎","３級","男性","S審判","大分県"]
["R010189258","森　健太","３級","男性","S審判","大分県"]
["R007002779","森下　洋一","３級","男性","S審判","大分県"]
["R008634636","森山　幸介","３級","男性","S審判","大分県"]
["R001261398","森山　信浩","３級","男性","S審判","大分県"]
["R008798457","薬師寺　翔","３級","男性","S審判","大分県"]
["R008798314","薬師寺　亮太","３級","男性","S審判","大分県"]
["R010190754","八坂　柊","３級","男性","S審判","大分県"]
["R001264766","矢﨑　年勝","３級","男性","S審判","大分県"]
["R001264775","屋敷　伴幸","３級","男性","S審判","大分県"]
["R001264784","安枝　良二","３級","男性","S審判","大分県"]
["R006093987","保田　薫","３級","男性","S審判","大分県"]
["R005527308","柳井　孝則","３級","男性","S審判","大分県"]
["R004793825","柳川　知也","３級","男性","S審判","大分県"]
["R001261477","柳本　剛","３級","男性","S審判","大分県"]
["R009197594","柳元　哲哉","３級","男性","S審判","大分県"]
["R003972443","矢野　三千生","３級","男性","S審判","大分県"]
["R008537139","矢羽田　崇","３級","男性","S審判","大分県"]
["R004747206","山　大祐","３級","男性","S審判","大分県"]
["R001965713","山崎　和也","３級","男性","S審判","大分県"]
["R010240533","山﨑　典保","３級","男性","S審判","大分県"]
["R010363046","山崎　雅人","３級","男性","S審判","大分県"]
["R006147145","山下　省二","３級","男性","S審判","大分県"]
["R007753606","山下　直一","３級","男性","S審判","大分県"]
["R010189260","山下　泰明","３級","男性","S審判","大分県"]
["R001261653","山田　真二","３級","男性","S審判","大分県"]
["R004112011","山田　裕一","３級","男性","S審判","大分県"]
["R001252293","山中　早一郎","３級","男性","S審判","大分県"]
["R001264809","山野内　哲朗","３級","男性","S審判","大分県"]
["R005164358","山宮　俊寛","３級","男性","S審判","大分県"]
["R005603486","山本　篤","３級","男性","S審判","大分県"]
["R010189296","山本　和真","３級","男性","S審判","大分県"]
["R010281871","山本　青","３級","男性","S審判","大分県"]
["R001252336","山本　貴志","３級","男性","S審判","大分県"]
["R003351093","山本　哲司","３級","男性","S審判","大分県"]
["R004111562","山本　悠司","３級","男性","S審判","大分県"]
["R001264836","幸　靖博","３級","男性","S審判","大分県"]
["R001261778","湯田　浩士","３級","男性","S審判","大分県"]
["R008515553","柚木　徹也","３級","男性","S審判","大分県"]
["R003421374","横山　解史","３級","男性","S審判","大分県"]
["R010382662","吉賀　洸貴","３級","男性","S審判","大分県"]
["R001261802","吉賀　智彦","３級","男性","S審判","大分県"]
["R001264854","吉田　栄治","３級","男性","S審判","大分県"]
["R010120115","吉田　和雅","３級","男性","S審判","大分県"]
["R003972665","吉田　大助","３級","男性","S審判","大分県"]
["R010376363","吉田　昌広","３級","男性","S審判","大分県"]
["R007090686","吉元　健太朗","３級","男性","S審判","大分県"]
["R010240571","吉元　剛","３級","男性","S審判","大分県"]
["R001261954","四辻　隆道","３級","男性","S審判","大分県"]
["R003421541","四元　厚次","３級","男性","S審判","大分県"]
["R003351154","脇　東洋","３級","男性","S審判","大分県"]
["R001264872","脇　雄洋","３級","男性","S審判","大分県"]
["R006220378","和喜田　拓","３級","男性","S審判","大分県"]
["R004386218","和才　幸司","３級","男性","S審判","大分県"]
["R007757657","渡辺　敬亮","３級","男性","S審判","大分県"]
["R010007794","渡邉　卓人","３級","男性","S審判","大分県"]
["R001264915","渡辺　博文","３級","男性","S審判","大分県"]
["R001262111","渡辺　陽一郎","３級","男性","S審判","大分県"]
["R001252390","渡里　賢人","３級","男性","S審判","大分県"]
["R007729070","和田　健一郎","３級","男性","S審判","大分県"]
["R001264890","和田　健二","３級","男性","S審判","大分県"]
["R001869127","和田　浩","３級","男性","S審判","大分県"]
["R010352964","相澤　星空","４級","男性","S審判","大分県"]
["R010159163","相澤　拓也","４級","男性","S審判","大分県"]
["R010069876","相田　優弥","４級","男性","S審判","大分県"]
["R010303870","相原　良哉","４級","男性","S審判","大分県"]
["R010083876","相部　直輝","４級","男性","S審判","大分県"]
["R010262588","青松　来樹","４級","男性","S審判","大分県"]
["R010432641","青松　琉","４級","男性","S審判","大分県"]
["R010351386","青山　京志郎","４級","男性","S審判","大分県"]
["R010358008","青山　惺也","４級","男性","S審判","大分県"]
["R010120118","青山　義男","４級","男性","S審判","大分県"]
["R010189294","赤木　修二","４級","男性","S審判","大分県"]
["R010448637","赤木　陽斗","４級","男性","S審判","大分県"]
["R010396577","赤木　龍雅","４級","男性","S審判","大分県"]
["R010396550","赤田　椋","４級","男性","S審判","大分県"]
["R001252947","赤星　勝","４級","男性","S審判","大分県"]
["R010376328","赤松　竜矢","４級","男性","S審判","大分県"]
["R008174028","赤嶺　一宇","４級","男性","S審判","大分県"]
["R010093427","赤峯　慎太郎","４級","男性","S審判","大分県"]
["R010445855","赤嶺　瞭","４級","男性","S審判","大分県"]
["R010396556","阿賀　匠","４級","男性","S審判","大分県"]
["R010386813","秋月　来望","４級","女性","S審判","大分県"]
["R005603884","秋月　将吾","４級","男性","S審判","大分県"]
["R010356145","秋月　信哉","４級","男性","S審判","大分県"]
["R010376364","秋吉　慶汰","４級","男性","S審判","大分県"]
["R010388062","秋吉　仁也","４級","男性","S審判","大分県"]
["R010248577","秋吉　晃行","４級","男性","S審判","大分県"]
["R010261590","朝来野　叶汰","４級","男性","S審判","大分県"]
["R001254990","朝山　睦夫","４級","男性","S審判","大分県"]
["R010388041","足達　康平","４級","男性","S審判","大分県"]
["R010445244","麻生　魁斗","４級","男性","S審判","大分県"]
["R010390451","朝生　正義","４級","男性","S審判","大分県"]
["R010159172","麻生　大雅","４級","男性","S審判","大分県"]
["R010189281","麻生　佑","４級","男性","S審判","大分県"]
["R010445835","麻生　珀珠","４級","男性","S審判","大分県"]
["R010356130","麻生　隼翔","４級","男性","S審判","大分県"]
["R010001949","麻生　凜太郎","４級","男性","S審判","大分県"]
["R008798068","足達　亜沙美","４級","女性","S審判","大分県"]
["R010261613","足立　憲星","４級","男性","S審判","大分県"]
["R010093502","足立　聡","４級","男性","S審判","大分県"]
["R010347383","安達　隼平","４級","男性","S審判","大分県"]
["R010364729","足立　慎之介","４級","男性","S審判","大分県"]
["R010376316","安達　勉","４級","男性","S審判","大分県"]
["R010396578","足立　尚隆","４級","男性","S審判","大分県"]
["R002384100","足立　望","４級","女性","S審判","大分県"]
["R008798208","安達　正信","４級","男性","S審判","大分県"]
["R010358013","安達　陸人","４級","男性","S審判","大分県"]
["R008626673","足立　龍星","４級","男性","S審判","大分県"]
["R010391961","穴井　康太","４級","男性","S審判","大分県"]
["R010281845","穴井　己登","４級","男性","S審判","大分県"]
["R010347381","穴井　翼","４級","男性","S審判","大分県"]
["R010347378","穴井　拓翔","４級","男性","S審判","大分県"]
["R010415913","穴井　優斗","４級","男性","S審判","大分県"]
["R010262586","阿南　弘毅","４級","男性","S審判","大分県"]
["R010262589","阿南　琢磨","４級","男性","S審判","大分県"]
["R010281862","阿南　理奈","４級","女性","S審判","大分県"]
["R010376330","阿南　広太朗","４級","男性","S審判","大分県"]
["R010396511","阿南　天馬","４級","男性","S審判","大分県"]
["R010448926","阿南　智也","４級","男性","S審判","大分県"]
["R010352942","姉川　光一朗","４級","男性","S審判","大分県"]
["R010354792","阿部　吾幌","４級","男性","S審判","大分県"]
["R010388048","阿部　佑京","４級","男性","S審判","大分県"]
["R010432634","阿部　開世","４級","男性","S審判","大分県"]
["R010093439","阿部　和明","４級","男性","S審判","大分県"]
["R010376276","阿部　和輝","４級","男性","S審判","大分県"]
["R010376299","阿部　斡汰","４級","男性","S審判","大分県"]
["R010396564","阿部　凱斗","４級","男性","S審判","大分県"]
["R010056099","安部　杏介","４級","男性","S審判","大分県"]
["R010396552","阿部　賢次","４級","男性","S審判","大分県"]
["R010167792","安部　航生","４級","男性","S審判","大分県"]
["R001253344","阿部　哲士","４級","男性","S審判","大分県"]
["R010432597","阿部　志温","４級","男性","S審判","大分県"]
["R010262591","安部　秀飛","４級","男性","S審判","大分県"]
["R010261601","安部　大空","４級","男性","S審判","大分県"]
["R010027824","安部　太貴","４級","男性","S審判","大分県"]
["R001253326","阿部　孝之","４級","男性","S審判","大分県"]
["R010364739","安部　大樹","４級","男性","S審判","大分県"]
["R010262592","阿部　翔空","４級","男性","S審判","大分県"]
["R010376264","阿部　年男","４級","男性","S審判","大分県"]
["R010167738","安倍　俊之","４級","男性","S審判","大分県"]
["R010445852","阿部　那紀","４級","男性","S審判","大分県"]
["R010167799","安倍　虎ノ介","４級","男性","S審判","大分県"]
["R010364717","安倍　喜哉","４級","男性","S審判","大分県"]
["R010314829","安部　湧紀","４級","男性","S審判","大分県"]
["R010364715","安倍　雄太","４級","男性","S審判","大分県"]
["R010396557","安部　雄太","４級","男性","S審判","大分県"]
["R010259438","安部　陸翔","４級","男性","S審判","大分県"]
["R010415886","阿部　涼","４級","男性","S審判","大分県"]
["R010350226","荒川　幸大","４級","女性","S審判","大分県"]
["R010376266","荒金　洋一","４級","男性","S審判","大分県"]
["R010444514","荒木　颯太","４級","男性","S審判","大分県"]
["R001253423","荒巻　成志","４級","男性","S審判","大分県"]
["R008798165","荒巻　恭貴","４級","男性","S審判","大分県"]
["R010298871","新本　空","４級","男性","S審判","大分県"]
["R007002715","有門　寿","４級","男性","S審判","大分県"]
["R010071984","有川　陸","４級","男性","S審判","大分県"]
["R010189315","有須田　和宏","４級","男性","S審判","大分県"]
["R010261611","有田　啓吾","４級","男性","S審判","大分県"]
["R010396506","有田　伸司","４級","男性","S審判","大分県"]
["R010123024","有田　利広","４級","男性","S審判","大分県"]
["R010445844","有田　陽翔","４級","男性","S審判","大分県"]
["R010262622","有田　悠真","４級","男性","S審判","大分県"]
["R010376343","有次　奏太朗","４級","男性","S審判","大分県"]
["R010364716","有永　京","４級","男性","S審判","大分県"]
["R010355730","有馬　海斗","４級","男性","S審判","大分県"]
["R010159755","有馬　寧音","４級","女性","S審判","大分県"]
["R006125763","有村　光史","４級","男性","S審判","大分県"]
["R010448639","有吉　敦弘","４級","男性","S審判","大分県"]
["R010189282","安達　羽海","４級","女性","S審判","大分県"]
["R010214574","安達　巧馬","４級","男性","S審判","大分県"]
["R010356117","安達　帆海","４級","女性","S審判","大分県"]
["R010243643","安道　健斗","４級","男性","S審判","大分県"]
["R007959158","安東　弘貴","４級","男性","S審判","大分県"]
["R010357150","安藤　幸志郎","４級","男性","S審判","大分県"]
["R010047303","安東　湖楠","４級","男性","S審判","大分県"]
["R010376281","安藤　繁","４級","男性","S審判","大分県"]
["R010432650","安東　慎平","４級","男性","S審判","大分県"]
["R010243657","安藤　大河","４級","男性","S審判","大分県"]
["R010352986","安東　泰士","４級","男性","S審判","大分県"]
["R010120176","安藤　卓也","４級","男性","S審判","大分県"]
["R010444509","安東　翼輝","４級","男性","S審判","大分県"]
["R010189293","安東　正樹","４級","男性","S審判","大分県"]
["R010376354","安藤　将洋","４級","男性","S審判","大分県"]
["R010352995","安東　恭範","４級","男性","S審判","大分県"]
["R010161902","安藤　幸歩","４級","女性","S審判","大分県"]
["R010416216","安藤　梨愛","４級","女性","S審判","大分県"]
["R002530383","阿武　志郎","４級","男性","S審判","大分県"]
["R010391948","李　先庸","４級","男性","S審判","大分県"]
["R010390453","井伊　祐月","４級","男性","S審判","大分県"]
["R001253584","飯倉　洋介","４級","男性","S審判","大分県"]
["R010281883","飯干　遼飛","４級","女性","S審判","大分県"]
["R010396546","家長　龍之介","４級","男性","S審判","大分県"]
["R010352961","五十川　大雅","４級","男性","S審判","大分県"]
["R010432622","伊賀　朱惟","４級","男性","S審判","大分県"]
["R010189286","伊賀　隆博","４級","男性","S審判","大分県"]
["R010347366","池上　剛司","４級","男性","S審判","大分県"]
["R010376338","池上　亮太","４級","男性","S審判","大分県"]
["R010355070","池園　大輔","４級","男性","S審判","大分県"]
["R010255157","池田　康二郎","４級","男性","S審判","大分県"]
["R010261588","池田　剛","４級","男性","S審判","大分県"]
["R006848873","池田　敏明","４級","男性","S審判","大分県"]
["R010391943","池田　洋明","４級","男性","S審判","大分県"]
["R005603662","池田　雅俊","４級","男性","S審判","大分県"]
["R008649124","池田　愛都","４級","男性","S審判","大分県"]
["R010347369","池田　未來都","４級","男性","S審判","大分県"]
["R010376302","池田　陸人","４級","男性","S審判","大分県"]
["R009460612","池田　亮太郎","４級","男性","S審判","大分県"]
["R006937229","池田　航","４級","男性","S審判","大分県"]
["R010396532","池永　壮佑","４級","男性","S審判","大分県"]
["R010007792","池永　拓矢","４級","男性","S審判","大分県"]
["R010390444","池邉　楓","４級","男性","S審判","大分県"]
["R010189318","池邉　晋","４級","男性","S審判","大分県"]
["R010356113","池辺　青那","４級","男性","S審判","大分県"]
["R010432631","池邉　聡介","４級","男性","S審判","大分県"]
["R010281879","池辺　雅也","４級","男性","S審判","大分県"]
["R010448939","池部　愛和","４級","男性","S審判","大分県"]
["R010281878","池邉　涼太","４級","男性","S審判","大分県"]
["R010263778","伊﨑　陸人","４級","男性","S審判","大分県"]
["R010347367","諫山　鮎斗","４級","男性","S審判","大分県"]
["R001253681","石井　重人","４級","男性","S審判","大分県"]
["R004714697","石井　靖彦","４級","男性","S審判","大分県"]
["R009554629","石井　悠太郎","４級","男性","S審判","大分県"]
["R010243666","石井　優斗","４級","男性","S審判","大分県"]
["R010391913","石井　伶弥","４級","男性","S審判","大分県"]
["R010167774","石川　旺歩","４級","男性","S審判","大分県"]
["R009198399","石川　誠司","４級","男性","S審判","大分県"]
["R010352993","石川　高光","４級","男性","S審判","大分県"]
["R010167772","石川　丈陽","４級","男性","S審判","大分県"]
["R010128064","石川　由覇","４級","男性","S審判","大分県"]
["R010248588","石川　嶺瑠","４級","男性","S審判","大分県"]
["R010281833","石原　壮琉","４級","男性","S審判","大分県"]
["R010120192","石橋　知士","４級","男性","S審判","大分県"]
["R001253751","石松　大輔","４級","男性","S審判","大分県"]
["R010281873","石本　和廣","４級","男性","S審判","大分県"]
["R009546037","石本　琉士","４級","男性","S審判","大分県"]
["R010128075","石元　涼太","４級","男性","S審判","大分県"]
["R010214555","石本　渉","４級","男性","S審判","大分県"]
["R010415906","泉　颯飛","４級","男性","S審判","大分県"]
["R004714712","和泉　宜幸","４級","男性","S審判","大分県"]
["R010376313","泉　佑史朗","４級","男性","S審判","大分県"]
["R010281863","泉　伶飛","４級","男性","S審判","大分県"]
["R010448235","礒辺　宏基","４級","男性","S審判","大分県"]
["R010354808","磯村　奏太","４級","男性","S審判","大分県"]
["R009548284","板井　一雄","４級","男性","S審判","大分県"]
["R010120130","板井　俊介","４級","男性","S審判","大分県"]
["R010007837","板井　裕樹","４級","男性","S審判","大分県"]
["R010396558","板井　優樹","４級","男性","S審判","大分県"]
["R010120139","板井　遥平","４級","男性","S審判","大分県"]
["R010159138","一ノ宮　杜環","４級","男性","S審判","大分県"]
["R010255165","市原　佳典","４級","男性","S審判","大分県"]
["R001253876","市原　宗久","４級","男性","S審判","大分県"]
["R010189278","一丸　顕範","４級","男性","S審判","大分県"]
["R010364737","一万田　翔大","４級","男性","S審判","大分県"]
["R010016111","一万田　陸","４級","男性","S審判","大分県"]
["R007090808","一法師　直喜","４級","男性","S審判","大分県"]
["R010261617","井手　智貴","４級","男性","S審判","大分県"]
["R008797926","出田　武","４級","男性","S審判","大分県"]
["R010281846","伊藤　魁","４級","男性","S審判","大分県"]
["R010356120","伊東　啓介","４級","男性","S審判","大分県"]
["R010259419","伊東　健一","４級","男性","S審判","大分県"]
["R010376272","伊藤　賢治","４級","男性","S審判","大分県"]
["R010214557","伊東　健太郎","４級","男性","S審判","大分県"]
["R010281832","伊藤　浩介","４級","男性","S審判","大分県"]
["R007959699","伊東　昇太郎","４級","男性","S審判","大分県"]
["R010386818","伊藤　聖菜","４級","女性","S審判","大分県"]
["R010243640","伊東　蒼馬","４級","男性","S審判","大分県"]
["R008173922","伊藤　鷹応","４級","男性","S審判","大分県"]
["R010448920","伊藤　竜希","４級","男性","S審判","大分県"]
["R010356129","伊東　春道","４級","男性","S審判","大分県"]
["R010448642","伊藤　光琉","４級","男性","S審判","大分県"]
["R009408898","伊藤　秀征","４級","男性","S審判","大分県"]
["R010416225","伊藤　大翔","４級","男性","S審判","大分県"]
["R010001953","伊東　龍之介","４級","男性","S審判","大分県"]
["R010128066","伊藤　凜星","４級","男性","S審判","大分県"]
["R010281816","糸永　泰樹","４級","男性","S審判","大分県"]
["R010386819","稲生　ひより","４級","女性","S審判","大分県"]
["R010390419","稲吉　椋斗","４級","男性","S審判","大分県"]
["R010376267","井野　瑠惟","４級","男性","S審判","大分県"]
["R008523312","井上　海","４級","男性","S審判","大分県"]
["R010067951","井上　彩","４級","女性","S審判","大分県"]
["R010303896","井上　竣平","４級","男性","S審判","大分県"]
["R001254015","井上　順子","４級","女性","S審判","大分県"]
["R010421579","井上　宗","４級","男性","S審判","大分県"]
["R010347361","井上　太凱","４級","男性","S審判","大分県"]
["R010243651","井上　拓哉","４級","男性","S審判","大分県"]
["R010141818","井上　直之","４級","男性","S審判","大分県"]
["R010396596","井上　凌汰","４級","男性","S審判","大分県"]
["R010421580","井上　倫平","４級","男性","S審判","大分県"]
["R010376263","井上　航","４級","男性","S審判","大分県"]
["R010396526","猪原　虹輝","４級","男性","S審判","大分県"]
["R010354790","猪原　康弘","４級","男性","S審判","大分県"]
["R010264741","射場　琉聖","４級","男性","S審判","大分県"]
["R010099449","今川　亮平","４級","男性","S審判","大分県"]
["R010390449","今津　広大","４級","男性","S審判","大分県"]
["R010386817","今村　咲羽","４級","女性","S審判","大分県"]
["R003421356","今村　武広","４級","男性","S審判","大分県"]
["R010141834","今村　蓮","４級","男性","S審判","大分県"]
["R006220624","今本　展也","４級","男性","S審判","大分県"]
["R010444518","今山　碧雪","４級","男性","S審判","大分県"]
["R010354819","井元　禅","４級","男性","S審判","大分県"]
["R010364728","岩尾　和哉","４級","男性","S審判","大分県"]
["R010448932","岩男　柊人","４級","男性","S審判","大分県"]
["R010445832","岩尾　槙之助","４級","男性","S審判","大分県"]
["R010352951","岩尾　誠","４級","男性","S審判","大分県"]
["R010056098","岩尾　勇吾","４級","男性","S審判","大分県"]
["R010248578","岩城　慶樹","４級","男性","S審判","大分県"]
["R010120198","岩佐　紘沖","４級","男性","S審判","大分県"]
["R010100663","岩崎　晋也","４級","男性","S審判","大分県"]
["R001254185","岩崎　利勝","４級","男性","S審判","大分県"]
["R010281861","岩﨑　大翔","４級","男性","S審判","大分県"]
["R010056103","岩﨑　嘉人","４級","男性","S審判","大分県"]
["R007959176","岩田　進","４級","男性","S審判","大分県"]
["R010376292","岩田　拓也","４級","男性","S審判","大分県"]
["R010396598","岩田　和海","４級","女性","S審判","大分県"]
["R010306436","岩田　優佑","４級","男性","S審判","大分県"]
["R010354796","岩谷　悠ノ介","４級","男性","S審判","大分県"]
["R010007818","岩戸　敦史","４級","男性","S審判","大分県"]
["R010189261","岩永　和馬","４級","男性","S審判","大分県"]
["R010248575","岩波　大夢","４級","男性","S審判","大分県"]
["R010376282","岩野　貴文","４級","男性","S審判","大分県"]
["R010248570","岩丸　英治","４級","男性","S審判","大分県"]
["R006314464","岩丸　博季","４級","男性","S審判","大分県"]
["R010432625","石見　祐人","４級","男性","S審判","大分県"]
["R010448635","岩本　好誠","４級","男性","S審判","大分県"]
["R010255186","岩本　柊詩","４級","男性","S審判","大分県"]
["R010432609","岩本　将也","４級","男性","S審判","大分県"]
["R010432637","岩谷　駿大朗","４級","男性","S審判","大分県"]
["R004111410","上尾　雅彰","４級","男性","S審判","大分県"]
["R008480956","植垣　秀人","４級","男性","S審判","大分県"]
["R010159752","植木　莉香","４級","女性","S審判","大分県"]
["R010264734","植木　稜大","４級","男性","S審判","大分県"]
["R010391923","上栗　一将","４級","男性","S審判","大分県"]
["R008797944","上田　晃","４級","男性","S審判","大分県"]
["R010243654","上田　健介","４級","男性","S審判","大分県"]
["R010248034","上田　翔聖","４級","男性","S審判","大分県"]
["R010314811","上田　橙也","４級","男性","S審判","大分県"]
["R010415888","上田　源典","４級","男性","S審判","大分県"]
["R010356127","上田　龍汰","４級","男性","S審判","大分県"]
["R010262649","上野　瑛太","４級","男性","S審判","大分県"]
["R010390413","上野　玄貴","４級","男性","S審判","大分県"]
["R010358011","上野　蒼","４級","男性","S審判","大分県"]
["R001251133","上野　貴士","４級","男性","S審判","大分県"]
["R010093424","植野　亨","４級","男性","S審判","大分県"]
["R010386808","上野　仁胡","４級","女性","S審判","大分県"]
["R010298867","上野　滉登","４級","男性","S審判","大分県"]
["R010376265","上野　真澄","４級","男性","S審判","大分県"]
["R010313761","上野　亮司","４級","男性","S審判","大分県"]
["R010354664","上村　俊介","４級","男性","S審判","大分県"]
["R007959617","上屋　守","４級","男性","S審判","大分県"]
["R010376914","宇木　聖二","４級","男性","S審判","大分県"]
["R010432630","臼井　宏亮","４級","男性","S審判","大分県"]
["R010448923","歌　好陸","４級","男性","S審判","大分県"]
["R010448252","内田　花音","４級","女性","S審判","大分県"]
["R007728549","内田　公夫","４級","男性","S審判","大分県"]
["R010396563","内田　颯太","４級","男性","S審判","大分県"]
["R010214554","内田　喜久","４級","男性","S審判","大分県"]
["R010396587","内田　結也","４級","男性","S審判","大分県"]
["R010396602","内田　優月","４級","女性","S審判","大分県"]
["R010189257","内間　安希","４級","男性","S審判","大分県"]
["R010376341","内海　優斗","４級","男性","S審判","大分県"]
["R010391966","有働　洋匡","４級","男性","S審判","大分県"]
["R008643281","宇野　伍大","４級","男性","S審判","大分県"]
["R010214550","梅木　圭一郎","４級","男性","S審判","大分県"]
["R010354822","梅木　経成","４級","男性","S審判","大分県"]
["R010313767","梅木　裕斗","４級","男性","S審判","大分県"]
["R010214530","梅木　悠也","４級","男性","S審判","大分県"]
["R010120178","梅田　竜一","４級","男性","S審判","大分県"]
["R010128054","梅津　瑠暉","４級","男性","S審判","大分県"]
["R010448930","梅本　琉成","４級","男性","S審判","大分県"]
["R010261609","梅本　琉衣","４級","男性","S審判","大分県"]
["R006093729","浦部　信哉","４級","男性","S審判","大分県"]
["R010357998","浦邊　剛史","４級","男性","S審判","大分県"]
["R010352945","瓜生　一裕","４級","男性","S審判","大分県"]
["R010354657","漆間　将吾","４級","男性","S審判","大分県"]
["R001254431","漆間　大士","４級","男性","S審判","大分県"]
["R010355731","運天　ひかる","４級","男性","S審判","大分県"]
["R010391964","江頭　京佑","４級","男性","S審判","大分県"]
["R010255169","江頭　徳也","４級","男性","S審判","大分県"]
["R010120137","江上　智啓","４級","男性","S審判","大分県"]
["R010240560","江川　豊輝","４級","男性","S審判","大分県"]
["R010391938","江口　大貴","４級","男性","S審判","大分県"]
["R010448239","江口　光翔","４級","男性","S審判","大分県"]
["R010002119","江隈　健斗","４級","男性","S審判","大分県"]
["R010415911","江﨑　晃永","４級","男性","S審判","大分県"]
["R010027903","江島　修一","４級","男性","S審判","大分県"]
["R010445849","江島　迅人","４級","男性","S審判","大分県"]
["R010169060","江島　礼奈斗","４級","男性","S審判","大分県"]
["R010354821","江玉　優河","４級","男性","S審判","大分県"]
["R004653305","衛藤　和憲","４級","男性","S審判","大分県"]
["R008634274","江藤　恭平","４級","男性","S審判","大分県"]
["R010262640","江藤　健士朗","４級","男性","S審判","大分県"]
["R010444502","衞藤　公助","４級","男性","S審判","大分県"]
["R010358007","衛藤　航大","４級","男性","S審判","大分県"]
["R010444493","江藤　舜朔","４級","男性","S審判","大分県"]
["R010396518","江藤　真一","４級","男性","S審判","大分県"]
["R005405228","江藤　潤","４級","男性","S審判","大分県"]
["R010352979","衛藤　太作","４級","男性","S審判","大分県"]
["R010027887","衛藤　利祥","４級","男性","S審判","大分県"]
["R007959796","衛藤　智成","４級","男性","S審判","大分県"]
["R010393994","衛藤　七海","４級","女性","S審判","大分県"]
["R007728983","衛藤　秀高","４級","男性","S審判","大分県"]
["R010364731","衛藤　恵希","４級","男性","S審判","大分県"]
["R010444516","江藤　璃大","４級","男性","S審判","大分県"]
["R010432648","衛藤　亮佑","４級","男性","S審判","大分県"]
["R010391940","江藤　蓮","４級","男性","S審判","大分県"]
["R010214452","榎園　峻介","４級","男性","S審判","大分県"]
["R010376307","榎本　崇太","４級","男性","S審判","大分県"]
["R010259436","江本　悠里","４級","女性","S審判","大分県"]
["R010354795","遠藤　翔大","４級","男性","S審判","大分県"]
["R003350881","遠藤　朝春","４級","男性","S審判","大分県"]
["R010352962","遠藤　優翔","４級","男性","S審判","大分県"]
["R010432619","遠藤　之仁","４級","男性","S審判","大分県"]
["R010354650","尾家　幸汰","４級","男性","S審判","大分県"]
["R010364720","笈西　櫂大","４級","男性","S審判","大分県"]
["R001254583","大芦　佳宏","４級","男性","S審判","大分県"]
["R010189313","大石　周弥","４級","男性","S審判","大分県"]
["R010313748","大石　純也","４級","男性","S審判","大分県"]
["R010313760","大石　琢斗","４級","男性","S審判","大分県"]
["R010027883","大石　拓也","４級","男性","S審判","大分県"]
["R010376325","オオイシ　マコト","４級","男性","S審判","大分県"]
["R010027821","大石　正雄","４級","男性","S審判","大分県"]
["R010396507","大内　皓平","４級","男性","S審判","大分県"]
["R010354818","大川　万葉","４級","男性","S審判","大分県"]
["R010248574","大木本　大輝","４級","男性","S審判","大分県"]
["R010354656","大久保　宙","４級","男性","S審判","大分県"]
["R005430163","大久保　広紀","４級","男性","S審判","大分県"]
["R010351382","大久保　優心","４級","男性","S審判","大分県"]
["R010351356","大崎　蒼生","４級","男性","S審判","大分県"]
["R010189324","大嶋　伊織","４級","男性","S審判","大分県"]
["R010358005","大嶋　仁翔","４級","男性","S審判","大分県"]
["R010262593","太田　翔陽","４級","男性","S審判","大分県"]
["R010248567","太田　祐希","４級","男性","S審判","大分県"]
["R010352976","太田　悠斗","４級","男性","S審判","大分県"]
["R010159132","大谷　幸希","４級","男性","S審判","大分県"]
["R010388043","大谷　宗太郎","４級","男性","S審判","大分県"]
["R010356128","大谷　琉惺","４級","男性","S審判","大分県"]
["R010376317","大津　匠司","４級","男性","S審判","大分県"]
["R010162997","大津　響輝","４級","男性","S審判","大分県"]
["R010396538","大塚　紀彰","４級","男性","S審判","大分県"]
["R010358020","大塚　州章","４級","男性","S審判","大分県"]
["R010189297","大塚　健斗","４級","男性","S審判","大分県"]
["R010128049","大塚　昇吾","４級","男性","S審判","大分県"]
["R010167737","大塚　誠也","４級","男性","S審判","大分県"]
["R005528130","大塚　丈司","４級","男性","S審判","大分県"]
["R010281805","大塚　雅基","４級","男性","S審判","大分県"]
["R010415890","大塚　涼平","４級","男性","S審判","大分県"]
["R010159757","大津留　康代","４級","女性","S審判","大分県"]
["R010243638","大友　開晴","４級","男性","S審判","大分県"]
["R010314820","大友　尋平","４級","男性","S審判","大分県"]
["R010390431","大友　響姫","４級","女性","S審判","大分県"]
["R010364699","大野　生牙","４級","男性","S審判","大分県"]
["R010390445","大野　琢巳","４級","男性","S審判","大分県"]
["R010445834","大野　桜道","４級","男性","S審判","大分県"]
["R010120181","大野　楓河","４級","男性","S審判","大分県"]
["R010364714","大野　裕輝","４級","男性","S審判","大分県"]
["R010376350","大原　凌","４級","男性","S審判","大分県"]
["R010444521","大庭　弘暉","４級","男性","S審判","大分県"]
["R010391922","大星　陸渡","４級","男性","S審判","大分県"]
["R010388061","大見　祥平","４級","男性","S審判","大分県"]
["R010214576","大屋　楓真","４級","男性","S審判","大分県"]
["R010303883","大山　尚一","４級","男性","S審判","大分県"]
["R010376297","大山　太郎","４級","男性","S審判","大分県"]
["R010214611","岡　正一郎","４級","男性","S審判","大分県"]
["R010352973","岡田　海叶","４級","男性","S審判","大分県"]
["R010255182","岡田　一輝","４級","男性","S審判","大分県"]
["R010083849","岡田　幸太郎","４級","男性","S審判","大分県"]
["R010444507","岡田　昂明","４級","男性","S審判","大分県"]
["R010027909","岡田　崇","４級","男性","S審判","大分県"]
["R005987412","岡田　隆行","４級","男性","S審判","大分県"]
["R010432621","岡田　樹","４級","男性","S審判","大分県"]
["R010352974","岡田　侑栞","４級","女性","S審判","大分県"]
["R005603200","岡田　涼平","４級","男性","S審判","大分県"]
["R010444522","岡田　凌哉","４級","男性","S審判","大分県"]
["R010391965","岡野　凜平","４級","男性","S審判","大分県"]
["R010141835","岡部　倖介","４級","男性","S審判","大分県"]
["R010248029","岡部　純大","４級","男性","S審判","大分県"]
["R010391957","岡部　巧武","４級","男性","S審判","大分県"]
["R010248028","岡部　敏寛","４級","男性","S審判","大分県"]
["R010376290","岡本　英明","４級","男性","S審判","大分県"]
["R010214449","岡本　陸","４級","男性","S審判","大分県"]
["R010171060","岡本　龍馬","４級","男性","S審判","大分県"]
["R010376359","緒方　陽也","４級","男性","S審判","大分県"]
["R010415912","小川　杏汰","４級","男性","S審判","大分県"]
["R006901570","小川　健二","４級","男性","S審判","大分県"]
["R010255177","小川　航平","４級","男性","S審判","大分県"]
["R010395194","小川　侑利","４級","男性","S審判","大分県"]
["R010391951","荻本　翔","４級","男性","S審判","大分県"]
["R010214466","荻本　里那","４級","女性","S審判","大分県"]
["R010248589","於久　蒼馬","４級","男性","S審判","大分県"]
["R002530286","於久　雅和","４級","男性","S審判","大分県"]
["R010355072","奥　遼太朗","４級","男性","S審判","大分県"]
["R010314808","於久　流絆晟","４級","男性","S審判","大分県"]
["R010376269","奥薗　将太","４級","男性","S審判","大分県"]
["R010351378","奥田　翔太","４級","男性","S審判","大分県"]
["R001254972","奥野　真一郎","４級","男性","S審判","大分県"]
["R010027899","奥林　大輔","４級","男性","S審判","大分県"]
["R010388055","奥平　大雅","４級","男性","S審判","大分県"]
["R010214577","奥藤　誠","４級","男性","S審判","大分県"]
["R010376910","奥村　祐利","４級","男性","S審判","大分県"]
["R010189264","小栗　貴成","４級","男性","S審判","大分県"]
["R010415897","長田　知樹","４級","男性","S審判","大分県"]
["R010350237","尾崎　羽菜","４級","女性","S審判","大分県"]
["R010099447","小澤　剛史","４級","男性","S審判","大分県"]
["R010167739","小田　義也","４級","男性","S審判","大分県"]
["R009546064","小田　邦昭","４級","男性","S審判","大分県"]
["R010167750","小田　晴日","４級","男性","S審判","大分県"]
["R010364735","小田口　将之","４級","男性","S審判","大分県"]
["R010355737","越智　礼雄","４級","男性","S審判","大分県"]
["R010390443","小野　海斗","４級","男性","S審判","大分県"]
["R004385936","小野　耕一","４級","男性","S審判","大分県"]
["R010214597","小野　煌平","４級","男性","S審判","大分県"]
["R010281854","小野　翔希","４級","男性","S審判","大分県"]
["R010281828","小野　将司","４級","男性","S審判","大分県"]
["R010083851","小野　颯真","４級","男性","S審判","大分県"]
["R005527618","小埜　貴之","４級","男性","S審判","大分県"]
["R010243649","小野　徹","４級","男性","S審判","大分県"]
["R010248584","小野　天海","４級","男性","S審判","大分県"]
["R010396530","小野　瞳生","４級","男性","S審判","大分県"]
["R010388059","小野　翔希斗","４級","男性","S審判","大分県"]
["R010313764","小野　仁志","４級","男性","S審判","大分県"]
["R010432610","小野　彪斗","４級","男性","S審判","大分県"]
["R010120112","小野　広道","４級","男性","S審判","大分県"]
["R010093504","小野　裕希","４級","男性","S審判","大分県"]
["R010100673","小野　裕司","４級","男性","S審判","大分県"]
["R010445846","小野　佑馬","４級","男性","S審判","大分県"]
["R010445830","小野　陽祐","４級","男性","S審判","大分県"]
["R010376315","小野　祥弘","４級","男性","S審判","大分県"]
["R010354804","小野　龍ノ介","４級","男性","S審判","大分県"]
["R010255158","小野　凌世","４級","男性","S審判","大分県"]
["R010432633","小野　蓮央","４級","男性","S審判","大分県"]
["R010357148","小野　蓮斗","４級","男性","S審判","大分県"]
["R010396524","小原　聡倖","４級","男性","S審判","大分県"]
["R010167812","小原　優斗","４級","男性","S審判","大分県"]
["R010263775","小畑　圭史","４級","男性","S審判","大分県"]
["R006574048","尾林　秀章","４級","男性","S審判","大分県"]
["R010243655","小袋　敦矢","４級","男性","S審判","大分県"]
["R010352968","尾本　想太","４級","男性","S審判","大分県"]
["R010175149","織野　絵里","４級","女性","S審判","大分県"]
["R010363047","オン　ビョンフン","４級","男性","S審判","大分県"]
["R010388040","甲斐　照","４級","男性","S審判","大分県"]
["R005164446","甲斐　一翠","４級","男性","S審判","大分県"]
["R005164613","甲斐　英治","４級","男性","S審判","大分県"]
["R010396534","甲斐　宗","４級","男性","S審判","大分県"]
["R010281867","甲斐　茅花紗","４級","女性","S審判","大分県"]
["R010364726","甲斐　智也","４級","男性","S審判","大分県"]
["R005987388","甲斐　直樹","４級","男性","S審判","大分県"]
["R010376275","甲斐　隼","４級","男性","S審判","大分県"]
["R010432623","甲斐　大翔","４級","男性","S審判","大分県"]
["R010027906","甲斐　将虎","４級","男性","S審判","大分県"]
["R006314455","甲斐　竜二","４級","男性","S審判","大分県"]
["R010391942","甲斐　龍成","４級","男性","S審判","大分県"]
["R001255281","甲斐　亮介","４級","男性","S審判","大分県"]
["R010214529","加賀　寿一","４級","男性","S審判","大分県"]
["R010262594","香川　航汰","４級","男性","S審判","大分県"]
["R010448236","香川　千璃","４級","男性","S審判","大分県"]
["R010189343","香川　真弓","４級","女性","S審判","大分県"]
["R005987397","香川　豊","４級","男性","S審判","大分県"]
["R010390414","垣内　太陽","４級","男性","S審判","大分県"]
["R010281844","柿原　康生","４級","男性","S審判","大分県"]
["R010364700","賀来　由羅","４級","男性","S審判","大分県"]
["R010347377","鹿毛　雅人","４級","男性","S審判","大分県"]
["R006093923","笠野　泰良","４級","男性","S審判","大分県"]
["R007753581","笠野　大瑚","４級","男性","S審判","大分県"]
["R009545913","笠村　大","４級","男性","S審判","大分県"]
["R010214467","笠村　凜","４級","女性","S審判","大分県"]
["R010396539","加島　兼大","４級","男性","S審判","大分県"]
["R010007813","加治　周也","４級","男性","S審判","大分県"]
["R001255342","梶川　正和","４級","男性","S審判","大分県"]
["R010396527","梶本　滉稀","４級","男性","S審判","大分県"]
["R010281841","梶原　明空","４級","男性","S審判","大分県"]
["R010303892","梶原　啓史","４級","男性","S審判","大分県"]
["R010376322","梶原　宏介","４級","男性","S審判","大分県"]
["R010007838","梶原　孝平","４級","男性","S審判","大分県"]
["R010287222","梶原　天裕","４級","男性","S審判","大分県"]
["R010120174","梶原　規史","４級","男性","S審判","大分県"]
["R010448249","梶原　莉沙","４級","女性","S審判","大分県"]
["R010313766","片山　達郎","４級","男性","S審判","大分県"]
["R008634593","片山　雄一","４級","男性","S審判","大分県"]
["R010214621","加田　真","４級","女性","S審判","大分県"]
["R010156504","勝木　翔也","４級","男性","S審判","大分県"]
["R010444517","香月　隆之介","４級","男性","S審判","大分県"]
["R010391949","勝原　楓雅","４級","男性","S審判","大分県"]
["R010167782","葛城　征吾","４級","男性","S審判","大分県"]
["R010390440","桂木　颯斗","４級","男性","S審判","大分県"]
["R010189041","加藤　治","４級","男性","S審判","大分県"]
["R010376306","加藤　煌大","４級","男性","S審判","大分県"]
["R010396549","加藤　晴久","４級","男性","S審判","大分県"]
["R008797865","加藤　弘明","４級","男性","S審判","大分県"]
["R010448241","加藤　大","４級","男性","S審判","大分県"]
["R010364723","門脇　健太","４級","男性","S審判","大分県"]
["R010448925","金丸　大海","４級","男性","S審判","大分県"]
["R010314813","金丸　尚輝","４級","男性","S審判","大分県"]
["R010156522","金森　海樹","４級","男性","S審判","大分県"]
["R010255162","金山　斗和","４級","男性","S審判","大分県"]
["R010448916","金子　康二","４級","男性","S審判","大分県"]
["R010396582","金田　智朗","４級","男性","S審判","大分県"]
["R010386804","壁村　千尋","４級","女性","S審判","大分県"]
["R010167744","鎌田　大夢","４級","男性","S審判","大分県"]
["R010347386","神川　翔平","４級","男性","S審判","大分県"]
["R010391931","神園　直矢","４級","男性","S審判","大分県"]
["R010027818","紙谷　昌弥","４級","男性","S審判","大分県"]
["R010347382","上西　相輝","４級","男性","S審判","大分県"]
["R010416218","神山　葵","４級","女性","S審判","大分県"]
["R010396528","亀井　文子","４級","女性","S審判","大分県"]
["R010364710","亀井　一起","４級","男性","S審判","大分県"]
["R005603282","亀山　万生","４級","男性","S審判","大分県"]
["R010256872","鴨川　奨","４級","男性","S審判","大分県"]
["R010415900","萱島　竜也","４級","男性","S審判","大分県"]
["R010262650","萱島　飛瑠","４級","男性","S審判","大分県"]
["R010352950","萱島　良太","４級","男性","S審判","大分県"]
["R005603811","苅野　雄一","４級","男性","S審判","大分県"]
["R002917476","河井　寛次郎","４級","男性","S審判","大分県"]
["R010386814","河合　瑠彩","４級","女性","S審判","大分県"]
["R010445833","河内　竜樹","４級","男性","S審判","大分県"]
["R010376921","川口　将騎","４級","男性","S審判","大分県"]
["R010248572","川口　航平","４級","男性","S審判","大分県"]
["R010314824","川口　俊輔","４級","男性","S審判","大分県"]
["R010120186","川口　武道","４級","男性","S審判","大分県"]
["R010352965","川口　翼","４級","男性","S審判","大分県"]
["R010248569","川口　勇騎","４級","男性","S審判","大分県"]
["R010445240","川越　竜馬","４級","男性","S審判","大分県"]
["R010281803","川嶋　佳菜","４級","女性","S審判","大分県"]
["R010448645","川嶋　晴怜","４級","男性","S審判","大分県"]
["R010448924","川尻　暁斗","４級","男性","S審判","大分県"]
["R010347373","河津　柊志","４級","男性","S審判","大分県"]
["R010415898","河津　魁羅","４級","男性","S審判","大分県"]
["R010261604","川津　楓京","４級","男性","S審判","大分県"]
["R010386810","川手　茉央","４級","女性","S審判","大分県"]
["R005405282","川浪　健司","４級","男性","S審判","大分県"]
["R010421578","川浪　尚人","４級","男性","S審判","大分県"]
["R010159751","川浪　実歩","４級","女性","S審判","大分県"]
["R010448942","河野　楓","４級","女性","S審判","大分県"]
["R010189268","河野　功寛","４級","男性","S審判","大分県"]
["R010354654","河野　孝誠","４級","男性","S審判","大分県"]
["R010093451","川野　剛","４級","男性","S審判","大分県"]
["R006220606","河野　成利","４級","男性","S審判","大分県"]
["R010432599","川野　俊","４級","男性","S審判","大分県"]
["R010396561","川野　陣","４級","男性","S審判","大分県"]
["R010432651","河野　太陽","４級","男性","S審判","大分県"]
["R010354667","河野　拓真","４級","男性","S審判","大分県"]
["R010415887","河野　拓巳","４級","男性","S審判","大分県"]
["R010189263","河野　徹郎","４級","男性","S審判","大分県"]
["R010027894","河野　斗馬","４級","男性","S審判","大分県"]
["R010390422","河野　桐也","４級","男性","S審判","大分県"]
["R010357999","川野　凪佐","４級","男性","S審判","大分県"]
["R010159139","川野　愛琉","４級","男性","S審判","大分県"]
["R010396562","川野　迅翔","４級","男性","S審判","大分県"]
["R010391915","河野　晴輝","４級","男性","S審判","大分県"]
["R010415903","河野　遥己","４級","男性","S審判","大分県"]
["R010376293","河野　仁志","４級","男性","S審判","大分県"]
["R010364721","河野　大夢","４級","男性","S審判","大分県"]
["R010214586","河野　真裟斗","４級","男性","S審判","大分県"]
["R010214566","河野　大和","４級","男性","S審判","大分県"]
["R010214628","川野　裕貴","４級","男性","S審判","大分県"]
["R010262595","川野　竜聖","４級","男性","S審判","大分県"]
["R010358015","河野　琉星","４級","男性","S審判","大分県"]
["R010355735","川野　凌斗","４級","男性","S審判","大分県"]
["R010358016","川野　諒弥","４級","男性","S審判","大分県"]
["R010415885","川端　孝彦","４級","男性","S審判","大分県"]
["R010376904","川端　輝","４級","男性","S審判","大分県"]
["R010388050","川端　大翔","４級","男性","S審判","大分県"]
["R010357147","川端　正倫","４級","男性","S審判","大分県"]
["R010355736","川畑　怜央","４級","男性","S審判","大分県"]
["R010358012","川邊　勝太","４級","男性","S審判","大分県"]
["R009198487","川邉　太一朗","４級","男性","S審判","大分県"]
["R010396583","川邊　智己","４級","男性","S審判","大分県"]
["R010352999","川邉　裕也","４級","男性","S審判","大分県"]
["R005405264","河村　航大","４級","男性","S審判","大分県"]
["R010396560","河村　長雲","４級","男性","S審判","大分県"]
["R006220129","河村　哲二","４級","男性","S審判","大分県"]
["R001255908","河村　信善","４級","男性","S審判","大分県"]
["R010248035","河村　拓飛","４級","男性","S審判","大分県"]
["R001251434","川村　祐一","４級","男性","S審判","大分県"]
["R010396525","河村　陽平","４級","男性","S審判","大分県"]
["R010161901","河面　瑠治","４級","男性","S審判","大分県"]
["R010033126","管　拓哉","４級","男性","S審判","大分県"]
["R010159144","神崎　一途","４級","男性","S審判","大分県"]
["R010255161","神崎　竜之介","４級","男性","S審判","大分県"]
["R010396520","神崎　大輔","４級","男性","S審判","大分県"]
["R010390411","神田　脩汰","４級","男性","S審判","大分県"]
["R010376303","神田　崇","４級","男性","S審判","大分県"]
["R008798101","神田　毅","４級","男性","S審判","大分県"]
["R010396529","神田　武志","４級","男性","S審判","大分県"]
["R010243659","神田　北斗","４級","男性","S審判","大分県"]
["R010303874","神田　陸","４級","男性","S審判","大分県"]
["R009554610","神田　陸翔","４級","男性","S審判","大分県"]
["R001255953","菊田　興太郎","４級","男性","S審判","大分県"]
["R010432646","菊池　敏志","４級","男性","S審判","大分県"]
["R003972586","菊地　誠","４級","男性","S審判","大分県"]
["R010354793","菊池　陸斗","４級","男性","S審判","大分県"]
["R010214551","菊地　隆之輔","４級","男性","S審判","大分県"]
["R001255980","木嶋　高行","４級","男性","S審判","大分県"]
["R010444492","北川　淳一","４級","男性","S審判","大分県"]
["R010313776","北河　祐一","４級","男性","S審判","大分県"]
["R010364722","北崎　誠弥","４級","男性","S審判","大分県"]
["R008798147","木谷　大希","４級","男性","S審判","大分県"]
["R010099459","北原　隆広","４級","男性","S審判","大分県"]
["R010261591","北山　匠悟","４級","男性","S審判","大分県"]
["R010071971","喜田　潤一","４級","男性","S審判","大分県"]
["R010281848","喜田　智也","４級","男性","S審判","大分県"]
["R010214583","木津　浩太","４級","男性","S審判","大分県"]
["R010214584","木津　春歌","４級","女性","S審判","大分県"]
["R001256004","岐津　宏史","４級","男性","S審判","大分県"]
["R009369678","木戸　雄登","４級","男性","S審判","大分県"]
["R001256031","木下　和夫","４級","男性","S審判","大分県"]
["R010396543","木下　広貴","４級","男性","S審判","大分県"]
["R010444512","木下　泰暉","４級","男性","S審判","大分県"]
["R010262654","木下　遥己","４級","男性","S審判","大分県"]
["R008798138","木下　秀紀","４級","男性","S審判","大分県"]
["R010356143","木原　将和","４級","男性","S審判","大分県"]
["R001256068","岐部　裕二","４級","男性","S審判","大分県"]
["R010243648","木部　椋介","４級","男性","S審判","大分県"]
["R010248580","木村　一平","４級","男性","S審判","大分県"]
["R001251498","木村　竜吉","４級","男性","S審判","大分県"]
["R010416217","木村　美羽","４級","女性","S審判","大分県"]
["R010396513","木村　幹","４級","男性","S審判","大分県"]
["R010281806","木村　凌","４級","男性","S審判","大分県"]
["R010159181","木村　玲音","４級","男性","S審判","大分県"]
["R010243650","木本　蒼翔","４級","男性","S審判","大分県"]
["R008634645","木本　隆之","４級","男性","S審判","大分県"]
["R010448240","木本　博昭","４級","男性","S審判","大分県"]
["R010376351","清川　克幸","４級","男性","S審判","大分県"]
["R010347362","清竹　波月","４級","男性","S審判","大分県"]
["R010351390","清原　拓馬","４級","男性","S審判","大分県"]
["R010281797","清原　勇二","４級","男性","S審判","大分県"]
["R010415896","清原　耀","４級","男性","S審判","大分県"]
["R010255164","清松　創史","４級","男性","S審判","大分県"]
["R010416215","吉良　星音","４級","女性","S審判","大分県"]
["R010261615","吉良　匡弘","４級","男性","S審判","大分県"]
["R010159169","吉良　唯人","４級","男性","S審判","大分県"]
["R001256183","吉良　陽平","４級","男性","S審判","大分県"]
["R010393996","行部　心彩","４級","女性","S審判","大分県"]
["R010386821","行部　光咲","４級","女性","S審判","大分県"]
["R010156515","釘宮　潤也","４級","男性","S審判","大分県"]
["R010189291","釘宮　孝史","４級","男性","S審判","大分県"]
["R010248041","釘宮　翼","４級","男性","S審判","大分県"]
["R010071957","釘宮　包青","４級","男性","S審判","大分県"]
["R010262596","釘宮　零士","４級","男性","S審判","大分県"]
["R010262620","久家　瑞樹","４級","男性","S審判","大分県"]
["R010354661","日下　拓人","４級","男性","S審判","大分県"]
["R010214630","草野　勝氣","４級","男性","S審判","大分県"]
["R010093495","草野　大輝","４級","男性","S審判","大分県"]
["R010313754","櫛野　理弘","４級","男性","S審判","大分県"]
["R010128058","楠田　桜大","４級","男性","S審判","大分県"]
["R010334503","楠　明日香","４級","女性","S審判","大分県"]
["R010351368","楠元　和馬","４級","男性","S審判","大分県"]
["R010240555","楠本　祥彦","４級","男性","S審判","大分県"]
["R010376336","沓掛　聖和","４級","男性","S審判","大分県"]
["R010214578","工藤　歩","４級","男性","S審判","大分県"]
["R010261616","工藤　大昌","４級","男性","S審判","大分県"]
["R009546116","工藤　忠弘","４級","男性","S審判","大分県"]
["R010298861","工藤　辰哉","４級","男性","S審判","大分県"]
["R010357151","工藤　翼","４級","男性","S審判","大分県"]
["R010386805","工藤　晴瑠","４級","女性","S審判","大分県"]
["R001256253","工藤　洋","４級","男性","S審判","大分県"]
["R007686252","工藤　史哲","４級","男性","S審判","大分県"]
["R001256244","工藤　光範","４級","男性","S審判","大分県"]
["R010083877","工藤　大和","４級","男性","S審判","大分県"]
["R010396522","工藤　竜世","４級","男性","S審判","大分県"]
["R010162988","国広　雄陽","４級","男性","S審判","大分県"]
["R010214468","久保　花暖","４級","女性","S審判","大分県"]
["R008793249","久保　茂樹","４級","男性","S審判","大分県"]
["R010376344","久保　翔太郎","４級","男性","S審判","大分県"]
["R009197947","久保　大翼","４級","男性","S審判","大分県"]
["R007753624","久保　湧雅","４級","男性","S審判","大分県"]
["R010396541","久保　幸弥","４級","男性","S審判","大分県"]
["R010352939","久保田　智史","４級","男性","S審判","大分県"]
["R010128069","窪田　龍","４級","男性","S審判","大分県"]
["R010027820","久保山　崇","４級","男性","S審判","大分県"]
["R004794310","熊谷　圭太","４級","男性","S審判","大分県"]
["R010083864","熊谷　遼","４級","男性","S審判","大分県"]
["R010303891","熊谷　誠起","４級","男性","S審判","大分県"]
["R010432645","倉富　壮大","４級","男性","S審判","大分県"]
["R010358009","蔵原　青吾","４級","男性","S審判","大分県"]
["R010255191","倉原　侑也","４級","男性","S審判","大分県"]
["R010376268","倉原　蓮","４級","男性","S審判","大分県"]
["R010391937","倉盛　雅基","４級","男性","S審判","大分県"]
["R010448643","栗井　蓮","４級","男性","S審判","大分県"]
["R010313770","黒木　幹太","４級","男性","S審判","大分県"]
["R010444503","黒木　祥悟","４級","男性","S審判","大分県"]
["R010281807","黒木　一輝","４級","男性","S審判","大分県"]
["R010364727","黒田　航世","４級","男性","S審判","大分県"]
["R010386822","黒田　珠樺","４級","女性","S審判","大分県"]
["R010248040","桑原　誓良","４級","男性","S審判","大分県"]
["R001256387","桑原　剛志","４級","男性","S審判","大分県"]
["R010027910","桑原　正行","４級","男性","S審判","大分県"]
["R010432618","桑原　優人","４級","男性","S審判","大分県"]
["R010214595","小泉　斗眞","４級","男性","S審判","大分県"]
["R010255153","小岩　晴久","４級","男性","S審判","大分県"]
["R010391959","高　昇辰","４級","男性","S審判","大分県"]
["R010189321","神志那　公市","４級","男性","S審判","大分県"]
["R010281843","江田　秀斗","４級","男性","S審判","大分県"]
["R010448246","上妻　歩睦","４級","男性","S審判","大分県"]
["R010313771","河野　歩","４級","男性","S審判","大分県"]
["R010364701","河野　光成","４級","男性","S審判","大分県"]
["R010396536","河野　誠弥","４級","男性","S審判","大分県"]
["R010355074","幸野　壮一郎","４級","男性","S審判","大分県"]
["R010364718","河埜　龍生","４級","男性","S審判","大分県"]
["R001255670","河野　千恵子","４級","女性","S審判","大分県"]
["R010376319","河野　匡視","４級","男性","S審判","大分県"]
["R010334502","河野　萌夏","４級","女性","S審判","大分県"]
["R010396592","河野　悠斗","４級","男性","S審判","大分県"]
["R010445851","河野　吏玖","４級","男性","S審判","大分県"]
["R010189273","高麗　勇輝","４級","男性","S審判","大分県"]
["R010281849","古賀　渓太郎","４級","男性","S審判","大分県"]
["R010347375","古賀　奏太郎","４級","男性","S審判","大分県"]
["R010396510","古賀　時宗","４級","男性","S審判","大分県"]
["R002530277","古賀　博喜","４級","男性","S審判","大分県"]
["R006574206","古賀　雅則","４級","男性","S審判","大分県"]
["R010432603","小金丸　剛志","４級","男性","S審判","大分県"]
["R010388053","小久保　咲汰","４級","男性","S審判","大分県"]
["R010162996","小越　憲太郎","４級","男性","S審判","大分県"]
["R010243646","小坂　駿介","４級","男性","S審判","大分県"]
["R010214636","小島　千宙","４級","男性","S審判","大分県"]
["R010376346","古城　鋼河","４級","男性","S審判","大分県"]
["R010396586","小杉　青空","４級","男性","S審判","大分県"]
["R009408816","児玉　淳","４級","男性","S審判","大分県"]
["R010386815","児玉　一穂","４級","女性","S審判","大分県"]
["R010357149","児玉　空悟","４級","男性","S審判","大分県"]
["R010444511","兒玉　朔都","４級","男性","S審判","大分県"]
["R010313775","児玉　伸","４級","男性","S審判","大分県"]
["R010259431","兒玉　颯斗","４級","男性","S審判","大分県"]
["R010159131","児玉　勇翔","４級","男性","S審判","大分県"]
["R010303868","児玉　港都","４級","男性","S審判","大分県"]
["R010169042","児玉　悠介","４級","男性","S審判","大分県"]
["R010445239","児玉　佑太","４級","男性","S審判","大分県"]
["R010255183","児玉　勇人","４級","男性","S審判","大分県"]
["R010351354","児玉　理緒","４級","男性","S審判","大分県"]
["R010448922","児玉　留己也","４級","男性","S審判","大分県"]
["R010067948","小坪　花楓","４級","女性","S審判","大分県"]
["R010364709","小坪　裕紀","４級","男性","S審判","大分県"]
["R010298858","小手川　博俊","４級","男性","S審判","大分県"]
["R010264269","小手川　豊","４級","男性","S審判","大分県"]
["R005528060","小手川　洋介","４級","男性","S審判","大分県"]
["R004796080","古藤田　和好","４級","男性","S審判","大分県"]
["R001256679","小名川　茂樹","４級","男性","S審判","大分県"]
["R010350228","小西　真夕","４級","女性","S審判","大分県"]
["R010448940","小林　神月","４級","男性","S審判","大分県"]
["R004226712","小林　覚","４級","男性","S審判","大分県"]
["R010255174","小林　亮太","４級","男性","S審判","大分県"]
["R010445242","小深田　大晟","４級","男性","S審判","大分県"]
["R010261600","小米良　啓太","４級","男性","S審判","大分県"]
["R010376321","古屋　空知","４級","男性","S審判","大分県"]
["R010261603","古屋　友晟","４級","男性","S審判","大分県"]
["R009460579","古谷　悠汰","４級","男性","S審判","大分県"]
["R006125587","小屋　良樹","４級","男性","S審判","大分県"]
["R010347385","小山　大輝","４級","男性","S審判","大分県"]
["R010214460","是永　陽翔","４級","男性","S審判","大分県"]
["R006664855","近藤　孝司","４級","男性","S審判","大分県"]
["R010376362","近藤　將平","４級","男性","S審判","大分県"]
["R010303873","近藤　祥真","４級","男性","S審判","大分県"]
["R010364732","合田　秀汰","４級","男性","S審判","大分県"]
["R009546091","五所　睦雄","４級","男性","S審判","大分県"]
["R010416212","後藤　愛梨","４級","女性","S審判","大分県"]
["R010358017","後藤　葵","４級","男性","S審判","大分県"]
["R010432627","後藤　英斗","４級","男性","S審判","大分県"]
["R010163001","後藤　快斗","４級","男性","S審判","大分県"]
["R010099452","後藤　一利","４級","男性","S審判","大分県"]
["R001256572","後藤　儀一郎","４級","男性","S審判","大分県"]
["R010067950","後藤　恵子","４級","女性","S審判","大分県"]
["R010354802","後藤　圭梧","４級","男性","S審判","大分県"]
["R005987519","後藤　慶太郎","４級","男性","S審判","大分県"]
["R001256590","後藤　幸治","４級","男性","S審判","大分県"]
["R010350229","後藤　紗希","４級","女性","S審判","大分県"]
["R003421426","後藤　茂好","４級","男性","S審判","大分県"]
["R010263773","後藤　修蔵","４級","男性","S審判","大分県"]
["R010376917","ごとう　しゅうと","４級","男性","S審判","大分県"]
["R003256044","後藤　真一","４級","男性","S審判","大分県"]
["R001256606","後藤　信也","４級","男性","S審判","大分県"]
["R010432636","後藤　正剛","４級","男性","S審判","大分県"]
["R010255175","後藤　颯太","４級","男性","S審判","大分県"]
["R010376352","後藤　颯太","４級","男性","S審判","大分県"]
["R008537111","後藤　拓磨","４級","男性","S審判","大分県"]
["R010193704","後藤　健文","４級","男性","S審判","大分県"]
["R005603671","後藤　達也","４級","男性","S審判","大分県"]
["R010391916","後藤　大輝","４級","男性","S審判","大分県"]
["R010263777","後藤　颯天","４級","男性","S審判","大分県"]
["R001256554","後藤　寿","４級","男性","S審判","大分県"]
["R010243641","後藤　響","４級","男性","S審判","大分県"]
["R007090978","後藤　洋彰","４級","男性","S審判","大分県"]
["R007959130","後藤　宏之","４級","男性","S審判","大分県"]
["R010303884","後藤　文太","４級","男性","S審判","大分県"]
["R010432644","後藤　雅史","４級","男性","S審判","大分県"]
["R010396547","後藤　真弥","４級","男性","S審判","大分県"]
["R010262599","後藤　萌俊","４級","男性","S審判","大分県"]
["R010354663","後藤　大和","４級","男性","S審判","大分県"]
["R010262600","後藤　勇輝","４級","男性","S審判","大分県"]
["R010448945","後藤　悠介","４級","男性","S審判","大分県"]
["R010396571","後藤　勇飛","４級","男性","S審判","大分県"]
["R010163012","後藤　雄平","４級","男性","S審判","大分県"]
["R010120116","後藤　芳健","４級","男性","S審判","大分県"]
["R010364703","後藤　吏温","４級","男性","S審判","大分県"]
["R010001964","後藤　亮一","４級","男性","S審判","大分県"]
["R010214572","後藤　伶緒","４級","男性","S審判","大分県"]
["R010364706","後藤　渉","４級","男性","S審判","大分県"]
["R010376289","齋藤　俊孝","４級","男性","S審判","大分県"]
["R010354659","齋藤　速人","４級","男性","S審判","大分県"]
["R010167810","斉藤　祐輔","４級","男性","S審判","大分県"]
["R008173685","斎藤　亮真","４級","男性","S審判","大分県"]
["R010334501","堺　彩葉","４級","女性","S審判","大分県"]
["R010390442","酒井　康輔","４級","男性","S審判","大分県"]
["R010448935","酒井　洸太","４級","男性","S審判","大分県"]
["R010255192","界　脩二朗","４級","男性","S審判","大分県"]
["R010261598","堺　大桜","４級","男性","S審判","大分県"]
["R001251577","酒井　隆宏","４級","男性","S審判","大分県"]
["R006932525","酒井　泰峰","４級","男性","S審判","大分県"]
["R010281825","酒井　祐樹","４級","男性","S審判","大分県"]
["R010376353","坂口　太一","４級","男性","S審判","大分県"]
["R010189326","坂田　大樹","４級","男性","S審判","大分県"]
["R010347380","坂本　海士朗","４級","男性","S審判","大分県"]
["R010347379","坂本　颯士朗","４級","男性","S審判","大分県"]
["R010388052","坂本　晴陽","４級","男性","S審判","大分県"]
["R005430048","坂本　正実","４級","男性","S審判","大分県"]
["R010261592","坂本　勇良","４級","男性","S審判","大分県"]
["R010071981","坂本　璃王","４級","男性","S審判","大分県"]
["R010283833","坂本　莉音","４級","女性","S審判","大分県"]
["R010421577","坂本　陸","４級","男性","S審判","大分県"]
["R010214446","相良　采和","４級","男性","S審判","大分県"]
["R008173746","相良　宣雄","４級","男性","S審判","大分県"]
["R009369456","相良　陸","４級","男性","S審判","大分県"]
["R010444490","櫻井　貴寛","４級","男性","S審判","大分県"]
["R010376906","桜本　航帆","４級","男性","S審判","大分県"]
["R010281869","迫　宗次郎","４級","男性","S審判","大分県"]
["R010391924","佐々木　新","４級","男性","S審判","大分県"]
["R010432604","佐々木　匠実","４級","男性","S審判","大分県"]
["R010281874","指原　健太郎","４級","男性","S審判","大分県"]
["R010214626","指原　徹志","４級","男性","S審判","大分県"]
["R010396573","佐田　惇","４級","男性","S審判","大分県"]
["R010189039","目　匡弘","４級","男性","S審判","大分県"]
["R010240550","里　昂大","４級","男性","S審判","大分県"]
["R010259437","佐藤　愛莉","４級","女性","S審判","大分県"]
["R001257076","佐藤　明","４級","男性","S審判","大分県"]
["R010281887","佐藤　飛鳥","４級","男性","S審判","大分県"]
["R010432620","佐藤　篤","４級","男性","S審判","大分県"]
["R010355075","佐藤　快","４級","男性","S審判","大分県"]
["R010364704","佐藤　海斗","４級","男性","S審判","大分県"]
["R010448943","佐藤　凱翔","４級","男性","S審判","大分県"]
["R010376318","佐藤　一史","４級","男性","S審判","大分県"]
["R010303890","佐藤　和彦","４級","男性","S審判","大分県"]
["R010432647","佐藤　亨志郎","４級","男性","S審判","大分県"]
["R010416220","佐藤　圭市","４級","男性","S審判","大分県"]
["R010352947","佐藤　圭太","４級","男性","S審判","大分県"]
["R010396579","佐藤　健司","４級","男性","S審判","大分県"]
["R010432605","佐藤　航輝","４級","男性","S審判","大分県"]
["R001976153","佐藤　公亮","４級","男性","S審判","大分県"]
["R010281835","佐藤　康介","４級","男性","S審判","大分県"]
["R010396604","佐藤　耕輔","４級","男性","S審判","大分県"]
["R010281798","佐藤　茂","４級","男性","S審判","大分県"]
["R010445246","佐藤　秀","４級","男性","S審判","大分県"]
["R010432632","佐藤　秀哉","４級","男性","S審判","大分県"]
["R010248027","佐藤　駿","４級","男性","S審判","大分県"]
["R010432616","佐藤　秀弥","４級","男性","S審判","大分県"]
["R010432602","佐藤　翔太","４級","男性","S審判","大分県"]
["R004386306","佐藤　慎也","４級","男性","S審判","大分県"]
["R010214594","佐藤　隼","４級","男性","S審判","大分県"]
["R010262644","佐藤　颯","４級","男性","S審判","大分県"]
["R010416224","佐藤　大雅","４級","男性","S審判","大分県"]
["R010396523","佐藤　匠人","４級","男性","S審判","大分県"]
["R001257085","佐藤　武吉","４級","男性","S審判","大分県"]
["R010261605","佐藤　大樹","４級","男性","S審判","大分県"]
["R010376337","佐藤　直","４級","男性","S審判","大分県"]
["R010396603","佐藤　颯","４級","男性","S審判","大分県"]
["R010189325","佐藤　遥哉","４級","男性","S審判","大分県"]
["R010281827","佐藤　秀昭","４級","男性","S審判","大分県"]
["R001257137","佐藤　秀勝","４級","男性","S審判","大分県"]
["R010189269","佐藤　寛季","４級","男性","S審判","大分県"]
["R010354658","佐藤　史典","４級","男性","S審判","大分県"]
["R010396593","佐藤　諒","４級","男性","S審判","大分県"]
["R010376310","佐藤　雅斗吏","４級","男性","S審判","大分県"]
["R005603389","佐藤　光雄","４級","男性","S審判","大分県"]
["R010391925","佐藤　祐介","４級","男性","S審判","大分県"]
["R010432608","佐藤　悠星","４級","男性","S審判","大分県"]
["R010396516","佐藤　侑大","４級","男性","S審判","大分県"]
["R010243660","佐藤　勇仁","４級","男性","S審判","大分県"]
["R010444501","佐藤　悠登","４級","男性","S審判","大分県"]
["R010262601","佐藤　優馬","４級","男性","S審判","大分県"]
["R010069874","佐藤　佑哉","４級","男性","S審判","大分県"]
["R010263772","佐藤　友哉","４級","男性","S審判","大分県"]
["R010352970","佐藤　巧基","４級","男性","S審判","大分県"]
["R010314823","佐藤　善成","４級","男性","S審判","大分県"]
["R007729210","佐藤　教春","４級","男性","S審判","大分県"]
["R010189336","佐藤　陸歩","４級","男性","S審判","大分県"]
["R010376270","佐藤　亮平","４級","男性","S審判","大分県"]
["R010351373","佐藤　凜也","４級","男性","S審判","大分県"]
["R010159142","佐藤　琉稀","４級","男性","S審判","大分県"]
["R010396509","佐藤　蓮太","４級","男性","S審判","大分県"]
["R010388045","實松　祐輝","４級","男性","S審判","大分県"]
["R010303869","佐野　圭音","４級","男性","S審判","大分県"]
["R010354816","佐野　翔梧","４級","男性","S審判","大分県"]
["R010448933","佐野　大葵","４級","男性","S審判","大分県"]
["R010214533","鮫島　裕貴","４級","男性","S審判","大分県"]
["R010376311","澤井　駿樂","４級","男性","S審判","大分県"]
["R010354807","澤井　優翔","４級","男性","S審判","大分県"]
["R010390432","沢田　奏太","４級","男性","S審判","大分県"]
["R010376331","澤田　弘教","４級","男性","S審判","大分県"]
["R010396568","澤永　悠樹","４級","男性","S審判","大分県"]
["R010358004","澤藤　慎之助","４級","男性","S審判","大分県"]
["R010445856","参　誠志朗","４級","男性","S審判","大分県"]
["R010415891","三ノ宮　真吾","４級","男性","S審判","大分県"]
["R010448919","三ノ宮　琉偉","４級","男性","S審判","大分県"]
["R010100659","財前　友担","４級","男性","S審判","大分県"]
["R010432654","財前　飛向","４級","男性","S審判","大分県"]
["R010376916","椎木　夢佐志","４級","男性","S審判","大分県"]
["R005603291","椎原　健夫","４級","男性","S審判","大分県"]
["R010255188","椎原　彪叶","４級","男性","S審判","大分県"]
["R010167760","椎葉　颯貴","４級","男性","S審判","大分県"]
["R010303855","椎葉　涼太","４級","男性","S審判","大分県"]
["R010189312","塩月　又幸","４級","男性","S審判","大分県"]
["R010281801","志賀　泰二","４級","男性","S審判","大分県"]
["R010352944","式村　威吹","４級","男性","S審判","大分県"]
["R010391927","重　遥大","４級","男性","S審判","大分県"]
["R001257304","重藤　光","４級","男性","S審判","大分県"]
["R010391920","重松　剛史","４級","男性","S審判","大分県"]
["R010355071","志太波　直葵","４級","男性","S審判","大分県"]
["R010444495","志藤　圭史朗","４級","男性","S審判","大分県"]
["R010352955","篠田　星凪","４級","男性","S審判","大分県"]
["R010445850","篠原　星成","４級","男性","S審判","大分県"]
["R001257377","芝関　功","４級","男性","S審判","大分県"]
["R010281852","柴田　叡昇","４級","男性","S審判","大分県"]
["R010415895","島　拓朗","４級","男性","S審判","大分県"]
["R010167757","嶋岡　烈士","４級","男性","S審判","大分県"]
["R007959592","島崎　雄大","４級","男性","S審判","大分県"]
["R001257447","島谷　真司","４級","男性","S審判","大分県"]
["R010356121","嶌田　幸志","４級","男性","S審判","大分県"]
["R010313749","嶋田　尚祐","４級","男性","S審判","大分県"]
["R010382661","嶋田　優星","４級","男性","S審判","大分県"]
["R010445837","嶋田　祐也","４級","男性","S審判","大分県"]
["R010391958","島田　蓮平","４級","男性","S審判","大分県"]
["R010391963","島津　悠揮","４級","男性","S審判","大分県"]
["R010350236","清水　彩花","４級","女性","S審判","大分県"]
["R010351365","清水　楓","４級","男性","S審判","大分県"]
["R010396565","清水　和","４級","男性","S審判","大分県"]
["R010071963","清水　嵩眺","４級","男性","S審判","大分県"]
["R010376365","清水　新太","４級","男性","S審判","大分県"]
["R005986981","清水　聖徳","４級","男性","S審判","大分県"]
["R010069898","清水　樹生","４級","男性","S審判","大分県"]
["R010189304","清水　哲也","４級","男性","S審判","大分県"]
["R010264743","清水　晃","４級","男性","S審判","大分県"]
["R010255172","清水　寛人","４級","男性","S審判","大分県"]
["R010421576","清水　碧倭","４級","男性","S審判","大分県"]
["R006221678","清水　雄介","４級","男性","S審判","大分県"]
["R010069890","清水　優人","４級","男性","S審判","大分県"]
["R010303857","清水　羅偉","４級","男性","S審判","大分県"]
["R010093497","七五三　正寿","４級","男性","S審判","大分県"]
["R010159143","下田　耀仁","４級","男性","S審判","大分県"]
["R010364705","下藤　勝喜","４級","男性","S審判","大分県"]
["R010376349","下村　直希","４級","男性","S審判","大分県"]
["R010262624","下山　凌河","４級","男性","S審判","大分県"]
["R010391955","首藤　海人","４級","男性","S審判","大分県"]
["R010352987","首藤　和希","４級","男性","S審判","大分県"]
["R010352940","首藤　保","４級","男性","S審判","大分県"]
["R008643838","首藤　翼","４級","男性","S審判","大分県"]
["R007002645","首藤　晴美","４級","男性","S審判","大分県"]
["R010354788","首藤　弘樹","４級","男性","S審判","大分県"]
["R010376326","首藤　博貴","４級","男性","S審判","大分県"]
["R010376340","首藤　正叡","４級","男性","S審判","大分県"]
["R010432614","首藤　唯斗","４級","男性","S審判","大分県"]
["R010214469","首藤　梨花","４級","女性","S審判","大分県"]
["R010356122","首藤　航","４級","男性","S審判","大分県"]
["R010162994","首藤　光翼","４級","男性","S審判","大分県"]
["R010415894","焦　哲","４級","男性","S審判","大分県"]
["R003420029","庄　秀喜","４級","男性","S審判","大分県"]
["R005527362","庄司　誠","４級","男性","S審判","大分県"]
["R009460533","庄部　正人","４級","男性","S審判","大分県"]
["R010445243","庄司　壮甫","４級","男性","S審判","大分県"]
["R010352971","白石　琥太郎","４級","男性","S審判","大分県"]
["R010261607","白石　悠馬","４級","男性","S審判","大分県"]
["R010259417","白岩　孝啓","４級","男性","S審判","大分県"]
["R010376278","白鞘　真彦","４級","男性","S審判","大分県"]
["R010354662","秦　琥太郎","４級","男性","S審判","大分県"]
["R010350238","秦　鼓乃実","４級","女性","S審判","大分県"]
["R010306453","秦　翔平","４級","男性","S審判","大分県"]
["R010444489","秦　拓真","４級","男性","S審判","大分県"]
["R010364713","秦　翼","４級","男性","S審判","大分県"]
["R010240532","新塘　統志也","４級","男性","S審判","大分県"]
["R010347368","新原　優翔","４級","男性","S審判","大分県"]
["R006123774","軸丸　耕平","４級","男性","S審判","大分県"]
["R010313772","軸丸　翔矢","４級","男性","S審判","大分県"]
["R010376291","軸丸　昇","４級","男性","S審判","大分県"]
["R010120159","実本　悠太","４級","男性","S審判","大分県"]
["R010303859","字室　航平","４級","男性","S審判","大分県"]
["R010314825","積明　温斗","４級","男性","S審判","大分県"]
["R009198335","城野　清","４級","男性","S審判","大分県"]
["R010347371","城野　雅翔","４級","男性","S審判","大分県"]
["R010390418","陣内　拓海","４級","男性","S審判","大分県"]
["R007959167","須浦　清隆","４級","男性","S審判","大分県"]
["R001257696","須浦　伸一","４級","男性","S審判","大分県"]
["R010189331","末崎　智也","４級","男性","S審判","大分県"]
["R004055424","末綱　海人","４級","男性","S審判","大分県"]
["R001257711","末綱　航大","４級","男性","S審判","大分県"]
["R006148463","末綱　太舟","４級","男性","S審判","大分県"]
["R010262602","末永　京士朗","４級","男性","S審判","大分県"]
["R009545995","末永　成久","４級","男性","S審判","大分県"]
["R010264737","末永　孟久","４級","男性","S審判","大分県"]
["R010445857","末平　智哉","４級","男性","S審判","大分県"]
["R010262603","末平　陽祐","４級","男性","S審判","大分県"]
["R010159129","菅　右京","４級","男性","S審判","大分県"]
["R010390421","菅　左京","４級","男性","S審判","大分県"]
["R007959820","菅　博幸","４級","男性","S審判","大分県"]
["R010448947","管谷　陸斗","４級","男性","S審判","大分県"]
["R010448640","菅川　輝空","４級","男性","S審判","大分県"]
["R010448634","菅川　青空","４級","男性","S審判","大分県"]
["R010396559","杉崎　景光","４級","男性","S審判","大分県"]
["R008798004","杉崎　誠","４級","男性","S審判","大分県"]
["R005528103","杉野　岳士","４級","男性","S審判","大分県"]
["R010364738","杉原　雄太","４級","男性","S審判","大分県"]
["R006220369","杉本　哲太","４級","男性","S審判","大分県"]
["R010281838","鈴江　真士","４級","男性","S審判","大分県"]
["R010281839","鈴江　涼生","４級","男性","S審判","大分県"]
["R010214548","鈴木　公大","４級","男性","S審判","大分県"]
["R010069892","鈴木　規久","４級","男性","S審判","大分県"]
["R010444486","須藤　哲也","４級","男性","S審判","大分県"]
["R010067965","須藤　夏羽","４級","女性","S審判","大分県"]
["R010247793","須藤　美羽","４級","女性","S審判","大分県"]
["R010445853","須永　芳雄","４級","男性","S審判","大分県"]
["R007959185","巣野　哲平","４級","男性","S審判","大分県"]
["R010128078","角　颯之介","４級","男性","S審判","大分県"]
["R010356125","隅田　香織","４級","女性","S審判","大分県"]
["R010214540","隅田　渚斗","４級","男性","S審判","大分県"]
["R010356124","隅田　波希","４級","男性","S審判","大分県"]
["R010303863","住田　翔","４級","男性","S審判","大分県"]
["R008797838","図師　歌歩乃","４級","女性","S審判","大分県"]
["R010162998","圖師　好至朗","４級","男性","S審判","大分県"]
["R010159141","清家　航太","４級","男性","S審判","大分県"]
["R010303887","瀬川　礼野","４級","男性","S審判","大分県"]
["R003258422","関　一昭","４級","男性","S審判","大分県"]
["R001257809","関　正二","４級","男性","S審判","大分県"]
["R010352992","関　翼","４級","男性","S審判","大分県"]
["R010189267","関　雅人","４級","男性","S審判","大分県"]
["R007959750","関谷　僚人","４級","男性","S審判","大分県"]
["R010376919","瀬口　修矢","４級","男性","S審判","大分県"]
["R009533653","瀬田　英明","４級","男性","S審判","大分県"]
["R010354812","瀬戸　天我","４級","男性","S審判","大分県"]
["R010167767","瀬戸口　智哉","４級","男性","S審判","大分県"]
["R010281872","千歳丸　忠","４級","男性","S審判","大分県"]
["R010376360","惣川　朝太郎","４級","男性","S審判","大分県"]
["R010376356","惣川　春太朗","４級","男性","S審判","大分県"]
["R010396514","曽我　晃大","４級","男性","S審判","大分県"]
["R010120162","曽根　文武","４級","男性","S審判","大分県"]
["R010120127","曽根崎　忠","４級","男性","S審判","大分県"]
["R001257854","曽根崎　照紀","４級","男性","S審判","大分県"]
["R005987458","曽根田　康寿","４級","男性","S審判","大分県"]
["R010262639","園　文来","４級","男性","S審判","大分県"]
["R010386816","園　ひなの","４級","女性","S審判","大分県"]
["R010306443","園田　純直","４級","男性","S審判","大分県"]
["R010391926","園田　悠","４級","男性","S審判","大分県"]
["R001257872","園田　雄二","４級","男性","S審判","大分県"]
["R010069895","染矢　季琉","４級","男性","S審判","大分県"]
["R010255156","染矢　陸","４級","男性","S審判","大分県"]
["R010193717","空田　碧波","４級","男性","S審判","大分県"]
["R010391935","平　拓巳","４級","男性","S審判","大分県"]
["R010189295","高榎　健太郎","４級","男性","S審判","大分県"]
["R008174037","高榎　祐太郎","４級","男性","S審判","大分県"]
["R010347372","高尾　佳汰","４級","男性","S審判","大分県"]
["R010351362","高岡　海堵","４級","男性","S審判","大分県"]
["R010303881","髙岡　堅吾","４級","男性","S審判","大分県"]
["R010259428","高木　伸","４級","男性","S審判","大分県"]
["R010167745","高木　桐馬","４級","男性","S審判","大分県"]
["R001257942","高倉　一城","４級","男性","S審判","大分県"]
["R010444505","高倉　慶一","４級","男性","S審判","大分県"]
["R010314802","高倉　左京","４級","男性","S審判","大分県"]
["R010071976","高倉　凛","４級","男性","S審判","大分県"]
["R010069872","高司　龍之介","４級","男性","S審判","大分県"]
["R010027898","髙瀬　瑛里","４級","男性","S審判","大分県"]
["R010073413","高瀬　心","４級","男性","S審判","大分県"]
["R010391932","高瀬　大雅","４級","男性","S審判","大分県"]
["R010358019","高田　虎之介","４級","男性","S審判","大分県"]
["R001257997","高田　義友","４級","男性","S審判","大分県"]
["R010376369","高月　隆成","４級","男性","S審判","大分県"]
["R010376358","高野　賢吾","４級","男性","S審判","大分県"]
["R010027825","髙野　翔大","４級","男性","S審判","大分県"]
["R003578487","髙野　大輔","４級","男性","S審判","大分県"]
["R010390448","高橋　蒼大","４級","男性","S審判","大分県"]
["R010351355","高橋　海翔","４級","男性","S審判","大分県"]
["R008798077","高橋　紀嘉","４級","男性","S審判","大分県"]
["R010314827","高橋　巧希","４級","男性","S審判","大分県"]
["R008798156","高橋　洸介","４級","男性","S審判","大分県"]
["R010354798","高橋　劫多","４級","男性","S審判","大分県"]
["R010093479","高橋　晃平","４級","男性","S審判","大分県"]
["R010364702","高橋　周平","４級","男性","S審判","大分県"]
["R010351359","高橋　颯太","４級","男性","S審判","大分県"]
["R010432626","高橋　昊","４級","女性","S審判","大分県"]
["R010189346","高橋　敏也","４級","男性","S審判","大分県"]
["R010354794","高橋　那由多","４級","男性","S審判","大分県"]
["R010444508","高橋　飛向","４級","男性","S審判","大分県"]
["R007334924","高橋　央明","４級","男性","S審判","大分県"]
["R007767432","高橋　瑞紀","４級","女性","S審判","大分県"]
["R003256062","高橋　由資","４級","男性","S審判","大分県"]
["R006220697","高橋　勇也","４級","男性","S審判","大分県"]
["R010262604","高橋　陸","４級","男性","S審判","大分県"]
["R010352959","髙橋　涼介","４級","男性","S審判","大分県"]
["R010056101","高橋　蓮","４級","男性","S審判","大分県"]
["R010214462","高畑　俊太","４級","男性","S審判","大分県"]
["R010448944","高畠　将翔","４級","男性","S審判","大分県"]
["R001258136","高原　啓司","４級","男性","S審判","大分県"]
["R010159140","高原　成都","４級","男性","S審判","大分県"]
["R010240538","高原　悠太","４級","男性","S審判","大分県"]
["R010386811","高松　芹羽","４級","女性","S審判","大分県"]
["R010351389","高見　啓太","４級","男性","S審判","大分県"]
["R010351375","高見　陵太","４級","男性","S審判","大分県"]
["R010350232","高本　澪奈","４級","女性","S審判","大分県"]
["R010255176","高森　宗治","４級","男性","S審判","大分県"]
["R010391919","高山　湧也","４級","男性","S審判","大分県"]
["R009533440","田上　龍真","４級","男性","S審判","大分県"]
["R010259435","田川　乃々香","４級","女性","S審判","大分県"]
["R010448928","田北　豊将","４級","男性","S審判","大分県"]
["R010281815","瀧田　好浩","４級","男性","S審判","大分県"]
["R010259424","瀧水　蓮太郎","４級","男性","S審判","大分県"]
["R010358000","田口　心之輔","４級","男性","S審判","大分県"]
["R010128072","田口　晴基","４級","男性","S審判","大分県"]
["R010391939","武石　新太","４級","男性","S審判","大分県"]
["R010120190","武石　智彰","４級","男性","S審判","大分県"]
["R010255180","武石　優作","４級","男性","S審判","大分県"]
["R010281858","武内　一准","４級","男性","S審判","大分県"]
["R010391953","武内　奨真","４級","男性","S審判","大分県"]
["R010415914","武内　時人","４級","男性","S審判","大分県"]
["R010396553","竹内　璃音","４級","男性","S審判","大分県"]
["R010376903","竹下　輝","４級","男性","S審判","大分県"]
["R010262605","竹島　琉","４級","男性","S審判","大分県"]
["R010355743","竹田　竣","４級","男性","S審判","大分県"]
["R010390412","竹田　海翔","４級","男性","S審判","大分県"]
["R009198283","武田　顕一","４級","男性","S審判","大分県"]
["R008616162","竹田　豪","４級","男性","S審判","大分県"]
["R010255159","竹田　天馬","４級","男性","S審判","大分県"]
["R003972498","武田　憲和","４級","男性","S審判","大分県"]
["R007335127","竹中　啓司","４級","男性","S審判","大分県"]
["R010396591","竹中　太志","４級","男性","S審判","大分県"]
["R006612816","竹之内　亮","４級","男性","S審判","大分県"]
["R010347363","武原　匠吾","４級","男性","S審判","大分県"]
["R010415905","武久　文弥","４級","男性","S審判","大分県"]
["R010262657","竹山　柊吾","４級","男性","S審判","大分県"]
["R010432624","武吉　一颯","４級","男性","S審判","大分県"]
["R010432615","田﨑　逸正","４級","男性","S審判","大分県"]
["R010243664","田崎　斗翔","４級","男性","S審判","大分県"]
["R010303882","田﨑　琉唯","４級","男性","S審判","大分県"]
["R010432601","田下　己槻","４級","男性","S審判","大分県"]
["R010432613","田島　尚季","４級","男性","S審判","大分県"]
["R010306446","多嶋田　尚平","４級","男性","S審判","大分県"]
["R004371818","田代　修三","４級","男性","S審判","大分県"]
["R010303886","田代　翔太郎","４級","男性","S審判","大分県"]
["R010376320","田尻　成","４級","男性","S審判","大分県"]
["R010376305","田尻　優斗","４級","男性","S審判","大分県"]
["R010376907","多田　侑槻","４級","男性","S審判","大分県"]
["R010388057","立花　稜大","４級","男性","S審判","大分県"]
["R010303872","立岩　玄輝","４級","男性","S審判","大分県"]
["R010396537","建野　年也","４級","男性","S審判","大分県"]
["R010162985","帯刀　悠","４級","男性","S審判","大分県"]
["R010243656","田中　滉大","４級","男性","S審判","大分県"]
["R010083857","田中　脩翔","４級","男性","S審判","大分県"]
["R010214560","田中　俊丞","４級","男性","S審判","大分県"]
["R009460542","田中　友浩","４級","男性","S審判","大分県"]
["R010376342","田中　陽澄","４級","男性","S審判","大分県"]
["R010303862","田中　真輝","４級","男性","S審判","大分県"]
["R010376323","田中　真樹","４級","男性","S審判","大分県"]
["R010056104","田中　雄大","４級","男性","S審判","大分県"]
["R010351376","田中　陸翔","４級","男性","S審判","大分県"]
["R010376339","田辺　旺生","４級","男性","S審判","大分県"]
["R007728503","田邊　政治","４級","男性","S審判","大分県"]
["R010376368","田辺　裕也","４級","男性","S審判","大分県"]
["R010444515","谷川　滉樹","４級","男性","S審判","大分県"]
["R008798484","谷川　潤弥","４級","男性","S審判","大分県"]
["R010352981","谷口　直也","４級","男性","S審判","大分県"]
["R010281834","谷崎　舞","４級","女性","S審判","大分県"]
["R010073989","谷崎　涼","４級","男性","S審判","大分県"]
["R009198539","谷崎　玲治","４級","男性","S審判","大分県"]
["R010255173","谷脇　陸","４級","男性","S審判","大分県"]
["R010159155","谷脇　蓮","４級","男性","S審判","大分県"]
["R010214471","田野　愛華","４級","女性","S審判","大分県"]
["R010167790","田野　翔大","４級","男性","S審判","大分県"]
["R008523215","田原　龍之介","４級","男性","S審判","大分県"]
["R010391947","田畑　篤郎","４級","男性","S審判","大分県"]
["R010357152","玉城　宗馬","４級","男性","S審判","大分県"]
["R009533510","田村　奎人","４級","男性","S審判","大分県"]
["R008797704","田村　健二","４級","男性","S審判","大分県"]
["R010169043","田村　駿伍","４級","男性","S審判","大分県"]
["R010281809","田村　拓也","４級","男性","S審判","大分県"]
["R010376901","田村　眞那斗","４級","男性","S審判","大分県"]
["R010364719","大海　應介","４級","男性","S審判","大分県"]
["R006111195","伊達　秀憲","４級","男性","S審判","大分県"]
["R001251753","伊達　洋介","４級","男性","S審判","大分県"]
["R001258455","千原　秀介","４級","男性","S審判","大分県"]
["R010264738","千原　隼輔","４級","男性","S審判","大分県"]
["R010071980","千原　瑠偉","４級","男性","S審判","大分県"]
["R010396504","忠願寺　慶祐","４級","男性","S審判","大分県"]
["R010354820","長木　環和","４級","男性","S審判","大分県"]
["R010067943","通正　こころ","４級","女性","S審判","大分県"]
["R010067949","通正　隆寿","４級","男性","S審判","大分県"]
["R010261597","通正　隆之介","４級","男性","S審判","大分県"]
["R010391960","潰田　輝太","４級","男性","S審判","大分県"]
["R010448232","塚崎　高典","４級","男性","S審判","大分県"]
["R010382665","塚崎　仁志","４級","男性","S審判","大分県"]
["R010262606","塚崎　凛音","４級","男性","S審判","大分県"]
["R010214610","津崎　祐二","４級","男性","S審判","大分県"]
["R001258516","津下　一孝","４級","男性","S審判","大分県"]
["R010445858","辻　奏音","４級","男性","S審判","大分県"]
["R010444494","辻　真貴","４級","男性","S審判","大分県"]
["R001258491","辻　道弘","４級","男性","S審判","大分県"]
["R010093455","津田　敬太","４級","男性","S審判","大分県"]
["R010376347","土屋　光輝","４級","男性","S審判","大分県"]
["R010189345","筒井　愛","４級","女性","S審判","大分県"]
["R010120146","筒井　映介","４級","男性","S審判","大分県"]
["R010432612","筒井　大貴","４級","男性","S審判","大分県"]
["R010396531","堤　太河","４級","男性","S審判","大分県"]
["R008360148","堤　哲郎","４級","男性","S審判","大分県"]
["R010214478","堤　晴菜","４級","女性","S審判","大分県"]
["R010448247","堤　優菜","４級","女性","S審判","大分県"]
["R008651794","都竹　創","４級","男性","S審判","大分県"]
["R005429884","恒成　壮","４級","男性","S審判","大分県"]
["R005405723","恒松　和也","４級","男性","S審判","大分県"]
["R009198256","常行　隼史","４級","男性","S審判","大分県"]
["R010303858","角田　海斗","４級","男性","S審判","大分県"]
["R010391929","津村　真生","４級","男性","S審判","大分県"]
["R006937089","津守　翔太","４級","男性","S審判","大分県"]
["R010303879","津谷　海登","４級","男性","S審判","大分県"]
["R010364712","築城　翔太","４級","男性","S審判","大分県"]
["R010444498","都留　祐也","４級","男性","S審判","大分県"]
["R010306444","鶴田　翔一","４級","男性","S審判","大分県"]
["R010444506","鶴原　楓也","４級","男性","S審判","大分県"]
["R010214528","手嶋　章博","４級","男性","S審判","大分県"]
["R010261594","寺井　一","４級","男性","S審判","大分県"]
["R001258613","出口　功","４級","男性","S審判","大分県"]
["R010214470","藤内　なぎさ","４級","女性","S審判","大分県"]
["R010243644","遠山　隼都","４級","男性","S審判","大分県"]
["R010396517","時任　佑樹哉","４級","男性","S審判","大分県"]
["R010074011","徳田　正信","４級","男性","S審判","大分県"]
["R010074007","徳田　隆聖","４級","男性","S審判","大分県"]
["R010364733","徳地　翔","４級","男性","S審判","大分県"]
["R010355733","徳留　暁","４級","男性","S審判","大分県"]
["R010093499","徳丸　淳治","４級","男性","S審判","大分県"]
["R010376314","徳丸　太陽","４級","男性","S審判","大分県"]
["R010255154","得丸　拓実","４級","男性","S審判","大分県"]
["R010243652","徳丸　白空","４級","男性","S審判","大分県"]
["R001258695","徳丸　英明","４級","男性","S審判","大分県"]
["R001258686","得丸　政徳","４級","男性","S審判","大分県"]
["R010391941","渡久地　蒔人","４級","男性","S審判","大分県"]
["R010167753","都甲　明聖","４級","男性","S審判","大分県"]
["R010379064","都甲　空","４級","男性","S審判","大分県"]
["R010214587","利根　悠理","４級","男性","S審判","大分県"]
["R009533583","利光　貴翔","４級","男性","S審判","大分県"]
["R010396585","利光　慧斗","４級","男性","S審判","大分県"]
["R010358018","利光　翔磨","４級","男性","S審判","大分県"]
["R010445854","利光　蒼志","４級","男性","S審判","大分県"]
["R010261602","利光　陽成","４級","男性","S審判","大分県"]
["R010159150","戸田　汐音","４級","男性","S審判","大分県"]
["R010159136","戸髙　滉基","４級","男性","S審判","大分県"]
["R010376357","戸髙　航汰","４級","男性","S審判","大分県"]
["R010350234","戸髙　花菜","４級","女性","S審判","大分県"]
["R010046512","十時　優介","４級","男性","S審判","大分県"]
["R010415910","苫川　銀雅","４級","男性","S審判","大分県"]
["R010390447","富田　凱吏","４級","男性","S審判","大分県"]
["R010027867","富田　靖夫","４級","男性","S審判","大分県"]
["R007728974","冨田　保之","４級","男性","S審判","大分県"]
["R010027830","富永　渉太","４級","男性","S審判","大分県"]
["R001258765","富永　佳幸","４級","男性","S審判","大分県"]
["R010351388","富松　慎之介","４級","男性","S審判","大分県"]
["R005405608","冨吉　弘一","４級","男性","S審判","大分県"]
["R010069889","留野　莉旺","４級","男性","S審判","大分県"]
["R010281868","友田　裕斗","４級","男性","S審判","大分県"]
["R010415915","友永　弥","４級","男性","S審判","大分県"]
["R010128059","友成　拓夢","４級","男性","S審判","大分県"]
["R010128070","友松　健太","４級","男性","S審判","大分県"]
["R010100678","友松　誠二","４級","男性","S審判","大分県"]
["R010163009","豊島　海斗","４級","男性","S審判","大分県"]
["R010313755","豊島　勇樹","４級","男性","S審判","大分県"]
["R010214570","豊田　馨","４級","女性","S審判","大分県"]
["R010448248","豊田　颯花","４級","女性","S審判","大分県"]
["R010355734","豊田　淳也","４級","男性","S審判","大分県"]
["R010396515","豊田　洸","４級","男性","S審判","大分県"]
["R003421170","豊田　裕司","４級","男性","S審判","大分県"]
["R009369641","豊永　拓弥","４級","男性","S審判","大分県"]
["R010248573","堂本　和馬","４級","男性","S審判","大分県"]
["R010168000","仲　恭平","４級","男性","S審判","大分県"]
["R010445845","仲　尚樹","４級","男性","S審判","大分県"]
["R010354813","中井　琉惺","４級","男性","S審判","大分県"]
["R010007815","中尾　圭介","４級","男性","S審判","大分県"]
["R010120161","中尾　雅俊","４級","男性","S審判","大分県"]
["R010390441","中岡　駿","４級","男性","S審判","大分県"]
["R010255166","中岡　昇","４級","男性","S審判","大分県"]
["R004793931","中川　勝裕","４級","男性","S審判","大分県"]
["R001258880","中川　俊哉","４級","男性","S審判","大分県"]
["R010432640","中川　陽斗","４級","男性","S審判","大分県"]
["R010263774","中川　蓮太","４級","男性","S審判","大分県"]
["R010448251","中倉　咲姫","４級","女性","S審判","大分県"]
["R002530329","中島　大成","４級","男性","S審判","大分県"]
["R010388049","中島　魁利","４級","男性","S審判","大分県"]
["R010162981","中島　柊","４級","男性","S審判","大分県"]
["R010396594","中島　忠伸","４級","男性","S審判","大分県"]
["R010396533","中嶋　哲也","４級","男性","S審判","大分県"]
["R010167786","中島　湧友","４級","男性","S審判","大分県"]
["R010390417","中島　壮","４級","男性","S審判","大分県"]
["R010352956","中島　拓磨","４級","男性","S審判","大分県"]
["R010214567","中嶋　完","４級","男性","S審判","大分県"]
["R001258914","中嶋　結孝","４級","男性","S審判","大分県"]
["R009533662","中瀬　雄一郎","４級","男性","S審判","大分県"]
["R010281836","仲宗根　玄昌","４級","男性","S審判","大分県"]
["R010355740","中園　翔馬","４級","男性","S審判","大分県"]
["R010214461","中園　太陽","４級","男性","S審判","大分県"]
["R010281808","中園　貴志","４級","男性","S審判","大分県"]
["R010240546","中面　成斗","４級","男性","S審判","大分県"]
["R010083855","中津留　海翔","４級","男性","S審判","大分県"]
["R010390452","中津留　将悟","４級","男性","S審判","大分県"]
["R006125602","中津留　正三","４級","男性","S審判","大分県"]
["R010334500","中津留　菜桜","４級","女性","S審判","大分県"]
["R010432607","中津留　蓮","４級","男性","S審判","大分県"]
["R007334942","中津留　治将","４級","男性","S審判","大分県"]
["R002917412","中西　智彦","４級","男性","S審判","大分県"]
["R010189275","中根　孝史","４級","男性","S審判","大分県"]
["R001259038","中根　幹雄","４級","男性","S審判","大分県"]
["R010056094","中根　武蔵","４級","男性","S審判","大分県"]
["R010281799","中野　明","４級","男性","S審判","大分県"]
["R010248583","中野　翔梧","４級","男性","S審判","大分県"]
["R010298856","中野　翔太","４級","男性","S審判","大分県"]
["R010281824","仲野　翔真","４級","男性","S審判","大分県"]
["R010255160","仲野　穣","４級","男性","S審判","大分県"]
["R001259056","中野　俊宏","４級","男性","S審判","大分県"]
["R010093448","中野　智博","４級","男性","S審判","大分県"]
["R010078598","中野　浩志","４級","男性","S審判","大分県"]
["R010214472","中野　茉奈","４級","女性","S審判","大分県"]
["R010448242","中野　康徳","４級","男性","S審判","大分県"]
["R010358002","仲野　隆貴","４級","男性","S審判","大分県"]
["R010281853","中野　竜太","４級","男性","S審判","大分県"]
["R006574394","中畑　光宏","４級","男性","S審判","大分県"]
["R010448243","中畑　祐也","４級","男性","S審判","大分県"]
["R010396575","中原　壱春","４級","男性","S審判","大分県"]
["R010448237","中原　笙","４級","男性","S審判","大分県"]
["R010261596","中平　康士朗","４級","男性","S審判","大分県"]
["R001251896","中間　敏彦","４級","男性","S審判","大分県"]
["R010354814","中溝　遥","４級","男性","S審判","大分県"]
["R010354801","中道　裕斗","４級","男性","S審判","大分県"]
["R010016109","仲村　晃和","４級","男性","S審判","大分県"]
["R010159153","中村　朝光","４級","男性","S審判","大分県"]
["R010391933","中村　出海","４級","男性","S審判","大分県"]
["R003316948","中村　冴里","４級","女性","S審判","大分県"]
["R010262608","中村　真太朗","４級","男性","S審判","大分県"]
["R010432643","中村　奏太","４級","男性","S審判","大分県"]
["R009197585","中村　智美","４級","女性","S審判","大分県"]
["R010281888","仲村　晃瑠","４級","男性","S審判","大分県"]
["R001251911","中村　真彦","４級","男性","S審判","大分県"]
["R010444500","中村　洋三","４級","男性","S審判","大分県"]
["R009198274","中村　洋太","４級","男性","S審判","大分県"]
["R010448938","中村　怜音","４級","男性","S審判","大分県"]
["R010376273","中山　忍","４級","男性","S審判","大分県"]
["R010351377","中山　遥","４級","男性","S審判","大分県"]
["R010376280","中渡瀬　真樹","４級","男性","S審判","大分県"]
["R010167747","永井　啓太朗","４級","男性","S審判","大分県"]
["R010354806","長井　滉希","４級","男性","S審判","大分県"]
["R010352943","永井　秀","４級","男性","S審判","大分県"]
["R010262635","長井　舜佑","４級","男性","S審判","大分県"]
["R010240580","永井　智大","４級","男性","S審判","大分県"]
["R010214609","長尾　浩希","４級","男性","S審判","大分県"]
["R010281817","永尾　透","４級","男性","S審判","大分県"]
["R010448233","長岡　傑","４級","男性","S審判","大分県"]
["R010376366","長岡　範","４級","男性","S審判","大分県"]
["R010448231","永岡　才拓","４級","男性","S審判","大分県"]
["R010445848","長岡　巧磨","４級","男性","S審判","大分県"]
["R010120189","長澤　直樹","４級","男性","S審判","大分県"]
["R001258950","長瀬　良理","４級","男性","S審判","大分県"]
["R010390438","永田　壮一郎","４級","男性","S審判","大分県"]
["R010448244","長田　佳洋","４級","男性","S審判","大分県"]
["R010313765","永田　蓮二","４級","男性","S審判","大分県"]
["R010214622","永冨　真依","４級","女性","S審判","大分県"]
["R010083859","永野　慎之助","４級","男性","S審判","大分県"]
["R010448245","永野　暁希","４級","男性","S審判","大分県"]
["R010388058","長野　優飛","４級","男性","S審判","大分県"]
["R010259414","永松　和寿","４級","男性","S審判","大分県"]
["R010355073","永松　周","４級","男性","S審判","大分県"]
["R005528264","永松　裕史","４級","男性","S審判","大分県"]
["R010396535","永松　正規","４級","男性","S審判","大分県"]
["R010303861","永松　涼介","４級","男性","S審判","大分県"]
["R010390434","長溝　遥","４級","男性","S審判","大分県"]
["R005527353","永山　正樹","４級","男性","S審判","大分県"]
["R010193705","長山　祐介","４級","男性","S審判","大分県"]
["R010396580","長吉　倖成","４級","男性","S審判","大分県"]
["R005987403","流川　新","４級","男性","S審判","大分県"]
["R010396599","奈須　要","４級","男性","S審判","大分県"]
["R010396570","奈須　心勇","４級","男性","S審判","大分県"]
["R010214537","奈須　哲平","４級","男性","S審判","大分県"]
["R010027829","奈須　大和","４級","男性","S審判","大分県"]
["R009072295","奈須野　安侑里","４級","女性","S審判","大分県"]
["R010388054","楢原　翔大郎","４級","男性","S審判","大分県"]
["R010262625","成重　柊哉","４級","男性","S審判","大分県"]
["R010445247","縄田　遊乃亮","４級","男性","S審判","大分県"]
["R010356119","新名　翔太","４級","男性","S審判","大分県"]
["R010356118","新名　拓哉","４級","男性","S審判","大分県"]
["R010358010","新納　永遠","４級","男性","S審判","大分県"]
["R010364730","新納　琉冬","４級","男性","S審判","大分県"]
["R010313756","新原　一希","４級","男性","S審判","大分県"]
["R010391962","二川　史崇","４級","男性","S審判","大分県"]
["R010306439","西　将輝","４級","男性","S審判","大分県"]
["R010303853","西　瑞希","４級","男性","S審判","大分県"]
["R010314809","西尾　圭翔","４級","男性","S審判","大分県"]
["R010382659","西尾　紀博","４級","男性","S審判","大分県"]
["R004386023","西尾　拓之","４級","男性","S審判","大分県"]
["R010128071","西尾　悠吾","４級","男性","S審判","大分県"]
["R010303856","西尾　陸","４級","男性","S審判","大分県"]
["R001251957","西岡　京一郎","４級","男性","S審判","大分県"]
["R010262641","西川　凜","４級","男性","S審判","大分県"]
["R010393995","西田　愛奈","４級","女性","S審判","大分県"]
["R009533538","西田　克海","４級","男性","S審判","大分県"]
["R010396501","西田　翔","４級","男性","S審判","大分県"]
["R004793375","西田　真也","４級","男性","S審判","大分県"]
["R010391944","西野　凌平","４級","男性","S審判","大分県"]
["R010354815","西野　凜太朗","４級","男性","S審判","大分県"]
["R010281850","西村　陽佑","４級","男性","S審判","大分県"]
["R010159135","ニ田　理央","４級","男性","S審判","大分県"]
["R010448937","新田　莉生","４級","男性","S審判","大分県"]
["R010391918","蜷川　勇来","４級","男性","S審判","大分県"]
["R010390439","二宮　圭吾","４級","男性","S審判","大分県"]
["R010261589","二宮　慶太","４級","男性","S審判","大分県"]
["R010281837","二宮　大己","４級","男性","S審判","大分県"]
["R010096809","二宮　大作","４級","男性","S審判","大分県"]
["R004055664","二宮　康彰","４級","男性","S審判","大分県"]
["R010120164","二宮　悠樹","４級","男性","S審判","大分県"]
["R010432638","仁部屋　透晃","４級","男性","S審判","大分県"]
["R010396551","丹生　良三","４級","男性","S審判","大分県"]
["R010306454","入田　裕治","４級","男性","S審判","大分県"]
["R010281856","如法寺　雅俊","４級","男性","S審判","大分県"]
["R010390433","庭瀬　元希","４級","男性","S審判","大分県"]
["R010355738","沼田　翔弥","４級","男性","S審判","大分県"]
["R010444496","大戸　匠","４級","男性","S審判","大分県"]
["R010376301","野上　拳跳","４級","男性","S審判","大分県"]
["R010027878","野口　一輝","４級","男性","S審判","大分県"]
["R010396600","野口　源若","４級","男性","S審判","大分県"]
["R002917333","野口　康二郎","４級","男性","S審判","大分県"]
["R010027885","野口　智隆","４級","男性","S審判","大分県"]
["R010432606","野口　我太生","４級","男性","S審判","大分県"]
["R010262637","野崎　央","４級","男性","S審判","大分県"]
["R010167740","野崎　来","４級","男性","S審判","大分県"]
["R005527830","野尻　崇","４級","男性","S審判","大分県"]
["R010306450","野田　啓佑","４級","男性","S審判","大分県"]
["R010214592","野田　航平","４級","男性","S審判","大分県"]
["R010080607","野田　晶生","４級","男性","S審判","大分県"]
["R010128060","野中　充登","４級","男性","S審判","大分県"]
["R010445241","野中　慎之介","４級","男性","S審判","大分県"]
["R010214556","野中　裕介","４級","男性","S審判","大分県"]
["R010354660","野村　慶太","４級","男性","S審判","大分県"]
["R001259436","野村　辰寿","４級","男性","S審判","大分県"]
["R006125736","野村　哲也","４級","男性","S審判","大分県"]
["R010354811","野村　春希","４級","男性","S審判","大分県"]
["R010303877","野村　凌","４級","男性","S審判","大分県"]
["R010388042","野依　桂","４級","男性","S審判","大分県"]
["R006544278","則次　祐介","４級","男性","S審判","大分県"]
["R004714721","袴田　真吾","４級","男性","S審判","大分県"]
["R001259472","間　俊雄","４級","男性","S審判","大分県"]
["R007003273","間　博紀","４級","男性","S審判","大分県"]
["R010352972","間　勇翔","４級","男性","S審判","大分県"]
["R010396567","狹間　優人","４級","男性","S審判","大分県"]
["R010314814","橋口　一斗","４級","男性","S審判","大分県"]
["R008634609","橋本　翔","４級","男性","S審判","大分県"]
["R010396601","橋本　舜平","４級","男性","S審判","大分県"]
["R010376361","橋本　淳平","４級","男性","S審判","大分県"]
["R010396540","橋本　壮旦","４級","男性","S審判","大分県"]
["R006221012","橋本　敏邦","４級","男性","S審判","大分県"]
["R007959440","橋本　伸忠","４級","男性","S審判","大分県"]
["R010393993","橋本　凜","４級","女性","S審判","大分県"]
["R010240540","橋本　玲央","４級","男性","S審判","大分県"]
["R010376915","蓮田　智","４級","男性","S審判","大分県"]
["R007729098","長谷　明治","４級","男性","S審判","大分県"]
["R010445839","秦　碧空","４級","男性","S審判","大分県"]
["R010259429","畑　修一","４級","男性","S審判","大分県"]
["R010432639","畑　央斗","４級","男性","S審判","大分県"]
["R010262643","秦　龍生","４級","男性","S審判","大分県"]
["R010388046","畑田　堅伸","４級","男性","S審判","大分県"]
["R010248571","畑中　恒輝","４級","男性","S審判","大分県"]
["R010100679","畑中　祝勝","４級","男性","S審判","大分県"]
["R010314826","畑中　大和","４級","男性","S審判","大分県"]
["R010352984","畑野　新司","４級","男性","S審判","大分県"]
["R010281859","羽田野　凪","４級","男性","S審判","大分県"]
["R010007845","波多野　政美","４級","男性","S審判","大分県"]
["R010347358","畑辺　康年","４級","男性","S審判","大分県"]
["R010259439","羽田野　徹","４級","男性","S審判","大分県"]
["R010376287","羽田野　裕之","４級","男性","S審判","大分県"]
["R010169052","羽田野　将斗","４級","男性","S審判","大分県"]
["R010262647","服部　昌拓","４級","男性","S審判","大分県"]
["R003421116","波津久　雄平","４級","男性","S審判","大分県"]
["R010386809","花宮　うの","４級","女性","S審判","大分県"]
["R010376277","花宮　大聖","４級","男性","S審判","大分県"]
["R001259579","濱崎　賢一","４級","男性","S審判","大分県"]
["R010390420","浜崎　颯太","４級","男性","S審判","大分県"]
["R009460658","浜崎　拓海","４級","男性","S審判","大分県"]
["R010352977","濱砂　樹","４級","男性","S審判","大分県"]
["R010364708","濱田　碧空","４級","男性","S審判","大分県"]
["R010364725","浜田　子龍","４級","男性","S審判","大分県"]
["R010093435","濱田　尚希","４級","男性","S審判","大分県"]
["R006221100","浜町　隆蒔","４級","男性","S審判","大分県"]
["R010376285","林　航","４級","男性","S審判","大分県"]
["R010396503","林田　健太","４級","男性","S審判","大分県"]
["R010350231","原　愛由那","４級","女性","S審判","大分県"]
["R008626965","原　海斗","４級","男性","S審判","大分県"]
["R009528800","原　和将","４級","男性","S審判","大分県"]
["R010141822","原　冴空","４級","男性","S審判","大分県"]
["R008174365","原　貴宏","４級","男性","S審判","大分県"]
["R006937113","原　大恭","４級","男性","S審判","大分県"]
["R006220095","原　正佳","４級","男性","S審判","大分県"]
["R010376905","原　由緋","４級","男性","S審判","大分県"]
["R006220934","原井　健太郎","４級","男性","S審判","大分県"]
["R010243653","原田　圭","４級","男性","S審判","大分県"]
["R010259430","原田　光清","４級","男性","S審判","大分県"]
["R010376900","原田　柊","４級","男性","S審判","大分県"]
["R010432628","原田　隼大","４級","男性","S審判","大分県"]
["R010445841","原田　惺斗","４級","男性","S審判","大分県"]
["R010100690","原田　拓弥","４級","男性","S審判","大分県"]
["R010313781","原田　琢也","４級","男性","S審判","大分県"]
["R001259685","原田　健士","４級","男性","S審判","大分県"]
["R010376329","原田　利男","４級","男性","S審判","大分県"]
["R010390454","原田　直也","４級","男性","S審判","大分県"]
["R010397207","原田　昌樹","４級","男性","S審判","大分県"]
["R004747215","原田　宗法","４級","男性","S審判","大分県"]
["R010189330","原田　裕規","４級","男性","S審判","大分県"]
["R010432649","原田　琉唯","４級","男性","S審判","大分県"]
["R010376309","馬場　一颯","４級","男性","S審判","大分県"]
["R004111605","馬場　睦紀","４級","男性","S審判","大分県"]
["R010386823","東　更紗","４級","女性","S審判","大分県"]
["R010376345","東　大晟","４級","男性","S審判","大分県"]
["R010391930","東方　優也","４級","男性","S審判","大分県"]
["R010393238","匹田　晟哉","４級","男性","S審判","大分県"]
["R010376333","日隈　駿","４級","男性","S審判","大分県"]
["R010313751","日坂　仁哉","４級","男性","S審判","大分県"]
["R010390450","久志　泰謙","４級","男性","S審判","大分県"]
["R003350890","久田　祥孝","４級","男性","S審判","大分県"]
["R010448934","久恒　碧哉","４級","男性","S審判","大分県"]
["R007090701","久野　章吾","４級","男性","S審判","大分県"]
["R010376324","菱川　翔平","４級","男性","S審判","大分県"]
["R009533422","日高　世那","４級","男性","S審判","大分県"]
["R010243639","日高　雄登","４級","男性","S審判","大分県"]
["R010159133","日野　文翔","４級","男性","S審判","大分県"]
["R010432629","日野　開智","４級","男性","S審判","大分県"]
["R010255184","日野　颯太","４級","男性","S審判","大分県"]
["R004111368","日野　崇","４級","男性","S審判","大分県"]
["R010262611","日野　雄太","４級","男性","S審判","大分県"]
["R010352937","日野　陽平","４級","男性","S審判","大分県"]
["R010350230","姫野　杏妃","４級","女性","S審判","大分県"]
["R010189332","姫野　賢吾","４級","男性","S審判","大分県"]
["R006220183","姫野　航平","４級","男性","S審判","大分県"]
["R010390435","姫野　柊斗","４級","男性","S審判","大分県"]
["R010351361","姫野　聖太","４級","男性","S審判","大分県"]
["R010352969","姫野　聖也","４級","男性","S審判","大分県"]
["R010243665","姫野　青空","４級","男性","S審判","大分県"]
["R010255170","姫野　天翔","４級","男性","S審判","大分県"]
["R007959194","姫野　貴裕","４級","男性","S審判","大分県"]
["R010027875","姫野　太輔","４級","男性","S審判","大分県"]
["R010214596","姫野　晴人","４級","男性","S審判","大分県"]
["R010376279","姫野　雅俊","４級","男性","S審判","大分県"]
["R009430435","姫野　真智代","４級","女性","S審判","大分県"]
["R010262645","姫野　隆太","４級","男性","S審判","大分県"]
["R010074020","姫野　涼","４級","男性","S審判","大分県"]
["R010262638","平井　楓","４級","男性","S審判","大分県"]
["R010311845","平井　慧佑","４級","男性","S審判","大分県"]
["R010396576","平井　康寛","４級","男性","S審判","大分県"]
["R010128055","平池　悠馬","４級","男性","S審判","大分県"]
["R010382664","平岡　和博","４級","男性","S審判","大分県"]
["R010047300","平川　絢大","４級","男性","S審判","大分県"]
["R010259426","平川　功ニ","４級","男性","S審判","大分県"]
["R007753846","平川　大雅","４級","男性","S審判","大分県"]
["R001259898","平川　孝幸","４級","男性","S審判","大分県"]
["R010444519","平川　龍大","４級","男性","S審判","大分県"]
["R010303899","平嶋　僚太","４級","男性","S審判","大分県"]
["R010432600","平沼　鉄生","４級","男性","S審判","大分県"]
["R010415899","平野　翔太","４級","男性","S審判","大分県"]
["R001259986","平野　雅也","４級","男性","S審判","大分県"]
["R010120147","平野　眞丸","４級","男性","S審判","大分県"]
["R008174064","平野　道弘","４級","男性","S審判","大分県"]
["R010248581","平野　靖成","４級","男性","S審判","大分県"]
["R010376335","平野　泰寛","４級","男性","S審判","大分県"]
["R004386193","平畠　数大","４級","男性","S審判","大分県"]
["R010214604","平林　昭二","４級","男性","S審判","大分県"]
["R010352938","平林　拓朗","４級","男性","S審判","大分県"]
["R001260016","平原　晃","４級","男性","S審判","大分県"]
["R008797953","平原　悟","４級","男性","S審判","大分県"]
["R002384049","平原　修人","４級","男性","S審判","大分県"]
["R010351358","平松　寛大","４級","男性","S審判","大分県"]
["R010159158","平松　孝汰朗","４級","男性","S審判","大分県"]
["R005603370","平松　大輔","４級","男性","S審判","大分県"]
["R010376295","平山　鷹也","４級","男性","S審判","大分県"]
["R009197901","廣井　隼人","４級","男性","S審判","大分県"]
["R010243642","廣岡　将","４級","男性","S審判","大分県"]
["R010354789","廣川　陽介","４級","男性","S審判","大分県"]
["R010262652","廣瀬　長治","４級","男性","S審判","大分県"]
["R010390436","廣瀬　丈倖","４級","男性","S審判","大分県"]
["R010069886","廣瀬　直軌","４級","男性","S審判","大分県"]
["R008798253","廣瀬　尚人","４級","男性","S審判","大分県"]
["R010167787","広瀬　颯人","４級","男性","S審判","大分県"]
["R006872296","廣瀬　光雄","４級","男性","S審判","大分県"]
["R010351380","廣瀬　有気","４級","男性","S審判","大分県"]
["R010415892","廣瀬　優磨","４級","男性","S審判","大分県"]
["R010240551","広瀬　椋平","４級","男性","S審判","大分県"]
["R010364736","深井　瞭太","４級","男性","S審判","大分県"]
["R010069897","深田　涼雅","４級","男性","S審判","大分県"]
["R010093449","深見　精二","４級","男性","S審判","大分県"]
["R009369562","福井　健斗","４級","男性","S審判","大分県"]
["R010306447","福島　達也","４級","男性","S審判","大分県"]
["R010248037","福島　直矢","４級","男性","S審判","大分県"]
["R010394158","福島　莉聖","４級","女性","S審判","大分県"]
["R010314822","福谷　洸明","４級","男性","S審判","大分県"]
["R010281885","福田　和輝","４級","男性","S審判","大分県"]
["R010376913","福田　喬志郎","４級","男性","S審判","大分県"]
["R010281831","福田　紫月","４級","男性","S審判","大分県"]
["R010444513","福田　瑞樹","４級","男性","S審判","大分県"]
["R010391917","福田　芳樹","４級","男性","S審判","大分県"]
["R010128062","福永　有基","４級","男性","S審判","大分県"]
["R010390446","福丸　秀虎","４級","男性","S審判","大分県"]
["R010396500","藤井　健人","４級","男性","S審判","大分県"]
["R010214568","藤井　俊輔","４級","男性","S審判","大分県"]
["R009408825","藤井　康之","４級","男性","S審判","大分県"]
["R010352952","藤岡　典之","４級","男性","S審判","大分県"]
["R010445838","藤川　碧冬","４級","男性","S審判","大分県"]
["R010351372","藤澤　昂大","４級","男性","S審判","大分県"]
["R010313762","藤澤　康秀","４級","男性","S審判","大分県"]
["R010396584","藤澤　琉人","４級","男性","S審判","大分県"]
["R010313773","藤島　虹太","４級","男性","S審判","大分県"]
["R010445847","藤島　星太","４級","男性","S審判","大分県"]
["R008173667","藤末　学","４級","男性","S審判","大分県"]
["R010261608","藤末　琉生","４級","男性","S審判","大分県"]
["R010352946","藤田　翔","４級","男性","S審判","大分県"]
["R010444499","藤田　恭輔","４級","男性","S審判","大分県"]
["R010262648","藤田　健志","４級","男性","S審判","大分県"]
["R010352948","藤田　倖輝","４級","男性","S審判","大分県"]
["R010355729","藤田　翔輝","４級","男性","S審判","大分県"]
["R010313758","藤田　匠平","４級","男性","S審判","大分県"]
["R010167754","藤田　誠治","４級","男性","S審判","大分県"]
["R010358014","藤田　聖也","４級","男性","S審判","大分県"]
["R010432652","藤田　大幹","４級","男性","S審判","大分県"]
["R010356133","藤田　望亜","４級","男性","S審判","大分県"]
["R010391946","藤田　輝","４級","男性","S審判","大分県"]
["R002530888","藤田　光弘","４級","男性","S審判","大分県"]
["R006220837","藤高　豊彦","４級","男性","S審判","大分県"]
["R006123862","藤並　敬大","４級","男性","S審判","大分県"]
["R010445245","藤並　優月","４級","男性","S審判","大分県"]
["R010396574","藤野　聖也","４級","男性","S審判","大分県"]
["R010396505","藤野　哲哉","４級","男性","S審判","大分県"]
["R007090941","藤野　誠","４級","男性","S審判","大分県"]
["R010396545","藤松　秀那","４級","男性","S審判","大分県"]
["R003351233","藤松　竜也","４級","男性","S審判","大分県"]
["R010214617","藤本　宏平","４級","男性","S審判","大分県"]
["R010303865","藤本　諒哉","４級","男性","S審判","大分県"]
["R010261612","藤原　樂","４級","男性","S審判","大分県"]
["R010421581","藤原　翔大","４級","男性","S審判","大分県"]
["R010448931","藤原　迅","４級","男性","S審判","大分県"]
["R005467945","藤原　妙子","４級","女性","S審判","大分県"]
["R010262612","藤原　輝","４級","男性","S審判","大分県"]
["R010352967","藤原　遥斗","４級","男性","S審判","大分県"]
["R010159165","藤原　秀俊","４級","男性","S審判","大分県"]
["R007959547","藤原　宏","４級","男性","S審判","大分県"]
["R010255167","藤原　悠吾","４級","男性","S審判","大分県"]
["R010364707","二神　翔馬","４級","男性","S審判","大分県"]
["R010376304","渕上　力輝","４級","男性","S審判","大分県"]
["R010396555","渕野　椋斗","４級","男性","S審判","大分県"]
["R010169058","船杉　祐斗","４級","男性","S審判","大分県"]
["R010243661","古川　大翔","４級","男性","S審判","大分県"]
["R010376334","古代　峻也","４級","男性","S審判","大分県"]
["R010432642","古寺　明日架","４級","男性","S審判","大分県"]
["R010214608","古野　龍","４級","男性","S審判","大分県"]
["R010396566","古野　渉","４級","男性","S審判","大分県"]
["R001260405","古畑　親治","４級","男性","S審判","大分県"]
["R010259415","戸次　敦","４級","男性","S審判","大分県"]
["R002678009","保明　栄治","４級","男性","S審判","大分県"]
["R010214547","帆足　大","４級","男性","S審判","大分県"]
["R010314803","帆足　優莉","４級","男性","S審判","大分県"]
["R010347384","宝珠　史洋","４級","男性","S審判","大分県"]
["R010444504","法野　功太郎","４級","男性","S審判","大分県"]
["R010448927","外池　健流","４級","男性","S審判","大分県"]
["R010445842","外園　優心","４級","男性","S審判","大分県"]
["R010355732","外薗　澪","４級","男性","S審判","大分県"]
["R010376300","星　翔也","４級","男性","S審判","大分県"]
["R010056105","星野　杏","４級","男性","S審判","大分県"]
["R009484728","星野　嵐","４級","男性","S審判","大分県"]
["R010354805","堀　宏斗","４級","男性","S審判","大分県"]
["R010444520","堀　悠佑","４級","男性","S審判","大分県"]
["R010356144","堀　優太","４級","男性","S審判","大分県"]
["R010262629","堀江　晴輝","４級","男性","S審判","大分県"]
["R010193707","堀川　雅矢","４級","男性","S審判","大分県"]
["R010396512","堀切　鈴央","４級","男性","S審判","大分県"]
["R010448646","堀田　憲利","４級","男性","S審判","大分県"]
["R010376308","堀部　奏人","４級","男性","S審判","大分県"]
["R010448636","本郷　魁正","４級","男性","S審判","大分県"]
["R010354651","本城　瑛翔","４級","男性","S審判","大分県"]
["R010351374","本住　蓮","４級","男性","S審判","大分県"]
["R010396572","本田　敬恭","４級","男性","S審判","大分県"]
["R010352975","本田　裟久哉","４級","男性","S審判","大分県"]
["R001258899","本田　淳仁","４級","男性","S審判","大分県"]
["R010120173","本多　太郎","４級","男性","S審判","大分県"]
["R010364724","本田　輝","４級","男性","S審判","大分県"]
["R010396569","本田　郁恭","４級","男性","S審判","大分県"]
["R010355739","本田　陽司","４級","男性","S審判","大分県"]
["R010396502","本間　智己","４級","男性","S審判","大分県"]
["R010376912","本間　塁","４級","男性","S審判","大分県"]
["R010314830","前園　健晴","４級","男性","S審判","大分県"]
["R010159171","前田　耕輔","４級","男性","S審判","大分県"]
["R010167793","前田　峻希","４級","男性","S審判","大分県"]
["R006220192","前田　貴浩","４級","男性","S審判","大分県"]
["R010240574","前田　優希","４級","男性","S審判","大分県"]
["R010264736","前田　悠希","４級","男性","S審判","大分県"]
["R010243663","前橋　咲太","４級","男性","S審判","大分県"]
["R010432653","マガリェンス　アルナウド","４級","男性","S審判","大分県"]
["R010248031","牧　青空","４級","男性","S審判","大分県"]
["R010093496","牧　大佑","４級","男性","S審判","大分県"]
["R008793276","牧野　翔","４級","男性","S審判","大分県"]
["R010314832","桝田　憲人","４級","男性","S審判","大分県"]
["R010128067","桝田　弘人","４級","男性","S審判","大分県"]
["R010262614","増田　真聡","４級","男性","S審判","大分県"]
["R010449558","桝永　真斗","４級","男性","S審判","大分県"]
["R010214601","増野　凌雅","４級","男性","S審判","大分県"]
["R010303852","増村　潮","４級","男性","S審判","大分県"]
["R004386111","松井　孝仁","４級","男性","S審判","大分県"]
["R010432611","松尾　歩","４級","男性","S審判","大分県"]
["R010218308","松尾　一生","４級","男性","S審判","大分県"]
["R009546949","松尾　一平","４級","男性","S審判","大分県"]
["R007753660","松尾　和文","４級","男性","S審判","大分県"]
["R005528097","松尾　国洋","４級","男性","S審判","大分県"]
["R007334951","松尾　賢一","４級","男性","S審判","大分県"]
["R010415893","松尾　洸陽","４級","男性","S審判","大分県"]
["R010444487","松尾　征吾","４級","男性","S審判","大分県"]
["R010262634","松尾　琢磨","４級","男性","S審判","大分県"]
["R010448941","松尾　晴登","４級","男性","S審判","大分県"]
["R010007816","松尾　勇","４級","男性","S審判","大分県"]
["R010303854","松尾　勇斗","４級","男性","S審判","大分県"]
["R010391936","松尾　涼真","４級","男性","S審判","大分県"]
["R010390430","松尾　玲桜馬","４級","男性","S審判","大分県"]
["R010351363","松木　明翔","４級","男性","S審判","大分県"]
["R010415908","松坂　童夢","４級","男性","S審判","大分県"]
["R010396597","松﨑　裕太郎","４級","男性","S審判","大分県"]
["R010390425","松下　昂玄","４級","男性","S審判","大分県"]
["R010314812","松下　衣舞希","４級","男性","S審判","大分県"]
["R010390437","松下　昊稀","４級","男性","S審判","大分県"]
["R010390426","松下　真也","４級","男性","S審判","大分県"]
["R007959723","松下　立夫","４級","男性","S審判","大分県"]
["R010416221","松下　響","４級","男性","S審判","大分県"]
["R009546806","松下　稜河","４級","男性","S審判","大分県"]
["R010376348","松島　賢汰","４級","男性","S審判","大分県"]
["R010448936","松高　蓮","４級","男性","S審判","大分県"]
["R010391921","松田　健吾","４級","男性","S審判","大分県"]
["R010303897","松田　尚之","４級","男性","S審判","大分県"]
["R010311808","松田　信行","４級","男性","S審判","大分県"]
["R010100662","松田　幸雄","４級","男性","S審判","大分県"]
["R010214585","松胴　敦","４級","男性","S審判","大分県"]
["R010448234","松浪　大","４級","男性","S審判","大分県"]
["R010376327","松原　舜","４級","男性","S審判","大分県"]
["R010432598","松原　巧","４級","男性","S審判","大分県"]
["R007002991","松原　広幸","４級","男性","S審判","大分県"]
["R004714970","松原　政司","４級","男性","S審判","大分県"]
["R010347359","松原　唯衣","４級","女性","S審判","大分県"]
["R010376312","松原　雄梧","４級","男性","S審判","大分県"]
["R010007830","松村　征治","４級","男性","S審判","大分県"]
["R010354652","松村　晟直","４級","男性","S審判","大分県"]
["R010416213","松村　真那","４級","女性","S審判","大分県"]
["R010416214","松村　未来","４級","女性","S審判","大分県"]
["R010281857","松本　明広","４級","男性","S審判","大分県"]
["R010388060","松本　蒼空","４級","男性","S審判","大分県"]
["R009533486","松本　圭太","４級","男性","S審判","大分県"]
["R010027881","松本　元希","４級","男性","S審判","大分県"]
["R010356126","松本　竜弥","４級","男性","S審判","大分県"]
["R010386807","松本　ひなの","４級","女性","S審判","大分県"]
["R010248579","松本　洋一","４級","男性","S審判","大分県"]
["R010071978","松本　聖輝","４級","男性","S審判","大分県"]
["R010350224","松本　芽依","４級","女性","S審判","大分県"]
["R008634520","松元　勇","４級","女性","S審判","大分県"]
["R010093445","松本　侑樹","４級","男性","S審判","大分県"]
["R004793940","松本　祐輔","４級","男性","S審判","大分県"]
["R010388044","松屋　海","４級","男性","S審判","大分県"]
["R010007817","松吉　宏剛","４級","男性","S審判","大分県"]
["R010313757","馬見塚　守","４級","男性","S審判","大分県"]
["R010263771","丸石　蒼太","４級","男性","S審判","大分県"]
["R010358003","三浦　櫂斗","４級","男性","S審判","大分県"]
["R005603583","三浦　和美","４級","男性","S審判","大分県"]
["R008634283","三浦　憲太郎","４級","男性","S審判","大分県"]
["R010281804","三浦　建人","４級","男性","S審判","大分県"]
["R010376286","三浦　弘大","４級","男性","S審判","大分県"]
["R010120131","三浦　哲郎","４級","男性","S審判","大分県"]
["R010432617","三浦　永遠","４級","男性","S審判","大分県"]
["R010445836","三浦　隼","４級","男性","S審判","大分県"]
["R006932437","三浦　雄大","４級","男性","S審判","大分県"]
["R010351385","三重野　颯太","４級","男性","S審判","大分県"]
["R006125772","三重野　英人","４級","男性","S審判","大分県"]
["R010391950","三木　亨祐","４級","男性","S審判","大分県"]
["R008523181","三木　慎博","４級","男性","S審判","大分県"]
["R010390415","三木　誉歩斗","４級","男性","S審判","大分県"]
["R010240577","三木　雄斗","４級","男性","S審判","大分県"]
["R010391914","三代　賢司","４級","男性","S審判","大分県"]
["R005987582","三代　義彦","４級","男性","S審判","大分県"]
["R004060374","水島　義規","４級","男性","S審判","大分県"]
["R010083858","水島　澪生","４級","男性","S審判","大分県"]
["R010303885","水本　翔悠春","４級","男性","S審判","大分県"]
["R010214618","水本　大登","４級","男性","S審判","大分県"]
["R008797892","溝口　一陽","４級","男性","S審判","大分県"]
["R010162993","溝口　飛和","４級","男性","S審判","大分県"]
["R010255189","御手洗　響友","４級","男性","S審判","大分県"]
["R004794073","御手洗　佑太","４級","男性","S審判","大分県"]
["R010386812","道久　絵理","４級","女性","S審判","大分県"]
["R010376283","三井　雄大","４級","男性","S審判","大分県"]
["R010214591","三橋　諒","４級","男性","S審判","大分県"]
["R010264739","三ツ股　郁海","４級","男性","S審判","大分県"]
["R002917494","三笘　晋也","４級","男性","S審判","大分県"]
["R001261060","三苫　靖","４級","男性","S審判","大分県"]
["R010350225","南　佳織","４級","女性","S審判","大分県"]
["R010386495","南　桂アレン","４級","男性","S審判","大分県"]
["R010376920","南　豪哉","４級","男性","S審判","大分県"]
["R010248586","南　周哉","４級","男性","S審判","大分県"]
["R010352957","南　岳嗣","４級","男性","S審判","大分県"]
["R010355741","南　早人","４級","男性","S審判","大分県"]
["R006574011","南　裕","４級","男性","S審判","大分県"]
["R010214563","峰尾　勝","４級","男性","S審判","大分県"]
["R008480947","峯本　仁貴","４級","男性","S審判","大分県"]
["R010416223","御幡　優介","４級","男性","S審判","大分県"]
["R003677432","三原　将弥","４級","男性","S審判","大分県"]
["R010376288","三股　正直","４級","男性","S審判","大分県"]
["R010376890","宮井　翔太","４級","男性","S審判","大分県"]
["R010159137","宮内　廉斗","４級","男性","S審判","大分県"]
["R010376899","宮岡　泰河","４級","男性","S審判","大分県"]
["R004793852","宮崎　友雅","４級","男性","S審判","大分県"]
["R010364734","宮崎　正浩","４級","男性","S審判","大分県"]
["R010376918","宮崎　留希矢","４級","男性","S審判","大分県"]
["R010396588","宮里　直太郎","４級","男性","S審判","大分県"]
["R010027911","宮田　侑揮","４級","男性","S審判","大分県"]
["R010261593","宮成　啓介","４級","男性","S審判","大分県"]
["R010351384","宮野　拓也","４級","男性","S審判","大分県"]
["R007003060","宮原　雄一","４級","男性","S審判","大分県"]
["R010444497","宮原　良介","４級","男性","S審判","大分県"]
["R010261610","宮部　俊輝","４級","男性","S審判","大分県"]
["R010352966","宮本　健介","４級","男性","S審判","大分県"]
["R010262630","宮本　航志郎","４級","男性","S審判","大分県"]
["R010390429","宮本　晄汰","４級","男性","S審判","大分県"]
["R010356116","宮本　崇史","４級","男性","S審判","大分県"]
["R010354797","宮本　陽紀","４級","男性","S審判","大分県"]
["R010391945","宮本　悠希","４級","男性","S審判","大分県"]
["R010243668","宮本　幸亜","４級","男性","S審判","大分県"]
["R010415889","宮本　遼一","４級","男性","S審判","大分県"]
["R010347376","三善　李空","４級","男性","S審判","大分県"]
["R010314817","向井　翔夢","４級","男性","S審判","大分県"]
["R010376894","向　拓磨","４級","男性","S審判","大分県"]
["R010390455","牟田　風太","４級","男性","S審判","大分県"]
["R010240541","鞭馬　大輝","４級","男性","S審判","大分県"]
["R010247786","宗岡　胡桃","４級","女性","S審判","大分県"]
["R004793755","宗岡　亮次","４級","男性","S審判","大分県"]
["R010358006","村井　栄仁","４級","男性","S審判","大分県"]
["R010045825","村井　拓磨","４級","男性","S審判","大分県"]
["R010354655","村岡　拓海","４級","男性","S審判","大分県"]
["R010162980","村上　一颯","４級","男性","S審判","大分県"]
["R010214582","村上　叶恋","４級","女性","S審判","大分県"]
["R010314806","村上　煌誠","４級","男性","S審判","大分県"]
["R010313763","村上　瑳彩","４級","女性","S審判","大分県"]
["R010347370","村上　紫叶","４級","男性","S審判","大分県"]
["R010314805","村上　太惺","４級","男性","S審判","大分県"]
["R009484986","村上　直士","４級","男性","S審判","大分県"]
["R010376902","村上　直哉","４級","男性","S審判","大分県"]
["R010376898","村上　滉心","４級","男性","S審判","大分県"]
["R001261237","村上　康哉","４級","男性","S審判","大分県"]
["R010027901","村上　裕祐","４級","男性","S審判","大分県"]
["R010128051","村上　悠晟","４級","男性","S審判","大分県"]
["R001737174","村上　洋平","４級","男性","S審判","大分県"]
["R001252211","村瀬　勇","４級","男性","S審判","大分県"]
["R010303878","村松　凌","４級","男性","S審判","大分県"]
["R010162976","村本　輝","４級","男性","S審判","大分県"]
["R008797908","村谷　祐一","４級","男性","S審判","大分県"]
["R010214562","村山　武志","４級","男性","S審判","大分県"]
["R010314810","用松　聖登","４級","男性","S審判","大分県"]
["R010189285","元井　達貴","４級","男性","S審判","大分県"]
["R010159162","元井　陽太","４級","男性","S審判","大分県"]
["R010306448","元木　勇太","４級","男性","S審判","大分県"]
["R010351357","元永　和真","４級","男性","S審判","大分県"]
["R003421684","本野　秀貴","４級","男性","S審判","大分県"]
["R010303904","本山　蓮","４級","男性","S審判","大分県"]
["R010243647","森　愛斗","４級","男性","S審判","大分県"]
["R010376895","森　栄紳","４級","男性","S審判","大分県"]
["R010255181","森　海翔","４級","男性","S審判","大分県"]
["R010214605","森　恭子","４級","女性","S審判","大分県"]
["R010390423","森　健太朗","４級","男性","S審判","大分県"]
["R010354653","森　桜大朗","４級","男性","S審判","大分県"]
["R010120183","森　春樹","４級","男性","S審判","大分県"]
["R010390416","森　勇太","４級","男性","S審判","大分県"]
["R010214606","森　凛人","４級","男性","S審判","大分県"]
["R010027876","森　隆嗣","４級","男性","S審判","大分県"]
["R010281811","森崎　敬三","４級","男性","S審判","大分県"]
["R010396548","森崎　翔愛","４級","男性","S審判","大分県"]
["R010448918","森崎　瑠聖","４級","男性","S審判","大分県"]
["R010113566","森﨑　龍之介","４級","男性","S審判","大分県"]
["R010421575","森崎　瑠菜","４級","女性","S審判","大分県"]
["R010261595","森迫　遥希","４級","男性","S審判","大分県"]
["R010159147","森迫　聖","４級","男性","S審判","大分県"]
["R010415902","森下　柊飛","４級","男性","S審判","大分県"]
["R010069888","森下　晴悟","４級","男性","S審判","大分県"]
["R010128061","森下　悠","４級","男性","S審判","大分県"]
["R009547081","森田　章吾","４級","男性","S審判","大分県"]
["R010391928","森田　尚貴","４級","男性","S審判","大分県"]
["R010259432","森永　和彦","４級","男性","S審判","大分県"]
["R010415904","森光　皇介","４級","男性","S審判","大分県"]
["R006221191","森本　拓","４級","男性","S審判","大分県"]
["R007753679","森本　響","４級","男性","S審判","大分県"]
["R010416219","森山　敦能","４級","男性","S審判","大分県"]
["R010350233","森山　久美","４級","女性","S審判","大分県"]
["R010416222","森山　皓士郎","４級","男性","S審判","大分県"]
["R010448946","森山　大翔","４級","男性","S審判","大分県"]
["R010376911","矢川　魁人","４級","男性","S審判","大分県"]
["R010354803","薬師寺　和波","４級","男性","S審判","大分県"]
["R010352985","薬師寺　章伊","４級","男性","S審判","大分県"]
["R010262653","薬師寺　凌矢","４級","男性","S審判","大分県"]
["R009554735","八坂　直輝","４級","男性","S審判","大分県"]
["R009460472","八坂　秀青","４級","男性","S審判","大分県"]
["R010162983","屋敷　優成","４級","男性","S審判","大分県"]
["R010396581","矢治　弘志郎","４級","男性","S審判","大分県"]
["R007757602","保田　拓海","４級","男性","S審判","大分県"]
["R010214593","安田　晴翔","４級","男性","S審判","大分県"]
["R001261413","安永　正宏","４級","男性","S審判","大分県"]
["R010093501","安波　俊英","４級","男性","S審判","大分県"]
["R010214590","安波　大和","４級","男性","S審判","大分県"]
["R010376892","安久　克也","４級","男性","S審判","大分県"]
["R010100689","保本　忠広","４級","男性","S審判","大分県"]
["R010314816","矢田　彩都","４級","男性","S審判","大分県"]
["R010350227","矢田　景子","４級","女性","S審判","大分県"]
["R010016094","矢田　理宇心","４級","男性","S審判","大分県"]
["R010027880","柳井　颯太","４級","男性","S審判","大分県"]
["R010303889","柳　侑吾","４級","男性","S審判","大分県"]
["R010156516","矢野　翔太郎","４級","男性","S審判","大分県"]
["R010415909","矢野　想翔","４級","男性","S審判","大分県"]
["R009369544","矢野　太一","４級","男性","S審判","大分県"]
["R010281882","矢野　巽也","４級","男性","S審判","大分県"]
["R010255171","矢野　十央南","４級","男性","S審判","大分県"]
["R010445840","矢野　虎乃介","４級","男性","S審判","大分県"]
["R010078599","矢野　祐樹","４級","男性","S審判","大分県"]
["R010047302","矢野　佑粋","４級","男性","S審判","大分県"]
["R010281830","矢野　譲","４級","男性","S審判","大分県"]
["R010421582","矢野　龍聖","４級","男性","S審判","大分県"]
["R010388051","矢野　陵太","４級","男性","S審判","大分県"]
["R010347365","矢羽田　翔音","４級","男性","S審判","大分県"]
["R010391952","矢羽田　澪音","４級","男性","S審判","大分県"]
["R010352990","矢部　泰史","４級","男性","S審判","大分県"]
["R010159134","山岡　航大","４級","男性","S審判","大分県"]
["R004385820","山北　治雄","４級","男性","S審判","大分県"]
["R010354810","山岸　琥生","４級","男性","S審判","大分県"]
["R010214476","山岸　琉佳","４級","女性","S審判","大分県"]
["R010100675","山口　彰","４級","男性","S審判","大分県"]
["R010306445","山口　健一郎","４級","男性","S審判","大分県"]
["R009198265","山口　卓己","４級","男性","S審判","大分県"]
["R010247789","山口　環","４級","女性","S審判","大分県"]
["R001965722","山口　大介","４級","男性","S審判","大分県"]
["R010169051","山口　氷河","４級","男性","S審判","大分県"]
["R010303867","山崎　健治","４級","男性","S審判","大分県"]
["R010214603","山崎　隼樹","４級","男性","S審判","大分県"]
["R008174338","山﨑　爽暉","４級","男性","S審判","大分県"]
["R006220873","山崎　武志","４級","男性","S審判","大分県"]
["R010027826","山崎　友樹","４級","男性","S審判","大分県"]
["R010391954","山崎　成遂","４級","男性","S審判","大分県"]
["R010248590","山崎　大和","４級","男性","S審判","大分県"]
["R010386820","山﨑　夢華","４級","女性","S審判","大分県"]
["R010248576","山下　瞬亮","４級","男性","S審判","大分県"]
["R010388056","山下　空","４級","男性","S審判","大分県"]
["R007090792","山下　寛明","４級","男性","S審判","大分県"]
["R010376893","山下　靖之","４級","男性","S審判","大分県"]
["R010396554","山下　勇翔","４級","男性","S審判","大分県"]
["R010376896","山下　竜二","４級","男性","S審判","大分県"]
["R010358001","山添　陽生","４級","男性","S審判","大分県"]
["R010167742","山田　俊輔","４級","男性","S審判","大分県"]
["R010376367","山田　大雅","４級","男性","S審判","大分県"]
["R010214542","山田　宏和","４級","男性","S審判","大分県"]
["R010396589","山田　将来","４級","男性","S審判","大分県"]
["R010396544","山田　結和","４級","男性","S審判","大分県"]
["R010448238","山田　渉","４級","男性","S審判","大分県"]
["R010214599","山西　蒼","４級","男性","S審判","大分県"]
["R010303876","山西　翼","４級","男性","S審判","大分県"]
["R006872311","山西　昇","４級","男性","S審判","大分県"]
["R006220101","山根　雄治","４級","男性","S審判","大分県"]
["R010189328","山野　聡士","４級","男性","S審判","大分県"]
["R010189350","山野　雄士","４級","男性","S審判","大分県"]
["R010445831","山野　裕斗","４級","男性","S審判","大分県"]
["R010390428","山村　一聡","４級","男性","S審判","大分県"]
["R010445843","山本　海璃","４級","男性","S審判","大分県"]
["R006872612","山本　一夫","４級","男性","S審判","大分県"]
["R006125639","山本　一広","４級","男性","S審判","大分県"]
["R005603228","山本　康平","４級","男性","S審判","大分県"]
["R010303888","山本　祥二","４級","男性","S審判","大分県"]
["R008626886","山本　真乃介","４級","男性","S審判","大分県"]
["R010189317","山本　純平","４級","男性","S審判","大分県"]
["R010376891","山本　空","４級","男性","S審判","大分県"]
["R010313746","山本　崇史","４級","男性","S審判","大分県"]
["R009533608","山本　達之介","４級","男性","S審判","大分県"]
["R010400187","山本　隼斗","４級","男性","S審判","大分県"]
["R010169047","山本　政之介","４級","男性","S審判","大分県"]
["R010262631","山本　祐翔","４級","男性","S審判","大分県"]
["R010007812","山本　吉純","４級","男性","S審判","大分県"]
["R010214619","山矢　修冬","４級","男性","S審判","大分県"]
["R010386806","矢幡　芽生","４級","女性","S審判","大分県"]
["R005164312","矢幡　裕一","４級","男性","S審判","大分県"]
["R010169045","湯浅　翼","４級","男性","S審判","大分県"]
["R010347364","湯浅　悠希","４級","男性","S審判","大分県"]
["R006872339","湯浅　陽介","４級","男性","S審判","大分県"]
["R010448921","湯浅　諒","４級","男性","S審判","大分県"]
["R010214589","幸　偉風","４級","男性","S審判","大分県"]
["R010396590","幸　凱斗","４級","男性","S審判","大分県"]
["R010156526","幸　優成","４級","男性","S審判","大分県"]
["R010214620","雪野　知花","４級","女性","S審判","大分県"]
["R010352958","油野　陣大","４級","男性","S審判","大分県"]
["R010261479","柚木　貴博","４級","男性","S審判","大分県"]
["R010047306","弓場　将輝","４級","男性","S審判","大分県"]
["R010448641","用正　蓮歩","４級","男性","S審判","大分県"]
["R010298872","横井　俊斗","４級","男性","S審判","大分県"]
["R010354800","横岩　颯","４級","男性","S審判","大分県"]
["R010214553","横尾　茂","４級","男性","S審判","大分県"]
["R010354817","横尾　夏希","４級","男性","S審判","大分県"]
["R010376889","横尾　侑磨","４級","男性","S審判","大分県"]
["R010364711","横大路　寛太","４級","男性","S審判","大分県"]
["R010262633","横田　翔也","４級","男性","S審判","大分県"]
["R010396519","横野　陸斗","４級","男性","S審判","大分県"]
["R010391956","横道　俊輔","４級","男性","S審判","大分県"]
["R010261614","横山　翔祗","４級","男性","S審判","大分県"]
["R010356114","横山　淳","４級","男性","S審判","大分県"]
["R010356123","横山　湊","４級","男性","S審判","大分県"]
["R010448250","吉岡　七海","４級","女性","S審判","大分県"]
["R010388047","吉岡　頼星","４級","男性","S審判","大分県"]
["R001261811","吉川　和仁","４級","男性","S審判","大分県"]
["R010281855","吉川　哲平","４級","男性","S審判","大分県"]
["R010352978","吉川　徳彦","４級","男性","S審判","大分県"]
["R010352988","吉川　大貴","４級","男性","S審判","大分県"]
["R009430268","吉川　美里","４級","女性","S審判","大分県"]
["R010214588","吉川　獅子心","４級","男性","S審判","大分県"]
["R010354791","由川　凛大郞","４級","男性","S審判","大分県"]
["R010214580","吉賀　信幸","４級","男性","S審判","大分県"]
["R010352949","吉武　海都","４級","男性","S審判","大分県"]
["R003421480","吉武　毅","４級","男性","S審判","大分県"]
["R010390427","吉田　蒼威","４級","男性","S審判","大分県"]
["R010056093","吉田　圭佑","４級","男性","S審判","大分県"]
["R010255187","吉田　大晃","４級","男性","S審判","大分県"]
["R010356132","吉田　智樹","４級","男性","S審判","大分県"]
["R008798509","吉田　正男","４級","男性","S審判","大分県"]
["R010448929","吉田　匡","４級","男性","S審判","大分県"]
["R010444488","吉田　廉","４級","男性","S審判","大分県"]
["R010448644","吉永　優希","４級","男性","S審判","大分県"]
["R005603875","吉野　公司","４級","男性","S審判","大分県"]
["R010347374","吉野　浩輔","４級","男性","S審判","大分県"]
["R010448917","吉野　大峨","４級","男性","S審判","大分県"]
["R010071979","吉野　遥紀","４級","男性","S審判","大分県"]
["R010313768","吉野　遥菜","４級","女性","S審判","大分県"]
["R008798466","吉原　喬樹","４級","男性","S審判","大分県"]
["R010448638","吉廣　愛琉","４級","男性","S審判","大分県"]
["R010396508","吉弘　周平","４級","男性","S審判","大分県"]
["R010396595","吉廣　心太郎","４級","男性","S審判","大分県"]
["R010120134","吉廣　年男","４級","男性","S審判","大分県"]
["R010415907","吉弘　怜大","４級","男性","S審判","大分県"]
["R001261918","吉松　健","４級","男性","S審判","大分県"]
["R006147057","吉村　一生","４級","男性","S審判","大分県"]
["R007728716","吉村　純二","４級","男性","S審判","大分県"]
["R010314819","吉村　翼","４級","男性","S審判","大分県"]
["R010356131","吉村　剣","４級","男性","S審判","大分県"]
["R010189303","吉村　一","４級","男性","S審判","大分県"]
["R010432635","吉村　由人","４級","男性","S審判","大分県"]
["R001261936","佳元　省三","４級","男性","S審判","大分県"]
["R010352954","吉本　隼磨","４級","男性","S審判","大分県"]
["R010167789","吉元　優哉","４級","男性","S審判","大分県"]
["R010248568","四井　吏響","４級","男性","S審判","大分県"]
["R010314821","四井　琉偉","４級","男性","S審判","大分県"]
["R009533644","米倉　孝一","４級","男性","S審判","大分県"]
["R010396542","米澤　邦彦","４級","男性","S審判","大分県"]
["R001261972","米田　尚司","４級","男性","S審判","大分県"]
["R010313759","米田　拓","４級","男性","S審判","大分県"]
["R010376908","餘野　尋斗","４級","男性","S審判","大分県"]
["R010162992","若林　歩夢","４級","男性","S審判","大分県"]
["R010281870","若林　大暉","４級","男性","S審判","大分県"]
["R010156510","若松　莉駒","４級","男性","S審判","大分県"]
["R010391934","若松　遼真","４級","男性","S審判","大分県"]
["R010415901","和合　奏汰","４級","男性","S審判","大分県"]
["R010298862","渡邊　葵","４級","男性","S審判","大分県"]
["R008797971","渡辺　晃子","４級","女性","S審判","大分県"]
["R010314828","渡邉　偉央","４級","男性","S審判","大分県"]
["R010262616","渡邊　一星","４級","男性","S審判","大分県"]
["R010444510","渡邊　瑛太","４級","男性","S審判","大分県"]
["R009554896","渡辺　海斗","４級","男性","S審判","大分県"]
["R010313778","渡邉　我聞","４級","男性","S審判","大分県"]
["R010243636","渡辺　嵩也","４級","男性","S審判","大分県"]
["R010259425","渡邊　舜","４級","男性","S審判","大分県"]
["R010376897","渡邊　丈一朗","４級","男性","S審判","大分県"]
["R010376909","渡辺　勝利","４級","男性","S審判","大分県"]
["R004385945","渡辺　清一","４級","男性","S審判","大分県"]
["R010262617","渡辺　創己","４級","男性","S審判","大分県"]
["R010159130","渡邉　泰人","４級","男性","S審判","大分県"]
["R010113537","渡邉　鷹也","４級","男性","S審判","大分県"]
["R010255163","渡辺　剛大","４級","男性","S審判","大分県"]
["R010007796","渡辺　達也","４級","男性","S審判","大分県"]
["R010083873","渡辺　大翔","４級","男性","S審判","大分県"]
["R010444491","渡邉　直耶","４級","男性","S審判","大分県"]
["R008797698","渡辺　秀喜","４級","男性","S審判","大分県"]
["R010390424","渡邉　寛人","４級","男性","S審判","大分県"]
["R001262096","渡辺　寛幸","４級","男性","S審判","大分県"]
["R010189289","渡邉　優憲","４級","男性","S審判","大分県"]
["R009659544","渡邉　友輔","４級","男性","S審判","大分県"]
["R010306435","和田　優作","４級","男性","S審判","大分県"]
["R010243637","和間　翔","４級","男性","S審判","大分県"]

{"sheet":"選手名簿","index":18,"n_rows":345,"n_cols":10,"rows_kept":345,"cut":false,"hidden":true,"merged":[]}
[{"$f":"CONCATENATE(B1,\"_\",C1)","v":"大会参加チーム名_背番号"},"大会参加チーム名","背番号","ポジション","選手名漢字","選手名カナ","学年","男女区分","キャプテン","前登録チーム"]
["ＦＣアリアーレ_1","ＦＣアリアーレ",{"$f":"(\"1\")","v":"1"},"GK","梶原　凌","カジワラ　リョウ",5,"男子"]
["ＦＣアリアーレ_2","ＦＣアリアーレ",{"$f":"(\"2\")","v":"2"},"MF","佐藤　匠","サトウ　タクミ",4,"男子"]
["ＦＣアリアーレ_3","ＦＣアリアーレ",{"$f":"(\"3\")","v":"3"},"MF","河津　瞬","カワヅ　シュン",3,"男子"]
["ＦＣアリアーレ_4","ＦＣアリアーレ",{"$f":"(\"4\")","v":"4"},"MF","高瀬　晴葉","タカセ　テルハ",4,"男子"]
["ＦＣアリアーレ_5","ＦＣアリアーレ",{"$f":"(\"5\")","v":"5"},"DF","長野　望羽","ナガノ　ミハネ",5,"女子小学生"]
["ＦＣアリアーレ_6","ＦＣアリアーレ",{"$f":"(\"6\")","v":"6"},"MF","朝井　妃彩","アサイ　ヒイロ",5,"女子小学生",null,"石井ジュニアサッカークラブ"]
["ＦＣアリアーレ_7","ＦＣアリアーレ",{"$f":"(\"7\")","v":"7"},"DF","來島　禄依","キジマ　ロイ",5,"男子",null,"レストライザック北浦ＦＣバンブー"]
["ＦＣアリアーレ_8","ＦＣアリアーレ",{"$f":"(\"8\")","v":"8"},"MF","松岡　徠夢","マツオカ　ライム",5,"男子",null,"ＦＣプレステッサ吉井"]
["ＦＣアリアーレ_9","ＦＣアリアーレ",{"$f":"(\"9\")","v":"9"},"MF","池田　月明都","イケダ　ルアト",4,"男子"]
["ＦＣアリアーレ_10","ＦＣアリアーレ",{"$f":"(\"10\")","v":"10"},"DF","千原　天聖","チハラ　テンセイ",5,"男子",null,"石井ジュニアサッカークラブ"]
["ＦＣアリアーレ_11","ＦＣアリアーレ",{"$f":"(\"11\")","v":"11"},"FW","右近　陽翔","ウコン　ハルト",4,"男子"]
["ＦＣアリアーレ_12","ＦＣアリアーレ",{"$f":"(\"12\")","v":"12"},"MF","元木　湊飛","モトキ　ミナト",4,"男子"]
["ＦＣアリアーレ_13","ＦＣアリアーレ",{"$f":"(\"13\")","v":"13"},"FW","松岡　蓮音","マツオカ　レント",2,"男子"]
["ＦＣアリアーレ_14","ＦＣアリアーレ",{"$f":"(\"14\")","v":"14"},"MF","日隈　琳鳳","ヒグマ　リオ",5,"男子",null,"石井ジュニアサッカークラブ"]
["ＦＣアリアーレ_15","ＦＣアリアーレ",{"$f":"(\"15\")","v":"15"},"MF","坂本　愛呼","サカモト　アコ",5,"女子小学生"]
["ＦＣアリアーレ_16","ＦＣアリアーレ",{"$f":"(\"16\")","v":"16"},"DF","城野　大翔","ジョウノ　ヒロト",5,"男子","○","ＭＦＣ三花少年サッカー教室"]
["四日市南ＳＳＣ_1","四日市南ＳＳＣ",{"$f":"(\"1\")","v":"1"},"GK","小宮　悠雅","コミヤ　ユウガ",5,"男子"]
["四日市南ＳＳＣ_2","四日市南ＳＳＣ",{"$f":"(\"2\")","v":"2"},"MF","石田　修太","イシダ　シュウタ",5,"男子","○"]
["四日市南ＳＳＣ_3","四日市南ＳＳＣ",{"$f":"(\"3\")","v":"3"},"MF","幸野　英史朗","コウノ　エイシロウ",4,"男子"]
["四日市南ＳＳＣ_4","四日市南ＳＳＣ",{"$f":"(\"4\")","v":"4"},"MF","植松　周","ウエマツ　シュウ",5,"男子"]
["四日市南ＳＳＣ_5","四日市南ＳＳＣ",{"$f":"(\"5\")","v":"5"},"MF","深見　心春","フカミ　キヨハル",5,"男子"]
["四日市南ＳＳＣ_6","四日市南ＳＳＣ",{"$f":"(\"6\")","v":"6"},"DF","原田　透斗","ハラダ　ユキト",5,"男子"]
["四日市南ＳＳＣ_7","四日市南ＳＳＣ",{"$f":"(\"7\")","v":"7"},"MF","権藤　昊","ゴンドウ　ソラ",5,"男子"]
["四日市南ＳＳＣ_8","四日市南ＳＳＣ",{"$f":"(\"8\")","v":"8"},"MF","後藤　大輝","ゴトウ　ダイキ",5,"男子"]
["四日市南ＳＳＣ_9","四日市南ＳＳＣ",{"$f":"(\"9\")","v":"9"},"DF","井手　温稀","イデ　ミツキ",5,"男子"]
["四日市南ＳＳＣ_12","四日市南ＳＳＣ",{"$f":"(\"12\")","v":"12"},"MF","佐藤　遥馬","サトウ　ハルマ",5,"男子"]
["四日市南ＳＳＣ_13","四日市南ＳＳＣ",{"$f":"(\"13\")","v":"13"},"DF","津田　藍斗","ツダ　アイト",4,"男子"]
["四日市南ＳＳＣ_14","四日市南ＳＳＣ",{"$f":"(\"14\")","v":"14"},"DF","羽根　佑星","ハネ　ユウセイ",5,"男子"]
["四日市南ＳＳＣ_15","四日市南ＳＳＣ",{"$f":"(\"15\")","v":"15"},"DF","長岡　玲司","ナガオカ　レイジ",4,"男子"]
["四日市南ＳＳＣ_16","四日市南ＳＳＣ",{"$f":"(\"16\")","v":"16"},"GK","千々松　夏生","チヂマツ　ナツ",4,"男子"]
["はやぶさフットボールクラブ_2","はやぶさフットボールクラブ",{"$f":"(\"2\")","v":"2"},"DF","黒川　諒太","クロカワ　リョウタ",5,"男子"]
["はやぶさフットボールクラブ_3","はやぶさフットボールクラブ",{"$f":"(\"3\")","v":"3"},"FW","今西　杏凛","イマニシ　アンリ",5,"女子小学生"]
["はやぶさフットボールクラブ_4","はやぶさフットボールクラブ",{"$f":"(\"4\")","v":"4"},"MF","廣池　樂","ヒロイケ　ラク",5,"男子"]
["はやぶさフットボールクラブ_5","はやぶさフットボールクラブ",{"$f":"(\"5\")","v":"5"},"FW","橋口　優斗","ハシグチ　ユウト",5,"男子"]
["はやぶさフットボールクラブ_9","はやぶさフットボールクラブ",{"$f":"(\"9\")","v":"9"},"MF","岡本　渉","オカモト　ワタル",5,"男子","○"]
["はやぶさフットボールクラブ_12","はやぶさフットボールクラブ",{"$f":"(\"12\")","v":"12"},"GK","後藤　幸成","ゴトウ　コウセイ",5,"男子"]
["はやぶさフットボールクラブ_13","はやぶさフットボールクラブ",{"$f":"(\"13\")","v":"13"},"DF","友松　大己","トモマツ　ヒロキ",4,"男子"]
["はやぶさフットボールクラブ_14","はやぶさフットボールクラブ",{"$f":"(\"14\")","v":"14"},"DF","山本　瀧生","ヤマモト　ロイ",4,"男子"]
["はやぶさフットボールクラブ_15","はやぶさフットボールクラブ",{"$f":"(\"15\")","v":"15"},"MF","柴田　晴喜","シバタ　ハルキ",4,"男子"]
["はやぶさフットボールクラブ_16","はやぶさフットボールクラブ",{"$f":"(\"16\")","v":"16"},"FW","西耒　琥界","サイライ　コウガ",4,"男子"]
["はやぶさフットボールクラブ_17","はやぶさフットボールクラブ",{"$f":"(\"17\")","v":"17"},"MF","長野　瑛心","ナガノ　エイシン",4,"男子"]
["はやぶさフットボールクラブ_18","はやぶさフットボールクラブ",{"$f":"(\"18\")","v":"18"},"MF","吉﨑　莉央","ヨシザキ　リオ",4,"男子"]
["はやぶさフットボールクラブ_19","はやぶさフットボールクラブ",{"$f":"(\"19\")","v":"19"},"MF","今西　桜音","イマニシ　オト",4,"女子小学生"]
["はやぶさフットボールクラブ_21","はやぶさフットボールクラブ",{"$f":"(\"21\")","v":"21"},"GK","原口　暉琉","ハラグチ　ヒカル",4,"男子"]
["はやぶさフットボールクラブ_22","はやぶさフットボールクラブ",{"$f":"(\"22\")","v":"22"},"FW","西本　祐晟","ニシモト　ユウセイ",4,"男子"]
["はやぶさフットボールクラブ_25","はやぶさフットボールクラブ",{"$f":"(\"25\")","v":"25"},"MF","末廣　義也","スエヒロ　ヨシヤ",4,"男子"]
["ＦＣ大野_1","ＦＣ大野",{"$f":"(\"1\")","v":"1"},"GK","矢野　廉士","ヤノ　レンシ",5,"男子"]
["ＦＣ大野_3","ＦＣ大野",{"$f":"(\"3\")","v":"3"},"MF","國師　夢芽","コクシ　ユメ",4,"女子小学生"]
["ＦＣ大野_4","ＦＣ大野",{"$f":"(\"4\")","v":"4"},"FW","首藤　涼太","シュトウ　リョウタ",4,"男子"]
["ＦＣ大野_6","ＦＣ大野",{"$f":"(\"6\")","v":"6"},"MF","日坂　祐翔","ヒサカ　ヒロト",4,"男子"]
["ＦＣ大野_8","ＦＣ大野",{"$f":"(\"8\")","v":"8"},"MF","臼杵　奏珀","ウスキ　ソウハク",3,"男子"]
["ＦＣ大野_9","ＦＣ大野",{"$f":"(\"9\")","v":"9"},"FW","佐藤　圭悠","サトウ　ヨシハル",5,"男子"]
["ＦＣ大野_10","ＦＣ大野",{"$f":"(\"10\")","v":"10"},"MF","遠矢　朔斗","トオヤ　サクト",1,"男子"]
["ＦＣ大野_11","ＦＣ大野",{"$f":"(\"11\")","v":"11"},"MF","麻生　庵","アソウ　イオリ",5,"男子","○"]
["ＦＣ大野_12","ＦＣ大野",{"$f":"(\"12\")","v":"12"},"MF","遠矢　楓斗","トオヤ　フウト",2,"男子"]
["ＦＣ大野_13","ＦＣ大野",{"$f":"(\"13\")","v":"13"},"MF","小野　涼成","オノ　リョウセイ",4,"男子"]
["ＦＣ大野_16","ＦＣ大野",{"$f":"(\"16\")","v":"16"},"GK","高橋　颯志","タカハシ　ソウシ",2,"男子"]
["ＦＣ大野_18","ＦＣ大野",{"$f":"(\"18\")","v":"18"},"DF","南部　寧々杷","ナンブ　ネネハ",4,"女子小学生"]
["ＦＣ大野_19","ＦＣ大野",{"$f":"(\"19\")","v":"19"},"DF","後藤　莉温","ゴトウ　リオン",4,"男子"]
["ＦＣ大野_20","ＦＣ大野",{"$f":"(\"20\")","v":"20"},"DF","大森　仁貴","オオモリ　ヒトキ",4,"男子"]
["千怒サッカースポーツ少年団_1","千怒サッカースポーツ少年団",{"$f":"(\"1\")","v":"1"},"GK","石井　湊人","イシイ　ミナト",4,"男子",null,"津久見サッカースポーツ少年団"]
["千怒サッカースポーツ少年団_2","千怒サッカースポーツ少年団",{"$f":"(\"2\")","v":"2"},"MF","岩﨑　冬輝","イワサキ　トウキ",3,"男子",null,"津久見サッカースポーツ少年団"]
["千怒サッカースポーツ少年団_3","千怒サッカースポーツ少年団",{"$f":"(\"3\")","v":"3"},"FW","上田　彗斗","ウエダ　ケイト",3,"男子"]
[{"$f":"CONCATENATE(B65,\"_\",C65)","v":"千怒サッカースポーツ少年団_4"},"千怒サッカースポーツ少年団",{"$f":"(\"4\")","v":"4"},"MF","小手川　耀","コテガワ　ヨウ",3,"男子"]
["千怒サッカースポーツ少年団_5","千怒サッカースポーツ少年団",{"$f":"(\"5\")","v":"5"},"DF","岩﨑　蓮","イワサキ　レン",4,"男子",null,"津久見サッカースポーツ少年団"]
["千怒サッカースポーツ少年団_7","千怒サッカースポーツ少年団",{"$f":"(\"7\")","v":"7"},"MF","有永　夏基","アリナガ　ナツキ",4,"男子"]
["千怒サッカースポーツ少年団_8","千怒サッカースポーツ少年団",{"$f":"(\"8\")","v":"8"},"MF","石谷　悠次郎","イシタニ　ユウジロウ",4,"男子","○"]
["千怒サッカースポーツ少年団_12","千怒サッカースポーツ少年団",{"$f":"(\"12\")","v":"12"},"MF","坂本　凪","サカモト　ナギ",3,"男子"]
["千怒サッカースポーツ少年団_13","千怒サッカースポーツ少年団",{"$f":"(\"13\")","v":"13"},"FW","堀口　滉太","ホリグチ　コウタ",4,"男子"]
["千怒サッカースポーツ少年団_14","千怒サッカースポーツ少年団",{"$f":"(\"14\")","v":"14"},"GK","仲　凌生","ナカ　リョウセイ",3,"男子"]
["千怒サッカースポーツ少年団_17","千怒サッカースポーツ少年団",{"$f":"(\"17\")","v":"17"},"FW","西村　鴻志","ニシムラ　コウシ",3,"男子"]
["千怒サッカースポーツ少年団_18","千怒サッカースポーツ少年団",{"$f":"(\"18\")","v":"18"},"FW","深津　空斗","フカヅ　ソラト",2,"男子"]
["弥生少年サッカークラブ_1","弥生少年サッカークラブ",{"$f":"(\"1\")","v":"1"},"GK","宮本　怜旺","ミヤモト　レオ",5,"男子",null,"津久見サッカースポーツ少年団"]
["弥生少年サッカークラブ_2","弥生少年サッカークラブ",{"$f":"(\"2\")","v":"2"},"DF","目黒　礼助","メグロ　レイスケ",4,"男子"]
["弥生少年サッカークラブ_3","弥生少年サッカークラブ",{"$f":"(\"3\")","v":"3"},"MF","小野　美咲","オノ　ミサキ",4,"女子小学生"]
["弥生少年サッカークラブ_4","弥生少年サッカークラブ",{"$f":"(\"4\")","v":"4"},"DF","宮脇　彪瑠","ミヤワキ　タケル",4,"男子"]
["弥生少年サッカークラブ_5","弥生少年サッカークラブ",{"$f":"(\"5\")","v":"5"},"DF","森下　春翔","モリシタ　ハルト",5,"男子"]
["弥生少年サッカークラブ_6","弥生少年サッカークラブ",{"$f":"(\"6\")","v":"6"},"MF","高木　奏","タカギ　カナデ",4,"男子"]
["弥生少年サッカークラブ_7","弥生少年サッカークラブ",{"$f":"(\"7\")","v":"7"},"FW","新納　奏太","シンノウ　カナタ",5,"男子"]
["弥生少年サッカークラブ_8","弥生少年サッカークラブ",{"$f":"(\"8\")","v":"8"},"DF","伊東　将星","イトウ　ショウセイ",5,"男子"]
["弥生少年サッカークラブ_9","弥生少年サッカークラブ",{"$f":"(\"9\")","v":"9"},"FW","染矢　優心","ソメヤ　ユウシン",5,"男子"]
["弥生少年サッカークラブ_10","弥生少年サッカークラブ",{"$f":"(\"10\")","v":"10"},"DF","河野　泰良","コウノ　タイラ",5,"男子","○"]
["弥生少年サッカークラブ_11","弥生少年サッカークラブ",{"$f":"(\"11\")","v":"11"},"MF","竹嶋　優","タケシマ　ユウ",5,"男子"]
["弥生少年サッカークラブ_12","弥生少年サッカークラブ",{"$f":"(\"12\")","v":"12"},"MF","淡路　旺太朗","アワジ　オオタロウ",3,"男子"]
["弥生少年サッカークラブ_13","弥生少年サッカークラブ",{"$f":"(\"13\")","v":"13"},"MF","神崎　陸斗","カンザキ　リクト",3,"男子"]
["弥生少年サッカークラブ_14","弥生少年サッカークラブ",{"$f":"(\"14\")","v":"14"},"FW","宮脇　陸人","ミヤワキ　リクト",2,"男子"]
["弥生少年サッカークラブ_15","弥生少年サッカークラブ",{"$f":"(\"15\")","v":"15"},"MF","安達　嘉人","アダチ　ヨシト",2,"男子"]
["弥生少年サッカークラブ_16","弥生少年サッカークラブ",{"$f":"(\"16\")","v":"16"},"MF","岡本　颯真","オカモト　ソウマ",5,"男子"]
["別府フットボールクラブ．ミネルバＵ－１２_1","別府フットボールクラブ．ミネルバＵ－１２",{"$f":"(\"1\")","v":"1"},"GK","幸重　頼人","ユキシゲ　ライト",5,"男子"]
["別府フットボールクラブ．ミネルバＵ－１２_6","別府フットボールクラブ．ミネルバＵ－１２",{"$f":"(\"6\")","v":"6"},"MF","寺坂　玲人","テラサカ　レオト",5,"男子"]
["別府フットボールクラブ．ミネルバＵ－１２_7","別府フットボールクラブ．ミネルバＵ－１２",{"$f":"(\"7\")","v":"7"},"MF","福屋　裕士","フクヤ　ヒロシ",5,"男子"]
["別府フットボールクラブ．ミネルバＵ－１２_9","別府フットボールクラブ．ミネルバＵ－１２",{"$f":"(\"9\")","v":"9"},"FW","矢野　瑛介","ヤノ　エイスケ",5,"男子"]
["別府フットボールクラブ．ミネルバＵ－１２_10","別府フットボールクラブ．ミネルバＵ－１２",{"$f":"(\"10\")","v":"10"},"MF","有永　咲","アリナガ　サキ",5,"男子","○"]
["別府フットボールクラブ．ミネルバＵ－１２_11","別府フットボールクラブ．ミネルバＵ－１２",{"$f":"(\"11\")","v":"11"},"FW","武田　司","タケダ　ツカサ",5,"男子"]
["別府フットボールクラブ．ミネルバＵ－１２_14","別府フットボールクラブ．ミネルバＵ－１２",{"$f":"(\"14\")","v":"14"},"FW","仲道　志織","ナカミチ　シオリ",5,"女子小学生"]
["大分トリニータＵ－１２_1","大分トリニータＵ－１２",{"$f":"(\"1\")","v":"1"},"GK","木津　心汰","キヅ　シンタ",5,"男子"]
["大分トリニータＵ－１２_2","大分トリニータＵ－１２",{"$f":"(\"2\")","v":"2"},"DF","金井　佑磨","カナイ　ユウマ",5,"男子","○"]
["大分トリニータＵ－１２_3","大分トリニータＵ－１２",{"$f":"(\"3\")","v":"3"},"MF","金子　斉恩","カネコ　ザイオン",5,"男子"]
["大分トリニータＵ－１２_4","大分トリニータＵ－１２",{"$f":"(\"4\")","v":"4"},"MF","椎原　蓮央","シイハラ　レオ",5,"男子"]
["大分トリニータＵ－１２_5","大分トリニータＵ－１２",{"$f":"(\"5\")","v":"5"},"DF","麻生　瑛太","アソウ　エイタ",5,"男子",null,"大分トリニータタートルズ"]
["大分トリニータＵ－１２_6","大分トリニータＵ－１２",{"$f":"(\"6\")","v":"6"},"FW","波多野　瑛太","ハタノ　エイタ",4,"男子",null,"アトレチコエラン横瀬"]
["大分トリニータＵ－１２_7","大分トリニータＵ－１２",{"$f":"(\"7\")","v":"7"},"MF","板井　航一","イタイ　コウイチ",5,"男子",null,"西の台ＪＦＣ"]
["大分トリニータＵ－１２_8","大分トリニータＵ－１２",{"$f":"(\"8\")","v":"8"},"MF","佐藤　成","サトウ　ナル",5,"男子",null,"リノスフットサルクラブ　Ｕ－１２"]
["大分トリニータＵ－１２_9","大分トリニータＵ－１２",{"$f":"(\"9\")","v":"9"},"MF","奈須　翔大","ナス　ショウタ",5,"男子",null,"寒田少年サッカークラブ"]
["大分トリニータＵ－１２_10","大分トリニータＵ－１２",{"$f":"(\"10\")","v":"10"},"MF","中道　大聖","ナカミチ　タイセイ",5,"男子",null,"リノスフットサルクラブ　Ｕ－１２"]
["大分トリニータＵ－１２_11","大分トリニータＵ－１２",{"$f":"(\"11\")","v":"11"},"MF","高野　真音","タカノ　マコト",5,"男子",null,"太陽スポーツクラブ大分西"]
["大分トリニータＵ－１２_12","大分トリニータＵ－１２",{"$f":"(\"12\")","v":"12"},"FW","河野　真剣","カワノ　シンケン",5,"男子",null,"ドリームキッズフットボールクラブ"]
["大分トリニータＵ－１２_13","大分トリニータＵ－１２",{"$f":"(\"13\")","v":"13"},"MF","増永　大生獅","マスナガ　タイシ",4,"男子",null,"スマイス　セレソン　スポーツクラブ"]
["大分トリニータＵ－１２_14","大分トリニータＵ－１２",{"$f":"(\"14\")","v":"14"},"MF","増田　壮我","マスダ　ソウガ",4,"男子"]
["大分トリニータＵ－１２_15","大分トリニータＵ－１２",{"$f":"(\"15\")","v":"15"},"MF","財津　翔大","ザイツ　ショウダイ",5,"男子",null,"ヴィンクラッソ大分ＦＣジュニア"]
["大分トリニータＵ－１２_16","大分トリニータＵ－１２",{"$f":"(\"16\")","v":"16"},"FW","佐藤　煌将","サトウ　トキマサ",4,"男子"]
["寒田少年サッカークラブ_1","寒田少年サッカークラブ",{"$f":"(\"1\")","v":"1"},"GK","伊東　光太","イトウ　コウタ",4,"男子"]
["寒田少年サッカークラブ_2","寒田少年サッカークラブ",{"$f":"(\"2\")","v":"2"},"MF","上田　竜也","ウエダ　リュウヤ",4,"男子"]
["寒田少年サッカークラブ_3","寒田少年サッカークラブ",{"$f":"(\"3\")","v":"3"},"DF","佐藤　来紀","サトウ　ライキ",4,"男子"]
["寒田少年サッカークラブ_4","寒田少年サッカークラブ",{"$f":"(\"4\")","v":"4"},"MF","広瀬　央一","ヒロセ　ヨウイチ",5,"男子"]
["寒田少年サッカークラブ_5","寒田少年サッカークラブ",{"$f":"(\"5\")","v":"5"},"DF","宮脇　大芽","ミヤワキ　タイガ",5,"男子"]
["寒田少年サッカークラブ_6","寒田少年サッカークラブ",{"$f":"(\"6\")","v":"6"},"MF","中島　琥珀","ナカシマ　コハク",5,"男子","○"]
["寒田少年サッカークラブ_7","寒田少年サッカークラブ",{"$f":"(\"7\")","v":"7"},"MF","笠木　涼世","カサギ　リョウセイ",4,"男子"]
["寒田少年サッカークラブ_8","寒田少年サッカークラブ",{"$f":"(\"8\")","v":"8"},"DF","豊田　湊","トヨダ　ミナト",4,"男子"]
["寒田少年サッカークラブ_9","寒田少年サッカークラブ",{"$f":"(\"9\")","v":"9"},"DF","奈須　要","ナス　カナメ",4,"男子"]
["寒田少年サッカークラブ_10","寒田少年サッカークラブ",{"$f":"(\"10\")","v":"10"},"MF","本田　敬恭","ホンダ　ケイスケ",5,"男子"]
["寒田少年サッカークラブ_11","寒田少年サッカークラブ",{"$f":"(\"11\")","v":"11"},"FW","岡本　和也","オカモト　カズヤ",5,"男子"]
["寒田少年サッカークラブ_13","寒田少年サッカークラブ",{"$f":"(\"13\")","v":"13"},"MF","堀　柚希","ホリ　ユズキ",4,"男子"]
["寒田少年サッカークラブ_14","寒田少年サッカークラブ",{"$f":"(\"14\")","v":"14"},"FW","野仲　悠月","ノナカ　ユヅキ",4,"男子"]
["寒田少年サッカークラブ_15","寒田少年サッカークラブ",{"$f":"(\"15\")","v":"15"},"DF","成松　怜音","ナリマツ　レオ",4,"男子"]
["明野西ＪＦＣ_1","明野西ＪＦＣ",{"$f":"(\"1\")","v":"1"},"GK","後藤　健伍","ゴトウ　ケンゴ",5,"男子"]
["明野西ＪＦＣ_3","明野西ＪＦＣ",{"$f":"(\"3\")","v":"3"},"DF","田邉　洸乃","タナベ　コウダイ",5,"男子"]
[{"$f":"CONCATENATE(B129,\"_\",C129)","v":"明野西ＪＦＣ_4"},"明野西ＪＦＣ",{"$f":"(\"4\")","v":"4"},"DF","足立　悠真","アダチ　ユウマ",5,"男子"]
["明野西ＪＦＣ_5","明野西ＪＦＣ",{"$f":"(\"5\")","v":"5"},"DF","東　美月","ヒガシ　ミヅキ",5,"女子小学生"]
["明野西ＪＦＣ_6","明野西ＪＦＣ",{"$f":"(\"6\")","v":"6"},"MF","西田　空翔","ニシダ　ソラト",5,"男子"]
["明野西ＪＦＣ_7","明野西ＪＦＣ",{"$f":"(\"7\")","v":"7"},"FW","日野　那音","ヒノ　ナオト",5,"男子","○"]
["明野西ＪＦＣ_8","明野西ＪＦＣ",{"$f":"(\"8\")","v":"8"},"MF","東　拓史","ヒガシ　タクミ",5,"男子"]
["明野西ＪＦＣ_9","明野西ＪＦＣ",{"$f":"(\"9\")","v":"9"},"FW","米丸　碧","ヨネマル　アオ",5,"男子"]
["明野西ＪＦＣ_11","明野西ＪＦＣ",{"$f":"(\"11\")","v":"11"},"MF","松本　凌茉","マツモト　リョウマ",4,"男子"]
["明野西ＪＦＣ_12","明野西ＪＦＣ",{"$f":"(\"12\")","v":"12"},"MF","切封　夢叶","キリフ　ユウト",5,"男子"]
["明野西ＪＦＣ_13","明野西ＪＦＣ",{"$f":"(\"13\")","v":"13"},"MF","川副　孝仁","カワソエ　タカヒト",4,"男子"]
["明野西ＪＦＣ_14","明野西ＪＦＣ",{"$f":"(\"14\")","v":"14"},"MF","河村　奏汰","カワムラ　ソウタ",4,"男子"]
["明野西ＪＦＣ_15","明野西ＪＦＣ",{"$f":"(\"15\")","v":"15"},"MF","足立　雅樹","アダチ　マサキ",3,"男子"]
["明野西ＪＦＣ_16","明野西ＪＦＣ",{"$f":"(\"16\")","v":"16"},"MF","西郡　皐太朗","ニシゴオリ　コウタロウ",4,"男子"]
["日岡サッカースポーツ少年団_1","日岡サッカースポーツ少年団",{"$f":"(\"1\")","v":"1"},"GK","矢野　伊織","ヤノ　イオリ",5,"男子"]
["日岡サッカースポーツ少年団_2","日岡サッカースポーツ少年団",{"$f":"(\"2\")","v":"2"},"DF","柴田　大志","シバタ　タイシ",4,"男子"]
["日岡サッカースポーツ少年団_4","日岡サッカースポーツ少年団",{"$f":"(\"4\")","v":"4"},"FW","木村　海翔","キムラ　カイト",5,"男子"]
["日岡サッカースポーツ少年団_5","日岡サッカースポーツ少年団",{"$f":"(\"5\")","v":"5"},"MF","後藤　塁","ゴトウ　ルイ",5,"男子",null,"ＭＳＳ"]
["日岡サッカースポーツ少年団_6","日岡サッカースポーツ少年団",{"$f":"(\"6\")","v":"6"},"DF","山口　翔大","ヤマグチ　ショウタ",5,"男子"]
["日岡サッカースポーツ少年団_8","日岡サッカースポーツ少年団",{"$f":"(\"8\")","v":"8"},"DF","髙村　龍冴","タカムラ　リュウザ",5,"男子"]
["日岡サッカースポーツ少年団_9","日岡サッカースポーツ少年団",{"$f":"(\"9\")","v":"9"},"FW","佐藤　歩虎","サトウ　アユト",5,"男子"]
["日岡サッカースポーツ少年団_10","日岡サッカースポーツ少年団",{"$f":"(\"10\")","v":"10"},"MF","牧　礼桜","マキ　レオ",5,"男子","○"]
["日岡サッカースポーツ少年団_12","日岡サッカースポーツ少年団",{"$f":"(\"12\")","v":"12"},"MF","矢野　都織","ヤノ　トオリ",3,"男子"]
["日岡サッカースポーツ少年団_14","日岡サッカースポーツ少年団",{"$f":"(\"14\")","v":"14"},"FW","佐藤　凛月","サトウ　リツキ",3,"男子"]
["日岡サッカースポーツ少年団_15","日岡サッカースポーツ少年団",{"$f":"(\"15\")","v":"15"},"MF","西田　陸翔","ニシダ　リクト",3,"男子"]
["日岡サッカースポーツ少年団_16","日岡サッカースポーツ少年団",{"$f":"(\"16\")","v":"16"},"MF","伊藤　勇人","イトウ　ハヤト",4,"男子"]
["日岡サッカースポーツ少年団_17","日岡サッカースポーツ少年団",{"$f":"(\"17\")","v":"17"},"GK","諫山　蒼空","イサヤマ　ソラ",5,"男子"]
["日出サッカースポーツ少年団_1","日出サッカースポーツ少年団",{"$f":"(\"1\")","v":"1"},"MF","姉川　亮太","アネカワ　リョウタ",5,"男子"]
["日出サッカースポーツ少年団_2","日出サッカースポーツ少年団",{"$f":"(\"2\")","v":"2"},"DF","岩﨑　煌弥","イワサキ　コウヤ",5,"男子","○"]
["日出サッカースポーツ少年団_3","日出サッカースポーツ少年団",{"$f":"(\"3\")","v":"3"},"MF","伊東　大輝","イトウ　ダイキ",5,"男子"]
["日出サッカースポーツ少年団_4","日出サッカースポーツ少年団",{"$f":"(\"4\")","v":"4"},"FW","諸冨　夏輝","モロトミ　ナツキ",5,"男子"]
["日出サッカースポーツ少年団_5","日出サッカースポーツ少年団",{"$f":"(\"5\")","v":"5"},"MF","衞藤　貫太","エトウ　カンタ",5,"男子"]
["日出サッカースポーツ少年団_6","日出サッカースポーツ少年団",{"$f":"(\"6\")","v":"6"},"DF","三浦　大晟","ミウラ　タイセイ",5,"男子"]
["日出サッカースポーツ少年団_7","日出サッカースポーツ少年団",{"$f":"(\"7\")","v":"7"},"MF","久保　龍道","クボ　タツミチ",5,"男子"]
["日出サッカースポーツ少年団_8","日出サッカースポーツ少年団",{"$f":"(\"8\")","v":"8"},"FW","中園　釉丸","ナカゾノ　ユウマル",4,"男子"]
["日出サッカースポーツ少年団_9","日出サッカースポーツ少年団",{"$f":"(\"9\")","v":"9"},"FW","中園　藍丸","ナカゾノ　ランマル",4,"男子"]
["日出サッカースポーツ少年団_10","日出サッカースポーツ少年団",{"$f":"(\"10\")","v":"10"},"FW","佐藤　安立","サトウ　アンリュウ",4,"男子"]
["日出サッカースポーツ少年団_11","日出サッカースポーツ少年団",{"$f":"(\"11\")","v":"11"},"FW","笠置　喬虎","カサギ　タカトラ",4,"男子"]
["日出サッカースポーツ少年団_12","日出サッカースポーツ少年団",{"$f":"(\"12\")","v":"12"},"FW","占部　陽斗","ウラベ　ハルト",4,"男子"]
["日出サッカースポーツ少年団_13","日出サッカースポーツ少年団",{"$f":"(\"13\")","v":"13"},"DF","園田　拓海","ソノダ　タクミ",4,"男子"]
["日出サッカースポーツ少年団_14","日出サッカースポーツ少年団",{"$f":"(\"14\")","v":"14"},"DF","幸　遥愛","ユキ　ハルア",4,"女子小学生"]
["日出サッカースポーツ少年団_16","日出サッカースポーツ少年団",{"$f":"(\"16\")","v":"16"},"GK","黒木　千生","クロギ　チオ",5,"男子"]
["ドリームキッズフットボールクラブ_1","ドリームキッズフットボールクラブ",{"$f":"(\"1\")","v":"1"},"GK","岩本　凌真","イワモト　リョウマ",5,"男子"]
["ドリームキッズフットボールクラブ_2","ドリームキッズフットボールクラブ",{"$f":"(\"2\")","v":"2"},"DF","松下　未来翔","マツシタ　ミクト",5,"男子"]
["ドリームキッズフットボールクラブ_3","ドリームキッズフットボールクラブ",{"$f":"(\"3\")","v":"3"},"MF","阿部　夏樹","アベ　ナツキ",5,"男子"]
["ドリームキッズフットボールクラブ_4","ドリームキッズフットボールクラブ",{"$f":"(\"4\")","v":"4"},"DF","伊東　海星","イトウ　カイセイ",5,"男子",null,"大在サッカースポーツ少年団"]
["ドリームキッズフットボールクラブ_5","ドリームキッズフットボールクラブ",{"$f":"(\"5\")","v":"5"},"FW","佐藤　嘉人","サトウ　ヒロト",4,"男子"]
["ドリームキッズフットボールクラブ_6","ドリームキッズフットボールクラブ",{"$f":"(\"6\")","v":"6"},"MF","大久保　桧埜","オオクボ　ヒノ",4,"男子"]
["ドリームキッズフットボールクラブ_7","ドリームキッズフットボールクラブ",{"$f":"(\"7\")","v":"7"},"FW","下郡　遼平","シモゴウリ　リョウヘイ",4,"男子"]
["ドリームキッズフットボールクラブ_8","ドリームキッズフットボールクラブ",{"$f":"(\"8\")","v":"8"},"DF","鱒村　侑士","マスムラ　ユウト",5,"男子"]
["ドリームキッズフットボールクラブ_9","ドリームキッズフットボールクラブ",{"$f":"(\"9\")","v":"9"},"DF","子守　悠真","コモリ　ユウマ",5,"男子"]
["ドリームキッズフットボールクラブ_10","ドリームキッズフットボールクラブ",{"$f":"(\"10\")","v":"10"},"MF","大谷　悟史","オオタニ　サトシ",5,"男子","○"]
["ドリームキッズフットボールクラブ_11","ドリームキッズフットボールクラブ",{"$f":"(\"11\")","v":"11"},"DF","山下　紫凰","ヤマシタ　シオウ",5,"男子"]
["ドリームキッズフットボールクラブ_12","ドリームキッズフットボールクラブ",{"$f":"(\"12\")","v":"12"},"DF","畔津　大治郎","アゼツ　ダイジロウ",5,"男子"]
["ドリームキッズフットボールクラブ_13","ドリームキッズフットボールクラブ",{"$f":"(\"13\")","v":"13"},"MF","麻生　拓夢","アソウ　ヒロム",4,"男子"]
["ドリームキッズフットボールクラブ_14","ドリームキッズフットボールクラブ",{"$f":"(\"14\")","v":"14"},"FW","川上　徐生","カワカミ　ジョジョ",4,"男子"]
["ドリームキッズフットボールクラブ_15","ドリームキッズフットボールクラブ",{"$f":"(\"15\")","v":"15"},"DF","長田　賢昇","ナガタ　ケンショウ",4,"男子"]
["ドリームキッズフットボールクラブ_16","ドリームキッズフットボールクラブ",{"$f":"(\"16\")","v":"16"},"GK","北田　旺佑","キタダ　オウスケ",4,"男子"]
["ＦＣ安岐_1","ＦＣ安岐",{"$f":"(\"1\")","v":"1"},"GK","羽迫　史久","ハサコ　リク",5,"男子"]
["ＦＣ安岐_2","ＦＣ安岐",{"$f":"(\"2\")","v":"2"},"FW","岐部　蒼海","キベ　ソウマ",4,"男子"]
["ＦＣ安岐_3","ＦＣ安岐",{"$f":"(\"3\")","v":"3"},"MF","南　凌介","ミナミ　リョウスケ",3,"男子"]
["ＦＣ安岐_4","ＦＣ安岐",{"$f":"(\"4\")","v":"4"},"FW","上野　紗奈","ウエノ　サナ",3,"女子小学生"]
["ＦＣ安岐_5","ＦＣ安岐",{"$f":"(\"5\")","v":"5"},"DF","山田　蓮次","ヤマダ　レンジ",3,"男子"]
["ＦＣ安岐_6","ＦＣ安岐",{"$f":"(\"6\")","v":"6"},"DF","上野　海翔","ウエノ　カイト",5,"男子","○"]
["ＦＣ安岐_7","ＦＣ安岐",{"$f":"(\"7\")","v":"7"},"MF","小俣　慶一郎","オマタ　ケイイチロウ",5,"男子"]
["ＦＣ安岐_8","ＦＣ安岐",{"$f":"(\"8\")","v":"8"},"MF","小田　冬絆","オダ　トウキ",5,"男子"]
[{"$f":"CONCATENATE(B193,\"_\",C193)","v":"ＦＣ安岐_9"},"ＦＣ安岐",{"$f":"(\"9\")","v":"9"},"MF","橋本　尚","ハシモト　ナオ",5,"男子"]
["ＦＣ安岐_10","ＦＣ安岐",{"$f":"(\"10\")","v":"10"},"FW","今富　蓮","イマトミ　レン",5,"男子"]
["ＦＣ安岐_11","ＦＣ安岐",{"$f":"(\"11\")","v":"11"},"DF","佐藤　礼","サトウ　ライ",5,"男子"]
["ＦＣ安岐_16","ＦＣ安岐",{"$f":"(\"16\")","v":"16"},"DF","矢野　道之","ヤノ　ミチユキ",5,"男子"]
["スマイス・セレソン_1","スマイス・セレソン",{"$f":"(\"1\")","v":"1"},"DF","原田　煌也","ハラダ　オウヤ",5,"男子","○"]
["スマイス・セレソン_2","スマイス・セレソン",{"$f":"(\"2\")","v":"2"},"DF","竹友　勝虎","タケトモ　カツト",5,"男子",null,"スマイス日出"]
["スマイス・セレソン_3","スマイス・セレソン",{"$f":"(\"3\")","v":"3"},"DF","大西　拓海","オオニシ　タクミ",5,"男子"]
["スマイス・セレソン_4","スマイス・セレソン",{"$f":"(\"4\")","v":"4"},"DF","桐村　虎夢","キリムラ　コム",5,"男子"]
["スマイス・セレソン_5","スマイス・セレソン",{"$f":"(\"5\")","v":"5"},"DF","宮崎　海迅","ミヤザキ　カイト",5,"男子"]
["スマイス・セレソン_6","スマイス・セレソン",{"$f":"(\"6\")","v":"6"},"FW","松本　快理","マツモト　カイリ",4,"男子",null,"スマイス日出"]
["スマイス・セレソン_7","スマイス・セレソン",{"$f":"(\"7\")","v":"7"},"MF","横田　啓","ヨコタ　ケイ",5,"男子"]
["スマイス・セレソン_8","スマイス・セレソン",{"$f":"(\"8\")","v":"8"},"MF","岩崎　蓮武","イワサキ　レン",5,"男子"]
["スマイス・セレソン_9","スマイス・セレソン",{"$f":"(\"9\")","v":"9"},"FW","安部　颯","アンベ　ハヤテ",5,"男子"]
["スマイス・セレソン_10","スマイス・セレソン",{"$f":"(\"10\")","v":"10"},"MF","佐々木　大和","ササキ　ヤマト",5,"男子"]
["スマイス・セレソン_11","スマイス・セレソン",{"$f":"(\"11\")","v":"11"},"FW","大室　匠","オオムロ　タクミ",4,"男子"]
["スマイス・セレソン_12","スマイス・セレソン",{"$f":"(\"12\")","v":"12"},"FW","西野　凌太朗","ニシノ　リョウタロウ",4,"男子"]
["スマイス・セレソン_13","スマイス・セレソン",{"$f":"(\"13\")","v":"13"},"DF","小田　聖翔","オダ　マサト",4,"男子"]
["スマイス・セレソン_14","スマイス・セレソン",{"$f":"(\"14\")","v":"14"},"FW","後藤　健","ゴトウ　タケル",5,"男子",null,"スマイスＦＣ"]
["スマイス・セレソン_15","スマイス・セレソン",{"$f":"(\"15\")","v":"15"},"DF","岩尾　芯","イワオ　シン",5,"男子"]
["スマイス・セレソン_16","スマイス・セレソン",{"$f":"(\"16\")","v":"16"},"GK","望月　翔太","モチヅキ　ショウタ",5,"男子"]
["カティオーラフットボールクラブＵ－１２_1","カティオーラフットボールクラブＵ－１２",{"$f":"(\"1\")","v":"1"},"GK","浜小路　大智","ハマショウジ　ダイチ",4,"男子",null,"カティオーラフットボールクラブ　高城"]
["カティオーラフットボールクラブＵ－１２_2","カティオーラフットボールクラブＵ－１２",{"$f":"(\"2\")","v":"2"},"DF","中城　篤也","ナカジョウ　アツヤ",5,"男子",null,"カティオーラフットボールクラブ　松岡"]
["カティオーラフットボールクラブＵ－１２_4","カティオーラフットボールクラブＵ－１２",{"$f":"(\"4\")","v":"4"},"DF","白岩　裕晟","シライワ　ユウセイ",5,"男子",null,"カティオーラフットボールクラブ　大在"]
["カティオーラフットボールクラブＵ－１２_5","カティオーラフットボールクラブＵ－１２",{"$f":"(\"5\")","v":"5"},"DF","野尻　憲慎","ノジリ　ケンシン",5,"男子",null,"カティオーラフットボールクラブ　高城"]
["カティオーラフットボールクラブＵ－１２_7","カティオーラフットボールクラブＵ－１２",{"$f":"(\"7\")","v":"7"},"MF","軸丸　生己","ジクマル　ウミ",5,"男子","○","カティオーラフットボールクラブ　松岡"]
["カティオーラフットボールクラブＵ－１２_8","カティオーラフットボールクラブＵ－１２",{"$f":"(\"8\")","v":"8"},"MF","花宮　蓮","ハナミヤ　レン",5,"男子",null,"カティオーラフットボールクラブ　高城"]
["カティオーラフットボールクラブＵ－１２_9","カティオーラフットボールクラブＵ－１２",{"$f":"(\"9\")","v":"9"},"FW","川﨑　太洋","カワサキ　タイヨウ",5,"男子",null,"カティオーラフットボールクラブ　松岡"]
["カティオーラフットボールクラブＵ－１２_10","カティオーラフットボールクラブＵ－１２",{"$f":"(\"10\")","v":"10"},"MF","渡辺　碧海","ワタナベ　アオア",5,"男子",null,"カティオーラフットボールクラブ　松岡"]
["カティオーラフットボールクラブＵ－１２_11","カティオーラフットボールクラブＵ－１２",{"$f":"(\"11\")","v":"11"},"FW","山崎　竜斗","ヤマサキ　リュウト",5,"男子",null,"カティオーラフットボールクラブ　大在"]
["カティオーラフットボールクラブＵ－１２_13","カティオーラフットボールクラブＵ－１２",{"$f":"(\"13\")","v":"13"},"MF","尼崎　琉太","アマガサキ　リュウタ",4,"男子",null,"カティオーラフットボールクラブ　松岡"]
["カティオーラフットボールクラブＵ－１２_14","カティオーラフットボールクラブＵ－１２",{"$f":"(\"14\")","v":"14"},"MF","矢野　圭悟","ヤノ　ケイゴ",4,"男子",null,"カティオーラフットボールクラブ　松岡"]
["カティオーラフットボールクラブＵ－１２_15","カティオーラフットボールクラブＵ－１２",{"$f":"(\"15\")","v":"15"},"FW","二宮　秀太","ニノミヤ　シュウタ",4,"男子",null,"カティオーラフットボールクラブ　大在"]
["カティオーラフットボールクラブ　大在_1","カティオーラフットボールクラブ　大在",{"$f":"(\"1\")","v":"1"},"GK","小名川　滉斗","コナガワ　ヒロト",5,"男子"]
["カティオーラフットボールクラブ　大在_2","カティオーラフットボールクラブ　大在",{"$f":"(\"2\")","v":"2"},"DF","森岡　龍之介","モリオカ　リュウノスケ",5,"男子"]
["カティオーラフットボールクラブ　大在_3","カティオーラフットボールクラブ　大在",{"$f":"(\"3\")","v":"3"},"DF","河村　夢生","カワムラ　ユメキ",5,"男子"]
["カティオーラフットボールクラブ　大在_4","カティオーラフットボールクラブ　大在",{"$f":"(\"4\")","v":"4"},"FW","芝　虎之介","シバ　トラノスケ",3,"男子"]
["カティオーラフットボールクラブ　大在_5","カティオーラフットボールクラブ　大在",{"$f":"(\"5\")","v":"5"},"DF","藤田　京佑","フジタ　キョウスケ",4,"男子",null,"ＫＩＮＧＳ　ＦＯＯＴＢＡＬＬＣＬＵＢ　Ｕ－１２"]
["カティオーラフットボールクラブ　大在_6","カティオーラフットボールクラブ　大在",{"$f":"(\"6\")","v":"6"},"MF","堤　聖那","ツツミ　セナ",4,"男子"]
["カティオーラフットボールクラブ　大在_7","カティオーラフットボールクラブ　大在",{"$f":"(\"7\")","v":"7"},"MF","三浦　雅斗","ミウラ　ガクト",5,"男子",null,"三佐サッカースポーツ少年団"]
["カティオーラフットボールクラブ　大在_8","カティオーラフットボールクラブ　大在",{"$f":"(\"8\")","v":"8"},"DF","中川　蓮汰","ナカガワ　レンタ",5,"男子"]
["カティオーラフットボールクラブ　大在_9","カティオーラフットボールクラブ　大在",{"$f":"(\"9\")","v":"9"},"FW","梶原　琥汰","カジワラ　コウタ",5,"男子",null,"ドリームキッズサッカークラブ"]
["カティオーラフットボールクラブ　大在_10","カティオーラフットボールクラブ　大在",{"$f":"(\"10\")","v":"10"},"DF","佐藤　悠樹","サトウ　ハルキ",5,"男子","○","大在ＳＳＣ"]
["カティオーラフットボールクラブ　大在_11","カティオーラフットボールクラブ　大在",{"$f":"(\"11\")","v":"11"},"MF","松木　優飛","マツキ　ユウビ",5,"男子"]
["カティオーラフットボールクラブ　大在_12","カティオーラフットボールクラブ　大在",{"$f":"(\"12\")","v":"12"},"GK","和田　健太郎","ワダ　ケンタロウ",5,"男子"]
["カティオーラフットボールクラブ　大在_13","カティオーラフットボールクラブ　大在",{"$f":"(\"13\")","v":"13"},"DF","林　天音","ハヤシ　テオン",3,"男子"]
["カティオーラフットボールクラブ　大在_14","カティオーラフットボールクラブ　大在",{"$f":"(\"14\")","v":"14"},"MF","藤澤　楠","フジサワ　ダン",4,"男子"]
["カティオーラフットボールクラブ　大在_15","カティオーラフットボールクラブ　大在",{"$f":"(\"15\")","v":"15"},"DF","岩永　侑哉","イワナガ　ユキヤ",4,"男子"]
["カティオーラフットボールクラブ　大在_16","カティオーラフットボールクラブ　大在",{"$f":"(\"16\")","v":"16"},"MF","松田　智寛","マツダ　トモヒロ",4,"男子"]
["ＫＩＮＧＳ　ＦＯＯＴＢＡＬＬＣＬＵＢ　Ｕ－１２_1","ＫＩＮＧＳ　ＦＯＯＴＢＡＬＬＣＬＵＢ　Ｕ－１２",{"$f":"(\"1\")","v":"1"},"GK","池田　来輝","イケダ　ライキ",5,"男子"]
["ＫＩＮＧＳ　ＦＯＯＴＢＡＬＬＣＬＵＢ　Ｕ－１２_2","ＫＩＮＧＳ　ＦＯＯＴＢＡＬＬＣＬＵＢ　Ｕ－１２",{"$f":"(\"2\")","v":"2"},"DF","芋岡　翼","イモオカ　ツバサ",5,"男子","○"]
["ＫＩＮＧＳ　ＦＯＯＴＢＡＬＬＣＬＵＢ　Ｕ－１２_3","ＫＩＮＧＳ　ＦＯＯＴＢＡＬＬＣＬＵＢ　Ｕ－１２",{"$f":"(\"3\")","v":"3"},"MF","城　大雅","ジョウ　ハルマサ",4,"男子"]
["ＫＩＮＧＳ　ＦＯＯＴＢＡＬＬＣＬＵＢ　Ｕ－１２_4","ＫＩＮＧＳ　ＦＯＯＴＢＡＬＬＣＬＵＢ　Ｕ－１２",{"$f":"(\"4\")","v":"4"},"MF","小野　渚","オノ　ナギサ",4,"男子"]
["ＫＩＮＧＳ　ＦＯＯＴＢＡＬＬＣＬＵＢ　Ｕ－１２_5","ＫＩＮＧＳ　ＦＯＯＴＢＡＬＬＣＬＵＢ　Ｕ－１２",{"$f":"(\"5\")","v":"5"},"FW","山田　類","ヤマダ　ルイ",5,"男子"]
["ＫＩＮＧＳ　ＦＯＯＴＢＡＬＬＣＬＵＢ　Ｕ－１２_6","ＫＩＮＧＳ　ＦＯＯＴＢＡＬＬＣＬＵＢ　Ｕ－１２",{"$f":"(\"6\")","v":"6"},"DF","安東　聖輝","アンドウ　イブキ",5,"男子"]
["ＫＩＮＧＳ　ＦＯＯＴＢＡＬＬＣＬＵＢ　Ｕ－１２_7","ＫＩＮＧＳ　ＦＯＯＴＢＡＬＬＣＬＵＢ　Ｕ－１２",{"$f":"(\"7\")","v":"7"},"MF","平川　幹大","ヒラカワ　カンタ",5,"男子"]
["ＫＩＮＧＳ　ＦＯＯＴＢＡＬＬＣＬＵＢ　Ｕ－１２_8","ＫＩＮＧＳ　ＦＯＯＴＢＡＬＬＣＬＵＢ　Ｕ－１２",{"$f":"(\"8\")","v":"8"},"MF","藤戸　瑛太","フジト　エイタ",5,"男子"]
["ＫＩＮＧＳ　ＦＯＯＴＢＡＬＬＣＬＵＢ　Ｕ－１２_9","ＫＩＮＧＳ　ＦＯＯＴＢＡＬＬＣＬＵＢ　Ｕ－１２",{"$f":"(\"9\")","v":"9"},"FW","佐藤　凛乃丞","サトウ　リンノスケ",5,"男子"]
["ＫＩＮＧＳ　ＦＯＯＴＢＡＬＬＣＬＵＢ　Ｕ－１２_10","ＫＩＮＧＳ　ＦＯＯＴＢＡＬＬＣＬＵＢ　Ｕ－１２",{"$f":"(\"10\")","v":"10"},"MF","甲斐　勇聖","カイ　ユウセイ",5,"男子"]
["ＫＩＮＧＳ　ＦＯＯＴＢＡＬＬＣＬＵＢ　Ｕ－１２_11","ＫＩＮＧＳ　ＦＯＯＴＢＡＬＬＣＬＵＢ　Ｕ－１２",{"$f":"(\"11\")","v":"11"},"FW","後藤　武輝","ゴトウ　タケル",5,"男子"]
["ＫＩＮＧＳ　ＦＯＯＴＢＡＬＬＣＬＵＢ　Ｕ－１２_12","ＫＩＮＧＳ　ＦＯＯＴＢＡＬＬＣＬＵＢ　Ｕ－１２",{"$f":"(\"12\")","v":"12"},"GK","小野　拓海","オノ　タクミ",5,"男子"]
["ＫＩＮＧＳ　ＦＯＯＴＢＡＬＬＣＬＵＢ　Ｕ－１２_13","ＫＩＮＧＳ　ＦＯＯＴＢＡＬＬＣＬＵＢ　Ｕ－１２",{"$f":"(\"13\")","v":"13"},"FW","小濱　佳太","コハマ　ケイタ",4,"男子"]
["ＫＩＮＧＳ　ＦＯＯＴＢＡＬＬＣＬＵＢ　Ｕ－１２_14","ＫＩＮＧＳ　ＦＯＯＴＢＡＬＬＣＬＵＢ　Ｕ－１２",{"$f":"(\"14\")","v":"14"},"MF","吉廣　珀人","ヨシヒロ　ハクト",5,"男子"]
["ＫＩＮＧＳ　ＦＯＯＴＢＡＬＬＣＬＵＢ　Ｕ－１２_15","ＫＩＮＧＳ　ＦＯＯＴＢＡＬＬＣＬＵＢ　Ｕ－１２",{"$f":"(\"15\")","v":"15"},"FW","萱島　一平","カヤシマ　イッペイ",4,"男子"]
["市浜レッドソックス_1","市浜レッドソックス",{"$f":"(\"1\")","v":"1"},"GK","嶋津　色音","シマヅ　イロト",3,"男子"]
[{"$f":"CONCATENATE(B257,\"_\",C257)","v":"市浜レッドソックス_4"},"市浜レッドソックス",{"$f":"(\"4\")","v":"4"},"MF","穴見　恒輝","アナミ　コウキ",3,"男子"]
["市浜レッドソックス_5","市浜レッドソックス",{"$f":"(\"5\")","v":"5"},"DF","川邊　恒輝","カワベ　コウキ",5,"男子"]
["市浜レッドソックス_6","市浜レッドソックス",{"$f":"(\"6\")","v":"6"},"MF","近藤　拓斗","コンドウ　タクト",5,"男子"]
["市浜レッドソックス_7","市浜レッドソックス",{"$f":"(\"7\")","v":"7"},"MF","原田　滉大","ハラダ　コウダイ",5,"男子"]
["市浜レッドソックス_8","市浜レッドソックス",{"$f":"(\"8\")","v":"8"},"FW","吉良　優輝","キラ　ユウキ",5,"男子"]
["市浜レッドソックス_9","市浜レッドソックス",{"$f":"(\"9\")","v":"9"},"FW","梶原　康太","カジワラ　コウタ",4,"男子"]
["市浜レッドソックス_12","市浜レッドソックス",{"$f":"(\"12\")","v":"12"},"FW","西村　駿佑","ニシムラ　シュンスケ",4,"男子"]
["市浜レッドソックス_13","市浜レッドソックス",{"$f":"(\"13\")","v":"13"},"DF","平川　開土","ヒラカワ　カイト",5,"男子"]
["市浜レッドソックス_14","市浜レッドソックス",{"$f":"(\"14\")","v":"14"},"MF","川野　羚準","カワノ　リヒト",4,"男子"]
["市浜レッドソックス_15","市浜レッドソックス",{"$f":"(\"15\")","v":"15"},"FW","高田　琥太郎","タカダ　コタロウ",4,"男子"]
["市浜レッドソックス_16","市浜レッドソックス",{"$f":"(\"16\")","v":"16"},"MF","平川　結偉","ヒラカワ　ユウイ",5,"男子","○"]
["ブルーウイングフットボールクラブ_1","ブルーウイングフットボールクラブ",{"$f":"(\"1\")","v":"1"},"GK","平石　祥梧","ヒライシ　ショウゴ",5,"男子"]
["ブルーウイングフットボールクラブ_2","ブルーウイングフットボールクラブ",{"$f":"(\"2\")","v":"2"},"DF","菅　晴稀","スガ　ハルキ",5,"男子"]
["ブルーウイングフットボールクラブ_3","ブルーウイングフットボールクラブ",{"$f":"(\"3\")","v":"3"},"FW","青坂　朱夏","アオサカ　シュカ",5,"男子",null,"青江小　サッカースポーツ少年団"]
["ブルーウイングフットボールクラブ_4","ブルーウイングフットボールクラブ",{"$f":"(\"4\")","v":"4"},"DF","田中　聡","タナカ　サトシ",5,"男子"]
["ブルーウイングフットボールクラブ_5","ブルーウイングフットボールクラブ",{"$f":"(\"5\")","v":"5"},"DF","山下　誠也","ヤマシタ　セイヤ",5,"男子"]
["ブルーウイングフットボールクラブ_6","ブルーウイングフットボールクラブ",{"$f":"(\"6\")","v":"6"},"MF","佐藤　琉偉","サトウ　ルイ",5,"男子"]
["ブルーウイングフットボールクラブ_7","ブルーウイングフットボールクラブ",{"$f":"(\"7\")","v":"7"},"DF","古川　士道","フルカワ　シドウ",5,"男子","○"]
["ブルーウイングフットボールクラブ_8","ブルーウイングフットボールクラブ",{"$f":"(\"8\")","v":"8"},"MF","久保田　蓮","クボタ　レン",4,"男子"]
["ブルーウイングフットボールクラブ_9","ブルーウイングフットボールクラブ",{"$f":"(\"9\")","v":"9"},"FW","村岡　俊","ムラオカ　シュン",5,"男子",null,"御津サッカースポーツ少年団"]
["ブルーウイングフットボールクラブ_10","ブルーウイングフットボールクラブ",{"$f":"(\"10\")","v":"10"},"MF","廣川　敬太","ヒロカワ　ケイタ",5,"男子",null,"戸次吉野ＳＳＳ"]
["ブルーウイングフットボールクラブ_11","ブルーウイングフットボールクラブ",{"$f":"(\"11\")","v":"11"},"MF","大城　悠史","オオキ　ユウシ",5,"男子",null,"東陽フットボールクラブ"]
["ブルーウイングフットボールクラブ_12","ブルーウイングフットボールクラブ",{"$f":"(\"12\")","v":"12"},"GK","石原　太耀","イシハラ　タイヨウ",5,"男子"]
["ブルーウイングフットボールクラブ_13","ブルーウイングフットボールクラブ",{"$f":"(\"13\")","v":"13"},"FW","倉見　麟","クラミ　リン",5,"男子",null,"大在サッカースポーツ少年団"]
["ブルーウイングフットボールクラブ_14","ブルーウイングフットボールクラブ",{"$f":"(\"14\")","v":"14"},"MF","佐々木　壮太","ササキ　ソウタ",4,"男子"]
["ブルーウイングフットボールクラブ_15","ブルーウイングフットボールクラブ",{"$f":"(\"15\")","v":"15"},"DF","河津　瑛太","カワヅ　エイタ",5,"男子"]
["ブルーウイングフットボールクラブ_16","ブルーウイングフットボールクラブ",{"$f":"(\"16\")","v":"16"},"FW","廣瀬　統治","ヒロセ　スバル",4,"男子"]
["太陽スポーツクラブ大分西_1","太陽スポーツクラブ大分西",{"$f":"(\"1\")","v":"1"},"GK","樋口　温","ヒグチ　ハル",5,"男子"]
["太陽スポーツクラブ大分西_2","太陽スポーツクラブ大分西",{"$f":"(\"2\")","v":"2"},"DF","山﨑　康大","ヤマサキ　コウダイ",5,"男子"]
["太陽スポーツクラブ大分西_3","太陽スポーツクラブ大分西",{"$f":"(\"3\")","v":"3"},"MF","小畑　歩来","オバタ　アルク",5,"男子"]
["太陽スポーツクラブ大分西_4","太陽スポーツクラブ大分西",{"$f":"(\"4\")","v":"4"},"MF","堀田　詞音","ホリタ　シオン",5,"男子"]
["太陽スポーツクラブ大分西_6","太陽スポーツクラブ大分西",{"$f":"(\"6\")","v":"6"},"DF","河津　瑛斗","カワヅ　アキト",5,"男子"]
["太陽スポーツクラブ大分西_7","太陽スポーツクラブ大分西",{"$f":"(\"7\")","v":"7"},"MF","中島　歩夢","ナカシマ　アユム",5,"男子"]
["太陽スポーツクラブ大分西_8","太陽スポーツクラブ大分西",{"$f":"(\"8\")","v":"8"},"DF","田中　大雅","タナカ　タイガ",5,"男子"]
["太陽スポーツクラブ大分西_9","太陽スポーツクラブ大分西",{"$f":"(\"9\")","v":"9"},"FW","江田　侑翔","コウダ　ユウト",5,"男子","○"]
["太陽スポーツクラブ大分西_10","太陽スポーツクラブ大分西",{"$f":"(\"10\")","v":"10"},"FW","坂本　空禅","サカモト　クウゼン",4,"男子"]
["太陽スポーツクラブ大分西_11","太陽スポーツクラブ大分西",{"$f":"(\"11\")","v":"11"},"MF","嶋津　慶真","シマヅ　ケイシン",5,"男子"]
["太陽スポーツクラブ大分西_14","太陽スポーツクラブ大分西",{"$f":"(\"14\")","v":"14"},"MF","古野　巧人","フルノ　タクト",4,"男子"]
["太陽スポーツクラブ大分西_15","太陽スポーツクラブ大分西",{"$f":"(\"15\")","v":"15"},"DF","森山　琉貴","モリヤマ　リュウキ",4,"男子"]
["太陽スポーツクラブ大分西_16","太陽スポーツクラブ大分西",{"$f":"(\"16\")","v":"16"},"GK","中島　光稀","ナカシマ　ミツキ",4,"男子"]
["太陽スポーツクラブ大分西_18","太陽スポーツクラブ大分西",{"$f":"(\"18\")","v":"18"},"DF","菅原　凛空","スガハラ　リク",4,"男子",null,"石井ジュニアサッカークラブ"]
["太陽スポーツクラブ大分西_19","太陽スポーツクラブ大分西",{"$f":"(\"19\")","v":"19"},"FW","徳丸　朱里","トクマル　シュリ",4,"男子",null,"桂林少年サッカークラブ"]
["太陽スポーツクラブ大分西_20","太陽スポーツクラブ大分西",{"$f":"(\"20\")","v":"20"},"MF","立花　彪琉","タチバナ　タケル",4,"男子"]
["ＭＳＳ_2","ＭＳＳ",{"$f":"(\"2\")","v":"2"},"DF","岩谷　郁歩","イワタニ　イクト",5,"男子",null,"カティオーラフットボールクラブ　松岡"]
["ＭＳＳ_3","ＭＳＳ",{"$f":"(\"3\")","v":"3"},"DF","上森　海司","ウエモリ　カイジ",5,"男子",null,"大道サッカースポーツ少年団"]
["ＭＳＳ_4","ＭＳＳ",{"$f":"(\"4\")","v":"4"},"DF","郷地　拓真","ゴウチ　タクマ",5,"男子"]
["ＭＳＳ_5","ＭＳＳ",{"$f":"(\"5\")","v":"5"},"DF","川野　公聖","カワノ　コウセイ",5,"男子","○"]
["ＭＳＳ_7","ＭＳＳ",{"$f":"(\"7\")","v":"7"},"MF","久保　雄平","クボ　ユウヘイ",5,"男子",null,"金池長浜サッカースポーツ少年団"]
["ＭＳＳ_8","ＭＳＳ",{"$f":"(\"8\")","v":"8"},"MF","兼田　秀虎","カネダ　ヒデトラ",5,"男子",null,"滝尾下郡サッカースポーツ少年団"]
["ＭＳＳ_9","ＭＳＳ",{"$f":"(\"9\")","v":"9"},"FW","河合　紅太","カワイ　コウタ",5,"男子",null,"明治サッカースポーツ少年団"]
["ＭＳＳ_10","ＭＳＳ",{"$f":"(\"10\")","v":"10"},"MF","石川　遥大","イシカワ　ヨウタ",5,"男子",null,"東根少年サッカークラブ"]
["ＭＳＳ_11","ＭＳＳ",{"$f":"(\"11\")","v":"11"},"FW","高松　我空","タカマツ　ガイア",5,"男子"]
["ＭＳＳ_12","ＭＳＳ",{"$f":"(\"12\")","v":"12"},"MF","金子　純大","カネコ　ジュンダイ",4,"男子"]
["ＭＳＳ_13","ＭＳＳ",{"$f":"(\"13\")","v":"13"},"MF","上野　衣莉","ウエノ　エリ",5,"女子小学生",null,"城東サッカースポーツ少年団"]
["ＭＳＳ_14","ＭＳＳ",{"$f":"(\"14\")","v":"14"},"MF","大住　皐貴","オオスミ　コウキ",4,"男子"]
["ＭＳＳ_15","ＭＳＳ",{"$f":"(\"15\")","v":"15"},"FW","大住　拓真","オオスミ　タクマ",3,"男子"]
["ＭＳＳ_16","ＭＳＳ",{"$f":"(\"16\")","v":"16"},"GK","幸重　航矢","ユキシゲ　コウヤ",5,"男子"]
["スマイス　セレソン　スポーツクラブ_1","スマイス　セレソン　スポーツクラブ",{"$f":"(\"1\")","v":"1"},"GK","日下部　悠大","クサカベ　ユウタ",5,"男子"]
["スマイス　セレソン　スポーツクラブ_2","スマイス　セレソン　スポーツクラブ",{"$f":"(\"2\")","v":"2"},"DF","大塚　陽斗","オオツカ　ハルト",5,"男子"]
["スマイス　セレソン　スポーツクラブ_3","スマイス　セレソン　スポーツクラブ",{"$f":"(\"3\")","v":"3"},"MF","福富　晴真","フクトミ　ハルマ",5,"男子",null,"敷戸サッカースポーツ少年団"]
["スマイス　セレソン　スポーツクラブ_4","スマイス　セレソン　スポーツクラブ",{"$f":"(\"4\")","v":"4"},"DF","吉田　陽俊","ヨシダ　ハルト",5,"男子",null,"稙田ＦＣサッカースポーツ少年団"]
["スマイス　セレソン　スポーツクラブ_5","スマイス　セレソン　スポーツクラブ",{"$f":"(\"5\")","v":"5"},"DF","二宮　颯春","ニノミヤ　ソウシュン",5,"男子",null,"カティオーラフットボールクラブ　高城"]
["スマイス　セレソン　スポーツクラブ_6","スマイス　セレソン　スポーツクラブ",{"$f":"(\"6\")","v":"6"},"FW","小林　風翔","コバヤシ　フウト",4,"男子"]
["スマイス　セレソン　スポーツクラブ_7","スマイス　セレソン　スポーツクラブ",{"$f":"(\"7\")","v":"7"},"FW","高橋　晴","タカハシ　ハル",5,"男子"]
[{"$f":"CONCATENATE(B321,\"_\",C321)","v":"スマイス　セレソン　スポーツクラブ_8"},"スマイス　セレソン　スポーツクラブ",{"$f":"(\"8\")","v":"8"},"MF","武田　有冴","タケダ　ユウゴ",4,"男子",null,"カティオーラフットボールクラブＵ－１２"]
["スマイス　セレソン　スポーツクラブ_9","スマイス　セレソン　スポーツクラブ",{"$f":"(\"9\")","v":"9"},"FW","山木　志朗","ヤマキ　シロウ",5,"男子"]
["スマイス　セレソン　スポーツクラブ_10","スマイス　セレソン　スポーツクラブ",{"$f":"(\"10\")","v":"10"},"MF","豊福　泰生","トヨフク　タイキ",5,"男子"]
["スマイス　セレソン　スポーツクラブ_11","スマイス　セレソン　スポーツクラブ",{"$f":"(\"11\")","v":"11"},"FW","中井　薫","ナカイ　カオル",5,"男子","○"]
["スマイス　セレソン　スポーツクラブ_12","スマイス　セレソン　スポーツクラブ",{"$f":"(\"12\")","v":"12"},"DF","川嶋　映多","カワシマ　エイタ",5,"男子"]
["スマイス　セレソン　スポーツクラブ_13","スマイス　セレソン　スポーツクラブ",{"$f":"(\"13\")","v":"13"},"MF","後藤　友星","ゴトウ　ユウセイ",4,"男子"]
["スマイス　セレソン　スポーツクラブ_14","スマイス　セレソン　スポーツクラブ",{"$f":"(\"14\")","v":"14"},"DF","長野　泰人","ナガノ　ヤスト",4,"男子"]
["スマイス　セレソン　スポーツクラブ_15","スマイス　セレソン　スポーツクラブ",{"$f":"(\"15\")","v":"15"},"FW","伊勢　虎斗","イセ　タケト",3,"男子"]
["スマイス　セレソン　スポーツクラブ_16","スマイス　セレソン　スポーツクラブ",{"$f":"(\"16\")","v":"16"},"MF","川端　翼惺","カワバタ　エルト",3,"男子"]
["ＦＣ中津ジュニア_1","ＦＣ中津ジュニア",{"$f":"(\"1\")","v":"1"},"GK","松田　悠吾","マツダ　ユウゴ",5,"男子"]
["ＦＣ中津ジュニア_2","ＦＣ中津ジュニア",{"$f":"(\"2\")","v":"2"},"DF","加々見　凪","カガミ　ナギ",4,"男子"]
["ＦＣ中津ジュニア_3","ＦＣ中津ジュニア",{"$f":"(\"3\")","v":"3"},"MF","工藤　咲矢","クドウ　サクヤ",4,"男子"]
["ＦＣ中津ジュニア_4","ＦＣ中津ジュニア",{"$f":"(\"4\")","v":"4"},"DF","上川　隆偉","カミカワ　リュウイ",5,"男子",null,"ＦＣ　ＪＵＮＩＯＲＳ"]
["ＦＣ中津ジュニア_5","ＦＣ中津ジュニア",{"$f":"(\"5\")","v":"5"},"MF","園　将翔","ソノ　マサト",4,"男子"]
["ＦＣ中津ジュニア_6","ＦＣ中津ジュニア",{"$f":"(\"6\")","v":"6"},"MF","黒川　蓮","クロカワ　レン",5,"男子"]
["ＦＣ中津ジュニア_7","ＦＣ中津ジュニア",{"$f":"(\"7\")","v":"7"},"MF","東　蒼太","ヒガシ　ソウタ",4,"男子"]
["ＦＣ中津ジュニア_8","ＦＣ中津ジュニア",{"$f":"(\"8\")","v":"8"},"MF","高松　篤斗","タカマツ　アツト",5,"男子"]
["ＦＣ中津ジュニア_9","ＦＣ中津ジュニア",{"$f":"(\"9\")","v":"9"},"FW","吉田　春輝","ヨシダ　ハルキ",5,"男子",null,"ＦＣ　ＪＵＮＩＯＲＳ"]
["ＦＣ中津ジュニア_10","ＦＣ中津ジュニア",{"$f":"(\"10\")","v":"10"},"MF","植村　銀","ウエムラ　ギン",5,"男子","○","中津豊南フットボールクラブ"]
["ＦＣ中津ジュニア_11","ＦＣ中津ジュニア",{"$f":"(\"11\")","v":"11"},"FW","小幡　愛翔","オバタ　アイト",4,"男子",null,"小楠．今津少年サッカ－クラブ"]
["ＦＣ中津ジュニア_12","ＦＣ中津ジュニア",{"$f":"(\"12\")","v":"12"},"GK","吉良　翼","キラ　タスク",4,"男子",null,"小楠．今津少年サッカ－クラブ"]
["ＦＣ中津ジュニア_13","ＦＣ中津ジュニア",{"$f":"(\"13\")","v":"13"},"MF","矢治　圭移都","ヤジ　ケイト",4,"男子",null,"ＦＣ　ＪＵＮＩＯＲＳ"]
["ＦＣ中津ジュニア_14","ＦＣ中津ジュニア",{"$f":"(\"14\")","v":"14"},"MF","矢治　晴朗","ヤジ　セイア",4,"男子",null,"ＦＣ　ＪＵＮＩＯＲＳ"]
["ＦＣ中津ジュニア_15","ＦＣ中津ジュニア",{"$f":"(\"15\")","v":"15"},"MF","柳井田　駿","ヤナイダ　シュン",4,"男子",null,"小楠．今津少年サッカ－クラブ"]
["ＦＣ中津ジュニア_16","ＦＣ中津ジュニア",{"$f":"(\"16\")","v":"16"},"DF","吉田　遼司","ヨシダ　リョウジ",4,"男子",null,"ＦＣ　ＪＵＮＩＯＲＳ"]

{"sheet":"項目","index":19,"n_rows":17,"n_cols":3,"rows_kept":17,"cut":false,"hidden":true,"merged":[]}
["警告/退場",null,"＜警告選択肢＞"]
["警告",null,"反スポ"]
["退場",null,"ラフ"]
["警告(累積2枚目次節出場停止）",null,"異議"]
[null,null,"繰り返し"]
[null,null,"遅延"]
[null,null,"距離"]
[null,null,"無断入"]
[null,null,"無断去"]
[null,null,"＜退場選択肢＞"]
[null,null,"不正"]
[null,null,"乱暴"]
[null,null,"つば"]
[null,null,"阻止(手)"]
[null,null,"阻止(他)"]
[null,null,"暴言"]
[null,null,"警告2"]