{"text_format":"1","workbook":"xlsx","n_sheets":17,"sheets":["出場チーム","大会要項","MCM資料","累積警告・退場","組合せ抽選用","予選リーグ","予選リーグ (2)","予選リーグ公式記録(大在東A)","予選リーグ公式記録(大在東B)","予選リーグ公式記録(上原A)","予選リーグ公式記録(上原B)","決勝トーナメント","決勝T公式記録","決勝公式記録 No,33","審判員","項目","選手名簿"],"not_rendered":{"charts":0,"images":2,"macros":1,"external_links":0,"defined_names":9,"comments":0,"pivot_tables":0},"unopened":[],"bounds":{"document_bytes":16777216,"sheet_cells":100000,"rows_first":2000,"rows_last":500,"rows_between":2000,"halvings":0,"cell_chars":16384,"cell_head_chars":4096},"cells_cut":0,"cells_raw":0,"read":"whole","date_system":"1900"}

{"sheet":"出場チーム","index":0,"n_rows":42,"n_cols":12,"rows_kept":42,"cut":false,"hidden":false,"merged":[[40,5,40,8],[40,9,40,11],[41,5,41,8],[41,9,41,11],[40,1,40,4],[41,1,41,4],[39,9,39,11],[38,9,38,11],[0,9,0,11],[0,0,0,8],[38,1,38,4],[39,1,39,4],[38,5,38,8],[39,5,39,8],[14,7,15,7],[10,0,20,0],[12,7,13,7],[10,7,11,7],[16,7,17,7]]}
[{"$f":"大会要項!B2","v":"第8回 全日本不動産協会杯争奪少年サッカー大会【ラビットカップ】大分県大会"},null,null,null,null,null,null,null,null,"抽選会"]
[]
["１．",{"$f":"大会要項!D37","v":"日時:2019年6月16日（日）　19:00～　"}]
[]
["２．",{"$f":"大会要項!D38","v":"場所:大分スポーツ公園　昭和電工ドーム大分　地下1階　B1-408会議室"}]
[]
["３．","参加チーム",24,"チーム"]
[]
["Aブロック（フリー）",null,null,null,null,null,null,"Bブロック（奇数）"]
["地　　区","チーム名","申込","参加料","出欠",null,null,"地　　区","チーム名","申込","参加料","出欠"]
["大分","カティオーラフットボールクラブＵ－１２","2019-05-23","2019-05-23","○",null,null,"中津","ＦＣ中津ジュニア","2019-06-11","2019-06-11","○"]
[null,"大道サッカースポーツ少年団","2019-05-25","2019-05-24","○",null,null,null,"中津沖代ＪＳＣ","2019-05-23","2019-05-24","○"]
[null,"リノスフットボールクラブ　Ｕ－１２","2019-06-03","2019-05-27","○",null,null,"速杵国東","ＦＣ安岐","2019-06-02","2019-05-31","○"]
[null,"明野西ＪＦＣ","2019-05-23","2019-05-27","○",null,null,null,"きつきＦＣ","2019-05-31","2019-05-31","○"]
[null,"明野東サッカースポーツ少年団","2019-05-29","2019-05-27","○",null,null,"日田","ＦＣアリアーレ","2019-06-05","2019-06-10","○"]
[null,"スマイス　セレソン　スポーツクラブ","2019-05-30","2019-05-28","○",null,null,null,"太陽スポーツクラブ大分西","2019-05-28","2019-06-03","○"]
[null,"別保ＳＦＣ","2019-05-23","2019-05-29","○",null,null,"別府","スマイス・セレソン","2019-05-27","2019-05-24","○"]
[null,"大分トリニータＵ－１２","2019-05-29","2019-06-07","○",null,null,null,"別府フットボールクラブ．ミネルバＵ－１２","2019-06-08","2019-06-03","○"]
[null,"ドリームキッズフットボールクラブ","2019-06-09","2019-06-07","○",null,null,"宇佐高田","ＦＣ　ＷＡＹＳ","2019-06-12","2019-06-12","○"]
[null,"由布川サッカースポーツ少年団","2019-05-27","2019-06-10","△",null,null,"佐伯","佐伯リベロフットボールクラブ","2019-05-23","2019-06-03","○"]
[null,"ＭＳＳ","2019-05-28","2019-06-11","○",null,null,"豊肥","県央おおのＪＦＣ","2019-05-31","2019-05-31","○"]
[null,null,null,null,null,null,null,"臼杵","市浜レッドソックス","2019-05-30","2019-06-03","○"]
[null,null,null,null,null,null,null,"津久見","千怒サッカースポーツ少年団","2019-05-28","2019-06-04","○"]
[]
["４．会議次第"]
["　①ジュニア委員長あいさつ"]
["　②審判部より"]
["　　・大会１日目（予選リーグ）は、帯同審判員を（３級以上）チームで帯同する。"]
["　　　※出場チームにて責任を持って準備する事。"]
["　③要項の確認、質問、諸注意"]
["　④抽選"]
[]
["５．その他"]
["　　①選手証/指導者資格証/審判資格証を、持参のこと。"]
["　　②領収証は、｢振込みの際の領収証」にかえさせていただきます。"]
["　　③大会期間中は、「駐車証」を」車内に表示すること。"]
[]
["６．試合会場"]
[null,"会場",null,null,null,"住所",null,null,null,"電話番号"]
["大在東G","大在東グラウンド",null,null,null,"大分市大在浜2丁目",null,null,null,"安東(県ｼﾞｭﾆｱ委員長)    090-8668-0697"]
["挾間上原G","挾間上原グラウンド",null,null,null,"由布市挾間町向原801",null,null,null,"097-583-3540"]
["サブA","大分ｽﾎﾟｰﾂ公園昭和電工ｻｯｶｰ･ﾗｸﾞﾋﾞｰ場　Aｺｰﾄ",null,null,null,"大分市大字松岡6841番地",null,null,null,"097-528-7700\n(管理事務所)"]

{"sheet":"大会要項","index":1,"n_rows":72,"n_cols":9,"rows_kept":72,"cut":false,"hidden":false,"merged":[[62,2,62,9],[51,2,51,9],[52,2,52,9],[53,2,53,9],[54,2,54,9],[57,2,57,9],[58,2,58,9],[59,2,59,9],[55,2,55,9],[56,2,56,9],[69,2,69,9],[70,2,70,9],[71,2,71,9],[63,2,63,9],[64,2,64,9],[65,2,65,9],[66,2,66,9],[67,2,67,9],[68,2,68,9],[0,8,0,9],[0,0,0,7],[60,2,60,9],[61,2,61,9],[50,2,50,9],[39,2,39,9],[40,2,40,9],[41,2,41,9],[42,2,42,9],[43,2,43,9],[44,2,44,9],[45,2,45,9],[46,2,46,9],[47,2,47,9],[48,2,48,9],[49,2,49,9],[16,2,16,9],[17,2,17,9],[38,2,38,9],[19,2,19,9],[21,2,21,9],[22,2,22,9],[23,2,23,9],[24,2,24,9],[25,2,25,9],[26,2,26,9],[27,2,27,9],[28,2,28,9],[29,2,29,9],[31,3,31,9],[35,4,35,9],[6,1,6,9],[30,3,30,9],[1,1,1,9],[2,1,2,9],[3,1,3,9],[4,1,4,9],[18,2,18,9],[7,1,7,9],[8,1,8,9],[9,2,9,9],[10,2,10,9],[11,2,11,9],[12,2,12,9],[13,2,13,9],[14,2,14,9],[15,2,15,9]]}
[{"$f":"B2","v":"第8回 全日本不動産協会杯争奪少年サッカー大会【ラビットカップ】大分県大会"},null,null,null,null,null,null,null,"実施要項（案）"]
["（１）名　　  称","第8回 全日本不動産協会杯争奪少年サッカー大会【ラビットカップ】大分県大会"]
["（２）主　　  催","一般社団法人大分県サッカー協会"]
["（３）主　  　管","（一社）大分県サッカー協会ジュニア委員会　"]
["（４）特別協賛","公益社団法人全日本不動産協会大分県本部"]
["（５）協　　　賛","（株）モルテン"]
["（６）後　　  援","大分合同新聞社，OBS大分放送局，TOSテレビ大分，OAB大分朝日放送，NHK大分放送局，エフエム大分"]
["（７）期　　  日","2019年（令和元年）6月23日（日）・7月7日（日）"]
["（８）会　　  場","大在東グラウンド、挾間上原グラウンド、大分スポーツ公園昭和電工サッカー・ラグビー場"]
["（９）参加資格","①","2019年（令和元年）度大分県サッカー協会に加盟登録されたチームで、各地区代表チームであること。"]
[null,"②","2007年（平成19年）4月2日以降に生まれた選手で構成されたチームであること。\n"]
[null,"③","参加の申し込みは，監督1名を含む引率指導者5名，選手16名までとする。\n引率指導者の中に，最低1名以上，日本サッカー協会公認D級以上の指導者資格を有する者が居る\nこと。（大会には資格証を持参すること。）"]
[null,"④","6年生が16名以上いる場合は2チームの出場を認めるが、同じ選手が違うチームで出場できない。\nその際，それぞれのチームに別々の指導者が帯同すること。\n同じ指導者がチームにまたがって登録することはできない。"]
[null,"⑤","スポーツ傷害保険に必ず加入していること。"]
[null,"⑥","各チームの指導者は，できるだけ多くの選手の出場機会を確保するよう努めるものとする。"]
["（10）試合方法 ","①","各地区予選を勝ち上がった24チームを8パートに分け、予選リーグを行う。予選リーグ各パート1位の8チーム\nにより決勝トーナメントを行い、優勝・準優勝・3位チームを決定する。　"]
[null,null,"予選リーグは、その試合時間を40分（20-10-20）とし、その試合結果により、最上位のチームが\n決勝トーナメントへ出場する。"]
[null,"②","予選リーグの順位の決定は、Ⅰ勝点（勝3点　分け1点　負0点）　Ⅱ当該チームの戦績　Ⅲ得失点差　\nⅣ多得点　Ⅴ抽選の順とする。勝点が同点になった場合の順位決定方法は、\n［Ⅰ当該チームの戦績、Ⅱ得失点差、Ⅲ総得点、Ⅳ抽選 ］とする。"]
[null,"③","決勝トーナメントは、試合時間を30分（15-5-15）とし、勝敗の決しないときは3人制のPK戦を行う。\nただし、決勝戦のみ10分（5分-5分）の延長戦を行い、それでも勝敗が決しない場合3人制のPK戦を行う。"]
[null,"④","登録できる交代要員および交代の最大人数は8名とし，交代して退いた競技者は交代要員となり，再び出場\nすることができる。交代の回数は制限されない。交代は，ボールがインプレー中，アウトオブプレー中にかか\nわらず行うことができ，チームの指導者，もしくは選手は「第4審」に交代選手の番号を口頭で報告し，用具チェ\nックを受けた後，交代ゾーンから行う。ただし，交代で退く競技者が負傷している場合は，主審の承認を得た上\nでどこからフィールドを離れてもよい。また，GKが交代する場合はアウトプレー時に主審を通じ行う。\n※交代ゾーン＝ベンチ側のハーフウェイラインを挟んで3mずつ6mの範囲"]
[null,"⑤","ベンチ入りできるスタッフは、大会参加申込書に記載の、監督・その他役職5名の内3名以内とする。"]
["　　　　　　　　","⑥","審判は、主審1名、副審2名　第4審の4人制とし、予選リーグにおいては、相互審判割り当て制とする。\n決勝トーナメントにおいては、本部対応とする。各試合にマッチコミッショナーを置き，\n決勝トーナメントは、ウェルフェアオフィサーも置く。\n"]
[null,"⑦","審判員は、試合開始前にベンチの選手を含めた登録全選手の用具の確認を行う。"]
[null,"⑧","試合球は4号検定球とし、予選リーグにおいては、各チームの持ち寄りとする。決勝トーナメントにおいては、\n本部で準備する。"]
[null,"⑨","試合規則は、「2018‐19年度日本サッカー協会 8人制サッカー競技規則」に準じる。"]
[null,"⑩","競技場の大きさは，縦68m・横50mとする。センターサークル半径7m・ゴールエリア4m・ペナルティ\nエリア12m・ペナルティマーク8m・アーク7m とし、少年用ゴールを使用する。"]
[null,"⑪","大会期間中、累計2回の警告または、退場及び退席を宣告された者は次回戦1試合に出場できず、それ以降の処置については本大会の規律・フェアプレー委員会で決定する。\n（累積は、予選リーグ→決勝トーナメントと持ち越す。）\n"]
[null,"⑫","大会中，天候によっては主審の判断で「飲水タイム」をとることもある。また、雷雨など，試合の続行が\n不可能だと判断される場合、中断他、大会本部にて協議・判断し、臨機応変な対応をとる。\n※ピッチサイドにスクイズボトルを置いて、熱中症対策をする事を推奨する。\n※ステンレス製の水筒は不可、プラスチック製のスクイズボトルのみ許可\n※ピッチから1メートルほど離して配置、できればチーム毎に分かりやすい目印をつける\n※インプレー・アウトオブプレーに関わらず飲水可能"]
[null,"⑬","大会期間中は、大分県協会所属有資格者（3級以上）の審判を必ず1名以上帯同させ、\n審判員（主審・副審）は、審判服を着用の上、必ず資格ワッペンを付けること。"]
[null,"⑭","審判員は、写真を添付した資格証を常時携帯し、提示を求められた際にはその指示に従うこと。"]
["（11）参加方法","①","申込先 ","Webによる申し込みとし、Kickoffのサイトより申し込む\n締め切り=6/12（水） 21:00  ※以降の変更は認めない。"]
[null,null,null,"https://kickoff.jfa.jp/　→「大会への参加申込」よりおこなう。\n※【大会エントリーガイド】を必ず確認すること。"]
["　　　　","②","参加料　","10，000円　","※参加費の振り込み期限は6/12（水）15時までとする"]
[null,null,null,"【振込先】　","大分銀行　大分銀行　南支店　普通　7537028　※振込は必ずチーム名で行う　"]
[null,null,null,null,"一般社団法人　大分県サッカー協会　代表理事　大場俊二"]
[null,null,null,null,"[イッパンシャダンホウジン　オオイタケンサッカーキョウカイ　ダイヒョウリジ　オオバシュンジ]"]
[null,"③","抽選会","日時:2019年6月16日（日）　19:00～　"]
[null,null,null,"場所:大分スポーツ公園　昭和電工ドーム大分　地下1階　B1-408会議室"]
[null,null,"修正及び変更手続きについては、t_ueno@junior.ofa.or.jpまでメールにて連絡すること。"]
[null,null,"※要項、注意事項確認のため必ず指導者が参加すること。"]
[null,null,"※参加料の振込及び大会エントリーが、期限に間に合わない場合は、参加を認めない。"]
[]
["（12）そ  の  他","①","同じ選手が、違うチームで登録及び出場はできない。\n移籍選手含め、5月10日までに選手登録及び移籍手続きが完了し、WEBエントリー申請ができることとする。\n加えて、年間を通じて同じチームで活動するチームであることとする。"]
[null,"②","大会期間中は、常に選手証及び指導者資格証、審判資格証、もしくはそれぞれの電子証の写しを携帯し、必要\nに応じて提示すること。指導者資格のない指導者は本人確認できる証書（運転免許証など）を提示すること。"]
[null,"③","マッチコーディネーションミーティング（MCM）は、予選リーグの各パート第1試合開始70分前(9:20 or 10:20)に、3チーム同時に行い、決勝トーナメントでは、各チーム第1試合の70分前に行うものとする。以降は、次回戦進出チームのみ試合終了後にMCMを行う。その際、チーム代表者は、必ず選手証・指導者資格証及びユニフォームを持参（FP/GKの正副全て現物で確認。写真等不可。）すること。また、大会参加申込書（エントリー表）を本部より受け取り、各試合毎に1部作成し、本部に提出すること。"]
[null,"④","試合開始10分前までに選手証・指導者証と本人の確認を本部にて完了しておくこと。"]
["　　　　　　　　","⑤","ユニフォーム（ソックスも含む）は、正・副ですべて異色のものを用意（厳守）し、どちらとも背・胸番号\nは選手本人と一致すること。"]
[null,null,"※番号は胸と背中に必ず明記する事とし、パンツの前面にもあるのが望ましい。"]
[null,null,"※番号は1～16までの通し番号とするのが望ましい。"]
[null,null,"※シャツの色彩は、審判員が通常着用する黒色と明確に判別し得るものでなければならない。"]
[null,null,"※ユニホームの下にアンダーシャツを着用する際は、その色が袖の主たる色と同色である事。"]
[null,null,"※アンダーショーツおよびタイツは、ショーツの主たる色、またはショーツの裾の部分と同じ色でなければならない。同一チームの競技者が着用する場合、同色のものとする。"]
[null,null,"※ソックスの上からレガース止めを巻く場合は、ソックスと同色のものしか認められない。"]
[null,null,"※広告表示については、ユニホーム規定により承認された場合のみ認める。"]
[null,null,"※JFA規約 ユニホームの既定 第5条（7）その他②に明記されているとおり、「チームは，各国代表チーム\n　及びプロクラブチームのレプリカを着用して公式競技会に出場することはできない」こととする。"]
[null,"⑥","出場選手の保護者の承諾は、必ず取り付けておくこと。"]
[null,"⑦","応援のマナーや会場の清掃については、各チームにおいて責任を持つこと。"]
[null,null,"○戦術的指示はテクニカルエリア内からその都度ただ1人の引率指導者が伝えることができる。"]
[null,null,"○特に、相手チーム・審判に対する中傷は固く禁じる。"]
[null,null,"○選手への厳しい叱責や体罰等があったと認められ、主審から一度注意を受けた後に再度同様な行為が\n　あった場合は、主審の判断により退席処分とし、それ以降はベンチからのコーチングを不可とする。\n　それ以降の試合については、規律・フェアプレー委員会において協議し、処分することもある。"]
[null,null,"○チームは本部席側に椅子を置いてベンチを設定し、グラウンドを挟んで後援会等の応援席とすること。"]
[null,null,"○大会本部・審判・相手チームなどへの誹謗・中傷は固く禁じる。目に余る行為が見られた場合には、\n　厳重に注意するとともに、その程度によっては大会本部にて規律委員会を開き大会の出場取り消しを\n　含め、ペナルティを科することもあることを重々承知しておくこと。"]
[null,null,"○駐車場における椅子を置くなどの場所取りは絶対にしないこと。（撤去し本部で預かります）"]
[null,null,"○駐車証には必ずチーム名を明記し、駐車時はダッシュボード上などはっきりと見える場所に掲示すること。"]
[null,null,"○駐車場内外における駐車のトラブルについて、大会本部はその責任を一切負わない。"]
[null,"⑧","「個人情報保護法案」の趣旨に沿って、個人情報を取り扱う。\n大会登録書は、本大会において事務局とチーム間の連絡手段と選手チェックにのみ利用し、漏洩のない\nように万全の管理を行う。チーム代表者は以下の点を確認の上、申し込むこととし、名簿が提出された時点で選手及び保護者が同意されたものとして取り扱う。"]
[null,null,"（1）個人情報を大分県サッカー協会ジュニア委員会に提出し、標記大会に出場することに同意する。"]
[null,null,"（2）提出した名簿をジュニア委員会がチームとの連絡、及び選手チェックに利用することに同意する。"]
[null,"⑨","本大会中、その他に記載されている事項を含め、大会規律違反と見なされる行為があった場合には、\n当該チームに厳重注意を行うとともに、その程度によっては大会本部にて規律委員会を開き、大会の\n出場取り消しを含め、ペナルティを科することもある。"]
[null,"⑩","開会式は大在東グラウンド、閉会式は大分スポーツ公園 昭和電工サッカーラグビー場Ａコートにて行う。\n開会式　6月23日（日）　9:00～　　　　　予選リーグが大在東グラウンドの出場全チーム　ユニフォーム着用\n閉会式　7月 7日（日）　試合終了後　　　 　　上位４チーム"]
[null,"⑪","流行性疾病、感染症等の事情により大会に出場できなくなった場合は速やかに大会事務局に連絡す\nる事。なお、チームが不参加の場合でも審判割当の責任は果たす事とする。"]
[null,"⑫","事務手続き簡素化のため，大会組合せ・日程等の連絡は，大分県サッカー協会HPで行う。\n\n"]

{"sheet":"MCM資料","index":2,"n_rows":105,"n_cols":32,"rows_kept":105,"cut":false,"hidden":false,"merged":[[35,2,36,34],[37,2,39,34],[40,2,40,34],[101,14,101,19],[104,1,105,33],[86,7,86,15],[87,7,87,15],[92,2,94,32],[78,2,79,32],[80,1,80,2],[96,1,96,2],[97,9,97,18],[99,4,99,12],[99,14,99,19],[99,21,99,29],[85,20,85,24],[85,27,85,31],[86,1,86,2],[88,1,88,2],[89,2,90,32],[70,2,70,32],[71,2,72,32],[73,2,73,32],[74,2,75,32],[76,2,77,32],[63,9,63,14],[64,5,65,32],[66,1,66,2],[67,2,68,33],[69,1,69,2],[55,1,55,2],[58,5,58,32],[59,5,59,32],[60,9,60,14],[42,1,42,2],[43,1,45,32],[46,1,46,2],[47,1,51,32],[52,1,52,2],[53,2,54,33],[34,1,34,2],[25,1,25,2],[26,18,26,24],[27,1,27,2],[27,11,27,33],[28,2,28,9],[29,2,29,9],[24,1,24,2],[24,16,24,23],[24,24,24,25],[30,1,30,2],[32,1,32,2],[21,16,21,23],[21,24,21,25],[22,16,22,23],[22,24,22,25],[23,1,23,2],[23,16,23,23],[23,24,23,25],[19,1,19,2],[19,16,19,23],[19,24,19,25],[20,16,20,23],[20,24,20,25],[18,1,18,2],[18,3,18,11],[18,16,18,23],[18,24,18,25],[17,1,17,2],[17,3,17,11],[17,16,17,23],[17,24,17,25],[16,16,16,23],[16,24,16,25],[9,0,9,33],[11,4,11,29],[12,0,12,2],[12,4,12,32],[16,1,16,2],[13,0,13,2],[13,4,13,32],[10,0,10,35],[0,0,0,33],[1,0,3,33],[5,9,5,16],[5,17,5,19],[7,1,7,9],[7,11,7,13],[7,14,7,15],[7,16,7,17],[7,18,7,26],[7,28,7,30],[7,31,7,32]]}
["マッチコーディネーションミーティング"]
[{"$f":"大会要項!B2","v":"第8回 全日本不動産協会杯争奪少年サッカー大会【ラビットカップ】大分県大会"}]
[]
[]
[]
[null,null,null,null,null,null,null,null,null,"マッチナンバー："]
[]
[null,"組み合わせ左側チーム",null,null,null,null,null,null,null,null,"（",null,null,null,"市）",null,"ｖｓ",null,"組み合わせ右側チーム",null,null,null,null,null,null,null,null,"（",null,null,null,"市）"]
[]
["　予選リーグ会場：大在東グラウンド【A】【B】、挾間上原グラウンド【A】【B】"]
["　決勝トーナメント会場：大分スポーツ公園 昭和電工サッカー・ラグビー場 A【北】【南】"]
[null,null,null,null,"２０１９年（令和元年）６月２３日（日）・７月７日(日）"]
["予選L",null,null,null,"①10:30　②11:30　③12:30　④13:30　⑤14:30　⑥15:30"]
["決勝T",null,null,null,"①  9:30　②10:10　③10:50　④11:30　⑤13:30"]
[]
[1," 挨拶および出席者の確認",null,null,null,null,null,null,null,null,null,null,"主管協会（　一般社団法人　大分県サッカー協会　）"]
[null,"a)",null,"マッチコミッショナー・・・・・・・・・・・",null,null,null,null,null,null,null,null,null,null,null,null,null,null,null,null,null,null,null,null,"氏"]
[null,"b)",null,"組み合わせ左側チーム",null,null,null,null,null,null,null,null,"・・・・・・・・・・・・・・・・・",null,null,null,null,null,null,null,null,null,null,null,"氏"]
[null,"c)",null,"組み合わせ右側チーム",null,null,null,null,null,null,null,null,"・・・・・・・・・・・・・・・・・",null,null,null,null,null,null,null,null,null,null,null,"氏"]
[null,"d)",null,"審判団",null,null,null,"主審・・・・・・・・・・・・・・",null,null,null,null,null,null,null,null,null,null,null,null,null,null,null,null,"氏"]
[null,null,null,null,null,null,null,"副審１・・・・・・・・・・・・・・",null,null,null,null,null,null,null,null,null,null,null,null,null,null,null,null,"氏"]
[null,null,null,null,null,null,null,"副審２・・・・・・・・・・・・・・・",null,null,null,null,null,null,null,null,null,null,null,null,null,null,null,null,"氏"]
[null,null,null,null,null,null,null,"第4の審判員・・・・・・・・・・・・",null,null,null,null,null,null,null,null,null,null,null,null,null,null,null,null,"氏"]
[null,"e)",null,"主管サッカー協会(司会進行）・・・・・・・・・・・・・・",null,null,null,null,null,null,null,null,null,null,null,null,null,null,null,null,null,null,null,null,"氏"]
[null,"f)",null,"ウェルフェアオフィサー",null,null,null,null,null,null,null,null,null,null,null,null,null,null,null,null,null,null,null,null,"氏"]
[]
[2,"競技関連事項",null,null,null,null,null,null,null,"マッチコミッショナー",null,null,null,null,null,null,null,"（",{"$f":"+Q17","v":0},null,null,null,null,null,null,"）"]
[null,"（1）",null,"累積警告選手の確認",null,null,null,null,null,null,null,"（本大会要項　（10）試合方法 ⑪）"]
[null,null,{"$f":"+D18","v":"組み合わせ左側チーム"}]
[null,null,{"$f":"+D19","v":"組み合わせ右側チーム"}]
[null,"（2）",null,"ユニフォームの色の決定"]
[]
[null,"（3）",null,"試合登録メンバー（選手および役員）の確認"]
[]
[null,"（４）",null,"試合時間"]
[null,"○","予選リーグは４０分とし、ハーフタイムのインターバル（前半終了から後半開始まで）は原則として１０\n分とする。規定の競技時間内に勝敗の決しない場合は、引き分けとする。"]
[]
[null,"○","決勝トーナメントは３０分とし、ハーフタイムのインターバル（前半終了から後半開始まで）は原則\nとして５分とする。規定の競技時間内に勝敗の決しない場合、3人制のPK方式にて勝敗を決定する。\n但し、決勝戦のみ１０分の延長戦を行い、それでも勝敗が決しない場合３人制のPK戦を行う。\n＊インターバル＝延長戦に入る前：3分、ペナルティーキック方式に入る前：1分"]
[]
[]
[null,"○","飲水タイムをとる場合は、「その他の理由」により空費された時間として追加する。"]
[null,"○","アディッショナルタイムの標記:",null,null,null,null,null,null,null,null,null,null,null,"行う（表示用ボード）"]
[null,"（5）",null,"競技者の数"]
[null,"○ 試合開始時の人数は、8対8を原則とする。\n○ 競技中、怪我人が出た場合は、交代要員から補充すること。\n○ 退場者が出た場合は、交代要員から補充し、退場者のベンチ戻入は認めない。\n○ 競技者の数がアンバランスになるのは、該当チームに交代要員がいなくなった時に限る。"]
[]
[]
[null,"（6）",null,"選手の交代"]
[null,"○ 競技開始前に登録した最大8名の交代要員の中から、自由な交代が認められ、交代して退いた競技者は\n　交代要員となり、再び出場することができる。（交代の回数は制限されない。）\n○ 交代は、ボールがインプレー中、アウトオブプレー中にかかわらず行うことができ、チームの指導者、\n　もしくは選手は「第4審」に交代選手の番号を口頭で報告し、用具チェックを受けた後、交代ゾーンか\n　ら行う。ただし、交代で退く競技者が負傷している場合は、主審の承認を得た上でどこからフィールド\n　を離れてもよい。   また、ＧＫが交代する場合はアウトプレー時に主審を通じ行う。"]
[]
[]
[]
[]
[null,"（7）",null,"チームベンチへの人数"]
[null,null,"ベンチに入る指導者・選手は、あらかじめ明記した監督1名及びその他役職者２名の計３名（うち\n1名はJFA公認指導者ライセンスを有すること。）・交代要員となる選手８名を最大とする。\n※大会登録書（メンバー表）に記載された選手及び監督・役員以外のベンチ入りは認めない。"]
[]
[null,"（8）",null,"ウォーミングアップ"]
[null,"***試合前***"]
[null,"○","場所：",null,null,"各会場の指定された区域にて"]
[null,"○","時間：",null,null,"ピッチ外：指定された区域にて"]
[null,null,null,null,null,"ピッチ内：ゴール使用　前の試合のハーフタイムのみ"]
[null,"○","ボール使用の可否：",null,null,null,null,null,null,"可"]
[null,"***試合中***"]
[null,"○","場所：",null,null,"ベンチ横"]
[null,"○","ボール使用の可否：",null,null,null,null,null,null,"否"]
[null,"○","着衣：",null,null,"交代要員の選手は、両チームのユニフォームおよび審判のユニフォームと明確に異なる色の着衣（ビブス等）を身につけること。"]
[]
[null,"（9）",null,"テクニカルエリア"]
[null,null,"戦術的指示を与える際は、その都度ただ1名の役員(監督に限定されない)のみが、テクニカルエリア(ベンチの両端から１メ－トルとタッチラインから1メ－トル)内で行うこと。"]
[]
[null,"（10）",null,"選手のけがの治療"]
[null,"○","レフェリ－が認める特別な場合でないかぎり、フィ－ルド内での医療処置は一切認められない。"]
[null,"○","ケガをした選手が運び出されたり、主審の許可によりフィ－ルドを出ることが認められる場合、医療担当者は医療処置をフィ－ルドの外で行う。"]
[]
[null,"○","主審の指示を受けた場合にのみ、2名以内のチ－ム役員と担架がフィ－ルドに入ることができる。"]
[null,"○","ゴ－ルキ－パ－がケガをした場合は試合を中断し、フィ－ルド内で手当てを受けることが許される。手当てが終わってから試合は再開される。"]
[]
[null,"○","負傷により出血した選手は、出血が止まったことを審判が確認し、主審の合図を受けてからフィールドに復帰することができる。"]
[]
[null,"○","負傷した選手が交代ゾーン以外からピッチを離れ、交替する場合は交替ゾーンから交替する選手は入場する。負傷した選手が治療をおえ、再度交替し入場する場合も交替ゾーンから行う。"]
[]
[null,"（11）",null,"選手の品行"]
[null,"○","フェアプレー"]
[null,"○","サッカーのイメージアップ"]
[null,"○","ソックスを引き上げる"]
[null,"○","シャツをパンツの中に入れる"]
[null,"○","試合開始前および終了後のセレモニー",null,null,null,null,null,null,null,null,null,null,null,null,null,null,null,null,null,{"$f":"+E100","v":"組み合わせ左側チーム"},null,null,null,null,null,null,{"$f":"+V100","v":"組み合わせ右側チーム"}]
[null,"（12）",null,"試合球",null,null,"「","予選L：各チームにて準備",null,null,null,null,null,null,null,null,"」"]
[null,null,null,null,null,null,"「","決勝T：本部にて準備",null,null,null,null,null,null,null,null,"」"]
[null,"（13）",null,"選手の用具",null,null,null,null,"用具及びメンバーチェック　　キックオフ10分前　"]
[null,"○","シャツについては、胸番号/背番号必須で一致していることとし、色彩は、審判員が通常着用する\n黒色と明確に判別し得るものでなければならない。"]
[]
[null,"○","すねあてを必ず着用（すねあて留めを使用する場合は、ソックスと同色である事）"]
[null,"○","※ユニホームの下にアンダーシャツを着用する場合は、その色が袖の主たる色と同色であること。\n※アンダーショーツおよびタイツは、ショーツの主たる色、またはショーツの裾の部分と同じ色で\nなければならない。同一チームの競技者が着用する場合、同色のものとする。"]
[]
[]
[null,"○","ゴ－ルキ－パ－は、フィ－ルドの状態、天候によっては長いパンツを着用しても良い"]
[null,"（14）",null,"キックオフ前のセレモニー"]
[null,"○","本部に挨拶を行い、",null,null,null,null,null,null,{"$f":"+V100","v":"組み合わせ右側チーム"},null,null,null,null,null,null,null,null,null,"から、主審に握手をしていく。"]
[]
[null,null,null,"《",{"$f":"+D18","v":"組み合わせ左側チーム"},null,null,null,null,null,null,null,null,"》","＜審判団＞",null,null,null,null,null,"《",{"$f":"+D19","v":"組み合わせ右側チーム"},null,null,null,null,null,null,null,null,"》"]
[null,null,null,null,null,null,null,null,null,null,null,null,null,null,"←","←","←","←","←","←"]
[null,null,null,null,null,null,null,null,null,null,null,null,null,null,"本部"]
[]
[3,"その他"]
[null,"本大会要項（12）その他を、役員・保護者等に周知徹底願います。"]

{"sheet":"累積警告・退場","index":3,"n_rows":28,"n_cols":23,"rows_kept":28,"cut":false,"hidden":false,"merged":[[4,1,14,1],[15,1,16,1],[17,1,18,1],[19,1,20,1],[21,1,22,1]]}
["×",null,{"$f":"大会要項!B2","v":"第8回 全日本不動産協会杯争奪少年サッカー大会【ラビットカップ】大分県大会"},null,null,"累積警告・退場"]
[null,null,{"$f":"大会要項!B8","v":"2019年（令和元年）6月23日（日）・7月7日（日）"}]
[null,null,null,"地区予選",null,null,null,"予選リーグ　（１試合目）",null,null,null,"予選リーグ　（2試合目）",null,null,null,"1回戦",null,null,null,"準決勝"]
["敗戦","地区","チーム名","背番号","氏名","警告/退場","内容","背番号","氏名","警告/退場","内容","背番号","氏名","警告/退場","内容","背番号","氏名","警告/退場","内容","背番号","氏名","警告/退場","内容"]
[null,"大分",{"$f":"出場チーム!B11","v":"カティオーラフットボールクラブＵ－１２"},"-",null,null,null,"-",null,null,null,"-"]
[null,null,{"$f":"出場チーム!B12","v":"大道サッカースポーツ少年団"},"-",null,null,null,"-",null,null,null,"-"]
[null,null,{"$f":"出場チーム!B13","v":"リノスフットボールクラブ　Ｕ－１２"},"-",null,null,null,"-",null,null,null,"-"]
[null,null,{"$f":"出場チーム!B14","v":"明野西ＪＦＣ"},"-",null,null,null,"-",null,null,null,"-"]
[null,null,{"$f":"出場チーム!B15","v":"明野東サッカースポーツ少年団"},"-",null,null,null,"-",null,null,null,"-"]
[null,null,{"$f":"出場チーム!B16","v":"スマイス　セレソン　スポーツクラブ"},"-",null,null,null,"-",null,null,null,"-"]
[null,null,{"$f":"出場チーム!B17","v":"別保ＳＦＣ"},"-",null,null,null,"-",null,null,null,"-"]
[null,null,{"$f":"出場チーム!B18","v":"大分トリニータＵ－１２"},"-",null,null,null,"-",null,null,null,"-"]
[null,null,{"$f":"出場チーム!B19","v":"ドリームキッズフットボールクラブ"},"-",null,null,null,"-",null,null,null,"-"]
[null,null,{"$f":"出場チーム!B20","v":"由布川サッカースポーツ少年団"},"-",null,null,null,"-",null,null,null,"-"]
[null,null,{"$f":"出場チーム!B21","v":"ＭＳＳ"},"-",null,null,null,"-",null,null,null,"-"]
[null,"中津",{"$f":"出場チーム!I11","v":"ＦＣ中津ジュニア"},"-",null,null,null,"-",null,null,null,"-"]
[null,null,{"$f":"出場チーム!I12","v":"中津沖代ＪＳＣ"},"-",null,null,null,"-",null,null,null,"-"]
[null,"速杵国東",{"$f":"出場チーム!I13","v":"ＦＣ安岐"},"-",null,null,null,"-",null,null,null,"-"]
[null,null,{"$f":"出場チーム!I14","v":"きつきＦＣ"},"-",null,null,null,"-",null,null,null,"-"]
[null,"日田",{"$f":"出場チーム!I15","v":"ＦＣアリアーレ"},"-",null,null,null,"-",null,null,null,"-"]
[null,null,{"$f":"出場チーム!I16","v":"太陽スポーツクラブ大分西"},"-",null,null,null,"-",null,null,null,"-"]
[null,"別府",{"$f":"出場チーム!I17","v":"スマイス・セレソン"},"-",null,null,null,"-",null,null,null,"-"]
[null,null,{"$f":"出場チーム!I18","v":"別府フットボールクラブ．ミネルバＵ－１２"},"-",null,null,null,"-",null,null,null,"-"]
[null,"宇佐高田",{"$f":"出場チーム!I19","v":"ＦＣ　ＷＡＹＳ"},"-",null,null,null,"-",null,null,null,"-"]
[null,"佐伯",{"$f":"出場チーム!I20","v":"佐伯リベロフットボールクラブ"},"-",null,null,null,"-",null,null,null,"-"]
[null,"豊肥",{"$f":"出場チーム!I21","v":"県央おおのＪＦＣ"},"-",null,null,null,"-",null,null,null,"-"]
[null,"臼杵",{"$f":"出場チーム!I22","v":"市浜レッドソックス"},"-",null,null,null,"-",null,null,null,"-"]
[null,"津久見",{"$f":"出場チーム!I23","v":"千怒サッカースポーツ少年団"},"-",null,null,null,"-",null,null,null,"-"]

{"sheet":"組合せ抽選用","index":4,"n_rows":45,"n_cols":22,"rows_kept":45,"cut":false,"hidden":false,"merged":[[19,17,20,17],[21,17,22,17],[23,17,24,17],[1,1,1,11],[1,12,1,14],[13,5,15,5],[5,5,7,5],[14,4,15,4],[5,3,7,3],[8,2,9,3],[8,5,9,6],[6,4,7,4],[4,4,5,4],[4,6,5,6],[3,17,13,17],[4,11,5,11],[4,13,5,13],[5,10,7,10],[12,6,13,6],[12,13,13,13],[12,11,13,11],[33,2,34,3],[33,5,34,6],[5,12,7,12],[8,12,9,13],[13,10,15,10],[13,12,15,12],[8,9,9,10],[6,11,7,11],[31,11,32,11],[29,11,30,11],[25,9,26,10],[22,10,24,10],[23,11,24,11],[21,11,22,11],[16,2,17,3],[16,5,17,6],[29,6,30,6],[25,2,26,3],[25,5,26,6],[30,3,32,3],[30,5,32,5],[31,4,32,4],[29,4,30,4],[22,3,24,3],[22,5,24,5],[21,13,22,13],[23,4,24,4],[14,11,15,11],[21,4,22,4],[16,9,17,10],[21,6,22,6],[13,3,15,3],[12,4,13,4],[22,12,24,12],[16,12,17,13],[25,17,26,17],[25,12,26,13],[33,9,34,10],[30,10,32,10],[29,13,30,13],[33,12,34,13],[30,12,32,12]]}
[]
[null,{"$f":"大会要項!B2","v":"第8回 全日本不動産協会杯争奪少年サッカー大会【ラビットカップ】大分県大会"},null,null,null,null,null,null,null,null,null,null,"組み合わせ",null,null,null,null,"Aブロック（フリー）"]
[null,null,null,null,null,null,null,null,null,null,null,null,null,null,null,null,null,"地　　区","チーム名"]
[null,null,null,null,"「Aパート」",null,null,null,null,null,null,"「Cパート」",null,null,null,null,"H2","大分","カティオーラ",null,{"$f":"出場チーム!B11","v":"カティオーラフットボールクラブＵ－１２"},"大分"]
[null,null,null,"A1",{"$f":"IF(ISERROR(VLOOKUP(D5,$Q:$S,3,FALSE))=TRUE,\"\",VLOOKUP(D5,$Q:$S,3,FALSE))","v":"佐伯リベロ"},null,null,null,null,null,"C1",{"$f":"IF(ISERROR(VLOOKUP(K5,$Q:$S,3,FALSE))=TRUE,\"\",VLOOKUP(K5,$Q:$S,3,FALSE))","v":"ミネルバ"},null,null,null,null,"D2",null,"大道",null,{"$f":"出場チーム!B12","v":"大道サッカースポーツ少年団"},"大分"]
[null,null,null,null,null,null,null,null,null,null,null,null,null,null,null,null,"B2",null,"リノス",null,{"$f":"出場チーム!B13","v":"リノスフットボールクラブ　Ｕ－１２"},"大分"]
[null,null,null,null,null,null,null,null,null,null,null,null,null,null,null,null,"B1",null,"明野西",null,{"$f":"出場チーム!B14","v":"明野西ＪＦＣ"},"大分"]
[null,null,null,null,null,null,null,null,null,null,null,null,null,null,null,null,"F2",null,"明野東",null,{"$f":"出場チーム!B15","v":"明野東サッカースポーツ少年団"},"大分"]
[null,"A2",{"$f":"IF(ISERROR(VLOOKUP(B9,$Q:$S,3,FALSE))=TRUE,\"\",VLOOKUP(B9,$Q:$S,3,FALSE))","v":"別保"},null,null,{"$f":"IF(ISERROR(VLOOKUP(H9,$Q:$S,3,FALSE))=TRUE,\"\",VLOOKUP(H9,$Q:$S,3,FALSE))","v":"ＷＡＹＳ"},null,"A3","C2",{"$f":"IF(ISERROR(VLOOKUP(I9,$Q:$S,3,FALSE))=TRUE,\"\",VLOOKUP(I9,$Q:$S,3,FALSE))","v":"大分トリニータ"},null,null,{"$f":"IF(ISERROR(VLOOKUP(O9,$Q:$S,3,FALSE))=TRUE,\"\",VLOOKUP(O9,$Q:$S,3,FALSE))","v":"太陽大分西"},null,"C3",null,"G2",null,"スマイス　スポーツ",null,{"$f":"出場チーム!B16","v":"スマイス　セレソン　スポーツクラブ"},"大分"]
[null,null,null,null,null,null,null,null,null,null,null,null,null,null,null,null,"A2",null,"別保",null,{"$f":"出場チーム!B17","v":"別保ＳＦＣ"},"大分"]
[null,null,null,null,null,null,null,null,null,null,null,null,null,null,null,null,"C2",null,"大分トリニータ",null,{"$f":"出場チーム!B18","v":"大分トリニータＵ－１２"},"大分"]
[null,null,null,null,"「Eパート」",null,null,null,null,null,null,"「Gパート」",null,null,null,null,"E1",null,"ドリームキッズ",null,{"$f":"出場チーム!B19","v":"ドリームキッズフットボールクラブ"},"大分"]
[null,null,null,"E1",{"$f":"IF(ISERROR(VLOOKUP(D13,$Q:$S,3,FALSE))=TRUE,\"\",VLOOKUP(D13,$Q:$S,3,FALSE))","v":"ドリームキッズ"},null,null,null,null,null,"G1",{"$f":"IF(ISERROR(VLOOKUP(K13,$Q:$S,3,FALSE))=TRUE,\"\",VLOOKUP(K13,$Q:$S,3,FALSE))","v":"きつき"},null,null,null,null,"E2",null,"由布川",null,{"$f":"出場チーム!B20","v":"由布川サッカースポーツ少年団"},"大分"]
[null,null,null,null,null,null,null,null,null,null,null,null,null,null,null,null,"H3",null,"ＭＳＳ",null,{"$f":"出場チーム!B21","v":"ＭＳＳ"},"大分"]
[]
[]
[null,"E2",{"$f":"IF(ISERROR(VLOOKUP(B17,$Q:$S,3,FALSE))=TRUE,\"\",VLOOKUP(B17,$Q:$S,3,FALSE))","v":"由布川"},null,null,{"$f":"IF(ISERROR(VLOOKUP(H17,$Q:$S,3,FALSE))=TRUE,\"\",VLOOKUP(H17,$Q:$S,3,FALSE))","v":"スマイス・セレソン"},null,"E3","G2",{"$f":"IF(ISERROR(VLOOKUP(I17,$Q:$S,3,FALSE))=TRUE,\"\",VLOOKUP(I17,$Q:$S,3,FALSE))","v":"スマイス　スポーツ"},null,null,{"$f":"IF(ISERROR(VLOOKUP(O17,$Q:$S,3,FALSE))=TRUE,\"\",VLOOKUP(O17,$Q:$S,3,FALSE))","v":"県央おおの"},null,"G3"]
[null,null,null,null,null,null,null,null,null,null,null,null,null,null,null,null,null,"Bブロック（奇数）"]
[null,null,null,null,null,null,null,null,null,null,null,null,null,null,null,null,null,"地　　区","チーム名"]
[null,null,null,null,null,null,null,null,null,null,null,null,null,null,null,null,"H1","中津","ＦＣ中津",null,{"$f":"出場チーム!I11","v":"ＦＣ中津ジュニア"},"中津"]
[null,null,null,null,"「Bパート」",null,null,null,null,null,null,"「Dパート」",null,null,null,null,"B3",null,"中津沖代",null,{"$f":"出場チーム!I12","v":"中津沖代ＪＳＣ"},"中津"]
[null,null,null,"B1",{"$f":"IF(ISERROR(VLOOKUP(D22,$Q:$S,3,FALSE))=TRUE,\"\",VLOOKUP(D22,$Q:$S,3,FALSE))","v":"明野西"},null,null,null,null,null,"D1",{"$f":"IF(ISERROR(VLOOKUP(K22,$Q:$S,3,FALSE))=TRUE,\"\",VLOOKUP(K22,$Q:$S,3,FALSE))","v":"市浜"},null,null,null,null,"F3","速杵国東","安岐",null,{"$f":"出場チーム!I13","v":"ＦＣ安岐"},"速杵国東"]
[null,null,null,null,null,null,null,null,null,null,null,null,null,null,null,null,"G1",null,"きつき",null,{"$f":"出場チーム!I14","v":"きつきＦＣ"},"速杵国東"]
[null,null,null,null,null,null,null,null,null,null,null,null,null,null,null,null,"F1","日田","アリアーレ",null,{"$f":"出場チーム!I15","v":"ＦＣアリアーレ"},"日田"]
[null,null,null,null,null,null,null,null,null,null,null,null,null,null,null,null,"C3",null,"太陽大分西",null,{"$f":"出場チーム!I16","v":"太陽スポーツクラブ大分西"},"日田"]
[null,"B2",{"$f":"IF(ISERROR(VLOOKUP(B26,$Q:$S,3,FALSE))=TRUE,\"\",VLOOKUP(B26,$Q:$S,3,FALSE))","v":"リノス"},null,null,{"$f":"IF(ISERROR(VLOOKUP(H26,$Q:$S,3,FALSE))=TRUE,\"\",VLOOKUP(H26,$Q:$S,3,FALSE))","v":"中津沖代"},null,"B3","D2",{"$f":"IF(ISERROR(VLOOKUP(I26,$Q:$S,3,FALSE))=TRUE,\"\",VLOOKUP(I26,$Q:$S,3,FALSE))","v":"大道"},null,null,{"$f":"IF(ISERROR(VLOOKUP(O26,$Q:$S,3,FALSE))=TRUE,\"\",VLOOKUP(O26,$Q:$S,3,FALSE))","v":"千怒"},null,"D3",null,"E3","別府","スマイス・セレソン",null,{"$f":"出場チーム!I17","v":"スマイス・セレソン"},"別府"]
[null,null,null,null,null,null,null,null,null,null,null,null,null,null,null,null,"C1",null,"ミネルバ",null,{"$f":"出場チーム!I18","v":"別府フットボールクラブ．ミネルバＵ－１２"},"別府"]
[null,null,null,null,null,null,null,null,null,null,null,null,null,null,null,null,"A3","宇佐高田","ＷＡＹＳ",null,{"$f":"出場チーム!I19","v":"ＦＣ　ＷＡＹＳ"},"宇佐高田"]
[null,null,null,null,"「Fパート」",null,null,null,null,null,null,"「Hパート」",null,null,null,null,"A1","佐伯","佐伯リベロ",null,{"$f":"出場チーム!I20","v":"佐伯リベロフットボールクラブ"},"佐伯"]
[null,null,null,"F1",{"$f":"IF(ISERROR(VLOOKUP(D30,$Q:$S,3,FALSE))=TRUE,\"\",VLOOKUP(D30,$Q:$S,3,FALSE))","v":"アリアーレ"},null,null,null,null,null,"H1",{"$f":"IF(ISERROR(VLOOKUP(K30,$Q:$S,3,FALSE))=TRUE,\"\",VLOOKUP(K30,$Q:$S,3,FALSE))","v":"ＦＣ中津"},null,null,null,null,"G3","豊肥","県央おおの",null,{"$f":"出場チーム!I21","v":"県央おおのＪＦＣ"},"豊肥"]
[null,null,null,null,null,null,null,null,null,null,null,null,null,null,null,null,"D1","臼杵","市浜",null,{"$f":"出場チーム!I22","v":"市浜レッドソックス"},"臼杵"]
[null,null,null,null,null,null,null,null,null,null,null,null,null,null,null,null,"D3","津久見","千怒",null,{"$f":"出場チーム!I23","v":"千怒サッカースポーツ少年団"},"津久見"]
[]
[null,"F2",{"$f":"IF(ISERROR(VLOOKUP(B34,$Q:$S,3,FALSE))=TRUE,\"\",VLOOKUP(B34,$Q:$S,3,FALSE))","v":"明野東"},null,null,{"$f":"IF(ISERROR(VLOOKUP(H34,$Q:$S,3,FALSE))=TRUE,\"\",VLOOKUP(H34,$Q:$S,3,FALSE))","v":"安岐"},null,"F3","H2",{"$f":"IF(ISERROR(VLOOKUP(I34,$Q:$S,3,FALSE))=TRUE,\"\",VLOOKUP(I34,$Q:$S,3,FALSE))","v":"カティオーラ"},null,null,{"$f":"IF(ISERROR(VLOOKUP(O34,$Q:$S,3,FALSE))=TRUE,\"\",VLOOKUP(O34,$Q:$S,3,FALSE))","v":"ＭＳＳ"},null,"H3"]
[]
[]
[]
[]
[]
[]
[null,null,null,null,null,null,null,null,null,null,null,null,null,null,null,null,null,"＜抽選方法＞"]
[null,null,null,null,null,null,null,null,null,null,null,null,null,null,null,null,null,"Bブロック 9地区の各第1代表が8パートに分かれるように抽選。"]
[null,null,null,null,null,null,null,null,null,null,null,null,null,null,null,null,null,"(まず、大分地区以外が全パートに入る事が前提で、開会式がある場合は、A1を選手宣誓とする。)"]
[null,null,null,null,null,null,null,null,null,null,null,null,null,null,null,null,null,"２チーム出場の地区が、第1代表と決勝戦まで対戦しないように、左右のパートに分かれるように抽選。"]
[null,null,null,null,null,null,null,null,null,null,null,null,null,null,null,null,null,"大分地区は、振込順にて抽選"]

{"sheet":"予選リーグ","index":5,"n_rows":32,"n_cols":14,"rows_kept":32,"cut":false,"hidden":false,"merged":[[30,8,31,8],[28,13,29,13],[30,10,31,10],[24,10,25,10],[28,11,29,11],[26,2,27,13],[28,8,29,8],[30,4,31,4],[28,2,29,2],[24,8,25,8],[30,11,31,11],[30,13,31,13],[28,10,29,10],[24,13,25,13],[24,11,25,11],[30,2,31,2],[28,4,29,4],[20,5,21,5],[30,7,31,7],[28,5,29,5],[30,5,31,5],[28,7,29,7],[24,7,25,7],[22,5,23,5],[20,4,21,4],[28,0,29,0],[30,0,31,0],[28,1,29,1],[30,1,31,1],[26,0,27,0],[26,1,27,1],[0,1,0,4],[24,2,25,2],[18,2,19,2],[20,2,21,2],[22,2,23,2],[18,1,19,1],[20,1,21,1],[24,4,25,4],[22,1,23,1],[13,2,13,7],[22,7,23,7],[18,7,19,7],[20,7,21,7],[16,2,16,4],[16,5,16,7],[24,1,25,1],[24,0,25,0],[24,5,25,5],[20,0,21,0],[22,0,23,0],[22,4,23,4],[18,10,19,10],[18,5,19,5],[14,8,14,10],[18,8,19,8],[18,0,19,0],[18,4,19,4],[20,8,21,8],[22,8,23,8],[13,8,13,13],[20,11,21,11],[14,2,14,4],[20,10,21,10],[22,13,23,13],[22,11,23,11],[22,10,23,10],[20,13,21,13],[14,11,14,13],[14,5,14,7],[16,11,16,13],[16,8,16,10],[18,13,19,13],[18,11,19,11]]}
[null,"《予選リーグ日程》",null,null,null,"６月２３日（日）"]
[null,null,"8:00","大在東グラウンド設営",null,null,"9:00","開会式(大在東G)",null,"09:00:00","挾間上原グラウンド設営"]
[null,null,"9:20","MCM(各会場第1試合ﾊﾟｰﾄ)\n",null,null,null,null,null,"10:20","MCM(各会場第2試合ﾊﾟｰﾄ)"]
[null,null,null,"「Aパート」",null,null,"「Bパート」",null,null,"「Eパート」",null,null,"「Fパート」"]
[null,null,null,{"$f":"組合せ抽選用!E5","v":"佐伯リベロ"},null,null,{"$f":"組合せ抽選用!E22","v":"明野西"},null,null,{"$f":"組合せ抽選用!E13","v":"ドリームキッズ"},null,null,{"$f":"組合せ抽選用!E30","v":"アリアーレ"}]
[]
[null,null,{"$f":"組合せ抽選用!C9","v":"別保"},null,{"$f":"組合せ抽選用!F9","v":"ＷＡＹＳ"},{"$f":"組合せ抽選用!C26","v":"リノス"},null,{"$f":"組合せ抽選用!F26","v":"中津沖代"},{"$f":"組合せ抽選用!C17","v":"由布川"},null,{"$f":"組合せ抽選用!F17","v":"スマイス・セレソン"},{"$f":"組合せ抽選用!C34","v":"明野東"},null,{"$f":"組合せ抽選用!F34","v":"安岐"}]
[]
[null,null,null,"「Cパート」",null,null,"「Dパート」",null,null,"「Gパート」",null,null,"「Hパート」"]
[null,null,null,{"$f":"組合せ抽選用!L5","v":"ミネルバ"},null,null,{"$f":"組合せ抽選用!L22","v":"市浜"},null,null,{"$f":"組合せ抽選用!L13","v":"きつき"},null,null,{"$f":"組合せ抽選用!L30","v":"ＦＣ中津"}]
[]
[null,null,{"$f":"組合せ抽選用!J9","v":"大分トリニータ"},null,{"$f":"組合せ抽選用!M9","v":"太陽大分西"},{"$f":"組合せ抽選用!J26","v":"大道"},null,{"$f":"組合せ抽選用!M26","v":"千怒"},{"$f":"組合せ抽選用!J17","v":"スマイス　スポーツ"},null,{"$f":"組合せ抽選用!M17","v":"県央おおの"},{"$f":"組合せ抽選用!J34","v":"カティオーラ"},null,{"$f":"組合せ抽選用!M34","v":"ＭＳＳ"}]
[]
[null,null,"大在東グラウンド",null,null,null,null,null,"挾間上原グラウンド"]
[null,"開始時刻","「A」コート",null,null,"「B」コート",null,null,"「A」コート",null,null,"「B」コート"]
[null,"会場設営","別保","トリニータ",null,"明野西","リノス","大道","Dキッズ","由布川","スポーツ","明野東","カティ","MSS"]
[null,"ｺﾞｰﾙ運搬"]
[null,"審判",null,"副審",null,null,"副審",null,null,"副審",null,null,"副審"]
["①","10:30:00",{"$f":"D5","v":"佐伯リベロ"},{"$f":"E12","v":"太陽大分西"},{"$f":"C7","v":"別保"},{"$f":"G5","v":"明野西"},{"$f":"H12","v":"千怒"},{"$f":"F7","v":"リノス"},{"$f":"J5","v":"ドリームキッズ"},{"$f":"K12","v":"県央おおの"},{"$f":"I7","v":"由布川"},{"$f":"M5","v":"アリアーレ"},{"$f":"N12","v":"ＭＳＳ"},{"$f":"L7","v":"明野東"}]
[null,null,null,{"$f":"D10","v":"ミネルバ"},null,null,{"$f":"G10","v":"市浜"},null,null,{"$f":"J10","v":"きつき"},null,null,{"$f":"M10","v":"ＦＣ中津"}]
["②","11:30:00",{"$f":"D10","v":"ミネルバ"},{"$f":"D5","v":"佐伯リベロ"},{"$f":"C12","v":"大分トリニータ"},{"$f":"G10","v":"市浜"},{"$f":"G5","v":"明野西"},{"$f":"F12","v":"大道"},{"$f":"J10","v":"きつき"},{"$f":"J5","v":"ドリームキッズ"},{"$f":"I12","v":"スマイス　スポーツ"},{"$f":"M10","v":"ＦＣ中津"},{"$f":"M5","v":"アリアーレ"},{"$f":"L12","v":"カティオーラ"}]
[null,null,null,{"$f":"C7","v":"別保"},null,null,{"$f":"F7","v":"リノス"},null,null,{"$f":"I7","v":"由布川"},null,null,{"$f":"L7","v":"明野東"}]
["③","12:30:00",{"$f":"C7","v":"別保"},{"$f":"D10","v":"ミネルバ"},{"$f":"E7","v":"ＷＡＹＳ"},{"$f":"F7","v":"リノス"},{"$f":"G10","v":"市浜"},{"$f":"H7","v":"中津沖代"},{"$f":"I7","v":"由布川"},{"$f":"J10","v":"きつき"},{"$f":"K7","v":"スマイス・セレソン"},{"$f":"L7","v":"明野東"},{"$f":"M10","v":"ＦＣ中津"},{"$f":"N7","v":"安岐"}]
[null,null,null,{"$f":"C12","v":"大分トリニータ"},null,null,{"$f":"F12","v":"大道"},null,null,{"$f":"I12","v":"スマイス　スポーツ"},null,null,{"$f":"L12","v":"カティオーラ"}]
["④","13:30:00",{"$f":"C12","v":"大分トリニータ"},{"$f":"C7","v":"別保"},{"$f":"E12","v":"太陽大分西"},{"$f":"F12","v":"大道"},{"$f":"F7","v":"リノス"},{"$f":"H12","v":"千怒"},{"$f":"I12","v":"スマイス　スポーツ"},{"$f":"I7","v":"由布川"},{"$f":"K12","v":"県央おおの"},{"$f":"L12","v":"カティオーラ"},{"$f":"L7","v":"明野東"},{"$f":"N12","v":"ＭＳＳ"}]
[null,null,null,{"$f":"E7","v":"ＷＡＹＳ"},null,null,{"$f":"H7","v":"中津沖代"},null,null,{"$f":"K7","v":"スマイス・セレソン"},null,null,{"$f":"N7","v":"安岐"}]
[null,null,"休　　　　　　憩"]
[]
["⑤","14:30:00",{"$f":"E7","v":"ＷＡＹＳ"},{"$f":"C12","v":"大分トリニータ"},{"$f":"D5","v":"佐伯リベロ"},{"$f":"H7","v":"中津沖代"},{"$f":"F12","v":"大道"},{"$f":"G5","v":"明野西"},{"$f":"K7","v":"スマイス・セレソン"},{"$f":"I12","v":"スマイス　スポーツ"},{"$f":"J5","v":"ドリームキッズ"},{"$f":"N7","v":"安岐"},{"$f":"L12","v":"カティオーラ"},{"$f":"M5","v":"アリアーレ"}]
[null,null,null,{"$f":"E12","v":"太陽大分西"},null,null,{"$f":"H12","v":"千怒"},null,null,{"$f":"K12","v":"県央おおの"},null,null,{"$f":"N12","v":"ＭＳＳ"}]
["⑥","15:30:00",{"$f":"E12","v":"太陽大分西"},{"$f":"E7","v":"ＷＡＹＳ"},{"$f":"D10","v":"ミネルバ"},{"$f":"H12","v":"千怒"},{"$f":"H7","v":"中津沖代"},{"$f":"G10","v":"市浜"},{"$f":"K12","v":"県央おおの"},{"$f":"K7","v":"スマイス・セレソン"},{"$f":"J10","v":"きつき"},{"$f":"N12","v":"ＭＳＳ"},{"$f":"N7","v":"安岐"},{"$f":"M10","v":"ＦＣ中津"}]
[null,null,null,{"$f":"D5","v":"佐伯リベロ"},null,null,{"$f":"G5","v":"明野西"},null,null,{"$f":"J5","v":"ドリームキッズ"},null,null,{"$f":"M5","v":"アリアーレ"}]

{"sheet":"予選リーグ (2)","index":6,"n_rows":75,"n_cols":53,"rows_kept":75,"cut":false,"hidden":false,"merged":[[20,49,20,51],[20,45,20,47],[20,43,20,44],[16,52,16,54],[17,52,17,54],[22,52,22,54],[18,49,18,51],[19,37,19,39],[19,43,19,44],[19,45,19,47],[19,49,19,51],[18,40,18,42],[22,37,22,39],[18,45,18,47],[19,52,19,54],[20,52,20,54],[21,52,21,54],[19,40,19,42],[20,37,20,39],[18,43,18,44],[16,49,16,51],[16,45,16,47],[14,33,14,35],[15,21,15,23],[14,28,15,28],[14,29,15,30],[14,31,14,32],[15,17,15,19],[15,24,15,26],[23,52,23,54],[22,45,22,47],[21,40,21,42],[21,37,21,39],[20,40,20,42],[22,43,22,44],[17,49,17,51],[16,43,16,44],[16,17,16,19],[17,17,17,19],[17,21,17,23],[16,24,16,26],[17,24,17,26],[18,17,18,19],[18,52,18,54],[18,28,19,28],[18,37,18,39],[12,12,12,14],[13,12,13,14],[16,9,16,11],[45,17,46,17],[52,3,52,5],[47,20,48,21],[49,20,50,21],[47,17,48,17],[47,19,48,19],[49,19,50,19],[45,19,46,19],[45,18,46,18],[45,14,46,14],[45,13,46,13],[14,17,14,19],[19,3,19,4],[19,5,19,7],[20,15,20,16],[19,15,19,16],[49,13,50,13],[52,6,52,8],[52,18,52,19],[49,16,50,16],[49,15,50,15],[23,49,23,51],[23,40,23,42],[22,40,22,42],[21,49,21,51],[21,45,21,47],[21,43,21,44],[22,49,22,51],[18,15,18,16],[15,15,15,16],[16,15,16,16],[17,15,17,16],[15,31,15,32],[15,33,15,35],[16,31,16,32],[16,33,16,35],[17,31,17,32],[17,33,17,35],[16,29,17,30],[20,28,21,28],[20,24,20,26],[23,33,23,35],[23,31,23,32],[22,29,23,30],[22,33,22,35],[13,52,13,54],[13,43,13,44],[13,45,13,47],[13,49,13,51],[14,52,14,54],[15,52,15,54],[14,49,14,51],[15,43,15,44],[15,49,15,51],[47,16,48,16],[13,40,13,42],[14,45,14,47],[14,43,14,44],[13,33,13,35],[12,40,12,42],[13,37,13,39],[23,43,23,44],[12,37,12,39],[12,45,12,47],[17,37,17,39],[17,45,17,47],[17,43,17,44],[16,40,16,42],[16,37,16,39],[15,40,15,42],[15,37,15,39],[14,37,14,39],[18,33,18,35],[20,33,20,35],[19,33,19,35],[17,40,17,42],[15,45,15,47],[21,33,21,35],[22,24,22,26],[22,21,22,23],[47,23,48,23],[44,28,44,30],[45,22,46,22],[44,24,44,25],[45,23,46,23],[45,24,46,25],[44,22,44,23],[46,29,46,30],[45,0,46,0],[45,1,45,2],[46,1,46,2],[22,3,22,4],[22,5,22,7],[2,28,2,30],[3,28,3,30],[12,28,13,28],[12,29,13,30],[11,28,11,30],[44,18,44,19],[20,21,20,23],[19,21,19,23],[20,29,21,30],[22,28,23,28],[22,17,22,19],[12,24,12,26],[13,24,13,26],[14,21,14,23],[14,24,14,26],[12,21,12,23],[13,17,13,19],[12,17,12,19],[16,28,17,28],[22,15,22,16],[19,12,19,14],[18,12,18,14],[17,9,17,11],[44,0,44,2],[22,0,23,0],[22,1,23,2],[23,5,23,7],[23,3,23,4],[44,6,44,8],[20,0,21,0],[23,9,23,11],[23,15,23,16],[19,17,19,19],[18,24,18,26],[17,12,17,14],[18,0,19,0],[18,1,19,2],[18,3,18,4],[21,3,21,4],[21,5,21,7],[20,1,21,2],[20,3,20,4],[20,5,20,7],[21,12,21,14],[20,12,20,14],[15,12,15,14],[16,12,16,14],[18,5,18,7],[19,9,19,11],[18,9,18,11],[44,3,44,5],[15,9,15,11],[20,9,20,11],[44,9,44,11],[23,12,23,14],[15,3,15,4],[22,12,22,14],[49,23,50,23],[49,22,50,22],[49,17,50,17],[22,9,22,11],[4,28,6,30],[10,28,10,30],[47,22,48,22],[4,49,4,54],[5,49,5,54],[10,31,10,42],[5,43,5,48],[6,43,6,48],[10,43,10,54],[5,37,5,42],[6,37,6,42],[4,37,4,42],[5,15,5,20],[11,40,11,42],[6,15,6,20],[10,15,10,26],[11,24,11,26],[12,9,12,11],[21,9,21,11],[47,15,48,15],[55,19,56,19],[53,22,54,22],[53,23,54,23],[53,20,54,21],[53,19,54,19],[55,17,56,17],[55,18,56,18],[53,17,54,17],[53,18,54,18],[55,22,56,22],[55,15,56,15],[55,16,56,16],[55,0,56,0],[55,1,55,2],[55,12,56,12],[55,13,56,13],[56,1,56,2],[53,15,54,15],[53,16,54,16],[47,0,48,0],[47,1,47,2],[47,12,48,12],[49,0,50,0],[49,1,49,2],[53,0,54,0],[53,1,53,2],[53,14,54,14],[54,1,54,2],[50,1,50,2],[52,0,52,2],[49,14,50,14],[48,1,48,2],[52,9,52,11],[45,44,46,44],[45,46,46,46],[44,46,44,47],[23,45,23,47],[16,21,16,23],[18,21,18,23],[45,42,46,42],[45,16,46,16],[45,15,46,15],[18,31,18,32],[20,31,20,32],[18,29,19,30],[19,31,19,32],[19,24,19,26],[21,15,21,16],[23,21,23,23],[23,24,23,26],[45,41,46,41],[21,17,21,19],[21,24,21,26],[21,21,21,23],[23,17,23,19],[22,31,22,32],[21,31,21,32],[49,42,50,42],[53,12,54,12],[53,13,54,13],[44,34,44,36],[44,37,44,39],[44,20,44,21],[20,17,20,19],[45,12,46,12],[45,28,46,28],[45,29,45,30],[45,20,46,21],[49,18,50,18],[47,18,48,18],[23,37,23,39],[52,24,52,25],[52,20,52,21],[52,34,52,36],[47,14,48,14],[47,13,48,13],[47,40,48,40],[47,24,48,25],[49,28,50,28],[49,12,50,12],[52,22,52,23],[44,52,44,53],[44,50,44,51],[44,48,44,49],[49,29,49,30],[48,29,48,30],[50,29,50,30],[47,50,48,50],[47,43,48,43],[44,31,44,33],[49,41,50,41],[45,47,46,47],[45,52,46,53],[45,45,46,45],[45,43,46,43],[47,52,48,53],[47,48,48,49],[47,46,48,46],[47,47,48,47],[45,50,46,50],[45,48,46,49],[45,51,46,51],[49,48,50,49],[49,44,50,44],[47,51,48,51],[60,0,60,2],[60,3,60,5],[57,1,57,2],[55,14,56,14],[11,52,11,54],[12,52,12,54],[52,37,52,39],[47,28,48,28],[47,29,47,30],[12,49,12,51],[49,40,50,40],[13,31,13,32],[12,43,12,44],[14,40,14,42],[53,28,54,28],[53,29,53,30],[47,41,48,41],[47,42,48,42],[45,40,46,40],[55,23,56,23],[53,42,54,42],[54,29,54,30],[52,28,52,30],[49,24,50,25],[57,0,58,0],[57,12,58,12],[60,6,60,8],[60,9,60,11],[57,14,58,14],[61,14,62,14],[61,15,62,15],[61,22,62,22],[63,23,64,23],[63,18,64,18],[63,19,64,19],[63,20,64,21],[63,22,64,22],[60,22,60,23],[57,15,58,15],[57,16,58,16],[57,17,58,17],[57,20,58,21],[57,19,58,19],[57,18,58,18],[60,20,60,21],[57,22,58,22],[57,13,58,13],[58,1,58,2],[63,0,64,0],[63,1,63,2],[63,12,64,12],[63,13,64,13],[64,1,64,2],[61,16,62,16],[61,1,61,2],[61,12,62,12],[61,13,62,13],[62,1,62,2],[61,0,62,0],[65,13,66,13],[65,0,66,0],[65,18,66,18],[65,17,66,17],[65,1,65,2],[65,12,66,12],[66,1,66,2],[69,20,70,21],[69,18,70,18],[68,18,68,19],[69,19,70,19],[68,20,68,21],[65,19,66,19],[68,9,68,11],[68,0,68,2],[68,3,68,5],[68,6,68,8],[65,20,66,21],[73,19,74,19],[69,14,70,14],[71,14,72,14],[73,0,74,0],[73,1,73,2],[73,12,74,12],[73,13,74,13],[74,1,74,2],[71,19,72,19],[69,0,70,0],[71,0,72,0],[73,14,74,14],[73,17,74,17],[69,1,69,2],[71,13,72,13],[72,1,72,2],[70,1,70,2],[69,12,70,12],[69,13,70,13],[73,15,74,15],[73,16,74,16],[71,1,71,2],[71,12,72,12],[73,18,74,18],[61,17,62,17],[61,20,62,21],[63,14,64,14],[63,15,64,15],[63,16,64,16],[63,17,64,17],[61,18,62,18],[61,19,62,19],[71,16,72,16],[69,15,70,15],[71,17,72,17],[71,18,72,18],[71,15,72,15],[69,16,70,16],[69,17,70,17],[65,14,66,14],[65,15,66,15],[65,16,66,16],[53,40,54,40],[53,45,54,45],[65,24,66,25],[68,24,68,25],[73,20,74,21],[57,23,58,23],[71,22,72,22],[69,22,70,22],[69,23,70,23],[73,22,74,22],[71,23,72,23],[61,23,62,23],[61,24,62,25],[53,44,54,44],[53,43,54,43],[58,29,58,30],[55,28,56,28],[63,29,63,30],[63,40,64,40],[63,41,64,41],[64,29,64,30],[63,42,64,42],[63,43,64,43],[71,28,72,28],[60,18,60,19],[71,20,72,21],[55,24,56,25],[47,45,48,45],[57,24,58,25],[73,23,74,23],[73,24,74,25],[65,23,66,23],[71,24,72,25],[68,22,68,23],[69,24,70,25],[55,20,56,21],[47,44,48,44],[65,22,66,22],[63,24,64,25],[60,24,60,25],[53,24,54,25],[52,31,52,33],[49,45,50,45],[49,43,50,43],[53,41,54,41],[57,41,58,41],[56,29,56,30],[55,29,55,30],[53,52,54,53],[53,50,54,50],[49,46,50,46],[53,46,54,46],[52,52,52,53],[52,50,52,51],[53,51,54,51],[49,52,50,53],[49,50,50,50],[49,51,50,51],[53,48,54,49],[53,47,54,47],[52,48,52,49],[49,47,50,47],[52,46,52,47],[55,47,56,47],[55,48,56,49],[55,52,56,53],[55,40,56,40],[55,41,56,41],[57,42,58,42],[55,50,56,50],[55,51,56,51],[57,44,58,44],[55,44,56,44],[57,50,58,50],[57,45,58,45],[55,42,56,42],[55,43,56,43],[55,45,56,45],[57,43,58,43],[55,46,56,46],[57,52,58,53],[57,46,58,46],[57,47,58,47],[57,40,58,40],[61,50,62,50],[61,48,62,49],[57,51,58,51],[61,51,62,51],[60,28,60,30],[60,31,60,33],[60,34,60,36],[60,52,60,53],[60,50,60,51],[61,52,62,53],[61,29,61,30],[61,40,62,40],[62,29,62,30],[60,37,60,39],[61,45,62,45],[63,28,64,28],[60,48,60,49],[60,46,60,47],[61,44,62,44],[61,28,62,28],[61,42,62,42],[61,43,62,43],[61,41,62,41],[57,28,58,28],[57,29,57,30],[57,48,58,49],[61,47,62,47],[61,46,62,46],[65,42,66,42],[65,43,66,43],[65,44,66,44],[65,45,66,45],[65,46,66,46],[65,47,66,47],[68,37,68,39],[68,28,68,30],[65,41,66,41],[66,29,66,30],[65,28,66,28],[65,29,65,30],[65,40,66,40],[65,52,66,53],[63,44,64,44],[63,50,64,50],[63,51,64,51],[63,52,64,53],[65,51,66,51],[63,45,64,45],[63,46,64,46],[63,47,64,47],[63,48,64,49],[65,50,66,50],[65,48,66,49],[69,52,70,53],[69,50,70,50],[69,51,70,51],[69,28,70,28],[69,29,69,30],[69,40,70,40],[69,41,70,41],[70,29,70,30],[69,45,70,45],[69,42,70,42],[69,43,70,43],[69,44,70,44],[69,48,70,49],[69,46,70,46],[69,47,70,47],[68,52,68,53],[68,50,68,51],[68,46,68,47],[68,48,68,49],[68,31,68,33],[68,34,68,36],[73,42,74,42],[73,43,74,43],[73,44,74,44],[71,44,72,44],[73,51,74,51],[73,52,74,53],[73,50,74,50],[71,50,72,50],[71,51,72,51],[71,52,72,53],[73,45,74,45],[71,48,72,49],[73,46,74,46],[73,47,74,47],[73,48,74,49],[71,46,72,46],[71,45,72,45],[71,47,72,47],[73,28,74,28],[73,29,73,30],[73,40,74,40],[73,41,74,41],[74,29,74,30],[71,40,72,40],[72,29,72,30],[71,42,72,42],[71,43,72,43],[71,29,71,30],[71,41,72,41],[0,0,0,26],[0,28,0,54],[9,28,9,30],[9,0,9,2],[2,31,2,54],[3,49,3,54],[3,37,3,42],[3,43,3,48],[6,49,6,54],[4,43,4,48],[5,9,5,14],[5,3,5,8],[3,21,3,26],[4,21,4,26],[6,21,6,26],[5,21,5,26],[4,9,4,14],[6,9,6,14],[2,0,2,2],[3,0,3,2],[4,0,6,2],[2,3,2,26],[3,3,3,8],[4,3,4,8],[3,31,3,36],[4,31,4,36],[12,0,13,0],[12,1,13,2],[12,3,12,4],[13,3,13,4],[5,31,5,36],[6,31,6,36],[14,3,14,4],[12,31,12,32],[12,33,12,35],[13,21,13,23],[12,15,12,16],[14,15,14,16],[10,3,10,14],[6,3,6,8],[3,15,3,20],[4,15,4,20],[3,9,3,14],[13,15,13,16],[11,12,11,14],[14,12,14,14],[14,9,14,11],[13,9,13,11],[11,0,11,2],[10,0,10,2],[12,5,12,7],[13,5,13,7],[16,0,17,0],[16,1,17,2],[16,3,16,4],[17,3,17,4],[14,5,14,7],[14,0,15,0],[14,1,15,2],[16,5,16,7],[17,5,17,7],[15,5,15,7]]}
["＜予選リーグ組み合わせ・結果＞",null,null,null,null,null,null,null,null,null,null,null,null,null,null,null,null,null,null,null,null,null,null,null,null,null,null,null,"＜予選リーグ組み合わせ・結果＞"]
[]
["会場",null,null,{"$f":"予選リーグ!C14","v":"大在東グラウンド"},null,null,null,null,null,null,null,null,null,null,null,null,null,null,null,null,null,null,null,null,null,null,null,null,"会場",null,null,{"$f":"予選リーグ!I14","v":"挾間上原グラウンド"}]
["グループ",null,null,"【　A　】",null,null,null,null,null,"【　C　】",null,null,null,null,null,"【　B　】",null,null,null,null,null,"【　D　】",null,null,null,null,null,null,"グループ",null,null,"【　E　】",null,null,null,null,null,"【　G　】",null,null,null,null,null,"【　F　】",null,null,null,null,null,"【　H　】"]
["チーム",null,null,{"$f":"予選リーグ!D5","v":"佐伯リベロ"},null,null,null,null,null,{"$f":"予選リーグ!D10","v":"ミネルバ"},null,null,null,null,null,{"$f":"予選リーグ!G5","v":"明野西"},null,null,null,null,null,{"$f":"予選リーグ!G10","v":"市浜"},null,null,null,null,null,null,"チーム",null,null,{"$f":"予選リーグ!J5","v":"ドリームキッズ"},null,null,null,null,null,{"$f":"予選リーグ!J10","v":"きつき"},null,null,null,null,null,{"$f":"予選リーグ!M5","v":"アリアーレ"},null,null,null,null,null,{"$f":"予選リーグ!M10","v":"ＦＣ中津"}]
[null,null,null,{"$f":"予選リーグ!C7","v":"別保"},null,null,null,null,null,{"$f":"予選リーグ!C12","v":"大分トリニータ"},null,null,null,null,null,{"$f":"予選リーグ!F7","v":"リノス"},null,null,null,null,null,{"$f":"予選リーグ!F12","v":"大道"},null,null,null,null,null,null,null,null,null,{"$f":"予選リーグ!I7","v":"由布川"},null,null,null,null,null,{"$f":"予選リーグ!I12","v":"スマイス　スポーツ"},null,null,null,null,null,{"$f":"予選リーグ!L7","v":"明野東"},null,null,null,null,null,{"$f":"予選リーグ!L12","v":"カティオーラ"}]
[null,null,null,{"$f":"予選リーグ!E7","v":"ＷＡＹＳ"},null,null,null,null,null,{"$f":"予選リーグ!E12","v":"太陽大分西"},null,null,null,null,null,{"$f":"予選リーグ!H7","v":"中津沖代"},null,null,null,null,null,{"$f":"予選リーグ!H12","v":"千怒"},null,null,null,null,null,null,null,null,null,{"$f":"予選リーグ!K7","v":"スマイス・セレソン"},null,null,null,null,null,{"$f":"予選リーグ!K12","v":"県央おおの"},null,null,null,null,null,{"$f":"予選リーグ!N7","v":"安岐"},null,null,null,null,null,{"$f":"予選リーグ!N12","v":"ＭＳＳ"}]
[]
[]
["【組合せ・時間割】",null,null,null,null,null,null,null,null,null,null,null,null,null,null,null,null,null,null,null,null,null,null,null,null,null,null,null,"【組合せ・時間割】"]
["コート",null,null,{"$f":"予選リーグ!C15","v":"「A」コート"},null,null,null,null,null,null,null,null,null,null,null,{"$f":"予選リーグ!F15","v":"「B」コート"},null,null,null,null,null,null,null,null,null,null,null,null,"コート",null,null,{"$f":"予選リーグ!I15","v":"「A」コート"},null,null,null,null,null,null,null,null,null,null,null,{"$f":"予選リーグ!L15","v":"「B」コート"}]
["試合時間",null,null,null,null,null,null,null,"対戦相手",null,null,null,"副審",null,null,null,null,null,null,null,"対戦相手",null,null,null,"副審",null,null,null,"試合時間",null,null,null,null,null,null,null,"対戦相手",null,null,null,"副審",null,null,null,null,null,null,null,"対戦相手",null,null,null,"副審"]
["①",{"$f":"予選リーグ!B19","v":"10:30:00"},null,"チーム名",null,{"$f":"予選リーグ!C19","v":"佐伯リベロ"},null,null,"-",{"$f":"予選リーグ!E19","v":"別保"},null,null,{"$f":"予選リーグ!D19","v":"太陽大分西"},null,null,"チーム名",null,{"$f":"予選リーグ!F19","v":"明野西"},null,null,"-",{"$f":"予選リーグ!H19","v":"リノス"},null,null,{"$f":"予選リーグ!G19","v":"千怒"},null,null,null,"①",{"$f":"予選リーグ!B19","v":"10:30:00"},null,"チーム名",null,{"$f":"予選リーグ!I19","v":"ドリームキッズ"},null,null,"-",{"$f":"予選リーグ!K19","v":"由布川"},null,null,{"$f":"予選リーグ!J19","v":"県央おおの"},null,null,"チーム名",null,{"$f":"予選リーグ!L19","v":"アリアーレ"},null,null,"-",{"$f":"予選リーグ!N19","v":"明野東"},null,null,{"$f":"予選リーグ!M19","v":"ＭＳＳ"}]
[null,null,null,"得失点",null,2,null,null,"-",3,null,null,{"$f":"予選リーグ!D20","v":"ミネルバ"},null,null,"得失点",null,0,null,null,"-",2,null,null,{"$f":"予選リーグ!G20","v":"市浜"},null,null,null,null,null,null,"得失点",null,1,null,null,"-",1,null,null,{"$f":"予選リーグ!J20","v":"きつき"},null,null,"得失点",null,1,null,null,"-",0,null,null,{"$f":"予選リーグ!M20","v":"ＦＣ中津"}]
["②",{"$f":"予選リーグ!B21","v":"11:30:00"},null,"チーム名",null,{"$f":"予選リーグ!C21","v":"ミネルバ"},null,null,"-",{"$f":"予選リーグ!E21","v":"大分トリニータ"},null,null,{"$f":"予選リーグ!D21","v":"佐伯リベロ"},null,null,"チーム名",null,{"$f":"予選リーグ!F21","v":"市浜"},null,null,"-",{"$f":"予選リーグ!H21","v":"大道"},null,null,{"$f":"予選リーグ!G21","v":"明野西"},null,null,null,"②",{"$f":"予選リーグ!B21","v":"11:30:00"},null,"チーム名",null,{"$f":"予選リーグ!I21","v":"きつき"},null,null,"-",{"$f":"予選リーグ!K21","v":"スマイス　スポーツ"},null,null,{"$f":"予選リーグ!J21","v":"ドリームキッズ"},null,null,"チーム名",null,{"$f":"予選リーグ!L21","v":"ＦＣ中津"},null,null,"-",{"$f":"予選リーグ!N21","v":"カティオーラ"},null,null,{"$f":"予選リーグ!M21","v":"アリアーレ"}]
[null,null,null,"得失点",null,0,null,null,"-",3,null,null,{"$f":"予選リーグ!D22","v":"別保"},null,null,"得失点",null,0,null,null,"-",8,null,null,{"$f":"予選リーグ!G22","v":"リノス"},null,null,null,null,null,null,"得失点",null,0,null,null,"-",8,null,null,{"$f":"予選リーグ!J22","v":"由布川"},null,null,"得失点",null,0,null,null,"-",2,null,null,{"$f":"予選リーグ!M22","v":"明野東"}]
["③",{"$f":"予選リーグ!B23","v":"12:30:00"},null,"チーム名",null,{"$f":"予選リーグ!C23","v":"別保"},null,null,"-",{"$f":"予選リーグ!E23","v":"ＷＡＹＳ"},null,null,{"$f":"予選リーグ!D23","v":"ミネルバ"},null,null,"チーム名",null,{"$f":"予選リーグ!F23","v":"リノス"},null,null,"-",{"$f":"予選リーグ!H23","v":"中津沖代"},null,null,{"$f":"予選リーグ!G23","v":"市浜"},null,null,null,"③",{"$f":"予選リーグ!B23","v":"12:30:00"},null,"チーム名",null,{"$f":"予選リーグ!I23","v":"由布川"},null,null,"-",{"$f":"予選リーグ!K23","v":"スマイス・セレソン"},null,null,{"$f":"予選リーグ!J23","v":"きつき"},null,null,"チーム名",null,{"$f":"予選リーグ!L23","v":"明野東"},null,null,"-",{"$f":"予選リーグ!N23","v":"安岐"},null,null,{"$f":"予選リーグ!M23","v":"ＦＣ中津"}]
[null,null,null,"得失点",null,2,null,null,"-",7,null,null,{"$f":"予選リーグ!D24","v":"大分トリニータ"},null,null,"得失点",null,0,null,null,"-",1,null,null,{"$f":"予選リーグ!G24","v":"大道"},null,null,null,null,null,null,"得失点",null,4,null,null,"-",0,null,null,{"$f":"予選リーグ!J24","v":"スマイス　スポーツ"},null,null,"得失点",null,8,null,null,"-",0,null,null,{"$f":"予選リーグ!M24","v":"カティオーラ"}]
["④",{"$f":"予選リーグ!B25","v":"13:30:00"},null,"チーム名",null,{"$f":"予選リーグ!C25","v":"大分トリニータ"},null,null,"-",{"$f":"予選リーグ!E25","v":"太陽大分西"},null,null,{"$f":"予選リーグ!D25","v":"別保"},null,null,"チーム名",null,{"$f":"予選リーグ!F25","v":"大道"},null,null,"-",{"$f":"予選リーグ!H25","v":"千怒"},null,null,{"$f":"予選リーグ!G25","v":"リノス"},null,null,null,"④",{"$f":"予選リーグ!B25","v":"13:30:00"},null,"チーム名",null,{"$f":"予選リーグ!I25","v":"スマイス　スポーツ"},null,null,"-",{"$f":"予選リーグ!K25","v":"県央おおの"},null,null,{"$f":"予選リーグ!J25","v":"由布川"},null,null,"チーム名",null,{"$f":"予選リーグ!L25","v":"カティオーラ"},null,null,"-",{"$f":"予選リーグ!N25","v":"ＭＳＳ"},null,null,{"$f":"予選リーグ!M25","v":"明野東"}]
[null,null,null,"得失点",null,4,null,null,"-",0,null,null,{"$f":"予選リーグ!D26","v":"ＷＡＹＳ"},null,null,"得失点",null,8,null,null,"-",0,null,null,{"$f":"予選リーグ!G26","v":"中津沖代"},null,null,null,null,null,null,"得失点",null,3,null,null,"-",0,null,null,{"$f":"予選リーグ!J26","v":"スマイス・セレソン"},null,null,"得失点",null,1,null,null,"-",5,null,null,{"$f":"予選リーグ!M26","v":"安岐"}]
["⑤",{"$f":"予選リーグ!B29","v":"14:30:00"},null,"チーム名",null,{"$f":"予選リーグ!C29","v":"ＷＡＹＳ"},null,null,"-",{"$f":"予選リーグ!E29","v":"佐伯リベロ"},null,null,{"$f":"予選リーグ!D29","v":"大分トリニータ"},null,null,"チーム名",null,{"$f":"予選リーグ!F29","v":"中津沖代"},null,null,"-",{"$f":"予選リーグ!H29","v":"明野西"},null,null,{"$f":"予選リーグ!G29","v":"大道"},null,null,null,"⑤",{"$f":"予選リーグ!B29","v":"14:30:00"},null,"チーム名",null,{"$f":"予選リーグ!I29","v":"スマイス・セレソン"},null,null,"-",{"$f":"予選リーグ!K29","v":"ドリームキッズ"},null,null,{"$f":"予選リーグ!J29","v":"スマイス　スポーツ"},null,null,"チーム名",null,{"$f":"予選リーグ!L29","v":"安岐"},null,null,"-",{"$f":"予選リーグ!N29","v":"アリアーレ"},null,null,{"$f":"予選リーグ!M29","v":"カティオーラ"}]
[null,null,null,"得失点",null,7,null,null,"-",1,null,null,{"$f":"予選リーグ!D30","v":"太陽大分西"},null,null,"得失点",null,3,null,null,"-",1,null,null,{"$f":"予選リーグ!G30","v":"千怒"},null,null,null,null,null,null,"得失点",null,0,null,null,"-",5,null,null,{"$f":"予選リーグ!J30","v":"県央おおの"},null,null,"得失点",null,1,null,null,"-",6,null,null,{"$f":"予選リーグ!M30","v":"ＭＳＳ"}]
["⑥",{"$f":"予選リーグ!B31","v":"15:30:00"},null,"チーム名",null,{"$f":"予選リーグ!C31","v":"太陽大分西"},null,null,"-",{"$f":"予選リーグ!E31","v":"ミネルバ"},null,null,{"$f":"予選リーグ!D31","v":"ＷＡＹＳ"},null,null,"チーム名",null,{"$f":"予選リーグ!F31","v":"千怒"},null,null,"-",{"$f":"予選リーグ!H31","v":"市浜"},null,null,{"$f":"予選リーグ!G31","v":"中津沖代"},null,null,null,"⑥",{"$f":"予選リーグ!B31","v":"15:30:00"},null,"チーム名",null,{"$f":"予選リーグ!I31","v":"県央おおの"},null,null,"-",{"$f":"予選リーグ!K31","v":"きつき"},null,null,{"$f":"予選リーグ!J31","v":"スマイス・セレソン"},null,null,"チーム名",null,{"$f":"予選リーグ!L31","v":"ＭＳＳ"},null,null,"-",{"$f":"予選リーグ!N31","v":"ＦＣ中津"},null,null,{"$f":"予選リーグ!M31","v":"安岐"}]
[null,null,null,"得失点",null,1,null,null,"-",5,null,null,{"$f":"予選リーグ!D32","v":"佐伯リベロ"},null,null,"得失点",null,1,null,null,"-",3,null,null,{"$f":"予選リーグ!G32","v":"明野西"},null,null,null,null,null,null,"得失点",null,4,null,null,"-",1,null,null,{"$f":"予選リーグ!J32","v":"ドリームキッズ"},null,null,"得失点",null,9,null,null,"-",0,null,null,{"$f":"予選リーグ!M32","v":"アリアーレ"}]
[]
[]
[]
[]
[]
[]
[]
[]
[]
[]
[]
[]
[]
[]
[]
[]
[]
[]
[null,null,null,null,null,"勝点表","勝",3,null,"分",1,null,"負",0,null,null,null,null,null,null,null,null,null,null,null,null,null,null,null,null,null,null,null,"勝点表","勝",3,null,"分",1,null,"負",0]
[]
["Aパート",null,null,{"$f":"A46","v":"佐伯リベロ"},null,null,{"$f":"A48","v":"別保"},null,null,{"$f":"A50","v":"ＷＡＹＳ"},null,null,"勝","分","敗","得\n点","失\n点","勝\n点","勝点\n順位",null,"得失\n点差",null,"得失\n順位",null,"ﾄｰﾀﾙ\n順位",null,null,null,"Eパート",null,null,{"$f":"AC46","v":"ドリームキッズ"},null,null,{"$f":"AC48","v":"由布川"},null,null,{"$f":"AC50","v":"スマイス・セレソン"},null,null,"勝","分","敗","得\n点","失\n点","勝\n点","勝点\n順位",null,"得失\n点差",null,"得失\n順位",null,"ﾄｰﾀﾙ\n順位"]
[{"$f":"予選リーグ!D5","v":"佐伯リベロ"},"星取表",null,null,null,null,null,{"$f":"IF(G47=\"\",\"\",IF(G47>I47,\"○\",IF(G47<I47,\"●\",IF(G47=I47,\"△\"))))","v":"●"},null,null,{"$f":"IF(J47=\"\",\"\",IF(J47>L47,\"○\",IF(J47<L47,\"●\",IF(J47=L47,\"△\"))))","v":"●"},null,{"$f":"COUNTIF(D46:L46,\"○\")","v":0},{"$f":"COUNTIF(D46:L46,\"△\")","v":0},{"$f":"COUNTIF(D46:L46,\"●\")","v":2},{"$f":"SUM(D47,G47,J47)","v":3},{"$f":"SUM(F47,I47,L47)","v":10},{"$f":"(M46*4)+(N46*1)","v":0},{"$f":"RANK(R46,R$46:R$51)","v":3},"位",{"$f":"P46-Q46","v":-7},null,{"$f":"RANK(U46,U$46:U$51)","v":3},"位",3,null,null,null,{"$f":"予選リーグ!J5","v":"ドリームキッズ"},"星取表",null,null,null,null,null,{"$f":"IF(AI47=\"\",\"\",IF(AI47>AK47,\"○\",IF(AI47<AK47,\"●\",IF(AI47=AK47,\"△\"))))","v":"△"},null,null,{"$f":"IF(AL47=\"\",\"\",IF(AL47>AN47,\"○\",IF(AL47<AN47,\"●\",IF(AL47=AN47,\"△\"))))","v":"○"},null,{"$f":"COUNTIF(AF46:AN46,\"○\")","v":1},{"$f":"COUNTIF(AF46:AN46,\"△\")","v":1},{"$f":"COUNTIF(AF46:AN46,\"●\")","v":0},{"$f":"SUM(AF47,AI47,AL47)","v":6},{"$f":"SUM(AH47,AK47,AN47)","v":1},{"$f":"(AO46*4)+(AP46*1)","v":5},{"$f":"RANK(AT46,AT$46:AT$51)","v":1},"位",{"$f":"AR46-AS46","v":5},null,{"$f":"RANK(AW46,AW$46:AW$51)","v":1},"位",1]
[null,"得失点",null,null,null,null,{"$f":"F14","v":2},"-",{"$f":"J14","v":3},{"$f":"J22","v":1},"-",{"$f":"F22","v":7},null,null,null,null,null,null,null,null,null,null,null,null,null,null,null,null,null,"得失点",null,null,null,null,{"$f":"AH14","v":1},"-",{"$f":"AL14","v":1},{"$f":"AL22","v":5},"-",{"$f":"AH22","v":0}]
[{"$f":"予選リーグ!C7","v":"別保"},"星取表",null,null,{"$f":"IF(D49=\"\",\"\",IF(D49>F49,\"○\",IF(D49<F49,\"●\",IF(D49=F49,\"△\"))))","v":"○"},null,null,null,null,null,{"$f":"IF(J49=\"\",\"\",IF(J49>L49,\"○\",IF(J49<L49,\"●\",IF(J49=L49,\"△\"))))","v":"●"},null,{"$f":"COUNTIF(D48:L48,\"○\")","v":1},{"$f":"COUNTIF(D48:L48,\"△\")","v":0},{"$f":"COUNTIF(D48:L48,\"●\")","v":1},{"$f":"SUM(D49,G49,J49)","v":5},{"$f":"SUM(F49,I49,L49)","v":9},{"$f":"(M48*4)+(N48*1)","v":4},{"$f":"RANK(R48,R$46:R$51)","v":2},"位",{"$f":"P48-Q48","v":-4},null,{"$f":"RANK(U48,U$46:U$51)","v":2},"位",2,null,null,null,{"$f":"予選リーグ!I7","v":"由布川"},"星取表",null,null,{"$f":"IF(AF49=\"\",\"\",IF(AF49>AH49,\"○\",IF(AF49<AH49,\"●\",IF(AF49=AH49,\"△\"))))","v":"△"},null,null,null,null,null,{"$f":"IF(AL49=\"\",\"\",IF(AL49>AN49,\"○\",IF(AL49<AN49,\"●\",IF(AL49=AN49,\"△\"))))","v":"○"},null,{"$f":"COUNTIF(AF48:AN48,\"○\")","v":1},{"$f":"COUNTIF(AF48:AN48,\"△\")","v":1},{"$f":"COUNTIF(AF48:AN48,\"●\")","v":0},{"$f":"SUM(AF49,AI49,AL49)","v":5},{"$f":"SUM(AH49,AK49,AN49)","v":1},{"$f":"(AO48*4)+(AP48*1)","v":5},{"$f":"RANK(AT48,AT$46:AT$51)","v":1},"位",{"$f":"AR48-AS48","v":4},null,{"$f":"RANK(AW48,AW$46:AW$51)","v":2},"位",2]
[null,"得失点",null,{"$f":"I47","v":3},"-",{"$f":"G47","v":2},null,null,null,{"$f":"F18","v":2},"-",{"$f":"J18","v":7},null,null,null,null,null,null,null,null,null,null,null,null,null,null,null,null,null,"得失点",null,{"$f":"AK47","v":1},"-",{"$f":"AI47","v":1},null,null,null,{"$f":"AH18","v":4},"-",{"$f":"AL18","v":0}]
[{"$f":"予選リーグ!E7","v":"ＷＡＹＳ"},"星取表",null,null,{"$f":"IF(D51=\"\",\"\",IF(D51>F51,\"○\",IF(D51<F51,\"●\",IF(D51=F51,\"△\"))))","v":"○"},null,null,{"$f":"IF(G51=\"\",\"\",IF(G51>I51,\"○\",IF(G51<I51,\"●\",IF(G51=I51,\"△\"))))","v":"○"},null,null,null,null,{"$f":"COUNTIF(D50:L50,\"○\")","v":2},{"$f":"COUNTIF(D50:L50,\"△\")","v":0},{"$f":"COUNTIF(D50:L50,\"●\")","v":0},{"$f":"SUM(D51,G51,J51)","v":14},{"$f":"SUM(F51,I51,L51)","v":3},{"$f":"(M50*4)+(N50*1)","v":8},{"$f":"RANK(R50,R$46:R$51)","v":1},"位",{"$f":"P50-Q50","v":11},null,{"$f":"RANK(U50,U$46:U$51)","v":1},"位",1,null,null,null,{"$f":"予選リーグ!K7","v":"スマイス・セレソン"},"星取表",null,null,{"$f":"IF(AF51=\"\",\"\",IF(AF51>AH51,\"○\",IF(AF51<AH51,\"●\",IF(AF51=AH51,\"△\"))))","v":"●"},null,null,{"$f":"IF(AI51=\"\",\"\",IF(AI51>AK51,\"○\",IF(AI51<AK51,\"●\",IF(AI51=AK51,\"△\"))))","v":"●"},null,null,null,null,{"$f":"COUNTIF(AF50:AN50,\"○\")","v":0},{"$f":"COUNTIF(AF50:AN50,\"△\")","v":0},{"$f":"COUNTIF(AF50:AN50,\"●\")","v":2},{"$f":"SUM(AF51,AI51,AL51)","v":0},{"$f":"SUM(AH51,AK51,AN51)","v":9},{"$f":"(AO50*4)+(AP50*1)","v":0},{"$f":"RANK(AT50,AT$46:AT$51)","v":3},"位",{"$f":"AR50-AS50","v":-9},null,{"$f":"RANK(AW50,AW$46:AW$51)","v":3},"位",3]
[null,"得失点",null,{"$f":"L47","v":7},"-",{"$f":"J47","v":1},{"$f":"L49","v":7},"-",{"$f":"J49","v":2},null,null,null,null,null,null,null,null,null,null,null,null,null,null,null,null,null,null,null,null,"得失点",null,{"$f":"AN47","v":0},"-",{"$f":"AL47","v":5},{"$f":"AN49","v":0},"-",{"$f":"AL49","v":4}]
[]
["Bパート",null,null,{"$f":"A54","v":"明野西"},null,null,{"$f":"A56","v":"リノス"},null,null,{"$f":"A58","v":"中津沖代"},null,null,"勝","分","敗","得\n点","失\n点","勝\n点","勝点\n順位",null,"得失\n点差",null,"得失\n順位",null,"ﾄｰﾀﾙ\n順位",null,null,null,"Fパート",null,null,{"$f":"AC54","v":"アリアーレ"},null,null,{"$f":"AC56","v":"明野東"},null,null,{"$f":"AC58","v":"安岐"},null,null,"勝","分","敗","得\n点","失\n点","勝\n点","勝点\n順位",null,"得失\n点差",null,"得失\n順位",null,"ﾄｰﾀﾙ\n順位"]
[{"$f":"予選リーグ!G5","v":"明野西"},"星取表",null,null,null,null,null,{"$f":"IF(G55=\"\",\"\",IF(G55>I55,\"○\",IF(G55<I55,\"●\",IF(G55=I55,\"△\"))))","v":"●"},null,null,{"$f":"IF(J55=\"\",\"\",IF(J55>L55,\"○\",IF(J55<L55,\"●\",IF(J55=L55,\"△\"))))","v":"●"},null,{"$f":"COUNTIF(D54:L54,\"○\")","v":0},{"$f":"COUNTIF(D54:L54,\"△\")","v":0},{"$f":"COUNTIF(D54:L54,\"●\")","v":2},{"$f":"SUM(D55,G55,J55)","v":1},{"$f":"SUM(F55,I55,L55)","v":5},{"$f":"(M54*4)+(N54*1)","v":0},{"$f":"RANK(R54,$R$54:$R$59)","v":3},"位",{"$f":"P54-Q54","v":-4},null,{"$f":"RANK(U54,$U$54:$V$59)","v":3},"位",3,null,null,null,{"$f":"予選リーグ!M5","v":"アリアーレ"},"星取表",null,null,null,null,null,{"$f":"IF(AI55=\"\",\"\",IF(AI55>AK55,\"○\",IF(AI55<AK55,\"●\",IF(AI55=AK55,\"△\"))))","v":"○"},null,null,{"$f":"IF(AL55=\"\",\"\",IF(AL55>AN55,\"○\",IF(AL55<AN55,\"●\",IF(AL55=AN55,\"△\"))))","v":"○"},null,{"$f":"COUNTIF(AF54:AN54,\"○\")","v":2},{"$f":"COUNTIF(AF54:AN54,\"△\")","v":0},{"$f":"COUNTIF(AF54:AN54,\"●\")","v":0},{"$f":"SUM(AF55,AI55,AL55)","v":7},{"$f":"SUM(AH55,AK55,AN55)","v":1},{"$f":"(AO54*4)+(AP54*1)","v":8},{"$f":"RANK(AT54,$AT$54:$AT$59)","v":1},"位",{"$f":"AR54-AS54","v":6},null,{"$f":"RANK(AW54,$AW$54:$AW$59)","v":2},"位",1]
[null,"得失点",null,null,null,null,{"$f":"R14","v":0},"-",{"$f":"V14","v":2},{"$f":"V22","v":1},"-",{"$f":"R22","v":3},null,null,null,null,null,null,null,null,null,null,null,null,null,null,null,null,null,"得失点",null,null,null,null,{"$f":"AT14","v":1},"-",{"$f":"AX14","v":0},{"$f":"AX22","v":6},"-",{"$f":"AT22","v":1}]
[{"$f":"予選リーグ!F7","v":"リノス"},"星取表",null,null,{"$f":"IF(D57=\"\",\"\",IF(D57>F57,\"○\",IF(D57<F57,\"●\",IF(D57=F57,\"△\"))))","v":"○"},null,null,null,null,null,{"$f":"IF(J57=\"\",\"\",IF(J57>L57,\"○\",IF(J57<L57,\"●\",IF(J57=L57,\"△\"))))","v":"●"},null,{"$f":"COUNTIF(D56:L56,\"○\")","v":1},{"$f":"COUNTIF(D56:L56,\"△\")","v":0},{"$f":"COUNTIF(D56:L56,\"●\")","v":1},{"$f":"SUM(D57,G57,J57)","v":2},{"$f":"SUM(F57,I57,L57)","v":1},{"$f":"(M56*4)+(N56*1)","v":4},{"$f":"RANK(R56,$R$54:$R$59)","v":2},"位",{"$f":"P56-Q56","v":1},null,{"$f":"RANK(U56,$U$54:$V$59)","v":2},"位",2,null,null,null,{"$f":"予選リーグ!L7","v":"明野東"},"星取表",null,null,{"$f":"IF(AF57=\"\",\"\",IF(AF57>AH57,\"○\",IF(AF57<AH57,\"●\",IF(AF57=AH57,\"△\"))))","v":"●"},null,null,null,null,null,{"$f":"IF(AL57=\"\",\"\",IF(AL57>AN57,\"○\",IF(AL57<AN57,\"●\",IF(AL57=AN57,\"△\"))))","v":"○"},null,{"$f":"COUNTIF(AF56:AN56,\"○\")","v":1},{"$f":"COUNTIF(AF56:AN56,\"△\")","v":0},{"$f":"COUNTIF(AF56:AN56,\"●\")","v":1},{"$f":"SUM(AF57,AI57,AL57)","v":8},{"$f":"SUM(AH57,AK57,AN57)","v":1},{"$f":"(AO56*4)+(AP56*1)","v":4},{"$f":"RANK(AT56,$AT$54:$AT$59)","v":2},"位",{"$f":"AR56-AS56","v":7},null,{"$f":"RANK(AW56,$AW$54:$AW$59)","v":1},"位",2]
[null,"得失点",null,{"$f":"I55","v":2},"-",{"$f":"G55","v":0},null,null,null,{"$f":"R18","v":0},"-",{"$f":"V18","v":1},null,null,null,null,null,null,null,null,null,null,null,null,null,null,null,null,null,"得失点",null,{"$f":"AK55","v":0},"-",{"$f":"AI55","v":1},null,null,null,{"$f":"AT18","v":8},"-",{"$f":"AX18","v":0}]
[{"$f":"予選リーグ!H7","v":"中津沖代"},"星取表",null,null,{"$f":"IF(D59=\"\",\"\",IF(D59>F59,\"○\",IF(D59<F59,\"●\",IF(D59=F59,\"△\"))))","v":"○"},null,null,{"$f":"IF(G59=\"\",\"\",IF(G59>I59,\"○\",IF(G59<I59,\"●\",IF(G59=I59,\"△\"))))","v":"○"},null,null,null,null,{"$f":"COUNTIF(D58:L58,\"○\")","v":2},{"$f":"COUNTIF(D58:L58,\"△\")","v":0},{"$f":"COUNTIF(D58:L58,\"●\")","v":0},{"$f":"SUM(D59,G59,J59)","v":4},{"$f":"SUM(F59,I59,L59)","v":1},{"$f":"(M58*4)+(N58*1)","v":8},{"$f":"RANK(R58,$R$54:$R$59)","v":1},"位",{"$f":"P58-Q58","v":3},null,{"$f":"RANK(U58,$U$54:$V$59)","v":1},"位",1,null,null,null,{"$f":"予選リーグ!N7","v":"安岐"},"星取表",null,null,{"$f":"IF(AF59=\"\",\"\",IF(AF59>AH59,\"○\",IF(AF59<AH59,\"●\",IF(AF59=AH59,\"△\"))))","v":"●"},null,null,{"$f":"IF(AI59=\"\",\"\",IF(AI59>AK59,\"○\",IF(AI59<AK59,\"●\",IF(AI59=AK59,\"△\"))))","v":"●"},null,null,null,null,{"$f":"COUNTIF(AF58:AN58,\"○\")","v":0},{"$f":"COUNTIF(AF58:AN58,\"△\")","v":0},{"$f":"COUNTIF(AF58:AN58,\"●\")","v":2},{"$f":"SUM(AF59,AI59,AL59)","v":1},{"$f":"SUM(AH59,AK59,AN59)","v":14},{"$f":"(AO58*4)+(AP58*1)","v":0},{"$f":"RANK(AT58,$AT$54:$AT$59)","v":3},"位",{"$f":"AR58-AS58","v":-13},null,{"$f":"RANK(AW58,$AW$54:$AW$59)","v":3},"位",3]
[null,"得失点",null,{"$f":"L55","v":3},"-",{"$f":"J55","v":1},{"$f":"L57","v":1},"-",{"$f":"J57","v":0},null,null,null,null,null,null,null,null,null,null,null,null,null,null,null,null,null,null,null,null,"得失点",null,{"$f":"AN55","v":1},"-",{"$f":"AL55","v":6},{"$f":"AN57","v":0},"-",{"$f":"AL57","v":8}]
[]
["Cパート",null,null,{"$f":"A62","v":"ミネルバ"},null,null,{"$f":"A64","v":"大分トリニータ"},null,null,{"$f":"A66","v":"太陽大分西"},null,null,"勝","分","敗","得\n点","失\n点","勝\n点","勝点\n順位",null,"得失\n点差",null,"得失\n順位",null,"ﾄｰﾀﾙ\n順位",null,null,null,"Gパート",null,null,{"$f":"AC62","v":"きつき"},null,null,{"$f":"AC64","v":"スマイス　スポーツ"},null,null,{"$f":"AC66","v":"県央おおの"},null,null,"勝","分","敗","得\n点","失\n点","勝\n点","勝点\n順位",null,"得失\n点差",null,"得失\n順位",null,"ﾄｰﾀﾙ\n順位"]
[{"$f":"予選リーグ!D10","v":"ミネルバ"},"星取表",null,null,null,null,null,{"$f":"IF(G63=\"\",\"\",IF(G63>I63,\"○\",IF(G63<I63,\"●\",IF(G63=I63,\"△\"))))","v":"●"},null,null,{"$f":"IF(J63=\"\",\"\",IF(J63>L63,\"○\",IF(J63<L63,\"●\",IF(J63=L63,\"△\"))))","v":"○"},null,{"$f":"COUNTIF(D62:L62,\"○\")","v":1},{"$f":"COUNTIF(D62:L62,\"△\")","v":0},{"$f":"COUNTIF(D62:L62,\"●\")","v":1},{"$f":"SUM(D63,G63,J63)","v":5},{"$f":"SUM(F63,I63,L63)","v":4},{"$f":"(M62*4)+(N62*1)","v":4},{"$f":"RANK(R62,$R$62:$R$67)","v":2},"位",{"$f":"P62-Q62","v":1},null,{"$f":"RANK(U62,$U$62:$V$67)","v":2},"位",2,null,null,null,{"$f":"予選リーグ!J10","v":"きつき"},"星取表",null,null,null,null,null,{"$f":"IF(AI63=\"\",\"\",IF(AI63>AK63,\"○\",IF(AI63<AK63,\"●\",IF(AI63=AK63,\"△\"))))","v":"●"},null,null,{"$f":"IF(AL63=\"\",\"\",IF(AL63>AN63,\"○\",IF(AL63<AN63,\"●\",IF(AL63=AN63,\"△\"))))","v":"●"},null,{"$f":"COUNTIF(AF62:AN62,\"○\")","v":0},{"$f":"COUNTIF(AF62:AN62,\"△\")","v":0},{"$f":"COUNTIF(AF62:AN62,\"●\")","v":2},{"$f":"SUM(AF63,AI63,AL63)","v":1},{"$f":"SUM(AH63,AK63,AN63)","v":12},{"$f":"(AO62*4)+(AP62*1)","v":0},{"$f":"RANK(AT62,$AT$62:$AT$67)","v":3},"位",{"$f":"AR62-AS62","v":-11},null,{"$f":"RANK(AW62,$AW$62:$AW$67)","v":3},"位",3]
[null,"得失点",null,null,null,null,{"$f":"F16","v":0},"-",{"$f":"J16","v":3},{"$f":"J24","v":5},"-",{"$f":"F24","v":1},null,null,null,null,null,null,null,null,null,null,null,null,null,null,null,null,null,"得失点",null,null,null,null,{"$f":"AH16","v":0},"-",{"$f":"AL16","v":8},{"$f":"AL24","v":1},"-",{"$f":"AH24","v":4}]
[{"$f":"予選リーグ!C12","v":"大分トリニータ"},"星取表",null,null,{"$f":"IF(D65=\"\",\"\",IF(D65>F65,\"○\",IF(D65<F65,\"●\",IF(D65=F65,\"△\"))))","v":"○"},null,null,null,null,null,{"$f":"IF(J65=\"\",\"\",IF(J65>L65,\"○\",IF(J65<L65,\"●\",IF(J65=L65,\"△\"))))","v":"○"},null,{"$f":"COUNTIF(D64:L64,\"○\")","v":2},{"$f":"COUNTIF(D64:L64,\"△\")","v":0},{"$f":"COUNTIF(D64:L64,\"●\")","v":0},{"$f":"SUM(D65,G65,J65)","v":7},{"$f":"SUM(F65,I65,L65)","v":0},{"$f":"(M64*4)+(N64*1)","v":8},{"$f":"RANK(R64,$R$62:$R$67)","v":1},"位",{"$f":"P64-Q64","v":7},null,{"$f":"RANK(U64,$U$62:$V$67)","v":1},"位",1,null,null,null,{"$f":"予選リーグ!I12","v":"スマイス　スポーツ"},"星取表",null,null,{"$f":"IF(AF65=\"\",\"\",IF(AF65>AH65,\"○\",IF(AF65<AH65,\"●\",IF(AF65=AH65,\"△\"))))","v":"○"},null,null,null,null,null,{"$f":"IF(AL65=\"\",\"\",IF(AL65>AN65,\"○\",IF(AL65<AN65,\"●\",IF(AL65=AN65,\"△\"))))","v":"○"},null,{"$f":"COUNTIF(AF64:AN64,\"○\")","v":2},{"$f":"COUNTIF(AF64:AN64,\"△\")","v":0},{"$f":"COUNTIF(AF64:AN64,\"●\")","v":0},{"$f":"SUM(AF65,AI65,AL65)","v":11},{"$f":"SUM(AH65,AK65,AN65)","v":0},{"$f":"(AO64*4)+(AP64*1)","v":8},{"$f":"RANK(AT64,$AT$62:$AT$67)","v":1},"位",{"$f":"AR64-AS64","v":11},null,{"$f":"RANK(AW64,$AW$62:$AW$67)","v":1},"位",1]
[null,"得失点",null,{"$f":"I63","v":3},"-",{"$f":"G63","v":0},null,null,null,{"$f":"F20","v":4},"-",{"$f":"J20","v":0},null,null,null,null,null,null,null,null,null,null,null,null,null,null,null,null,null,"得失点",null,{"$f":"AK63","v":8},"-",{"$f":"AI63","v":0},null,null,null,{"$f":"AH20","v":3},"-",{"$f":"AL20","v":0}]
[{"$f":"予選リーグ!E12","v":"太陽大分西"},"星取表",null,null,{"$f":"IF(D67=\"\",\"\",IF(D67>F67,\"○\",IF(D67<F67,\"●\",IF(D67=F67,\"△\"))))","v":"●"},null,null,{"$f":"IF(G67=\"\",\"\",IF(G67>I67,\"○\",IF(G67<I67,\"●\",IF(G67=I67,\"△\"))))","v":"●"},null,null,null,null,{"$f":"COUNTIF(D66:L66,\"○\")","v":0},{"$f":"COUNTIF(D66:L66,\"△\")","v":0},{"$f":"COUNTIF(D66:L66,\"●\")","v":2},{"$f":"SUM(D67,G67,J67)","v":1},{"$f":"SUM(F67,I67,L67)","v":9},{"$f":"(M66*4)+(N66*1)","v":0},{"$f":"RANK(R66,$R$62:$R$67)","v":3},"位",{"$f":"P66-Q66","v":-8},null,{"$f":"RANK(U66,$U$62:$V$67)","v":3},"位",3,null,null,null,{"$f":"予選リーグ!K12","v":"県央おおの"},"星取表",null,null,{"$f":"IF(AF67=\"\",\"\",IF(AF67>AH67,\"○\",IF(AF67<AH67,\"●\",IF(AF67=AH67,\"△\"))))","v":"○"},null,null,{"$f":"IF(AI67=\"\",\"\",IF(AI67>AK67,\"○\",IF(AI67<AK67,\"●\",IF(AI67=AK67,\"△\"))))","v":"●"},null,null,null,null,{"$f":"COUNTIF(AF66:AN66,\"○\")","v":1},{"$f":"COUNTIF(AF66:AN66,\"△\")","v":0},{"$f":"COUNTIF(AF66:AN66,\"●\")","v":1},{"$f":"SUM(AF67,AI67,AL67)","v":4},{"$f":"SUM(AH67,AK67,AN67)","v":4},{"$f":"(AO66*4)+(AP66*1)","v":4},{"$f":"RANK(AT66,$AT$62:$AT$67)","v":2},"位",{"$f":"AR66-AS66","v":0},null,{"$f":"RANK(AW66,$AW$62:$AW$67)","v":2},"位",2]
[null,"得失点",null,{"$f":"L63","v":1},"-",{"$f":"J63","v":5},{"$f":"L65","v":0},"-",{"$f":"J65","v":4},null,null,null,null,null,null,null,null,null,null,null,null,null,null,null,null,null,null,null,null,"得失点",null,{"$f":"AN63","v":4},"-",{"$f":"AL63","v":1},{"$f":"AN65","v":0},"-",{"$f":"AL65","v":3}]
[]
["Dパート",null,null,{"$f":"A70","v":"市浜"},null,null,{"$f":"A72","v":"大道"},null,null,{"$f":"A74","v":"千怒"},null,null,"勝","分","敗","得\n点","失\n点","勝\n点","勝点\n順位",null,"得失\n点差",null,"得失\n順位",null,"ﾄｰﾀﾙ\n順位",null,null,null,"Hパート",null,null,{"$f":"AC70","v":"ＦＣ中津"},null,null,{"$f":"AC72","v":"カティオーラ"},null,null,{"$f":"AC74","v":"ＭＳＳ"},null,null,"勝","分","敗","得\n点","失\n点","勝\n点","勝点\n順位",null,"得失\n点差",null,"得失\n順位",null,"ﾄｰﾀﾙ\n順位"]
[{"$f":"予選リーグ!G10","v":"市浜"},"星取表",null,null,null,null,null,{"$f":"IF(G71=\"\",\"\",IF(G71>I71,\"○\",IF(G71<I71,\"●\",IF(G71=I71,\"△\"))))","v":"●"},null,null,{"$f":"IF(J71=\"\",\"\",IF(J71>L71,\"○\",IF(J71<L71,\"●\",IF(J71=L71,\"△\"))))","v":"○"},null,{"$f":"COUNTIF(D70:L70,\"○\")","v":1},{"$f":"COUNTIF(D70:L70,\"△\")","v":0},{"$f":"COUNTIF(D70:L70,\"●\")","v":1},{"$f":"SUM(D71,G71,J71)","v":3},{"$f":"SUM(F71,I71,L71)","v":9},{"$f":"(M70*4)+(N70*1)","v":4},{"$f":"RANK(R70,$R$70:$R$75)","v":2},"位",{"$f":"P70-Q70","v":-6},null,{"$f":"RANK(U70,$U$70:$V$75)","v":2},"位",2,null,null,null,{"$f":"予選リーグ!M10","v":"ＦＣ中津"},"星取表",null,null,null,null,null,{"$f":"IF(AI71=\"\",\"\",IF(AI71>AK71,\"○\",IF(AI71<AK71,\"●\",IF(AI71=AK71,\"△\"))))","v":"●"},null,null,{"$f":"IF(AL71=\"\",\"\",IF(AL71>AN71,\"○\",IF(AL71<AN71,\"●\",IF(AL71=AN71,\"△\"))))","v":"●"},null,{"$f":"COUNTIF(AF70:AN70,\"○\")","v":0},{"$f":"COUNTIF(AF70:AN70,\"△\")","v":0},{"$f":"COUNTIF(AF70:AN70,\"●\")","v":2},{"$f":"SUM(AF71,AI71,AL71)","v":0},{"$f":"SUM(AH71,AK71,AN71)","v":11},{"$f":"(AO70*4)+(AP70*1)","v":0},{"$f":"RANK(AT70,$AT$70:$AT$75)","v":3},"位",{"$f":"AR70-AS70","v":-11},null,{"$f":"RANK(AW70,$AW$70:$AW$75)","v":3},"位",3]
[null,"得失点",null,null,null,null,{"$f":"R16","v":0},"-",{"$f":"V16","v":8},{"$f":"V24","v":3},"-",{"$f":"R24","v":1},null,null,null,null,null,null,null,null,null,null,null,null,null,null,null,null,null,"得失点",null,null,null,null,{"$f":"AT16","v":0},"-",{"$f":"AX16","v":2},{"$f":"AX24","v":0},"-",{"$f":"AT24","v":9}]
[{"$f":"予選リーグ!F12","v":"大道"},"星取表",null,null,{"$f":"IF(D73=\"\",\"\",IF(D73>F73,\"○\",IF(D73<F73,\"●\",IF(D73=F73,\"△\"))))","v":"○"},null,null,null,null,null,{"$f":"IF(J73=\"\",\"\",IF(J73>L73,\"○\",IF(J73<L73,\"●\",IF(J73=L73,\"△\"))))","v":"○"},null,{"$f":"COUNTIF(D72:L72,\"○\")","v":2},{"$f":"COUNTIF(D72:L72,\"△\")","v":0},{"$f":"COUNTIF(D72:L72,\"●\")","v":0},{"$f":"SUM(D73,G73,J73)","v":16},{"$f":"SUM(F73,I73,L73)","v":0},{"$f":"(M72*4)+(N72*1)","v":8},{"$f":"RANK(R72,$R$70:$R$75)","v":1},"位",{"$f":"P72-Q72","v":16},null,{"$f":"RANK(U72,$U$70:$V$75)","v":1},"位",1,null,null,null,{"$f":"予選リーグ!L12","v":"カティオーラ"},"星取表",null,null,{"$f":"IF(AF73=\"\",\"\",IF(AF73>AH73,\"○\",IF(AF73<AH73,\"●\",IF(AF73=AH73,\"△\"))))","v":"○"},null,null,null,null,null,{"$f":"IF(AL73=\"\",\"\",IF(AL73>AN73,\"○\",IF(AL73<AN73,\"●\",IF(AL73=AN73,\"△\"))))","v":"●"},null,{"$f":"COUNTIF(AF72:AN72,\"○\")","v":1},{"$f":"COUNTIF(AF72:AN72,\"△\")","v":0},{"$f":"COUNTIF(AF72:AN72,\"●\")","v":1},{"$f":"SUM(AF73,AI73,AL73)","v":3},{"$f":"SUM(AH73,AK73,AN73)","v":5},{"$f":"(AO72*4)+(AP72*1)","v":4},{"$f":"RANK(AT72,$AT$70:$AT$75)","v":2},"位",{"$f":"AR72-AS72","v":-2},null,{"$f":"RANK(AW72,$AW$70:$AW$75)","v":2},"位",2]
[null,"得失点",null,{"$f":"I71","v":8},"-",{"$f":"G71","v":0},null,null,null,{"$f":"R20","v":8},"-",{"$f":"V20","v":0},null,null,null,null,null,null,null,null,null,null,null,null,null,null,null,null,null,"得失点",null,{"$f":"AK71","v":2},"-",{"$f":"AI71","v":0},null,null,null,{"$f":"AT20","v":1},"-",{"$f":"AX20","v":5}]
[{"$f":"予選リーグ!H12","v":"千怒"},"星取表",null,null,{"$f":"IF(D75=\"\",\"\",IF(D75>F75,\"○\",IF(D75<F75,\"●\",IF(D75=F75,\"△\"))))","v":"●"},null,null,{"$f":"IF(G75=\"\",\"\",IF(G75>I75,\"○\",IF(G75<I75,\"●\",IF(G75=I75,\"△\"))))","v":"●"},null,null,null,null,{"$f":"COUNTIF(D74:L74,\"○\")","v":0},{"$f":"COUNTIF(D74:L74,\"△\")","v":0},{"$f":"COUNTIF(D74:L74,\"●\")","v":2},{"$f":"SUM(D75,G75,J75)","v":1},{"$f":"SUM(F75,I75,L75)","v":11},{"$f":"(M74*4)+(N74*1)","v":0},{"$f":"RANK(R74,$R$70:$R$75)","v":3},"位",{"$f":"P74-Q74","v":-10},null,{"$f":"RANK(U74,$U$70:$V$75)","v":3},"位",3,null,null,null,{"$f":"予選リーグ!N12","v":"ＭＳＳ"},"星取表",null,null,{"$f":"IF(AF75=\"\",\"\",IF(AF75>AH75,\"○\",IF(AF75<AH75,\"●\",IF(AF75=AH75,\"△\"))))","v":"○"},null,null,{"$f":"IF(AI75=\"\",\"\",IF(AI75>AK75,\"○\",IF(AI75<AK75,\"●\",IF(AI75=AK75,\"△\"))))","v":"○"},null,null,null,null,{"$f":"COUNTIF(AF74:AN74,\"○\")","v":2},{"$f":"COUNTIF(AF74:AN74,\"△\")","v":0},{"$f":"COUNTIF(AF74:AN74,\"●\")","v":0},{"$f":"SUM(AF75,AI75,AL75)","v":14},{"$f":"SUM(AH75,AK75,AN75)","v":1},{"$f":"(AO74*4)+(AP74*1)","v":8},{"$f":"RANK(AT74,$AT$70:$AT$75)","v":1},"位",{"$f":"AR74-AS74","v":13},null,{"$f":"RANK(AW74,$AW$70:$AW$75)","v":1},"位",1]
[null,"得失点",null,{"$f":"L71","v":1},"-",{"$f":"J71","v":3},{"$f":"L73","v":0},"-",{"$f":"J73","v":8},null,null,null,null,null,null,null,null,null,null,null,null,null,null,null,null,null,null,null,null,"得失点",null,{"$f":"AN71","v":9},"-",{"$f":"AL71","v":0},{"$f":"AN73","v":5},"-",{"$f":"AL73","v":1}]

{"sheet":"予選リーグ公式記録(大在東A)","index":7,"n_rows":89,"n_cols":29,"rows_kept":89,"cut":false,"hidden":true,"merged":[[84,1,84,2],[84,16,84,17],[85,1,85,3],[85,16,85,18],[86,1,86,2],[86,16,86,17],[87,1,87,3],[87,16,87,18],[88,1,88,2],[88,16,88,17],[81,1,81,3],[81,16,81,18],[82,1,82,2],[82,16,82,17],[67,13,69,13],[67,19,69,19],[67,20,69,20],[67,21,69,21],[83,1,83,3],[83,16,83,18],[70,0,70,3],[70,15,70,18],[67,1,67,3],[68,1,68,3],[69,1,69,3],[67,16,67,18],[68,16,68,18],[69,16,69,18],[67,26,69,26],[67,4,69,4],[67,5,69,5],[67,6,69,6],[67,7,69,7],[67,11,69,11],[67,12,69,12],[67,27,69,27],[67,28,69,28],[59,1,59,2],[59,16,59,17],[54,1,54,3],[54,16,54,18],[55,1,55,2],[55,16,55,17],[56,1,56,3],[56,16,56,18],[67,22,69,22],[57,1,57,2],[57,16,57,17],[58,1,58,3],[58,16,58,18],[38,11,40,11],[38,12,40,12],[38,27,40,27],[38,28,40,28],[52,1,52,3],[52,16,52,18],[53,1,53,2],[53,16,53,17],[38,13,40,13],[38,19,40,19],[38,20,40,20],[38,21,40,21],[41,0,41,3],[41,15,41,18],[38,26,40,26],[38,16,38,18],[39,16,39,18],[40,16,40,18],[38,1,38,3],[39,1,39,3],[40,1,40,3],[26,1,26,2],[26,16,26,17],[27,1,27,3],[27,16,27,18],[28,1,28,2],[28,16,28,17],[38,22,40,22],[4,12,4,13],[4,5,4,11],[5,5,5,11],[5,12,5,13],[9,6,11,6],[9,7,11,7],[9,11,11,11],[9,12,11,12],[9,19,11,19],[29,1,29,3],[29,16,29,18],[30,1,30,2],[30,16,30,17],[38,4,40,4],[38,5,40,5],[38,6,40,6],[38,7,40,7],[0,10,0,13],[0,0,0,9],[9,13,11,13],[23,1,23,3],[24,1,24,2],[25,1,25,3],[6,5,6,11],[23,16,23,18],[24,16,24,17],[25,16,25,18],[9,4,11,4],[9,5,11,5],[6,12,6,13],[12,0,12,3],[12,15,12,18],[0,15,0,24],[9,1,9,3],[10,1,10,3],[11,1,11,3],[9,16,9,18],[10,16,10,18],[11,16,11,18],[0,25,0,28],[9,26,11,26],[9,27,11,27],[9,28,11,28],[9,21,11,21],[6,20,6,26],[4,27,4,28],[5,27,5,28],[4,20,4,26],[5,20,5,26],[6,27,6,28],[9,20,11,20],[9,22,11,22]]}
[{"$f":"大会要項!$B$2","v":"第8回 全日本不動産協会杯争奪少年サッカー大会【ラビットカップ】大分県大会"},null,null,null,null,null,null,null,null,null,"予選リーグ結果　報告用紙",null,null,null,null,{"$f":"大会要項!$B$2","v":"第8回 全日本不動産協会杯争奪少年サッカー大会【ラビットカップ】大分県大会"},null,null,null,null,null,null,null,null,null,"予選リーグ結果　報告用紙"]
[]
["会場",{"$f":"予選リーグ!C14","v":"大在東グラウンド"},null,null,"A",null,null,null,null,null,null,null,null,null,null,"会場",{"$f":"予選リーグ!C14","v":"大在東グラウンド"},null,null,"A"]
[]
[null,null,null,null,"A1",{"$f":"VLOOKUP(E5,組合せ抽選用!$Q:$U,5,FALSE)","v":"佐伯リベロフットボールクラブ"},null,null,null,null,null,null,{"$f":"VLOOKUP(E5,組合せ抽選用!$Q:$V,6,FALSE)","v":"佐伯"},null,null,null,null,null,null,"C1",{"$f":"VLOOKUP(T5,組合せ抽選用!$Q:$U,5,FALSE)","v":"別府フットボールクラブ．ミネルバＵ－１２"},null,null,null,null,null,null,{"$f":"VLOOKUP(T5,組合せ抽選用!$Q:$V,6,FALSE)","v":"別府"}]
[null,null,null,null,"A2",{"$f":"VLOOKUP(E6,組合せ抽選用!$Q:$U,5,FALSE)","v":"別保ＳＦＣ"},null,null,null,null,null,null,{"$f":"VLOOKUP(E6,組合せ抽選用!$Q:$V,6,FALSE)","v":"大分"},null,null,null,null,null,null,"C2",{"$f":"VLOOKUP(T6,組合せ抽選用!$Q:$U,5,FALSE)","v":"大分トリニータＵ－１２"},null,null,null,null,null,null,{"$f":"VLOOKUP(T6,組合せ抽選用!$Q:$V,6,FALSE)","v":"大分"}]
[null,null,null,null,"A3",{"$f":"VLOOKUP(E7,組合せ抽選用!$Q:$U,5,FALSE)","v":"ＦＣ　ＷＡＹＳ"},null,null,null,null,null,null,{"$f":"VLOOKUP(E7,組合せ抽選用!$Q:$V,6,FALSE)","v":"宇佐高田"},null,null,null,null,null,null,"C3",{"$f":"VLOOKUP(T7,組合せ抽選用!$Q:$U,5,FALSE)","v":"太陽スポーツクラブ大分西"},null,null,null,null,null,null,{"$f":"VLOOKUP(T7,組合せ抽選用!$Q:$V,6,FALSE)","v":"日田"}]
[]
[]
["MC","磯村　信一",null,null,"10:30:00",{"$f":"F5","v":"佐伯リベロフットボールクラブ"},{"$f":"SUM(I10:I11)","v":2},"（",1,"前半",1,"）",{"$f":"SUM(K10:K11)","v":3},{"$f":"F6","v":"別保ＳＦＣ"},null,"MC","津守　一雄",null,null,"11:30:00",{"$f":"U5","v":"別府フットボールクラブ．ミネルバＵ－１２"},{"$f":"SUM(X10:X11)","v":0},"（",0,"前半",2,"）",{"$f":"SUM(Z10:Z11)","v":3},{"$f":"U6","v":"大分トリニータＵ－１２"}]
["Welfare\nOfficer","-",null,null,null,null,null,null,1,"後半",2,null,null,null,null,"Welfare\nOfficer","-",null,null,null,null,null,null,0,"後半",1]
["記録","佐々木　秀樹",null,null,null,null,null,null,null,"PK",null,null,null,null,null,"記録","安東　幹雄",null,null,null,null,null,null,null,"PK"]
["＜Referee＞",null,null,null,null,"氏名","番号","分",null,null,null,"分","番号","氏名",null,"＜Referee＞",null,null,null,null,"氏名","番号","分",null,null,null,"分","番号","氏名"]
[null,null,null,null,"得点者",{"$f":"IF(ISERROR(VLOOKUP(CONCATENATE($F$10,\"_\",G14),選手名簿!$A:$E,5,FALSE))=TRUE,\"\",VLOOKUP(CONCATENATE($F$10,\"_\",G14),選手名簿!$A:$E,5,FALSE))","v":""},null,null,null,null,null,null,null,{"$f":"IF(ISERROR(VLOOKUP(CONCATENATE($N$10,\"_\",M14),選手名簿!$A:$E,5,FALSE))=TRUE,\"\",VLOOKUP(CONCATENATE($N$10,\"_\",M14),選手名簿!$A:$E,5,FALSE))","v":""},null,null,null,null,null,"得点者",{"$f":"IF(ISERROR(VLOOKUP(CONCATENATE($U$10,\"_\",V14),選手名簿!$A:$E,5,FALSE))=TRUE,\"\",VLOOKUP(CONCATENATE($U$10,\"_\",V14),選手名簿!$A:$E,5,FALSE))","v":""},null,null,null,null,null,null,null,{"$f":"IF(ISERROR(VLOOKUP(CONCATENATE($AC$10,\"_\",AB14),選手名簿!$A:$E,5,FALSE))=TRUE,\"\",VLOOKUP(CONCATENATE($AC$10,\"_\",AB14),選手名簿!$A:$E,5,FALSE))","v":""}]
[null,null,null,null,"得点者",{"$f":"IF(ISERROR(VLOOKUP(CONCATENATE($F$10,\"_\",G15),選手名簿!$A:$E,5,FALSE))=TRUE,\"\",VLOOKUP(CONCATENATE($F$10,\"_\",G15),選手名簿!$A:$E,5,FALSE))","v":""},null,null,null,null,null,null,null,{"$f":"IF(ISERROR(VLOOKUP(CONCATENATE($N$10,\"_\",M15),選手名簿!$A:$E,5,FALSE))=TRUE,\"\",VLOOKUP(CONCATENATE($N$10,\"_\",M15),選手名簿!$A:$E,5,FALSE))","v":""},null,null,null,null,null,"得点者",{"$f":"IF(ISERROR(VLOOKUP(CONCATENATE($U$10,\"_\",V15),選手名簿!$A:$E,5,FALSE))=TRUE,\"\",VLOOKUP(CONCATENATE($U$10,\"_\",V15),選手名簿!$A:$E,5,FALSE))","v":""},null,null,null,null,null,null,null,{"$f":"IF(ISERROR(VLOOKUP(CONCATENATE($AC$10,\"_\",AB15),選手名簿!$A:$E,5,FALSE))=TRUE,\"\",VLOOKUP(CONCATENATE($AC$10,\"_\",AB15),選手名簿!$A:$E,5,FALSE))","v":""}]
[null,null,null,null,"得点者",{"$f":"IF(ISERROR(VLOOKUP(CONCATENATE($F$10,\"_\",G16),選手名簿!$A:$E,5,FALSE))=TRUE,\"\",VLOOKUP(CONCATENATE($F$10,\"_\",G16),選手名簿!$A:$E,5,FALSE))","v":""},null,null,null,null,null,null,null,{"$f":"IF(ISERROR(VLOOKUP(CONCATENATE($N$10,\"_\",M16),選手名簿!$A:$E,5,FALSE))=TRUE,\"\",VLOOKUP(CONCATENATE($N$10,\"_\",M16),選手名簿!$A:$E,5,FALSE))","v":""},null,null,null,null,null,"得点者",{"$f":"IF(ISERROR(VLOOKUP(CONCATENATE($U$10,\"_\",V16),選手名簿!$A:$E,5,FALSE))=TRUE,\"\",VLOOKUP(CONCATENATE($U$10,\"_\",V16),選手名簿!$A:$E,5,FALSE))","v":""},null,null,null,null,null,null,null,{"$f":"IF(ISERROR(VLOOKUP(CONCATENATE($AC$10,\"_\",AB16),選手名簿!$A:$E,5,FALSE))=TRUE,\"\",VLOOKUP(CONCATENATE($AC$10,\"_\",AB16),選手名簿!$A:$E,5,FALSE))","v":""}]
[null,null,null,null,"得点者",{"$f":"IF(ISERROR(VLOOKUP(CONCATENATE($F$10,\"_\",G17),選手名簿!$A:$E,5,FALSE))=TRUE,\"\",VLOOKUP(CONCATENATE($F$10,\"_\",G17),選手名簿!$A:$E,5,FALSE))","v":""},null,null,null,null,null,null,null,{"$f":"IF(ISERROR(VLOOKUP(CONCATENATE($N$10,\"_\",M17),選手名簿!$A:$E,5,FALSE))=TRUE,\"\",VLOOKUP(CONCATENATE($N$10,\"_\",M17),選手名簿!$A:$E,5,FALSE))","v":""},null,null,null,null,null,"得点者",{"$f":"IF(ISERROR(VLOOKUP(CONCATENATE($U$10,\"_\",V17),選手名簿!$A:$E,5,FALSE))=TRUE,\"\",VLOOKUP(CONCATENATE($U$10,\"_\",V17),選手名簿!$A:$E,5,FALSE))","v":""},null,null,null,null,null,null,null,{"$f":"IF(ISERROR(VLOOKUP(CONCATENATE($AC$10,\"_\",AB17),選手名簿!$A:$E,5,FALSE))=TRUE,\"\",VLOOKUP(CONCATENATE($AC$10,\"_\",AB17),選手名簿!$A:$E,5,FALSE))","v":""}]
[null,null,null,null,"得点者",{"$f":"IF(ISERROR(VLOOKUP(CONCATENATE($F$10,\"_\",G18),選手名簿!$A:$E,5,FALSE))=TRUE,\"\",VLOOKUP(CONCATENATE($F$10,\"_\",G18),選手名簿!$A:$E,5,FALSE))","v":""},null,null,null,null,null,null,null,{"$f":"IF(ISERROR(VLOOKUP(CONCATENATE($N$10,\"_\",M18),選手名簿!$A:$E,5,FALSE))=TRUE,\"\",VLOOKUP(CONCATENATE($N$10,\"_\",M18),選手名簿!$A:$E,5,FALSE))","v":""},null,null,null,null,null,"得点者",{"$f":"IF(ISERROR(VLOOKUP(CONCATENATE($U$10,\"_\",V18),選手名簿!$A:$E,5,FALSE))=TRUE,\"\",VLOOKUP(CONCATENATE($U$10,\"_\",V18),選手名簿!$A:$E,5,FALSE))","v":""},null,null,null,null,null,null,null,{"$f":"IF(ISERROR(VLOOKUP(CONCATENATE($AC$10,\"_\",AB18),選手名簿!$A:$E,5,FALSE))=TRUE,\"\",VLOOKUP(CONCATENATE($AC$10,\"_\",AB18),選手名簿!$A:$E,5,FALSE))","v":""}]
[null,null,null,null,"得点者",{"$f":"IF(ISERROR(VLOOKUP(CONCATENATE($F$10,\"_\",G19),選手名簿!$A:$E,5,FALSE))=TRUE,\"\",VLOOKUP(CONCATENATE($F$10,\"_\",G19),選手名簿!$A:$E,5,FALSE))","v":""},null,null,null,null,null,null,null,{"$f":"IF(ISERROR(VLOOKUP(CONCATENATE($N$10,\"_\",M19),選手名簿!$A:$E,5,FALSE))=TRUE,\"\",VLOOKUP(CONCATENATE($N$10,\"_\",M19),選手名簿!$A:$E,5,FALSE))","v":""},null,null,null,null,null,"得点者",{"$f":"IF(ISERROR(VLOOKUP(CONCATENATE($U$10,\"_\",V19),選手名簿!$A:$E,5,FALSE))=TRUE,\"\",VLOOKUP(CONCATENATE($U$10,\"_\",V19),選手名簿!$A:$E,5,FALSE))","v":""},null,null,null,null,null,null,null,{"$f":"IF(ISERROR(VLOOKUP(CONCATENATE($AC$10,\"_\",AB19),選手名簿!$A:$E,5,FALSE))=TRUE,\"\",VLOOKUP(CONCATENATE($AC$10,\"_\",AB19),選手名簿!$A:$E,5,FALSE))","v":""}]
[null,null,null,null,"得点者",{"$f":"IF(ISERROR(VLOOKUP(CONCATENATE($F$10,\"_\",G20),選手名簿!$A:$E,5,FALSE))=TRUE,\"\",VLOOKUP(CONCATENATE($F$10,\"_\",G20),選手名簿!$A:$E,5,FALSE))","v":""},null,null,null,null,null,null,null,{"$f":"IF(ISERROR(VLOOKUP(CONCATENATE($N$10,\"_\",M20),選手名簿!$A:$E,5,FALSE))=TRUE,\"\",VLOOKUP(CONCATENATE($N$10,\"_\",M20),選手名簿!$A:$E,5,FALSE))","v":""},null,null,null,null,null,"得点者",{"$f":"IF(ISERROR(VLOOKUP(CONCATENATE($U$10,\"_\",V20),選手名簿!$A:$E,5,FALSE))=TRUE,\"\",VLOOKUP(CONCATENATE($U$10,\"_\",V20),選手名簿!$A:$E,5,FALSE))","v":""},null,null,null,null,null,null,null,{"$f":"IF(ISERROR(VLOOKUP(CONCATENATE($AC$10,\"_\",AB20),選手名簿!$A:$E,5,FALSE))=TRUE,\"\",VLOOKUP(CONCATENATE($AC$10,\"_\",AB20),選手名簿!$A:$E,5,FALSE))","v":""}]
[null,null,null,null,"得点者",{"$f":"IF(ISERROR(VLOOKUP(CONCATENATE($F$10,\"_\",G21),選手名簿!$A:$E,5,FALSE))=TRUE,\"\",VLOOKUP(CONCATENATE($F$10,\"_\",G21),選手名簿!$A:$E,5,FALSE))","v":""},null,null,null,null,null,null,null,{"$f":"IF(ISERROR(VLOOKUP(CONCATENATE($N$10,\"_\",M21),選手名簿!$A:$E,5,FALSE))=TRUE,\"\",VLOOKUP(CONCATENATE($N$10,\"_\",M21),選手名簿!$A:$E,5,FALSE))","v":""},null,null,null,null,null,"得点者",{"$f":"IF(ISERROR(VLOOKUP(CONCATENATE($U$10,\"_\",V21),選手名簿!$A:$E,5,FALSE))=TRUE,\"\",VLOOKUP(CONCATENATE($U$10,\"_\",V21),選手名簿!$A:$E,5,FALSE))","v":""},null,null,null,null,null,null,null,{"$f":"IF(ISERROR(VLOOKUP(CONCATENATE($AC$10,\"_\",AB21),選手名簿!$A:$E,5,FALSE))=TRUE,\"\",VLOOKUP(CONCATENATE($AC$10,\"_\",AB21),選手名簿!$A:$E,5,FALSE))","v":""}]
[null,null,null,null,"得点者",{"$f":"IF(ISERROR(VLOOKUP(CONCATENATE($F$10,\"_\",G22),選手名簿!$A:$E,5,FALSE))=TRUE,\"\",VLOOKUP(CONCATENATE($F$10,\"_\",G22),選手名簿!$A:$E,5,FALSE))","v":""},null,null,null,null,null,null,null,{"$f":"IF(ISERROR(VLOOKUP(CONCATENATE($N$10,\"_\",M22),選手名簿!$A:$E,5,FALSE))=TRUE,\"\",VLOOKUP(CONCATENATE($N$10,\"_\",M22),選手名簿!$A:$E,5,FALSE))","v":""},null,null,null,null,null,"得点者",{"$f":"IF(ISERROR(VLOOKUP(CONCATENATE($U$10,\"_\",V22),選手名簿!$A:$E,5,FALSE))=TRUE,\"\",VLOOKUP(CONCATENATE($U$10,\"_\",V22),選手名簿!$A:$E,5,FALSE))","v":""},null,null,null,null,null,null,null,{"$f":"IF(ISERROR(VLOOKUP(CONCATENATE($AC$10,\"_\",AB22),選手名簿!$A:$E,5,FALSE))=TRUE,\"\",VLOOKUP(CONCATENATE($AC$10,\"_\",AB22),選手名簿!$A:$E,5,FALSE))","v":""}]
[null,null,null,null,"得点者",{"$f":"IF(ISERROR(VLOOKUP(CONCATENATE($F$10,\"_\",G23),選手名簿!$A:$E,5,FALSE))=TRUE,\"\",VLOOKUP(CONCATENATE($F$10,\"_\",G23),選手名簿!$A:$E,5,FALSE))","v":""},null,null,null,null,null,null,null,{"$f":"IF(ISERROR(VLOOKUP(CONCATENATE($N$10,\"_\",M23),選手名簿!$A:$E,5,FALSE))=TRUE,\"\",VLOOKUP(CONCATENATE($N$10,\"_\",M23),選手名簿!$A:$E,5,FALSE))","v":""},null,null,null,null,null,"得点者",{"$f":"IF(ISERROR(VLOOKUP(CONCATENATE($U$10,\"_\",V23),選手名簿!$A:$E,5,FALSE))=TRUE,\"\",VLOOKUP(CONCATENATE($U$10,\"_\",V23),選手名簿!$A:$E,5,FALSE))","v":""},null,null,null,null,null,null,null,{"$f":"IF(ISERROR(VLOOKUP(CONCATENATE($AC$10,\"_\",AB23),選手名簿!$A:$E,5,FALSE))=TRUE,\"\",VLOOKUP(CONCATENATE($AC$10,\"_\",AB23),選手名簿!$A:$E,5,FALSE))","v":""}]
["番号","R010069871",null,null,"警告/退場",{"$f":"IF(ISERROR(VLOOKUP(CONCATENATE($F$10,\"_\",G24),選手名簿!$A:$E,5,FALSE))=TRUE,\"\",VLOOKUP(CONCATENATE($F$10,\"_\",G24),選手名簿!$A:$E,5,FALSE))","v":""},null,null,null,null,null,null,null,{"$f":"IF(ISERROR(VLOOKUP(CONCATENATE($N$10,\"_\",M24),選手名簿!$A:$E,5,FALSE))=TRUE,\"\",VLOOKUP(CONCATENATE($N$10,\"_\",M24),選手名簿!$A:$E,5,FALSE))","v":""},null,"番号","R001256402",null,null,"警告/退場",{"$f":"IF(ISERROR(VLOOKUP(CONCATENATE($U$10,\"_\",V24),選手名簿!$A:$E,5,FALSE))=TRUE,\"\",VLOOKUP(CONCATENATE($U$10,\"_\",V24),選手名簿!$A:$E,5,FALSE))","v":""},null,null,null,null,null,null,null,{"$f":"IF(ISERROR(VLOOKUP(CONCATENATE($AC$10,\"_\",AB24),選手名簿!$A:$E,5,FALSE))=TRUE,\"\",VLOOKUP(CONCATENATE($AC$10,\"_\",AB24),選手名簿!$A:$E,5,FALSE))","v":""}]
["R",{"$f":"IF(ISERROR(VLOOKUP(B24,審判員!$A:$C,2,FALSE))=TRUE,\"\",VLOOKUP(B24,審判員!$A:$C,2,FALSE))","v":"足立　卓也"},null,{"$f":"IF(ISERROR(VLOOKUP(B24,審判員!$A:$C,3,FALSE))=TRUE,\"\",VLOOKUP(B24,審判員!$A:$C,3,FALSE))","v":"３級"},"警告/退場",{"$f":"IF(ISERROR(VLOOKUP(CONCATENATE($F$10,\"_\",G25),選手名簿!$A:$E,5,FALSE))=TRUE,\"\",VLOOKUP(CONCATENATE($F$10,\"_\",G25),選手名簿!$A:$E,5,FALSE))","v":""},null,null,null,null,null,null,null,{"$f":"IF(ISERROR(VLOOKUP(CONCATENATE($N$10,\"_\",M25),選手名簿!$A:$E,5,FALSE))=TRUE,\"\",VLOOKUP(CONCATENATE($N$10,\"_\",M25),選手名簿!$A:$E,5,FALSE))","v":""},null,"R",{"$f":"IF(ISERROR(VLOOKUP(Q24,審判員!$A:$C,2,FALSE))=TRUE,\"\",VLOOKUP(Q24,審判員!$A:$C,2,FALSE))","v":"小石川　悟"},null,{"$f":"IF(ISERROR(VLOOKUP(Q24,審判員!$A:$C,3,FALSE))=TRUE,\"\",VLOOKUP(Q24,審判員!$A:$C,3,FALSE))","v":"３級"},"警告/退場",{"$f":"IF(ISERROR(VLOOKUP(CONCATENATE($U$10,\"_\",V25),選手名簿!$A:$E,5,FALSE))=TRUE,\"\",VLOOKUP(CONCATENATE($U$10,\"_\",V25),選手名簿!$A:$E,5,FALSE))","v":""},null,null,null,null,null,null,null,{"$f":"IF(ISERROR(VLOOKUP(CONCATENATE($AC$10,\"_\",AB25),選手名簿!$A:$E,5,FALSE))=TRUE,\"\",VLOOKUP(CONCATENATE($AC$10,\"_\",AB25),選手名簿!$A:$E,5,FALSE))","v":""}]
["番号","R010301990",null,null,"警告/退場",{"$f":"IF(ISERROR(VLOOKUP(CONCATENATE($F$10,\"_\",G26),選手名簿!$A:$E,5,FALSE))=TRUE,\"\",VLOOKUP(CONCATENATE($F$10,\"_\",G26),選手名簿!$A:$E,5,FALSE))","v":""},null,null,null,null,null,null,null,{"$f":"IF(ISERROR(VLOOKUP(CONCATENATE($N$10,\"_\",M26),選手名簿!$A:$E,5,FALSE))=TRUE,\"\",VLOOKUP(CONCATENATE($N$10,\"_\",M26),選手名簿!$A:$E,5,FALSE))","v":""},null,"番号","R010027823",null,null,"警告/退場",{"$f":"IF(ISERROR(VLOOKUP(CONCATENATE($U$10,\"_\",V26),選手名簿!$A:$E,5,FALSE))=TRUE,\"\",VLOOKUP(CONCATENATE($U$10,\"_\",V26),選手名簿!$A:$E,5,FALSE))","v":""},null,null,null,null,null,null,null,{"$f":"IF(ISERROR(VLOOKUP(CONCATENATE($AC$10,\"_\",AB26),選手名簿!$A:$E,5,FALSE))=TRUE,\"\",VLOOKUP(CONCATENATE($AC$10,\"_\",AB26),選手名簿!$A:$E,5,FALSE))","v":""}]
["AR1:",{"$f":"IF(ISERROR(VLOOKUP(B26,審判員!$A:$C,2,FALSE))=TRUE,\"\",VLOOKUP(B26,審判員!$A:$C,2,FALSE))","v":"池本　岬"},null,{"$f":"IF(ISERROR(VLOOKUP(B26,審判員!$A:$C,3,FALSE))=TRUE,\"\",VLOOKUP(B26,審判員!$A:$C,3,FALSE))","v":"３級"},"警告/退場",{"$f":"IF(ISERROR(VLOOKUP(CONCATENATE($F$10,\"_\",G27),選手名簿!$A:$E,5,FALSE))=TRUE,\"\",VLOOKUP(CONCATENATE($F$10,\"_\",G27),選手名簿!$A:$E,5,FALSE))","v":""},null,null,null,null,null,null,null,{"$f":"IF(ISERROR(VLOOKUP(CONCATENATE($N$10,\"_\",M27),選手名簿!$A:$E,5,FALSE))=TRUE,\"\",VLOOKUP(CONCATENATE($N$10,\"_\",M27),選手名簿!$A:$E,5,FALSE))","v":""},null,"AR1:",{"$f":"IF(ISERROR(VLOOKUP(Q26,審判員!$A:$C,2,FALSE))=TRUE,\"\",VLOOKUP(Q26,審判員!$A:$C,2,FALSE))","v":"清家　大介"},null,{"$f":"IF(ISERROR(VLOOKUP(Q26,審判員!$A:$C,3,FALSE))=TRUE,\"\",VLOOKUP(Q26,審判員!$A:$C,3,FALSE))","v":"３級"},"警告/退場",{"$f":"IF(ISERROR(VLOOKUP(CONCATENATE($U$10,\"_\",V27),選手名簿!$A:$E,5,FALSE))=TRUE,\"\",VLOOKUP(CONCATENATE($U$10,\"_\",V27),選手名簿!$A:$E,5,FALSE))","v":""},null,null,null,null,null,null,null,{"$f":"IF(ISERROR(VLOOKUP(CONCATENATE($AC$10,\"_\",AB27),選手名簿!$A:$E,5,FALSE))=TRUE,\"\",VLOOKUP(CONCATENATE($AC$10,\"_\",AB27),選手名簿!$A:$E,5,FALSE))","v":""}]
["番号","R003421161",null,null,"警告/退場",{"$f":"IF(ISERROR(VLOOKUP(CONCATENATE($F$10,\"_\",G28),選手名簿!$A:$E,5,FALSE))=TRUE,\"\",VLOOKUP(CONCATENATE($F$10,\"_\",G28),選手名簿!$A:$E,5,FALSE))","v":""},null,null,null,null,null,null,null,{"$f":"IF(ISERROR(VLOOKUP(CONCATENATE($N$10,\"_\",M28),選手名簿!$A:$E,5,FALSE))=TRUE,\"\",VLOOKUP(CONCATENATE($N$10,\"_\",M28),選手名簿!$A:$E,5,FALSE))","v":""},null,"番号","R003972355",null,null,"警告/退場",{"$f":"IF(ISERROR(VLOOKUP(CONCATENATE($U$10,\"_\",V28),選手名簿!$A:$E,5,FALSE))=TRUE,\"\",VLOOKUP(CONCATENATE($U$10,\"_\",V28),選手名簿!$A:$E,5,FALSE))","v":""},null,null,null,null,null,null,null,{"$f":"IF(ISERROR(VLOOKUP(CONCATENATE($AC$10,\"_\",AB28),選手名簿!$A:$E,5,FALSE))=TRUE,\"\",VLOOKUP(CONCATENATE($AC$10,\"_\",AB28),選手名簿!$A:$E,5,FALSE))","v":""}]
["AR2:",{"$f":"IF(ISERROR(VLOOKUP(B28,審判員!$A:$C,2,FALSE))=TRUE,\"\",VLOOKUP(B28,審判員!$A:$C,2,FALSE))","v":"永路　尚道"},null,{"$f":"IF(ISERROR(VLOOKUP(B28,審判員!$A:$C,3,FALSE))=TRUE,\"\",VLOOKUP(B28,審判員!$A:$C,3,FALSE))","v":"３級"},"警告/退場",{"$f":"IF(ISERROR(VLOOKUP(CONCATENATE($F$10,\"_\",G29),選手名簿!$A:$E,5,FALSE))=TRUE,\"\",VLOOKUP(CONCATENATE($F$10,\"_\",G29),選手名簿!$A:$E,5,FALSE))","v":""},null,null,null,null,null,null,null,{"$f":"IF(ISERROR(VLOOKUP(CONCATENATE($N$10,\"_\",M29),選手名簿!$A:$E,5,FALSE))=TRUE,\"\",VLOOKUP(CONCATENATE($N$10,\"_\",M29),選手名簿!$A:$E,5,FALSE))","v":""},null,"AR2:",{"$f":"IF(ISERROR(VLOOKUP(Q28,審判員!$A:$C,2,FALSE))=TRUE,\"\",VLOOKUP(Q28,審判員!$A:$C,2,FALSE))","v":"小倉　正広"},null,{"$f":"IF(ISERROR(VLOOKUP(Q28,審判員!$A:$C,3,FALSE))=TRUE,\"\",VLOOKUP(Q28,審判員!$A:$C,3,FALSE))","v":"３級"},"警告/退場",{"$f":"IF(ISERROR(VLOOKUP(CONCATENATE($U$10,\"_\",V29),選手名簿!$A:$E,5,FALSE))=TRUE,\"\",VLOOKUP(CONCATENATE($U$10,\"_\",V29),選手名簿!$A:$E,5,FALSE))","v":""},null,null,null,null,null,null,null,{"$f":"IF(ISERROR(VLOOKUP(CONCATENATE($AC$10,\"_\",AB29),選手名簿!$A:$E,5,FALSE))=TRUE,\"\",VLOOKUP(CONCATENATE($AC$10,\"_\",AB29),選手名簿!$A:$E,5,FALSE))","v":""}]
["番号","R001265428",null,null,"警告/退場",{"$f":"IF(ISERROR(VLOOKUP(CONCATENATE($F$10,\"_\",G30),選手名簿!$A:$E,5,FALSE))=TRUE,\"\",VLOOKUP(CONCATENATE($F$10,\"_\",G30),選手名簿!$A:$E,5,FALSE))","v":""},null,null,null,null,null,null,null,{"$f":"IF(ISERROR(VLOOKUP(CONCATENATE($N$10,\"_\",M30),選手名簿!$A:$E,5,FALSE))=TRUE,\"\",VLOOKUP(CONCATENATE($N$10,\"_\",M30),選手名簿!$A:$E,5,FALSE))","v":""},null,"番号","R010069871",null,null,"警告/退場",{"$f":"IF(ISERROR(VLOOKUP(CONCATENATE($U$10,\"_\",V30),選手名簿!$A:$E,5,FALSE))=TRUE,\"\",VLOOKUP(CONCATENATE($U$10,\"_\",V30),選手名簿!$A:$E,5,FALSE))","v":""},null,null,null,null,null,null,null,{"$f":"IF(ISERROR(VLOOKUP(CONCATENATE($AC$10,\"_\",AB30),選手名簿!$A:$E,5,FALSE))=TRUE,\"\",VLOOKUP(CONCATENATE($AC$10,\"_\",AB30),選手名簿!$A:$E,5,FALSE))","v":""}]
["4th:",{"$f":"IF(ISERROR(VLOOKUP(B30,審判員!$A:$C,2,FALSE))=TRUE,\"\",VLOOKUP(B30,審判員!$A:$C,2,FALSE))","v":"坪井　和幸"},null,{"$f":"IF(ISERROR(VLOOKUP(B30,審判員!$A:$C,3,FALSE))=TRUE,\"\",VLOOKUP(B30,審判員!$A:$C,3,FALSE))","v":"２級"},"警告/退場",{"$f":"IF(ISERROR(VLOOKUP(CONCATENATE($F$10,\"_\",G31),選手名簿!$A:$E,5,FALSE))=TRUE,\"\",VLOOKUP(CONCATENATE($F$10,\"_\",G31),選手名簿!$A:$E,5,FALSE))","v":""},null,null,null,null,null,null,null,{"$f":"IF(ISERROR(VLOOKUP(CONCATENATE($N$10,\"_\",M31),選手名簿!$A:$E,5,FALSE))=TRUE,\"\",VLOOKUP(CONCATENATE($N$10,\"_\",M31),選手名簿!$A:$E,5,FALSE))","v":""},null,"4th:",{"$f":"IF(ISERROR(VLOOKUP(Q30,審判員!$A:$C,2,FALSE))=TRUE,\"\",VLOOKUP(Q30,審判員!$A:$C,2,FALSE))","v":"足立　卓也"},null,{"$f":"IF(ISERROR(VLOOKUP(Q30,審判員!$A:$C,3,FALSE))=TRUE,\"\",VLOOKUP(Q30,審判員!$A:$C,3,FALSE))","v":"３級"},"警告/退場",{"$f":"IF(ISERROR(VLOOKUP(CONCATENATE($U$10,\"_\",V31),選手名簿!$A:$E,5,FALSE))=TRUE,\"\",VLOOKUP(CONCATENATE($U$10,\"_\",V31),選手名簿!$A:$E,5,FALSE))","v":""},null,null,null,null,null,null,null,{"$f":"IF(ISERROR(VLOOKUP(CONCATENATE($AC$10,\"_\",AB31),選手名簿!$A:$E,5,FALSE))=TRUE,\"\",VLOOKUP(CONCATENATE($AC$10,\"_\",AB31),選手名簿!$A:$E,5,FALSE))","v":""}]
[]
[]
[]
[]
[]
[]
[]
["MC","佐々木　秀樹",null,null,"12:30:00",{"$f":"F6","v":"別保ＳＦＣ"},{"$f":"SUM(I39:I40)","v":2},"（",1,"前半",4,"）",{"$f":"SUM(K39:K40)","v":7},{"$f":"F7","v":"ＦＣ　ＷＡＹＳ"},null,"MC","安東　幹雄",null,null,"13:30:00",{"$f":"U6","v":"大分トリニータＵ－１２"},{"$f":"SUM(X39:X40)","v":4},"（",4,"前半",0,"）",{"$f":"SUM(Z39:Z40)","v":0},{"$f":"U7","v":"太陽スポーツクラブ大分西"}]
["Welfare\nOfficer","-",null,null,null,null,null,null,1,"後半",3,null,null,null,null,"Welfare\nOfficer","-",null,null,null,null,null,null,0,"後半",0]
["記録","磯村　信一",null,null,null,null,null,null,null,"PK",null,null,null,null,null,"記録","津守　一雄",null,null,null,null,null,null,null,"PK"]
["＜Referee＞",null,null,null,null,"氏名","番号","分",null,null,null,"分","番号","氏名",null,"＜Referee＞",null,null,null,null,"氏名","番号","分",null,null,null,"分","番号","氏名"]
[null,null,null,null,"得点者",{"$f":"IF(ISERROR(VLOOKUP(CONCATENATE($F$39,\"_\",G43),選手名簿!$A:$E,5,FALSE))=TRUE,\"\",VLOOKUP(CONCATENATE($F$39,\"_\",G43),選手名簿!$A:$E,5,FALSE))","v":""},null,null,null,null,null,null,null,{"$f":"IF(ISERROR(VLOOKUP(CONCATENATE($N$39,\"_\",M43),選手名簿!$A:$E,5,FALSE))=TRUE,\"\",VLOOKUP(CONCATENATE($N$39,\"_\",M43),選手名簿!$A:$E,5,FALSE))","v":""},null,null,null,null,null,"得点者",{"$f":"IF(ISERROR(VLOOKUP(CONCATENATE($U$39,\"_\",V43),選手名簿!$A:$E,5,FALSE))=TRUE,\"\",VLOOKUP(CONCATENATE($U$39,\"_\",V43),選手名簿!$A:$E,5,FALSE))","v":""},null,null,null,null,null,null,null,{"$f":"IF(ISERROR(VLOOKUP(CONCATENATE($AC$39,\"_\",AB43),選手名簿!$A:$E,5,FALSE))=TRUE,\"\",VLOOKUP(CONCATENATE($AC$39,\"_\",AB43),選手名簿!$A:$E,5,FALSE))","v":""}]
[null,null,null,null,"得点者",{"$f":"IF(ISERROR(VLOOKUP(CONCATENATE($F$39,\"_\",G44),選手名簿!$A:$E,5,FALSE))=TRUE,\"\",VLOOKUP(CONCATENATE($F$39,\"_\",G44),選手名簿!$A:$E,5,FALSE))","v":""},null,null,null,null,null,null,null,{"$f":"IF(ISERROR(VLOOKUP(CONCATENATE($N$39,\"_\",M44),選手名簿!$A:$E,5,FALSE))=TRUE,\"\",VLOOKUP(CONCATENATE($N$39,\"_\",M44),選手名簿!$A:$E,5,FALSE))","v":""},null,null,null,null,null,"得点者",{"$f":"IF(ISERROR(VLOOKUP(CONCATENATE($U$39,\"_\",V44),選手名簿!$A:$E,5,FALSE))=TRUE,\"\",VLOOKUP(CONCATENATE($U$39,\"_\",V44),選手名簿!$A:$E,5,FALSE))","v":""},null,null,null,null,null,null,null,{"$f":"IF(ISERROR(VLOOKUP(CONCATENATE($AC$39,\"_\",AB44),選手名簿!$A:$E,5,FALSE))=TRUE,\"\",VLOOKUP(CONCATENATE($AC$39,\"_\",AB44),選手名簿!$A:$E,5,FALSE))","v":""}]
[null,null,null,null,"得点者",{"$f":"IF(ISERROR(VLOOKUP(CONCATENATE($F$39,\"_\",G45),選手名簿!$A:$E,5,FALSE))=TRUE,\"\",VLOOKUP(CONCATENATE($F$39,\"_\",G45),選手名簿!$A:$E,5,FALSE))","v":""},null,null,null,null,null,null,null,{"$f":"IF(ISERROR(VLOOKUP(CONCATENATE($N$39,\"_\",M45),選手名簿!$A:$E,5,FALSE))=TRUE,\"\",VLOOKUP(CONCATENATE($N$39,\"_\",M45),選手名簿!$A:$E,5,FALSE))","v":""},null,null,null,null,null,"得点者",{"$f":"IF(ISERROR(VLOOKUP(CONCATENATE($U$39,\"_\",V45),選手名簿!$A:$E,5,FALSE))=TRUE,\"\",VLOOKUP(CONCATENATE($U$39,\"_\",V45),選手名簿!$A:$E,5,FALSE))","v":""},null,null,null,null,null,null,null,{"$f":"IF(ISERROR(VLOOKUP(CONCATENATE($AC$39,\"_\",AB45),選手名簿!$A:$E,5,FALSE))=TRUE,\"\",VLOOKUP(CONCATENATE($AC$39,\"_\",AB45),選手名簿!$A:$E,5,FALSE))","v":""}]
[null,null,null,null,"得点者",{"$f":"IF(ISERROR(VLOOKUP(CONCATENATE($F$39,\"_\",G46),選手名簿!$A:$E,5,FALSE))=TRUE,\"\",VLOOKUP(CONCATENATE($F$39,\"_\",G46),選手名簿!$A:$E,5,FALSE))","v":""},null,null,null,null,null,null,null,{"$f":"IF(ISERROR(VLOOKUP(CONCATENATE($N$39,\"_\",M46),選手名簿!$A:$E,5,FALSE))=TRUE,\"\",VLOOKUP(CONCATENATE($N$39,\"_\",M46),選手名簿!$A:$E,5,FALSE))","v":""},null,null,null,null,null,"得点者",{"$f":"IF(ISERROR(VLOOKUP(CONCATENATE($U$39,\"_\",V46),選手名簿!$A:$E,5,FALSE))=TRUE,\"\",VLOOKUP(CONCATENATE($U$39,\"_\",V46),選手名簿!$A:$E,5,FALSE))","v":""},null,null,null,null,null,null,null,{"$f":"IF(ISERROR(VLOOKUP(CONCATENATE($AC$39,\"_\",AB46),選手名簿!$A:$E,5,FALSE))=TRUE,\"\",VLOOKUP(CONCATENATE($AC$39,\"_\",AB46),選手名簿!$A:$E,5,FALSE))","v":""}]
[null,null,null,null,"得点者",{"$f":"IF(ISERROR(VLOOKUP(CONCATENATE($F$39,\"_\",G47),選手名簿!$A:$E,5,FALSE))=TRUE,\"\",VLOOKUP(CONCATENATE($F$39,\"_\",G47),選手名簿!$A:$E,5,FALSE))","v":""},null,null,null,null,null,null,null,{"$f":"IF(ISERROR(VLOOKUP(CONCATENATE($N$39,\"_\",M47),選手名簿!$A:$E,5,FALSE))=TRUE,\"\",VLOOKUP(CONCATENATE($N$39,\"_\",M47),選手名簿!$A:$E,5,FALSE))","v":""},null,null,null,null,null,"得点者",{"$f":"IF(ISERROR(VLOOKUP(CONCATENATE($U$39,\"_\",V47),選手名簿!$A:$E,5,FALSE))=TRUE,\"\",VLOOKUP(CONCATENATE($U$39,\"_\",V47),選手名簿!$A:$E,5,FALSE))","v":""},null,null,null,null,null,null,null,{"$f":"IF(ISERROR(VLOOKUP(CONCATENATE($AC$39,\"_\",AB47),選手名簿!$A:$E,5,FALSE))=TRUE,\"\",VLOOKUP(CONCATENATE($AC$39,\"_\",AB47),選手名簿!$A:$E,5,FALSE))","v":""}]
[null,null,null,null,"得点者",{"$f":"IF(ISERROR(VLOOKUP(CONCATENATE($F$39,\"_\",G48),選手名簿!$A:$E,5,FALSE))=TRUE,\"\",VLOOKUP(CONCATENATE($F$39,\"_\",G48),選手名簿!$A:$E,5,FALSE))","v":""},null,null,null,null,null,null,null,{"$f":"IF(ISERROR(VLOOKUP(CONCATENATE($N$39,\"_\",M48),選手名簿!$A:$E,5,FALSE))=TRUE,\"\",VLOOKUP(CONCATENATE($N$39,\"_\",M48),選手名簿!$A:$E,5,FALSE))","v":""},null,null,null,null,null,"得点者",{"$f":"IF(ISERROR(VLOOKUP(CONCATENATE($U$39,\"_\",V48),選手名簿!$A:$E,5,FALSE))=TRUE,\"\",VLOOKUP(CONCATENATE($U$39,\"_\",V48),選手名簿!$A:$E,5,FALSE))","v":""},null,null,null,null,null,null,null,{"$f":"IF(ISERROR(VLOOKUP(CONCATENATE($AC$39,\"_\",AB48),選手名簿!$A:$E,5,FALSE))=TRUE,\"\",VLOOKUP(CONCATENATE($AC$39,\"_\",AB48),選手名簿!$A:$E,5,FALSE))","v":""}]
[null,null,null,null,"得点者",{"$f":"IF(ISERROR(VLOOKUP(CONCATENATE($F$39,\"_\",G49),選手名簿!$A:$E,5,FALSE))=TRUE,\"\",VLOOKUP(CONCATENATE($F$39,\"_\",G49),選手名簿!$A:$E,5,FALSE))","v":""},null,null,null,null,null,null,null,{"$f":"IF(ISERROR(VLOOKUP(CONCATENATE($N$39,\"_\",M49),選手名簿!$A:$E,5,FALSE))=TRUE,\"\",VLOOKUP(CONCATENATE($N$39,\"_\",M49),選手名簿!$A:$E,5,FALSE))","v":""},null,null,null,null,null,"得点者",{"$f":"IF(ISERROR(VLOOKUP(CONCATENATE($U$39,\"_\",V49),選手名簿!$A:$E,5,FALSE))=TRUE,\"\",VLOOKUP(CONCATENATE($U$39,\"_\",V49),選手名簿!$A:$E,5,FALSE))","v":""},null,null,null,null,null,null,null,{"$f":"IF(ISERROR(VLOOKUP(CONCATENATE($AC$39,\"_\",AB49),選手名簿!$A:$E,5,FALSE))=TRUE,\"\",VLOOKUP(CONCATENATE($AC$39,\"_\",AB49),選手名簿!$A:$E,5,FALSE))","v":""}]
[null,null,null,null,"得点者",{"$f":"IF(ISERROR(VLOOKUP(CONCATENATE($F$39,\"_\",G50),選手名簿!$A:$E,5,FALSE))=TRUE,\"\",VLOOKUP(CONCATENATE($F$39,\"_\",G50),選手名簿!$A:$E,5,FALSE))","v":""},null,null,null,null,null,null,null,{"$f":"IF(ISERROR(VLOOKUP(CONCATENATE($N$39,\"_\",M50),選手名簿!$A:$E,5,FALSE))=TRUE,\"\",VLOOKUP(CONCATENATE($N$39,\"_\",M50),選手名簿!$A:$E,5,FALSE))","v":""},null,null,null,null,null,"得点者",{"$f":"IF(ISERROR(VLOOKUP(CONCATENATE($U$39,\"_\",V50),選手名簿!$A:$E,5,FALSE))=TRUE,\"\",VLOOKUP(CONCATENATE($U$39,\"_\",V50),選手名簿!$A:$E,5,FALSE))","v":""},null,null,null,null,null,null,null,{"$f":"IF(ISERROR(VLOOKUP(CONCATENATE($AC$39,\"_\",AB50),選手名簿!$A:$E,5,FALSE))=TRUE,\"\",VLOOKUP(CONCATENATE($AC$39,\"_\",AB50),選手名簿!$A:$E,5,FALSE))","v":""}]
[null,null,null,null,"得点者",{"$f":"IF(ISERROR(VLOOKUP(CONCATENATE($F$39,\"_\",G51),選手名簿!$A:$E,5,FALSE))=TRUE,\"\",VLOOKUP(CONCATENATE($F$39,\"_\",G51),選手名簿!$A:$E,5,FALSE))","v":""},null,null,null,null,null,null,null,{"$f":"IF(ISERROR(VLOOKUP(CONCATENATE($N$39,\"_\",M51),選手名簿!$A:$E,5,FALSE))=TRUE,\"\",VLOOKUP(CONCATENATE($N$39,\"_\",M51),選手名簿!$A:$E,5,FALSE))","v":""},null,null,null,null,null,"得点者",{"$f":"IF(ISERROR(VLOOKUP(CONCATENATE($U$39,\"_\",V51),選手名簿!$A:$E,5,FALSE))=TRUE,\"\",VLOOKUP(CONCATENATE($U$39,\"_\",V51),選手名簿!$A:$E,5,FALSE))","v":""},null,null,null,null,null,null,null,{"$f":"IF(ISERROR(VLOOKUP(CONCATENATE($AC$39,\"_\",AB51),選手名簿!$A:$E,5,FALSE))=TRUE,\"\",VLOOKUP(CONCATENATE($AC$39,\"_\",AB51),選手名簿!$A:$E,5,FALSE))","v":""}]
[null,null,null,null,"得点者",{"$f":"IF(ISERROR(VLOOKUP(CONCATENATE($F$39,\"_\",G52),選手名簿!$A:$E,5,FALSE))=TRUE,\"\",VLOOKUP(CONCATENATE($F$39,\"_\",G52),選手名簿!$A:$E,5,FALSE))","v":""},null,null,null,null,null,null,null,{"$f":"IF(ISERROR(VLOOKUP(CONCATENATE($N$39,\"_\",M52),選手名簿!$A:$E,5,FALSE))=TRUE,\"\",VLOOKUP(CONCATENATE($N$39,\"_\",M52),選手名簿!$A:$E,5,FALSE))","v":""},null,null,null,null,null,"得点者",{"$f":"IF(ISERROR(VLOOKUP(CONCATENATE($U$39,\"_\",V52),選手名簿!$A:$E,5,FALSE))=TRUE,\"\",VLOOKUP(CONCATENATE($U$39,\"_\",V52),選手名簿!$A:$E,5,FALSE))","v":""},null,null,null,null,null,null,null,{"$f":"IF(ISERROR(VLOOKUP(CONCATENATE($AC$39,\"_\",AB52),選手名簿!$A:$E,5,FALSE))=TRUE,\"\",VLOOKUP(CONCATENATE($AC$39,\"_\",AB52),選手名簿!$A:$E,5,FALSE))","v":""}]
["番号","R001265428",null,null,"警告/退場",{"$f":"IF(ISERROR(VLOOKUP(CONCATENATE($F$39,\"_\",G53),選手名簿!$A:$E,5,FALSE))=TRUE,\"\",VLOOKUP(CONCATENATE($F$39,\"_\",G53),選手名簿!$A:$E,5,FALSE))","v":""},null,null,null,null,null,null,null,{"$f":"IF(ISERROR(VLOOKUP(CONCATENATE($N$39,\"_\",M53),選手名簿!$A:$E,5,FALSE))=TRUE,\"\",VLOOKUP(CONCATENATE($N$39,\"_\",M53),選手名簿!$A:$E,5,FALSE))","v":""},null,"番号","R010069871",null,null,"警告/退場",{"$f":"IF(ISERROR(VLOOKUP(CONCATENATE($U$39,\"_\",V53),選手名簿!$A:$E,5,FALSE))=TRUE,\"\",VLOOKUP(CONCATENATE($U$39,\"_\",V53),選手名簿!$A:$E,5,FALSE))","v":""},null,null,null,null,null,null,null,{"$f":"IF(ISERROR(VLOOKUP(CONCATENATE($AC$39,\"_\",AB53),選手名簿!$A:$E,5,FALSE))=TRUE,\"\",VLOOKUP(CONCATENATE($AC$39,\"_\",AB53),選手名簿!$A:$E,5,FALSE))","v":""}]
["R",{"$f":"IF(ISERROR(VLOOKUP(B53,審判員!$A:$C,2,FALSE))=TRUE,\"\",VLOOKUP(B53,審判員!$A:$C,2,FALSE))","v":"坪井　和幸"},null,{"$f":"IF(ISERROR(VLOOKUP(B53,審判員!$A:$C,3,FALSE))=TRUE,\"\",VLOOKUP(B53,審判員!$A:$C,3,FALSE))","v":"２級"},"警告/退場",{"$f":"IF(ISERROR(VLOOKUP(CONCATENATE($F$39,\"_\",G54),選手名簿!$A:$E,5,FALSE))=TRUE,\"\",VLOOKUP(CONCATENATE($F$39,\"_\",G54),選手名簿!$A:$E,5,FALSE))","v":""},null,null,null,null,null,null,null,{"$f":"IF(ISERROR(VLOOKUP(CONCATENATE($N$39,\"_\",M54),選手名簿!$A:$E,5,FALSE))=TRUE,\"\",VLOOKUP(CONCATENATE($N$39,\"_\",M54),選手名簿!$A:$E,5,FALSE))","v":""},null,"R",{"$f":"IF(ISERROR(VLOOKUP(Q53,審判員!$A:$C,2,FALSE))=TRUE,\"\",VLOOKUP(Q53,審判員!$A:$C,2,FALSE))","v":"足立　卓也"},null,{"$f":"IF(ISERROR(VLOOKUP(Q53,審判員!$A:$C,3,FALSE))=TRUE,\"\",VLOOKUP(Q53,審判員!$A:$C,3,FALSE))","v":"３級"},"警告/退場",{"$f":"IF(ISERROR(VLOOKUP(CONCATENATE($U$39,\"_\",V54),選手名簿!$A:$E,5,FALSE))=TRUE,\"\",VLOOKUP(CONCATENATE($U$39,\"_\",V54),選手名簿!$A:$E,5,FALSE))","v":""},null,null,null,null,null,null,null,{"$f":"IF(ISERROR(VLOOKUP(CONCATENATE($AC$39,\"_\",AB54),選手名簿!$A:$E,5,FALSE))=TRUE,\"\",VLOOKUP(CONCATENATE($AC$39,\"_\",AB54),選手名簿!$A:$E,5,FALSE))","v":""}]
["番号","R003421161",null,null,"警告/退場",{"$f":"IF(ISERROR(VLOOKUP(CONCATENATE($F$39,\"_\",G55),選手名簿!$A:$E,5,FALSE))=TRUE,\"\",VLOOKUP(CONCATENATE($F$39,\"_\",G55),選手名簿!$A:$E,5,FALSE))","v":""},null,null,null,null,null,null,null,{"$f":"IF(ISERROR(VLOOKUP(CONCATENATE($N$39,\"_\",M55),選手名簿!$A:$E,5,FALSE))=TRUE,\"\",VLOOKUP(CONCATENATE($N$39,\"_\",M55),選手名簿!$A:$E,5,FALSE))","v":""},null,"番号","R003972355",null,null,"警告/退場",{"$f":"IF(ISERROR(VLOOKUP(CONCATENATE($U$39,\"_\",V55),選手名簿!$A:$E,5,FALSE))=TRUE,\"\",VLOOKUP(CONCATENATE($U$39,\"_\",V55),選手名簿!$A:$E,5,FALSE))","v":""},null,null,null,null,null,null,null,{"$f":"IF(ISERROR(VLOOKUP(CONCATENATE($AC$39,\"_\",AB55),選手名簿!$A:$E,5,FALSE))=TRUE,\"\",VLOOKUP(CONCATENATE($AC$39,\"_\",AB55),選手名簿!$A:$E,5,FALSE))","v":""}]
["AR1:",{"$f":"IF(ISERROR(VLOOKUP(B55,審判員!$A:$C,2,FALSE))=TRUE,\"\",VLOOKUP(B55,審判員!$A:$C,2,FALSE))","v":"永路　尚道"},null,{"$f":"IF(ISERROR(VLOOKUP(B55,審判員!$A:$C,3,FALSE))=TRUE,\"\",VLOOKUP(B55,審判員!$A:$C,3,FALSE))","v":"３級"},"警告/退場",{"$f":"IF(ISERROR(VLOOKUP(CONCATENATE($F$39,\"_\",G56),選手名簿!$A:$E,5,FALSE))=TRUE,\"\",VLOOKUP(CONCATENATE($F$39,\"_\",G56),選手名簿!$A:$E,5,FALSE))","v":""},null,null,null,null,null,null,null,{"$f":"IF(ISERROR(VLOOKUP(CONCATENATE($N$39,\"_\",M56),選手名簿!$A:$E,5,FALSE))=TRUE,\"\",VLOOKUP(CONCATENATE($N$39,\"_\",M56),選手名簿!$A:$E,5,FALSE))","v":""},null,"AR1:",{"$f":"IF(ISERROR(VLOOKUP(Q55,審判員!$A:$C,2,FALSE))=TRUE,\"\",VLOOKUP(Q55,審判員!$A:$C,2,FALSE))","v":"小倉　正広"},null,{"$f":"IF(ISERROR(VLOOKUP(Q55,審判員!$A:$C,3,FALSE))=TRUE,\"\",VLOOKUP(Q55,審判員!$A:$C,3,FALSE))","v":"３級"},"警告/退場",{"$f":"IF(ISERROR(VLOOKUP(CONCATENATE($U$39,\"_\",V56),選手名簿!$A:$E,5,FALSE))=TRUE,\"\",VLOOKUP(CONCATENATE($U$39,\"_\",V56),選手名簿!$A:$E,5,FALSE))","v":""},null,null,null,null,null,null,null,{"$f":"IF(ISERROR(VLOOKUP(CONCATENATE($AC$39,\"_\",AB56),選手名簿!$A:$E,5,FALSE))=TRUE,\"\",VLOOKUP(CONCATENATE($AC$39,\"_\",AB56),選手名簿!$A:$E,5,FALSE))","v":""}]
["番号","R007075261",null,null,"警告/退場",{"$f":"IF(ISERROR(VLOOKUP(CONCATENATE($F$39,\"_\",G57),選手名簿!$A:$E,5,FALSE))=TRUE,\"\",VLOOKUP(CONCATENATE($F$39,\"_\",G57),選手名簿!$A:$E,5,FALSE))","v":""},null,null,null,null,null,null,null,{"$f":"IF(ISERROR(VLOOKUP(CONCATENATE($N$39,\"_\",M57),選手名簿!$A:$E,5,FALSE))=TRUE,\"\",VLOOKUP(CONCATENATE($N$39,\"_\",M57),選手名簿!$A:$E,5,FALSE))","v":""},null,"番号","R006664758",null,null,"警告/退場",{"$f":"IF(ISERROR(VLOOKUP(CONCATENATE($U$39,\"_\",V57),選手名簿!$A:$E,5,FALSE))=TRUE,\"\",VLOOKUP(CONCATENATE($U$39,\"_\",V57),選手名簿!$A:$E,5,FALSE))","v":""},null,null,null,null,null,null,null,{"$f":"IF(ISERROR(VLOOKUP(CONCATENATE($AC$39,\"_\",AB57),選手名簿!$A:$E,5,FALSE))=TRUE,\"\",VLOOKUP(CONCATENATE($AC$39,\"_\",AB57),選手名簿!$A:$E,5,FALSE))","v":""}]
["AR2:",{"$f":"IF(ISERROR(VLOOKUP(B57,審判員!$A:$C,2,FALSE))=TRUE,\"\",VLOOKUP(B57,審判員!$A:$C,2,FALSE))","v":"小川　翔太"},null,{"$f":"IF(ISERROR(VLOOKUP(B57,審判員!$A:$C,3,FALSE))=TRUE,\"\",VLOOKUP(B57,審判員!$A:$C,3,FALSE))","v":"３級"},"警告/退場",{"$f":"IF(ISERROR(VLOOKUP(CONCATENATE($F$39,\"_\",G58),選手名簿!$A:$E,5,FALSE))=TRUE,\"\",VLOOKUP(CONCATENATE($F$39,\"_\",G58),選手名簿!$A:$E,5,FALSE))","v":""},null,null,null,null,null,null,null,{"$f":"IF(ISERROR(VLOOKUP(CONCATENATE($N$39,\"_\",M58),選手名簿!$A:$E,5,FALSE))=TRUE,\"\",VLOOKUP(CONCATENATE($N$39,\"_\",M58),選手名簿!$A:$E,5,FALSE))","v":""},null,"AR2:",{"$f":"IF(ISERROR(VLOOKUP(Q57,審判員!$A:$C,2,FALSE))=TRUE,\"\",VLOOKUP(Q57,審判員!$A:$C,2,FALSE))","v":"岩男　雄一郎"},null,{"$f":"IF(ISERROR(VLOOKUP(Q57,審判員!$A:$C,3,FALSE))=TRUE,\"\",VLOOKUP(Q57,審判員!$A:$C,3,FALSE))","v":"３級"},"警告/退場",{"$f":"IF(ISERROR(VLOOKUP(CONCATENATE($U$39,\"_\",V58),選手名簿!$A:$E,5,FALSE))=TRUE,\"\",VLOOKUP(CONCATENATE($U$39,\"_\",V58),選手名簿!$A:$E,5,FALSE))","v":""},null,null,null,null,null,null,null,{"$f":"IF(ISERROR(VLOOKUP(CONCATENATE($AC$39,\"_\",AB58),選手名簿!$A:$E,5,FALSE))=TRUE,\"\",VLOOKUP(CONCATENATE($AC$39,\"_\",AB58),選手名簿!$A:$E,5,FALSE))","v":""}]
["番号","R001256402",null,null,"警告/退場",{"$f":"IF(ISERROR(VLOOKUP(CONCATENATE($F$39,\"_\",G59),選手名簿!$A:$E,5,FALSE))=TRUE,\"\",VLOOKUP(CONCATENATE($F$39,\"_\",G59),選手名簿!$A:$E,5,FALSE))","v":""},null,null,null,null,null,null,null,{"$f":"IF(ISERROR(VLOOKUP(CONCATENATE($N$39,\"_\",M59),選手名簿!$A:$E,5,FALSE))=TRUE,\"\",VLOOKUP(CONCATENATE($N$39,\"_\",M59),選手名簿!$A:$E,5,FALSE))","v":""},null,"番号","R001265428",null,null,"警告/退場",{"$f":"IF(ISERROR(VLOOKUP(CONCATENATE($U$39,\"_\",V59),選手名簿!$A:$E,5,FALSE))=TRUE,\"\",VLOOKUP(CONCATENATE($U$39,\"_\",V59),選手名簿!$A:$E,5,FALSE))","v":""},null,null,null,null,null,null,null,{"$f":"IF(ISERROR(VLOOKUP(CONCATENATE($AC$39,\"_\",AB59),選手名簿!$A:$E,5,FALSE))=TRUE,\"\",VLOOKUP(CONCATENATE($AC$39,\"_\",AB59),選手名簿!$A:$E,5,FALSE))","v":""}]
["4th:",{"$f":"IF(ISERROR(VLOOKUP(B59,審判員!$A:$C,2,FALSE))=TRUE,\"\",VLOOKUP(B59,審判員!$A:$C,2,FALSE))","v":"小石川　悟"},null,{"$f":"IF(ISERROR(VLOOKUP(B59,審判員!$A:$C,3,FALSE))=TRUE,\"\",VLOOKUP(B59,審判員!$A:$C,3,FALSE))","v":"３級"},"警告/退場",{"$f":"IF(ISERROR(VLOOKUP(CONCATENATE($F$39,\"_\",G60),選手名簿!$A:$E,5,FALSE))=TRUE,\"\",VLOOKUP(CONCATENATE($F$39,\"_\",G60),選手名簿!$A:$E,5,FALSE))","v":""},null,null,null,null,null,null,null,{"$f":"IF(ISERROR(VLOOKUP(CONCATENATE($N$39,\"_\",M60),選手名簿!$A:$E,5,FALSE))=TRUE,\"\",VLOOKUP(CONCATENATE($N$39,\"_\",M60),選手名簿!$A:$E,5,FALSE))","v":""},null,"4th:",{"$f":"IF(ISERROR(VLOOKUP(Q59,審判員!$A:$C,2,FALSE))=TRUE,\"\",VLOOKUP(Q59,審判員!$A:$C,2,FALSE))","v":"坪井　和幸"},null,{"$f":"IF(ISERROR(VLOOKUP(Q59,審判員!$A:$C,3,FALSE))=TRUE,\"\",VLOOKUP(Q59,審判員!$A:$C,3,FALSE))","v":"２級"},"警告/退場",{"$f":"IF(ISERROR(VLOOKUP(CONCATENATE($U$39,\"_\",V60),選手名簿!$A:$E,5,FALSE))=TRUE,\"\",VLOOKUP(CONCATENATE($U$39,\"_\",V60),選手名簿!$A:$E,5,FALSE))","v":""},null,null,null,null,null,null,null,{"$f":"IF(ISERROR(VLOOKUP(CONCATENATE($AC$39,\"_\",AB60),選手名簿!$A:$E,5,FALSE))=TRUE,\"\",VLOOKUP(CONCATENATE($AC$39,\"_\",AB60),選手名簿!$A:$E,5,FALSE))","v":""}]
[]
[]
[]
[]
[]
[]
[]
["MC","磯村　信一",null,null,"14:30:00",{"$f":"F7","v":"ＦＣ　ＷＡＹＳ"},{"$f":"SUM(I68:I69)","v":7},"（",4,"前半",0,"）",{"$f":"SUM(K68:K69)","v":1},{"$f":"F5","v":"佐伯リベロフットボールクラブ"},null,"MC","津守　一雄",null,null,"15:30:00",{"$f":"U7","v":"太陽スポーツクラブ大分西"},{"$f":"SUM(X68:X69)","v":1},"（",1,"前半",2,"）",{"$f":"SUM(Z68:Z69)","v":5},{"$f":"U5","v":"別府フットボールクラブ．ミネルバＵ－１２"}]
["Welfare\nOfficer","-",null,null,null,null,null,null,3,"後半",1,null,null,null,null,"Welfare\nOfficer","-",null,null,null,null,null,null,0,"後半",3]
["記録","佐々木　秀樹",null,null,null,null,null,null,null,"PK",null,null,null,null,null,"記録","安東　幹雄",null,null,null,null,null,null,null,"PK"]
["＜Referee＞",null,null,null,null,"氏名","番号","分",null,null,null,"分","番号","氏名",null,"＜Referee＞",null,null,null,null,"氏名","番号","分",null,null,null,"分","番号","氏名"]
[null,null,null,null,"得点者",{"$f":"IF(ISERROR(VLOOKUP(CONCATENATE($F$68,\"_\",G72),選手名簿!$A:$E,5,FALSE))=TRUE,\"\",VLOOKUP(CONCATENATE($F$68,\"_\",G72),選手名簿!$A:$E,5,FALSE))","v":""},null,null,null,null,null,null,null,{"$f":"IF(ISERROR(VLOOKUP(CONCATENATE($N$68,\"_\",M72),選手名簿!$A:$E,5,FALSE))=TRUE,\"\",VLOOKUP(CONCATENATE($N$68,\"_\",M72),選手名簿!$A:$E,5,FALSE))","v":""},null,null,null,null,null,"得点者",{"$f":"IF(ISERROR(VLOOKUP(CONCATENATE($U$68,\"_\",V72),選手名簿!$A:$E,5,FALSE))=TRUE,\"\",VLOOKUP(CONCATENATE($U$68,\"_\",V72),選手名簿!$A:$E,5,FALSE))","v":""},null,null,null,null,null,null,null,{"$f":"IF(ISERROR(VLOOKUP(CONCATENATE($AC$68,\"_\",AB72),選手名簿!$A:$E,5,FALSE))=TRUE,\"\",VLOOKUP(CONCATENATE($AC$68,\"_\",AB72),選手名簿!$A:$E,5,FALSE))","v":""}]
[null,null,null,null,"得点者",{"$f":"IF(ISERROR(VLOOKUP(CONCATENATE($F$68,\"_\",G73),選手名簿!$A:$E,5,FALSE))=TRUE,\"\",VLOOKUP(CONCATENATE($F$68,\"_\",G73),選手名簿!$A:$E,5,FALSE))","v":""},null,null,null,null,null,null,null,{"$f":"IF(ISERROR(VLOOKUP(CONCATENATE($N$68,\"_\",M73),選手名簿!$A:$E,5,FALSE))=TRUE,\"\",VLOOKUP(CONCATENATE($N$68,\"_\",M73),選手名簿!$A:$E,5,FALSE))","v":""},null,null,null,null,null,"得点者",{"$f":"IF(ISERROR(VLOOKUP(CONCATENATE($U$68,\"_\",V73),選手名簿!$A:$E,5,FALSE))=TRUE,\"\",VLOOKUP(CONCATENATE($U$68,\"_\",V73),選手名簿!$A:$E,5,FALSE))","v":""},null,null,null,null,null,null,null,{"$f":"IF(ISERROR(VLOOKUP(CONCATENATE($AC$68,\"_\",AB73),選手名簿!$A:$E,5,FALSE))=TRUE,\"\",VLOOKUP(CONCATENATE($AC$68,\"_\",AB73),選手名簿!$A:$E,5,FALSE))","v":""}]
[null,null,null,null,"得点者",{"$f":"IF(ISERROR(VLOOKUP(CONCATENATE($F$68,\"_\",G74),選手名簿!$A:$E,5,FALSE))=TRUE,\"\",VLOOKUP(CONCATENATE($F$68,\"_\",G74),選手名簿!$A:$E,5,FALSE))","v":""},null,null,null,null,null,null,null,{"$f":"IF(ISERROR(VLOOKUP(CONCATENATE($N$68,\"_\",M74),選手名簿!$A:$E,5,FALSE))=TRUE,\"\",VLOOKUP(CONCATENATE($N$68,\"_\",M74),選手名簿!$A:$E,5,FALSE))","v":""},null,null,null,null,null,"得点者",{"$f":"IF(ISERROR(VLOOKUP(CONCATENATE($U$68,\"_\",V74),選手名簿!$A:$E,5,FALSE))=TRUE,\"\",VLOOKUP(CONCATENATE($U$68,\"_\",V74),選手名簿!$A:$E,5,FALSE))","v":""},null,null,null,null,null,null,null,{"$f":"IF(ISERROR(VLOOKUP(CONCATENATE($AC$68,\"_\",AB74),選手名簿!$A:$E,5,FALSE))=TRUE,\"\",VLOOKUP(CONCATENATE($AC$68,\"_\",AB74),選手名簿!$A:$E,5,FALSE))","v":""}]
[null,null,null,null,"得点者",{"$f":"IF(ISERROR(VLOOKUP(CONCATENATE($F$68,\"_\",G75),選手名簿!$A:$E,5,FALSE))=TRUE,\"\",VLOOKUP(CONCATENATE($F$68,\"_\",G75),選手名簿!$A:$E,5,FALSE))","v":""},null,null,null,null,null,null,null,{"$f":"IF(ISERROR(VLOOKUP(CONCATENATE($N$68,\"_\",M75),選手名簿!$A:$E,5,FALSE))=TRUE,\"\",VLOOKUP(CONCATENATE($N$68,\"_\",M75),選手名簿!$A:$E,5,FALSE))","v":""},null,null,null,null,null,"得点者",{"$f":"IF(ISERROR(VLOOKUP(CONCATENATE($U$68,\"_\",V75),選手名簿!$A:$E,5,FALSE))=TRUE,\"\",VLOOKUP(CONCATENATE($U$68,\"_\",V75),選手名簿!$A:$E,5,FALSE))","v":""},null,null,null,null,null,null,null,{"$f":"IF(ISERROR(VLOOKUP(CONCATENATE($AC$68,\"_\",AB75),選手名簿!$A:$E,5,FALSE))=TRUE,\"\",VLOOKUP(CONCATENATE($AC$68,\"_\",AB75),選手名簿!$A:$E,5,FALSE))","v":""}]
[null,null,null,null,"得点者",{"$f":"IF(ISERROR(VLOOKUP(CONCATENATE($F$68,\"_\",G76),選手名簿!$A:$E,5,FALSE))=TRUE,\"\",VLOOKUP(CONCATENATE($F$68,\"_\",G76),選手名簿!$A:$E,5,FALSE))","v":""},null,null,null,null,null,null,null,{"$f":"IF(ISERROR(VLOOKUP(CONCATENATE($N$68,\"_\",M76),選手名簿!$A:$E,5,FALSE))=TRUE,\"\",VLOOKUP(CONCATENATE($N$68,\"_\",M76),選手名簿!$A:$E,5,FALSE))","v":""},null,null,null,null,null,"得点者",{"$f":"IF(ISERROR(VLOOKUP(CONCATENATE($U$68,\"_\",V76),選手名簿!$A:$E,5,FALSE))=TRUE,\"\",VLOOKUP(CONCATENATE($U$68,\"_\",V76),選手名簿!$A:$E,5,FALSE))","v":""},null,null,null,null,null,null,null,{"$f":"IF(ISERROR(VLOOKUP(CONCATENATE($AC$68,\"_\",AB76),選手名簿!$A:$E,5,FALSE))=TRUE,\"\",VLOOKUP(CONCATENATE($AC$68,\"_\",AB76),選手名簿!$A:$E,5,FALSE))","v":""}]
[null,null,null,null,"得点者",{"$f":"IF(ISERROR(VLOOKUP(CONCATENATE($F$68,\"_\",G77),選手名簿!$A:$E,5,FALSE))=TRUE,\"\",VLOOKUP(CONCATENATE($F$68,\"_\",G77),選手名簿!$A:$E,5,FALSE))","v":""},null,null,null,null,null,null,null,{"$f":"IF(ISERROR(VLOOKUP(CONCATENATE($N$68,\"_\",M77),選手名簿!$A:$E,5,FALSE))=TRUE,\"\",VLOOKUP(CONCATENATE($N$68,\"_\",M77),選手名簿!$A:$E,5,FALSE))","v":""},null,null,null,null,null,"得点者",{"$f":"IF(ISERROR(VLOOKUP(CONCATENATE($U$68,\"_\",V77),選手名簿!$A:$E,5,FALSE))=TRUE,\"\",VLOOKUP(CONCATENATE($U$68,\"_\",V77),選手名簿!$A:$E,5,FALSE))","v":""},null,null,null,null,null,null,null,{"$f":"IF(ISERROR(VLOOKUP(CONCATENATE($AC$68,\"_\",AB77),選手名簿!$A:$E,5,FALSE))=TRUE,\"\",VLOOKUP(CONCATENATE($AC$68,\"_\",AB77),選手名簿!$A:$E,5,FALSE))","v":""}]
[null,null,null,null,"得点者",{"$f":"IF(ISERROR(VLOOKUP(CONCATENATE($F$68,\"_\",G78),選手名簿!$A:$E,5,FALSE))=TRUE,\"\",VLOOKUP(CONCATENATE($F$68,\"_\",G78),選手名簿!$A:$E,5,FALSE))","v":""},null,null,null,null,null,null,null,{"$f":"IF(ISERROR(VLOOKUP(CONCATENATE($N$68,\"_\",M78),選手名簿!$A:$E,5,FALSE))=TRUE,\"\",VLOOKUP(CONCATENATE($N$68,\"_\",M78),選手名簿!$A:$E,5,FALSE))","v":""},null,null,null,null,null,"得点者",{"$f":"IF(ISERROR(VLOOKUP(CONCATENATE($U$68,\"_\",V78),選手名簿!$A:$E,5,FALSE))=TRUE,\"\",VLOOKUP(CONCATENATE($U$68,\"_\",V78),選手名簿!$A:$E,5,FALSE))","v":""},null,null,null,null,null,null,null,{"$f":"IF(ISERROR(VLOOKUP(CONCATENATE($AC$68,\"_\",AB78),選手名簿!$A:$E,5,FALSE))=TRUE,\"\",VLOOKUP(CONCATENATE($AC$68,\"_\",AB78),選手名簿!$A:$E,5,FALSE))","v":""}]
[null,null,null,null,"得点者",{"$f":"IF(ISERROR(VLOOKUP(CONCATENATE($F$68,\"_\",G79),選手名簿!$A:$E,5,FALSE))=TRUE,\"\",VLOOKUP(CONCATENATE($F$68,\"_\",G79),選手名簿!$A:$E,5,FALSE))","v":""},null,null,null,null,null,null,null,{"$f":"IF(ISERROR(VLOOKUP(CONCATENATE($N$68,\"_\",M79),選手名簿!$A:$E,5,FALSE))=TRUE,\"\",VLOOKUP(CONCATENATE($N$68,\"_\",M79),選手名簿!$A:$E,5,FALSE))","v":""},null,null,null,null,null,"得点者",{"$f":"IF(ISERROR(VLOOKUP(CONCATENATE($U$68,\"_\",V79),選手名簿!$A:$E,5,FALSE))=TRUE,\"\",VLOOKUP(CONCATENATE($U$68,\"_\",V79),選手名簿!$A:$E,5,FALSE))","v":""},null,null,null,null,null,null,null,{"$f":"IF(ISERROR(VLOOKUP(CONCATENATE($AC$68,\"_\",AB79),選手名簿!$A:$E,5,FALSE))=TRUE,\"\",VLOOKUP(CONCATENATE($AC$68,\"_\",AB79),選手名簿!$A:$E,5,FALSE))","v":""}]
[null,null,null,null,"得点者",{"$f":"IF(ISERROR(VLOOKUP(CONCATENATE($F$68,\"_\",G80),選手名簿!$A:$E,5,FALSE))=TRUE,\"\",VLOOKUP(CONCATENATE($F$68,\"_\",G80),選手名簿!$A:$E,5,FALSE))","v":""},null,null,null,null,null,null,null,{"$f":"IF(ISERROR(VLOOKUP(CONCATENATE($N$68,\"_\",M80),選手名簿!$A:$E,5,FALSE))=TRUE,\"\",VLOOKUP(CONCATENATE($N$68,\"_\",M80),選手名簿!$A:$E,5,FALSE))","v":""},null,null,null,null,null,"得点者",{"$f":"IF(ISERROR(VLOOKUP(CONCATENATE($U$68,\"_\",V80),選手名簿!$A:$E,5,FALSE))=TRUE,\"\",VLOOKUP(CONCATENATE($U$68,\"_\",V80),選手名簿!$A:$E,5,FALSE))","v":""},null,null,null,null,null,null,null,{"$f":"IF(ISERROR(VLOOKUP(CONCATENATE($AC$68,\"_\",AB80),選手名簿!$A:$E,5,FALSE))=TRUE,\"\",VLOOKUP(CONCATENATE($AC$68,\"_\",AB80),選手名簿!$A:$E,5,FALSE))","v":""}]
[null,null,null,null,"得点者",{"$f":"IF(ISERROR(VLOOKUP(CONCATENATE($F$68,\"_\",G81),選手名簿!$A:$E,5,FALSE))=TRUE,\"\",VLOOKUP(CONCATENATE($F$68,\"_\",G81),選手名簿!$A:$E,5,FALSE))","v":""},null,null,null,null,null,null,null,{"$f":"IF(ISERROR(VLOOKUP(CONCATENATE($N$68,\"_\",M81),選手名簿!$A:$E,5,FALSE))=TRUE,\"\",VLOOKUP(CONCATENATE($N$68,\"_\",M81),選手名簿!$A:$E,5,FALSE))","v":""},null,null,null,null,null,"得点者",{"$f":"IF(ISERROR(VLOOKUP(CONCATENATE($U$68,\"_\",V81),選手名簿!$A:$E,5,FALSE))=TRUE,\"\",VLOOKUP(CONCATENATE($U$68,\"_\",V81),選手名簿!$A:$E,5,FALSE))","v":""},null,null,null,null,null,null,null,{"$f":"IF(ISERROR(VLOOKUP(CONCATENATE($AC$68,\"_\",AB81),選手名簿!$A:$E,5,FALSE))=TRUE,\"\",VLOOKUP(CONCATENATE($AC$68,\"_\",AB81),選手名簿!$A:$E,5,FALSE))","v":""}]
["番号","R001256402",null,null,"警告/退場",{"$f":"IF(ISERROR(VLOOKUP(CONCATENATE($F$68,\"_\",G82),選手名簿!$A:$E,5,FALSE))=TRUE,\"\",VLOOKUP(CONCATENATE($F$68,\"_\",G82),選手名簿!$A:$E,5,FALSE))","v":""},null,null,null,null,null,null,null,{"$f":"IF(ISERROR(VLOOKUP(CONCATENATE($N$68,\"_\",M82),選手名簿!$A:$E,5,FALSE))=TRUE,\"\",VLOOKUP(CONCATENATE($N$68,\"_\",M82),選手名簿!$A:$E,5,FALSE))","v":""},null,"番号","R001265428",null,null,"警告/退場",{"$f":"IF(ISERROR(VLOOKUP(CONCATENATE($U$68,\"_\",V82),選手名簿!$A:$E,5,FALSE))=TRUE,\"\",VLOOKUP(CONCATENATE($U$68,\"_\",V82),選手名簿!$A:$E,5,FALSE))","v":""},null,null,null,null,null,null,null,{"$f":"IF(ISERROR(VLOOKUP(CONCATENATE($AC$68,\"_\",AB82),選手名簿!$A:$E,5,FALSE))=TRUE,\"\",VLOOKUP(CONCATENATE($AC$68,\"_\",AB82),選手名簿!$A:$E,5,FALSE))","v":""}]
["R",{"$f":"IF(ISERROR(VLOOKUP(B82,審判員!$A:$C,2,FALSE))=TRUE,\"\",VLOOKUP(B82,審判員!$A:$C,2,FALSE))","v":"小石川　悟"},null,{"$f":"IF(ISERROR(VLOOKUP(B82,審判員!$A:$C,3,FALSE))=TRUE,\"\",VLOOKUP(B82,審判員!$A:$C,3,FALSE))","v":"３級"},"警告/退場",{"$f":"IF(ISERROR(VLOOKUP(CONCATENATE($F$68,\"_\",G83),選手名簿!$A:$E,5,FALSE))=TRUE,\"\",VLOOKUP(CONCATENATE($F$68,\"_\",G83),選手名簿!$A:$E,5,FALSE))","v":""},null,null,null,null,null,null,null,{"$f":"IF(ISERROR(VLOOKUP(CONCATENATE($N$68,\"_\",M83),選手名簿!$A:$E,5,FALSE))=TRUE,\"\",VLOOKUP(CONCATENATE($N$68,\"_\",M83),選手名簿!$A:$E,5,FALSE))","v":""},null,"R",{"$f":"IF(ISERROR(VLOOKUP(Q82,審判員!$A:$C,2,FALSE))=TRUE,\"\",VLOOKUP(Q82,審判員!$A:$C,2,FALSE))","v":"坪井　和幸"},null,{"$f":"IF(ISERROR(VLOOKUP(Q82,審判員!$A:$C,3,FALSE))=TRUE,\"\",VLOOKUP(Q82,審判員!$A:$C,3,FALSE))","v":"２級"},"警告/退場",{"$f":"IF(ISERROR(VLOOKUP(CONCATENATE($U$68,\"_\",V83),選手名簿!$A:$E,5,FALSE))=TRUE,\"\",VLOOKUP(CONCATENATE($U$68,\"_\",V83),選手名簿!$A:$E,5,FALSE))","v":""},null,null,null,null,null,null,null,{"$f":"IF(ISERROR(VLOOKUP(CONCATENATE($AC$68,\"_\",AB83),選手名簿!$A:$E,5,FALSE))=TRUE,\"\",VLOOKUP(CONCATENATE($AC$68,\"_\",AB83),選手名簿!$A:$E,5,FALSE))","v":""}]
["番号","R007075261",null,null,"警告/退場",{"$f":"IF(ISERROR(VLOOKUP(CONCATENATE($F$68,\"_\",G84),選手名簿!$A:$E,5,FALSE))=TRUE,\"\",VLOOKUP(CONCATENATE($F$68,\"_\",G84),選手名簿!$A:$E,5,FALSE))","v":""},null,null,null,null,null,null,null,{"$f":"IF(ISERROR(VLOOKUP(CONCATENATE($N$68,\"_\",M84),選手名簿!$A:$E,5,FALSE))=TRUE,\"\",VLOOKUP(CONCATENATE($N$68,\"_\",M84),選手名簿!$A:$E,5,FALSE))","v":""},null,"番号","R006664758",null,null,"警告/退場",{"$f":"IF(ISERROR(VLOOKUP(CONCATENATE($U$68,\"_\",V84),選手名簿!$A:$E,5,FALSE))=TRUE,\"\",VLOOKUP(CONCATENATE($U$68,\"_\",V84),選手名簿!$A:$E,5,FALSE))","v":""},null,null,null,null,null,null,null,{"$f":"IF(ISERROR(VLOOKUP(CONCATENATE($AC$68,\"_\",AB84),選手名簿!$A:$E,5,FALSE))=TRUE,\"\",VLOOKUP(CONCATENATE($AC$68,\"_\",AB84),選手名簿!$A:$E,5,FALSE))","v":""}]
["AR1:",{"$f":"IF(ISERROR(VLOOKUP(B84,審判員!$A:$C,2,FALSE))=TRUE,\"\",VLOOKUP(B84,審判員!$A:$C,2,FALSE))","v":"小川　翔太"},null,{"$f":"IF(ISERROR(VLOOKUP(B84,審判員!$A:$C,3,FALSE))=TRUE,\"\",VLOOKUP(B84,審判員!$A:$C,3,FALSE))","v":"３級"},"警告/退場",{"$f":"IF(ISERROR(VLOOKUP(CONCATENATE($F$68,\"_\",G85),選手名簿!$A:$E,5,FALSE))=TRUE,\"\",VLOOKUP(CONCATENATE($F$68,\"_\",G85),選手名簿!$A:$E,5,FALSE))","v":""},null,null,null,null,null,null,null,{"$f":"IF(ISERROR(VLOOKUP(CONCATENATE($N$68,\"_\",M85),選手名簿!$A:$E,5,FALSE))=TRUE,\"\",VLOOKUP(CONCATENATE($N$68,\"_\",M85),選手名簿!$A:$E,5,FALSE))","v":""},null,"AR1:",{"$f":"IF(ISERROR(VLOOKUP(Q84,審判員!$A:$C,2,FALSE))=TRUE,\"\",VLOOKUP(Q84,審判員!$A:$C,2,FALSE))","v":"岩男　雄一郎"},null,{"$f":"IF(ISERROR(VLOOKUP(Q84,審判員!$A:$C,3,FALSE))=TRUE,\"\",VLOOKUP(Q84,審判員!$A:$C,3,FALSE))","v":"３級"},"警告/退場",{"$f":"IF(ISERROR(VLOOKUP(CONCATENATE($U$68,\"_\",V85),選手名簿!$A:$E,5,FALSE))=TRUE,\"\",VLOOKUP(CONCATENATE($U$68,\"_\",V85),選手名簿!$A:$E,5,FALSE))","v":""},null,null,null,null,null,null,null,{"$f":"IF(ISERROR(VLOOKUP(CONCATENATE($AC$68,\"_\",AB85),選手名簿!$A:$E,5,FALSE))=TRUE,\"\",VLOOKUP(CONCATENATE($AC$68,\"_\",AB85),選手名簿!$A:$E,5,FALSE))","v":""}]
["番号","R001264128",null,null,"警告/退場",{"$f":"IF(ISERROR(VLOOKUP(CONCATENATE($F$68,\"_\",G86),選手名簿!$A:$E,5,FALSE))=TRUE,\"\",VLOOKUP(CONCATENATE($F$68,\"_\",G86),選手名簿!$A:$E,5,FALSE))","v":""},null,null,null,null,null,null,null,{"$f":"IF(ISERROR(VLOOKUP(CONCATENATE($N$68,\"_\",M86),選手名簿!$A:$E,5,FALSE))=TRUE,\"\",VLOOKUP(CONCATENATE($N$68,\"_\",M86),選手名簿!$A:$E,5,FALSE))","v":""},null,"番号","R010027823",null,null,"警告/退場",{"$f":"IF(ISERROR(VLOOKUP(CONCATENATE($U$68,\"_\",V86),選手名簿!$A:$E,5,FALSE))=TRUE,\"\",VLOOKUP(CONCATENATE($U$68,\"_\",V86),選手名簿!$A:$E,5,FALSE))","v":""},null,null,null,null,null,null,null,{"$f":"IF(ISERROR(VLOOKUP(CONCATENATE($AC$68,\"_\",AB86),選手名簿!$A:$E,5,FALSE))=TRUE,\"\",VLOOKUP(CONCATENATE($AC$68,\"_\",AB86),選手名簿!$A:$E,5,FALSE))","v":""}]
["AR2:",{"$f":"IF(ISERROR(VLOOKUP(B86,審判員!$A:$C,2,FALSE))=TRUE,\"\",VLOOKUP(B86,審判員!$A:$C,2,FALSE))","v":"長尾　寿郎"},null,{"$f":"IF(ISERROR(VLOOKUP(B86,審判員!$A:$C,3,FALSE))=TRUE,\"\",VLOOKUP(B86,審判員!$A:$C,3,FALSE))","v":"３級"},"警告/退場",{"$f":"IF(ISERROR(VLOOKUP(CONCATENATE($F$68,\"_\",G87),選手名簿!$A:$E,5,FALSE))=TRUE,\"\",VLOOKUP(CONCATENATE($F$68,\"_\",G87),選手名簿!$A:$E,5,FALSE))","v":""},null,null,null,null,null,null,null,{"$f":"IF(ISERROR(VLOOKUP(CONCATENATE($N$68,\"_\",M87),選手名簿!$A:$E,5,FALSE))=TRUE,\"\",VLOOKUP(CONCATENATE($N$68,\"_\",M87),選手名簿!$A:$E,5,FALSE))","v":""},null,"AR2:",{"$f":"IF(ISERROR(VLOOKUP(Q86,審判員!$A:$C,2,FALSE))=TRUE,\"\",VLOOKUP(Q86,審判員!$A:$C,2,FALSE))","v":"清家　大介"},null,{"$f":"IF(ISERROR(VLOOKUP(Q86,審判員!$A:$C,3,FALSE))=TRUE,\"\",VLOOKUP(Q86,審判員!$A:$C,3,FALSE))","v":"３級"},"警告/退場",{"$f":"IF(ISERROR(VLOOKUP(CONCATENATE($U$68,\"_\",V87),選手名簿!$A:$E,5,FALSE))=TRUE,\"\",VLOOKUP(CONCATENATE($U$68,\"_\",V87),選手名簿!$A:$E,5,FALSE))","v":""},null,null,null,null,null,null,null,{"$f":"IF(ISERROR(VLOOKUP(CONCATENATE($AC$68,\"_\",AB87),選手名簿!$A:$E,5,FALSE))=TRUE,\"\",VLOOKUP(CONCATENATE($AC$68,\"_\",AB87),選手名簿!$A:$E,5,FALSE))","v":""}]
["番号","R010069871",null,null,"警告/退場",{"$f":"IF(ISERROR(VLOOKUP(CONCATENATE($F$68,\"_\",G88),選手名簿!$A:$E,5,FALSE))=TRUE,\"\",VLOOKUP(CONCATENATE($F$68,\"_\",G88),選手名簿!$A:$E,5,FALSE))","v":""},null,null,null,null,null,null,null,{"$f":"IF(ISERROR(VLOOKUP(CONCATENATE($N$68,\"_\",M88),選手名簿!$A:$E,5,FALSE))=TRUE,\"\",VLOOKUP(CONCATENATE($N$68,\"_\",M88),選手名簿!$A:$E,5,FALSE))","v":""},null,"番号","R001256402",null,null,"警告/退場",{"$f":"IF(ISERROR(VLOOKUP(CONCATENATE($U$68,\"_\",V88),選手名簿!$A:$E,5,FALSE))=TRUE,\"\",VLOOKUP(CONCATENATE($U$68,\"_\",V88),選手名簿!$A:$E,5,FALSE))","v":""},null,null,null,null,null,null,null,{"$f":"IF(ISERROR(VLOOKUP(CONCATENATE($AC$68,\"_\",AB88),選手名簿!$A:$E,5,FALSE))=TRUE,\"\",VLOOKUP(CONCATENATE($AC$68,\"_\",AB88),選手名簿!$A:$E,5,FALSE))","v":""}]
["4th:",{"$f":"IF(ISERROR(VLOOKUP(B88,審判員!$A:$C,2,FALSE))=TRUE,\"\",VLOOKUP(B88,審判員!$A:$C,2,FALSE))","v":"足立　卓也"},null,{"$f":"IF(ISERROR(VLOOKUP(B88,審判員!$A:$C,3,FALSE))=TRUE,\"\",VLOOKUP(B88,審判員!$A:$C,3,FALSE))","v":"３級"},"警告/退場",{"$f":"IF(ISERROR(VLOOKUP(CONCATENATE($F$68,\"_\",G89),選手名簿!$A:$E,5,FALSE))=TRUE,\"\",VLOOKUP(CONCATENATE($F$68,\"_\",G89),選手名簿!$A:$E,5,FALSE))","v":""},null,null,null,null,null,null,null,{"$f":"IF(ISERROR(VLOOKUP(CONCATENATE($N$68,\"_\",M89),選手名簿!$A:$E,5,FALSE))=TRUE,\"\",VLOOKUP(CONCATENATE($N$68,\"_\",M89),選手名簿!$A:$E,5,FALSE))","v":""},null,"4th:",{"$f":"IF(ISERROR(VLOOKUP(Q88,審判員!$A:$C,2,FALSE))=TRUE,\"\",VLOOKUP(Q88,審判員!$A:$C,2,FALSE))","v":"小石川　悟"},null,{"$f":"IF(ISERROR(VLOOKUP(Q88,審判員!$A:$C,3,FALSE))=TRUE,\"\",VLOOKUP(Q88,審判員!$A:$C,3,FALSE))","v":"３級"},"警告/退場",{"$f":"IF(ISERROR(VLOOKUP(CONCATENATE($U$68,\"_\",V89),選手名簿!$A:$E,5,FALSE))=TRUE,\"\",VLOOKUP(CONCATENATE($U$68,\"_\",V89),選手名簿!$A:$E,5,FALSE))","v":""},null,null,null,null,null,null,null,{"$f":"IF(ISERROR(VLOOKUP(CONCATENATE($AC$68,\"_\",AB89),選手名簿!$A:$E,5,FALSE))=TRUE,\"\",VLOOKUP(CONCATENATE($AC$68,\"_\",AB89),選手名簿!$A:$E,5,FALSE))","v":""}]

{"sheet":"予選リーグ公式記録(大在東B)","index":8,"n_rows":89,"n_cols":29,"rows_kept":89,"cut":false,"hidden":true,"merged":[[9,1,9,3],[10,1,10,3],[11,1,11,3],[87,1,87,3],[87,16,87,18],[88,1,88,2],[88,16,88,17],[84,1,84,2],[84,16,84,17],[85,1,85,3],[85,16,85,18],[86,1,86,2],[86,16,86,17],[59,1,59,2],[59,16,59,17],[67,5,69,5],[67,6,69,6],[67,7,69,7],[67,11,69,11],[52,1,52,3],[52,16,52,18],[38,7,40,7],[38,11,40,11],[57,1,57,2],[67,28,69,28],[81,1,81,3],[81,16,81,18],[82,1,82,2],[82,16,82,17],[83,1,83,3],[83,16,83,18],[67,19,69,19],[67,20,69,20],[67,21,69,21],[70,0,70,3],[70,15,70,18],[67,12,69,12],[67,13,69,13],[67,22,69,22],[67,26,69,26],[67,27,69,27],[67,16,67,18],[68,16,68,18],[69,16,69,18],[67,1,67,3],[68,1,68,3],[69,1,69,3],[67,4,69,4],[57,16,57,17],[58,1,58,3],[58,16,58,18],[53,1,53,2],[53,16,53,17],[54,1,54,3],[54,16,54,18],[55,1,55,2],[55,16,55,17],[41,0,41,3],[41,15,41,18],[56,1,56,3],[56,16,56,18],[38,1,38,3],[39,1,39,3],[40,1,40,3],[38,16,38,18],[39,16,39,18],[40,16,40,18],[5,5,5,11],[5,12,5,13],[4,20,4,26],[24,16,24,17],[9,26,11,26],[9,27,11,27],[9,28,11,28],[9,21,11,21],[5,20,5,26],[6,20,6,26],[4,27,4,28],[5,27,5,28],[9,16,9,18],[10,16,10,18],[11,16,11,18],[0,0,0,9],[0,10,0,13],[0,15,0,24],[0,25,0,28],[23,1,23,3],[24,1,24,2],[38,19,40,19],[38,20,40,20],[9,7,11,7],[9,11,11,11],[9,4,11,4],[9,5,11,5],[23,16,23,18],[25,1,25,3],[25,16,25,18],[26,1,26,2],[26,16,26,17],[27,1,27,3],[27,16,27,18],[38,12,40,12],[38,13,40,13],[28,1,28,2],[4,12,4,13],[4,5,4,11],[28,16,28,17],[29,1,29,3],[29,16,29,18],[30,1,30,2],[30,16,30,17],[9,6,11,6],[38,4,40,4],[38,21,40,21],[6,27,6,28],[9,19,11,19],[9,20,11,20],[9,22,11,22],[6,12,6,13],[9,12,11,12],[9,13,11,13],[6,5,6,11],[38,22,40,22],[38,26,40,26],[38,27,40,27],[38,28,40,28],[12,0,12,3],[12,15,12,18],[38,5,40,5],[38,6,40,6]]}
[{"$f":"大会要項!$B$2","v":"第8回 全日本不動産協会杯争奪少年サッカー大会【ラビットカップ】大分県大会"},null,null,null,null,null,null,null,null,null,"予選リーグ結果　報告用紙",null,null,null,null,{"$f":"大会要項!$B$2","v":"第8回 全日本不動産協会杯争奪少年サッカー大会【ラビットカップ】大分県大会"},null,null,null,null,null,null,null,null,null,"予選リーグ結果　報告用紙"]
[]
["会場",{"$f":"予選リーグ!C14","v":"大在東グラウンド"},null,null,"B",null,null,null,null,null,null,null,null,null,null,"会場",{"$f":"予選リーグ!C14","v":"大在東グラウンド"},null,null,"B"]
[]
[null,null,null,null,"B1",{"$f":"VLOOKUP(E5,組合せ抽選用!$Q:$U,5,FALSE)","v":"明野西ＪＦＣ"},null,null,null,null,null,null,{"$f":"VLOOKUP(E5,組合せ抽選用!$Q:$V,6,FALSE)","v":"大分"},null,null,null,null,null,null,"D1",{"$f":"VLOOKUP(T5,組合せ抽選用!$Q:$U,5,FALSE)","v":"市浜レッドソックス"},null,null,null,null,null,null,{"$f":"VLOOKUP(T5,組合せ抽選用!$Q:$V,6,FALSE)","v":"臼杵"}]
[null,null,null,null,"B2",{"$f":"VLOOKUP(E6,組合せ抽選用!$Q:$U,5,FALSE)","v":"リノスフットボールクラブ　Ｕ－１２"},null,null,null,null,null,null,{"$f":"VLOOKUP(E6,組合せ抽選用!$Q:$V,6,FALSE)","v":"大分"},null,null,null,null,null,null,"D2",{"$f":"VLOOKUP(T6,組合せ抽選用!$Q:$U,5,FALSE)","v":"大道サッカースポーツ少年団"},null,null,null,null,null,null,{"$f":"VLOOKUP(T6,組合せ抽選用!$Q:$V,6,FALSE)","v":"大分"}]
[null,null,null,null,"B3",{"$f":"VLOOKUP(E7,組合せ抽選用!$Q:$U,5,FALSE)","v":"中津沖代ＪＳＣ"},null,null,null,null,null,null,{"$f":"VLOOKUP(E7,組合せ抽選用!$Q:$V,6,FALSE)","v":"中津"},null,null,null,null,null,null,"D3",{"$f":"VLOOKUP(T7,組合せ抽選用!$Q:$U,5,FALSE)","v":"千怒サッカースポーツ少年団"},null,null,null,null,null,null,{"$f":"VLOOKUP(T7,組合せ抽選用!$Q:$V,6,FALSE)","v":"津久見"}]
[]
[]
["MC","安東　信二",null,null,"10:30:00",{"$f":"F5","v":"明野西ＪＦＣ"},{"$f":"SUM(I10:I11)","v":0},"（",0,"前半",2,"）",{"$f":"SUM(K10:K11)","v":2},{"$f":"F6","v":"リノスフットボールクラブ　Ｕ－１２"},null,"MC","松下　省吾",null,null,"11:30:00",{"$f":"U5","v":"市浜レッドソックス"},{"$f":"SUM(X10:X11)","v":0},"（",0,"前半",4,"）",{"$f":"SUM(Z10:Z11)","v":8},{"$f":"U6","v":"大道サッカースポーツ少年団"}]
["Welfare\nOfficer","-",null,null,null,null,null,null,0,"後半",0,null,null,null,null,"Welfare\nOfficer","-",null,null,null,null,null,null,0,"後半",4]
["記録","榊　謙治",null,null,null,null,null,null,null,"PK",null,null,null,null,null,"記録","隅田　哲平",null,null,null,null,null,null,null,"PK"]
["＜Referee＞",null,null,null,null,"氏名","番号","分",null,null,null,"分","番号","氏名",null,"＜Referee＞",null,null,null,null,"氏名","番号","分",null,null,null,"分","番号","氏名"]
[null,null,null,null,"得点者",{"$f":"IF(ISERROR(VLOOKUP(CONCATENATE($F$10,\"_\",G14),選手名簿!$A:$E,5,FALSE))=TRUE,\"\",VLOOKUP(CONCATENATE($F$10,\"_\",G14),選手名簿!$A:$E,5,FALSE))","v":""},null,null,null,null,null,null,null,{"$f":"IF(ISERROR(VLOOKUP(CONCATENATE($N$10,\"_\",M14),選手名簿!$A:$E,5,FALSE))=TRUE,\"\",VLOOKUP(CONCATENATE($N$10,\"_\",M14),選手名簿!$A:$E,5,FALSE))","v":""},null,null,null,null,null,"得点者",{"$f":"IF(ISERROR(VLOOKUP(CONCATENATE($U$10,\"_\",V14),選手名簿!$A:$E,5,FALSE))=TRUE,\"\",VLOOKUP(CONCATENATE($U$10,\"_\",V14),選手名簿!$A:$E,5,FALSE))","v":""},null,null,null,null,null,null,null,{"$f":"IF(ISERROR(VLOOKUP(CONCATENATE($AC$10,\"_\",AB14),選手名簿!$A:$E,5,FALSE))=TRUE,\"\",VLOOKUP(CONCATENATE($AC$10,\"_\",AB14),選手名簿!$A:$E,5,FALSE))","v":""}]
[null,null,null,null,"得点者",{"$f":"IF(ISERROR(VLOOKUP(CONCATENATE($F$10,\"_\",G15),選手名簿!$A:$E,5,FALSE))=TRUE,\"\",VLOOKUP(CONCATENATE($F$10,\"_\",G15),選手名簿!$A:$E,5,FALSE))","v":""},null,null,null,null,null,null,null,{"$f":"IF(ISERROR(VLOOKUP(CONCATENATE($N$10,\"_\",M15),選手名簿!$A:$E,5,FALSE))=TRUE,\"\",VLOOKUP(CONCATENATE($N$10,\"_\",M15),選手名簿!$A:$E,5,FALSE))","v":""},null,null,null,null,null,"得点者",{"$f":"IF(ISERROR(VLOOKUP(CONCATENATE($U$10,\"_\",V15),選手名簿!$A:$E,5,FALSE))=TRUE,\"\",VLOOKUP(CONCATENATE($U$10,\"_\",V15),選手名簿!$A:$E,5,FALSE))","v":""},null,null,null,null,null,null,null,{"$f":"IF(ISERROR(VLOOKUP(CONCATENATE($AC$10,\"_\",AB15),選手名簿!$A:$E,5,FALSE))=TRUE,\"\",VLOOKUP(CONCATENATE($AC$10,\"_\",AB15),選手名簿!$A:$E,5,FALSE))","v":""}]
[null,null,null,null,"得点者",{"$f":"IF(ISERROR(VLOOKUP(CONCATENATE($F$10,\"_\",G16),選手名簿!$A:$E,5,FALSE))=TRUE,\"\",VLOOKUP(CONCATENATE($F$10,\"_\",G16),選手名簿!$A:$E,5,FALSE))","v":""},null,null,null,null,null,null,null,{"$f":"IF(ISERROR(VLOOKUP(CONCATENATE($N$10,\"_\",M16),選手名簿!$A:$E,5,FALSE))=TRUE,\"\",VLOOKUP(CONCATENATE($N$10,\"_\",M16),選手名簿!$A:$E,5,FALSE))","v":""},null,null,null,null,null,"得点者",{"$f":"IF(ISERROR(VLOOKUP(CONCATENATE($U$10,\"_\",V16),選手名簿!$A:$E,5,FALSE))=TRUE,\"\",VLOOKUP(CONCATENATE($U$10,\"_\",V16),選手名簿!$A:$E,5,FALSE))","v":""},null,null,null,null,null,null,null,{"$f":"IF(ISERROR(VLOOKUP(CONCATENATE($AC$10,\"_\",AB16),選手名簿!$A:$E,5,FALSE))=TRUE,\"\",VLOOKUP(CONCATENATE($AC$10,\"_\",AB16),選手名簿!$A:$E,5,FALSE))","v":""}]
[null,null,null,null,"得点者",{"$f":"IF(ISERROR(VLOOKUP(CONCATENATE($F$10,\"_\",G17),選手名簿!$A:$E,5,FALSE))=TRUE,\"\",VLOOKUP(CONCATENATE($F$10,\"_\",G17),選手名簿!$A:$E,5,FALSE))","v":""},null,null,null,null,null,null,null,{"$f":"IF(ISERROR(VLOOKUP(CONCATENATE($N$10,\"_\",M17),選手名簿!$A:$E,5,FALSE))=TRUE,\"\",VLOOKUP(CONCATENATE($N$10,\"_\",M17),選手名簿!$A:$E,5,FALSE))","v":""},null,null,null,null,null,"得点者",{"$f":"IF(ISERROR(VLOOKUP(CONCATENATE($U$10,\"_\",V17),選手名簿!$A:$E,5,FALSE))=TRUE,\"\",VLOOKUP(CONCATENATE($U$10,\"_\",V17),選手名簿!$A:$E,5,FALSE))","v":""},null,null,null,null,null,null,null,{"$f":"IF(ISERROR(VLOOKUP(CONCATENATE($AC$10,\"_\",AB17),選手名簿!$A:$E,5,FALSE))=TRUE,\"\",VLOOKUP(CONCATENATE($AC$10,\"_\",AB17),選手名簿!$A:$E,5,FALSE))","v":""}]
[null,null,null,null,"得点者",{"$f":"IF(ISERROR(VLOOKUP(CONCATENATE($F$10,\"_\",G18),選手名簿!$A:$E,5,FALSE))=TRUE,\"\",VLOOKUP(CONCATENATE($F$10,\"_\",G18),選手名簿!$A:$E,5,FALSE))","v":""},null,null,null,null,null,null,null,{"$f":"IF(ISERROR(VLOOKUP(CONCATENATE($N$10,\"_\",M18),選手名簿!$A:$E,5,FALSE))=TRUE,\"\",VLOOKUP(CONCATENATE($N$10,\"_\",M18),選手名簿!$A:$E,5,FALSE))","v":""},null,null,null,null,null,"得点者",{"$f":"IF(ISERROR(VLOOKUP(CONCATENATE($U$10,\"_\",V18),選手名簿!$A:$E,5,FALSE))=TRUE,\"\",VLOOKUP(CONCATENATE($U$10,\"_\",V18),選手名簿!$A:$E,5,FALSE))","v":""},null,null,null,null,null,null,null,{"$f":"IF(ISERROR(VLOOKUP(CONCATENATE($AC$10,\"_\",AB18),選手名簿!$A:$E,5,FALSE))=TRUE,\"\",VLOOKUP(CONCATENATE($AC$10,\"_\",AB18),選手名簿!$A:$E,5,FALSE))","v":""}]
[null,null,null,null,"得点者",{"$f":"IF(ISERROR(VLOOKUP(CONCATENATE($F$10,\"_\",G19),選手名簿!$A:$E,5,FALSE))=TRUE,\"\",VLOOKUP(CONCATENATE($F$10,\"_\",G19),選手名簿!$A:$E,5,FALSE))","v":""},null,null,null,null,null,null,null,{"$f":"IF(ISERROR(VLOOKUP(CONCATENATE($N$10,\"_\",M19),選手名簿!$A:$E,5,FALSE))=TRUE,\"\",VLOOKUP(CONCATENATE($N$10,\"_\",M19),選手名簿!$A:$E,5,FALSE))","v":""},null,null,null,null,null,"得点者",{"$f":"IF(ISERROR(VLOOKUP(CONCATENATE($U$10,\"_\",V19),選手名簿!$A:$E,5,FALSE))=TRUE,\"\",VLOOKUP(CONCATENATE($U$10,\"_\",V19),選手名簿!$A:$E,5,FALSE))","v":""},null,null,null,null,null,null,null,{"$f":"IF(ISERROR(VLOOKUP(CONCATENATE($AC$10,\"_\",AB19),選手名簿!$A:$E,5,FALSE))=TRUE,\"\",VLOOKUP(CONCATENATE($AC$10,\"_\",AB19),選手名簿!$A:$E,5,FALSE))","v":""}]
[null,null,null,null,"得点者",{"$f":"IF(ISERROR(VLOOKUP(CONCATENATE($F$10,\"_\",G20),選手名簿!$A:$E,5,FALSE))=TRUE,\"\",VLOOKUP(CONCATENATE($F$10,\"_\",G20),選手名簿!$A:$E,5,FALSE))","v":""},null,null,null,null,null,null,null,{"$f":"IF(ISERROR(VLOOKUP(CONCATENATE($N$10,\"_\",M20),選手名簿!$A:$E,5,FALSE))=TRUE,\"\",VLOOKUP(CONCATENATE($N$10,\"_\",M20),選手名簿!$A:$E,5,FALSE))","v":""},null,null,null,null,null,"得点者",{"$f":"IF(ISERROR(VLOOKUP(CONCATENATE($U$10,\"_\",V20),選手名簿!$A:$E,5,FALSE))=TRUE,\"\",VLOOKUP(CONCATENATE($U$10,\"_\",V20),選手名簿!$A:$E,5,FALSE))","v":""},null,null,null,null,null,null,null,{"$f":"IF(ISERROR(VLOOKUP(CONCATENATE($AC$10,\"_\",AB20),選手名簿!$A:$E,5,FALSE))=TRUE,\"\",VLOOKUP(CONCATENATE($AC$10,\"_\",AB20),選手名簿!$A:$E,5,FALSE))","v":""}]
[null,null,null,null,"得点者",{"$f":"IF(ISERROR(VLOOKUP(CONCATENATE($F$10,\"_\",G21),選手名簿!$A:$E,5,FALSE))=TRUE,\"\",VLOOKUP(CONCATENATE($F$10,\"_\",G21),選手名簿!$A:$E,5,FALSE))","v":""},null,null,null,null,null,null,null,{"$f":"IF(ISERROR(VLOOKUP(CONCATENATE($N$10,\"_\",M21),選手名簿!$A:$E,5,FALSE))=TRUE,\"\",VLOOKUP(CONCATENATE($N$10,\"_\",M21),選手名簿!$A:$E,5,FALSE))","v":""},null,null,null,null,null,"得点者",{"$f":"IF(ISERROR(VLOOKUP(CONCATENATE($U$10,\"_\",V21),選手名簿!$A:$E,5,FALSE))=TRUE,\"\",VLOOKUP(CONCATENATE($U$10,\"_\",V21),選手名簿!$A:$E,5,FALSE))","v":""},null,null,null,null,null,null,null,{"$f":"IF(ISERROR(VLOOKUP(CONCATENATE($AC$10,\"_\",AB21),選手名簿!$A:$E,5,FALSE))=TRUE,\"\",VLOOKUP(CONCATENATE($AC$10,\"_\",AB21),選手名簿!$A:$E,5,FALSE))","v":""}]
[null,null,null,null,"得点者",{"$f":"IF(ISERROR(VLOOKUP(CONCATENATE($F$10,\"_\",G22),選手名簿!$A:$E,5,FALSE))=TRUE,\"\",VLOOKUP(CONCATENATE($F$10,\"_\",G22),選手名簿!$A:$E,5,FALSE))","v":""},null,null,null,null,null,null,null,{"$f":"IF(ISERROR(VLOOKUP(CONCATENATE($N$10,\"_\",M22),選手名簿!$A:$E,5,FALSE))=TRUE,\"\",VLOOKUP(CONCATENATE($N$10,\"_\",M22),選手名簿!$A:$E,5,FALSE))","v":""},null,null,null,null,null,"得点者",{"$f":"IF(ISERROR(VLOOKUP(CONCATENATE($U$10,\"_\",V22),選手名簿!$A:$E,5,FALSE))=TRUE,\"\",VLOOKUP(CONCATENATE($U$10,\"_\",V22),選手名簿!$A:$E,5,FALSE))","v":""},null,null,null,null,null,null,null,{"$f":"IF(ISERROR(VLOOKUP(CONCATENATE($AC$10,\"_\",AB22),選手名簿!$A:$E,5,FALSE))=TRUE,\"\",VLOOKUP(CONCATENATE($AC$10,\"_\",AB22),選手名簿!$A:$E,5,FALSE))","v":""}]
[null,null,null,null,"得点者",{"$f":"IF(ISERROR(VLOOKUP(CONCATENATE($F$10,\"_\",G23),選手名簿!$A:$E,5,FALSE))=TRUE,\"\",VLOOKUP(CONCATENATE($F$10,\"_\",G23),選手名簿!$A:$E,5,FALSE))","v":""},null,null,null,null,null,null,null,{"$f":"IF(ISERROR(VLOOKUP(CONCATENATE($N$10,\"_\",M23),選手名簿!$A:$E,5,FALSE))=TRUE,\"\",VLOOKUP(CONCATENATE($N$10,\"_\",M23),選手名簿!$A:$E,5,FALSE))","v":""},null,null,null,null,null,"得点者",{"$f":"IF(ISERROR(VLOOKUP(CONCATENATE($U$10,\"_\",V23),選手名簿!$A:$E,5,FALSE))=TRUE,\"\",VLOOKUP(CONCATENATE($U$10,\"_\",V23),選手名簿!$A:$E,5,FALSE))","v":""},null,null,null,null,null,null,null,{"$f":"IF(ISERROR(VLOOKUP(CONCATENATE($AC$10,\"_\",AB23),選手名簿!$A:$E,5,FALSE))=TRUE,\"\",VLOOKUP(CONCATENATE($AC$10,\"_\",AB23),選手名簿!$A:$E,5,FALSE))","v":""}]
["番号","R009554780",null,null,"警告/退場",{"$f":"IF(ISERROR(VLOOKUP(CONCATENATE($F$10,\"_\",G24),選手名簿!$A:$E,5,FALSE))=TRUE,\"\",VLOOKUP(CONCATENATE($F$10,\"_\",G24),選手名簿!$A:$E,5,FALSE))","v":""},null,null,null,null,null,null,null,{"$f":"IF(ISERROR(VLOOKUP(CONCATENATE($N$10,\"_\",M24),選手名簿!$A:$E,5,FALSE))=TRUE,\"\",VLOOKUP(CONCATENATE($N$10,\"_\",M24),選手名簿!$A:$E,5,FALSE))","v":""},null,"番号","R009197619",null,null,"警告/退場",{"$f":"IF(ISERROR(VLOOKUP(CONCATENATE($U$10,\"_\",V24),選手名簿!$A:$E,5,FALSE))=TRUE,\"\",VLOOKUP(CONCATENATE($U$10,\"_\",V24),選手名簿!$A:$E,5,FALSE))","v":""},null,null,null,null,null,null,null,{"$f":"IF(ISERROR(VLOOKUP(CONCATENATE($AC$10,\"_\",AB24),選手名簿!$A:$E,5,FALSE))=TRUE,\"\",VLOOKUP(CONCATENATE($AC$10,\"_\",AB24),選手名簿!$A:$E,5,FALSE))","v":""}]
["R",{"$f":"IF(ISERROR(VLOOKUP(B24,審判員!$A:$C,2,FALSE))=TRUE,\"\",VLOOKUP(B24,審判員!$A:$C,2,FALSE))","v":"白江　直樹"},null,{"$f":"IF(ISERROR(VLOOKUP(B24,審判員!$A:$C,3,FALSE))=TRUE,\"\",VLOOKUP(B24,審判員!$A:$C,3,FALSE))","v":"３級"},"警告/退場",{"$f":"IF(ISERROR(VLOOKUP(CONCATENATE($F$10,\"_\",G25),選手名簿!$A:$E,5,FALSE))=TRUE,\"\",VLOOKUP(CONCATENATE($F$10,\"_\",G25),選手名簿!$A:$E,5,FALSE))","v":""},null,null,null,null,null,null,null,{"$f":"IF(ISERROR(VLOOKUP(CONCATENATE($N$10,\"_\",M25),選手名簿!$A:$E,5,FALSE))=TRUE,\"\",VLOOKUP(CONCATENATE($N$10,\"_\",M25),選手名簿!$A:$E,5,FALSE))","v":""},null,"R",{"$f":"IF(ISERROR(VLOOKUP(Q24,審判員!$A:$C,2,FALSE))=TRUE,\"\",VLOOKUP(Q24,審判員!$A:$C,2,FALSE))","v":"恵美　圭介"},null,{"$f":"IF(ISERROR(VLOOKUP(Q24,審判員!$A:$C,3,FALSE))=TRUE,\"\",VLOOKUP(Q24,審判員!$A:$C,3,FALSE))","v":"３級"},"警告/退場",{"$f":"IF(ISERROR(VLOOKUP(CONCATENATE($U$10,\"_\",V25),選手名簿!$A:$E,5,FALSE))=TRUE,\"\",VLOOKUP(CONCATENATE($U$10,\"_\",V25),選手名簿!$A:$E,5,FALSE))","v":""},null,null,null,null,null,null,null,{"$f":"IF(ISERROR(VLOOKUP(CONCATENATE($AC$10,\"_\",AB25),選手名簿!$A:$E,5,FALSE))=TRUE,\"\",VLOOKUP(CONCATENATE($AC$10,\"_\",AB25),選手名簿!$A:$E,5,FALSE))","v":""}]
["番号","R007090686",null,null,"警告/退場",{"$f":"IF(ISERROR(VLOOKUP(CONCATENATE($F$10,\"_\",G26),選手名簿!$A:$E,5,FALSE))=TRUE,\"\",VLOOKUP(CONCATENATE($F$10,\"_\",G26),選手名簿!$A:$E,5,FALSE))","v":""},null,null,null,null,null,null,null,{"$f":"IF(ISERROR(VLOOKUP(CONCATENATE($N$10,\"_\",M26),選手名簿!$A:$E,5,FALSE))=TRUE,\"\",VLOOKUP(CONCATENATE($N$10,\"_\",M26),選手名簿!$A:$E,5,FALSE))","v":""},null,"番号","R006901613",null,null,"警告/退場",{"$f":"IF(ISERROR(VLOOKUP(CONCATENATE($U$10,\"_\",V26),選手名簿!$A:$E,5,FALSE))=TRUE,\"\",VLOOKUP(CONCATENATE($U$10,\"_\",V26),選手名簿!$A:$E,5,FALSE))","v":""},null,null,null,null,null,null,null,{"$f":"IF(ISERROR(VLOOKUP(CONCATENATE($AC$10,\"_\",AB26),選手名簿!$A:$E,5,FALSE))=TRUE,\"\",VLOOKUP(CONCATENATE($AC$10,\"_\",AB26),選手名簿!$A:$E,5,FALSE))","v":""}]
["AR1:",{"$f":"IF(ISERROR(VLOOKUP(B26,審判員!$A:$C,2,FALSE))=TRUE,\"\",VLOOKUP(B26,審判員!$A:$C,2,FALSE))","v":"吉元　健太朗"},null,{"$f":"IF(ISERROR(VLOOKUP(B26,審判員!$A:$C,3,FALSE))=TRUE,\"\",VLOOKUP(B26,審判員!$A:$C,3,FALSE))","v":"３級"},"警告/退場",{"$f":"IF(ISERROR(VLOOKUP(CONCATENATE($F$10,\"_\",G27),選手名簿!$A:$E,5,FALSE))=TRUE,\"\",VLOOKUP(CONCATENATE($F$10,\"_\",G27),選手名簿!$A:$E,5,FALSE))","v":""},null,null,null,null,null,null,null,{"$f":"IF(ISERROR(VLOOKUP(CONCATENATE($N$10,\"_\",M27),選手名簿!$A:$E,5,FALSE))=TRUE,\"\",VLOOKUP(CONCATENATE($N$10,\"_\",M27),選手名簿!$A:$E,5,FALSE))","v":""},null,"AR1:",{"$f":"IF(ISERROR(VLOOKUP(Q26,審判員!$A:$C,2,FALSE))=TRUE,\"\",VLOOKUP(Q26,審判員!$A:$C,2,FALSE))","v":"岡部　明男"},null,{"$f":"IF(ISERROR(VLOOKUP(Q26,審判員!$A:$C,3,FALSE))=TRUE,\"\",VLOOKUP(Q26,審判員!$A:$C,3,FALSE))","v":"３級"},"警告/退場",{"$f":"IF(ISERROR(VLOOKUP(CONCATENATE($U$10,\"_\",V27),選手名簿!$A:$E,5,FALSE))=TRUE,\"\",VLOOKUP(CONCATENATE($U$10,\"_\",V27),選手名簿!$A:$E,5,FALSE))","v":""},null,null,null,null,null,null,null,{"$f":"IF(ISERROR(VLOOKUP(CONCATENATE($AC$10,\"_\",AB27),選手名簿!$A:$E,5,FALSE))=TRUE,\"\",VLOOKUP(CONCATENATE($AC$10,\"_\",AB27),選手名簿!$A:$E,5,FALSE))","v":""}]
["番号","R003255841",null,null,"警告/退場",{"$f":"IF(ISERROR(VLOOKUP(CONCATENATE($F$10,\"_\",G28),選手名簿!$A:$E,5,FALSE))=TRUE,\"\",VLOOKUP(CONCATENATE($F$10,\"_\",G28),選手名簿!$A:$E,5,FALSE))","v":""},null,null,null,null,null,null,null,{"$f":"IF(ISERROR(VLOOKUP(CONCATENATE($N$10,\"_\",M28),選手名簿!$A:$E,5,FALSE))=TRUE,\"\",VLOOKUP(CONCATENATE($N$10,\"_\",M28),選手名簿!$A:$E,5,FALSE))","v":""},null,"番号","R009670176",null,null,"警告/退場",{"$f":"IF(ISERROR(VLOOKUP(CONCATENATE($U$10,\"_\",V28),選手名簿!$A:$E,5,FALSE))=TRUE,\"\",VLOOKUP(CONCATENATE($U$10,\"_\",V28),選手名簿!$A:$E,5,FALSE))","v":""},null,null,null,null,null,null,null,{"$f":"IF(ISERROR(VLOOKUP(CONCATENATE($AC$10,\"_\",AB28),選手名簿!$A:$E,5,FALSE))=TRUE,\"\",VLOOKUP(CONCATENATE($AC$10,\"_\",AB28),選手名簿!$A:$E,5,FALSE))","v":""}]
["AR2:",{"$f":"IF(ISERROR(VLOOKUP(B28,審判員!$A:$C,2,FALSE))=TRUE,\"\",VLOOKUP(B28,審判員!$A:$C,2,FALSE))","v":"塩月　勇輝"},null,{"$f":"IF(ISERROR(VLOOKUP(B28,審判員!$A:$C,3,FALSE))=TRUE,\"\",VLOOKUP(B28,審判員!$A:$C,3,FALSE))","v":"２級"},"警告/退場",{"$f":"IF(ISERROR(VLOOKUP(CONCATENATE($F$10,\"_\",G29),選手名簿!$A:$E,5,FALSE))=TRUE,\"\",VLOOKUP(CONCATENATE($F$10,\"_\",G29),選手名簿!$A:$E,5,FALSE))","v":""},null,null,null,null,null,null,null,{"$f":"IF(ISERROR(VLOOKUP(CONCATENATE($N$10,\"_\",M29),選手名簿!$A:$E,5,FALSE))=TRUE,\"\",VLOOKUP(CONCATENATE($N$10,\"_\",M29),選手名簿!$A:$E,5,FALSE))","v":""},null,"AR2:",{"$f":"IF(ISERROR(VLOOKUP(Q28,審判員!$A:$C,2,FALSE))=TRUE,\"\",VLOOKUP(Q28,審判員!$A:$C,2,FALSE))","v":"西村　竜司"},null,{"$f":"IF(ISERROR(VLOOKUP(Q28,審判員!$A:$C,3,FALSE))=TRUE,\"\",VLOOKUP(Q28,審判員!$A:$C,3,FALSE))","v":"３級"},"警告/退場",{"$f":"IF(ISERROR(VLOOKUP(CONCATENATE($U$10,\"_\",V29),選手名簿!$A:$E,5,FALSE))=TRUE,\"\",VLOOKUP(CONCATENATE($U$10,\"_\",V29),選手名簿!$A:$E,5,FALSE))","v":""},null,null,null,null,null,null,null,{"$f":"IF(ISERROR(VLOOKUP(CONCATENATE($AC$10,\"_\",AB29),選手名簿!$A:$E,5,FALSE))=TRUE,\"\",VLOOKUP(CONCATENATE($AC$10,\"_\",AB29),選手名簿!$A:$E,5,FALSE))","v":""}]
["番号","R006664864",null,null,"警告/退場",{"$f":"IF(ISERROR(VLOOKUP(CONCATENATE($F$10,\"_\",G30),選手名簿!$A:$E,5,FALSE))=TRUE,\"\",VLOOKUP(CONCATENATE($F$10,\"_\",G30),選手名簿!$A:$E,5,FALSE))","v":""},null,null,null,null,null,null,null,{"$f":"IF(ISERROR(VLOOKUP(CONCATENATE($N$10,\"_\",M30),選手名簿!$A:$E,5,FALSE))=TRUE,\"\",VLOOKUP(CONCATENATE($N$10,\"_\",M30),選手名簿!$A:$E,5,FALSE))","v":""},null,"番号","R009554780",null,null,"警告/退場",{"$f":"IF(ISERROR(VLOOKUP(CONCATENATE($U$10,\"_\",V30),選手名簿!$A:$E,5,FALSE))=TRUE,\"\",VLOOKUP(CONCATENATE($U$10,\"_\",V30),選手名簿!$A:$E,5,FALSE))","v":""},null,null,null,null,null,null,null,{"$f":"IF(ISERROR(VLOOKUP(CONCATENATE($AC$10,\"_\",AB30),選手名簿!$A:$E,5,FALSE))=TRUE,\"\",VLOOKUP(CONCATENATE($AC$10,\"_\",AB30),選手名簿!$A:$E,5,FALSE))","v":""}]
["4th:",{"$f":"IF(ISERROR(VLOOKUP(B30,審判員!$A:$C,2,FALSE))=TRUE,\"\",VLOOKUP(B30,審判員!$A:$C,2,FALSE))","v":"相良　章成"},null,{"$f":"IF(ISERROR(VLOOKUP(B30,審判員!$A:$C,3,FALSE))=TRUE,\"\",VLOOKUP(B30,審判員!$A:$C,3,FALSE))","v":"３級"},"警告/退場",{"$f":"IF(ISERROR(VLOOKUP(CONCATENATE($F$10,\"_\",G31),選手名簿!$A:$E,5,FALSE))=TRUE,\"\",VLOOKUP(CONCATENATE($F$10,\"_\",G31),選手名簿!$A:$E,5,FALSE))","v":""},null,null,null,null,null,null,null,{"$f":"IF(ISERROR(VLOOKUP(CONCATENATE($N$10,\"_\",M31),選手名簿!$A:$E,5,FALSE))=TRUE,\"\",VLOOKUP(CONCATENATE($N$10,\"_\",M31),選手名簿!$A:$E,5,FALSE))","v":""},null,"4th:",{"$f":"IF(ISERROR(VLOOKUP(Q30,審判員!$A:$C,2,FALSE))=TRUE,\"\",VLOOKUP(Q30,審判員!$A:$C,2,FALSE))","v":"白江　直樹"},null,{"$f":"IF(ISERROR(VLOOKUP(Q30,審判員!$A:$C,3,FALSE))=TRUE,\"\",VLOOKUP(Q30,審判員!$A:$C,3,FALSE))","v":"３級"},"警告/退場",{"$f":"IF(ISERROR(VLOOKUP(CONCATENATE($U$10,\"_\",V31),選手名簿!$A:$E,5,FALSE))=TRUE,\"\",VLOOKUP(CONCATENATE($U$10,\"_\",V31),選手名簿!$A:$E,5,FALSE))","v":""},null,null,null,null,null,null,null,{"$f":"IF(ISERROR(VLOOKUP(CONCATENATE($AC$10,\"_\",AB31),選手名簿!$A:$E,5,FALSE))=TRUE,\"\",VLOOKUP(CONCATENATE($AC$10,\"_\",AB31),選手名簿!$A:$E,5,FALSE))","v":""}]
[]
[]
[]
[]
[]
[]
[]
["MC","榊　謙治",null,null,"12:30:00",{"$f":"F6","v":"リノスフットボールクラブ　Ｕ－１２"},{"$f":"SUM(I39:I40)","v":0},"（",0,"前半",0,"）",{"$f":"SUM(K39:K40)","v":1},{"$f":"F7","v":"中津沖代ＪＳＣ"},null,"MC","隅田　哲平",null,null,"13:30:00",{"$f":"U6","v":"大道サッカースポーツ少年団"},{"$f":"SUM(X39:X40)","v":8},"（",5,"前半",0,"）",{"$f":"SUM(Z39:Z40)","v":0},{"$f":"U7","v":"千怒サッカースポーツ少年団"}]
["Welfare\nOfficer","-",null,null,null,null,null,null,0,"後半",1,null,null,null,null,"Welfare\nOfficer","-",null,null,null,null,null,null,3,"後半",0]
["記録","安東　信二",null,null,null,null,null,null,null,"PK",null,null,null,null,null,"記録","松下　省吾",null,null,null,null,null,null,null,"PK"]
["＜Referee＞",null,null,null,null,"氏名","番号","分",null,null,null,"分","番号","氏名",null,"＜Referee＞",null,null,null,null,"氏名","番号","分",null,null,null,"分","番号","氏名"]
[null,null,null,null,"得点者",{"$f":"IF(ISERROR(VLOOKUP(CONCATENATE($F$39,\"_\",G43),選手名簿!$A:$E,5,FALSE))=TRUE,\"\",VLOOKUP(CONCATENATE($F$39,\"_\",G43),選手名簿!$A:$E,5,FALSE))","v":""},null,null,null,null,null,null,null,{"$f":"IF(ISERROR(VLOOKUP(CONCATENATE($N$39,\"_\",M43),選手名簿!$A:$E,5,FALSE))=TRUE,\"\",VLOOKUP(CONCATENATE($N$39,\"_\",M43),選手名簿!$A:$E,5,FALSE))","v":""},null,null,null,null,null,"得点者",{"$f":"IF(ISERROR(VLOOKUP(CONCATENATE($U$39,\"_\",V43),選手名簿!$A:$E,5,FALSE))=TRUE,\"\",VLOOKUP(CONCATENATE($U$39,\"_\",V43),選手名簿!$A:$E,5,FALSE))","v":""},null,null,null,null,null,null,null,{"$f":"IF(ISERROR(VLOOKUP(CONCATENATE($AC$39,\"_\",AB43),選手名簿!$A:$E,5,FALSE))=TRUE,\"\",VLOOKUP(CONCATENATE($AC$39,\"_\",AB43),選手名簿!$A:$E,5,FALSE))","v":""}]
[null,null,null,null,"得点者",{"$f":"IF(ISERROR(VLOOKUP(CONCATENATE($F$39,\"_\",G44),選手名簿!$A:$E,5,FALSE))=TRUE,\"\",VLOOKUP(CONCATENATE($F$39,\"_\",G44),選手名簿!$A:$E,5,FALSE))","v":""},null,null,null,null,null,null,null,{"$f":"IF(ISERROR(VLOOKUP(CONCATENATE($N$39,\"_\",M44),選手名簿!$A:$E,5,FALSE))=TRUE,\"\",VLOOKUP(CONCATENATE($N$39,\"_\",M44),選手名簿!$A:$E,5,FALSE))","v":""},null,null,null,null,null,"得点者",{"$f":"IF(ISERROR(VLOOKUP(CONCATENATE($U$39,\"_\",V44),選手名簿!$A:$E,5,FALSE))=TRUE,\"\",VLOOKUP(CONCATENATE($U$39,\"_\",V44),選手名簿!$A:$E,5,FALSE))","v":""},null,null,null,null,null,null,null,{"$f":"IF(ISERROR(VLOOKUP(CONCATENATE($AC$39,\"_\",AB44),選手名簿!$A:$E,5,FALSE))=TRUE,\"\",VLOOKUP(CONCATENATE($AC$39,\"_\",AB44),選手名簿!$A:$E,5,FALSE))","v":""}]
[null,null,null,null,"得点者",{"$f":"IF(ISERROR(VLOOKUP(CONCATENATE($F$39,\"_\",G45),選手名簿!$A:$E,5,FALSE))=TRUE,\"\",VLOOKUP(CONCATENATE($F$39,\"_\",G45),選手名簿!$A:$E,5,FALSE))","v":""},null,null,null,null,null,null,null,{"$f":"IF(ISERROR(VLOOKUP(CONCATENATE($N$39,\"_\",M45),選手名簿!$A:$E,5,FALSE))=TRUE,\"\",VLOOKUP(CONCATENATE($N$39,\"_\",M45),選手名簿!$A:$E,5,FALSE))","v":""},null,null,null,null,null,"得点者",{"$f":"IF(ISERROR(VLOOKUP(CONCATENATE($U$39,\"_\",V45),選手名簿!$A:$E,5,FALSE))=TRUE,\"\",VLOOKUP(CONCATENATE($U$39,\"_\",V45),選手名簿!$A:$E,5,FALSE))","v":""},null,null,null,null,null,null,null,{"$f":"IF(ISERROR(VLOOKUP(CONCATENATE($AC$39,\"_\",AB45),選手名簿!$A:$E,5,FALSE))=TRUE,\"\",VLOOKUP(CONCATENATE($AC$39,\"_\",AB45),選手名簿!$A:$E,5,FALSE))","v":""}]
[null,null,null,null,"得点者",{"$f":"IF(ISERROR(VLOOKUP(CONCATENATE($F$39,\"_\",G46),選手名簿!$A:$E,5,FALSE))=TRUE,\"\",VLOOKUP(CONCATENATE($F$39,\"_\",G46),選手名簿!$A:$E,5,FALSE))","v":""},null,null,null,null,null,null,null,{"$f":"IF(ISERROR(VLOOKUP(CONCATENATE($N$39,\"_\",M46),選手名簿!$A:$E,5,FALSE))=TRUE,\"\",VLOOKUP(CONCATENATE($N$39,\"_\",M46),選手名簿!$A:$E,5,FALSE))","v":""},null,null,null,null,null,"得点者",{"$f":"IF(ISERROR(VLOOKUP(CONCATENATE($U$39,\"_\",V46),選手名簿!$A:$E,5,FALSE))=TRUE,\"\",VLOOKUP(CONCATENATE($U$39,\"_\",V46),選手名簿!$A:$E,5,FALSE))","v":""},null,null,null,null,null,null,null,{"$f":"IF(ISERROR(VLOOKUP(CONCATENATE($AC$39,\"_\",AB46),選手名簿!$A:$E,5,FALSE))=TRUE,\"\",VLOOKUP(CONCATENATE($AC$39,\"_\",AB46),選手名簿!$A:$E,5,FALSE))","v":""}]
[null,null,null,null,"得点者",{"$f":"IF(ISERROR(VLOOKUP(CONCATENATE($F$39,\"_\",G47),選手名簿!$A:$E,5,FALSE))=TRUE,\"\",VLOOKUP(CONCATENATE($F$39,\"_\",G47),選手名簿!$A:$E,5,FALSE))","v":""},null,null,null,null,null,null,null,{"$f":"IF(ISERROR(VLOOKUP(CONCATENATE($N$39,\"_\",M47),選手名簿!$A:$E,5,FALSE))=TRUE,\"\",VLOOKUP(CONCATENATE($N$39,\"_\",M47),選手名簿!$A:$E,5,FALSE))","v":""},null,null,null,null,null,"得点者",{"$f":"IF(ISERROR(VLOOKUP(CONCATENATE($U$39,\"_\",V47),選手名簿!$A:$E,5,FALSE))=TRUE,\"\",VLOOKUP(CONCATENATE($U$39,\"_\",V47),選手名簿!$A:$E,5,FALSE))","v":""},null,null,null,null,null,null,null,{"$f":"IF(ISERROR(VLOOKUP(CONCATENATE($AC$39,\"_\",AB47),選手名簿!$A:$E,5,FALSE))=TRUE,\"\",VLOOKUP(CONCATENATE($AC$39,\"_\",AB47),選手名簿!$A:$E,5,FALSE))","v":""}]
[null,null,null,null,"得点者",{"$f":"IF(ISERROR(VLOOKUP(CONCATENATE($F$39,\"_\",G48),選手名簿!$A:$E,5,FALSE))=TRUE,\"\",VLOOKUP(CONCATENATE($F$39,\"_\",G48),選手名簿!$A:$E,5,FALSE))","v":""},null,null,null,null,null,null,null,{"$f":"IF(ISERROR(VLOOKUP(CONCATENATE($N$39,\"_\",M48),選手名簿!$A:$E,5,FALSE))=TRUE,\"\",VLOOKUP(CONCATENATE($N$39,\"_\",M48),選手名簿!$A:$E,5,FALSE))","v":""},null,null,null,null,null,"得点者",{"$f":"IF(ISERROR(VLOOKUP(CONCATENATE($U$39,\"_\",V48),選手名簿!$A:$E,5,FALSE))=TRUE,\"\",VLOOKUP(CONCATENATE($U$39,\"_\",V48),選手名簿!$A:$E,5,FALSE))","v":""},null,null,null,null,null,null,null,{"$f":"IF(ISERROR(VLOOKUP(CONCATENATE($AC$39,\"_\",AB48),選手名簿!$A:$E,5,FALSE))=TRUE,\"\",VLOOKUP(CONCATENATE($AC$39,\"_\",AB48),選手名簿!$A:$E,5,FALSE))","v":""}]
[null,null,null,null,"得点者",{"$f":"IF(ISERROR(VLOOKUP(CONCATENATE($F$39,\"_\",G49),選手名簿!$A:$E,5,FALSE))=TRUE,\"\",VLOOKUP(CONCATENATE($F$39,\"_\",G49),選手名簿!$A:$E,5,FALSE))","v":""},null,null,null,null,null,null,null,{"$f":"IF(ISERROR(VLOOKUP(CONCATENATE($N$39,\"_\",M49),選手名簿!$A:$E,5,FALSE))=TRUE,\"\",VLOOKUP(CONCATENATE($N$39,\"_\",M49),選手名簿!$A:$E,5,FALSE))","v":""},null,null,null,null,null,"得点者",{"$f":"IF(ISERROR(VLOOKUP(CONCATENATE($U$39,\"_\",V49),選手名簿!$A:$E,5,FALSE))=TRUE,\"\",VLOOKUP(CONCATENATE($U$39,\"_\",V49),選手名簿!$A:$E,5,FALSE))","v":""},null,null,null,null,null,null,null,{"$f":"IF(ISERROR(VLOOKUP(CONCATENATE($AC$39,\"_\",AB49),選手名簿!$A:$E,5,FALSE))=TRUE,\"\",VLOOKUP(CONCATENATE($AC$39,\"_\",AB49),選手名簿!$A:$E,5,FALSE))","v":""}]
[null,null,null,null,"得点者",{"$f":"IF(ISERROR(VLOOKUP(CONCATENATE($F$39,\"_\",G50),選手名簿!$A:$E,5,FALSE))=TRUE,\"\",VLOOKUP(CONCATENATE($F$39,\"_\",G50),選手名簿!$A:$E,5,FALSE))","v":""},null,null,null,null,null,null,null,{"$f":"IF(ISERROR(VLOOKUP(CONCATENATE($N$39,\"_\",M50),選手名簿!$A:$E,5,FALSE))=TRUE,\"\",VLOOKUP(CONCATENATE($N$39,\"_\",M50),選手名簿!$A:$E,5,FALSE))","v":""},null,null,null,null,null,"得点者",{"$f":"IF(ISERROR(VLOOKUP(CONCATENATE($U$39,\"_\",V50),選手名簿!$A:$E,5,FALSE))=TRUE,\"\",VLOOKUP(CONCATENATE($U$39,\"_\",V50),選手名簿!$A:$E,5,FALSE))","v":""},null,null,null,null,null,null,null,{"$f":"IF(ISERROR(VLOOKUP(CONCATENATE($AC$39,\"_\",AB50),選手名簿!$A:$E,5,FALSE))=TRUE,\"\",VLOOKUP(CONCATENATE($AC$39,\"_\",AB50),選手名簿!$A:$E,5,FALSE))","v":""}]
[null,null,null,null,"得点者",{"$f":"IF(ISERROR(VLOOKUP(CONCATENATE($F$39,\"_\",G51),選手名簿!$A:$E,5,FALSE))=TRUE,\"\",VLOOKUP(CONCATENATE($F$39,\"_\",G51),選手名簿!$A:$E,5,FALSE))","v":""},null,null,null,null,null,null,null,{"$f":"IF(ISERROR(VLOOKUP(CONCATENATE($N$39,\"_\",M51),選手名簿!$A:$E,5,FALSE))=TRUE,\"\",VLOOKUP(CONCATENATE($N$39,\"_\",M51),選手名簿!$A:$E,5,FALSE))","v":""},null,null,null,null,null,"得点者",{"$f":"IF(ISERROR(VLOOKUP(CONCATENATE($U$39,\"_\",V51),選手名簿!$A:$E,5,FALSE))=TRUE,\"\",VLOOKUP(CONCATENATE($U$39,\"_\",V51),選手名簿!$A:$E,5,FALSE))","v":""},null,null,null,null,null,null,null,{"$f":"IF(ISERROR(VLOOKUP(CONCATENATE($AC$39,\"_\",AB51),選手名簿!$A:$E,5,FALSE))=TRUE,\"\",VLOOKUP(CONCATENATE($AC$39,\"_\",AB51),選手名簿!$A:$E,5,FALSE))","v":""}]
[null,null,null,null,"得点者",{"$f":"IF(ISERROR(VLOOKUP(CONCATENATE($F$39,\"_\",G52),選手名簿!$A:$E,5,FALSE))=TRUE,\"\",VLOOKUP(CONCATENATE($F$39,\"_\",G52),選手名簿!$A:$E,5,FALSE))","v":""},null,null,null,null,null,null,null,{"$f":"IF(ISERROR(VLOOKUP(CONCATENATE($N$39,\"_\",M52),選手名簿!$A:$E,5,FALSE))=TRUE,\"\",VLOOKUP(CONCATENATE($N$39,\"_\",M52),選手名簿!$A:$E,5,FALSE))","v":""},null,null,null,null,null,"得点者",{"$f":"IF(ISERROR(VLOOKUP(CONCATENATE($U$39,\"_\",V52),選手名簿!$A:$E,5,FALSE))=TRUE,\"\",VLOOKUP(CONCATENATE($U$39,\"_\",V52),選手名簿!$A:$E,5,FALSE))","v":""},null,null,null,null,null,null,null,{"$f":"IF(ISERROR(VLOOKUP(CONCATENATE($AC$39,\"_\",AB52),選手名簿!$A:$E,5,FALSE))=TRUE,\"\",VLOOKUP(CONCATENATE($AC$39,\"_\",AB52),選手名簿!$A:$E,5,FALSE))","v":""}]
["番号","R006664864",null,null,"警告/退場",{"$f":"IF(ISERROR(VLOOKUP(CONCATENATE($F$39,\"_\",G53),選手名簿!$A:$E,5,FALSE))=TRUE,\"\",VLOOKUP(CONCATENATE($F$39,\"_\",G53),選手名簿!$A:$E,5,FALSE))","v":""},null,null,null,null,null,null,null,{"$f":"IF(ISERROR(VLOOKUP(CONCATENATE($N$39,\"_\",M53),選手名簿!$A:$E,5,FALSE))=TRUE,\"\",VLOOKUP(CONCATENATE($N$39,\"_\",M53),選手名簿!$A:$E,5,FALSE))","v":""},null,"番号","R009554780",null,null,"警告/退場",{"$f":"IF(ISERROR(VLOOKUP(CONCATENATE($U$39,\"_\",V53),選手名簿!$A:$E,5,FALSE))=TRUE,\"\",VLOOKUP(CONCATENATE($U$39,\"_\",V53),選手名簿!$A:$E,5,FALSE))","v":""},null,null,null,null,null,null,null,{"$f":"IF(ISERROR(VLOOKUP(CONCATENATE($AC$39,\"_\",AB53),選手名簿!$A:$E,5,FALSE))=TRUE,\"\",VLOOKUP(CONCATENATE($AC$39,\"_\",AB53),選手名簿!$A:$E,5,FALSE))","v":""}]
["R",{"$f":"IF(ISERROR(VLOOKUP(B53,審判員!$A:$C,2,FALSE))=TRUE,\"\",VLOOKUP(B53,審判員!$A:$C,2,FALSE))","v":"相良　章成"},null,{"$f":"IF(ISERROR(VLOOKUP(B53,審判員!$A:$C,3,FALSE))=TRUE,\"\",VLOOKUP(B53,審判員!$A:$C,3,FALSE))","v":"３級"},"警告/退場",{"$f":"IF(ISERROR(VLOOKUP(CONCATENATE($F$39,\"_\",G54),選手名簿!$A:$E,5,FALSE))=TRUE,\"\",VLOOKUP(CONCATENATE($F$39,\"_\",G54),選手名簿!$A:$E,5,FALSE))","v":""},null,null,null,null,null,null,null,{"$f":"IF(ISERROR(VLOOKUP(CONCATENATE($N$39,\"_\",M54),選手名簿!$A:$E,5,FALSE))=TRUE,\"\",VLOOKUP(CONCATENATE($N$39,\"_\",M54),選手名簿!$A:$E,5,FALSE))","v":""},null,"R",{"$f":"IF(ISERROR(VLOOKUP(Q53,審判員!$A:$C,2,FALSE))=TRUE,\"\",VLOOKUP(Q53,審判員!$A:$C,2,FALSE))","v":"白江　直樹"},null,{"$f":"IF(ISERROR(VLOOKUP(Q53,審判員!$A:$C,3,FALSE))=TRUE,\"\",VLOOKUP(Q53,審判員!$A:$C,3,FALSE))","v":"３級"},"警告/退場",{"$f":"IF(ISERROR(VLOOKUP(CONCATENATE($U$39,\"_\",V54),選手名簿!$A:$E,5,FALSE))=TRUE,\"\",VLOOKUP(CONCATENATE($U$39,\"_\",V54),選手名簿!$A:$E,5,FALSE))","v":""},null,null,null,null,null,null,null,{"$f":"IF(ISERROR(VLOOKUP(CONCATENATE($AC$39,\"_\",AB54),選手名簿!$A:$E,5,FALSE))=TRUE,\"\",VLOOKUP(CONCATENATE($AC$39,\"_\",AB54),選手名簿!$A:$E,5,FALSE))","v":""}]
["番号","R003255841",null,null,"警告/退場",{"$f":"IF(ISERROR(VLOOKUP(CONCATENATE($F$39,\"_\",G55),選手名簿!$A:$E,5,FALSE))=TRUE,\"\",VLOOKUP(CONCATENATE($F$39,\"_\",G55),選手名簿!$A:$E,5,FALSE))","v":""},null,null,null,null,null,null,null,{"$f":"IF(ISERROR(VLOOKUP(CONCATENATE($N$39,\"_\",M55),選手名簿!$A:$E,5,FALSE))=TRUE,\"\",VLOOKUP(CONCATENATE($N$39,\"_\",M55),選手名簿!$A:$E,5,FALSE))","v":""},null,"番号","R009670176",null,null,"警告/退場",{"$f":"IF(ISERROR(VLOOKUP(CONCATENATE($U$39,\"_\",V55),選手名簿!$A:$E,5,FALSE))=TRUE,\"\",VLOOKUP(CONCATENATE($U$39,\"_\",V55),選手名簿!$A:$E,5,FALSE))","v":""},null,null,null,null,null,null,null,{"$f":"IF(ISERROR(VLOOKUP(CONCATENATE($AC$39,\"_\",AB55),選手名簿!$A:$E,5,FALSE))=TRUE,\"\",VLOOKUP(CONCATENATE($AC$39,\"_\",AB55),選手名簿!$A:$E,5,FALSE))","v":""}]
["AR1:",{"$f":"IF(ISERROR(VLOOKUP(B55,審判員!$A:$C,2,FALSE))=TRUE,\"\",VLOOKUP(B55,審判員!$A:$C,2,FALSE))","v":"塩月　勇輝"},null,{"$f":"IF(ISERROR(VLOOKUP(B55,審判員!$A:$C,3,FALSE))=TRUE,\"\",VLOOKUP(B55,審判員!$A:$C,3,FALSE))","v":"２級"},"警告/退場",{"$f":"IF(ISERROR(VLOOKUP(CONCATENATE($F$39,\"_\",G56),選手名簿!$A:$E,5,FALSE))=TRUE,\"\",VLOOKUP(CONCATENATE($F$39,\"_\",G56),選手名簿!$A:$E,5,FALSE))","v":""},null,null,null,null,null,null,null,{"$f":"IF(ISERROR(VLOOKUP(CONCATENATE($N$39,\"_\",M56),選手名簿!$A:$E,5,FALSE))=TRUE,\"\",VLOOKUP(CONCATENATE($N$39,\"_\",M56),選手名簿!$A:$E,5,FALSE))","v":""},null,"AR1:",{"$f":"IF(ISERROR(VLOOKUP(Q55,審判員!$A:$C,2,FALSE))=TRUE,\"\",VLOOKUP(Q55,審判員!$A:$C,2,FALSE))","v":"西村　竜司"},null,{"$f":"IF(ISERROR(VLOOKUP(Q55,審判員!$A:$C,3,FALSE))=TRUE,\"\",VLOOKUP(Q55,審判員!$A:$C,3,FALSE))","v":"３級"},"警告/退場",{"$f":"IF(ISERROR(VLOOKUP(CONCATENATE($U$39,\"_\",V56),選手名簿!$A:$E,5,FALSE))=TRUE,\"\",VLOOKUP(CONCATENATE($U$39,\"_\",V56),選手名簿!$A:$E,5,FALSE))","v":""},null,null,null,null,null,null,null,{"$f":"IF(ISERROR(VLOOKUP(CONCATENATE($AC$39,\"_\",AB56),選手名簿!$A:$E,5,FALSE))=TRUE,\"\",VLOOKUP(CONCATENATE($AC$39,\"_\",AB56),選手名簿!$A:$E,5,FALSE))","v":""}]
["番号","R010120124",null,null,"警告/退場",{"$f":"IF(ISERROR(VLOOKUP(CONCATENATE($F$39,\"_\",G57),選手名簿!$A:$E,5,FALSE))=TRUE,\"\",VLOOKUP(CONCATENATE($F$39,\"_\",G57),選手名簿!$A:$E,5,FALSE))","v":""},null,null,null,null,null,null,null,{"$f":"IF(ISERROR(VLOOKUP(CONCATENATE($N$39,\"_\",M57),選手名簿!$A:$E,5,FALSE))=TRUE,\"\",VLOOKUP(CONCATENATE($N$39,\"_\",M57),選手名簿!$A:$E,5,FALSE))","v":""},null,"番号","R001262379",null,null,"警告/退場",{"$f":"IF(ISERROR(VLOOKUP(CONCATENATE($U$39,\"_\",V57),選手名簿!$A:$E,5,FALSE))=TRUE,\"\",VLOOKUP(CONCATENATE($U$39,\"_\",V57),選手名簿!$A:$E,5,FALSE))","v":""},null,null,null,null,null,null,null,{"$f":"IF(ISERROR(VLOOKUP(CONCATENATE($AC$39,\"_\",AB57),選手名簿!$A:$E,5,FALSE))=TRUE,\"\",VLOOKUP(CONCATENATE($AC$39,\"_\",AB57),選手名簿!$A:$E,5,FALSE))","v":""}]
["AR2:",{"$f":"IF(ISERROR(VLOOKUP(B57,審判員!$A:$C,2,FALSE))=TRUE,\"\",VLOOKUP(B57,審判員!$A:$C,2,FALSE))","v":"田尻　貴志"},null,{"$f":"IF(ISERROR(VLOOKUP(B57,審判員!$A:$C,3,FALSE))=TRUE,\"\",VLOOKUP(B57,審判員!$A:$C,3,FALSE))","v":"３級"},"警告/退場",{"$f":"IF(ISERROR(VLOOKUP(CONCATENATE($F$39,\"_\",G58),選手名簿!$A:$E,5,FALSE))=TRUE,\"\",VLOOKUP(CONCATENATE($F$39,\"_\",G58),選手名簿!$A:$E,5,FALSE))","v":""},null,null,null,null,null,null,null,{"$f":"IF(ISERROR(VLOOKUP(CONCATENATE($N$39,\"_\",M58),選手名簿!$A:$E,5,FALSE))=TRUE,\"\",VLOOKUP(CONCATENATE($N$39,\"_\",M58),選手名簿!$A:$E,5,FALSE))","v":""},null,"AR2:",{"$f":"IF(ISERROR(VLOOKUP(Q57,審判員!$A:$C,2,FALSE))=TRUE,\"\",VLOOKUP(Q57,審判員!$A:$C,2,FALSE))","v":"石川　慎也"},null,{"$f":"IF(ISERROR(VLOOKUP(Q57,審判員!$A:$C,3,FALSE))=TRUE,\"\",VLOOKUP(Q57,審判員!$A:$C,3,FALSE))","v":"３級"},"警告/退場",{"$f":"IF(ISERROR(VLOOKUP(CONCATENATE($U$39,\"_\",V58),選手名簿!$A:$E,5,FALSE))=TRUE,\"\",VLOOKUP(CONCATENATE($U$39,\"_\",V58),選手名簿!$A:$E,5,FALSE))","v":""},null,null,null,null,null,null,null,{"$f":"IF(ISERROR(VLOOKUP(CONCATENATE($AC$39,\"_\",AB58),選手名簿!$A:$E,5,FALSE))=TRUE,\"\",VLOOKUP(CONCATENATE($AC$39,\"_\",AB58),選手名簿!$A:$E,5,FALSE))","v":""}]
["番号","R009197619",null,null,"警告/退場",{"$f":"IF(ISERROR(VLOOKUP(CONCATENATE($F$39,\"_\",G59),選手名簿!$A:$E,5,FALSE))=TRUE,\"\",VLOOKUP(CONCATENATE($F$39,\"_\",G59),選手名簿!$A:$E,5,FALSE))","v":""},null,null,null,null,null,null,null,{"$f":"IF(ISERROR(VLOOKUP(CONCATENATE($N$39,\"_\",M59),選手名簿!$A:$E,5,FALSE))=TRUE,\"\",VLOOKUP(CONCATENATE($N$39,\"_\",M59),選手名簿!$A:$E,5,FALSE))","v":""},null,"番号","R006664864",null,null,"警告/退場",{"$f":"IF(ISERROR(VLOOKUP(CONCATENATE($U$39,\"_\",V59),選手名簿!$A:$E,5,FALSE))=TRUE,\"\",VLOOKUP(CONCATENATE($U$39,\"_\",V59),選手名簿!$A:$E,5,FALSE))","v":""},null,null,null,null,null,null,null,{"$f":"IF(ISERROR(VLOOKUP(CONCATENATE($AC$39,\"_\",AB59),選手名簿!$A:$E,5,FALSE))=TRUE,\"\",VLOOKUP(CONCATENATE($AC$39,\"_\",AB59),選手名簿!$A:$E,5,FALSE))","v":""}]
["4th:",{"$f":"IF(ISERROR(VLOOKUP(B59,審判員!$A:$C,2,FALSE))=TRUE,\"\",VLOOKUP(B59,審判員!$A:$C,2,FALSE))","v":"恵美　圭介"},null,{"$f":"IF(ISERROR(VLOOKUP(B59,審判員!$A:$C,3,FALSE))=TRUE,\"\",VLOOKUP(B59,審判員!$A:$C,3,FALSE))","v":"３級"},"警告/退場",{"$f":"IF(ISERROR(VLOOKUP(CONCATENATE($F$39,\"_\",G60),選手名簿!$A:$E,5,FALSE))=TRUE,\"\",VLOOKUP(CONCATENATE($F$39,\"_\",G60),選手名簿!$A:$E,5,FALSE))","v":""},null,null,null,null,null,null,null,{"$f":"IF(ISERROR(VLOOKUP(CONCATENATE($N$39,\"_\",M60),選手名簿!$A:$E,5,FALSE))=TRUE,\"\",VLOOKUP(CONCATENATE($N$39,\"_\",M60),選手名簿!$A:$E,5,FALSE))","v":""},null,"4th:",{"$f":"IF(ISERROR(VLOOKUP(Q59,審判員!$A:$C,2,FALSE))=TRUE,\"\",VLOOKUP(Q59,審判員!$A:$C,2,FALSE))","v":"相良　章成"},null,{"$f":"IF(ISERROR(VLOOKUP(Q59,審判員!$A:$C,3,FALSE))=TRUE,\"\",VLOOKUP(Q59,審判員!$A:$C,3,FALSE))","v":"３級"},"警告/退場",{"$f":"IF(ISERROR(VLOOKUP(CONCATENATE($U$39,\"_\",V60),選手名簿!$A:$E,5,FALSE))=TRUE,\"\",VLOOKUP(CONCATENATE($U$39,\"_\",V60),選手名簿!$A:$E,5,FALSE))","v":""},null,null,null,null,null,null,null,{"$f":"IF(ISERROR(VLOOKUP(CONCATENATE($AC$39,\"_\",AB60),選手名簿!$A:$E,5,FALSE))=TRUE,\"\",VLOOKUP(CONCATENATE($AC$39,\"_\",AB60),選手名簿!$A:$E,5,FALSE))","v":""}]
[]
[]
[]
[]
[]
[]
[]
["MC","安東　信二",null,null,"14:30:00",{"$f":"F7","v":"中津沖代ＪＳＣ"},{"$f":"SUM(I68:I69)","v":3},"（",1,"前半",0,"）",{"$f":"SUM(K68:K69)","v":1},{"$f":"F5","v":"明野西ＪＦＣ"},null,"MC","松下　省吾",null,null,"15:30:00",{"$f":"U7","v":"千怒サッカースポーツ少年団"},{"$f":"SUM(X68:X69)","v":1},"（",1,"前半",3,"）",{"$f":"SUM(Z68:Z69)","v":3},{"$f":"U5","v":"市浜レッドソックス"}]
["Welfare\nOfficer","-",null,null,null,null,null,null,2,"後半",1,null,null,null,null,"Welfare\nOfficer","-",null,null,null,null,null,null,0,"後半",0]
["記録","榊　謙治",null,null,null,null,null,null,null,"PK",null,null,null,null,null,"記録","隅田　哲平",null,null,null,null,null,null,null,"PK"]
["＜Referee＞",null,null,null,null,"氏名","番号","分",null,null,null,"分","番号","氏名",null,"＜Referee＞",null,null,null,null,"氏名","番号","分",null,null,null,"分","番号","氏名"]
[null,null,null,null,"得点者",{"$f":"IF(ISERROR(VLOOKUP(CONCATENATE($F$68,\"_\",G72),選手名簿!$A:$E,5,FALSE))=TRUE,\"\",VLOOKUP(CONCATENATE($F$68,\"_\",G72),選手名簿!$A:$E,5,FALSE))","v":""},null,null,null,null,null,null,null,{"$f":"IF(ISERROR(VLOOKUP(CONCATENATE($N$68,\"_\",M72),選手名簿!$A:$E,5,FALSE))=TRUE,\"\",VLOOKUP(CONCATENATE($N$68,\"_\",M72),選手名簿!$A:$E,5,FALSE))","v":""},null,null,null,null,null,"得点者",{"$f":"IF(ISERROR(VLOOKUP(CONCATENATE($U$68,\"_\",V72),選手名簿!$A:$E,5,FALSE))=TRUE,\"\",VLOOKUP(CONCATENATE($U$68,\"_\",V72),選手名簿!$A:$E,5,FALSE))","v":""},null,null,null,null,null,null,null,{"$f":"IF(ISERROR(VLOOKUP(CONCATENATE($AC$68,\"_\",AB72),選手名簿!$A:$E,5,FALSE))=TRUE,\"\",VLOOKUP(CONCATENATE($AC$68,\"_\",AB72),選手名簿!$A:$E,5,FALSE))","v":""}]
[null,null,null,null,"得点者",{"$f":"IF(ISERROR(VLOOKUP(CONCATENATE($F$68,\"_\",G73),選手名簿!$A:$E,5,FALSE))=TRUE,\"\",VLOOKUP(CONCATENATE($F$68,\"_\",G73),選手名簿!$A:$E,5,FALSE))","v":""},null,null,null,null,null,null,null,{"$f":"IF(ISERROR(VLOOKUP(CONCATENATE($N$68,\"_\",M73),選手名簿!$A:$E,5,FALSE))=TRUE,\"\",VLOOKUP(CONCATENATE($N$68,\"_\",M73),選手名簿!$A:$E,5,FALSE))","v":""},null,null,null,null,null,"得点者",{"$f":"IF(ISERROR(VLOOKUP(CONCATENATE($U$68,\"_\",V73),選手名簿!$A:$E,5,FALSE))=TRUE,\"\",VLOOKUP(CONCATENATE($U$68,\"_\",V73),選手名簿!$A:$E,5,FALSE))","v":""},null,null,null,null,null,null,null,{"$f":"IF(ISERROR(VLOOKUP(CONCATENATE($AC$68,\"_\",AB73),選手名簿!$A:$E,5,FALSE))=TRUE,\"\",VLOOKUP(CONCATENATE($AC$68,\"_\",AB73),選手名簿!$A:$E,5,FALSE))","v":""}]
[null,null,null,null,"得点者",{"$f":"IF(ISERROR(VLOOKUP(CONCATENATE($F$68,\"_\",G74),選手名簿!$A:$E,5,FALSE))=TRUE,\"\",VLOOKUP(CONCATENATE($F$68,\"_\",G74),選手名簿!$A:$E,5,FALSE))","v":""},null,null,null,null,null,null,null,{"$f":"IF(ISERROR(VLOOKUP(CONCATENATE($N$68,\"_\",M74),選手名簿!$A:$E,5,FALSE))=TRUE,\"\",VLOOKUP(CONCATENATE($N$68,\"_\",M74),選手名簿!$A:$E,5,FALSE))","v":""},null,null,null,null,null,"得点者",{"$f":"IF(ISERROR(VLOOKUP(CONCATENATE($U$68,\"_\",V74),選手名簿!$A:$E,5,FALSE))=TRUE,\"\",VLOOKUP(CONCATENATE($U$68,\"_\",V74),選手名簿!$A:$E,5,FALSE))","v":""},null,null,null,null,null,null,null,{"$f":"IF(ISERROR(VLOOKUP(CONCATENATE($AC$68,\"_\",AB74),選手名簿!$A:$E,5,FALSE))=TRUE,\"\",VLOOKUP(CONCATENATE($AC$68,\"_\",AB74),選手名簿!$A:$E,5,FALSE))","v":""}]
[null,null,null,null,"得点者",{"$f":"IF(ISERROR(VLOOKUP(CONCATENATE($F$68,\"_\",G75),選手名簿!$A:$E,5,FALSE))=TRUE,\"\",VLOOKUP(CONCATENATE($F$68,\"_\",G75),選手名簿!$A:$E,5,FALSE))","v":""},null,null,null,null,null,null,null,{"$f":"IF(ISERROR(VLOOKUP(CONCATENATE($N$68,\"_\",M75),選手名簿!$A:$E,5,FALSE))=TRUE,\"\",VLOOKUP(CONCATENATE($N$68,\"_\",M75),選手名簿!$A:$E,5,FALSE))","v":""},null,null,null,null,null,"得点者",{"$f":"IF(ISERROR(VLOOKUP(CONCATENATE($U$68,\"_\",V75),選手名簿!$A:$E,5,FALSE))=TRUE,\"\",VLOOKUP(CONCATENATE($U$68,\"_\",V75),選手名簿!$A:$E,5,FALSE))","v":""},null,null,null,null,null,null,null,{"$f":"IF(ISERROR(VLOOKUP(CONCATENATE($AC$68,\"_\",AB75),選手名簿!$A:$E,5,FALSE))=TRUE,\"\",VLOOKUP(CONCATENATE($AC$68,\"_\",AB75),選手名簿!$A:$E,5,FALSE))","v":""}]
[null,null,null,null,"得点者",{"$f":"IF(ISERROR(VLOOKUP(CONCATENATE($F$68,\"_\",G76),選手名簿!$A:$E,5,FALSE))=TRUE,\"\",VLOOKUP(CONCATENATE($F$68,\"_\",G76),選手名簿!$A:$E,5,FALSE))","v":""},null,null,null,null,null,null,null,{"$f":"IF(ISERROR(VLOOKUP(CONCATENATE($N$68,\"_\",M76),選手名簿!$A:$E,5,FALSE))=TRUE,\"\",VLOOKUP(CONCATENATE($N$68,\"_\",M76),選手名簿!$A:$E,5,FALSE))","v":""},null,null,null,null,null,"得点者",{"$f":"IF(ISERROR(VLOOKUP(CONCATENATE($U$68,\"_\",V76),選手名簿!$A:$E,5,FALSE))=TRUE,\"\",VLOOKUP(CONCATENATE($U$68,\"_\",V76),選手名簿!$A:$E,5,FALSE))","v":""},null,null,null,null,null,null,null,{"$f":"IF(ISERROR(VLOOKUP(CONCATENATE($AC$68,\"_\",AB76),選手名簿!$A:$E,5,FALSE))=TRUE,\"\",VLOOKUP(CONCATENATE($AC$68,\"_\",AB76),選手名簿!$A:$E,5,FALSE))","v":""}]
[null,null,null,null,"得点者",{"$f":"IF(ISERROR(VLOOKUP(CONCATENATE($F$68,\"_\",G77),選手名簿!$A:$E,5,FALSE))=TRUE,\"\",VLOOKUP(CONCATENATE($F$68,\"_\",G77),選手名簿!$A:$E,5,FALSE))","v":""},null,null,null,null,null,null,null,{"$f":"IF(ISERROR(VLOOKUP(CONCATENATE($N$68,\"_\",M77),選手名簿!$A:$E,5,FALSE))=TRUE,\"\",VLOOKUP(CONCATENATE($N$68,\"_\",M77),選手名簿!$A:$E,5,FALSE))","v":""},null,null,null,null,null,"得点者",{"$f":"IF(ISERROR(VLOOKUP(CONCATENATE($U$68,\"_\",V77),選手名簿!$A:$E,5,FALSE))=TRUE,\"\",VLOOKUP(CONCATENATE($U$68,\"_\",V77),選手名簿!$A:$E,5,FALSE))","v":""},null,null,null,null,null,null,null,{"$f":"IF(ISERROR(VLOOKUP(CONCATENATE($AC$68,\"_\",AB77),選手名簿!$A:$E,5,FALSE))=TRUE,\"\",VLOOKUP(CONCATENATE($AC$68,\"_\",AB77),選手名簿!$A:$E,5,FALSE))","v":""}]
[null,null,null,null,"得点者",{"$f":"IF(ISERROR(VLOOKUP(CONCATENATE($F$68,\"_\",G78),選手名簿!$A:$E,5,FALSE))=TRUE,\"\",VLOOKUP(CONCATENATE($F$68,\"_\",G78),選手名簿!$A:$E,5,FALSE))","v":""},null,null,null,null,null,null,null,{"$f":"IF(ISERROR(VLOOKUP(CONCATENATE($N$68,\"_\",M78),選手名簿!$A:$E,5,FALSE))=TRUE,\"\",VLOOKUP(CONCATENATE($N$68,\"_\",M78),選手名簿!$A:$E,5,FALSE))","v":""},null,null,null,null,null,"得点者",{"$f":"IF(ISERROR(VLOOKUP(CONCATENATE($U$68,\"_\",V78),選手名簿!$A:$E,5,FALSE))=TRUE,\"\",VLOOKUP(CONCATENATE($U$68,\"_\",V78),選手名簿!$A:$E,5,FALSE))","v":""},null,null,null,null,null,null,null,{"$f":"IF(ISERROR(VLOOKUP(CONCATENATE($AC$68,\"_\",AB78),選手名簿!$A:$E,5,FALSE))=TRUE,\"\",VLOOKUP(CONCATENATE($AC$68,\"_\",AB78),選手名簿!$A:$E,5,FALSE))","v":""}]
[null,null,null,null,"得点者",{"$f":"IF(ISERROR(VLOOKUP(CONCATENATE($F$68,\"_\",G79),選手名簿!$A:$E,5,FALSE))=TRUE,\"\",VLOOKUP(CONCATENATE($F$68,\"_\",G79),選手名簿!$A:$E,5,FALSE))","v":""},null,null,null,null,null,null,null,{"$f":"IF(ISERROR(VLOOKUP(CONCATENATE($N$68,\"_\",M79),選手名簿!$A:$E,5,FALSE))=TRUE,\"\",VLOOKUP(CONCATENATE($N$68,\"_\",M79),選手名簿!$A:$E,5,FALSE))","v":""},null,null,null,null,null,"得点者",{"$f":"IF(ISERROR(VLOOKUP(CONCATENATE($U$68,\"_\",V79),選手名簿!$A:$E,5,FALSE))=TRUE,\"\",VLOOKUP(CONCATENATE($U$68,\"_\",V79),選手名簿!$A:$E,5,FALSE))","v":""},null,null,null,null,null,null,null,{"$f":"IF(ISERROR(VLOOKUP(CONCATENATE($AC$68,\"_\",AB79),選手名簿!$A:$E,5,FALSE))=TRUE,\"\",VLOOKUP(CONCATENATE($AC$68,\"_\",AB79),選手名簿!$A:$E,5,FALSE))","v":""}]
[null,null,null,null,"得点者",{"$f":"IF(ISERROR(VLOOKUP(CONCATENATE($F$68,\"_\",G80),選手名簿!$A:$E,5,FALSE))=TRUE,\"\",VLOOKUP(CONCATENATE($F$68,\"_\",G80),選手名簿!$A:$E,5,FALSE))","v":""},null,null,null,null,null,null,null,{"$f":"IF(ISERROR(VLOOKUP(CONCATENATE($N$68,\"_\",M80),選手名簿!$A:$E,5,FALSE))=TRUE,\"\",VLOOKUP(CONCATENATE($N$68,\"_\",M80),選手名簿!$A:$E,5,FALSE))","v":""},null,null,null,null,null,"得点者",{"$f":"IF(ISERROR(VLOOKUP(CONCATENATE($U$68,\"_\",V80),選手名簿!$A:$E,5,FALSE))=TRUE,\"\",VLOOKUP(CONCATENATE($U$68,\"_\",V80),選手名簿!$A:$E,5,FALSE))","v":""},null,null,null,null,null,null,null,{"$f":"IF(ISERROR(VLOOKUP(CONCATENATE($AC$68,\"_\",AB80),選手名簿!$A:$E,5,FALSE))=TRUE,\"\",VLOOKUP(CONCATENATE($AC$68,\"_\",AB80),選手名簿!$A:$E,5,FALSE))","v":""}]
[null,null,null,null,"得点者",{"$f":"IF(ISERROR(VLOOKUP(CONCATENATE($F$68,\"_\",G81),選手名簿!$A:$E,5,FALSE))=TRUE,\"\",VLOOKUP(CONCATENATE($F$68,\"_\",G81),選手名簿!$A:$E,5,FALSE))","v":""},null,null,null,null,null,null,null,{"$f":"IF(ISERROR(VLOOKUP(CONCATENATE($N$68,\"_\",M81),選手名簿!$A:$E,5,FALSE))=TRUE,\"\",VLOOKUP(CONCATENATE($N$68,\"_\",M81),選手名簿!$A:$E,5,FALSE))","v":""},null,null,null,null,null,"得点者",{"$f":"IF(ISERROR(VLOOKUP(CONCATENATE($U$68,\"_\",V81),選手名簿!$A:$E,5,FALSE))=TRUE,\"\",VLOOKUP(CONCATENATE($U$68,\"_\",V81),選手名簿!$A:$E,5,FALSE))","v":""},null,null,null,null,null,null,null,{"$f":"IF(ISERROR(VLOOKUP(CONCATENATE($AC$68,\"_\",AB81),選手名簿!$A:$E,5,FALSE))=TRUE,\"\",VLOOKUP(CONCATENATE($AC$68,\"_\",AB81),選手名簿!$A:$E,5,FALSE))","v":""}]
["番号","R009197619",null,null,"警告/退場",{"$f":"IF(ISERROR(VLOOKUP(CONCATENATE($F$68,\"_\",G82),選手名簿!$A:$E,5,FALSE))=TRUE,\"\",VLOOKUP(CONCATENATE($F$68,\"_\",G82),選手名簿!$A:$E,5,FALSE))","v":""},null,null,null,null,null,null,null,{"$f":"IF(ISERROR(VLOOKUP(CONCATENATE($N$68,\"_\",M82),選手名簿!$A:$E,5,FALSE))=TRUE,\"\",VLOOKUP(CONCATENATE($N$68,\"_\",M82),選手名簿!$A:$E,5,FALSE))","v":""},null,"番号","R006664864",null,null,"警告/退場",{"$f":"IF(ISERROR(VLOOKUP(CONCATENATE($U$68,\"_\",V82),選手名簿!$A:$E,5,FALSE))=TRUE,\"\",VLOOKUP(CONCATENATE($U$68,\"_\",V82),選手名簿!$A:$E,5,FALSE))","v":""},null,null,null,null,null,null,null,{"$f":"IF(ISERROR(VLOOKUP(CONCATENATE($AC$68,\"_\",AB82),選手名簿!$A:$E,5,FALSE))=TRUE,\"\",VLOOKUP(CONCATENATE($AC$68,\"_\",AB82),選手名簿!$A:$E,5,FALSE))","v":""}]
["R",{"$f":"IF(ISERROR(VLOOKUP(B82,審判員!$A:$C,2,FALSE))=TRUE,\"\",VLOOKUP(B82,審判員!$A:$C,2,FALSE))","v":"恵美　圭介"},null,{"$f":"IF(ISERROR(VLOOKUP(B82,審判員!$A:$C,3,FALSE))=TRUE,\"\",VLOOKUP(B82,審判員!$A:$C,3,FALSE))","v":"３級"},"警告/退場",{"$f":"IF(ISERROR(VLOOKUP(CONCATENATE($F$68,\"_\",G83),選手名簿!$A:$E,5,FALSE))=TRUE,\"\",VLOOKUP(CONCATENATE($F$68,\"_\",G83),選手名簿!$A:$E,5,FALSE))","v":""},null,null,null,null,null,null,null,{"$f":"IF(ISERROR(VLOOKUP(CONCATENATE($N$68,\"_\",M83),選手名簿!$A:$E,5,FALSE))=TRUE,\"\",VLOOKUP(CONCATENATE($N$68,\"_\",M83),選手名簿!$A:$E,5,FALSE))","v":""},null,"R",{"$f":"IF(ISERROR(VLOOKUP(Q82,審判員!$A:$C,2,FALSE))=TRUE,\"\",VLOOKUP(Q82,審判員!$A:$C,2,FALSE))","v":"相良　章成"},null,{"$f":"IF(ISERROR(VLOOKUP(Q82,審判員!$A:$C,3,FALSE))=TRUE,\"\",VLOOKUP(Q82,審判員!$A:$C,3,FALSE))","v":"３級"},"警告/退場",{"$f":"IF(ISERROR(VLOOKUP(CONCATENATE($U$68,\"_\",V83),選手名簿!$A:$E,5,FALSE))=TRUE,\"\",VLOOKUP(CONCATENATE($U$68,\"_\",V83),選手名簿!$A:$E,5,FALSE))","v":""},null,null,null,null,null,null,null,{"$f":"IF(ISERROR(VLOOKUP(CONCATENATE($AC$68,\"_\",AB83),選手名簿!$A:$E,5,FALSE))=TRUE,\"\",VLOOKUP(CONCATENATE($AC$68,\"_\",AB83),選手名簿!$A:$E,5,FALSE))","v":""}]
["番号","R010120124",null,null,"警告/退場",{"$f":"IF(ISERROR(VLOOKUP(CONCATENATE($F$68,\"_\",G84),選手名簿!$A:$E,5,FALSE))=TRUE,\"\",VLOOKUP(CONCATENATE($F$68,\"_\",G84),選手名簿!$A:$E,5,FALSE))","v":""},null,null,null,null,null,null,null,{"$f":"IF(ISERROR(VLOOKUP(CONCATENATE($N$68,\"_\",M84),選手名簿!$A:$E,5,FALSE))=TRUE,\"\",VLOOKUP(CONCATENATE($N$68,\"_\",M84),選手名簿!$A:$E,5,FALSE))","v":""},null,"番号","R001262379",null,null,"警告/退場",{"$f":"IF(ISERROR(VLOOKUP(CONCATENATE($U$68,\"_\",V84),選手名簿!$A:$E,5,FALSE))=TRUE,\"\",VLOOKUP(CONCATENATE($U$68,\"_\",V84),選手名簿!$A:$E,5,FALSE))","v":""},null,null,null,null,null,null,null,{"$f":"IF(ISERROR(VLOOKUP(CONCATENATE($AC$68,\"_\",AB84),選手名簿!$A:$E,5,FALSE))=TRUE,\"\",VLOOKUP(CONCATENATE($AC$68,\"_\",AB84),選手名簿!$A:$E,5,FALSE))","v":""}]
["AR1:",{"$f":"IF(ISERROR(VLOOKUP(B84,審判員!$A:$C,2,FALSE))=TRUE,\"\",VLOOKUP(B84,審判員!$A:$C,2,FALSE))","v":"田尻　貴志"},null,{"$f":"IF(ISERROR(VLOOKUP(B84,審判員!$A:$C,3,FALSE))=TRUE,\"\",VLOOKUP(B84,審判員!$A:$C,3,FALSE))","v":"３級"},"警告/退場",{"$f":"IF(ISERROR(VLOOKUP(CONCATENATE($F$68,\"_\",G85),選手名簿!$A:$E,5,FALSE))=TRUE,\"\",VLOOKUP(CONCATENATE($F$68,\"_\",G85),選手名簿!$A:$E,5,FALSE))","v":""},null,null,null,null,null,null,null,{"$f":"IF(ISERROR(VLOOKUP(CONCATENATE($N$68,\"_\",M85),選手名簿!$A:$E,5,FALSE))=TRUE,\"\",VLOOKUP(CONCATENATE($N$68,\"_\",M85),選手名簿!$A:$E,5,FALSE))","v":""},null,"AR1:",{"$f":"IF(ISERROR(VLOOKUP(Q84,審判員!$A:$C,2,FALSE))=TRUE,\"\",VLOOKUP(Q84,審判員!$A:$C,2,FALSE))","v":"石川　慎也"},null,{"$f":"IF(ISERROR(VLOOKUP(Q84,審判員!$A:$C,3,FALSE))=TRUE,\"\",VLOOKUP(Q84,審判員!$A:$C,3,FALSE))","v":"３級"},"警告/退場",{"$f":"IF(ISERROR(VLOOKUP(CONCATENATE($U$68,\"_\",V85),選手名簿!$A:$E,5,FALSE))=TRUE,\"\",VLOOKUP(CONCATENATE($U$68,\"_\",V85),選手名簿!$A:$E,5,FALSE))","v":""},null,null,null,null,null,null,null,{"$f":"IF(ISERROR(VLOOKUP(CONCATENATE($AC$68,\"_\",AB85),選手名簿!$A:$E,5,FALSE))=TRUE,\"\",VLOOKUP(CONCATENATE($AC$68,\"_\",AB85),選手名簿!$A:$E,5,FALSE))","v":""}]
["番号","R007090686",null,null,"警告/退場",{"$f":"IF(ISERROR(VLOOKUP(CONCATENATE($F$68,\"_\",G86),選手名簿!$A:$E,5,FALSE))=TRUE,\"\",VLOOKUP(CONCATENATE($F$68,\"_\",G86),選手名簿!$A:$E,5,FALSE))","v":""},null,null,null,null,null,null,null,{"$f":"IF(ISERROR(VLOOKUP(CONCATENATE($N$68,\"_\",M86),選手名簿!$A:$E,5,FALSE))=TRUE,\"\",VLOOKUP(CONCATENATE($N$68,\"_\",M86),選手名簿!$A:$E,5,FALSE))","v":""},null,"番号","R006901613",null,null,"警告/退場",{"$f":"IF(ISERROR(VLOOKUP(CONCATENATE($U$68,\"_\",V86),選手名簿!$A:$E,5,FALSE))=TRUE,\"\",VLOOKUP(CONCATENATE($U$68,\"_\",V86),選手名簿!$A:$E,5,FALSE))","v":""},null,null,null,null,null,null,null,{"$f":"IF(ISERROR(VLOOKUP(CONCATENATE($AC$68,\"_\",AB86),選手名簿!$A:$E,5,FALSE))=TRUE,\"\",VLOOKUP(CONCATENATE($AC$68,\"_\",AB86),選手名簿!$A:$E,5,FALSE))","v":""}]
["AR2:",{"$f":"IF(ISERROR(VLOOKUP(B86,審判員!$A:$C,2,FALSE))=TRUE,\"\",VLOOKUP(B86,審判員!$A:$C,2,FALSE))","v":"吉元　健太朗"},null,{"$f":"IF(ISERROR(VLOOKUP(B86,審判員!$A:$C,3,FALSE))=TRUE,\"\",VLOOKUP(B86,審判員!$A:$C,3,FALSE))","v":"３級"},"警告/退場",{"$f":"IF(ISERROR(VLOOKUP(CONCATENATE($F$68,\"_\",G87),選手名簿!$A:$E,5,FALSE))=TRUE,\"\",VLOOKUP(CONCATENATE($F$68,\"_\",G87),選手名簿!$A:$E,5,FALSE))","v":""},null,null,null,null,null,null,null,{"$f":"IF(ISERROR(VLOOKUP(CONCATENATE($N$68,\"_\",M87),選手名簿!$A:$E,5,FALSE))=TRUE,\"\",VLOOKUP(CONCATENATE($N$68,\"_\",M87),選手名簿!$A:$E,5,FALSE))","v":""},null,"AR2:",{"$f":"IF(ISERROR(VLOOKUP(Q86,審判員!$A:$C,2,FALSE))=TRUE,\"\",VLOOKUP(Q86,審判員!$A:$C,2,FALSE))","v":"岡部　明男"},null,{"$f":"IF(ISERROR(VLOOKUP(Q86,審判員!$A:$C,3,FALSE))=TRUE,\"\",VLOOKUP(Q86,審判員!$A:$C,3,FALSE))","v":"３級"},"警告/退場",{"$f":"IF(ISERROR(VLOOKUP(CONCATENATE($U$68,\"_\",V87),選手名簿!$A:$E,5,FALSE))=TRUE,\"\",VLOOKUP(CONCATENATE($U$68,\"_\",V87),選手名簿!$A:$E,5,FALSE))","v":""},null,null,null,null,null,null,null,{"$f":"IF(ISERROR(VLOOKUP(CONCATENATE($AC$68,\"_\",AB87),選手名簿!$A:$E,5,FALSE))=TRUE,\"\",VLOOKUP(CONCATENATE($AC$68,\"_\",AB87),選手名簿!$A:$E,5,FALSE))","v":""}]
["番号","R009554780",null,null,"警告/退場",{"$f":"IF(ISERROR(VLOOKUP(CONCATENATE($F$68,\"_\",G88),選手名簿!$A:$E,5,FALSE))=TRUE,\"\",VLOOKUP(CONCATENATE($F$68,\"_\",G88),選手名簿!$A:$E,5,FALSE))","v":""},null,null,null,null,null,null,null,{"$f":"IF(ISERROR(VLOOKUP(CONCATENATE($N$68,\"_\",M88),選手名簿!$A:$E,5,FALSE))=TRUE,\"\",VLOOKUP(CONCATENATE($N$68,\"_\",M88),選手名簿!$A:$E,5,FALSE))","v":""},null,"番号","R009197619",null,null,"警告/退場",{"$f":"IF(ISERROR(VLOOKUP(CONCATENATE($U$68,\"_\",V88),選手名簿!$A:$E,5,FALSE))=TRUE,\"\",VLOOKUP(CONCATENATE($U$68,\"_\",V88),選手名簿!$A:$E,5,FALSE))","v":""},null,null,null,null,null,null,null,{"$f":"IF(ISERROR(VLOOKUP(CONCATENATE($AC$68,\"_\",AB88),選手名簿!$A:$E,5,FALSE))=TRUE,\"\",VLOOKUP(CONCATENATE($AC$68,\"_\",AB88),選手名簿!$A:$E,5,FALSE))","v":""}]
["4th:",{"$f":"IF(ISERROR(VLOOKUP(B88,審判員!$A:$C,2,FALSE))=TRUE,\"\",VLOOKUP(B88,審判員!$A:$C,2,FALSE))","v":"白江　直樹"},null,{"$f":"IF(ISERROR(VLOOKUP(B88,審判員!$A:$C,3,FALSE))=TRUE,\"\",VLOOKUP(B88,審判員!$A:$C,3,FALSE))","v":"３級"},"警告/退場",{"$f":"IF(ISERROR(VLOOKUP(CONCATENATE($F$68,\"_\",G89),選手名簿!$A:$E,5,FALSE))=TRUE,\"\",VLOOKUP(CONCATENATE($F$68,\"_\",G89),選手名簿!$A:$E,5,FALSE))","v":""},null,null,null,null,null,null,null,{"$f":"IF(ISERROR(VLOOKUP(CONCATENATE($N$68,\"_\",M89),選手名簿!$A:$E,5,FALSE))=TRUE,\"\",VLOOKUP(CONCATENATE($N$68,\"_\",M89),選手名簿!$A:$E,5,FALSE))","v":""},null,"4th:",{"$f":"IF(ISERROR(VLOOKUP(Q88,審判員!$A:$C,2,FALSE))=TRUE,\"\",VLOOKUP(Q88,審判員!$A:$C,2,FALSE))","v":"恵美　圭介"},null,{"$f":"IF(ISERROR(VLOOKUP(Q88,審判員!$A:$C,3,FALSE))=TRUE,\"\",VLOOKUP(Q88,審判員!$A:$C,3,FALSE))","v":"３級"},"警告/退場",{"$f":"IF(ISERROR(VLOOKUP(CONCATENATE($U$68,\"_\",V89),選手名簿!$A:$E,5,FALSE))=TRUE,\"\",VLOOKUP(CONCATENATE($U$68,\"_\",V89),選手名簿!$A:$E,5,FALSE))","v":""},null,null,null,null,null,null,null,{"$f":"IF(ISERROR(VLOOKUP(CONCATENATE($AC$68,\"_\",AB89),選手名簿!$A:$E,5,FALSE))=TRUE,\"\",VLOOKUP(CONCATENATE($AC$68,\"_\",AB89),選手名簿!$A:$E,5,FALSE))","v":""}]

{"sheet":"予選リーグ公式記録(上原A)","index":9,"n_rows":89,"n_cols":29,"rows_kept":89,"cut":false,"hidden":true,"merged":[[12,0,12,3],[38,1,38,3],[39,1,39,3],[40,1,40,3],[38,7,40,7],[38,11,40,11],[29,1,29,3],[29,16,29,18],[30,1,30,2],[30,16,30,17],[38,4,40,4],[87,1,87,3],[87,16,87,18],[88,1,88,2],[88,16,88,17],[84,1,84,2],[84,16,84,17],[85,1,85,3],[85,16,85,18],[86,1,86,2],[86,16,86,17],[67,28,69,28],[81,1,81,3],[81,16,81,18],[82,1,82,2],[82,16,82,17],[83,1,83,3],[83,16,83,18],[67,19,69,19],[67,20,69,20],[67,21,69,21],[70,0,70,3],[70,15,70,18],[67,12,69,12],[67,13,69,13],[67,22,69,22],[67,26,69,26],[67,27,69,27],[67,1,67,3],[68,1,68,3],[69,1,69,3],[67,16,67,18],[68,16,68,18],[69,16,69,18],[59,1,59,2],[59,16,59,17],[67,4,69,4],[67,5,69,5],[67,6,69,6],[67,7,69,7],[67,11,69,11],[52,1,52,3],[52,16,52,18],[57,1,57,2],[57,16,57,17],[58,1,58,3],[58,16,58,18],[53,1,53,2],[53,16,53,17],[54,1,54,3],[54,16,54,18],[55,1,55,2],[55,16,55,17],[41,0,41,3],[41,15,41,18],[56,1,56,3],[56,16,56,18],[5,5,5,11],[5,12,5,13],[4,20,4,26],[24,16,24,17],[9,26,11,26],[23,1,23,3],[24,1,24,2],[38,19,40,19],[38,20,40,20],[23,16,23,18],[25,1,25,3],[25,16,25,18],[26,1,26,2],[26,16,26,17],[27,1,27,3],[27,16,27,18],[38,12,40,12],[38,13,40,13],[28,1,28,2],[28,16,28,17],[5,20,5,26],[6,20,6,26],[4,27,4,28],[5,27,5,28],[0,0,0,9],[0,10,0,13],[0,15,0,24],[0,25,0,28],[9,7,11,7],[9,11,11,11],[9,4,11,4],[9,5,11,5],[4,12,4,13],[4,5,4,11],[9,6,11,6],[9,1,9,3],[10,1,10,3],[11,1,11,3],[9,16,9,18],[10,16,10,18],[11,16,11,18],[38,21,40,21],[6,27,6,28],[9,19,11,19],[9,20,11,20],[9,22,11,22],[6,12,6,13],[9,12,11,12],[9,13,11,13],[6,5,6,11],[38,22,40,22],[38,26,40,26],[38,27,40,27],[38,28,40,28],[12,15,12,18],[38,5,40,5],[38,6,40,6],[9,27,11,27],[9,28,11,28],[9,21,11,21],[38,16,38,18],[39,16,39,18],[40,16,40,18]]}
[{"$f":"大会要項!$B$2","v":"第8回 全日本不動産協会杯争奪少年サッカー大会【ラビットカップ】大分県大会"},null,null,null,null,null,null,null,null,null,"予選リーグ結果　報告用紙",null,null,null,null,{"$f":"大会要項!$B$2","v":"第8回 全日本不動産協会杯争奪少年サッカー大会【ラビットカップ】大分県大会"},null,null,null,null,null,null,null,null,null,"予選リーグ結果　報告用紙"]
[]
["会場",{"$f":"予選リーグ!I14","v":"挾間上原グラウンド"},null,null,"A",null,null,null,null,null,null,null,null,null,null,"会場",{"$f":"予選リーグ!I14","v":"挾間上原グラウンド"},null,null,"A"]
[]
[null,null,null,null,"E1",{"$f":"VLOOKUP(E5,組合せ抽選用!$Q:$U,5,FALSE)","v":"ドリームキッズフットボールクラブ"},null,null,null,null,null,null,{"$f":"VLOOKUP(E5,組合せ抽選用!$Q:$V,6,FALSE)","v":"大分"},null,null,null,null,null,null,"G1",{"$f":"VLOOKUP(T5,組合せ抽選用!$Q:$U,5,FALSE)","v":"きつきＦＣ"},null,null,null,null,null,null,{"$f":"VLOOKUP(T5,組合せ抽選用!$Q:$V,6,FALSE)","v":"速杵国東"}]
[null,null,null,null,"E2",{"$f":"VLOOKUP(E6,組合せ抽選用!$Q:$U,5,FALSE)","v":"由布川サッカースポーツ少年団"},null,null,null,null,null,null,{"$f":"VLOOKUP(E6,組合せ抽選用!$Q:$V,6,FALSE)","v":"大分"},null,null,null,null,null,null,"G2",{"$f":"VLOOKUP(T6,組合せ抽選用!$Q:$U,5,FALSE)","v":"スマイス　セレソン　スポーツクラブ"},null,null,null,null,null,null,{"$f":"VLOOKUP(T6,組合せ抽選用!$Q:$V,6,FALSE)","v":"大分"}]
[null,null,null,null,"E3",{"$f":"VLOOKUP(E7,組合せ抽選用!$Q:$U,5,FALSE)","v":"スマイス・セレソン"},null,null,null,null,null,null,{"$f":"VLOOKUP(E7,組合せ抽選用!$Q:$V,6,FALSE)","v":"別府"},null,null,null,null,null,null,"G3",{"$f":"VLOOKUP(T7,組合せ抽選用!$Q:$U,5,FALSE)","v":"県央おおのＪＦＣ"},null,null,null,null,null,null,{"$f":"VLOOKUP(T7,組合せ抽選用!$Q:$V,6,FALSE)","v":"豊肥"}]
[]
[]
["MC","中野　観司郎",null,null,"10:30:00",{"$f":"F5","v":"ドリームキッズフットボールクラブ"},{"$f":"SUM(I10:I11)","v":1},"（",0,"前半",1,"）",{"$f":"SUM(K10:K11)","v":1},{"$f":"F6","v":"由布川サッカースポーツ少年団"},null,"MC","毛藤　勇三",null,null,"11:30:00",{"$f":"U5","v":"きつきＦＣ"},{"$f":"SUM(X10:X11)","v":0},"（",0,"前半",2,"）",{"$f":"SUM(Z10:Z11)","v":8},{"$f":"U6","v":"スマイス　セレソン　スポーツクラブ"}]
["Welfare\nOfficer","-",null,null,null,null,null,null,1,"後半",0,null,null,null,null,"Welfare\nOfficer","-",null,null,null,null,null,null,0,"後半",6]
["記録","河野　千恵子",null,null,null,null,null,null,null,"PK",null,null,null,null,null,"記録","上野　貴士",null,null,null,null,null,null,null,"PK"]
["＜Referee＞",null,null,null,null,"氏名","番号","分",null,null,null,"分","番号","氏名",null,"＜Referee＞",null,null,null,null,"氏名","番号","分",null,null,null,"分","番号","氏名"]
[null,null,null,null,"得点者",{"$f":"IF(ISERROR(VLOOKUP(CONCATENATE($F$10,\"_\",G14),選手名簿!$A:$E,5,FALSE))=TRUE,\"\",VLOOKUP(CONCATENATE($F$10,\"_\",G14),選手名簿!$A:$E,5,FALSE))","v":""},null,null,null,null,null,null,null,{"$f":"IF(ISERROR(VLOOKUP(CONCATENATE($N$10,\"_\",M14),選手名簿!$A:$E,5,FALSE))=TRUE,\"\",VLOOKUP(CONCATENATE($N$10,\"_\",M14),選手名簿!$A:$E,5,FALSE))","v":""},null,null,null,null,null,"得点者",{"$f":"IF(ISERROR(VLOOKUP(CONCATENATE($U$10,\"_\",V14),選手名簿!$A:$E,5,FALSE))=TRUE,\"\",VLOOKUP(CONCATENATE($U$10,\"_\",V14),選手名簿!$A:$E,5,FALSE))","v":""},null,null,null,null,null,null,null,{"$f":"IF(ISERROR(VLOOKUP(CONCATENATE($AC$10,\"_\",AB14),選手名簿!$A:$E,5,FALSE))=TRUE,\"\",VLOOKUP(CONCATENATE($AC$10,\"_\",AB14),選手名簿!$A:$E,5,FALSE))","v":""}]
[null,null,null,null,"得点者",{"$f":"IF(ISERROR(VLOOKUP(CONCATENATE($F$10,\"_\",G15),選手名簿!$A:$E,5,FALSE))=TRUE,\"\",VLOOKUP(CONCATENATE($F$10,\"_\",G15),選手名簿!$A:$E,5,FALSE))","v":""},null,null,null,null,null,null,null,{"$f":"IF(ISERROR(VLOOKUP(CONCATENATE($N$10,\"_\",M15),選手名簿!$A:$E,5,FALSE))=TRUE,\"\",VLOOKUP(CONCATENATE($N$10,\"_\",M15),選手名簿!$A:$E,5,FALSE))","v":""},null,null,null,null,null,"得点者",{"$f":"IF(ISERROR(VLOOKUP(CONCATENATE($U$10,\"_\",V15),選手名簿!$A:$E,5,FALSE))=TRUE,\"\",VLOOKUP(CONCATENATE($U$10,\"_\",V15),選手名簿!$A:$E,5,FALSE))","v":""},null,null,null,null,null,null,null,{"$f":"IF(ISERROR(VLOOKUP(CONCATENATE($AC$10,\"_\",AB15),選手名簿!$A:$E,5,FALSE))=TRUE,\"\",VLOOKUP(CONCATENATE($AC$10,\"_\",AB15),選手名簿!$A:$E,5,FALSE))","v":""}]
[null,null,null,null,"得点者",{"$f":"IF(ISERROR(VLOOKUP(CONCATENATE($F$10,\"_\",G16),選手名簿!$A:$E,5,FALSE))=TRUE,\"\",VLOOKUP(CONCATENATE($F$10,\"_\",G16),選手名簿!$A:$E,5,FALSE))","v":""},null,null,null,null,null,null,null,{"$f":"IF(ISERROR(VLOOKUP(CONCATENATE($N$10,\"_\",M16),選手名簿!$A:$E,5,FALSE))=TRUE,\"\",VLOOKUP(CONCATENATE($N$10,\"_\",M16),選手名簿!$A:$E,5,FALSE))","v":""},null,null,null,null,null,"得点者",{"$f":"IF(ISERROR(VLOOKUP(CONCATENATE($U$10,\"_\",V16),選手名簿!$A:$E,5,FALSE))=TRUE,\"\",VLOOKUP(CONCATENATE($U$10,\"_\",V16),選手名簿!$A:$E,5,FALSE))","v":""},null,null,null,null,null,null,null,{"$f":"IF(ISERROR(VLOOKUP(CONCATENATE($AC$10,\"_\",AB16),選手名簿!$A:$E,5,FALSE))=TRUE,\"\",VLOOKUP(CONCATENATE($AC$10,\"_\",AB16),選手名簿!$A:$E,5,FALSE))","v":""}]
[null,null,null,null,"得点者",{"$f":"IF(ISERROR(VLOOKUP(CONCATENATE($F$10,\"_\",G17),選手名簿!$A:$E,5,FALSE))=TRUE,\"\",VLOOKUP(CONCATENATE($F$10,\"_\",G17),選手名簿!$A:$E,5,FALSE))","v":""},null,null,null,null,null,null,null,{"$f":"IF(ISERROR(VLOOKUP(CONCATENATE($N$10,\"_\",M17),選手名簿!$A:$E,5,FALSE))=TRUE,\"\",VLOOKUP(CONCATENATE($N$10,\"_\",M17),選手名簿!$A:$E,5,FALSE))","v":""},null,null,null,null,null,"得点者",{"$f":"IF(ISERROR(VLOOKUP(CONCATENATE($U$10,\"_\",V17),選手名簿!$A:$E,5,FALSE))=TRUE,\"\",VLOOKUP(CONCATENATE($U$10,\"_\",V17),選手名簿!$A:$E,5,FALSE))","v":""},null,null,null,null,null,null,null,{"$f":"IF(ISERROR(VLOOKUP(CONCATENATE($AC$10,\"_\",AB17),選手名簿!$A:$E,5,FALSE))=TRUE,\"\",VLOOKUP(CONCATENATE($AC$10,\"_\",AB17),選手名簿!$A:$E,5,FALSE))","v":""}]
[null,null,null,null,"得点者",{"$f":"IF(ISERROR(VLOOKUP(CONCATENATE($F$10,\"_\",G18),選手名簿!$A:$E,5,FALSE))=TRUE,\"\",VLOOKUP(CONCATENATE($F$10,\"_\",G18),選手名簿!$A:$E,5,FALSE))","v":""},null,null,null,null,null,null,null,{"$f":"IF(ISERROR(VLOOKUP(CONCATENATE($N$10,\"_\",M18),選手名簿!$A:$E,5,FALSE))=TRUE,\"\",VLOOKUP(CONCATENATE($N$10,\"_\",M18),選手名簿!$A:$E,5,FALSE))","v":""},null,null,null,null,null,"得点者",{"$f":"IF(ISERROR(VLOOKUP(CONCATENATE($U$10,\"_\",V18),選手名簿!$A:$E,5,FALSE))=TRUE,\"\",VLOOKUP(CONCATENATE($U$10,\"_\",V18),選手名簿!$A:$E,5,FALSE))","v":""},null,null,null,null,null,null,null,{"$f":"IF(ISERROR(VLOOKUP(CONCATENATE($AC$10,\"_\",AB18),選手名簿!$A:$E,5,FALSE))=TRUE,\"\",VLOOKUP(CONCATENATE($AC$10,\"_\",AB18),選手名簿!$A:$E,5,FALSE))","v":""}]
[null,null,null,null,"得点者",{"$f":"IF(ISERROR(VLOOKUP(CONCATENATE($F$10,\"_\",G19),選手名簿!$A:$E,5,FALSE))=TRUE,\"\",VLOOKUP(CONCATENATE($F$10,\"_\",G19),選手名簿!$A:$E,5,FALSE))","v":""},null,null,null,null,null,null,null,{"$f":"IF(ISERROR(VLOOKUP(CONCATENATE($N$10,\"_\",M19),選手名簿!$A:$E,5,FALSE))=TRUE,\"\",VLOOKUP(CONCATENATE($N$10,\"_\",M19),選手名簿!$A:$E,5,FALSE))","v":""},null,null,null,null,null,"得点者",{"$f":"IF(ISERROR(VLOOKUP(CONCATENATE($U$10,\"_\",V19),選手名簿!$A:$E,5,FALSE))=TRUE,\"\",VLOOKUP(CONCATENATE($U$10,\"_\",V19),選手名簿!$A:$E,5,FALSE))","v":""},null,null,null,null,null,null,null,{"$f":"IF(ISERROR(VLOOKUP(CONCATENATE($AC$10,\"_\",AB19),選手名簿!$A:$E,5,FALSE))=TRUE,\"\",VLOOKUP(CONCATENATE($AC$10,\"_\",AB19),選手名簿!$A:$E,5,FALSE))","v":""}]
[null,null,null,null,"得点者",{"$f":"IF(ISERROR(VLOOKUP(CONCATENATE($F$10,\"_\",G20),選手名簿!$A:$E,5,FALSE))=TRUE,\"\",VLOOKUP(CONCATENATE($F$10,\"_\",G20),選手名簿!$A:$E,5,FALSE))","v":""},null,null,null,null,null,null,null,{"$f":"IF(ISERROR(VLOOKUP(CONCATENATE($N$10,\"_\",M20),選手名簿!$A:$E,5,FALSE))=TRUE,\"\",VLOOKUP(CONCATENATE($N$10,\"_\",M20),選手名簿!$A:$E,5,FALSE))","v":""},null,null,null,null,null,"得点者",{"$f":"IF(ISERROR(VLOOKUP(CONCATENATE($U$10,\"_\",V20),選手名簿!$A:$E,5,FALSE))=TRUE,\"\",VLOOKUP(CONCATENATE($U$10,\"_\",V20),選手名簿!$A:$E,5,FALSE))","v":""},null,null,null,null,null,null,null,{"$f":"IF(ISERROR(VLOOKUP(CONCATENATE($AC$10,\"_\",AB20),選手名簿!$A:$E,5,FALSE))=TRUE,\"\",VLOOKUP(CONCATENATE($AC$10,\"_\",AB20),選手名簿!$A:$E,5,FALSE))","v":""}]
[null,null,null,null,"得点者",{"$f":"IF(ISERROR(VLOOKUP(CONCATENATE($F$10,\"_\",G21),選手名簿!$A:$E,5,FALSE))=TRUE,\"\",VLOOKUP(CONCATENATE($F$10,\"_\",G21),選手名簿!$A:$E,5,FALSE))","v":""},null,null,null,null,null,null,null,{"$f":"IF(ISERROR(VLOOKUP(CONCATENATE($N$10,\"_\",M21),選手名簿!$A:$E,5,FALSE))=TRUE,\"\",VLOOKUP(CONCATENATE($N$10,\"_\",M21),選手名簿!$A:$E,5,FALSE))","v":""},null,null,null,null,null,"得点者",{"$f":"IF(ISERROR(VLOOKUP(CONCATENATE($U$10,\"_\",V21),選手名簿!$A:$E,5,FALSE))=TRUE,\"\",VLOOKUP(CONCATENATE($U$10,\"_\",V21),選手名簿!$A:$E,5,FALSE))","v":""},null,null,null,null,null,null,null,{"$f":"IF(ISERROR(VLOOKUP(CONCATENATE($AC$10,\"_\",AB21),選手名簿!$A:$E,5,FALSE))=TRUE,\"\",VLOOKUP(CONCATENATE($AC$10,\"_\",AB21),選手名簿!$A:$E,5,FALSE))","v":""}]
[null,null,null,null,"得点者",{"$f":"IF(ISERROR(VLOOKUP(CONCATENATE($F$10,\"_\",G22),選手名簿!$A:$E,5,FALSE))=TRUE,\"\",VLOOKUP(CONCATENATE($F$10,\"_\",G22),選手名簿!$A:$E,5,FALSE))","v":""},null,null,null,null,null,null,null,{"$f":"IF(ISERROR(VLOOKUP(CONCATENATE($N$10,\"_\",M22),選手名簿!$A:$E,5,FALSE))=TRUE,\"\",VLOOKUP(CONCATENATE($N$10,\"_\",M22),選手名簿!$A:$E,5,FALSE))","v":""},null,null,null,null,null,"得点者",{"$f":"IF(ISERROR(VLOOKUP(CONCATENATE($U$10,\"_\",V22),選手名簿!$A:$E,5,FALSE))=TRUE,\"\",VLOOKUP(CONCATENATE($U$10,\"_\",V22),選手名簿!$A:$E,5,FALSE))","v":""},null,null,null,null,null,null,null,{"$f":"IF(ISERROR(VLOOKUP(CONCATENATE($AC$10,\"_\",AB22),選手名簿!$A:$E,5,FALSE))=TRUE,\"\",VLOOKUP(CONCATENATE($AC$10,\"_\",AB22),選手名簿!$A:$E,5,FALSE))","v":""}]
[null,null,null,null,"得点者",{"$f":"IF(ISERROR(VLOOKUP(CONCATENATE($F$10,\"_\",G23),選手名簿!$A:$E,5,FALSE))=TRUE,\"\",VLOOKUP(CONCATENATE($F$10,\"_\",G23),選手名簿!$A:$E,5,FALSE))","v":""},null,null,null,null,null,null,null,{"$f":"IF(ISERROR(VLOOKUP(CONCATENATE($N$10,\"_\",M23),選手名簿!$A:$E,5,FALSE))=TRUE,\"\",VLOOKUP(CONCATENATE($N$10,\"_\",M23),選手名簿!$A:$E,5,FALSE))","v":""},null,null,null,null,null,"得点者",{"$f":"IF(ISERROR(VLOOKUP(CONCATENATE($U$10,\"_\",V23),選手名簿!$A:$E,5,FALSE))=TRUE,\"\",VLOOKUP(CONCATENATE($U$10,\"_\",V23),選手名簿!$A:$E,5,FALSE))","v":""},null,null,null,null,null,null,null,{"$f":"IF(ISERROR(VLOOKUP(CONCATENATE($AC$10,\"_\",AB23),選手名簿!$A:$E,5,FALSE))=TRUE,\"\",VLOOKUP(CONCATENATE($AC$10,\"_\",AB23),選手名簿!$A:$E,5,FALSE))","v":""}]
["番号","R001255616",null,null,"警告/退場",{"$f":"IF(ISERROR(VLOOKUP(CONCATENATE($F$10,\"_\",G24),選手名簿!$A:$E,5,FALSE))=TRUE,\"\",VLOOKUP(CONCATENATE($F$10,\"_\",G24),選手名簿!$A:$E,5,FALSE))","v":""},null,null,null,null,null,null,null,{"$f":"IF(ISERROR(VLOOKUP(CONCATENATE($N$10,\"_\",M24),選手名簿!$A:$E,5,FALSE))=TRUE,\"\",VLOOKUP(CONCATENATE($N$10,\"_\",M24),選手名簿!$A:$E,5,FALSE))","v":""},null,"番号","R009460551",null,null,"警告/退場",{"$f":"IF(ISERROR(VLOOKUP(CONCATENATE($U$10,\"_\",V24),選手名簿!$A:$E,5,FALSE))=TRUE,\"\",VLOOKUP(CONCATENATE($U$10,\"_\",V24),選手名簿!$A:$E,5,FALSE))","v":""},null,null,null,null,null,null,null,{"$f":"IF(ISERROR(VLOOKUP(CONCATENATE($AC$10,\"_\",AB24),選手名簿!$A:$E,5,FALSE))=TRUE,\"\",VLOOKUP(CONCATENATE($AC$10,\"_\",AB24),選手名簿!$A:$E,5,FALSE))","v":""}]
["R",{"$f":"IF(ISERROR(VLOOKUP(B24,審判員!$A:$C,2,FALSE))=TRUE,\"\",VLOOKUP(B24,審判員!$A:$C,2,FALSE))","v":"川井　勇介"},null,{"$f":"IF(ISERROR(VLOOKUP(B24,審判員!$A:$C,3,FALSE))=TRUE,\"\",VLOOKUP(B24,審判員!$A:$C,3,FALSE))","v":"３級"},"警告/退場",{"$f":"IF(ISERROR(VLOOKUP(CONCATENATE($F$10,\"_\",G25),選手名簿!$A:$E,5,FALSE))=TRUE,\"\",VLOOKUP(CONCATENATE($F$10,\"_\",G25),選手名簿!$A:$E,5,FALSE))","v":""},null,null,null,null,null,null,null,{"$f":"IF(ISERROR(VLOOKUP(CONCATENATE($N$10,\"_\",M25),選手名簿!$A:$E,5,FALSE))=TRUE,\"\",VLOOKUP(CONCATENATE($N$10,\"_\",M25),選手名簿!$A:$E,5,FALSE))","v":""},null,"R",{"$f":"IF(ISERROR(VLOOKUP(Q24,審判員!$A:$C,2,FALSE))=TRUE,\"\",VLOOKUP(Q24,審判員!$A:$C,2,FALSE))","v":"佐藤　慎二"},null,{"$f":"IF(ISERROR(VLOOKUP(Q24,審判員!$A:$C,3,FALSE))=TRUE,\"\",VLOOKUP(Q24,審判員!$A:$C,3,FALSE))","v":"３級"},"警告/退場",{"$f":"IF(ISERROR(VLOOKUP(CONCATENATE($U$10,\"_\",V25),選手名簿!$A:$E,5,FALSE))=TRUE,\"\",VLOOKUP(CONCATENATE($U$10,\"_\",V25),選手名簿!$A:$E,5,FALSE))","v":""},null,null,null,null,null,null,null,{"$f":"IF(ISERROR(VLOOKUP(CONCATENATE($AC$10,\"_\",AB25),選手名簿!$A:$E,5,FALSE))=TRUE,\"\",VLOOKUP(CONCATENATE($AC$10,\"_\",AB25),選手名簿!$A:$E,5,FALSE))","v":""}]
["番号","R010120117",null,null,"警告/退場",{"$f":"IF(ISERROR(VLOOKUP(CONCATENATE($F$10,\"_\",G26),選手名簿!$A:$E,5,FALSE))=TRUE,\"\",VLOOKUP(CONCATENATE($F$10,\"_\",G26),選手名簿!$A:$E,5,FALSE))","v":""},null,null,null,null,null,null,null,{"$f":"IF(ISERROR(VLOOKUP(CONCATENATE($N$10,\"_\",M26),選手名簿!$A:$E,5,FALSE))=TRUE,\"\",VLOOKUP(CONCATENATE($N$10,\"_\",M26),選手名簿!$A:$E,5,FALSE))","v":""},null,"番号","R001263350",null,null,"警告/退場",{"$f":"IF(ISERROR(VLOOKUP(CONCATENATE($U$10,\"_\",V26),選手名簿!$A:$E,5,FALSE))=TRUE,\"\",VLOOKUP(CONCATENATE($U$10,\"_\",V26),選手名簿!$A:$E,5,FALSE))","v":""},null,null,null,null,null,null,null,{"$f":"IF(ISERROR(VLOOKUP(CONCATENATE($AC$10,\"_\",AB26),選手名簿!$A:$E,5,FALSE))=TRUE,\"\",VLOOKUP(CONCATENATE($AC$10,\"_\",AB26),選手名簿!$A:$E,5,FALSE))","v":""}]
["AR1:",{"$f":"IF(ISERROR(VLOOKUP(B26,審判員!$A:$C,2,FALSE))=TRUE,\"\",VLOOKUP(B26,審判員!$A:$C,2,FALSE))","v":"寺次　良生"},null,{"$f":"IF(ISERROR(VLOOKUP(B26,審判員!$A:$C,3,FALSE))=TRUE,\"\",VLOOKUP(B26,審判員!$A:$C,3,FALSE))","v":"３級"},"警告/退場",{"$f":"IF(ISERROR(VLOOKUP(CONCATENATE($F$10,\"_\",G27),選手名簿!$A:$E,5,FALSE))=TRUE,\"\",VLOOKUP(CONCATENATE($F$10,\"_\",G27),選手名簿!$A:$E,5,FALSE))","v":""},null,null,null,null,null,null,null,{"$f":"IF(ISERROR(VLOOKUP(CONCATENATE($N$10,\"_\",M27),選手名簿!$A:$E,5,FALSE))=TRUE,\"\",VLOOKUP(CONCATENATE($N$10,\"_\",M27),選手名簿!$A:$E,5,FALSE))","v":""},null,"AR1:",{"$f":"IF(ISERROR(VLOOKUP(Q26,審判員!$A:$C,2,FALSE))=TRUE,\"\",VLOOKUP(Q26,審判員!$A:$C,2,FALSE))","v":"酒井　祐三"},null,{"$f":"IF(ISERROR(VLOOKUP(Q26,審判員!$A:$C,3,FALSE))=TRUE,\"\",VLOOKUP(Q26,審判員!$A:$C,3,FALSE))","v":"３級"},"警告/退場",{"$f":"IF(ISERROR(VLOOKUP(CONCATENATE($U$10,\"_\",V27),選手名簿!$A:$E,5,FALSE))=TRUE,\"\",VLOOKUP(CONCATENATE($U$10,\"_\",V27),選手名簿!$A:$E,5,FALSE))","v":""},null,null,null,null,null,null,null,{"$f":"IF(ISERROR(VLOOKUP(CONCATENATE($AC$10,\"_\",AB27),選手名簿!$A:$E,5,FALSE))=TRUE,\"\",VLOOKUP(CONCATENATE($AC$10,\"_\",AB27),選手名簿!$A:$E,5,FALSE))","v":""}]
["番号","R003677131",null,null,"警告/退場",{"$f":"IF(ISERROR(VLOOKUP(CONCATENATE($F$10,\"_\",G28),選手名簿!$A:$E,5,FALSE))=TRUE,\"\",VLOOKUP(CONCATENATE($F$10,\"_\",G28),選手名簿!$A:$E,5,FALSE))","v":""},null,null,null,null,null,null,null,{"$f":"IF(ISERROR(VLOOKUP(CONCATENATE($N$10,\"_\",M28),選手名簿!$A:$E,5,FALSE))=TRUE,\"\",VLOOKUP(CONCATENATE($N$10,\"_\",M28),選手名簿!$A:$E,5,FALSE))","v":""},null,"番号","R001261398",null,null,"警告/退場",{"$f":"IF(ISERROR(VLOOKUP(CONCATENATE($U$10,\"_\",V28),選手名簿!$A:$E,5,FALSE))=TRUE,\"\",VLOOKUP(CONCATENATE($U$10,\"_\",V28),選手名簿!$A:$E,5,FALSE))","v":""},null,null,null,null,null,null,null,{"$f":"IF(ISERROR(VLOOKUP(CONCATENATE($AC$10,\"_\",AB28),選手名簿!$A:$E,5,FALSE))=TRUE,\"\",VLOOKUP(CONCATENATE($AC$10,\"_\",AB28),選手名簿!$A:$E,5,FALSE))","v":""}]
["AR2:",{"$f":"IF(ISERROR(VLOOKUP(B28,審判員!$A:$C,2,FALSE))=TRUE,\"\",VLOOKUP(B28,審判員!$A:$C,2,FALSE))","v":"久保　雅敬"},null,{"$f":"IF(ISERROR(VLOOKUP(B28,審判員!$A:$C,3,FALSE))=TRUE,\"\",VLOOKUP(B28,審判員!$A:$C,3,FALSE))","v":"３級"},"警告/退場",{"$f":"IF(ISERROR(VLOOKUP(CONCATENATE($F$10,\"_\",G29),選手名簿!$A:$E,5,FALSE))=TRUE,\"\",VLOOKUP(CONCATENATE($F$10,\"_\",G29),選手名簿!$A:$E,5,FALSE))","v":""},null,null,null,null,null,null,null,{"$f":"IF(ISERROR(VLOOKUP(CONCATENATE($N$10,\"_\",M29),選手名簿!$A:$E,5,FALSE))=TRUE,\"\",VLOOKUP(CONCATENATE($N$10,\"_\",M29),選手名簿!$A:$E,5,FALSE))","v":""},null,"AR2:",{"$f":"IF(ISERROR(VLOOKUP(Q28,審判員!$A:$C,2,FALSE))=TRUE,\"\",VLOOKUP(Q28,審判員!$A:$C,2,FALSE))","v":"森山　信浩"},null,{"$f":"IF(ISERROR(VLOOKUP(Q28,審判員!$A:$C,3,FALSE))=TRUE,\"\",VLOOKUP(Q28,審判員!$A:$C,3,FALSE))","v":"３級"},"警告/退場",{"$f":"IF(ISERROR(VLOOKUP(CONCATENATE($U$10,\"_\",V29),選手名簿!$A:$E,5,FALSE))=TRUE,\"\",VLOOKUP(CONCATENATE($U$10,\"_\",V29),選手名簿!$A:$E,5,FALSE))","v":""},null,null,null,null,null,null,null,{"$f":"IF(ISERROR(VLOOKUP(CONCATENATE($AC$10,\"_\",AB29),選手名簿!$A:$E,5,FALSE))=TRUE,\"\",VLOOKUP(CONCATENATE($AC$10,\"_\",AB29),選手名簿!$A:$E,5,FALSE))","v":""}]
["番号","R005603486",null,null,"警告/退場",{"$f":"IF(ISERROR(VLOOKUP(CONCATENATE($F$10,\"_\",G30),選手名簿!$A:$E,5,FALSE))=TRUE,\"\",VLOOKUP(CONCATENATE($F$10,\"_\",G30),選手名簿!$A:$E,5,FALSE))","v":""},null,null,null,null,null,null,null,{"$f":"IF(ISERROR(VLOOKUP(CONCATENATE($N$10,\"_\",M30),選手名簿!$A:$E,5,FALSE))=TRUE,\"\",VLOOKUP(CONCATENATE($N$10,\"_\",M30),選手名簿!$A:$E,5,FALSE))","v":""},null,"番号","R001255616",null,null,"警告/退場",{"$f":"IF(ISERROR(VLOOKUP(CONCATENATE($U$10,\"_\",V30),選手名簿!$A:$E,5,FALSE))=TRUE,\"\",VLOOKUP(CONCATENATE($U$10,\"_\",V30),選手名簿!$A:$E,5,FALSE))","v":""},null,null,null,null,null,null,null,{"$f":"IF(ISERROR(VLOOKUP(CONCATENATE($AC$10,\"_\",AB30),選手名簿!$A:$E,5,FALSE))=TRUE,\"\",VLOOKUP(CONCATENATE($AC$10,\"_\",AB30),選手名簿!$A:$E,5,FALSE))","v":""}]
["4th:",{"$f":"IF(ISERROR(VLOOKUP(B30,審判員!$A:$C,2,FALSE))=TRUE,\"\",VLOOKUP(B30,審判員!$A:$C,2,FALSE))","v":"山本　篤"},null,{"$f":"IF(ISERROR(VLOOKUP(B30,審判員!$A:$C,3,FALSE))=TRUE,\"\",VLOOKUP(B30,審判員!$A:$C,3,FALSE))","v":"３級"},"警告/退場",{"$f":"IF(ISERROR(VLOOKUP(CONCATENATE($F$10,\"_\",G31),選手名簿!$A:$E,5,FALSE))=TRUE,\"\",VLOOKUP(CONCATENATE($F$10,\"_\",G31),選手名簿!$A:$E,5,FALSE))","v":""},null,null,null,null,null,null,null,{"$f":"IF(ISERROR(VLOOKUP(CONCATENATE($N$10,\"_\",M31),選手名簿!$A:$E,5,FALSE))=TRUE,\"\",VLOOKUP(CONCATENATE($N$10,\"_\",M31),選手名簿!$A:$E,5,FALSE))","v":""},null,"4th:",{"$f":"IF(ISERROR(VLOOKUP(Q30,審判員!$A:$C,2,FALSE))=TRUE,\"\",VLOOKUP(Q30,審判員!$A:$C,2,FALSE))","v":"川井　勇介"},null,{"$f":"IF(ISERROR(VLOOKUP(Q30,審判員!$A:$C,3,FALSE))=TRUE,\"\",VLOOKUP(Q30,審判員!$A:$C,3,FALSE))","v":"３級"},"警告/退場",{"$f":"IF(ISERROR(VLOOKUP(CONCATENATE($U$10,\"_\",V31),選手名簿!$A:$E,5,FALSE))=TRUE,\"\",VLOOKUP(CONCATENATE($U$10,\"_\",V31),選手名簿!$A:$E,5,FALSE))","v":""},null,null,null,null,null,null,null,{"$f":"IF(ISERROR(VLOOKUP(CONCATENATE($AC$10,\"_\",AB31),選手名簿!$A:$E,5,FALSE))=TRUE,\"\",VLOOKUP(CONCATENATE($AC$10,\"_\",AB31),選手名簿!$A:$E,5,FALSE))","v":""}]
[]
[]
[]
[]
[]
[]
[]
["MC","河野　千恵子",null,null,"12:30:00",{"$f":"F6","v":"由布川サッカースポーツ少年団"},{"$f":"SUM(I39:I40)","v":4},"（",1,"前半",0,"）",{"$f":"SUM(K39:K40)","v":0},{"$f":"F7","v":"スマイス・セレソン"},null,"MC","上野　貴士",null,null,"13:30:00",{"$f":"U6","v":"スマイス　セレソン　スポーツクラブ"},{"$f":"SUM(X39:X40)","v":3},"（",1,"前半",0,"）",{"$f":"SUM(Z39:Z40)","v":0},{"$f":"U7","v":"県央おおのＪＦＣ"}]
["Welfare\nOfficer","-",null,null,null,null,null,null,3,"後半",0,null,null,null,null,"Welfare\nOfficer","-",null,null,null,null,null,null,2,"後半",0]
["記録","中野　観司郎",null,null,null,null,null,null,null,"PK",null,null,null,null,null,"記録","毛藤　勇三",null,null,null,null,null,null,null,"PK"]
["＜Referee＞",null,null,null,null,"氏名","番号","分",null,null,null,"分","番号","氏名",null,"＜Referee＞",null,null,null,null,"氏名","番号","分",null,null,null,"分","番号","氏名"]
[null,null,null,null,"得点者",{"$f":"IF(ISERROR(VLOOKUP(CONCATENATE($F$39,\"_\",G43),選手名簿!$A:$E,5,FALSE))=TRUE,\"\",VLOOKUP(CONCATENATE($F$39,\"_\",G43),選手名簿!$A:$E,5,FALSE))","v":""},null,null,null,null,null,null,null,{"$f":"IF(ISERROR(VLOOKUP(CONCATENATE($N$39,\"_\",M43),選手名簿!$A:$E,5,FALSE))=TRUE,\"\",VLOOKUP(CONCATENATE($N$39,\"_\",M43),選手名簿!$A:$E,5,FALSE))","v":""},null,null,null,null,null,"得点者",{"$f":"IF(ISERROR(VLOOKUP(CONCATENATE($U$39,\"_\",V43),選手名簿!$A:$E,5,FALSE))=TRUE,\"\",VLOOKUP(CONCATENATE($U$39,\"_\",V43),選手名簿!$A:$E,5,FALSE))","v":""},null,null,null,null,null,null,null,{"$f":"IF(ISERROR(VLOOKUP(CONCATENATE($AC$39,\"_\",AB43),選手名簿!$A:$E,5,FALSE))=TRUE,\"\",VLOOKUP(CONCATENATE($AC$39,\"_\",AB43),選手名簿!$A:$E,5,FALSE))","v":""}]
[null,null,null,null,"得点者",{"$f":"IF(ISERROR(VLOOKUP(CONCATENATE($F$39,\"_\",G44),選手名簿!$A:$E,5,FALSE))=TRUE,\"\",VLOOKUP(CONCATENATE($F$39,\"_\",G44),選手名簿!$A:$E,5,FALSE))","v":""},null,null,null,null,null,null,null,{"$f":"IF(ISERROR(VLOOKUP(CONCATENATE($N$39,\"_\",M44),選手名簿!$A:$E,5,FALSE))=TRUE,\"\",VLOOKUP(CONCATENATE($N$39,\"_\",M44),選手名簿!$A:$E,5,FALSE))","v":""},null,null,null,null,null,"得点者",{"$f":"IF(ISERROR(VLOOKUP(CONCATENATE($U$39,\"_\",V44),選手名簿!$A:$E,5,FALSE))=TRUE,\"\",VLOOKUP(CONCATENATE($U$39,\"_\",V44),選手名簿!$A:$E,5,FALSE))","v":""},null,null,null,null,null,null,null,{"$f":"IF(ISERROR(VLOOKUP(CONCATENATE($AC$39,\"_\",AB44),選手名簿!$A:$E,5,FALSE))=TRUE,\"\",VLOOKUP(CONCATENATE($AC$39,\"_\",AB44),選手名簿!$A:$E,5,FALSE))","v":""}]
[null,null,null,null,"得点者",{"$f":"IF(ISERROR(VLOOKUP(CONCATENATE($F$39,\"_\",G45),選手名簿!$A:$E,5,FALSE))=TRUE,\"\",VLOOKUP(CONCATENATE($F$39,\"_\",G45),選手名簿!$A:$E,5,FALSE))","v":""},null,null,null,null,null,null,null,{"$f":"IF(ISERROR(VLOOKUP(CONCATENATE($N$39,\"_\",M45),選手名簿!$A:$E,5,FALSE))=TRUE,\"\",VLOOKUP(CONCATENATE($N$39,\"_\",M45),選手名簿!$A:$E,5,FALSE))","v":""},null,null,null,null,null,"得点者",{"$f":"IF(ISERROR(VLOOKUP(CONCATENATE($U$39,\"_\",V45),選手名簿!$A:$E,5,FALSE))=TRUE,\"\",VLOOKUP(CONCATENATE($U$39,\"_\",V45),選手名簿!$A:$E,5,FALSE))","v":""},null,null,null,null,null,null,null,{"$f":"IF(ISERROR(VLOOKUP(CONCATENATE($AC$39,\"_\",AB45),選手名簿!$A:$E,5,FALSE))=TRUE,\"\",VLOOKUP(CONCATENATE($AC$39,\"_\",AB45),選手名簿!$A:$E,5,FALSE))","v":""}]
[null,null,null,null,"得点者",{"$f":"IF(ISERROR(VLOOKUP(CONCATENATE($F$39,\"_\",G46),選手名簿!$A:$E,5,FALSE))=TRUE,\"\",VLOOKUP(CONCATENATE($F$39,\"_\",G46),選手名簿!$A:$E,5,FALSE))","v":""},null,null,null,null,null,null,null,{"$f":"IF(ISERROR(VLOOKUP(CONCATENATE($N$39,\"_\",M46),選手名簿!$A:$E,5,FALSE))=TRUE,\"\",VLOOKUP(CONCATENATE($N$39,\"_\",M46),選手名簿!$A:$E,5,FALSE))","v":""},null,null,null,null,null,"得点者",{"$f":"IF(ISERROR(VLOOKUP(CONCATENATE($U$39,\"_\",V46),選手名簿!$A:$E,5,FALSE))=TRUE,\"\",VLOOKUP(CONCATENATE($U$39,\"_\",V46),選手名簿!$A:$E,5,FALSE))","v":""},null,null,null,null,null,null,null,{"$f":"IF(ISERROR(VLOOKUP(CONCATENATE($AC$39,\"_\",AB46),選手名簿!$A:$E,5,FALSE))=TRUE,\"\",VLOOKUP(CONCATENATE($AC$39,\"_\",AB46),選手名簿!$A:$E,5,FALSE))","v":""}]
[null,null,null,null,"得点者",{"$f":"IF(ISERROR(VLOOKUP(CONCATENATE($F$39,\"_\",G47),選手名簿!$A:$E,5,FALSE))=TRUE,\"\",VLOOKUP(CONCATENATE($F$39,\"_\",G47),選手名簿!$A:$E,5,FALSE))","v":""},null,null,null,null,null,null,null,{"$f":"IF(ISERROR(VLOOKUP(CONCATENATE($N$39,\"_\",M47),選手名簿!$A:$E,5,FALSE))=TRUE,\"\",VLOOKUP(CONCATENATE($N$39,\"_\",M47),選手名簿!$A:$E,5,FALSE))","v":""},null,null,null,null,null,"得点者",{"$f":"IF(ISERROR(VLOOKUP(CONCATENATE($U$39,\"_\",V47),選手名簿!$A:$E,5,FALSE))=TRUE,\"\",VLOOKUP(CONCATENATE($U$39,\"_\",V47),選手名簿!$A:$E,5,FALSE))","v":""},null,null,null,null,null,null,null,{"$f":"IF(ISERROR(VLOOKUP(CONCATENATE($AC$39,\"_\",AB47),選手名簿!$A:$E,5,FALSE))=TRUE,\"\",VLOOKUP(CONCATENATE($AC$39,\"_\",AB47),選手名簿!$A:$E,5,FALSE))","v":""}]
[null,null,null,null,"得点者",{"$f":"IF(ISERROR(VLOOKUP(CONCATENATE($F$39,\"_\",G48),選手名簿!$A:$E,5,FALSE))=TRUE,\"\",VLOOKUP(CONCATENATE($F$39,\"_\",G48),選手名簿!$A:$E,5,FALSE))","v":""},null,null,null,null,null,null,null,{"$f":"IF(ISERROR(VLOOKUP(CONCATENATE($N$39,\"_\",M48),選手名簿!$A:$E,5,FALSE))=TRUE,\"\",VLOOKUP(CONCATENATE($N$39,\"_\",M48),選手名簿!$A:$E,5,FALSE))","v":""},null,null,null,null,null,"得点者",{"$f":"IF(ISERROR(VLOOKUP(CONCATENATE($U$39,\"_\",V48),選手名簿!$A:$E,5,FALSE))=TRUE,\"\",VLOOKUP(CONCATENATE($U$39,\"_\",V48),選手名簿!$A:$E,5,FALSE))","v":""},null,null,null,null,null,null,null,{"$f":"IF(ISERROR(VLOOKUP(CONCATENATE($AC$39,\"_\",AB48),選手名簿!$A:$E,5,FALSE))=TRUE,\"\",VLOOKUP(CONCATENATE($AC$39,\"_\",AB48),選手名簿!$A:$E,5,FALSE))","v":""}]
[null,null,null,null,"得点者",{"$f":"IF(ISERROR(VLOOKUP(CONCATENATE($F$39,\"_\",G49),選手名簿!$A:$E,5,FALSE))=TRUE,\"\",VLOOKUP(CONCATENATE($F$39,\"_\",G49),選手名簿!$A:$E,5,FALSE))","v":""},null,null,null,null,null,null,null,{"$f":"IF(ISERROR(VLOOKUP(CONCATENATE($N$39,\"_\",M49),選手名簿!$A:$E,5,FALSE))=TRUE,\"\",VLOOKUP(CONCATENATE($N$39,\"_\",M49),選手名簿!$A:$E,5,FALSE))","v":""},null,null,null,null,null,"得点者",{"$f":"IF(ISERROR(VLOOKUP(CONCATENATE($U$39,\"_\",V49),選手名簿!$A:$E,5,FALSE))=TRUE,\"\",VLOOKUP(CONCATENATE($U$39,\"_\",V49),選手名簿!$A:$E,5,FALSE))","v":""},null,null,null,null,null,null,null,{"$f":"IF(ISERROR(VLOOKUP(CONCATENATE($AC$39,\"_\",AB49),選手名簿!$A:$E,5,FALSE))=TRUE,\"\",VLOOKUP(CONCATENATE($AC$39,\"_\",AB49),選手名簿!$A:$E,5,FALSE))","v":""}]
[null,null,null,null,"得点者",{"$f":"IF(ISERROR(VLOOKUP(CONCATENATE($F$39,\"_\",G50),選手名簿!$A:$E,5,FALSE))=TRUE,\"\",VLOOKUP(CONCATENATE($F$39,\"_\",G50),選手名簿!$A:$E,5,FALSE))","v":""},null,null,null,null,null,null,null,{"$f":"IF(ISERROR(VLOOKUP(CONCATENATE($N$39,\"_\",M50),選手名簿!$A:$E,5,FALSE))=TRUE,\"\",VLOOKUP(CONCATENATE($N$39,\"_\",M50),選手名簿!$A:$E,5,FALSE))","v":""},null,null,null,null,null,"得点者",{"$f":"IF(ISERROR(VLOOKUP(CONCATENATE($U$39,\"_\",V50),選手名簿!$A:$E,5,FALSE))=TRUE,\"\",VLOOKUP(CONCATENATE($U$39,\"_\",V50),選手名簿!$A:$E,5,FALSE))","v":""},null,null,null,null,null,null,null,{"$f":"IF(ISERROR(VLOOKUP(CONCATENATE($AC$39,\"_\",AB50),選手名簿!$A:$E,5,FALSE))=TRUE,\"\",VLOOKUP(CONCATENATE($AC$39,\"_\",AB50),選手名簿!$A:$E,5,FALSE))","v":""}]
[null,null,null,null,"得点者",{"$f":"IF(ISERROR(VLOOKUP(CONCATENATE($F$39,\"_\",G51),選手名簿!$A:$E,5,FALSE))=TRUE,\"\",VLOOKUP(CONCATENATE($F$39,\"_\",G51),選手名簿!$A:$E,5,FALSE))","v":""},null,null,null,null,null,null,null,{"$f":"IF(ISERROR(VLOOKUP(CONCATENATE($N$39,\"_\",M51),選手名簿!$A:$E,5,FALSE))=TRUE,\"\",VLOOKUP(CONCATENATE($N$39,\"_\",M51),選手名簿!$A:$E,5,FALSE))","v":""},null,null,null,null,null,"得点者",{"$f":"IF(ISERROR(VLOOKUP(CONCATENATE($U$39,\"_\",V51),選手名簿!$A:$E,5,FALSE))=TRUE,\"\",VLOOKUP(CONCATENATE($U$39,\"_\",V51),選手名簿!$A:$E,5,FALSE))","v":""},null,null,null,null,null,null,null,{"$f":"IF(ISERROR(VLOOKUP(CONCATENATE($AC$39,\"_\",AB51),選手名簿!$A:$E,5,FALSE))=TRUE,\"\",VLOOKUP(CONCATENATE($AC$39,\"_\",AB51),選手名簿!$A:$E,5,FALSE))","v":""}]
[null,null,null,null,"得点者",{"$f":"IF(ISERROR(VLOOKUP(CONCATENATE($F$39,\"_\",G52),選手名簿!$A:$E,5,FALSE))=TRUE,\"\",VLOOKUP(CONCATENATE($F$39,\"_\",G52),選手名簿!$A:$E,5,FALSE))","v":""},null,null,null,null,null,null,null,{"$f":"IF(ISERROR(VLOOKUP(CONCATENATE($N$39,\"_\",M52),選手名簿!$A:$E,5,FALSE))=TRUE,\"\",VLOOKUP(CONCATENATE($N$39,\"_\",M52),選手名簿!$A:$E,5,FALSE))","v":""},null,null,null,null,null,"得点者",{"$f":"IF(ISERROR(VLOOKUP(CONCATENATE($U$39,\"_\",V52),選手名簿!$A:$E,5,FALSE))=TRUE,\"\",VLOOKUP(CONCATENATE($U$39,\"_\",V52),選手名簿!$A:$E,5,FALSE))","v":""},null,null,null,null,null,null,null,{"$f":"IF(ISERROR(VLOOKUP(CONCATENATE($AC$39,\"_\",AB52),選手名簿!$A:$E,5,FALSE))=TRUE,\"\",VLOOKUP(CONCATENATE($AC$39,\"_\",AB52),選手名簿!$A:$E,5,FALSE))","v":""}]
["番号","R005603486",null,null,"警告/退場",{"$f":"IF(ISERROR(VLOOKUP(CONCATENATE($F$39,\"_\",G53),選手名簿!$A:$E,5,FALSE))=TRUE,\"\",VLOOKUP(CONCATENATE($F$39,\"_\",G53),選手名簿!$A:$E,5,FALSE))","v":""},null,null,null,null,null,null,null,{"$f":"IF(ISERROR(VLOOKUP(CONCATENATE($N$39,\"_\",M53),選手名簿!$A:$E,5,FALSE))=TRUE,\"\",VLOOKUP(CONCATENATE($N$39,\"_\",M53),選手名簿!$A:$E,5,FALSE))","v":""},null,"番号","R001255616",null,null,"警告/退場",{"$f":"IF(ISERROR(VLOOKUP(CONCATENATE($U$39,\"_\",V53),選手名簿!$A:$E,5,FALSE))=TRUE,\"\",VLOOKUP(CONCATENATE($U$39,\"_\",V53),選手名簿!$A:$E,5,FALSE))","v":""},null,null,null,null,null,null,null,{"$f":"IF(ISERROR(VLOOKUP(CONCATENATE($AC$39,\"_\",AB53),選手名簿!$A:$E,5,FALSE))=TRUE,\"\",VLOOKUP(CONCATENATE($AC$39,\"_\",AB53),選手名簿!$A:$E,5,FALSE))","v":""}]
["R",{"$f":"IF(ISERROR(VLOOKUP(B53,審判員!$A:$C,2,FALSE))=TRUE,\"\",VLOOKUP(B53,審判員!$A:$C,2,FALSE))","v":"山本　篤"},null,{"$f":"IF(ISERROR(VLOOKUP(B53,審判員!$A:$C,3,FALSE))=TRUE,\"\",VLOOKUP(B53,審判員!$A:$C,3,FALSE))","v":"３級"},"警告/退場",{"$f":"IF(ISERROR(VLOOKUP(CONCATENATE($F$39,\"_\",G54),選手名簿!$A:$E,5,FALSE))=TRUE,\"\",VLOOKUP(CONCATENATE($F$39,\"_\",G54),選手名簿!$A:$E,5,FALSE))","v":""},null,null,null,null,null,null,null,{"$f":"IF(ISERROR(VLOOKUP(CONCATENATE($N$39,\"_\",M54),選手名簿!$A:$E,5,FALSE))=TRUE,\"\",VLOOKUP(CONCATENATE($N$39,\"_\",M54),選手名簿!$A:$E,5,FALSE))","v":""},null,"R",{"$f":"IF(ISERROR(VLOOKUP(Q53,審判員!$A:$C,2,FALSE))=TRUE,\"\",VLOOKUP(Q53,審判員!$A:$C,2,FALSE))","v":"川井　勇介"},null,{"$f":"IF(ISERROR(VLOOKUP(Q53,審判員!$A:$C,3,FALSE))=TRUE,\"\",VLOOKUP(Q53,審判員!$A:$C,3,FALSE))","v":"３級"},"警告/退場",{"$f":"IF(ISERROR(VLOOKUP(CONCATENATE($U$39,\"_\",V54),選手名簿!$A:$E,5,FALSE))=TRUE,\"\",VLOOKUP(CONCATENATE($U$39,\"_\",V54),選手名簿!$A:$E,5,FALSE))","v":""},null,null,null,null,null,null,null,{"$f":"IF(ISERROR(VLOOKUP(CONCATENATE($AC$39,\"_\",AB54),選手名簿!$A:$E,5,FALSE))=TRUE,\"\",VLOOKUP(CONCATENATE($AC$39,\"_\",AB54),選手名簿!$A:$E,5,FALSE))","v":""}]
["番号","R003677131",null,null,"警告/退場",{"$f":"IF(ISERROR(VLOOKUP(CONCATENATE($F$39,\"_\",G55),選手名簿!$A:$E,5,FALSE))=TRUE,\"\",VLOOKUP(CONCATENATE($F$39,\"_\",G55),選手名簿!$A:$E,5,FALSE))","v":""},null,null,null,null,null,null,null,{"$f":"IF(ISERROR(VLOOKUP(CONCATENATE($N$39,\"_\",M55),選手名簿!$A:$E,5,FALSE))=TRUE,\"\",VLOOKUP(CONCATENATE($N$39,\"_\",M55),選手名簿!$A:$E,5,FALSE))","v":""},null,"番号","R001261398",null,null,"警告/退場",{"$f":"IF(ISERROR(VLOOKUP(CONCATENATE($U$39,\"_\",V55),選手名簿!$A:$E,5,FALSE))=TRUE,\"\",VLOOKUP(CONCATENATE($U$39,\"_\",V55),選手名簿!$A:$E,5,FALSE))","v":""},null,null,null,null,null,null,null,{"$f":"IF(ISERROR(VLOOKUP(CONCATENATE($AC$39,\"_\",AB55),選手名簿!$A:$E,5,FALSE))=TRUE,\"\",VLOOKUP(CONCATENATE($AC$39,\"_\",AB55),選手名簿!$A:$E,5,FALSE))","v":""}]
["AR1:",{"$f":"IF(ISERROR(VLOOKUP(B55,審判員!$A:$C,2,FALSE))=TRUE,\"\",VLOOKUP(B55,審判員!$A:$C,2,FALSE))","v":"久保　雅敬"},null,{"$f":"IF(ISERROR(VLOOKUP(B55,審判員!$A:$C,3,FALSE))=TRUE,\"\",VLOOKUP(B55,審判員!$A:$C,3,FALSE))","v":"３級"},"警告/退場",{"$f":"IF(ISERROR(VLOOKUP(CONCATENATE($F$39,\"_\",G56),選手名簿!$A:$E,5,FALSE))=TRUE,\"\",VLOOKUP(CONCATENATE($F$39,\"_\",G56),選手名簿!$A:$E,5,FALSE))","v":""},null,null,null,null,null,null,null,{"$f":"IF(ISERROR(VLOOKUP(CONCATENATE($N$39,\"_\",M56),選手名簿!$A:$E,5,FALSE))=TRUE,\"\",VLOOKUP(CONCATENATE($N$39,\"_\",M56),選手名簿!$A:$E,5,FALSE))","v":""},null,"AR1:",{"$f":"IF(ISERROR(VLOOKUP(Q55,審判員!$A:$C,2,FALSE))=TRUE,\"\",VLOOKUP(Q55,審判員!$A:$C,2,FALSE))","v":"森山　信浩"},null,{"$f":"IF(ISERROR(VLOOKUP(Q55,審判員!$A:$C,3,FALSE))=TRUE,\"\",VLOOKUP(Q55,審判員!$A:$C,3,FALSE))","v":"３級"},"警告/退場",{"$f":"IF(ISERROR(VLOOKUP(CONCATENATE($U$39,\"_\",V56),選手名簿!$A:$E,5,FALSE))=TRUE,\"\",VLOOKUP(CONCATENATE($U$39,\"_\",V56),選手名簿!$A:$E,5,FALSE))","v":""},null,null,null,null,null,null,null,{"$f":"IF(ISERROR(VLOOKUP(CONCATENATE($AC$39,\"_\",AB56),選手名簿!$A:$E,5,FALSE))=TRUE,\"\",VLOOKUP(CONCATENATE($AC$39,\"_\",AB56),選手名簿!$A:$E,5,FALSE))","v":""}]
["番号","R005164358",null,null,"警告/退場",{"$f":"IF(ISERROR(VLOOKUP(CONCATENATE($F$39,\"_\",G57),選手名簿!$A:$E,5,FALSE))=TRUE,\"\",VLOOKUP(CONCATENATE($F$39,\"_\",G57),選手名簿!$A:$E,5,FALSE))","v":""},null,null,null,null,null,null,null,{"$f":"IF(ISERROR(VLOOKUP(CONCATENATE($N$39,\"_\",M57),選手名簿!$A:$E,5,FALSE))=TRUE,\"\",VLOOKUP(CONCATENATE($N$39,\"_\",M57),選手名簿!$A:$E,5,FALSE))","v":""},null,"番号","R004326535",null,null,"警告/退場",{"$f":"IF(ISERROR(VLOOKUP(CONCATENATE($U$39,\"_\",V57),選手名簿!$A:$E,5,FALSE))=TRUE,\"\",VLOOKUP(CONCATENATE($U$39,\"_\",V57),選手名簿!$A:$E,5,FALSE))","v":""},null,null,null,null,null,null,null,{"$f":"IF(ISERROR(VLOOKUP(CONCATENATE($AC$39,\"_\",AB57),選手名簿!$A:$E,5,FALSE))=TRUE,\"\",VLOOKUP(CONCATENATE($AC$39,\"_\",AB57),選手名簿!$A:$E,5,FALSE))","v":""}]
["AR2:",{"$f":"IF(ISERROR(VLOOKUP(B57,審判員!$A:$C,2,FALSE))=TRUE,\"\",VLOOKUP(B57,審判員!$A:$C,2,FALSE))","v":"山宮　俊寛"},null,{"$f":"IF(ISERROR(VLOOKUP(B57,審判員!$A:$C,3,FALSE))=TRUE,\"\",VLOOKUP(B57,審判員!$A:$C,3,FALSE))","v":"３級"},"警告/退場",{"$f":"IF(ISERROR(VLOOKUP(CONCATENATE($F$39,\"_\",G58),選手名簿!$A:$E,5,FALSE))=TRUE,\"\",VLOOKUP(CONCATENATE($F$39,\"_\",G58),選手名簿!$A:$E,5,FALSE))","v":""},null,null,null,null,null,null,null,{"$f":"IF(ISERROR(VLOOKUP(CONCATENATE($N$39,\"_\",M58),選手名簿!$A:$E,5,FALSE))=TRUE,\"\",VLOOKUP(CONCATENATE($N$39,\"_\",M58),選手名簿!$A:$E,5,FALSE))","v":""},null,"AR2:",{"$f":"IF(ISERROR(VLOOKUP(Q57,審判員!$A:$C,2,FALSE))=TRUE,\"\",VLOOKUP(Q57,審判員!$A:$C,2,FALSE))","v":"信田　卓也"},null,{"$f":"IF(ISERROR(VLOOKUP(Q57,審判員!$A:$C,3,FALSE))=TRUE,\"\",VLOOKUP(Q57,審判員!$A:$C,3,FALSE))","v":"３級"},"警告/退場",{"$f":"IF(ISERROR(VLOOKUP(CONCATENATE($U$39,\"_\",V58),選手名簿!$A:$E,5,FALSE))=TRUE,\"\",VLOOKUP(CONCATENATE($U$39,\"_\",V58),選手名簿!$A:$E,5,FALSE))","v":""},null,null,null,null,null,null,null,{"$f":"IF(ISERROR(VLOOKUP(CONCATENATE($AC$39,\"_\",AB58),選手名簿!$A:$E,5,FALSE))=TRUE,\"\",VLOOKUP(CONCATENATE($AC$39,\"_\",AB58),選手名簿!$A:$E,5,FALSE))","v":""}]
["番号","R009460551",null,null,"警告/退場",{"$f":"IF(ISERROR(VLOOKUP(CONCATENATE($F$39,\"_\",G59),選手名簿!$A:$E,5,FALSE))=TRUE,\"\",VLOOKUP(CONCATENATE($F$39,\"_\",G59),選手名簿!$A:$E,5,FALSE))","v":""},null,null,null,null,null,null,null,{"$f":"IF(ISERROR(VLOOKUP(CONCATENATE($N$39,\"_\",M59),選手名簿!$A:$E,5,FALSE))=TRUE,\"\",VLOOKUP(CONCATENATE($N$39,\"_\",M59),選手名簿!$A:$E,5,FALSE))","v":""},null,"番号","R005603486",null,null,"警告/退場",{"$f":"IF(ISERROR(VLOOKUP(CONCATENATE($U$39,\"_\",V59),選手名簿!$A:$E,5,FALSE))=TRUE,\"\",VLOOKUP(CONCATENATE($U$39,\"_\",V59),選手名簿!$A:$E,5,FALSE))","v":""},null,null,null,null,null,null,null,{"$f":"IF(ISERROR(VLOOKUP(CONCATENATE($AC$39,\"_\",AB59),選手名簿!$A:$E,5,FALSE))=TRUE,\"\",VLOOKUP(CONCATENATE($AC$39,\"_\",AB59),選手名簿!$A:$E,5,FALSE))","v":""}]
["4th:",{"$f":"IF(ISERROR(VLOOKUP(B59,審判員!$A:$C,2,FALSE))=TRUE,\"\",VLOOKUP(B59,審判員!$A:$C,2,FALSE))","v":"佐藤　慎二"},null,{"$f":"IF(ISERROR(VLOOKUP(B59,審判員!$A:$C,3,FALSE))=TRUE,\"\",VLOOKUP(B59,審判員!$A:$C,3,FALSE))","v":"３級"},"警告/退場",{"$f":"IF(ISERROR(VLOOKUP(CONCATENATE($F$39,\"_\",G60),選手名簿!$A:$E,5,FALSE))=TRUE,\"\",VLOOKUP(CONCATENATE($F$39,\"_\",G60),選手名簿!$A:$E,5,FALSE))","v":""},null,null,null,null,null,null,null,{"$f":"IF(ISERROR(VLOOKUP(CONCATENATE($N$39,\"_\",M60),選手名簿!$A:$E,5,FALSE))=TRUE,\"\",VLOOKUP(CONCATENATE($N$39,\"_\",M60),選手名簿!$A:$E,5,FALSE))","v":""},null,"4th:",{"$f":"IF(ISERROR(VLOOKUP(Q59,審判員!$A:$C,2,FALSE))=TRUE,\"\",VLOOKUP(Q59,審判員!$A:$C,2,FALSE))","v":"山本　篤"},null,{"$f":"IF(ISERROR(VLOOKUP(Q59,審判員!$A:$C,3,FALSE))=TRUE,\"\",VLOOKUP(Q59,審判員!$A:$C,3,FALSE))","v":"３級"},"警告/退場",{"$f":"IF(ISERROR(VLOOKUP(CONCATENATE($U$39,\"_\",V60),選手名簿!$A:$E,5,FALSE))=TRUE,\"\",VLOOKUP(CONCATENATE($U$39,\"_\",V60),選手名簿!$A:$E,5,FALSE))","v":""},null,null,null,null,null,null,null,{"$f":"IF(ISERROR(VLOOKUP(CONCATENATE($AC$39,\"_\",AB60),選手名簿!$A:$E,5,FALSE))=TRUE,\"\",VLOOKUP(CONCATENATE($AC$39,\"_\",AB60),選手名簿!$A:$E,5,FALSE))","v":""}]
[]
[]
[]
[]
[]
[]
[]
["MC","中野　観司郎",null,null,"14:30:00",{"$f":"F7","v":"スマイス・セレソン"},{"$f":"SUM(I68:I69)","v":0},"（",0,"前半",3,"）",{"$f":"SUM(K68:K69)","v":5},{"$f":"F5","v":"ドリームキッズフットボールクラブ"},null,"MC","毛藤　勇三",null,null,"15:30:00",{"$f":"U7","v":"県央おおのＪＦＣ"},{"$f":"SUM(X68:X69)","v":4},"（",2,"前半",0,"）",{"$f":"SUM(Z68:Z69)","v":1},{"$f":"U5","v":"きつきＦＣ"}]
["Welfare\nOfficer","-",null,null,null,null,null,null,0,"後半",2,null,null,null,null,"Welfare\nOfficer","-",null,null,null,null,null,null,2,"後半",1]
["記録","河野　千恵子",null,null,null,null,null,null,null,"PK",null,null,null,null,null,"記録","上野　貴士",null,null,null,null,null,null,null,"PK"]
["＜Referee＞",null,null,null,null,"氏名","番号","分",null,null,null,"分","番号","氏名",null,"＜Referee＞",null,null,null,null,"氏名","番号","分",null,null,null,"分","番号","氏名"]
[null,null,null,null,"得点者",{"$f":"IF(ISERROR(VLOOKUP(CONCATENATE($F$68,\"_\",G72),選手名簿!$A:$E,5,FALSE))=TRUE,\"\",VLOOKUP(CONCATENATE($F$68,\"_\",G72),選手名簿!$A:$E,5,FALSE))","v":""},null,null,null,null,null,null,null,{"$f":"IF(ISERROR(VLOOKUP(CONCATENATE($N$68,\"_\",M72),選手名簿!$A:$E,5,FALSE))=TRUE,\"\",VLOOKUP(CONCATENATE($N$68,\"_\",M72),選手名簿!$A:$E,5,FALSE))","v":""},null,null,null,null,null,"得点者",{"$f":"IF(ISERROR(VLOOKUP(CONCATENATE($U$68,\"_\",V72),選手名簿!$A:$E,5,FALSE))=TRUE,\"\",VLOOKUP(CONCATENATE($U$68,\"_\",V72),選手名簿!$A:$E,5,FALSE))","v":""},null,null,null,null,null,null,null,{"$f":"IF(ISERROR(VLOOKUP(CONCATENATE($AC$68,\"_\",AB72),選手名簿!$A:$E,5,FALSE))=TRUE,\"\",VLOOKUP(CONCATENATE($AC$68,\"_\",AB72),選手名簿!$A:$E,5,FALSE))","v":""}]
[null,null,null,null,"得点者",{"$f":"IF(ISERROR(VLOOKUP(CONCATENATE($F$68,\"_\",G73),選手名簿!$A:$E,5,FALSE))=TRUE,\"\",VLOOKUP(CONCATENATE($F$68,\"_\",G73),選手名簿!$A:$E,5,FALSE))","v":""},null,null,null,null,null,null,null,{"$f":"IF(ISERROR(VLOOKUP(CONCATENATE($N$68,\"_\",M73),選手名簿!$A:$E,5,FALSE))=TRUE,\"\",VLOOKUP(CONCATENATE($N$68,\"_\",M73),選手名簿!$A:$E,5,FALSE))","v":""},null,null,null,null,null,"得点者",{"$f":"IF(ISERROR(VLOOKUP(CONCATENATE($U$68,\"_\",V73),選手名簿!$A:$E,5,FALSE))=TRUE,\"\",VLOOKUP(CONCATENATE($U$68,\"_\",V73),選手名簿!$A:$E,5,FALSE))","v":""},null,null,null,null,null,null,null,{"$f":"IF(ISERROR(VLOOKUP(CONCATENATE($AC$68,\"_\",AB73),選手名簿!$A:$E,5,FALSE))=TRUE,\"\",VLOOKUP(CONCATENATE($AC$68,\"_\",AB73),選手名簿!$A:$E,5,FALSE))","v":""}]
[null,null,null,null,"得点者",{"$f":"IF(ISERROR(VLOOKUP(CONCATENATE($F$68,\"_\",G74),選手名簿!$A:$E,5,FALSE))=TRUE,\"\",VLOOKUP(CONCATENATE($F$68,\"_\",G74),選手名簿!$A:$E,5,FALSE))","v":""},null,null,null,null,null,null,null,{"$f":"IF(ISERROR(VLOOKUP(CONCATENATE($N$68,\"_\",M74),選手名簿!$A:$E,5,FALSE))=TRUE,\"\",VLOOKUP(CONCATENATE($N$68,\"_\",M74),選手名簿!$A:$E,5,FALSE))","v":""},null,null,null,null,null,"得点者",{"$f":"IF(ISERROR(VLOOKUP(CONCATENATE($U$68,\"_\",V74),選手名簿!$A:$E,5,FALSE))=TRUE,\"\",VLOOKUP(CONCATENATE($U$68,\"_\",V74),選手名簿!$A:$E,5,FALSE))","v":""},null,null,null,null,null,null,null,{"$f":"IF(ISERROR(VLOOKUP(CONCATENATE($AC$68,\"_\",AB74),選手名簿!$A:$E,5,FALSE))=TRUE,\"\",VLOOKUP(CONCATENATE($AC$68,\"_\",AB74),選手名簿!$A:$E,5,FALSE))","v":""}]
[null,null,null,null,"得点者",{"$f":"IF(ISERROR(VLOOKUP(CONCATENATE($F$68,\"_\",G75),選手名簿!$A:$E,5,FALSE))=TRUE,\"\",VLOOKUP(CONCATENATE($F$68,\"_\",G75),選手名簿!$A:$E,5,FALSE))","v":""},null,null,null,null,null,null,null,{"$f":"IF(ISERROR(VLOOKUP(CONCATENATE($N$68,\"_\",M75),選手名簿!$A:$E,5,FALSE))=TRUE,\"\",VLOOKUP(CONCATENATE($N$68,\"_\",M75),選手名簿!$A:$E,5,FALSE))","v":""},null,null,null,null,null,"得点者",{"$f":"IF(ISERROR(VLOOKUP(CONCATENATE($U$68,\"_\",V75),選手名簿!$A:$E,5,FALSE))=TRUE,\"\",VLOOKUP(CONCATENATE($U$68,\"_\",V75),選手名簿!$A:$E,5,FALSE))","v":""},null,null,null,null,null,null,null,{"$f":"IF(ISERROR(VLOOKUP(CONCATENATE($AC$68,\"_\",AB75),選手名簿!$A:$E,5,FALSE))=TRUE,\"\",VLOOKUP(CONCATENATE($AC$68,\"_\",AB75),選手名簿!$A:$E,5,FALSE))","v":""}]
[null,null,null,null,"得点者",{"$f":"IF(ISERROR(VLOOKUP(CONCATENATE($F$68,\"_\",G76),選手名簿!$A:$E,5,FALSE))=TRUE,\"\",VLOOKUP(CONCATENATE($F$68,\"_\",G76),選手名簿!$A:$E,5,FALSE))","v":""},null,null,null,null,null,null,null,{"$f":"IF(ISERROR(VLOOKUP(CONCATENATE($N$68,\"_\",M76),選手名簿!$A:$E,5,FALSE))=TRUE,\"\",VLOOKUP(CONCATENATE($N$68,\"_\",M76),選手名簿!$A:$E,5,FALSE))","v":""},null,null,null,null,null,"得点者",{"$f":"IF(ISERROR(VLOOKUP(CONCATENATE($U$68,\"_\",V76),選手名簿!$A:$E,5,FALSE))=TRUE,\"\",VLOOKUP(CONCATENATE($U$68,\"_\",V76),選手名簿!$A:$E,5,FALSE))","v":""},null,null,null,null,null,null,null,{"$f":"IF(ISERROR(VLOOKUP(CONCATENATE($AC$68,\"_\",AB76),選手名簿!$A:$E,5,FALSE))=TRUE,\"\",VLOOKUP(CONCATENATE($AC$68,\"_\",AB76),選手名簿!$A:$E,5,FALSE))","v":""}]
[null,null,null,null,"得点者",{"$f":"IF(ISERROR(VLOOKUP(CONCATENATE($F$68,\"_\",G77),選手名簿!$A:$E,5,FALSE))=TRUE,\"\",VLOOKUP(CONCATENATE($F$68,\"_\",G77),選手名簿!$A:$E,5,FALSE))","v":""},null,null,null,null,null,null,null,{"$f":"IF(ISERROR(VLOOKUP(CONCATENATE($N$68,\"_\",M77),選手名簿!$A:$E,5,FALSE))=TRUE,\"\",VLOOKUP(CONCATENATE($N$68,\"_\",M77),選手名簿!$A:$E,5,FALSE))","v":""},null,null,null,null,null,"得点者",{"$f":"IF(ISERROR(VLOOKUP(CONCATENATE($U$68,\"_\",V77),選手名簿!$A:$E,5,FALSE))=TRUE,\"\",VLOOKUP(CONCATENATE($U$68,\"_\",V77),選手名簿!$A:$E,5,FALSE))","v":""},null,null,null,null,null,null,null,{"$f":"IF(ISERROR(VLOOKUP(CONCATENATE($AC$68,\"_\",AB77),選手名簿!$A:$E,5,FALSE))=TRUE,\"\",VLOOKUP(CONCATENATE($AC$68,\"_\",AB77),選手名簿!$A:$E,5,FALSE))","v":""}]
[null,null,null,null,"得点者",{"$f":"IF(ISERROR(VLOOKUP(CONCATENATE($F$68,\"_\",G78),選手名簿!$A:$E,5,FALSE))=TRUE,\"\",VLOOKUP(CONCATENATE($F$68,\"_\",G78),選手名簿!$A:$E,5,FALSE))","v":""},null,null,null,null,null,null,null,{"$f":"IF(ISERROR(VLOOKUP(CONCATENATE($N$68,\"_\",M78),選手名簿!$A:$E,5,FALSE))=TRUE,\"\",VLOOKUP(CONCATENATE($N$68,\"_\",M78),選手名簿!$A:$E,5,FALSE))","v":""},null,null,null,null,null,"得点者",{"$f":"IF(ISERROR(VLOOKUP(CONCATENATE($U$68,\"_\",V78),選手名簿!$A:$E,5,FALSE))=TRUE,\"\",VLOOKUP(CONCATENATE($U$68,\"_\",V78),選手名簿!$A:$E,5,FALSE))","v":""},null,null,null,null,null,null,null,{"$f":"IF(ISERROR(VLOOKUP(CONCATENATE($AC$68,\"_\",AB78),選手名簿!$A:$E,5,FALSE))=TRUE,\"\",VLOOKUP(CONCATENATE($AC$68,\"_\",AB78),選手名簿!$A:$E,5,FALSE))","v":""}]
[null,null,null,null,"得点者",{"$f":"IF(ISERROR(VLOOKUP(CONCATENATE($F$68,\"_\",G79),選手名簿!$A:$E,5,FALSE))=TRUE,\"\",VLOOKUP(CONCATENATE($F$68,\"_\",G79),選手名簿!$A:$E,5,FALSE))","v":""},null,null,null,null,null,null,null,{"$f":"IF(ISERROR(VLOOKUP(CONCATENATE($N$68,\"_\",M79),選手名簿!$A:$E,5,FALSE))=TRUE,\"\",VLOOKUP(CONCATENATE($N$68,\"_\",M79),選手名簿!$A:$E,5,FALSE))","v":""},null,null,null,null,null,"得点者",{"$f":"IF(ISERROR(VLOOKUP(CONCATENATE($U$68,\"_\",V79),選手名簿!$A:$E,5,FALSE))=TRUE,\"\",VLOOKUP(CONCATENATE($U$68,\"_\",V79),選手名簿!$A:$E,5,FALSE))","v":""},null,null,null,null,null,null,null,{"$f":"IF(ISERROR(VLOOKUP(CONCATENATE($AC$68,\"_\",AB79),選手名簿!$A:$E,5,FALSE))=TRUE,\"\",VLOOKUP(CONCATENATE($AC$68,\"_\",AB79),選手名簿!$A:$E,5,FALSE))","v":""}]
[null,null,null,null,"得点者",{"$f":"IF(ISERROR(VLOOKUP(CONCATENATE($F$68,\"_\",G80),選手名簿!$A:$E,5,FALSE))=TRUE,\"\",VLOOKUP(CONCATENATE($F$68,\"_\",G80),選手名簿!$A:$E,5,FALSE))","v":""},null,null,null,null,null,null,null,{"$f":"IF(ISERROR(VLOOKUP(CONCATENATE($N$68,\"_\",M80),選手名簿!$A:$E,5,FALSE))=TRUE,\"\",VLOOKUP(CONCATENATE($N$68,\"_\",M80),選手名簿!$A:$E,5,FALSE))","v":""},null,null,null,null,null,"得点者",{"$f":"IF(ISERROR(VLOOKUP(CONCATENATE($U$68,\"_\",V80),選手名簿!$A:$E,5,FALSE))=TRUE,\"\",VLOOKUP(CONCATENATE($U$68,\"_\",V80),選手名簿!$A:$E,5,FALSE))","v":""},null,null,null,null,null,null,null,{"$f":"IF(ISERROR(VLOOKUP(CONCATENATE($AC$68,\"_\",AB80),選手名簿!$A:$E,5,FALSE))=TRUE,\"\",VLOOKUP(CONCATENATE($AC$68,\"_\",AB80),選手名簿!$A:$E,5,FALSE))","v":""}]
[null,null,null,null,"得点者",{"$f":"IF(ISERROR(VLOOKUP(CONCATENATE($F$68,\"_\",G81),選手名簿!$A:$E,5,FALSE))=TRUE,\"\",VLOOKUP(CONCATENATE($F$68,\"_\",G81),選手名簿!$A:$E,5,FALSE))","v":""},null,null,null,null,null,null,null,{"$f":"IF(ISERROR(VLOOKUP(CONCATENATE($N$68,\"_\",M81),選手名簿!$A:$E,5,FALSE))=TRUE,\"\",VLOOKUP(CONCATENATE($N$68,\"_\",M81),選手名簿!$A:$E,5,FALSE))","v":""},null,null,null,null,null,"得点者",{"$f":"IF(ISERROR(VLOOKUP(CONCATENATE($U$68,\"_\",V81),選手名簿!$A:$E,5,FALSE))=TRUE,\"\",VLOOKUP(CONCATENATE($U$68,\"_\",V81),選手名簿!$A:$E,5,FALSE))","v":""},null,null,null,null,null,null,null,{"$f":"IF(ISERROR(VLOOKUP(CONCATENATE($AC$68,\"_\",AB81),選手名簿!$A:$E,5,FALSE))=TRUE,\"\",VLOOKUP(CONCATENATE($AC$68,\"_\",AB81),選手名簿!$A:$E,5,FALSE))","v":""}]
["番号","R009460551",null,null,"警告/退場",{"$f":"IF(ISERROR(VLOOKUP(CONCATENATE($F$68,\"_\",G82),選手名簿!$A:$E,5,FALSE))=TRUE,\"\",VLOOKUP(CONCATENATE($F$68,\"_\",G82),選手名簿!$A:$E,5,FALSE))","v":""},null,null,null,null,null,null,null,{"$f":"IF(ISERROR(VLOOKUP(CONCATENATE($N$68,\"_\",M82),選手名簿!$A:$E,5,FALSE))=TRUE,\"\",VLOOKUP(CONCATENATE($N$68,\"_\",M82),選手名簿!$A:$E,5,FALSE))","v":""},null,"番号","R005603486",null,null,"警告/退場",{"$f":"IF(ISERROR(VLOOKUP(CONCATENATE($U$68,\"_\",V82),選手名簿!$A:$E,5,FALSE))=TRUE,\"\",VLOOKUP(CONCATENATE($U$68,\"_\",V82),選手名簿!$A:$E,5,FALSE))","v":""},null,null,null,null,null,null,null,{"$f":"IF(ISERROR(VLOOKUP(CONCATENATE($AC$68,\"_\",AB82),選手名簿!$A:$E,5,FALSE))=TRUE,\"\",VLOOKUP(CONCATENATE($AC$68,\"_\",AB82),選手名簿!$A:$E,5,FALSE))","v":""}]
["R",{"$f":"IF(ISERROR(VLOOKUP(B82,審判員!$A:$C,2,FALSE))=TRUE,\"\",VLOOKUP(B82,審判員!$A:$C,2,FALSE))","v":"佐藤　慎二"},null,{"$f":"IF(ISERROR(VLOOKUP(B82,審判員!$A:$C,3,FALSE))=TRUE,\"\",VLOOKUP(B82,審判員!$A:$C,3,FALSE))","v":"３級"},"警告/退場",{"$f":"IF(ISERROR(VLOOKUP(CONCATENATE($F$68,\"_\",G83),選手名簿!$A:$E,5,FALSE))=TRUE,\"\",VLOOKUP(CONCATENATE($F$68,\"_\",G83),選手名簿!$A:$E,5,FALSE))","v":""},null,null,null,null,null,null,null,{"$f":"IF(ISERROR(VLOOKUP(CONCATENATE($N$68,\"_\",M83),選手名簿!$A:$E,5,FALSE))=TRUE,\"\",VLOOKUP(CONCATENATE($N$68,\"_\",M83),選手名簿!$A:$E,5,FALSE))","v":""},null,"R",{"$f":"IF(ISERROR(VLOOKUP(Q82,審判員!$A:$C,2,FALSE))=TRUE,\"\",VLOOKUP(Q82,審判員!$A:$C,2,FALSE))","v":"山本　篤"},null,{"$f":"IF(ISERROR(VLOOKUP(Q82,審判員!$A:$C,3,FALSE))=TRUE,\"\",VLOOKUP(Q82,審判員!$A:$C,3,FALSE))","v":"３級"},"警告/退場",{"$f":"IF(ISERROR(VLOOKUP(CONCATENATE($U$68,\"_\",V83),選手名簿!$A:$E,5,FALSE))=TRUE,\"\",VLOOKUP(CONCATENATE($U$68,\"_\",V83),選手名簿!$A:$E,5,FALSE))","v":""},null,null,null,null,null,null,null,{"$f":"IF(ISERROR(VLOOKUP(CONCATENATE($AC$68,\"_\",AB83),選手名簿!$A:$E,5,FALSE))=TRUE,\"\",VLOOKUP(CONCATENATE($AC$68,\"_\",AB83),選手名簿!$A:$E,5,FALSE))","v":""}]
["番号","R005164358",null,null,"警告/退場",{"$f":"IF(ISERROR(VLOOKUP(CONCATENATE($F$68,\"_\",G84),選手名簿!$A:$E,5,FALSE))=TRUE,\"\",VLOOKUP(CONCATENATE($F$68,\"_\",G84),選手名簿!$A:$E,5,FALSE))","v":""},null,null,null,null,null,null,null,{"$f":"IF(ISERROR(VLOOKUP(CONCATENATE($N$68,\"_\",M84),選手名簿!$A:$E,5,FALSE))=TRUE,\"\",VLOOKUP(CONCATENATE($N$68,\"_\",M84),選手名簿!$A:$E,5,FALSE))","v":""},null,"番号","R001263350",null,null,"警告/退場",{"$f":"IF(ISERROR(VLOOKUP(CONCATENATE($U$68,\"_\",V84),選手名簿!$A:$E,5,FALSE))=TRUE,\"\",VLOOKUP(CONCATENATE($U$68,\"_\",V84),選手名簿!$A:$E,5,FALSE))","v":""},null,null,null,null,null,null,null,{"$f":"IF(ISERROR(VLOOKUP(CONCATENATE($AC$68,\"_\",AB84),選手名簿!$A:$E,5,FALSE))=TRUE,\"\",VLOOKUP(CONCATENATE($AC$68,\"_\",AB84),選手名簿!$A:$E,5,FALSE))","v":""}]
["AR1:",{"$f":"IF(ISERROR(VLOOKUP(B84,審判員!$A:$C,2,FALSE))=TRUE,\"\",VLOOKUP(B84,審判員!$A:$C,2,FALSE))","v":"山宮　俊寛"},null,{"$f":"IF(ISERROR(VLOOKUP(B84,審判員!$A:$C,3,FALSE))=TRUE,\"\",VLOOKUP(B84,審判員!$A:$C,3,FALSE))","v":"３級"},"警告/退場",{"$f":"IF(ISERROR(VLOOKUP(CONCATENATE($F$68,\"_\",G85),選手名簿!$A:$E,5,FALSE))=TRUE,\"\",VLOOKUP(CONCATENATE($F$68,\"_\",G85),選手名簿!$A:$E,5,FALSE))","v":""},null,null,null,null,null,null,null,{"$f":"IF(ISERROR(VLOOKUP(CONCATENATE($N$68,\"_\",M85),選手名簿!$A:$E,5,FALSE))=TRUE,\"\",VLOOKUP(CONCATENATE($N$68,\"_\",M85),選手名簿!$A:$E,5,FALSE))","v":""},null,"AR1:",{"$f":"IF(ISERROR(VLOOKUP(Q84,審判員!$A:$C,2,FALSE))=TRUE,\"\",VLOOKUP(Q84,審判員!$A:$C,2,FALSE))","v":"酒井　祐三"},null,{"$f":"IF(ISERROR(VLOOKUP(Q84,審判員!$A:$C,3,FALSE))=TRUE,\"\",VLOOKUP(Q84,審判員!$A:$C,3,FALSE))","v":"３級"},"警告/退場",{"$f":"IF(ISERROR(VLOOKUP(CONCATENATE($U$68,\"_\",V85),選手名簿!$A:$E,5,FALSE))=TRUE,\"\",VLOOKUP(CONCATENATE($U$68,\"_\",V85),選手名簿!$A:$E,5,FALSE))","v":""},null,null,null,null,null,null,null,{"$f":"IF(ISERROR(VLOOKUP(CONCATENATE($AC$68,\"_\",AB85),選手名簿!$A:$E,5,FALSE))=TRUE,\"\",VLOOKUP(CONCATENATE($AC$68,\"_\",AB85),選手名簿!$A:$E,5,FALSE))","v":""}]
["番号","R010120117",null,null,"警告/退場",{"$f":"IF(ISERROR(VLOOKUP(CONCATENATE($F$68,\"_\",G86),選手名簿!$A:$E,5,FALSE))=TRUE,\"\",VLOOKUP(CONCATENATE($F$68,\"_\",G86),選手名簿!$A:$E,5,FALSE))","v":""},null,null,null,null,null,null,null,{"$f":"IF(ISERROR(VLOOKUP(CONCATENATE($N$68,\"_\",M86),選手名簿!$A:$E,5,FALSE))=TRUE,\"\",VLOOKUP(CONCATENATE($N$68,\"_\",M86),選手名簿!$A:$E,5,FALSE))","v":""},null,"番号","R004326535",null,null,"警告/退場",{"$f":"IF(ISERROR(VLOOKUP(CONCATENATE($U$68,\"_\",V86),選手名簿!$A:$E,5,FALSE))=TRUE,\"\",VLOOKUP(CONCATENATE($U$68,\"_\",V86),選手名簿!$A:$E,5,FALSE))","v":""},null,null,null,null,null,null,null,{"$f":"IF(ISERROR(VLOOKUP(CONCATENATE($AC$68,\"_\",AB86),選手名簿!$A:$E,5,FALSE))=TRUE,\"\",VLOOKUP(CONCATENATE($AC$68,\"_\",AB86),選手名簿!$A:$E,5,FALSE))","v":""}]
["AR2:",{"$f":"IF(ISERROR(VLOOKUP(B86,審判員!$A:$C,2,FALSE))=TRUE,\"\",VLOOKUP(B86,審判員!$A:$C,2,FALSE))","v":"寺次　良生"},null,{"$f":"IF(ISERROR(VLOOKUP(B86,審判員!$A:$C,3,FALSE))=TRUE,\"\",VLOOKUP(B86,審判員!$A:$C,3,FALSE))","v":"３級"},"警告/退場",{"$f":"IF(ISERROR(VLOOKUP(CONCATENATE($F$68,\"_\",G87),選手名簿!$A:$E,5,FALSE))=TRUE,\"\",VLOOKUP(CONCATENATE($F$68,\"_\",G87),選手名簿!$A:$E,5,FALSE))","v":""},null,null,null,null,null,null,null,{"$f":"IF(ISERROR(VLOOKUP(CONCATENATE($N$68,\"_\",M87),選手名簿!$A:$E,5,FALSE))=TRUE,\"\",VLOOKUP(CONCATENATE($N$68,\"_\",M87),選手名簿!$A:$E,5,FALSE))","v":""},null,"AR2:",{"$f":"IF(ISERROR(VLOOKUP(Q86,審判員!$A:$C,2,FALSE))=TRUE,\"\",VLOOKUP(Q86,審判員!$A:$C,2,FALSE))","v":"信田　卓也"},null,{"$f":"IF(ISERROR(VLOOKUP(Q86,審判員!$A:$C,3,FALSE))=TRUE,\"\",VLOOKUP(Q86,審判員!$A:$C,3,FALSE))","v":"３級"},"警告/退場",{"$f":"IF(ISERROR(VLOOKUP(CONCATENATE($U$68,\"_\",V87),選手名簿!$A:$E,5,FALSE))=TRUE,\"\",VLOOKUP(CONCATENATE($U$68,\"_\",V87),選手名簿!$A:$E,5,FALSE))","v":""},null,null,null,null,null,null,null,{"$f":"IF(ISERROR(VLOOKUP(CONCATENATE($AC$68,\"_\",AB87),選手名簿!$A:$E,5,FALSE))=TRUE,\"\",VLOOKUP(CONCATENATE($AC$68,\"_\",AB87),選手名簿!$A:$E,5,FALSE))","v":""}]
["番号","R001255616",null,null,"警告/退場",{"$f":"IF(ISERROR(VLOOKUP(CONCATENATE($F$68,\"_\",G88),選手名簿!$A:$E,5,FALSE))=TRUE,\"\",VLOOKUP(CONCATENATE($F$68,\"_\",G88),選手名簿!$A:$E,5,FALSE))","v":""},null,null,null,null,null,null,null,{"$f":"IF(ISERROR(VLOOKUP(CONCATENATE($N$68,\"_\",M88),選手名簿!$A:$E,5,FALSE))=TRUE,\"\",VLOOKUP(CONCATENATE($N$68,\"_\",M88),選手名簿!$A:$E,5,FALSE))","v":""},null,"番号","R009460551",null,null,"警告/退場",{"$f":"IF(ISERROR(VLOOKUP(CONCATENATE($U$68,\"_\",V88),選手名簿!$A:$E,5,FALSE))=TRUE,\"\",VLOOKUP(CONCATENATE($U$68,\"_\",V88),選手名簿!$A:$E,5,FALSE))","v":""},null,null,null,null,null,null,null,{"$f":"IF(ISERROR(VLOOKUP(CONCATENATE($AC$68,\"_\",AB88),選手名簿!$A:$E,5,FALSE))=TRUE,\"\",VLOOKUP(CONCATENATE($AC$68,\"_\",AB88),選手名簿!$A:$E,5,FALSE))","v":""}]
["4th:",{"$f":"IF(ISERROR(VLOOKUP(B88,審判員!$A:$C,2,FALSE))=TRUE,\"\",VLOOKUP(B88,審判員!$A:$C,2,FALSE))","v":"川井　勇介"},null,{"$f":"IF(ISERROR(VLOOKUP(B88,審判員!$A:$C,3,FALSE))=TRUE,\"\",VLOOKUP(B88,審判員!$A:$C,3,FALSE))","v":"３級"},"警告/退場",{"$f":"IF(ISERROR(VLOOKUP(CONCATENATE($F$68,\"_\",G89),選手名簿!$A:$E,5,FALSE))=TRUE,\"\",VLOOKUP(CONCATENATE($F$68,\"_\",G89),選手名簿!$A:$E,5,FALSE))","v":""},null,null,null,null,null,null,null,{"$f":"IF(ISERROR(VLOOKUP(CONCATENATE($N$68,\"_\",M89),選手名簿!$A:$E,5,FALSE))=TRUE,\"\",VLOOKUP(CONCATENATE($N$68,\"_\",M89),選手名簿!$A:$E,5,FALSE))","v":""},null,"4th:",{"$f":"IF(ISERROR(VLOOKUP(Q88,審判員!$A:$C,2,FALSE))=TRUE,\"\",VLOOKUP(Q88,審判員!$A:$C,2,FALSE))","v":"佐藤　慎二"},null,{"$f":"IF(ISERROR(VLOOKUP(Q88,審判員!$A:$C,3,FALSE))=TRUE,\"\",VLOOKUP(Q88,審判員!$A:$C,3,FALSE))","v":"３級"},"警告/退場",{"$f":"IF(ISERROR(VLOOKUP(CONCATENATE($U$68,\"_\",V89),選手名簿!$A:$E,5,FALSE))=TRUE,\"\",VLOOKUP(CONCATENATE($U$68,\"_\",V89),選手名簿!$A:$E,5,FALSE))","v":""},null,null,null,null,null,null,null,{"$f":"IF(ISERROR(VLOOKUP(CONCATENATE($AC$68,\"_\",AB89),選手名簿!$A:$E,5,FALSE))=TRUE,\"\",VLOOKUP(CONCATENATE($AC$68,\"_\",AB89),選手名簿!$A:$E,5,FALSE))","v":""}]

{"sheet":"予選リーグ公式記録(上原B)","index":10,"n_rows":89,"n_cols":29,"rows_kept":89,"cut":false,"hidden":true,"merged":[[84,1,84,2],[84,16,84,17],[85,1,85,3],[85,16,85,18],[86,1,86,2],[86,16,86,17],[87,1,87,3],[87,16,87,18],[88,1,88,2],[88,16,88,17],[81,1,81,3],[81,16,81,18],[82,1,82,2],[82,16,82,17],[67,13,69,13],[67,19,69,19],[67,20,69,20],[67,21,69,21],[83,1,83,3],[83,16,83,18],[70,0,70,3],[70,15,70,18],[67,1,67,3],[68,1,68,3],[69,1,69,3],[67,16,67,18],[68,16,68,18],[69,16,69,18],[67,26,69,26],[67,4,69,4],[67,5,69,5],[67,6,69,6],[67,7,69,7],[67,11,69,11],[67,12,69,12],[67,27,69,27],[67,28,69,28],[59,1,59,2],[59,16,59,17],[54,1,54,3],[54,16,54,18],[55,1,55,2],[55,16,55,17],[56,1,56,3],[56,16,56,18],[67,22,69,22],[57,1,57,2],[57,16,57,17],[58,1,58,3],[58,16,58,18],[38,11,40,11],[38,12,40,12],[38,27,40,27],[38,28,40,28],[52,1,52,3],[52,16,52,18],[53,1,53,2],[53,16,53,17],[38,13,40,13],[38,19,40,19],[38,20,40,20],[38,21,40,21],[41,0,41,3],[41,15,41,18],[38,26,40,26],[38,16,38,18],[39,16,39,18],[40,16,40,18],[38,1,38,3],[39,1,39,3],[40,1,40,3],[26,1,26,2],[26,16,26,17],[27,1,27,3],[27,16,27,18],[28,1,28,2],[28,16,28,17],[38,22,40,22],[4,12,4,13],[4,5,4,11],[5,5,5,11],[5,12,5,13],[9,6,11,6],[9,7,11,7],[9,11,11,11],[9,12,11,12],[9,19,11,19],[29,1,29,3],[29,16,29,18],[30,1,30,2],[30,16,30,17],[38,4,40,4],[38,5,40,5],[38,6,40,6],[38,7,40,7],[0,0,0,9],[0,10,0,13],[9,13,11,13],[23,1,23,3],[24,1,24,2],[25,1,25,3],[6,5,6,11],[23,16,23,18],[24,16,24,17],[25,16,25,18],[9,4,11,4],[9,5,11,5],[6,12,6,13],[12,0,12,3],[12,15,12,18],[0,15,0,24],[9,1,9,3],[10,1,10,3],[11,1,11,3],[9,16,9,18],[10,16,10,18],[11,16,11,18],[0,25,0,28],[9,26,11,26],[9,27,11,27],[9,28,11,28],[9,21,11,21],[6,20,6,26],[4,27,4,28],[5,27,5,28],[4,20,4,26],[5,20,5,26],[6,27,6,28],[9,20,11,20],[9,22,11,22]]}
[{"$f":"大会要項!$B$2","v":"第8回 全日本不動産協会杯争奪少年サッカー大会【ラビットカップ】大分県大会"},null,null,null,null,null,null,null,null,null,"予選リーグ結果　報告用紙",null,null,null,null,{"$f":"大会要項!$B$2","v":"第8回 全日本不動産協会杯争奪少年サッカー大会【ラビットカップ】大分県大会"},null,null,null,null,null,null,null,null,null,"予選リーグ結果　報告用紙"]
[]
["会場",{"$f":"予選リーグ!I14","v":"挾間上原グラウンド"},null,null,"B",null,null,null,null,null,null,null,null,null,null,"会場",{"$f":"予選リーグ!I14","v":"挾間上原グラウンド"},null,null,"B"]
[]
[null,null,null,null,"F1",{"$f":"VLOOKUP(E5,組合せ抽選用!$Q:$U,5,FALSE)","v":"ＦＣアリアーレ"},null,null,null,null,null,null,{"$f":"VLOOKUP(E5,組合せ抽選用!$Q:$V,6,FALSE)","v":"日田"},null,null,null,null,null,null,"H1",{"$f":"VLOOKUP(T5,組合せ抽選用!$Q:$U,5,FALSE)","v":"ＦＣ中津ジュニア"},null,null,null,null,null,null,{"$f":"VLOOKUP(T5,組合せ抽選用!$Q:$V,6,FALSE)","v":"中津"}]
[null,null,null,null,"F2",{"$f":"VLOOKUP(E6,組合せ抽選用!$Q:$U,5,FALSE)","v":"明野東サッカースポーツ少年団"},null,null,null,null,null,null,{"$f":"VLOOKUP(E6,組合せ抽選用!$Q:$V,6,FALSE)","v":"大分"},null,null,null,null,null,null,"H2",{"$f":"VLOOKUP(T6,組合せ抽選用!$Q:$U,5,FALSE)","v":"カティオーラフットボールクラブＵ－１２"},null,null,null,null,null,null,{"$f":"VLOOKUP(T6,組合せ抽選用!$Q:$V,6,FALSE)","v":"大分"}]
[null,null,null,null,"F3",{"$f":"VLOOKUP(E7,組合せ抽選用!$Q:$U,5,FALSE)","v":"ＦＣ安岐"},null,null,null,null,null,null,{"$f":"VLOOKUP(E7,組合せ抽選用!$Q:$V,6,FALSE)","v":"速杵国東"},null,null,null,null,null,null,"H3",{"$f":"VLOOKUP(T7,組合せ抽選用!$Q:$U,5,FALSE)","v":"ＭＳＳ"},null,null,null,null,null,null,{"$f":"VLOOKUP(T7,組合せ抽選用!$Q:$V,6,FALSE)","v":"大分"}]
[]
[]
["MC","仲野　昭博",null,null,"10:30:00",{"$f":"F5","v":"ＦＣアリアーレ"},{"$f":"SUM(I10:I11)","v":1},"（",0,"前半",0,"）",{"$f":"SUM(K10:K11)","v":0},{"$f":"F6","v":"明野東サッカースポーツ少年団"},null,"MC","中原　圭介",null,null,"11:30:00",{"$f":"U5","v":"ＦＣ中津ジュニア"},{"$f":"SUM(X10:X11)","v":0},"（",0,"前半",1,"）",{"$f":"SUM(Z10:Z11)","v":2},{"$f":"U6","v":"カティオーラフットボールクラブＵ－１２"}]
["Welfare\nOfficer","-",null,null,null,null,null,null,1,"後半",0,null,null,null,null,"Welfare\nOfficer","-",null,null,null,null,null,null,0,"後半",1]
["記録","山野内　哲朗",null,null,null,null,null,null,null,"PK",null,null,null,null,null,"記録","松尾　章",null,null,null,null,null,null,null,"PK"]
["＜Referee＞",null,null,null,null,"氏名","番号","分",null,null,null,"分","番号","氏名",null,"＜Referee＞",null,null,null,null,"氏名","番号","分",null,null,null,"分","番号","氏名"]
[null,null,null,null,"得点者",{"$f":"IF(ISERROR(VLOOKUP(CONCATENATE($F$10,\"_\",G14),選手名簿!$A:$E,5,FALSE))=TRUE,\"\",VLOOKUP(CONCATENATE($F$10,\"_\",G14),選手名簿!$A:$E,5,FALSE))","v":""},null,null,null,null,null,null,null,{"$f":"IF(ISERROR(VLOOKUP(CONCATENATE($N$10,\"_\",M14),選手名簿!$A:$E,5,FALSE))=TRUE,\"\",VLOOKUP(CONCATENATE($N$10,\"_\",M14),選手名簿!$A:$E,5,FALSE))","v":""},null,null,null,null,null,"得点者",{"$f":"IF(ISERROR(VLOOKUP(CONCATENATE($U$10,\"_\",V14),選手名簿!$A:$E,5,FALSE))=TRUE,\"\",VLOOKUP(CONCATENATE($U$10,\"_\",V14),選手名簿!$A:$E,5,FALSE))","v":""},null,null,null,null,null,null,null,{"$f":"IF(ISERROR(VLOOKUP(CONCATENATE($AC$10,\"_\",AB14),選手名簿!$A:$E,5,FALSE))=TRUE,\"\",VLOOKUP(CONCATENATE($AC$10,\"_\",AB14),選手名簿!$A:$E,5,FALSE))","v":""}]
[null,null,null,null,"得点者",{"$f":"IF(ISERROR(VLOOKUP(CONCATENATE($F$10,\"_\",G15),選手名簿!$A:$E,5,FALSE))=TRUE,\"\",VLOOKUP(CONCATENATE($F$10,\"_\",G15),選手名簿!$A:$E,5,FALSE))","v":""},null,null,null,null,null,null,null,{"$f":"IF(ISERROR(VLOOKUP(CONCATENATE($N$10,\"_\",M15),選手名簿!$A:$E,5,FALSE))=TRUE,\"\",VLOOKUP(CONCATENATE($N$10,\"_\",M15),選手名簿!$A:$E,5,FALSE))","v":""},null,null,null,null,null,"得点者",{"$f":"IF(ISERROR(VLOOKUP(CONCATENATE($U$10,\"_\",V15),選手名簿!$A:$E,5,FALSE))=TRUE,\"\",VLOOKUP(CONCATENATE($U$10,\"_\",V15),選手名簿!$A:$E,5,FALSE))","v":""},null,null,null,null,null,null,null,{"$f":"IF(ISERROR(VLOOKUP(CONCATENATE($AC$10,\"_\",AB15),選手名簿!$A:$E,5,FALSE))=TRUE,\"\",VLOOKUP(CONCATENATE($AC$10,\"_\",AB15),選手名簿!$A:$E,5,FALSE))","v":""}]
[null,null,null,null,"得点者",{"$f":"IF(ISERROR(VLOOKUP(CONCATENATE($F$10,\"_\",G16),選手名簿!$A:$E,5,FALSE))=TRUE,\"\",VLOOKUP(CONCATENATE($F$10,\"_\",G16),選手名簿!$A:$E,5,FALSE))","v":""},null,null,null,null,null,null,null,{"$f":"IF(ISERROR(VLOOKUP(CONCATENATE($N$10,\"_\",M16),選手名簿!$A:$E,5,FALSE))=TRUE,\"\",VLOOKUP(CONCATENATE($N$10,\"_\",M16),選手名簿!$A:$E,5,FALSE))","v":""},null,null,null,null,null,"得点者",{"$f":"IF(ISERROR(VLOOKUP(CONCATENATE($U$10,\"_\",V16),選手名簿!$A:$E,5,FALSE))=TRUE,\"\",VLOOKUP(CONCATENATE($U$10,\"_\",V16),選手名簿!$A:$E,5,FALSE))","v":""},null,null,null,null,null,null,null,{"$f":"IF(ISERROR(VLOOKUP(CONCATENATE($AC$10,\"_\",AB16),選手名簿!$A:$E,5,FALSE))=TRUE,\"\",VLOOKUP(CONCATENATE($AC$10,\"_\",AB16),選手名簿!$A:$E,5,FALSE))","v":""}]
[null,null,null,null,"得点者",{"$f":"IF(ISERROR(VLOOKUP(CONCATENATE($F$10,\"_\",G17),選手名簿!$A:$E,5,FALSE))=TRUE,\"\",VLOOKUP(CONCATENATE($F$10,\"_\",G17),選手名簿!$A:$E,5,FALSE))","v":""},null,null,null,null,null,null,null,{"$f":"IF(ISERROR(VLOOKUP(CONCATENATE($N$10,\"_\",M17),選手名簿!$A:$E,5,FALSE))=TRUE,\"\",VLOOKUP(CONCATENATE($N$10,\"_\",M17),選手名簿!$A:$E,5,FALSE))","v":""},null,null,null,null,null,"得点者",{"$f":"IF(ISERROR(VLOOKUP(CONCATENATE($U$10,\"_\",V17),選手名簿!$A:$E,5,FALSE))=TRUE,\"\",VLOOKUP(CONCATENATE($U$10,\"_\",V17),選手名簿!$A:$E,5,FALSE))","v":""},null,null,null,null,null,null,null,{"$f":"IF(ISERROR(VLOOKUP(CONCATENATE($AC$10,\"_\",AB17),選手名簿!$A:$E,5,FALSE))=TRUE,\"\",VLOOKUP(CONCATENATE($AC$10,\"_\",AB17),選手名簿!$A:$E,5,FALSE))","v":""}]
[null,null,null,null,"得点者",{"$f":"IF(ISERROR(VLOOKUP(CONCATENATE($F$10,\"_\",G18),選手名簿!$A:$E,5,FALSE))=TRUE,\"\",VLOOKUP(CONCATENATE($F$10,\"_\",G18),選手名簿!$A:$E,5,FALSE))","v":""},null,null,null,null,null,null,null,{"$f":"IF(ISERROR(VLOOKUP(CONCATENATE($N$10,\"_\",M18),選手名簿!$A:$E,5,FALSE))=TRUE,\"\",VLOOKUP(CONCATENATE($N$10,\"_\",M18),選手名簿!$A:$E,5,FALSE))","v":""},null,null,null,null,null,"得点者",{"$f":"IF(ISERROR(VLOOKUP(CONCATENATE($U$10,\"_\",V18),選手名簿!$A:$E,5,FALSE))=TRUE,\"\",VLOOKUP(CONCATENATE($U$10,\"_\",V18),選手名簿!$A:$E,5,FALSE))","v":""},null,null,null,null,null,null,null,{"$f":"IF(ISERROR(VLOOKUP(CONCATENATE($AC$10,\"_\",AB18),選手名簿!$A:$E,5,FALSE))=TRUE,\"\",VLOOKUP(CONCATENATE($AC$10,\"_\",AB18),選手名簿!$A:$E,5,FALSE))","v":""}]
[null,null,null,null,"得点者",{"$f":"IF(ISERROR(VLOOKUP(CONCATENATE($F$10,\"_\",G19),選手名簿!$A:$E,5,FALSE))=TRUE,\"\",VLOOKUP(CONCATENATE($F$10,\"_\",G19),選手名簿!$A:$E,5,FALSE))","v":""},null,null,null,null,null,null,null,{"$f":"IF(ISERROR(VLOOKUP(CONCATENATE($N$10,\"_\",M19),選手名簿!$A:$E,5,FALSE))=TRUE,\"\",VLOOKUP(CONCATENATE($N$10,\"_\",M19),選手名簿!$A:$E,5,FALSE))","v":""},null,null,null,null,null,"得点者",{"$f":"IF(ISERROR(VLOOKUP(CONCATENATE($U$10,\"_\",V19),選手名簿!$A:$E,5,FALSE))=TRUE,\"\",VLOOKUP(CONCATENATE($U$10,\"_\",V19),選手名簿!$A:$E,5,FALSE))","v":""},null,null,null,null,null,null,null,{"$f":"IF(ISERROR(VLOOKUP(CONCATENATE($AC$10,\"_\",AB19),選手名簿!$A:$E,5,FALSE))=TRUE,\"\",VLOOKUP(CONCATENATE($AC$10,\"_\",AB19),選手名簿!$A:$E,5,FALSE))","v":""}]
[null,null,null,null,"得点者",{"$f":"IF(ISERROR(VLOOKUP(CONCATENATE($F$10,\"_\",G20),選手名簿!$A:$E,5,FALSE))=TRUE,\"\",VLOOKUP(CONCATENATE($F$10,\"_\",G20),選手名簿!$A:$E,5,FALSE))","v":""},null,null,null,null,null,null,null,{"$f":"IF(ISERROR(VLOOKUP(CONCATENATE($N$10,\"_\",M20),選手名簿!$A:$E,5,FALSE))=TRUE,\"\",VLOOKUP(CONCATENATE($N$10,\"_\",M20),選手名簿!$A:$E,5,FALSE))","v":""},null,null,null,null,null,"得点者",{"$f":"IF(ISERROR(VLOOKUP(CONCATENATE($U$10,\"_\",V20),選手名簿!$A:$E,5,FALSE))=TRUE,\"\",VLOOKUP(CONCATENATE($U$10,\"_\",V20),選手名簿!$A:$E,5,FALSE))","v":""},null,null,null,null,null,null,null,{"$f":"IF(ISERROR(VLOOKUP(CONCATENATE($AC$10,\"_\",AB20),選手名簿!$A:$E,5,FALSE))=TRUE,\"\",VLOOKUP(CONCATENATE($AC$10,\"_\",AB20),選手名簿!$A:$E,5,FALSE))","v":""}]
[null,null,null,null,"得点者",{"$f":"IF(ISERROR(VLOOKUP(CONCATENATE($F$10,\"_\",G21),選手名簿!$A:$E,5,FALSE))=TRUE,\"\",VLOOKUP(CONCATENATE($F$10,\"_\",G21),選手名簿!$A:$E,5,FALSE))","v":""},null,null,null,null,null,null,null,{"$f":"IF(ISERROR(VLOOKUP(CONCATENATE($N$10,\"_\",M21),選手名簿!$A:$E,5,FALSE))=TRUE,\"\",VLOOKUP(CONCATENATE($N$10,\"_\",M21),選手名簿!$A:$E,5,FALSE))","v":""},null,null,null,null,null,"得点者",{"$f":"IF(ISERROR(VLOOKUP(CONCATENATE($U$10,\"_\",V21),選手名簿!$A:$E,5,FALSE))=TRUE,\"\",VLOOKUP(CONCATENATE($U$10,\"_\",V21),選手名簿!$A:$E,5,FALSE))","v":""},null,null,null,null,null,null,null,{"$f":"IF(ISERROR(VLOOKUP(CONCATENATE($AC$10,\"_\",AB21),選手名簿!$A:$E,5,FALSE))=TRUE,\"\",VLOOKUP(CONCATENATE($AC$10,\"_\",AB21),選手名簿!$A:$E,5,FALSE))","v":""}]
[null,null,null,null,"得点者",{"$f":"IF(ISERROR(VLOOKUP(CONCATENATE($F$10,\"_\",G22),選手名簿!$A:$E,5,FALSE))=TRUE,\"\",VLOOKUP(CONCATENATE($F$10,\"_\",G22),選手名簿!$A:$E,5,FALSE))","v":""},null,null,null,null,null,null,null,{"$f":"IF(ISERROR(VLOOKUP(CONCATENATE($N$10,\"_\",M22),選手名簿!$A:$E,5,FALSE))=TRUE,\"\",VLOOKUP(CONCATENATE($N$10,\"_\",M22),選手名簿!$A:$E,5,FALSE))","v":""},null,null,null,null,null,"得点者",{"$f":"IF(ISERROR(VLOOKUP(CONCATENATE($U$10,\"_\",V22),選手名簿!$A:$E,5,FALSE))=TRUE,\"\",VLOOKUP(CONCATENATE($U$10,\"_\",V22),選手名簿!$A:$E,5,FALSE))","v":""},null,null,null,null,null,null,null,{"$f":"IF(ISERROR(VLOOKUP(CONCATENATE($AC$10,\"_\",AB22),選手名簿!$A:$E,5,FALSE))=TRUE,\"\",VLOOKUP(CONCATENATE($AC$10,\"_\",AB22),選手名簿!$A:$E,5,FALSE))","v":""}]
[null,null,null,null,"得点者",{"$f":"IF(ISERROR(VLOOKUP(CONCATENATE($F$10,\"_\",G23),選手名簿!$A:$E,5,FALSE))=TRUE,\"\",VLOOKUP(CONCATENATE($F$10,\"_\",G23),選手名簿!$A:$E,5,FALSE))","v":""},null,null,null,null,null,null,null,{"$f":"IF(ISERROR(VLOOKUP(CONCATENATE($N$10,\"_\",M23),選手名簿!$A:$E,5,FALSE))=TRUE,\"\",VLOOKUP(CONCATENATE($N$10,\"_\",M23),選手名簿!$A:$E,5,FALSE))","v":""},null,null,null,null,null,"得点者",{"$f":"IF(ISERROR(VLOOKUP(CONCATENATE($U$10,\"_\",V23),選手名簿!$A:$E,5,FALSE))=TRUE,\"\",VLOOKUP(CONCATENATE($U$10,\"_\",V23),選手名簿!$A:$E,5,FALSE))","v":""},null,null,null,null,null,null,null,{"$f":"IF(ISERROR(VLOOKUP(CONCATENATE($AC$10,\"_\",AB23),選手名簿!$A:$E,5,FALSE))=TRUE,\"\",VLOOKUP(CONCATENATE($AC$10,\"_\",AB23),選手名簿!$A:$E,5,FALSE))","v":""}]
["番号","R003972443",null,null,"警告/退場",{"$f":"IF(ISERROR(VLOOKUP(CONCATENATE($F$10,\"_\",G24),選手名簿!$A:$E,5,FALSE))=TRUE,\"\",VLOOKUP(CONCATENATE($F$10,\"_\",G24),選手名簿!$A:$E,5,FALSE))","v":""},null,null,null,null,null,null,null,{"$f":"IF(ISERROR(VLOOKUP(CONCATENATE($N$10,\"_\",M24),選手名簿!$A:$E,5,FALSE))=TRUE,\"\",VLOOKUP(CONCATENATE($N$10,\"_\",M24),選手名簿!$A:$E,5,FALSE))","v":""},null,"番号","R006573784",null,null,"警告/退場",{"$f":"IF(ISERROR(VLOOKUP(CONCATENATE($U$10,\"_\",V24),選手名簿!$A:$E,5,FALSE))=TRUE,\"\",VLOOKUP(CONCATENATE($U$10,\"_\",V24),選手名簿!$A:$E,5,FALSE))","v":""},null,null,null,null,null,null,null,{"$f":"IF(ISERROR(VLOOKUP(CONCATENATE($AC$10,\"_\",AB24),選手名簿!$A:$E,5,FALSE))=TRUE,\"\",VLOOKUP(CONCATENATE($AC$10,\"_\",AB24),選手名簿!$A:$E,5,FALSE))","v":""}]
["R",{"$f":"IF(ISERROR(VLOOKUP(B24,審判員!$A:$C,2,FALSE))=TRUE,\"\",VLOOKUP(B24,審判員!$A:$C,2,FALSE))","v":"矢野　三千生"},null,{"$f":"IF(ISERROR(VLOOKUP(B24,審判員!$A:$C,3,FALSE))=TRUE,\"\",VLOOKUP(B24,審判員!$A:$C,3,FALSE))","v":"３級"},"警告/退場",{"$f":"IF(ISERROR(VLOOKUP(CONCATENATE($F$10,\"_\",G25),選手名簿!$A:$E,5,FALSE))=TRUE,\"\",VLOOKUP(CONCATENATE($F$10,\"_\",G25),選手名簿!$A:$E,5,FALSE))","v":""},null,null,null,null,null,null,null,{"$f":"IF(ISERROR(VLOOKUP(CONCATENATE($N$10,\"_\",M25),選手名簿!$A:$E,5,FALSE))=TRUE,\"\",VLOOKUP(CONCATENATE($N$10,\"_\",M25),選手名簿!$A:$E,5,FALSE))","v":""},null,"R",{"$f":"IF(ISERROR(VLOOKUP(Q24,審判員!$A:$C,2,FALSE))=TRUE,\"\",VLOOKUP(Q24,審判員!$A:$C,2,FALSE))","v":"安倍　和広"},null,{"$f":"IF(ISERROR(VLOOKUP(Q24,審判員!$A:$C,3,FALSE))=TRUE,\"\",VLOOKUP(Q24,審判員!$A:$C,3,FALSE))","v":"３級"},"警告/退場",{"$f":"IF(ISERROR(VLOOKUP(CONCATENATE($U$10,\"_\",V25),選手名簿!$A:$E,5,FALSE))=TRUE,\"\",VLOOKUP(CONCATENATE($U$10,\"_\",V25),選手名簿!$A:$E,5,FALSE))","v":""},null,null,null,null,null,null,null,{"$f":"IF(ISERROR(VLOOKUP(CONCATENATE($AC$10,\"_\",AB25),選手名簿!$A:$E,5,FALSE))=TRUE,\"\",VLOOKUP(CONCATENATE($AC$10,\"_\",AB25),選手名簿!$A:$E,5,FALSE))","v":""}]
["番号","R009197691",null,null,"警告/退場",{"$f":"IF(ISERROR(VLOOKUP(CONCATENATE($F$10,\"_\",G26),選手名簿!$A:$E,5,FALSE))=TRUE,\"\",VLOOKUP(CONCATENATE($F$10,\"_\",G26),選手名簿!$A:$E,5,FALSE))","v":""},null,null,null,null,null,null,null,{"$f":"IF(ISERROR(VLOOKUP(CONCATENATE($N$10,\"_\",M26),選手名簿!$A:$E,5,FALSE))=TRUE,\"\",VLOOKUP(CONCATENATE($N$10,\"_\",M26),選手名簿!$A:$E,5,FALSE))","v":""},null,"番号","R003350863",null,null,"警告/退場",{"$f":"IF(ISERROR(VLOOKUP(CONCATENATE($U$10,\"_\",V26),選手名簿!$A:$E,5,FALSE))=TRUE,\"\",VLOOKUP(CONCATENATE($U$10,\"_\",V26),選手名簿!$A:$E,5,FALSE))","v":""},null,null,null,null,null,null,null,{"$f":"IF(ISERROR(VLOOKUP(CONCATENATE($AC$10,\"_\",AB26),選手名簿!$A:$E,5,FALSE))=TRUE,\"\",VLOOKUP(CONCATENATE($AC$10,\"_\",AB26),選手名簿!$A:$E,5,FALSE))","v":""}]
["AR1:",{"$f":"IF(ISERROR(VLOOKUP(B26,審判員!$A:$C,2,FALSE))=TRUE,\"\",VLOOKUP(B26,審判員!$A:$C,2,FALSE))","v":"深堀　祥司"},null,{"$f":"IF(ISERROR(VLOOKUP(B26,審判員!$A:$C,3,FALSE))=TRUE,\"\",VLOOKUP(B26,審判員!$A:$C,3,FALSE))","v":"３級"},"警告/退場",{"$f":"IF(ISERROR(VLOOKUP(CONCATENATE($F$10,\"_\",G27),選手名簿!$A:$E,5,FALSE))=TRUE,\"\",VLOOKUP(CONCATENATE($F$10,\"_\",G27),選手名簿!$A:$E,5,FALSE))","v":""},null,null,null,null,null,null,null,{"$f":"IF(ISERROR(VLOOKUP(CONCATENATE($N$10,\"_\",M27),選手名簿!$A:$E,5,FALSE))=TRUE,\"\",VLOOKUP(CONCATENATE($N$10,\"_\",M27),選手名簿!$A:$E,5,FALSE))","v":""},null,"AR1:",{"$f":"IF(ISERROR(VLOOKUP(Q26,審判員!$A:$C,2,FALSE))=TRUE,\"\",VLOOKUP(Q26,審判員!$A:$C,2,FALSE))","v":"坂本　圭"},null,{"$f":"IF(ISERROR(VLOOKUP(Q26,審判員!$A:$C,3,FALSE))=TRUE,\"\",VLOOKUP(Q26,審判員!$A:$C,3,FALSE))","v":"３級"},"警告/退場",{"$f":"IF(ISERROR(VLOOKUP(CONCATENATE($U$10,\"_\",V27),選手名簿!$A:$E,5,FALSE))=TRUE,\"\",VLOOKUP(CONCATENATE($U$10,\"_\",V27),選手名簿!$A:$E,5,FALSE))","v":""},null,null,null,null,null,null,null,{"$f":"IF(ISERROR(VLOOKUP(CONCATENATE($AC$10,\"_\",AB27),選手名簿!$A:$E,5,FALSE))=TRUE,\"\",VLOOKUP(CONCATENATE($AC$10,\"_\",AB27),選手名簿!$A:$E,5,FALSE))","v":""}]
["番号","R001263721",null,null,"警告/退場",{"$f":"IF(ISERROR(VLOOKUP(CONCATENATE($F$10,\"_\",G28),選手名簿!$A:$E,5,FALSE))=TRUE,\"\",VLOOKUP(CONCATENATE($F$10,\"_\",G28),選手名簿!$A:$E,5,FALSE))","v":""},null,null,null,null,null,null,null,{"$f":"IF(ISERROR(VLOOKUP(CONCATENATE($N$10,\"_\",M28),選手名簿!$A:$E,5,FALSE))=TRUE,\"\",VLOOKUP(CONCATENATE($N$10,\"_\",M28),選手名簿!$A:$E,5,FALSE))","v":""},null,"番号","R001263183",null,null,"警告/退場",{"$f":"IF(ISERROR(VLOOKUP(CONCATENATE($U$10,\"_\",V28),選手名簿!$A:$E,5,FALSE))=TRUE,\"\",VLOOKUP(CONCATENATE($U$10,\"_\",V28),選手名簿!$A:$E,5,FALSE))","v":""},null,null,null,null,null,null,null,{"$f":"IF(ISERROR(VLOOKUP(CONCATENATE($AC$10,\"_\",AB28),選手名簿!$A:$E,5,FALSE))=TRUE,\"\",VLOOKUP(CONCATENATE($AC$10,\"_\",AB28),選手名簿!$A:$E,5,FALSE))","v":""}]
["AR2:",{"$f":"IF(ISERROR(VLOOKUP(B28,審判員!$A:$C,2,FALSE))=TRUE,\"\",VLOOKUP(B28,審判員!$A:$C,2,FALSE))","v":"園　貴司"},null,{"$f":"IF(ISERROR(VLOOKUP(B28,審判員!$A:$C,3,FALSE))=TRUE,\"\",VLOOKUP(B28,審判員!$A:$C,3,FALSE))","v":"３級"},"警告/退場",{"$f":"IF(ISERROR(VLOOKUP(CONCATENATE($F$10,\"_\",G29),選手名簿!$A:$E,5,FALSE))=TRUE,\"\",VLOOKUP(CONCATENATE($F$10,\"_\",G29),選手名簿!$A:$E,5,FALSE))","v":""},null,null,null,null,null,null,null,{"$f":"IF(ISERROR(VLOOKUP(CONCATENATE($N$10,\"_\",M29),選手名簿!$A:$E,5,FALSE))=TRUE,\"\",VLOOKUP(CONCATENATE($N$10,\"_\",M29),選手名簿!$A:$E,5,FALSE))","v":""},null,"AR2:",{"$f":"IF(ISERROR(VLOOKUP(Q28,審判員!$A:$C,2,FALSE))=TRUE,\"\",VLOOKUP(Q28,審判員!$A:$C,2,FALSE))","v":"桑原　栄二郎"},null,{"$f":"IF(ISERROR(VLOOKUP(Q28,審判員!$A:$C,3,FALSE))=TRUE,\"\",VLOOKUP(Q28,審判員!$A:$C,3,FALSE))","v":"３級"},"警告/退場",{"$f":"IF(ISERROR(VLOOKUP(CONCATENATE($U$10,\"_\",V29),選手名簿!$A:$E,5,FALSE))=TRUE,\"\",VLOOKUP(CONCATENATE($U$10,\"_\",V29),選手名簿!$A:$E,5,FALSE))","v":""},null,null,null,null,null,null,null,{"$f":"IF(ISERROR(VLOOKUP(CONCATENATE($AC$10,\"_\",AB29),選手名簿!$A:$E,5,FALSE))=TRUE,\"\",VLOOKUP(CONCATENATE($AC$10,\"_\",AB29),選手名簿!$A:$E,5,FALSE))","v":""}]
["番号","R001256314",null,null,"警告/退場",{"$f":"IF(ISERROR(VLOOKUP(CONCATENATE($F$10,\"_\",G30),選手名簿!$A:$E,5,FALSE))=TRUE,\"\",VLOOKUP(CONCATENATE($F$10,\"_\",G30),選手名簿!$A:$E,5,FALSE))","v":""},null,null,null,null,null,null,null,{"$f":"IF(ISERROR(VLOOKUP(CONCATENATE($N$10,\"_\",M30),選手名簿!$A:$E,5,FALSE))=TRUE,\"\",VLOOKUP(CONCATENATE($N$10,\"_\",M30),選手名簿!$A:$E,5,FALSE))","v":""},null,"番号","R003972443",null,null,"警告/退場",{"$f":"IF(ISERROR(VLOOKUP(CONCATENATE($U$10,\"_\",V30),選手名簿!$A:$E,5,FALSE))=TRUE,\"\",VLOOKUP(CONCATENATE($U$10,\"_\",V30),選手名簿!$A:$E,5,FALSE))","v":""},null,null,null,null,null,null,null,{"$f":"IF(ISERROR(VLOOKUP(CONCATENATE($AC$10,\"_\",AB30),選手名簿!$A:$E,5,FALSE))=TRUE,\"\",VLOOKUP(CONCATENATE($AC$10,\"_\",AB30),選手名簿!$A:$E,5,FALSE))","v":""}]
["4th:",{"$f":"IF(ISERROR(VLOOKUP(B30,審判員!$A:$C,2,FALSE))=TRUE,\"\",VLOOKUP(B30,審判員!$A:$C,2,FALSE))","v":"久保山　守"},null,{"$f":"IF(ISERROR(VLOOKUP(B30,審判員!$A:$C,3,FALSE))=TRUE,\"\",VLOOKUP(B30,審判員!$A:$C,3,FALSE))","v":"３級"},"警告/退場",{"$f":"IF(ISERROR(VLOOKUP(CONCATENATE($F$10,\"_\",G31),選手名簿!$A:$E,5,FALSE))=TRUE,\"\",VLOOKUP(CONCATENATE($F$10,\"_\",G31),選手名簿!$A:$E,5,FALSE))","v":""},null,null,null,null,null,null,null,{"$f":"IF(ISERROR(VLOOKUP(CONCATENATE($N$10,\"_\",M31),選手名簿!$A:$E,5,FALSE))=TRUE,\"\",VLOOKUP(CONCATENATE($N$10,\"_\",M31),選手名簿!$A:$E,5,FALSE))","v":""},null,"4th:",{"$f":"IF(ISERROR(VLOOKUP(Q30,審判員!$A:$C,2,FALSE))=TRUE,\"\",VLOOKUP(Q30,審判員!$A:$C,2,FALSE))","v":"矢野　三千生"},null,{"$f":"IF(ISERROR(VLOOKUP(Q30,審判員!$A:$C,3,FALSE))=TRUE,\"\",VLOOKUP(Q30,審判員!$A:$C,3,FALSE))","v":"３級"},"警告/退場",{"$f":"IF(ISERROR(VLOOKUP(CONCATENATE($U$10,\"_\",V31),選手名簿!$A:$E,5,FALSE))=TRUE,\"\",VLOOKUP(CONCATENATE($U$10,\"_\",V31),選手名簿!$A:$E,5,FALSE))","v":""},null,null,null,null,null,null,null,{"$f":"IF(ISERROR(VLOOKUP(CONCATENATE($AC$10,\"_\",AB31),選手名簿!$A:$E,5,FALSE))=TRUE,\"\",VLOOKUP(CONCATENATE($AC$10,\"_\",AB31),選手名簿!$A:$E,5,FALSE))","v":""}]
[]
[]
[]
[]
[]
[]
[]
["MC","山野内　哲朗",null,null,"12:30:00",{"$f":"F6","v":"明野東サッカースポーツ少年団"},{"$f":"SUM(I39:I40)","v":8},"（",5,"前半",0,"）",{"$f":"SUM(K39:K40)","v":0},{"$f":"F7","v":"ＦＣ安岐"},null,"MC","松尾　章",null,null,"13:30:00",{"$f":"U6","v":"カティオーラフットボールクラブＵ－１２"},{"$f":"SUM(X39:X40)","v":1},"（",0,"前半",1,"）",{"$f":"SUM(Z39:Z40)","v":5},{"$f":"U7","v":"ＭＳＳ"}]
["Welfare\nOfficer","-",null,null,null,null,null,null,3,"後半",0,null,null,null,null,"Welfare\nOfficer","-",null,null,null,null,null,null,1,"後半",4]
["記録","仲野　昭博",null,null,null,null,null,null,null,"PK",null,null,null,null,null,"記録","中原　圭介",null,null,null,null,null,null,null,"PK"]
["＜Referee＞",null,null,null,null,"氏名","番号","分",null,null,null,"分","番号","氏名",null,"＜Referee＞",null,null,null,null,"氏名","番号","分",null,null,null,"分","番号","氏名"]
[null,null,null,null,"得点者",{"$f":"IF(ISERROR(VLOOKUP(CONCATENATE($F$39,\"_\",G43),選手名簿!$A:$E,5,FALSE))=TRUE,\"\",VLOOKUP(CONCATENATE($F$39,\"_\",G43),選手名簿!$A:$E,5,FALSE))","v":""},null,null,null,null,null,null,null,{"$f":"IF(ISERROR(VLOOKUP(CONCATENATE($N$39,\"_\",M43),選手名簿!$A:$E,5,FALSE))=TRUE,\"\",VLOOKUP(CONCATENATE($N$39,\"_\",M43),選手名簿!$A:$E,5,FALSE))","v":""},null,null,null,null,null,"得点者",{"$f":"IF(ISERROR(VLOOKUP(CONCATENATE($U$39,\"_\",V43),選手名簿!$A:$E,5,FALSE))=TRUE,\"\",VLOOKUP(CONCATENATE($U$39,\"_\",V43),選手名簿!$A:$E,5,FALSE))","v":""},null,null,null,null,null,null,null,{"$f":"IF(ISERROR(VLOOKUP(CONCATENATE($AC$39,\"_\",AB43),選手名簿!$A:$E,5,FALSE))=TRUE,\"\",VLOOKUP(CONCATENATE($AC$39,\"_\",AB43),選手名簿!$A:$E,5,FALSE))","v":""}]
[null,null,null,null,"得点者",{"$f":"IF(ISERROR(VLOOKUP(CONCATENATE($F$39,\"_\",G44),選手名簿!$A:$E,5,FALSE))=TRUE,\"\",VLOOKUP(CONCATENATE($F$39,\"_\",G44),選手名簿!$A:$E,5,FALSE))","v":""},null,null,null,null,null,null,null,{"$f":"IF(ISERROR(VLOOKUP(CONCATENATE($N$39,\"_\",M44),選手名簿!$A:$E,5,FALSE))=TRUE,\"\",VLOOKUP(CONCATENATE($N$39,\"_\",M44),選手名簿!$A:$E,5,FALSE))","v":""},null,null,null,null,null,"得点者",{"$f":"IF(ISERROR(VLOOKUP(CONCATENATE($U$39,\"_\",V44),選手名簿!$A:$E,5,FALSE))=TRUE,\"\",VLOOKUP(CONCATENATE($U$39,\"_\",V44),選手名簿!$A:$E,5,FALSE))","v":""},null,null,null,null,null,null,null,{"$f":"IF(ISERROR(VLOOKUP(CONCATENATE($AC$39,\"_\",AB44),選手名簿!$A:$E,5,FALSE))=TRUE,\"\",VLOOKUP(CONCATENATE($AC$39,\"_\",AB44),選手名簿!$A:$E,5,FALSE))","v":""}]
[null,null,null,null,"得点者",{"$f":"IF(ISERROR(VLOOKUP(CONCATENATE($F$39,\"_\",G45),選手名簿!$A:$E,5,FALSE))=TRUE,\"\",VLOOKUP(CONCATENATE($F$39,\"_\",G45),選手名簿!$A:$E,5,FALSE))","v":""},null,null,null,null,null,null,null,{"$f":"IF(ISERROR(VLOOKUP(CONCATENATE($N$39,\"_\",M45),選手名簿!$A:$E,5,FALSE))=TRUE,\"\",VLOOKUP(CONCATENATE($N$39,\"_\",M45),選手名簿!$A:$E,5,FALSE))","v":""},null,null,null,null,null,"得点者",{"$f":"IF(ISERROR(VLOOKUP(CONCATENATE($U$39,\"_\",V45),選手名簿!$A:$E,5,FALSE))=TRUE,\"\",VLOOKUP(CONCATENATE($U$39,\"_\",V45),選手名簿!$A:$E,5,FALSE))","v":""},null,null,null,null,null,null,null,{"$f":"IF(ISERROR(VLOOKUP(CONCATENATE($AC$39,\"_\",AB45),選手名簿!$A:$E,5,FALSE))=TRUE,\"\",VLOOKUP(CONCATENATE($AC$39,\"_\",AB45),選手名簿!$A:$E,5,FALSE))","v":""}]
[null,null,null,null,"得点者",{"$f":"IF(ISERROR(VLOOKUP(CONCATENATE($F$39,\"_\",G46),選手名簿!$A:$E,5,FALSE))=TRUE,\"\",VLOOKUP(CONCATENATE($F$39,\"_\",G46),選手名簿!$A:$E,5,FALSE))","v":""},null,null,null,null,null,null,null,{"$f":"IF(ISERROR(VLOOKUP(CONCATENATE($N$39,\"_\",M46),選手名簿!$A:$E,5,FALSE))=TRUE,\"\",VLOOKUP(CONCATENATE($N$39,\"_\",M46),選手名簿!$A:$E,5,FALSE))","v":""},null,null,null,null,null,"得点者",{"$f":"IF(ISERROR(VLOOKUP(CONCATENATE($U$39,\"_\",V46),選手名簿!$A:$E,5,FALSE))=TRUE,\"\",VLOOKUP(CONCATENATE($U$39,\"_\",V46),選手名簿!$A:$E,5,FALSE))","v":""},null,null,null,null,null,null,null,{"$f":"IF(ISERROR(VLOOKUP(CONCATENATE($AC$39,\"_\",AB46),選手名簿!$A:$E,5,FALSE))=TRUE,\"\",VLOOKUP(CONCATENATE($AC$39,\"_\",AB46),選手名簿!$A:$E,5,FALSE))","v":""}]
[null,null,null,null,"得点者",{"$f":"IF(ISERROR(VLOOKUP(CONCATENATE($F$39,\"_\",G47),選手名簿!$A:$E,5,FALSE))=TRUE,\"\",VLOOKUP(CONCATENATE($F$39,\"_\",G47),選手名簿!$A:$E,5,FALSE))","v":""},null,null,null,null,null,null,null,{"$f":"IF(ISERROR(VLOOKUP(CONCATENATE($N$39,\"_\",M47),選手名簿!$A:$E,5,FALSE))=TRUE,\"\",VLOOKUP(CONCATENATE($N$39,\"_\",M47),選手名簿!$A:$E,5,FALSE))","v":""},null,null,null,null,null,"得点者",{"$f":"IF(ISERROR(VLOOKUP(CONCATENATE($U$39,\"_\",V47),選手名簿!$A:$E,5,FALSE))=TRUE,\"\",VLOOKUP(CONCATENATE($U$39,\"_\",V47),選手名簿!$A:$E,5,FALSE))","v":""},null,null,null,null,null,null,null,{"$f":"IF(ISERROR(VLOOKUP(CONCATENATE($AC$39,\"_\",AB47),選手名簿!$A:$E,5,FALSE))=TRUE,\"\",VLOOKUP(CONCATENATE($AC$39,\"_\",AB47),選手名簿!$A:$E,5,FALSE))","v":""}]
[null,null,null,null,"得点者",{"$f":"IF(ISERROR(VLOOKUP(CONCATENATE($F$39,\"_\",G48),選手名簿!$A:$E,5,FALSE))=TRUE,\"\",VLOOKUP(CONCATENATE($F$39,\"_\",G48),選手名簿!$A:$E,5,FALSE))","v":""},null,null,null,null,null,null,null,{"$f":"IF(ISERROR(VLOOKUP(CONCATENATE($N$39,\"_\",M48),選手名簿!$A:$E,5,FALSE))=TRUE,\"\",VLOOKUP(CONCATENATE($N$39,\"_\",M48),選手名簿!$A:$E,5,FALSE))","v":""},null,null,null,null,null,"得点者",{"$f":"IF(ISERROR(VLOOKUP(CONCATENATE($U$39,\"_\",V48),選手名簿!$A:$E,5,FALSE))=TRUE,\"\",VLOOKUP(CONCATENATE($U$39,\"_\",V48),選手名簿!$A:$E,5,FALSE))","v":""},null,null,null,null,null,null,null,{"$f":"IF(ISERROR(VLOOKUP(CONCATENATE($AC$39,\"_\",AB48),選手名簿!$A:$E,5,FALSE))=TRUE,\"\",VLOOKUP(CONCATENATE($AC$39,\"_\",AB48),選手名簿!$A:$E,5,FALSE))","v":""}]
[null,null,null,null,"得点者",{"$f":"IF(ISERROR(VLOOKUP(CONCATENATE($F$39,\"_\",G49),選手名簿!$A:$E,5,FALSE))=TRUE,\"\",VLOOKUP(CONCATENATE($F$39,\"_\",G49),選手名簿!$A:$E,5,FALSE))","v":""},null,null,null,null,null,null,null,{"$f":"IF(ISERROR(VLOOKUP(CONCATENATE($N$39,\"_\",M49),選手名簿!$A:$E,5,FALSE))=TRUE,\"\",VLOOKUP(CONCATENATE($N$39,\"_\",M49),選手名簿!$A:$E,5,FALSE))","v":""},null,null,null,null,null,"得点者",{"$f":"IF(ISERROR(VLOOKUP(CONCATENATE($U$39,\"_\",V49),選手名簿!$A:$E,5,FALSE))=TRUE,\"\",VLOOKUP(CONCATENATE($U$39,\"_\",V49),選手名簿!$A:$E,5,FALSE))","v":""},null,null,null,null,null,null,null,{"$f":"IF(ISERROR(VLOOKUP(CONCATENATE($AC$39,\"_\",AB49),選手名簿!$A:$E,5,FALSE))=TRUE,\"\",VLOOKUP(CONCATENATE($AC$39,\"_\",AB49),選手名簿!$A:$E,5,FALSE))","v":""}]
[null,null,null,null,"得点者",{"$f":"IF(ISERROR(VLOOKUP(CONCATENATE($F$39,\"_\",G50),選手名簿!$A:$E,5,FALSE))=TRUE,\"\",VLOOKUP(CONCATENATE($F$39,\"_\",G50),選手名簿!$A:$E,5,FALSE))","v":""},null,null,null,null,null,null,null,{"$f":"IF(ISERROR(VLOOKUP(CONCATENATE($N$39,\"_\",M50),選手名簿!$A:$E,5,FALSE))=TRUE,\"\",VLOOKUP(CONCATENATE($N$39,\"_\",M50),選手名簿!$A:$E,5,FALSE))","v":""},null,null,null,null,null,"得点者",{"$f":"IF(ISERROR(VLOOKUP(CONCATENATE($U$39,\"_\",V50),選手名簿!$A:$E,5,FALSE))=TRUE,\"\",VLOOKUP(CONCATENATE($U$39,\"_\",V50),選手名簿!$A:$E,5,FALSE))","v":""},null,null,null,null,null,null,null,{"$f":"IF(ISERROR(VLOOKUP(CONCATENATE($AC$39,\"_\",AB50),選手名簿!$A:$E,5,FALSE))=TRUE,\"\",VLOOKUP(CONCATENATE($AC$39,\"_\",AB50),選手名簿!$A:$E,5,FALSE))","v":""}]
[null,null,null,null,"得点者",{"$f":"IF(ISERROR(VLOOKUP(CONCATENATE($F$39,\"_\",G51),選手名簿!$A:$E,5,FALSE))=TRUE,\"\",VLOOKUP(CONCATENATE($F$39,\"_\",G51),選手名簿!$A:$E,5,FALSE))","v":""},null,null,null,null,null,null,null,{"$f":"IF(ISERROR(VLOOKUP(CONCATENATE($N$39,\"_\",M51),選手名簿!$A:$E,5,FALSE))=TRUE,\"\",VLOOKUP(CONCATENATE($N$39,\"_\",M51),選手名簿!$A:$E,5,FALSE))","v":""},null,null,null,null,null,"得点者",{"$f":"IF(ISERROR(VLOOKUP(CONCATENATE($U$39,\"_\",V51),選手名簿!$A:$E,5,FALSE))=TRUE,\"\",VLOOKUP(CONCATENATE($U$39,\"_\",V51),選手名簿!$A:$E,5,FALSE))","v":""},null,null,null,null,null,null,null,{"$f":"IF(ISERROR(VLOOKUP(CONCATENATE($AC$39,\"_\",AB51),選手名簿!$A:$E,5,FALSE))=TRUE,\"\",VLOOKUP(CONCATENATE($AC$39,\"_\",AB51),選手名簿!$A:$E,5,FALSE))","v":""}]
[null,null,null,null,"得点者",{"$f":"IF(ISERROR(VLOOKUP(CONCATENATE($F$39,\"_\",G52),選手名簿!$A:$E,5,FALSE))=TRUE,\"\",VLOOKUP(CONCATENATE($F$39,\"_\",G52),選手名簿!$A:$E,5,FALSE))","v":""},null,null,null,null,null,null,null,{"$f":"IF(ISERROR(VLOOKUP(CONCATENATE($N$39,\"_\",M52),選手名簿!$A:$E,5,FALSE))=TRUE,\"\",VLOOKUP(CONCATENATE($N$39,\"_\",M52),選手名簿!$A:$E,5,FALSE))","v":""},null,null,null,null,null,"得点者",{"$f":"IF(ISERROR(VLOOKUP(CONCATENATE($U$39,\"_\",V52),選手名簿!$A:$E,5,FALSE))=TRUE,\"\",VLOOKUP(CONCATENATE($U$39,\"_\",V52),選手名簿!$A:$E,5,FALSE))","v":""},null,null,null,null,null,null,null,{"$f":"IF(ISERROR(VLOOKUP(CONCATENATE($AC$39,\"_\",AB52),選手名簿!$A:$E,5,FALSE))=TRUE,\"\",VLOOKUP(CONCATENATE($AC$39,\"_\",AB52),選手名簿!$A:$E,5,FALSE))","v":""}]
["番号","R001256314",null,null,"警告/退場",{"$f":"IF(ISERROR(VLOOKUP(CONCATENATE($F$39,\"_\",G53),選手名簿!$A:$E,5,FALSE))=TRUE,\"\",VLOOKUP(CONCATENATE($F$39,\"_\",G53),選手名簿!$A:$E,5,FALSE))","v":""},null,null,null,null,null,null,null,{"$f":"IF(ISERROR(VLOOKUP(CONCATENATE($N$39,\"_\",M53),選手名簿!$A:$E,5,FALSE))=TRUE,\"\",VLOOKUP(CONCATENATE($N$39,\"_\",M53),選手名簿!$A:$E,5,FALSE))","v":""},null,"番号","R003972443",null,null,"警告/退場",{"$f":"IF(ISERROR(VLOOKUP(CONCATENATE($U$39,\"_\",V53),選手名簿!$A:$E,5,FALSE))=TRUE,\"\",VLOOKUP(CONCATENATE($U$39,\"_\",V53),選手名簿!$A:$E,5,FALSE))","v":""},null,null,null,null,null,null,null,{"$f":"IF(ISERROR(VLOOKUP(CONCATENATE($AC$39,\"_\",AB53),選手名簿!$A:$E,5,FALSE))=TRUE,\"\",VLOOKUP(CONCATENATE($AC$39,\"_\",AB53),選手名簿!$A:$E,5,FALSE))","v":""}]
["R",{"$f":"IF(ISERROR(VLOOKUP(B53,審判員!$A:$C,2,FALSE))=TRUE,\"\",VLOOKUP(B53,審判員!$A:$C,2,FALSE))","v":"久保山　守"},null,{"$f":"IF(ISERROR(VLOOKUP(B53,審判員!$A:$C,3,FALSE))=TRUE,\"\",VLOOKUP(B53,審判員!$A:$C,3,FALSE))","v":"３級"},"警告/退場",{"$f":"IF(ISERROR(VLOOKUP(CONCATENATE($F$39,\"_\",G54),選手名簿!$A:$E,5,FALSE))=TRUE,\"\",VLOOKUP(CONCATENATE($F$39,\"_\",G54),選手名簿!$A:$E,5,FALSE))","v":""},null,null,null,null,null,null,null,{"$f":"IF(ISERROR(VLOOKUP(CONCATENATE($N$39,\"_\",M54),選手名簿!$A:$E,5,FALSE))=TRUE,\"\",VLOOKUP(CONCATENATE($N$39,\"_\",M54),選手名簿!$A:$E,5,FALSE))","v":""},null,"R",{"$f":"IF(ISERROR(VLOOKUP(Q53,審判員!$A:$C,2,FALSE))=TRUE,\"\",VLOOKUP(Q53,審判員!$A:$C,2,FALSE))","v":"矢野　三千生"},null,{"$f":"IF(ISERROR(VLOOKUP(Q53,審判員!$A:$C,3,FALSE))=TRUE,\"\",VLOOKUP(Q53,審判員!$A:$C,3,FALSE))","v":"３級"},"警告/退場",{"$f":"IF(ISERROR(VLOOKUP(CONCATENATE($U$39,\"_\",V54),選手名簿!$A:$E,5,FALSE))=TRUE,\"\",VLOOKUP(CONCATENATE($U$39,\"_\",V54),選手名簿!$A:$E,5,FALSE))","v":""},null,null,null,null,null,null,null,{"$f":"IF(ISERROR(VLOOKUP(CONCATENATE($AC$39,\"_\",AB54),選手名簿!$A:$E,5,FALSE))=TRUE,\"\",VLOOKUP(CONCATENATE($AC$39,\"_\",AB54),選手名簿!$A:$E,5,FALSE))","v":""}]
["番号","R001263721",null,null,"警告/退場",{"$f":"IF(ISERROR(VLOOKUP(CONCATENATE($F$39,\"_\",G55),選手名簿!$A:$E,5,FALSE))=TRUE,\"\",VLOOKUP(CONCATENATE($F$39,\"_\",G55),選手名簿!$A:$E,5,FALSE))","v":""},null,null,null,null,null,null,null,{"$f":"IF(ISERROR(VLOOKUP(CONCATENATE($N$39,\"_\",M55),選手名簿!$A:$E,5,FALSE))=TRUE,\"\",VLOOKUP(CONCATENATE($N$39,\"_\",M55),選手名簿!$A:$E,5,FALSE))","v":""},null,"番号","R001263183",null,null,"警告/退場",{"$f":"IF(ISERROR(VLOOKUP(CONCATENATE($U$39,\"_\",V55),選手名簿!$A:$E,5,FALSE))=TRUE,\"\",VLOOKUP(CONCATENATE($U$39,\"_\",V55),選手名簿!$A:$E,5,FALSE))","v":""},null,null,null,null,null,null,null,{"$f":"IF(ISERROR(VLOOKUP(CONCATENATE($AC$39,\"_\",AB55),選手名簿!$A:$E,5,FALSE))=TRUE,\"\",VLOOKUP(CONCATENATE($AC$39,\"_\",AB55),選手名簿!$A:$E,5,FALSE))","v":""}]
["AR1:",{"$f":"IF(ISERROR(VLOOKUP(B55,審判員!$A:$C,2,FALSE))=TRUE,\"\",VLOOKUP(B55,審判員!$A:$C,2,FALSE))","v":"園　貴司"},null,{"$f":"IF(ISERROR(VLOOKUP(B55,審判員!$A:$C,3,FALSE))=TRUE,\"\",VLOOKUP(B55,審判員!$A:$C,3,FALSE))","v":"３級"},"警告/退場",{"$f":"IF(ISERROR(VLOOKUP(CONCATENATE($F$39,\"_\",G56),選手名簿!$A:$E,5,FALSE))=TRUE,\"\",VLOOKUP(CONCATENATE($F$39,\"_\",G56),選手名簿!$A:$E,5,FALSE))","v":""},null,null,null,null,null,null,null,{"$f":"IF(ISERROR(VLOOKUP(CONCATENATE($N$39,\"_\",M56),選手名簿!$A:$E,5,FALSE))=TRUE,\"\",VLOOKUP(CONCATENATE($N$39,\"_\",M56),選手名簿!$A:$E,5,FALSE))","v":""},null,"AR1:",{"$f":"IF(ISERROR(VLOOKUP(Q55,審判員!$A:$C,2,FALSE))=TRUE,\"\",VLOOKUP(Q55,審判員!$A:$C,2,FALSE))","v":"桑原　栄二郎"},null,{"$f":"IF(ISERROR(VLOOKUP(Q55,審判員!$A:$C,3,FALSE))=TRUE,\"\",VLOOKUP(Q55,審判員!$A:$C,3,FALSE))","v":"３級"},"警告/退場",{"$f":"IF(ISERROR(VLOOKUP(CONCATENATE($U$39,\"_\",V56),選手名簿!$A:$E,5,FALSE))=TRUE,\"\",VLOOKUP(CONCATENATE($U$39,\"_\",V56),選手名簿!$A:$E,5,FALSE))","v":""},null,null,null,null,null,null,null,{"$f":"IF(ISERROR(VLOOKUP(CONCATENATE($AC$39,\"_\",AB56),選手名簿!$A:$E,5,FALSE))=TRUE,\"\",VLOOKUP(CONCATENATE($AC$39,\"_\",AB56),選手名簿!$A:$E,5,FALSE))","v":""}]
["番号","R006933694",null,null,"警告/退場",{"$f":"IF(ISERROR(VLOOKUP(CONCATENATE($F$39,\"_\",G57),選手名簿!$A:$E,5,FALSE))=TRUE,\"\",VLOOKUP(CONCATENATE($F$39,\"_\",G57),選手名簿!$A:$E,5,FALSE))","v":""},null,null,null,null,null,null,null,{"$f":"IF(ISERROR(VLOOKUP(CONCATENATE($N$39,\"_\",M57),選手名簿!$A:$E,5,FALSE))=TRUE,\"\",VLOOKUP(CONCATENATE($N$39,\"_\",M57),選手名簿!$A:$E,5,FALSE))","v":""},null,"番号","R009546073",null,null,"警告/退場",{"$f":"IF(ISERROR(VLOOKUP(CONCATENATE($U$39,\"_\",V57),選手名簿!$A:$E,5,FALSE))=TRUE,\"\",VLOOKUP(CONCATENATE($U$39,\"_\",V57),選手名簿!$A:$E,5,FALSE))","v":""},null,null,null,null,null,null,null,{"$f":"IF(ISERROR(VLOOKUP(CONCATENATE($AC$39,\"_\",AB57),選手名簿!$A:$E,5,FALSE))=TRUE,\"\",VLOOKUP(CONCATENATE($AC$39,\"_\",AB57),選手名簿!$A:$E,5,FALSE))","v":""}]
["AR2:",{"$f":"IF(ISERROR(VLOOKUP(B57,審判員!$A:$C,2,FALSE))=TRUE,\"\",VLOOKUP(B57,審判員!$A:$C,2,FALSE))","v":"東　紘造"},null,{"$f":"IF(ISERROR(VLOOKUP(B57,審判員!$A:$C,3,FALSE))=TRUE,\"\",VLOOKUP(B57,審判員!$A:$C,3,FALSE))","v":"３級"},"警告/退場",{"$f":"IF(ISERROR(VLOOKUP(CONCATENATE($F$39,\"_\",G58),選手名簿!$A:$E,5,FALSE))=TRUE,\"\",VLOOKUP(CONCATENATE($F$39,\"_\",G58),選手名簿!$A:$E,5,FALSE))","v":""},null,null,null,null,null,null,null,{"$f":"IF(ISERROR(VLOOKUP(CONCATENATE($N$39,\"_\",M58),選手名簿!$A:$E,5,FALSE))=TRUE,\"\",VLOOKUP(CONCATENATE($N$39,\"_\",M58),選手名簿!$A:$E,5,FALSE))","v":""},null,"AR2:",{"$f":"IF(ISERROR(VLOOKUP(Q57,審判員!$A:$C,2,FALSE))=TRUE,\"\",VLOOKUP(Q57,審判員!$A:$C,2,FALSE))","v":"小玉　篤史"},null,{"$f":"IF(ISERROR(VLOOKUP(Q57,審判員!$A:$C,3,FALSE))=TRUE,\"\",VLOOKUP(Q57,審判員!$A:$C,3,FALSE))","v":"３級"},"警告/退場",{"$f":"IF(ISERROR(VLOOKUP(CONCATENATE($U$39,\"_\",V58),選手名簿!$A:$E,5,FALSE))=TRUE,\"\",VLOOKUP(CONCATENATE($U$39,\"_\",V58),選手名簿!$A:$E,5,FALSE))","v":""},null,null,null,null,null,null,null,{"$f":"IF(ISERROR(VLOOKUP(CONCATENATE($AC$39,\"_\",AB58),選手名簿!$A:$E,5,FALSE))=TRUE,\"\",VLOOKUP(CONCATENATE($AC$39,\"_\",AB58),選手名簿!$A:$E,5,FALSE))","v":""}]
["番号","R006573784",null,null,"警告/退場",{"$f":"IF(ISERROR(VLOOKUP(CONCATENATE($F$39,\"_\",G59),選手名簿!$A:$E,5,FALSE))=TRUE,\"\",VLOOKUP(CONCATENATE($F$39,\"_\",G59),選手名簿!$A:$E,5,FALSE))","v":""},null,null,null,null,null,null,null,{"$f":"IF(ISERROR(VLOOKUP(CONCATENATE($N$39,\"_\",M59),選手名簿!$A:$E,5,FALSE))=TRUE,\"\",VLOOKUP(CONCATENATE($N$39,\"_\",M59),選手名簿!$A:$E,5,FALSE))","v":""},null,"番号","R001256314",null,null,"警告/退場",{"$f":"IF(ISERROR(VLOOKUP(CONCATENATE($U$39,\"_\",V59),選手名簿!$A:$E,5,FALSE))=TRUE,\"\",VLOOKUP(CONCATENATE($U$39,\"_\",V59),選手名簿!$A:$E,5,FALSE))","v":""},null,null,null,null,null,null,null,{"$f":"IF(ISERROR(VLOOKUP(CONCATENATE($AC$39,\"_\",AB59),選手名簿!$A:$E,5,FALSE))=TRUE,\"\",VLOOKUP(CONCATENATE($AC$39,\"_\",AB59),選手名簿!$A:$E,5,FALSE))","v":""}]
["4th:",{"$f":"IF(ISERROR(VLOOKUP(B59,審判員!$A:$C,2,FALSE))=TRUE,\"\",VLOOKUP(B59,審判員!$A:$C,2,FALSE))","v":"安倍　和広"},null,{"$f":"IF(ISERROR(VLOOKUP(B59,審判員!$A:$C,3,FALSE))=TRUE,\"\",VLOOKUP(B59,審判員!$A:$C,3,FALSE))","v":"３級"},"警告/退場",{"$f":"IF(ISERROR(VLOOKUP(CONCATENATE($F$39,\"_\",G60),選手名簿!$A:$E,5,FALSE))=TRUE,\"\",VLOOKUP(CONCATENATE($F$39,\"_\",G60),選手名簿!$A:$E,5,FALSE))","v":""},null,null,null,null,null,null,null,{"$f":"IF(ISERROR(VLOOKUP(CONCATENATE($N$39,\"_\",M60),選手名簿!$A:$E,5,FALSE))=TRUE,\"\",VLOOKUP(CONCATENATE($N$39,\"_\",M60),選手名簿!$A:$E,5,FALSE))","v":""},null,"4th:",{"$f":"IF(ISERROR(VLOOKUP(Q59,審判員!$A:$C,2,FALSE))=TRUE,\"\",VLOOKUP(Q59,審判員!$A:$C,2,FALSE))","v":"久保山　守"},null,{"$f":"IF(ISERROR(VLOOKUP(Q59,審判員!$A:$C,3,FALSE))=TRUE,\"\",VLOOKUP(Q59,審判員!$A:$C,3,FALSE))","v":"３級"},"警告/退場",{"$f":"IF(ISERROR(VLOOKUP(CONCATENATE($U$39,\"_\",V60),選手名簿!$A:$E,5,FALSE))=TRUE,\"\",VLOOKUP(CONCATENATE($U$39,\"_\",V60),選手名簿!$A:$E,5,FALSE))","v":""},null,null,null,null,null,null,null,{"$f":"IF(ISERROR(VLOOKUP(CONCATENATE($AC$39,\"_\",AB60),選手名簿!$A:$E,5,FALSE))=TRUE,\"\",VLOOKUP(CONCATENATE($AC$39,\"_\",AB60),選手名簿!$A:$E,5,FALSE))","v":""}]
[]
[]
[]
[]
[]
[]
[]
["MC","仲野　昭博",null,null,"14:30:00",{"$f":"F7","v":"ＦＣ安岐"},{"$f":"SUM(I68:I69)","v":1},"（",1,"前半",2,"）",{"$f":"SUM(K68:K69)","v":6},{"$f":"F5","v":"ＦＣアリアーレ"},null,"MC","中原　圭介",null,null,"15:30:00",{"$f":"U7","v":"ＭＳＳ"},{"$f":"SUM(X68:X69)","v":9},"（",4,"前半",0,"）",{"$f":"SUM(Z68:Z69)","v":0},{"$f":"U5","v":"ＦＣ中津ジュニア"}]
["Welfare\nOfficer","-",null,null,null,null,null,null,0,"後半",4,null,null,null,null,"Welfare\nOfficer","-",null,null,null,null,null,null,5,"後半",0]
["記録","山野内　哲朗",null,null,null,null,null,null,null,"PK",null,null,null,null,null,"記録","松尾　章",null,null,null,null,null,null,null,"PK"]
["＜Referee＞",null,null,null,null,"氏名","番号","分",null,null,null,"分","番号","氏名",null,"＜Referee＞",null,null,null,null,"氏名","番号","分",null,null,null,"分","番号","氏名"]
[null,null,null,null,"得点者",{"$f":"IF(ISERROR(VLOOKUP(CONCATENATE($F$68,\"_\",G72),選手名簿!$A:$E,5,FALSE))=TRUE,\"\",VLOOKUP(CONCATENATE($F$68,\"_\",G72),選手名簿!$A:$E,5,FALSE))","v":""},null,null,null,null,null,null,null,{"$f":"IF(ISERROR(VLOOKUP(CONCATENATE($N$68,\"_\",M72),選手名簿!$A:$E,5,FALSE))=TRUE,\"\",VLOOKUP(CONCATENATE($N$68,\"_\",M72),選手名簿!$A:$E,5,FALSE))","v":""},null,null,null,null,null,"得点者",{"$f":"IF(ISERROR(VLOOKUP(CONCATENATE($U$68,\"_\",V72),選手名簿!$A:$E,5,FALSE))=TRUE,\"\",VLOOKUP(CONCATENATE($U$68,\"_\",V72),選手名簿!$A:$E,5,FALSE))","v":""},null,null,null,null,null,null,null,{"$f":"IF(ISERROR(VLOOKUP(CONCATENATE($AC$68,\"_\",AB72),選手名簿!$A:$E,5,FALSE))=TRUE,\"\",VLOOKUP(CONCATENATE($AC$68,\"_\",AB72),選手名簿!$A:$E,5,FALSE))","v":""}]
[null,null,null,null,"得点者",{"$f":"IF(ISERROR(VLOOKUP(CONCATENATE($F$68,\"_\",G73),選手名簿!$A:$E,5,FALSE))=TRUE,\"\",VLOOKUP(CONCATENATE($F$68,\"_\",G73),選手名簿!$A:$E,5,FALSE))","v":""},null,null,null,null,null,null,null,{"$f":"IF(ISERROR(VLOOKUP(CONCATENATE($N$68,\"_\",M73),選手名簿!$A:$E,5,FALSE))=TRUE,\"\",VLOOKUP(CONCATENATE($N$68,\"_\",M73),選手名簿!$A:$E,5,FALSE))","v":""},null,null,null,null,null,"得点者",{"$f":"IF(ISERROR(VLOOKUP(CONCATENATE($U$68,\"_\",V73),選手名簿!$A:$E,5,FALSE))=TRUE,\"\",VLOOKUP(CONCATENATE($U$68,\"_\",V73),選手名簿!$A:$E,5,FALSE))","v":""},null,null,null,null,null,null,null,{"$f":"IF(ISERROR(VLOOKUP(CONCATENATE($AC$68,\"_\",AB73),選手名簿!$A:$E,5,FALSE))=TRUE,\"\",VLOOKUP(CONCATENATE($AC$68,\"_\",AB73),選手名簿!$A:$E,5,FALSE))","v":""}]
[null,null,null,null,"得点者",{"$f":"IF(ISERROR(VLOOKUP(CONCATENATE($F$68,\"_\",G74),選手名簿!$A:$E,5,FALSE))=TRUE,\"\",VLOOKUP(CONCATENATE($F$68,\"_\",G74),選手名簿!$A:$E,5,FALSE))","v":""},null,null,null,null,null,null,null,{"$f":"IF(ISERROR(VLOOKUP(CONCATENATE($N$68,\"_\",M74),選手名簿!$A:$E,5,FALSE))=TRUE,\"\",VLOOKUP(CONCATENATE($N$68,\"_\",M74),選手名簿!$A:$E,5,FALSE))","v":""},null,null,null,null,null,"得点者",{"$f":"IF(ISERROR(VLOOKUP(CONCATENATE($U$68,\"_\",V74),選手名簿!$A:$E,5,FALSE))=TRUE,\"\",VLOOKUP(CONCATENATE($U$68,\"_\",V74),選手名簿!$A:$E,5,FALSE))","v":""},null,null,null,null,null,null,null,{"$f":"IF(ISERROR(VLOOKUP(CONCATENATE($AC$68,\"_\",AB74),選手名簿!$A:$E,5,FALSE))=TRUE,\"\",VLOOKUP(CONCATENATE($AC$68,\"_\",AB74),選手名簿!$A:$E,5,FALSE))","v":""}]
[null,null,null,null,"得点者",{"$f":"IF(ISERROR(VLOOKUP(CONCATENATE($F$68,\"_\",G75),選手名簿!$A:$E,5,FALSE))=TRUE,\"\",VLOOKUP(CONCATENATE($F$68,\"_\",G75),選手名簿!$A:$E,5,FALSE))","v":""},null,null,null,null,null,null,null,{"$f":"IF(ISERROR(VLOOKUP(CONCATENATE($N$68,\"_\",M75),選手名簿!$A:$E,5,FALSE))=TRUE,\"\",VLOOKUP(CONCATENATE($N$68,\"_\",M75),選手名簿!$A:$E,5,FALSE))","v":""},null,null,null,null,null,"得点者",{"$f":"IF(ISERROR(VLOOKUP(CONCATENATE($U$68,\"_\",V75),選手名簿!$A:$E,5,FALSE))=TRUE,\"\",VLOOKUP(CONCATENATE($U$68,\"_\",V75),選手名簿!$A:$E,5,FALSE))","v":""},null,null,null,null,null,null,null,{"$f":"IF(ISERROR(VLOOKUP(CONCATENATE($AC$68,\"_\",AB75),選手名簿!$A:$E,5,FALSE))=TRUE,\"\",VLOOKUP(CONCATENATE($AC$68,\"_\",AB75),選手名簿!$A:$E,5,FALSE))","v":""}]
[null,null,null,null,"得点者",{"$f":"IF(ISERROR(VLOOKUP(CONCATENATE($F$68,\"_\",G76),選手名簿!$A:$E,5,FALSE))=TRUE,\"\",VLOOKUP(CONCATENATE($F$68,\"_\",G76),選手名簿!$A:$E,5,FALSE))","v":""},null,null,null,null,null,null,null,{"$f":"IF(ISERROR(VLOOKUP(CONCATENATE($N$68,\"_\",M76),選手名簿!$A:$E,5,FALSE))=TRUE,\"\",VLOOKUP(CONCATENATE($N$68,\"_\",M76),選手名簿!$A:$E,5,FALSE))","v":""},null,null,null,null,null,"得点者",{"$f":"IF(ISERROR(VLOOKUP(CONCATENATE($U$68,\"_\",V76),選手名簿!$A:$E,5,FALSE))=TRUE,\"\",VLOOKUP(CONCATENATE($U$68,\"_\",V76),選手名簿!$A:$E,5,FALSE))","v":""},null,null,null,null,null,null,null,{"$f":"IF(ISERROR(VLOOKUP(CONCATENATE($AC$68,\"_\",AB76),選手名簿!$A:$E,5,FALSE))=TRUE,\"\",VLOOKUP(CONCATENATE($AC$68,\"_\",AB76),選手名簿!$A:$E,5,FALSE))","v":""}]
[null,null,null,null,"得点者",{"$f":"IF(ISERROR(VLOOKUP(CONCATENATE($F$68,\"_\",G77),選手名簿!$A:$E,5,FALSE))=TRUE,\"\",VLOOKUP(CONCATENATE($F$68,\"_\",G77),選手名簿!$A:$E,5,FALSE))","v":""},null,null,null,null,null,null,null,{"$f":"IF(ISERROR(VLOOKUP(CONCATENATE($N$68,\"_\",M77),選手名簿!$A:$E,5,FALSE))=TRUE,\"\",VLOOKUP(CONCATENATE($N$68,\"_\",M77),選手名簿!$A:$E,5,FALSE))","v":""},null,null,null,null,null,"得点者",{"$f":"IF(ISERROR(VLOOKUP(CONCATENATE($U$68,\"_\",V77),選手名簿!$A:$E,5,FALSE))=TRUE,\"\",VLOOKUP(CONCATENATE($U$68,\"_\",V77),選手名簿!$A:$E,5,FALSE))","v":""},null,null,null,null,null,null,null,{"$f":"IF(ISERROR(VLOOKUP(CONCATENATE($AC$68,\"_\",AB77),選手名簿!$A:$E,5,FALSE))=TRUE,\"\",VLOOKUP(CONCATENATE($AC$68,\"_\",AB77),選手名簿!$A:$E,5,FALSE))","v":""}]
[null,null,null,null,"得点者",{"$f":"IF(ISERROR(VLOOKUP(CONCATENATE($F$68,\"_\",G78),選手名簿!$A:$E,5,FALSE))=TRUE,\"\",VLOOKUP(CONCATENATE($F$68,\"_\",G78),選手名簿!$A:$E,5,FALSE))","v":""},null,null,null,null,null,null,null,{"$f":"IF(ISERROR(VLOOKUP(CONCATENATE($N$68,\"_\",M78),選手名簿!$A:$E,5,FALSE))=TRUE,\"\",VLOOKUP(CONCATENATE($N$68,\"_\",M78),選手名簿!$A:$E,5,FALSE))","v":""},null,null,null,null,null,"得点者",{"$f":"IF(ISERROR(VLOOKUP(CONCATENATE($U$68,\"_\",V78),選手名簿!$A:$E,5,FALSE))=TRUE,\"\",VLOOKUP(CONCATENATE($U$68,\"_\",V78),選手名簿!$A:$E,5,FALSE))","v":""},null,null,null,null,null,null,null,{"$f":"IF(ISERROR(VLOOKUP(CONCATENATE($AC$68,\"_\",AB78),選手名簿!$A:$E,5,FALSE))=TRUE,\"\",VLOOKUP(CONCATENATE($AC$68,\"_\",AB78),選手名簿!$A:$E,5,FALSE))","v":""}]
[null,null,null,null,"得点者",{"$f":"IF(ISERROR(VLOOKUP(CONCATENATE($F$68,\"_\",G79),選手名簿!$A:$E,5,FALSE))=TRUE,\"\",VLOOKUP(CONCATENATE($F$68,\"_\",G79),選手名簿!$A:$E,5,FALSE))","v":""},null,null,null,null,null,null,null,{"$f":"IF(ISERROR(VLOOKUP(CONCATENATE($N$68,\"_\",M79),選手名簿!$A:$E,5,FALSE))=TRUE,\"\",VLOOKUP(CONCATENATE($N$68,\"_\",M79),選手名簿!$A:$E,5,FALSE))","v":""},null,null,null,null,null,"得点者",{"$f":"IF(ISERROR(VLOOKUP(CONCATENATE($U$68,\"_\",V79),選手名簿!$A:$E,5,FALSE))=TRUE,\"\",VLOOKUP(CONCATENATE($U$68,\"_\",V79),選手名簿!$A:$E,5,FALSE))","v":""},null,null,null,null,null,null,null,{"$f":"IF(ISERROR(VLOOKUP(CONCATENATE($AC$68,\"_\",AB79),選手名簿!$A:$E,5,FALSE))=TRUE,\"\",VLOOKUP(CONCATENATE($AC$68,\"_\",AB79),選手名簿!$A:$E,5,FALSE))","v":""}]
[null,null,null,null,"得点者",{"$f":"IF(ISERROR(VLOOKUP(CONCATENATE($F$68,\"_\",G80),選手名簿!$A:$E,5,FALSE))=TRUE,\"\",VLOOKUP(CONCATENATE($F$68,\"_\",G80),選手名簿!$A:$E,5,FALSE))","v":""},null,null,null,null,null,null,null,{"$f":"IF(ISERROR(VLOOKUP(CONCATENATE($N$68,\"_\",M80),選手名簿!$A:$E,5,FALSE))=TRUE,\"\",VLOOKUP(CONCATENATE($N$68,\"_\",M80),選手名簿!$A:$E,5,FALSE))","v":""},null,null,null,null,null,"得点者",{"$f":"IF(ISERROR(VLOOKUP(CONCATENATE($U$68,\"_\",V80),選手名簿!$A:$E,5,FALSE))=TRUE,\"\",VLOOKUP(CONCATENATE($U$68,\"_\",V80),選手名簿!$A:$E,5,FALSE))","v":""},null,null,null,null,null,null,null,{"$f":"IF(ISERROR(VLOOKUP(CONCATENATE($AC$68,\"_\",AB80),選手名簿!$A:$E,5,FALSE))=TRUE,\"\",VLOOKUP(CONCATENATE($AC$68,\"_\",AB80),選手名簿!$A:$E,5,FALSE))","v":""}]
[null,null,null,null,"得点者",{"$f":"IF(ISERROR(VLOOKUP(CONCATENATE($F$68,\"_\",G81),選手名簿!$A:$E,5,FALSE))=TRUE,\"\",VLOOKUP(CONCATENATE($F$68,\"_\",G81),選手名簿!$A:$E,5,FALSE))","v":""},null,null,null,null,null,null,null,{"$f":"IF(ISERROR(VLOOKUP(CONCATENATE($N$68,\"_\",M81),選手名簿!$A:$E,5,FALSE))=TRUE,\"\",VLOOKUP(CONCATENATE($N$68,\"_\",M81),選手名簿!$A:$E,5,FALSE))","v":""},null,null,null,null,null,"得点者",{"$f":"IF(ISERROR(VLOOKUP(CONCATENATE($U$68,\"_\",V81),選手名簿!$A:$E,5,FALSE))=TRUE,\"\",VLOOKUP(CONCATENATE($U$68,\"_\",V81),選手名簿!$A:$E,5,FALSE))","v":""},null,null,null,null,null,null,null,{"$f":"IF(ISERROR(VLOOKUP(CONCATENATE($AC$68,\"_\",AB81),選手名簿!$A:$E,5,FALSE))=TRUE,\"\",VLOOKUP(CONCATENATE($AC$68,\"_\",AB81),選手名簿!$A:$E,5,FALSE))","v":""}]
["番号","R006573784",null,null,"警告/退場",{"$f":"IF(ISERROR(VLOOKUP(CONCATENATE($F$68,\"_\",G82),選手名簿!$A:$E,5,FALSE))=TRUE,\"\",VLOOKUP(CONCATENATE($F$68,\"_\",G82),選手名簿!$A:$E,5,FALSE))","v":""},null,null,null,null,null,null,null,{"$f":"IF(ISERROR(VLOOKUP(CONCATENATE($N$68,\"_\",M82),選手名簿!$A:$E,5,FALSE))=TRUE,\"\",VLOOKUP(CONCATENATE($N$68,\"_\",M82),選手名簿!$A:$E,5,FALSE))","v":""},null,"番号","R001256314",null,null,"警告/退場",{"$f":"IF(ISERROR(VLOOKUP(CONCATENATE($U$68,\"_\",V82),選手名簿!$A:$E,5,FALSE))=TRUE,\"\",VLOOKUP(CONCATENATE($U$68,\"_\",V82),選手名簿!$A:$E,5,FALSE))","v":""},null,null,null,null,null,null,null,{"$f":"IF(ISERROR(VLOOKUP(CONCATENATE($AC$68,\"_\",AB82),選手名簿!$A:$E,5,FALSE))=TRUE,\"\",VLOOKUP(CONCATENATE($AC$68,\"_\",AB82),選手名簿!$A:$E,5,FALSE))","v":""}]
["R",{"$f":"IF(ISERROR(VLOOKUP(B82,審判員!$A:$C,2,FALSE))=TRUE,\"\",VLOOKUP(B82,審判員!$A:$C,2,FALSE))","v":"安倍　和広"},null,{"$f":"IF(ISERROR(VLOOKUP(B82,審判員!$A:$C,3,FALSE))=TRUE,\"\",VLOOKUP(B82,審判員!$A:$C,3,FALSE))","v":"３級"},"警告/退場",{"$f":"IF(ISERROR(VLOOKUP(CONCATENATE($F$68,\"_\",G83),選手名簿!$A:$E,5,FALSE))=TRUE,\"\",VLOOKUP(CONCATENATE($F$68,\"_\",G83),選手名簿!$A:$E,5,FALSE))","v":""},null,null,null,null,null,null,null,{"$f":"IF(ISERROR(VLOOKUP(CONCATENATE($N$68,\"_\",M83),選手名簿!$A:$E,5,FALSE))=TRUE,\"\",VLOOKUP(CONCATENATE($N$68,\"_\",M83),選手名簿!$A:$E,5,FALSE))","v":""},null,"R",{"$f":"IF(ISERROR(VLOOKUP(Q82,審判員!$A:$C,2,FALSE))=TRUE,\"\",VLOOKUP(Q82,審判員!$A:$C,2,FALSE))","v":"久保山　守"},null,{"$f":"IF(ISERROR(VLOOKUP(Q82,審判員!$A:$C,3,FALSE))=TRUE,\"\",VLOOKUP(Q82,審判員!$A:$C,3,FALSE))","v":"３級"},"警告/退場",{"$f":"IF(ISERROR(VLOOKUP(CONCATENATE($U$68,\"_\",V83),選手名簿!$A:$E,5,FALSE))=TRUE,\"\",VLOOKUP(CONCATENATE($U$68,\"_\",V83),選手名簿!$A:$E,5,FALSE))","v":""},null,null,null,null,null,null,null,{"$f":"IF(ISERROR(VLOOKUP(CONCATENATE($AC$68,\"_\",AB83),選手名簿!$A:$E,5,FALSE))=TRUE,\"\",VLOOKUP(CONCATENATE($AC$68,\"_\",AB83),選手名簿!$A:$E,5,FALSE))","v":""}]
["番号","R006933694",null,null,"警告/退場",{"$f":"IF(ISERROR(VLOOKUP(CONCATENATE($F$68,\"_\",G84),選手名簿!$A:$E,5,FALSE))=TRUE,\"\",VLOOKUP(CONCATENATE($F$68,\"_\",G84),選手名簿!$A:$E,5,FALSE))","v":""},null,null,null,null,null,null,null,{"$f":"IF(ISERROR(VLOOKUP(CONCATENATE($N$68,\"_\",M84),選手名簿!$A:$E,5,FALSE))=TRUE,\"\",VLOOKUP(CONCATENATE($N$68,\"_\",M84),選手名簿!$A:$E,5,FALSE))","v":""},null,"番号","R009546073",null,null,"警告/退場",{"$f":"IF(ISERROR(VLOOKUP(CONCATENATE($U$68,\"_\",V84),選手名簿!$A:$E,5,FALSE))=TRUE,\"\",VLOOKUP(CONCATENATE($U$68,\"_\",V84),選手名簿!$A:$E,5,FALSE))","v":""},null,null,null,null,null,null,null,{"$f":"IF(ISERROR(VLOOKUP(CONCATENATE($AC$68,\"_\",AB84),選手名簿!$A:$E,5,FALSE))=TRUE,\"\",VLOOKUP(CONCATENATE($AC$68,\"_\",AB84),選手名簿!$A:$E,5,FALSE))","v":""}]
["AR1:",{"$f":"IF(ISERROR(VLOOKUP(B84,審判員!$A:$C,2,FALSE))=TRUE,\"\",VLOOKUP(B84,審判員!$A:$C,2,FALSE))","v":"東　紘造"},null,{"$f":"IF(ISERROR(VLOOKUP(B84,審判員!$A:$C,3,FALSE))=TRUE,\"\",VLOOKUP(B84,審判員!$A:$C,3,FALSE))","v":"３級"},"警告/退場",{"$f":"IF(ISERROR(VLOOKUP(CONCATENATE($F$68,\"_\",G85),選手名簿!$A:$E,5,FALSE))=TRUE,\"\",VLOOKUP(CONCATENATE($F$68,\"_\",G85),選手名簿!$A:$E,5,FALSE))","v":""},null,null,null,null,null,null,null,{"$f":"IF(ISERROR(VLOOKUP(CONCATENATE($N$68,\"_\",M85),選手名簿!$A:$E,5,FALSE))=TRUE,\"\",VLOOKUP(CONCATENATE($N$68,\"_\",M85),選手名簿!$A:$E,5,FALSE))","v":""},null,"AR1:",{"$f":"IF(ISERROR(VLOOKUP(Q84,審判員!$A:$C,2,FALSE))=TRUE,\"\",VLOOKUP(Q84,審判員!$A:$C,2,FALSE))","v":"小玉　篤史"},null,{"$f":"IF(ISERROR(VLOOKUP(Q84,審判員!$A:$C,3,FALSE))=TRUE,\"\",VLOOKUP(Q84,審判員!$A:$C,3,FALSE))","v":"３級"},"警告/退場",{"$f":"IF(ISERROR(VLOOKUP(CONCATENATE($U$68,\"_\",V85),選手名簿!$A:$E,5,FALSE))=TRUE,\"\",VLOOKUP(CONCATENATE($U$68,\"_\",V85),選手名簿!$A:$E,5,FALSE))","v":""},null,null,null,null,null,null,null,{"$f":"IF(ISERROR(VLOOKUP(CONCATENATE($AC$68,\"_\",AB85),選手名簿!$A:$E,5,FALSE))=TRUE,\"\",VLOOKUP(CONCATENATE($AC$68,\"_\",AB85),選手名簿!$A:$E,5,FALSE))","v":""}]
["番号","R009197691",null,null,"警告/退場",{"$f":"IF(ISERROR(VLOOKUP(CONCATENATE($F$68,\"_\",G86),選手名簿!$A:$E,5,FALSE))=TRUE,\"\",VLOOKUP(CONCATENATE($F$68,\"_\",G86),選手名簿!$A:$E,5,FALSE))","v":""},null,null,null,null,null,null,null,{"$f":"IF(ISERROR(VLOOKUP(CONCATENATE($N$68,\"_\",M86),選手名簿!$A:$E,5,FALSE))=TRUE,\"\",VLOOKUP(CONCATENATE($N$68,\"_\",M86),選手名簿!$A:$E,5,FALSE))","v":""},null,"番号","R001255616",null,null,"警告/退場",{"$f":"IF(ISERROR(VLOOKUP(CONCATENATE($U$68,\"_\",V86),選手名簿!$A:$E,5,FALSE))=TRUE,\"\",VLOOKUP(CONCATENATE($U$68,\"_\",V86),選手名簿!$A:$E,5,FALSE))","v":""},null,null,null,null,null,null,null,{"$f":"IF(ISERROR(VLOOKUP(CONCATENATE($AC$68,\"_\",AB86),選手名簿!$A:$E,5,FALSE))=TRUE,\"\",VLOOKUP(CONCATENATE($AC$68,\"_\",AB86),選手名簿!$A:$E,5,FALSE))","v":""}]
["AR2:",{"$f":"IF(ISERROR(VLOOKUP(B86,審判員!$A:$C,2,FALSE))=TRUE,\"\",VLOOKUP(B86,審判員!$A:$C,2,FALSE))","v":"深堀　祥司"},null,{"$f":"IF(ISERROR(VLOOKUP(B86,審判員!$A:$C,3,FALSE))=TRUE,\"\",VLOOKUP(B86,審判員!$A:$C,3,FALSE))","v":"３級"},"警告/退場",{"$f":"IF(ISERROR(VLOOKUP(CONCATENATE($F$68,\"_\",G87),選手名簿!$A:$E,5,FALSE))=TRUE,\"\",VLOOKUP(CONCATENATE($F$68,\"_\",G87),選手名簿!$A:$E,5,FALSE))","v":""},null,null,null,null,null,null,null,{"$f":"IF(ISERROR(VLOOKUP(CONCATENATE($N$68,\"_\",M87),選手名簿!$A:$E,5,FALSE))=TRUE,\"\",VLOOKUP(CONCATENATE($N$68,\"_\",M87),選手名簿!$A:$E,5,FALSE))","v":""},null,"AR2:",{"$f":"IF(ISERROR(VLOOKUP(Q86,審判員!$A:$C,2,FALSE))=TRUE,\"\",VLOOKUP(Q86,審判員!$A:$C,2,FALSE))","v":"川井　勇介"},null,{"$f":"IF(ISERROR(VLOOKUP(Q86,審判員!$A:$C,3,FALSE))=TRUE,\"\",VLOOKUP(Q86,審判員!$A:$C,3,FALSE))","v":"３級"},"警告/退場",{"$f":"IF(ISERROR(VLOOKUP(CONCATENATE($U$68,\"_\",V87),選手名簿!$A:$E,5,FALSE))=TRUE,\"\",VLOOKUP(CONCATENATE($U$68,\"_\",V87),選手名簿!$A:$E,5,FALSE))","v":""},null,null,null,null,null,null,null,{"$f":"IF(ISERROR(VLOOKUP(CONCATENATE($AC$68,\"_\",AB87),選手名簿!$A:$E,5,FALSE))=TRUE,\"\",VLOOKUP(CONCATENATE($AC$68,\"_\",AB87),選手名簿!$A:$E,5,FALSE))","v":""}]
["番号","R003972443",null,null,"警告/退場",{"$f":"IF(ISERROR(VLOOKUP(CONCATENATE($F$68,\"_\",G88),選手名簿!$A:$E,5,FALSE))=TRUE,\"\",VLOOKUP(CONCATENATE($F$68,\"_\",G88),選手名簿!$A:$E,5,FALSE))","v":""},null,null,null,null,null,null,null,{"$f":"IF(ISERROR(VLOOKUP(CONCATENATE($N$68,\"_\",M88),選手名簿!$A:$E,5,FALSE))=TRUE,\"\",VLOOKUP(CONCATENATE($N$68,\"_\",M88),選手名簿!$A:$E,5,FALSE))","v":""},null,"番号","R006573784",null,null,"警告/退場",{"$f":"IF(ISERROR(VLOOKUP(CONCATENATE($U$68,\"_\",V88),選手名簿!$A:$E,5,FALSE))=TRUE,\"\",VLOOKUP(CONCATENATE($U$68,\"_\",V88),選手名簿!$A:$E,5,FALSE))","v":""},null,null,null,null,null,null,null,{"$f":"IF(ISERROR(VLOOKUP(CONCATENATE($AC$68,\"_\",AB88),選手名簿!$A:$E,5,FALSE))=TRUE,\"\",VLOOKUP(CONCATENATE($AC$68,\"_\",AB88),選手名簿!$A:$E,5,FALSE))","v":""}]
["4th:",{"$f":"IF(ISERROR(VLOOKUP(B88,審判員!$A:$C,2,FALSE))=TRUE,\"\",VLOOKUP(B88,審判員!$A:$C,2,FALSE))","v":"矢野　三千生"},null,{"$f":"IF(ISERROR(VLOOKUP(B88,審判員!$A:$C,3,FALSE))=TRUE,\"\",VLOOKUP(B88,審判員!$A:$C,3,FALSE))","v":"３級"},"警告/退場",{"$f":"IF(ISERROR(VLOOKUP(CONCATENATE($F$68,\"_\",G89),選手名簿!$A:$E,5,FALSE))=TRUE,\"\",VLOOKUP(CONCATENATE($F$68,\"_\",G89),選手名簿!$A:$E,5,FALSE))","v":""},null,null,null,null,null,null,null,{"$f":"IF(ISERROR(VLOOKUP(CONCATENATE($N$68,\"_\",M89),選手名簿!$A:$E,5,FALSE))=TRUE,\"\",VLOOKUP(CONCATENATE($N$68,\"_\",M89),選手名簿!$A:$E,5,FALSE))","v":""},null,"4th:",{"$f":"IF(ISERROR(VLOOKUP(Q88,審判員!$A:$C,2,FALSE))=TRUE,\"\",VLOOKUP(Q88,審判員!$A:$C,2,FALSE))","v":"安倍　和広"},null,{"$f":"IF(ISERROR(VLOOKUP(Q88,審判員!$A:$C,3,FALSE))=TRUE,\"\",VLOOKUP(Q88,審判員!$A:$C,3,FALSE))","v":"３級"},"警告/退場",{"$f":"IF(ISERROR(VLOOKUP(CONCATENATE($U$68,\"_\",V89),選手名簿!$A:$E,5,FALSE))=TRUE,\"\",VLOOKUP(CONCATENATE($U$68,\"_\",V89),選手名簿!$A:$E,5,FALSE))","v":""},null,null,null,null,null,null,null,{"$f":"IF(ISERROR(VLOOKUP(CONCATENATE($AC$68,\"_\",AB89),選手名簿!$A:$E,5,FALSE))=TRUE,\"\",VLOOKUP(CONCATENATE($AC$68,\"_\",AB89),選手名簿!$A:$E,5,FALSE))","v":""}]

{"sheet":"決勝トーナメント","index":11,"n_rows":31,"n_cols":34,"rows_kept":31,"cut":false,"hidden":false,"merged":[[2,23,3,28],[2,29,3,34],[0,23,1,34],[29,4,29,5],[24,15,24,16],[25,15,25,16],[25,13,25,14],[11,12,11,13],[19,12,19,13],[13,12,16,13],[29,12,29,13],[24,11,24,12],[23,10,23,11],[20,10,20,11],[24,13,24,14],[22,10,22,11],[27,14,27,15],[23,14,23,15],[20,14,20,15],[18,4,18,5],[13,4,16,5],[23,6,23,7],[18,12,18,13],[25,7,25,8],[11,4,11,5],[28,4,28,5],[25,3,25,4],[27,2,27,3],[25,11,25,12],[28,12,28,13],[27,6,27,7],[24,3,24,4],[14,27,15,28],[23,2,23,3],[20,2,20,3],[24,1,24,2],[24,7,24,8],[24,5,24,6],[25,5,25,6],[19,4,19,5],[25,1,25,2],[22,2,22,3],[25,9,25,10],[6,21,7,22],[4,21,5,22],[24,9,24,10],[20,6,20,7],[22,6,22,7],[2,6,2,11],[4,8,7,9],[9,8,9,9],[10,8,10,9],[8,20,11,20],[8,21,11,22],[22,14,22,15],[2,13,2,14],[5,13,5,14],[2,21,3,22],[2,4,2,5],[26,23,27,24],[26,27,27,28],[26,20,29,20],[27,10,27,11],[26,29,27,30],[26,33,27,34],[26,25,29,26],[28,23,29,24],[28,27,29,28],[28,29,29,30],[28,33,29,34],[26,31,29,32],[26,21,29,22],[22,33,23,34],[20,33,21,34],[20,29,21,30],[20,27,21,28],[18,23,19,24],[18,27,19,28],[18,29,19,30],[18,33,19,34],[16,33,17,34],[16,29,17,30],[30,21,31,22],[30,23,31,34],[24,21,25,22],[24,23,25,34],[20,21,23,22],[20,20,23,20],[16,20,19,20],[12,20,15,20],[12,21,15,22],[16,21,19,22],[20,25,23,26],[20,31,23,32],[16,31,19,32],[16,25,19,26],[12,25,15,26],[12,31,15,32],[16,23,17,24],[12,23,13,24],[14,23,15,24],[8,31,11,32],[8,25,11,26],[20,23,21,24],[22,23,23,24],[22,27,23,28],[22,29,23,30],[14,33,15,34],[12,33,13,34],[12,29,13,30],[12,27,13,28],[10,23,11,24],[10,27,11,28],[10,29,11,30],[10,33,11,34],[8,33,9,34],[8,29,9,30],[8,27,9,28],[8,23,9,24],[14,29,15,30],[16,27,17,28]]}
[null,"《決勝トーナメント日程》",null,null,null,null,null,"７月７日（日）",null,null,null,null,"８：００　開場",null,null,null,null,null,null,null,null,null,null,"大分ｽﾎﾟｰﾂ公園 昭和電工ｻｯｶｰ･ﾗｸﾞﾋﾞｰ場　Aｺｰﾄ"]
[]
[null,null,null,null,"☆優勝",null,"大分トリニータＵ－１２",null,null,null,null,null,null,"☆準優勝",null,null,null,null,null,null,null,"開始時刻",null,"「北」コート",null,null,null,null,null,"「南」コート"]
[null,null,null,null,null,null,null,null,null,null,null,null,null,"・ＦＣアリアーレ"]
[null,null,null,null,null,null,null,null,{"$f":"Z27","v":"Match No：33\n0　 前半 　0\n0 　後半 　1"},null,null,null,null,null,null,null,null,null,null,null,null,"会場設営"]
[null,null,null,null,null,null,null,null,null,null,null,null,null,"☆３位"]
[null,null,null,null,null,null,null,null,null,null,null,null,null,"・ＭＳＳ",null,null,null,null,null,null,null,"審判"]
[null,null,null,null,null,null,null,null,null,null,null,null,null,"・ドリームキッズフットボールクラブ"]
[null,null,null,null,null,null,null,null,null,null,null,null,null,null,null,null,null,null,null,null,"①","09:30:00",null,"A-１位",null,"Match No：25\n0　 前半 　0\n1 　後半 　2",null,"E-１位",null,"B-１位",null,"Match No：26\n0　 前半 　0\n0 　後半 　1",null,"F-１位"]
[null,null,null,null,null,null,null,null,"Match No:33"]
[null,null,null,null,null,null,null,null,"13:30～ 北",null,null,null,null,null,null,null,null,null,null,null,null,null,null,{"$f":"B26","v":"ＷＡＹＳ"},null,null,null,{"$f":"D26","v":"ドリームキッズ"},null,{"$f":"F26","v":"中津沖代"},null,null,null,{"$f":"H26","v":"アリアーレ"}]
[null,null,null,null,"アリアーレ",null,null,null,null,null,null,null,"大分トリニータ"]
[null,null,null,null,null,null,null,null,null,null,null,null,null,null,null,null,null,null,null,null,"②","10:10:00",null,"C-１位",null,"Match No：27\n1　 前半 　0\n1 　後半 　1",null,"G-１位",null,"D-１位",null,"Match No：28\n0　 前半 　3\n0 　後半 　0",null,"H-１位"]
[null,null,null,null,{"$f":"Z17","v":"Match No：29\n0　 前半 　1\n0 　後半 　0"},null,null,null,null,null,null,null,{"$f":"Z21","v":"Match No：31\n1　 前半 　1\n1 　後半 　1\n2 　ＰＫ 　0"}]
[null,null,null,null,null,null,null,null,null,null,null,null,null,null,null,null,null,null,null,null,null,null,null,{"$f":"J26","v":"大分トリニータ"},null,null,null,{"$f":"L26","v":"スマイス　スポーツ"},null,{"$f":"N26","v":"大道"},null,null,null,{"$f":"P26","v":"ＭＳＳ"}]
[]
[null,null,null,null,null,null,null,null,null,null,null,null,null,null,null,null,null,null,null,null,"③","10:50:00",null,"Match No：25 勝",null,"Match No：29\n0　 前半 　1\n0 　後半 　0",null,"Match No：26 勝",null,"Match No：25  負",null,"Match No：30\n3　 前半 　0\n4 　後半 　0",null,"Match No：26  負"]
[]
[null,null,null,null,"Match No:29",null,null,null,null,null,null,null,"Match No:31",null,null,null,null,null,null,null,null,null,null,{"$f":"C21","v":"ドリームキッズ"},null,null,null,{"$f":"G21","v":"アリアーレ"},null,{"$f":"C28","v":"ＷＡＹＳ"},null,null,null,{"$f":"G28","v":"中津沖代"}]
[null,null,null,null,"10:50～ 北",null,null,null,null,null,null,null,"11:30～ 北"]
[null,null,"ドリームキッズ",null,null,null,"アリアーレ",null,null,null,"大分トリニータ",null,null,null,"ＭＳＳ",null,null,null,null,null,"④","11:30:00",null,"Match No：27 勝",null,"Match No：31\n1　 前半 　1\n1 　後半 　1\n2 　ＰＫ 　0",null,"Match No：28 勝",null,"Match No：27  負",null,"Match No：32\n1　 前半 　0\n0 　後半 　1\n3 　ＰＫ 　2",null,"Match No：28  負"]
[]
[null,null,"Match No:25",null,null,null,"Match No:26",null,null,null,"Match No:27",null,null,null,"Match No:28",null,null,null,null,null,null,null,null,{"$f":"K21","v":"大分トリニータ"},null,null,null,{"$f":"O21","v":"ＭＳＳ"},null,{"$f":"K28","v":"スマイス　スポーツ"},null,null,null,{"$f":"O28","v":"大道"}]
[null,null,"9:30～ 北",null,null,null,"9:30～ 南",null,null,null,"10:10～ 北",null,null,null,"10:10～ 南"]
[null,"A-１位",null,"E-１位",null,"B-１位",null,"F-１位",null,"C-１位",null,"G-１位",null,"D-１位",null,"H-１位",null,null,null,null,null,"12:10:00",null,"休憩"]
[null,"ＷＡＹＳ",null,"ドリームキッズ",null,"中津沖代",null,"アリアーレ",null,"大分トリニータ",null,"スマイス　スポーツ",null,"大道",null,"ＭＳＳ"]
[null,null,null,null,null,null,null,null,null,null,null,null,null,null,null,null,null,null,null,null,"⑤","13:30:00",null,"Match No：29 勝",null,"Match No：33\n0　 前半 　0\n0 　後半 　1",null,"Match No：31 勝"]
[null,null,"ＷＡＹＳ",null,null,null,"中津沖代",null,null,null,"スマイス　スポーツ",null,null,null,"大道"]
[null,null,null,null,"Match No:30",null,null,null,null,null,null,null,"Match No:32",null,null,null,null,null,null,null,null,null,null,{"$f":"E12","v":"アリアーレ"},null,null,null,{"$f":"M12","v":"大分トリニータ"}]
[null,null,null,null,"10:50～ 南",null,null,null,null,null,null,null,"11:30～ 南"]
[null,null,null,null,null,null,null,null,null,null,null,null,null,null,null,null,null,null,null,null,null,"14:10:00",null,"閉会式"]

{"sheet":"決勝T公式記録","index":12,"n_rows":116,"n_cols":29,"rows_kept":116,"cut":false,"hidden":true,"merged":[[82,1,82,3],[82,16,82,18],[85,1,85,2],[85,16,85,17],[83,1,83,2],[83,16,83,17],[84,1,84,3],[84,16,84,18],[109,1,109,2],[109,16,109,17],[110,1,110,3],[110,16,110,18],[111,1,111,2],[111,16,111,17],[115,1,115,2],[115,16,115,17],[112,1,112,3],[112,16,112,18],[113,1,113,2],[113,16,113,17],[114,1,114,3],[114,16,114,18],[91,28,93,28],[107,0,107,3],[107,15,107,18],[108,1,108,3],[108,16,108,18],[91,13,93,13],[91,19,93,19],[91,20,93,20],[91,21,93,21],[91,22,93,22],[91,26,93,26],[91,4,93,4],[91,5,93,5],[91,6,93,6],[91,7,93,7],[91,11,93,11],[91,12,93,12],[91,27,93,27],[91,16,91,18],[92,16,92,18],[93,16,93,18],[91,1,91,3],[92,1,92,3],[93,1,93,3],[33,11,35,11],[33,12,35,12],[33,13,35,13],[19,0,19,3],[19,15,19,18],[47,0,47,3],[47,15,47,18],[54,16,54,18],[26,1,26,3],[33,7,35,7],[20,1,20,3],[20,16,20,18],[21,1,21,2],[21,16,21,17],[22,1,22,3],[22,16,22,18],[33,16,33,18],[34,16,34,18],[35,16,35,18],[51,1,51,2],[51,16,51,17],[52,1,52,3],[27,1,27,2],[27,16,27,17],[55,1,55,2],[55,16,55,17],[23,1,23,2],[23,16,23,17],[53,1,53,2],[53,16,53,17],[54,1,54,3],[33,28,35,28],[48,16,48,18],[49,1,49,2],[49,16,49,17],[50,1,50,3],[50,16,50,18],[33,19,35,19],[33,20,35,20],[33,21,35,21],[33,22,35,22],[33,26,35,26],[33,27,35,27],[48,1,48,3],[33,6,35,6],[33,1,33,3],[34,1,34,3],[35,1,35,3],[0,0,0,9],[0,10,0,13],[0,15,0,24],[5,4,7,4],[5,5,7,5],[5,6,7,6],[5,7,7,7],[25,16,25,17],[26,16,26,18],[5,1,5,3],[6,1,6,3],[7,1,7,3],[5,16,5,18],[6,16,6,18],[7,16,7,18],[0,25,0,28],[81,16,81,17],[61,11,63,11],[61,12,63,12],[61,13,63,13],[78,1,78,3],[77,0,77,3],[81,1,81,2],[5,20,7,20],[5,21,7,21],[5,27,7,27],[5,28,7,28],[5,22,7,22],[5,26,7,26],[5,11,7,11],[5,12,7,12],[5,13,7,13],[5,19,7,19],[24,1,24,3],[24,16,24,18],[25,1,25,2],[52,16,52,18],[33,4,35,4],[33,5,35,5],[61,22,63,22],[61,26,63,26],[61,27,63,27],[61,28,63,28],[80,1,80,3],[80,16,80,18],[61,19,63,19],[61,20,63,20],[61,21,63,21],[78,16,78,18],[79,16,79,17],[61,4,63,4],[61,5,63,5],[79,1,79,2],[61,6,63,6],[61,7,63,7],[61,1,61,3],[62,1,62,3],[63,1,63,3],[61,16,61,18],[62,16,62,18],[63,16,63,18],[77,15,77,18]]}
[{"$f":"大会要項!$B$2","v":"第8回 全日本不動産協会杯争奪少年サッカー大会【ラビットカップ】大分県大会"},null,null,null,null,null,null,null,null,null,"決勝トーナメント結果　報告用紙",null,null,null,null,{"$f":"大会要項!$B$2","v":"第8回 全日本不動産協会杯争奪少年サッカー大会【ラビットカップ】大分県大会"},null,null,null,null,null,null,null,null,null,"決勝トーナメント結果　報告用紙"]
[]
["会場","大分ｽﾎﾟｰﾂ公園 昭和電工ｻｯｶｰ･ﾗｸﾞﾋﾞｰ場　Aｺｰﾄ　北側",null,null,null,null,null,null,null,null,null,null,null,null,null,"会場","大分ｽﾎﾟｰﾂ公園 昭和電工ｻｯｶｰ･ﾗｸﾞﾋﾞｰ場　Aｺｰﾄ　南側"]
[]
[null,"Match No：25",null,null,null,null,null,null,null,null,null,null,null,null,null,null,"Match No：26"]
["MC","中原　圭介",null,null,"09:30:00",{"$f":"VLOOKUP(決勝トーナメント!B26,組合せ抽選用!$S:$U,3,FALSE)","v":"ＦＣ　ＷＡＹＳ"},{"$f":"SUM(I6:I7)","v":1},"（",0,"前半",0,"）",{"$f":"SUM(K6:K7)","v":2},{"$f":"VLOOKUP(決勝トーナメント!D26,組合せ抽選用!$S:$U,3,FALSE)","v":"ドリームキッズフットボールクラブ"},null,"MC","仲野　昭博",null,null,"09:30:00",{"$f":"VLOOKUP(決勝トーナメント!F26,組合せ抽選用!$S:$U,3,FALSE)","v":"中津沖代ＪＳＣ"},{"$f":"SUM(X6:X7)","v":0},"（",0,"前半",0,"）",{"$f":"SUM(Z6:Z7)","v":1},{"$f":"VLOOKUP(決勝トーナメント!H26,組合せ抽選用!$S:$U,3,FALSE)","v":"ＦＣアリアーレ"}]
["Welfare\nOfficer","毛藤　勇三",null,null,null,null,null,null,1,"後半",2,null,null,null,null,"Welfare\nOfficer","秦　啓一郎",null,null,null,null,null,null,0,"後半",1]
["記録","佐々木　秀樹",null,null,null,null,null,null,null,"PK",null,null,null,null,null,"記録","榊　謙治",null,null,null,null,null,null,null,"PK"]
[null,null,null,null,null,"氏名","番号","分",null,null,null,"分","番号","氏名",null,null,null,null,null,null,"氏名","番号","分",null,null,null,"分","番号","氏名"]
[null,null,null,null,"得点者",{"$f":"IF(ISERROR(VLOOKUP(CONCATENATE($F$6,\"_\",G10),選手名簿!$A:$E,5,FALSE))=TRUE,\"\",VLOOKUP(CONCATENATE($F$6,\"_\",G10),選手名簿!$A:$E,5,FALSE))","v":""},null,null,null,null,null,null,null,{"$f":"IF(ISERROR(VLOOKUP(CONCATENATE($N$6,\"_\",M10),選手名簿!$A:$E,5,FALSE))=TRUE,\"\",VLOOKUP(CONCATENATE($N$6,\"_\",M10),選手名簿!$A:$E,5,FALSE))","v":""},null,null,null,null,null,"得点者",{"$f":"IF(ISERROR(VLOOKUP(CONCATENATE($U$6,\"_\",V10),選手名簿!$A:$E,5,FALSE))=TRUE,\"\",VLOOKUP(CONCATENATE($U$6,\"_\",V10),選手名簿!$A:$E,5,FALSE))","v":""},null,null,null,null,null,null,null,{"$f":"IF(ISERROR(VLOOKUP(CONCATENATE($AC$6,\"_\",AB10),選手名簿!$A:$E,5,FALSE))=TRUE,\"\",VLOOKUP(CONCATENATE($AC$6,\"_\",AB10),選手名簿!$A:$E,5,FALSE))","v":""}]
[null,null,null,null,"得点者",{"$f":"IF(ISERROR(VLOOKUP(CONCATENATE($F$6,\"_\",G11),選手名簿!$A:$E,5,FALSE))=TRUE,\"\",VLOOKUP(CONCATENATE($F$6,\"_\",G11),選手名簿!$A:$E,5,FALSE))","v":""},null,null,null,null,null,null,null,{"$f":"IF(ISERROR(VLOOKUP(CONCATENATE($N$6,\"_\",M11),選手名簿!$A:$E,5,FALSE))=TRUE,\"\",VLOOKUP(CONCATENATE($N$6,\"_\",M11),選手名簿!$A:$E,5,FALSE))","v":""},null,null,null,null,null,"得点者",{"$f":"IF(ISERROR(VLOOKUP(CONCATENATE($U$6,\"_\",V11),選手名簿!$A:$E,5,FALSE))=TRUE,\"\",VLOOKUP(CONCATENATE($U$6,\"_\",V11),選手名簿!$A:$E,5,FALSE))","v":""},null,null,null,null,null,null,null,{"$f":"IF(ISERROR(VLOOKUP(CONCATENATE($AC$6,\"_\",AB11),選手名簿!$A:$E,5,FALSE))=TRUE,\"\",VLOOKUP(CONCATENATE($AC$6,\"_\",AB11),選手名簿!$A:$E,5,FALSE))","v":""}]
[null,null,null,null,"得点者",{"$f":"IF(ISERROR(VLOOKUP(CONCATENATE($F$6,\"_\",G12),選手名簿!$A:$E,5,FALSE))=TRUE,\"\",VLOOKUP(CONCATENATE($F$6,\"_\",G12),選手名簿!$A:$E,5,FALSE))","v":""},null,null,null,null,null,null,null,{"$f":"IF(ISERROR(VLOOKUP(CONCATENATE($N$6,\"_\",M12),選手名簿!$A:$E,5,FALSE))=TRUE,\"\",VLOOKUP(CONCATENATE($N$6,\"_\",M12),選手名簿!$A:$E,5,FALSE))","v":""},null,null,null,null,null,"得点者",{"$f":"IF(ISERROR(VLOOKUP(CONCATENATE($U$6,\"_\",V12),選手名簿!$A:$E,5,FALSE))=TRUE,\"\",VLOOKUP(CONCATENATE($U$6,\"_\",V12),選手名簿!$A:$E,5,FALSE))","v":""},null,null,null,null,null,null,null,{"$f":"IF(ISERROR(VLOOKUP(CONCATENATE($AC$6,\"_\",AB12),選手名簿!$A:$E,5,FALSE))=TRUE,\"\",VLOOKUP(CONCATENATE($AC$6,\"_\",AB12),選手名簿!$A:$E,5,FALSE))","v":""}]
[null,null,null,null,"得点者",{"$f":"IF(ISERROR(VLOOKUP(CONCATENATE($F$6,\"_\",G13),選手名簿!$A:$E,5,FALSE))=TRUE,\"\",VLOOKUP(CONCATENATE($F$6,\"_\",G13),選手名簿!$A:$E,5,FALSE))","v":""},null,null,null,null,null,null,null,{"$f":"IF(ISERROR(VLOOKUP(CONCATENATE($N$6,\"_\",M13),選手名簿!$A:$E,5,FALSE))=TRUE,\"\",VLOOKUP(CONCATENATE($N$6,\"_\",M13),選手名簿!$A:$E,5,FALSE))","v":""},null,null,null,null,null,"得点者",{"$f":"IF(ISERROR(VLOOKUP(CONCATENATE($U$6,\"_\",V13),選手名簿!$A:$E,5,FALSE))=TRUE,\"\",VLOOKUP(CONCATENATE($U$6,\"_\",V13),選手名簿!$A:$E,5,FALSE))","v":""},null,null,null,null,null,null,null,{"$f":"IF(ISERROR(VLOOKUP(CONCATENATE($AC$6,\"_\",AB13),選手名簿!$A:$E,5,FALSE))=TRUE,\"\",VLOOKUP(CONCATENATE($AC$6,\"_\",AB13),選手名簿!$A:$E,5,FALSE))","v":""}]
[null,null,null,null,"得点者",{"$f":"IF(ISERROR(VLOOKUP(CONCATENATE($F$6,\"_\",G14),選手名簿!$A:$E,5,FALSE))=TRUE,\"\",VLOOKUP(CONCATENATE($F$6,\"_\",G14),選手名簿!$A:$E,5,FALSE))","v":""},null,null,null,null,null,null,null,{"$f":"IF(ISERROR(VLOOKUP(CONCATENATE($N$6,\"_\",M14),選手名簿!$A:$E,5,FALSE))=TRUE,\"\",VLOOKUP(CONCATENATE($N$6,\"_\",M14),選手名簿!$A:$E,5,FALSE))","v":""},null,null,null,null,null,"得点者",{"$f":"IF(ISERROR(VLOOKUP(CONCATENATE($U$6,\"_\",V14),選手名簿!$A:$E,5,FALSE))=TRUE,\"\",VLOOKUP(CONCATENATE($U$6,\"_\",V14),選手名簿!$A:$E,5,FALSE))","v":""},null,null,null,null,null,null,null,{"$f":"IF(ISERROR(VLOOKUP(CONCATENATE($AC$6,\"_\",AB14),選手名簿!$A:$E,5,FALSE))=TRUE,\"\",VLOOKUP(CONCATENATE($AC$6,\"_\",AB14),選手名簿!$A:$E,5,FALSE))","v":""}]
[null,null,null,null,"得点者",{"$f":"IF(ISERROR(VLOOKUP(CONCATENATE($F$6,\"_\",G15),選手名簿!$A:$E,5,FALSE))=TRUE,\"\",VLOOKUP(CONCATENATE($F$6,\"_\",G15),選手名簿!$A:$E,5,FALSE))","v":""},null,null,null,null,null,null,null,{"$f":"IF(ISERROR(VLOOKUP(CONCATENATE($N$6,\"_\",M15),選手名簿!$A:$E,5,FALSE))=TRUE,\"\",VLOOKUP(CONCATENATE($N$6,\"_\",M15),選手名簿!$A:$E,5,FALSE))","v":""},null,null,null,null,null,"得点者",{"$f":"IF(ISERROR(VLOOKUP(CONCATENATE($U$6,\"_\",V15),選手名簿!$A:$E,5,FALSE))=TRUE,\"\",VLOOKUP(CONCATENATE($U$6,\"_\",V15),選手名簿!$A:$E,5,FALSE))","v":""},null,null,null,null,null,null,null,{"$f":"IF(ISERROR(VLOOKUP(CONCATENATE($AC$6,\"_\",AB15),選手名簿!$A:$E,5,FALSE))=TRUE,\"\",VLOOKUP(CONCATENATE($AC$6,\"_\",AB15),選手名簿!$A:$E,5,FALSE))","v":""}]
[null,null,null,null,"得点者",{"$f":"IF(ISERROR(VLOOKUP(CONCATENATE($F$6,\"_\",G16),選手名簿!$A:$E,5,FALSE))=TRUE,\"\",VLOOKUP(CONCATENATE($F$6,\"_\",G16),選手名簿!$A:$E,5,FALSE))","v":""},null,null,null,null,null,null,null,{"$f":"IF(ISERROR(VLOOKUP(CONCATENATE($N$6,\"_\",M16),選手名簿!$A:$E,5,FALSE))=TRUE,\"\",VLOOKUP(CONCATENATE($N$6,\"_\",M16),選手名簿!$A:$E,5,FALSE))","v":""},null,null,null,null,null,"得点者",{"$f":"IF(ISERROR(VLOOKUP(CONCATENATE($U$6,\"_\",V16),選手名簿!$A:$E,5,FALSE))=TRUE,\"\",VLOOKUP(CONCATENATE($U$6,\"_\",V16),選手名簿!$A:$E,5,FALSE))","v":""},null,null,null,null,null,null,null,{"$f":"IF(ISERROR(VLOOKUP(CONCATENATE($AC$6,\"_\",AB16),選手名簿!$A:$E,5,FALSE))=TRUE,\"\",VLOOKUP(CONCATENATE($AC$6,\"_\",AB16),選手名簿!$A:$E,5,FALSE))","v":""}]
[null,null,null,null,"得点者",{"$f":"IF(ISERROR(VLOOKUP(CONCATENATE($F$6,\"_\",G17),選手名簿!$A:$E,5,FALSE))=TRUE,\"\",VLOOKUP(CONCATENATE($F$6,\"_\",G17),選手名簿!$A:$E,5,FALSE))","v":""},null,null,null,null,null,null,null,{"$f":"IF(ISERROR(VLOOKUP(CONCATENATE($N$6,\"_\",M17),選手名簿!$A:$E,5,FALSE))=TRUE,\"\",VLOOKUP(CONCATENATE($N$6,\"_\",M17),選手名簿!$A:$E,5,FALSE))","v":""},null,null,null,null,null,"得点者",{"$f":"IF(ISERROR(VLOOKUP(CONCATENATE($U$6,\"_\",V17),選手名簿!$A:$E,5,FALSE))=TRUE,\"\",VLOOKUP(CONCATENATE($U$6,\"_\",V17),選手名簿!$A:$E,5,FALSE))","v":""},null,null,null,null,null,null,null,{"$f":"IF(ISERROR(VLOOKUP(CONCATENATE($AC$6,\"_\",AB17),選手名簿!$A:$E,5,FALSE))=TRUE,\"\",VLOOKUP(CONCATENATE($AC$6,\"_\",AB17),選手名簿!$A:$E,5,FALSE))","v":""}]
[null,null,null,null,"得点者",{"$f":"IF(ISERROR(VLOOKUP(CONCATENATE($F$6,\"_\",G18),選手名簿!$A:$E,5,FALSE))=TRUE,\"\",VLOOKUP(CONCATENATE($F$6,\"_\",G18),選手名簿!$A:$E,5,FALSE))","v":""},null,null,null,null,null,null,null,{"$f":"IF(ISERROR(VLOOKUP(CONCATENATE($N$6,\"_\",M18),選手名簿!$A:$E,5,FALSE))=TRUE,\"\",VLOOKUP(CONCATENATE($N$6,\"_\",M18),選手名簿!$A:$E,5,FALSE))","v":""},null,null,null,null,null,"得点者",{"$f":"IF(ISERROR(VLOOKUP(CONCATENATE($U$6,\"_\",V18),選手名簿!$A:$E,5,FALSE))=TRUE,\"\",VLOOKUP(CONCATENATE($U$6,\"_\",V18),選手名簿!$A:$E,5,FALSE))","v":""},null,null,null,null,null,null,null,{"$f":"IF(ISERROR(VLOOKUP(CONCATENATE($AC$6,\"_\",AB18),選手名簿!$A:$E,5,FALSE))=TRUE,\"\",VLOOKUP(CONCATENATE($AC$6,\"_\",AB18),選手名簿!$A:$E,5,FALSE))","v":""}]
[null,null,null,null,"得点者",{"$f":"IF(ISERROR(VLOOKUP(CONCATENATE($F$6,\"_\",G19),選手名簿!$A:$E,5,FALSE))=TRUE,\"\",VLOOKUP(CONCATENATE($F$6,\"_\",G19),選手名簿!$A:$E,5,FALSE))","v":""},null,null,null,null,null,null,null,{"$f":"IF(ISERROR(VLOOKUP(CONCATENATE($N$6,\"_\",M19),選手名簿!$A:$E,5,FALSE))=TRUE,\"\",VLOOKUP(CONCATENATE($N$6,\"_\",M19),選手名簿!$A:$E,5,FALSE))","v":""},null,null,null,null,null,"得点者",{"$f":"IF(ISERROR(VLOOKUP(CONCATENATE($U$6,\"_\",V19),選手名簿!$A:$E,5,FALSE))=TRUE,\"\",VLOOKUP(CONCATENATE($U$6,\"_\",V19),選手名簿!$A:$E,5,FALSE))","v":""},null,null,null,null,null,null,null,{"$f":"IF(ISERROR(VLOOKUP(CONCATENATE($AC$6,\"_\",AB19),選手名簿!$A:$E,5,FALSE))=TRUE,\"\",VLOOKUP(CONCATENATE($AC$6,\"_\",AB19),選手名簿!$A:$E,5,FALSE))","v":""}]
["＜Referee＞",null,null,null,null,"氏名","番号","分",null,null,null,"分","番号","氏名",null,"＜Referee＞",null,null,null,null,"氏名","番号","分",null,null,null,"分","番号","氏名"]
["番号","R001264304",null,null,"得点者",{"$f":"IF(ISERROR(VLOOKUP(CONCATENATE($F$6,\"_\",G21),選手名簿!$A:$E,5,FALSE))=TRUE,\"\",VLOOKUP(CONCATENATE($F$6,\"_\",G21),選手名簿!$A:$E,5,FALSE))","v":"金子　寛太"},8,26,null,null,null,17,12,{"$f":"IF(ISERROR(VLOOKUP(CONCATENATE($N$6,\"_\",M21),選手名簿!$A:$E,5,FALSE))=TRUE,\"\",VLOOKUP(CONCATENATE($N$6,\"_\",M21),選手名簿!$A:$E,5,FALSE))","v":"山下　紫凰"},null,"番号","R006573784",null,null,"得点者",{"$f":"IF(ISERROR(VLOOKUP(CONCATENATE($U$6,\"_\",V21),選手名簿!$A:$E,5,FALSE))=TRUE,\"\",VLOOKUP(CONCATENATE($U$6,\"_\",V21),選手名簿!$A:$E,5,FALSE))","v":""},null,null,null,null,null,9,11,{"$f":"IF(ISERROR(VLOOKUP(CONCATENATE($AC$6,\"_\",AB21),選手名簿!$A:$E,5,FALSE))=TRUE,\"\",VLOOKUP(CONCATENATE($AC$6,\"_\",AB21),選手名簿!$A:$E,5,FALSE))","v":"吉野　可亜斗"}]
["R",{"$f":"IF(ISERROR(VLOOKUP(B21,審判員!$A:$C,2,FALSE))=TRUE,\"\",VLOOKUP(B21,審判員!$A:$C,2,FALSE))","v":"羽田野　亘"},null,{"$f":"IF(ISERROR(VLOOKUP(B21,審判員!$A:$C,3,FALSE))=TRUE,\"\",VLOOKUP(B21,審判員!$A:$C,3,FALSE))","v":"３級"},"得点者",{"$f":"IF(ISERROR(VLOOKUP(CONCATENATE($F$6,\"_\",G22),選手名簿!$A:$E,5,FALSE))=TRUE,\"\",VLOOKUP(CONCATENATE($F$6,\"_\",G22),選手名簿!$A:$E,5,FALSE))","v":""},null,null,null,null,null,27,9,{"$f":"IF(ISERROR(VLOOKUP(CONCATENATE($N$6,\"_\",M22),選手名簿!$A:$E,5,FALSE))=TRUE,\"\",VLOOKUP(CONCATENATE($N$6,\"_\",M22),選手名簿!$A:$E,5,FALSE))","v":"吉村　心冴"},null,"R",{"$f":"IF(ISERROR(VLOOKUP(Q21,審判員!$A:$C,2,FALSE))=TRUE,\"\",VLOOKUP(Q21,審判員!$A:$C,2,FALSE))","v":"安倍　和広"},null,{"$f":"IF(ISERROR(VLOOKUP(Q21,審判員!$A:$C,3,FALSE))=TRUE,\"\",VLOOKUP(Q21,審判員!$A:$C,3,FALSE))","v":"３級"},null,{"$f":"IF(ISERROR(VLOOKUP(CONCATENATE($U$6,\"_\",V22),選手名簿!$A:$E,5,FALSE))=TRUE,\"\",VLOOKUP(CONCATENATE($U$6,\"_\",V22),選手名簿!$A:$E,5,FALSE))","v":""},null,null,null,null,null,null,null,{"$f":"IF(ISERROR(VLOOKUP(CONCATENATE($AC$6,\"_\",AB22),選手名簿!$A:$E,5,FALSE))=TRUE,\"\",VLOOKUP(CONCATENATE($AC$6,\"_\",AB22),選手名簿!$A:$E,5,FALSE))","v":""}]
["番号","R009546055",null,null,null,{"$f":"IF(ISERROR(VLOOKUP(CONCATENATE($F$6,\"_\",G23),選手名簿!$A:$E,5,FALSE))=TRUE,\"\",VLOOKUP(CONCATENATE($F$6,\"_\",G23),選手名簿!$A:$E,5,FALSE))","v":""},null,null,null,null,null,null,null,{"$f":"IF(ISERROR(VLOOKUP(CONCATENATE($N$6,\"_\",M23),選手名簿!$A:$E,5,FALSE))=TRUE,\"\",VLOOKUP(CONCATENATE($N$6,\"_\",M23),選手名簿!$A:$E,5,FALSE))","v":""},null,"番号","R009460551",null,null,null,{"$f":"IF(ISERROR(VLOOKUP(CONCATENATE($U$6,\"_\",V23),選手名簿!$A:$E,5,FALSE))=TRUE,\"\",VLOOKUP(CONCATENATE($U$6,\"_\",V23),選手名簿!$A:$E,5,FALSE))","v":""},null,null,null,null,null,null,null,{"$f":"IF(ISERROR(VLOOKUP(CONCATENATE($AC$6,\"_\",AB23),選手名簿!$A:$E,5,FALSE))=TRUE,\"\",VLOOKUP(CONCATENATE($AC$6,\"_\",AB23),選手名簿!$A:$E,5,FALSE))","v":""}]
["AR1:",{"$f":"IF(ISERROR(VLOOKUP(B23,審判員!$A:$C,2,FALSE))=TRUE,\"\",VLOOKUP(B23,審判員!$A:$C,2,FALSE))","v":"吐合　直樹"},null,{"$f":"IF(ISERROR(VLOOKUP(B23,審判員!$A:$C,3,FALSE))=TRUE,\"\",VLOOKUP(B23,審判員!$A:$C,3,FALSE))","v":"３級"},null,{"$f":"IF(ISERROR(VLOOKUP(CONCATENATE($F$6,\"_\",G24),選手名簿!$A:$E,5,FALSE))=TRUE,\"\",VLOOKUP(CONCATENATE($F$6,\"_\",G24),選手名簿!$A:$E,5,FALSE))","v":""},null,null,null,null,null,null,null,{"$f":"IF(ISERROR(VLOOKUP(CONCATENATE($N$6,\"_\",M24),選手名簿!$A:$E,5,FALSE))=TRUE,\"\",VLOOKUP(CONCATENATE($N$6,\"_\",M24),選手名簿!$A:$E,5,FALSE))","v":""},null,"AR1:",{"$f":"IF(ISERROR(VLOOKUP(Q23,審判員!$A:$C,2,FALSE))=TRUE,\"\",VLOOKUP(Q23,審判員!$A:$C,2,FALSE))","v":"佐藤　慎二"},null,{"$f":"IF(ISERROR(VLOOKUP(Q23,審判員!$A:$C,3,FALSE))=TRUE,\"\",VLOOKUP(Q23,審判員!$A:$C,3,FALSE))","v":"３級"},null,{"$f":"IF(ISERROR(VLOOKUP(CONCATENATE($U$6,\"_\",V24),選手名簿!$A:$E,5,FALSE))=TRUE,\"\",VLOOKUP(CONCATENATE($U$6,\"_\",V24),選手名簿!$A:$E,5,FALSE))","v":""},null,null,null,null,null,null,null,{"$f":"IF(ISERROR(VLOOKUP(CONCATENATE($AC$6,\"_\",AB24),選手名簿!$A:$E,5,FALSE))=TRUE,\"\",VLOOKUP(CONCATENATE($AC$6,\"_\",AB24),選手名簿!$A:$E,5,FALSE))","v":""}]
["番号","R001256402",null,null,null,{"$f":"IF(ISERROR(VLOOKUP(CONCATENATE($F$6,\"_\",G25),選手名簿!$A:$E,5,FALSE))=TRUE,\"\",VLOOKUP(CONCATENATE($F$6,\"_\",G25),選手名簿!$A:$E,5,FALSE))","v":""},null,null,null,null,null,null,null,{"$f":"IF(ISERROR(VLOOKUP(CONCATENATE($N$6,\"_\",M25),選手名簿!$A:$E,5,FALSE))=TRUE,\"\",VLOOKUP(CONCATENATE($N$6,\"_\",M25),選手名簿!$A:$E,5,FALSE))","v":""},null,"番号","R007003431",null,null,null,{"$f":"IF(ISERROR(VLOOKUP(CONCATENATE($U$6,\"_\",V25),選手名簿!$A:$E,5,FALSE))=TRUE,\"\",VLOOKUP(CONCATENATE($U$6,\"_\",V25),選手名簿!$A:$E,5,FALSE))","v":""},null,null,null,null,null,null,null,{"$f":"IF(ISERROR(VLOOKUP(CONCATENATE($AC$6,\"_\",AB25),選手名簿!$A:$E,5,FALSE))=TRUE,\"\",VLOOKUP(CONCATENATE($AC$6,\"_\",AB25),選手名簿!$A:$E,5,FALSE))","v":""}]
["AR2:",{"$f":"IF(ISERROR(VLOOKUP(B25,審判員!$A:$C,2,FALSE))=TRUE,\"\",VLOOKUP(B25,審判員!$A:$C,2,FALSE))","v":"小石川　悟"},null,{"$f":"IF(ISERROR(VLOOKUP(B25,審判員!$A:$C,3,FALSE))=TRUE,\"\",VLOOKUP(B25,審判員!$A:$C,3,FALSE))","v":"３級"},null,{"$f":"IF(ISERROR(VLOOKUP(CONCATENATE($F$6,\"_\",G26),選手名簿!$A:$E,5,FALSE))=TRUE,\"\",VLOOKUP(CONCATENATE($F$6,\"_\",G26),選手名簿!$A:$E,5,FALSE))","v":""},null,null,null,null,null,null,null,{"$f":"IF(ISERROR(VLOOKUP(CONCATENATE($N$6,\"_\",M26),選手名簿!$A:$E,5,FALSE))=TRUE,\"\",VLOOKUP(CONCATENATE($N$6,\"_\",M26),選手名簿!$A:$E,5,FALSE))","v":""},null,"AR2:",{"$f":"IF(ISERROR(VLOOKUP(Q25,審判員!$A:$C,2,FALSE))=TRUE,\"\",VLOOKUP(Q25,審判員!$A:$C,2,FALSE))","v":"宇髙　篤史"},null,{"$f":"IF(ISERROR(VLOOKUP(Q25,審判員!$A:$C,3,FALSE))=TRUE,\"\",VLOOKUP(Q25,審判員!$A:$C,3,FALSE))","v":"３級"},null,{"$f":"IF(ISERROR(VLOOKUP(CONCATENATE($U$6,\"_\",V26),選手名簿!$A:$E,5,FALSE))=TRUE,\"\",VLOOKUP(CONCATENATE($U$6,\"_\",V26),選手名簿!$A:$E,5,FALSE))","v":""},null,null,null,null,null,null,null,{"$f":"IF(ISERROR(VLOOKUP(CONCATENATE($AC$6,\"_\",AB26),選手名簿!$A:$E,5,FALSE))=TRUE,\"\",VLOOKUP(CONCATENATE($AC$6,\"_\",AB26),選手名簿!$A:$E,5,FALSE))","v":""}]
["番号","R010281871",null,null,null,{"$f":"IF(ISERROR(VLOOKUP(CONCATENATE($F$6,\"_\",G27),選手名簿!$A:$E,5,FALSE))=TRUE,\"\",VLOOKUP(CONCATENATE($F$6,\"_\",G27),選手名簿!$A:$E,5,FALSE))","v":""},null,null,null,null,null,null,null,{"$f":"IF(ISERROR(VLOOKUP(CONCATENATE($N$6,\"_\",M27),選手名簿!$A:$E,5,FALSE))=TRUE,\"\",VLOOKUP(CONCATENATE($N$6,\"_\",M27),選手名簿!$A:$E,5,FALSE))","v":""},null,"番号","R001262999",null,null,null,{"$f":"IF(ISERROR(VLOOKUP(CONCATENATE($U$6,\"_\",V27),選手名簿!$A:$E,5,FALSE))=TRUE,\"\",VLOOKUP(CONCATENATE($U$6,\"_\",V27),選手名簿!$A:$E,5,FALSE))","v":""},null,null,null,null,null,null,null,{"$f":"IF(ISERROR(VLOOKUP(CONCATENATE($AC$6,\"_\",AB27),選手名簿!$A:$E,5,FALSE))=TRUE,\"\",VLOOKUP(CONCATENATE($AC$6,\"_\",AB27),選手名簿!$A:$E,5,FALSE))","v":""}]
["4th:",{"$f":"IF(ISERROR(VLOOKUP(B27,審判員!$A:$C,2,FALSE))=TRUE,\"\",VLOOKUP(B27,審判員!$A:$C,2,FALSE))","v":"山本　青"},null,{"$f":"IF(ISERROR(VLOOKUP(B27,審判員!$A:$C,3,FALSE))=TRUE,\"\",VLOOKUP(B27,審判員!$A:$C,3,FALSE))","v":"３級"},null,{"$f":"IF(ISERROR(VLOOKUP(CONCATENATE($F$6,\"_\",G28),選手名簿!$A:$E,5,FALSE))=TRUE,\"\",VLOOKUP(CONCATENATE($F$6,\"_\",G28),選手名簿!$A:$E,5,FALSE))","v":""},null,null,null,null,null,null,null,{"$f":"IF(ISERROR(VLOOKUP(CONCATENATE($N$6,\"_\",M28),選手名簿!$A:$E,5,FALSE))=TRUE,\"\",VLOOKUP(CONCATENATE($N$6,\"_\",M28),選手名簿!$A:$E,5,FALSE))","v":""},null,"4th:",{"$f":"IF(ISERROR(VLOOKUP(Q27,審判員!$A:$C,2,FALSE))=TRUE,\"\",VLOOKUP(Q27,審判員!$A:$C,2,FALSE))","v":"木原　一心"},null,{"$f":"IF(ISERROR(VLOOKUP(Q27,審判員!$A:$C,3,FALSE))=TRUE,\"\",VLOOKUP(Q27,審判員!$A:$C,3,FALSE))","v":"２級"},null,{"$f":"IF(ISERROR(VLOOKUP(CONCATENATE($U$6,\"_\",V28),選手名簿!$A:$E,5,FALSE))=TRUE,\"\",VLOOKUP(CONCATENATE($U$6,\"_\",V28),選手名簿!$A:$E,5,FALSE))","v":""},null,null,null,null,null,null,null,{"$f":"IF(ISERROR(VLOOKUP(CONCATENATE($AC$6,\"_\",AB28),選手名簿!$A:$E,5,FALSE))=TRUE,\"\",VLOOKUP(CONCATENATE($AC$6,\"_\",AB28),選手名簿!$A:$E,5,FALSE))","v":""}]
[]
[]
[]
[]
[null,"Match No：27",null,null,null,null,null,null,null,null,null,null,null,null,null,null,"Match No：28"]
["MC","安東　幹雄",null,null,"10:10:00",{"$f":"VLOOKUP(決勝トーナメント!J26,組合せ抽選用!$S:$U,3,FALSE)","v":"大分トリニータＵ－１２"},{"$f":"SUM(I34:I35)","v":2},"（",1,"前半",0,"）",{"$f":"SUM(K34:K35)","v":1},{"$f":"VLOOKUP(決勝トーナメント!L26,組合せ抽選用!$S:$U,3,FALSE)","v":"スマイス　セレソン　スポーツクラブ"},null,"MC","松下　省吾",null,null,"10:10:00",{"$f":"VLOOKUP(決勝トーナメント!N26,組合せ抽選用!$S:$U,3,FALSE)","v":"大道サッカースポーツ少年団"},{"$f":"SUM(X34:X35)","v":0},"（",0,"前半",3,"）",{"$f":"SUM(Z34:Z35)","v":3},{"$f":"VLOOKUP(決勝トーナメント!P26,組合せ抽選用!$S:$U,3,FALSE)","v":"ＭＳＳ"}]
["Welfare\nOfficer","秋吉　明",null,null,null,null,null,null,1,"後半",1,null,null,null,null,"Welfare\nOfficer","秦　啓一郎",null,null,null,null,null,null,0,"後半",0]
["記録","津守　一雄",null,null,null,null,null,null,null,"PK",null,null,null,null,null,"記録","岡部　司",null,null,null,null,null,null,null,"PK"]
[null,null,null,null,null,"氏名","番号","分",null,null,null,"分","番号","氏名",null,null,null,null,null,null,"氏名","番号","分",null,null,null,"分","番号","氏名"]
[null,null,null,null,"得点者",{"$f":"IF(ISERROR(VLOOKUP(CONCATENATE($F$34,\"_\",G38),選手名簿!$A:$E,5,FALSE))=TRUE,\"\",VLOOKUP(CONCATENATE($F$34,\"_\",G38),選手名簿!$A:$E,5,FALSE))","v":""},null,null,null,null,null,null,null,{"$f":"IF(ISERROR(VLOOKUP(CONCATENATE($N$34,\"_\",M38),選手名簿!$A:$E,5,FALSE))=TRUE,\"\",VLOOKUP(CONCATENATE($N$34,\"_\",M38),選手名簿!$A:$E,5,FALSE))","v":""},null,null,null,null,null,"得点者",{"$f":"IF(ISERROR(VLOOKUP(CONCATENATE($U$34,\"_\",V38),選手名簿!$A:$E,5,FALSE))=TRUE,\"\",VLOOKUP(CONCATENATE($U$34,\"_\",V38),選手名簿!$A:$E,5,FALSE))","v":""},null,null,null,null,null,null,null,{"$f":"IF(ISERROR(VLOOKUP(CONCATENATE($AC$34,\"_\",AB38),選手名簿!$A:$E,5,FALSE))=TRUE,\"\",VLOOKUP(CONCATENATE($AC$34,\"_\",AB38),選手名簿!$A:$E,5,FALSE))","v":""}]
[null,null,null,null,"得点者",{"$f":"IF(ISERROR(VLOOKUP(CONCATENATE($F$34,\"_\",G39),選手名簿!$A:$E,5,FALSE))=TRUE,\"\",VLOOKUP(CONCATENATE($F$34,\"_\",G39),選手名簿!$A:$E,5,FALSE))","v":""},null,null,null,null,null,null,null,{"$f":"IF(ISERROR(VLOOKUP(CONCATENATE($N$34,\"_\",M39),選手名簿!$A:$E,5,FALSE))=TRUE,\"\",VLOOKUP(CONCATENATE($N$34,\"_\",M39),選手名簿!$A:$E,5,FALSE))","v":""},null,null,null,null,null,"得点者",{"$f":"IF(ISERROR(VLOOKUP(CONCATENATE($U$34,\"_\",V39),選手名簿!$A:$E,5,FALSE))=TRUE,\"\",VLOOKUP(CONCATENATE($U$34,\"_\",V39),選手名簿!$A:$E,5,FALSE))","v":""},null,null,null,null,null,null,null,{"$f":"IF(ISERROR(VLOOKUP(CONCATENATE($AC$34,\"_\",AB39),選手名簿!$A:$E,5,FALSE))=TRUE,\"\",VLOOKUP(CONCATENATE($AC$34,\"_\",AB39),選手名簿!$A:$E,5,FALSE))","v":""}]
[null,null,null,null,"得点者",{"$f":"IF(ISERROR(VLOOKUP(CONCATENATE($F$34,\"_\",G40),選手名簿!$A:$E,5,FALSE))=TRUE,\"\",VLOOKUP(CONCATENATE($F$34,\"_\",G40),選手名簿!$A:$E,5,FALSE))","v":""},null,null,null,null,null,null,null,{"$f":"IF(ISERROR(VLOOKUP(CONCATENATE($N$34,\"_\",M40),選手名簿!$A:$E,5,FALSE))=TRUE,\"\",VLOOKUP(CONCATENATE($N$34,\"_\",M40),選手名簿!$A:$E,5,FALSE))","v":""},null,null,null,null,null,"得点者",{"$f":"IF(ISERROR(VLOOKUP(CONCATENATE($U$34,\"_\",V40),選手名簿!$A:$E,5,FALSE))=TRUE,\"\",VLOOKUP(CONCATENATE($U$34,\"_\",V40),選手名簿!$A:$E,5,FALSE))","v":""},null,null,null,null,null,null,null,{"$f":"IF(ISERROR(VLOOKUP(CONCATENATE($AC$34,\"_\",AB40),選手名簿!$A:$E,5,FALSE))=TRUE,\"\",VLOOKUP(CONCATENATE($AC$34,\"_\",AB40),選手名簿!$A:$E,5,FALSE))","v":""}]
[null,null,null,null,"得点者",{"$f":"IF(ISERROR(VLOOKUP(CONCATENATE($F$34,\"_\",G41),選手名簿!$A:$E,5,FALSE))=TRUE,\"\",VLOOKUP(CONCATENATE($F$34,\"_\",G41),選手名簿!$A:$E,5,FALSE))","v":""},null,null,null,null,null,null,null,{"$f":"IF(ISERROR(VLOOKUP(CONCATENATE($N$34,\"_\",M41),選手名簿!$A:$E,5,FALSE))=TRUE,\"\",VLOOKUP(CONCATENATE($N$34,\"_\",M41),選手名簿!$A:$E,5,FALSE))","v":""},null,null,null,null,null,"得点者",{"$f":"IF(ISERROR(VLOOKUP(CONCATENATE($U$34,\"_\",V41),選手名簿!$A:$E,5,FALSE))=TRUE,\"\",VLOOKUP(CONCATENATE($U$34,\"_\",V41),選手名簿!$A:$E,5,FALSE))","v":""},null,null,null,null,null,null,null,{"$f":"IF(ISERROR(VLOOKUP(CONCATENATE($AC$34,\"_\",AB41),選手名簿!$A:$E,5,FALSE))=TRUE,\"\",VLOOKUP(CONCATENATE($AC$34,\"_\",AB41),選手名簿!$A:$E,5,FALSE))","v":""}]
[null,null,null,null,"得点者",{"$f":"IF(ISERROR(VLOOKUP(CONCATENATE($F$34,\"_\",G42),選手名簿!$A:$E,5,FALSE))=TRUE,\"\",VLOOKUP(CONCATENATE($F$34,\"_\",G42),選手名簿!$A:$E,5,FALSE))","v":""},null,null,null,null,null,null,null,{"$f":"IF(ISERROR(VLOOKUP(CONCATENATE($N$34,\"_\",M42),選手名簿!$A:$E,5,FALSE))=TRUE,\"\",VLOOKUP(CONCATENATE($N$34,\"_\",M42),選手名簿!$A:$E,5,FALSE))","v":""},null,null,null,null,null,"得点者",{"$f":"IF(ISERROR(VLOOKUP(CONCATENATE($U$34,\"_\",V42),選手名簿!$A:$E,5,FALSE))=TRUE,\"\",VLOOKUP(CONCATENATE($U$34,\"_\",V42),選手名簿!$A:$E,5,FALSE))","v":""},null,null,null,null,null,null,null,{"$f":"IF(ISERROR(VLOOKUP(CONCATENATE($AC$34,\"_\",AB42),選手名簿!$A:$E,5,FALSE))=TRUE,\"\",VLOOKUP(CONCATENATE($AC$34,\"_\",AB42),選手名簿!$A:$E,5,FALSE))","v":""}]
[null,null,null,null,"得点者",{"$f":"IF(ISERROR(VLOOKUP(CONCATENATE($F$34,\"_\",G43),選手名簿!$A:$E,5,FALSE))=TRUE,\"\",VLOOKUP(CONCATENATE($F$34,\"_\",G43),選手名簿!$A:$E,5,FALSE))","v":""},null,null,null,null,null,null,null,{"$f":"IF(ISERROR(VLOOKUP(CONCATENATE($N$34,\"_\",M43),選手名簿!$A:$E,5,FALSE))=TRUE,\"\",VLOOKUP(CONCATENATE($N$34,\"_\",M43),選手名簿!$A:$E,5,FALSE))","v":""},null,null,null,null,null,"得点者",{"$f":"IF(ISERROR(VLOOKUP(CONCATENATE($U$34,\"_\",V43),選手名簿!$A:$E,5,FALSE))=TRUE,\"\",VLOOKUP(CONCATENATE($U$34,\"_\",V43),選手名簿!$A:$E,5,FALSE))","v":""},null,null,null,null,null,null,null,{"$f":"IF(ISERROR(VLOOKUP(CONCATENATE($AC$34,\"_\",AB43),選手名簿!$A:$E,5,FALSE))=TRUE,\"\",VLOOKUP(CONCATENATE($AC$34,\"_\",AB43),選手名簿!$A:$E,5,FALSE))","v":""}]
[null,null,null,null,"得点者",{"$f":"IF(ISERROR(VLOOKUP(CONCATENATE($F$34,\"_\",G44),選手名簿!$A:$E,5,FALSE))=TRUE,\"\",VLOOKUP(CONCATENATE($F$34,\"_\",G44),選手名簿!$A:$E,5,FALSE))","v":""},null,null,null,null,null,null,null,{"$f":"IF(ISERROR(VLOOKUP(CONCATENATE($N$34,\"_\",M44),選手名簿!$A:$E,5,FALSE))=TRUE,\"\",VLOOKUP(CONCATENATE($N$34,\"_\",M44),選手名簿!$A:$E,5,FALSE))","v":""},null,null,null,null,null,"得点者",{"$f":"IF(ISERROR(VLOOKUP(CONCATENATE($U$34,\"_\",V44),選手名簿!$A:$E,5,FALSE))=TRUE,\"\",VLOOKUP(CONCATENATE($U$34,\"_\",V44),選手名簿!$A:$E,5,FALSE))","v":""},null,null,null,null,null,null,null,{"$f":"IF(ISERROR(VLOOKUP(CONCATENATE($AC$34,\"_\",AB44),選手名簿!$A:$E,5,FALSE))=TRUE,\"\",VLOOKUP(CONCATENATE($AC$34,\"_\",AB44),選手名簿!$A:$E,5,FALSE))","v":""}]
[null,null,null,null,"得点者",{"$f":"IF(ISERROR(VLOOKUP(CONCATENATE($F$34,\"_\",G45),選手名簿!$A:$E,5,FALSE))=TRUE,\"\",VLOOKUP(CONCATENATE($F$34,\"_\",G45),選手名簿!$A:$E,5,FALSE))","v":""},null,null,null,null,null,null,null,{"$f":"IF(ISERROR(VLOOKUP(CONCATENATE($N$34,\"_\",M45),選手名簿!$A:$E,5,FALSE))=TRUE,\"\",VLOOKUP(CONCATENATE($N$34,\"_\",M45),選手名簿!$A:$E,5,FALSE))","v":""},null,null,null,null,null,"得点者",{"$f":"IF(ISERROR(VLOOKUP(CONCATENATE($U$34,\"_\",V45),選手名簿!$A:$E,5,FALSE))=TRUE,\"\",VLOOKUP(CONCATENATE($U$34,\"_\",V45),選手名簿!$A:$E,5,FALSE))","v":""},null,null,null,null,null,null,null,{"$f":"IF(ISERROR(VLOOKUP(CONCATENATE($AC$34,\"_\",AB45),選手名簿!$A:$E,5,FALSE))=TRUE,\"\",VLOOKUP(CONCATENATE($AC$34,\"_\",AB45),選手名簿!$A:$E,5,FALSE))","v":""}]
[null,null,null,null,"得点者",{"$f":"IF(ISERROR(VLOOKUP(CONCATENATE($F$34,\"_\",G46),選手名簿!$A:$E,5,FALSE))=TRUE,\"\",VLOOKUP(CONCATENATE($F$34,\"_\",G46),選手名簿!$A:$E,5,FALSE))","v":""},null,null,null,null,null,null,null,{"$f":"IF(ISERROR(VLOOKUP(CONCATENATE($N$34,\"_\",M46),選手名簿!$A:$E,5,FALSE))=TRUE,\"\",VLOOKUP(CONCATENATE($N$34,\"_\",M46),選手名簿!$A:$E,5,FALSE))","v":""},null,null,null,null,null,"得点者",{"$f":"IF(ISERROR(VLOOKUP(CONCATENATE($U$34,\"_\",V46),選手名簿!$A:$E,5,FALSE))=TRUE,\"\",VLOOKUP(CONCATENATE($U$34,\"_\",V46),選手名簿!$A:$E,5,FALSE))","v":""},null,null,null,null,null,null,null,{"$f":"IF(ISERROR(VLOOKUP(CONCATENATE($AC$34,\"_\",AB46),選手名簿!$A:$E,5,FALSE))=TRUE,\"\",VLOOKUP(CONCATENATE($AC$34,\"_\",AB46),選手名簿!$A:$E,5,FALSE))","v":""}]
[null,null,null,null,"得点者",{"$f":"IF(ISERROR(VLOOKUP(CONCATENATE($F$34,\"_\",G47),選手名簿!$A:$E,5,FALSE))=TRUE,\"\",VLOOKUP(CONCATENATE($F$34,\"_\",G47),選手名簿!$A:$E,5,FALSE))","v":""},null,null,null,null,null,null,null,{"$f":"IF(ISERROR(VLOOKUP(CONCATENATE($N$34,\"_\",M47),選手名簿!$A:$E,5,FALSE))=TRUE,\"\",VLOOKUP(CONCATENATE($N$34,\"_\",M47),選手名簿!$A:$E,5,FALSE))","v":""},null,null,null,null,null,"得点者",{"$f":"IF(ISERROR(VLOOKUP(CONCATENATE($U$34,\"_\",V47),選手名簿!$A:$E,5,FALSE))=TRUE,\"\",VLOOKUP(CONCATENATE($U$34,\"_\",V47),選手名簿!$A:$E,5,FALSE))","v":""},null,null,null,null,null,null,null,{"$f":"IF(ISERROR(VLOOKUP(CONCATENATE($AC$34,\"_\",AB47),選手名簿!$A:$E,5,FALSE))=TRUE,\"\",VLOOKUP(CONCATENATE($AC$34,\"_\",AB47),選手名簿!$A:$E,5,FALSE))","v":""}]
["＜Referee＞",null,null,null,null,"氏名","番号","分",null,null,null,"分","番号","氏名",null,"＜Referee＞",null,null,null,null,"氏名","番号","分",null,null,null,"分","番号","氏名"]
["番号","R001262333",null,null,"得点者",{"$f":"IF(ISERROR(VLOOKUP(CONCATENATE($F$34,\"_\",G49),選手名簿!$A:$E,5,FALSE))=TRUE,\"\",VLOOKUP(CONCATENATE($F$34,\"_\",G49),選手名簿!$A:$E,5,FALSE))","v":"木許　央雅"},10,3,null,null,null,1,16,{"$f":"IF(ISERROR(VLOOKUP(CONCATENATE($N$34,\"_\",M49),選手名簿!$A:$E,5,FALSE))=TRUE,\"\",VLOOKUP(CONCATENATE($N$34,\"_\",M49),選手名簿!$A:$E,5,FALSE))","v":""},null,"番号","R009554780",null,null,"得点者",{"$f":"IF(ISERROR(VLOOKUP(CONCATENATE($U$34,\"_\",V49),選手名簿!$A:$E,5,FALSE))=TRUE,\"\",VLOOKUP(CONCATENATE($U$34,\"_\",V49),選手名簿!$A:$E,5,FALSE))","v":""},null,null,null,null,null,3,12,{"$f":"IF(ISERROR(VLOOKUP(CONCATENATE($AC$34,\"_\",AB49),選手名簿!$A:$E,5,FALSE))=TRUE,\"\",VLOOKUP(CONCATENATE($AC$34,\"_\",AB49),選手名簿!$A:$E,5,FALSE))","v":"中西　俊喜"}]
["R",{"$f":"IF(ISERROR(VLOOKUP(B49,審判員!$A:$C,2,FALSE))=TRUE,\"\",VLOOKUP(B49,審判員!$A:$C,2,FALSE))","v":"諌本　秀樹"},null,{"$f":"IF(ISERROR(VLOOKUP(B49,審判員!$A:$C,3,FALSE))=TRUE,\"\",VLOOKUP(B49,審判員!$A:$C,3,FALSE))","v":"２級"},"得点者",{"$f":"IF(ISERROR(VLOOKUP(CONCATENATE($F$34,\"_\",G50),選手名簿!$A:$E,5,FALSE))=TRUE,\"\",VLOOKUP(CONCATENATE($F$34,\"_\",G50),選手名簿!$A:$E,5,FALSE))","v":"木許　央雅"},10,28,null,null,null,null,null,{"$f":"IF(ISERROR(VLOOKUP(CONCATENATE($N$34,\"_\",M50),選手名簿!$A:$E,5,FALSE))=TRUE,\"\",VLOOKUP(CONCATENATE($N$34,\"_\",M50),選手名簿!$A:$E,5,FALSE))","v":""},null,"R",{"$f":"IF(ISERROR(VLOOKUP(Q49,審判員!$A:$C,2,FALSE))=TRUE,\"\",VLOOKUP(Q49,審判員!$A:$C,2,FALSE))","v":"白江　直樹"},null,{"$f":"IF(ISERROR(VLOOKUP(Q49,審判員!$A:$C,3,FALSE))=TRUE,\"\",VLOOKUP(Q49,審判員!$A:$C,3,FALSE))","v":"３級"},"得点者",{"$f":"IF(ISERROR(VLOOKUP(CONCATENATE($U$34,\"_\",V50),選手名簿!$A:$E,5,FALSE))=TRUE,\"\",VLOOKUP(CONCATENATE($U$34,\"_\",V50),選手名簿!$A:$E,5,FALSE))","v":""},null,null,null,null,null,7,14,{"$f":"IF(ISERROR(VLOOKUP(CONCATENATE($AC$34,\"_\",AB50),選手名簿!$A:$E,5,FALSE))=TRUE,\"\",VLOOKUP(CONCATENATE($AC$34,\"_\",AB50),選手名簿!$A:$E,5,FALSE))","v":"高野　将大"}]
["番号","R010281814",null,null,null,{"$f":"IF(ISERROR(VLOOKUP(CONCATENATE($F$34,\"_\",G51),選手名簿!$A:$E,5,FALSE))=TRUE,\"\",VLOOKUP(CONCATENATE($F$34,\"_\",G51),選手名簿!$A:$E,5,FALSE))","v":""},null,null,null,null,null,null,null,{"$f":"IF(ISERROR(VLOOKUP(CONCATENATE($N$34,\"_\",M51),選手名簿!$A:$E,5,FALSE))=TRUE,\"\",VLOOKUP(CONCATENATE($N$34,\"_\",M51),選手名簿!$A:$E,5,FALSE))","v":""},null,"番号","R005603486",null,null,"得点者",{"$f":"IF(ISERROR(VLOOKUP(CONCATENATE($U$34,\"_\",V51),選手名簿!$A:$E,5,FALSE))=TRUE,\"\",VLOOKUP(CONCATENATE($U$34,\"_\",V51),選手名簿!$A:$E,5,FALSE))","v":""},null,null,null,null,null,"**",11,{"$f":"IF(ISERROR(VLOOKUP(CONCATENATE($AC$34,\"_\",AB51),選手名簿!$A:$E,5,FALSE))=TRUE,\"\",VLOOKUP(CONCATENATE($AC$34,\"_\",AB51),選手名簿!$A:$E,5,FALSE))","v":"山本　一晟"}]
["AR1:",{"$f":"IF(ISERROR(VLOOKUP(B51,審判員!$A:$C,2,FALSE))=TRUE,\"\",VLOOKUP(B51,審判員!$A:$C,2,FALSE))","v":"安部　正信"},null,{"$f":"IF(ISERROR(VLOOKUP(B51,審判員!$A:$C,3,FALSE))=TRUE,\"\",VLOOKUP(B51,審判員!$A:$C,3,FALSE))","v":"３級"},null,{"$f":"IF(ISERROR(VLOOKUP(CONCATENATE($F$34,\"_\",G52),選手名簿!$A:$E,5,FALSE))=TRUE,\"\",VLOOKUP(CONCATENATE($F$34,\"_\",G52),選手名簿!$A:$E,5,FALSE))","v":""},null,null,null,null,null,null,null,{"$f":"IF(ISERROR(VLOOKUP(CONCATENATE($N$34,\"_\",M52),選手名簿!$A:$E,5,FALSE))=TRUE,\"\",VLOOKUP(CONCATENATE($N$34,\"_\",M52),選手名簿!$A:$E,5,FALSE))","v":""},null,"AR1:",{"$f":"IF(ISERROR(VLOOKUP(Q51,審判員!$A:$C,2,FALSE))=TRUE,\"\",VLOOKUP(Q51,審判員!$A:$C,2,FALSE))","v":"山本　篤"},null,{"$f":"IF(ISERROR(VLOOKUP(Q51,審判員!$A:$C,3,FALSE))=TRUE,\"\",VLOOKUP(Q51,審判員!$A:$C,3,FALSE))","v":"３級"},null,{"$f":"IF(ISERROR(VLOOKUP(CONCATENATE($U$34,\"_\",V52),選手名簿!$A:$E,5,FALSE))=TRUE,\"\",VLOOKUP(CONCATENATE($U$34,\"_\",V52),選手名簿!$A:$E,5,FALSE))","v":""},null,null,null,null,null,null,null,{"$f":"IF(ISERROR(VLOOKUP(CONCATENATE($AC$34,\"_\",AB52),選手名簿!$A:$E,5,FALSE))=TRUE,\"\",VLOOKUP(CONCATENATE($AC$34,\"_\",AB52),選手名簿!$A:$E,5,FALSE))","v":""}]
["番号","R010189300",null,null,null,{"$f":"IF(ISERROR(VLOOKUP(CONCATENATE($F$34,\"_\",G53),選手名簿!$A:$E,5,FALSE))=TRUE,\"\",VLOOKUP(CONCATENATE($F$34,\"_\",G53),選手名簿!$A:$E,5,FALSE))","v":""},null,null,null,null,null,null,null,{"$f":"IF(ISERROR(VLOOKUP(CONCATENATE($N$34,\"_\",M53),選手名簿!$A:$E,5,FALSE))=TRUE,\"\",VLOOKUP(CONCATENATE($N$34,\"_\",M53),選手名簿!$A:$E,5,FALSE))","v":""},null,"番号","R006664961",null,null,null,{"$f":"IF(ISERROR(VLOOKUP(CONCATENATE($U$34,\"_\",V53),選手名簿!$A:$E,5,FALSE))=TRUE,\"\",VLOOKUP(CONCATENATE($U$34,\"_\",V53),選手名簿!$A:$E,5,FALSE))","v":""},null,null,null,null,null,null,null,{"$f":"IF(ISERROR(VLOOKUP(CONCATENATE($AC$34,\"_\",AB53),選手名簿!$A:$E,5,FALSE))=TRUE,\"\",VLOOKUP(CONCATENATE($AC$34,\"_\",AB53),選手名簿!$A:$E,5,FALSE))","v":""}]
["AR2:",{"$f":"IF(ISERROR(VLOOKUP(B53,審判員!$A:$C,2,FALSE))=TRUE,\"\",VLOOKUP(B53,審判員!$A:$C,2,FALSE))","v":"徳光　将太"},null,{"$f":"IF(ISERROR(VLOOKUP(B53,審判員!$A:$C,3,FALSE))=TRUE,\"\",VLOOKUP(B53,審判員!$A:$C,3,FALSE))","v":"３級"},null,{"$f":"IF(ISERROR(VLOOKUP(CONCATENATE($F$34,\"_\",G54),選手名簿!$A:$E,5,FALSE))=TRUE,\"\",VLOOKUP(CONCATENATE($F$34,\"_\",G54),選手名簿!$A:$E,5,FALSE))","v":""},null,null,null,null,null,null,null,{"$f":"IF(ISERROR(VLOOKUP(CONCATENATE($N$34,\"_\",M54),選手名簿!$A:$E,5,FALSE))=TRUE,\"\",VLOOKUP(CONCATENATE($N$34,\"_\",M54),選手名簿!$A:$E,5,FALSE))","v":""},null,"AR2:",{"$f":"IF(ISERROR(VLOOKUP(Q53,審判員!$A:$C,2,FALSE))=TRUE,\"\",VLOOKUP(Q53,審判員!$A:$C,2,FALSE))","v":"末吉　裕樹"},null,{"$f":"IF(ISERROR(VLOOKUP(Q53,審判員!$A:$C,3,FALSE))=TRUE,\"\",VLOOKUP(Q53,審判員!$A:$C,3,FALSE))","v":"３級"},null,{"$f":"IF(ISERROR(VLOOKUP(CONCATENATE($U$34,\"_\",V54),選手名簿!$A:$E,5,FALSE))=TRUE,\"\",VLOOKUP(CONCATENATE($U$34,\"_\",V54),選手名簿!$A:$E,5,FALSE))","v":""},null,null,null,null,null,null,null,{"$f":"IF(ISERROR(VLOOKUP(CONCATENATE($AC$34,\"_\",AB54),選手名簿!$A:$E,5,FALSE))=TRUE,\"\",VLOOKUP(CONCATENATE($AC$34,\"_\",AB54),選手名簿!$A:$E,5,FALSE))","v":""}]
["番号","R008798013",null,null,null,{"$f":"IF(ISERROR(VLOOKUP(CONCATENATE($F$34,\"_\",G55),選手名簿!$A:$E,5,FALSE))=TRUE,\"\",VLOOKUP(CONCATENATE($F$34,\"_\",G55),選手名簿!$A:$E,5,FALSE))","v":""},null,null,null,null,null,null,null,{"$f":"IF(ISERROR(VLOOKUP(CONCATENATE($N$34,\"_\",M55),選手名簿!$A:$E,5,FALSE))=TRUE,\"\",VLOOKUP(CONCATENATE($N$34,\"_\",M55),選手名簿!$A:$E,5,FALSE))","v":""},null,"番号","R006093817",null,null,null,{"$f":"IF(ISERROR(VLOOKUP(CONCATENATE($U$34,\"_\",V55),選手名簿!$A:$E,5,FALSE))=TRUE,\"\",VLOOKUP(CONCATENATE($U$34,\"_\",V55),選手名簿!$A:$E,5,FALSE))","v":""},null,null,null,null,null,null,null,{"$f":"IF(ISERROR(VLOOKUP(CONCATENATE($AC$34,\"_\",AB55),選手名簿!$A:$E,5,FALSE))=TRUE,\"\",VLOOKUP(CONCATENATE($AC$34,\"_\",AB55),選手名簿!$A:$E,5,FALSE))","v":""}]
["4th:",{"$f":"IF(ISERROR(VLOOKUP(B55,審判員!$A:$C,2,FALSE))=TRUE,\"\",VLOOKUP(B55,審判員!$A:$C,2,FALSE))","v":"隅田　哲平"},null,{"$f":"IF(ISERROR(VLOOKUP(B55,審判員!$A:$C,3,FALSE))=TRUE,\"\",VLOOKUP(B55,審判員!$A:$C,3,FALSE))","v":"３級"},null,{"$f":"IF(ISERROR(VLOOKUP(CONCATENATE($F$34,\"_\",G56),選手名簿!$A:$E,5,FALSE))=TRUE,\"\",VLOOKUP(CONCATENATE($F$34,\"_\",G56),選手名簿!$A:$E,5,FALSE))","v":""},null,null,null,null,null,null,null,{"$f":"IF(ISERROR(VLOOKUP(CONCATENATE($N$34,\"_\",M56),選手名簿!$A:$E,5,FALSE))=TRUE,\"\",VLOOKUP(CONCATENATE($N$34,\"_\",M56),選手名簿!$A:$E,5,FALSE))","v":""},null,"4th:",{"$f":"IF(ISERROR(VLOOKUP(Q55,審判員!$A:$C,2,FALSE))=TRUE,\"\",VLOOKUP(Q55,審判員!$A:$C,2,FALSE))","v":"幸　壮一郎"},null,{"$f":"IF(ISERROR(VLOOKUP(Q55,審判員!$A:$C,3,FALSE))=TRUE,\"\",VLOOKUP(Q55,審判員!$A:$C,3,FALSE))","v":"２級"},null,{"$f":"IF(ISERROR(VLOOKUP(CONCATENATE($U$34,\"_\",V56),選手名簿!$A:$E,5,FALSE))=TRUE,\"\",VLOOKUP(CONCATENATE($U$34,\"_\",V56),選手名簿!$A:$E,5,FALSE))","v":""},null,null,null,null,null,null,null,{"$f":"IF(ISERROR(VLOOKUP(CONCATENATE($AC$34,\"_\",AB56),選手名簿!$A:$E,5,FALSE))=TRUE,\"\",VLOOKUP(CONCATENATE($AC$34,\"_\",AB56),選手名簿!$A:$E,5,FALSE))","v":""}]
[]
[]
[]
[]
[null,"Match No：29",null,null,null,null,null,null,null,null,null,null,null,null,null,null,"Match No：30"]
["MC","中原　圭介",null,null,"10:50:00",{"$f":"VLOOKUP(決勝トーナメント!C21,組合せ抽選用!$S:$U,3,FALSE)","v":"ドリームキッズフットボールクラブ"},{"$f":"SUM(I62:I63)","v":0},"（",0,"前半",1,"）",{"$f":"SUM(K62:K63)","v":1},{"$f":"VLOOKUP(決勝トーナメント!G21,組合せ抽選用!$S:$U,3,FALSE)","v":"ＦＣアリアーレ"},null,"MC","佐々木　秀樹",null,null,"10:50:00",{"$f":"VLOOKUP(決勝トーナメント!C28,組合せ抽選用!$S:$U,3,FALSE)","v":"ＦＣ　ＷＡＹＳ"},{"$f":"SUM(X62:X63)","v":7},"（",3,"前半",0,"）",{"$f":"SUM(Z62:Z63)","v":0},{"$f":"VLOOKUP(決勝トーナメント!G28,組合せ抽選用!$S:$U,3,FALSE)","v":"中津沖代ＪＳＣ"}]
["Welfare\nOfficer","仲野　昭博",null,null,null,null,null,null,0,"後半",0,null,null,null,null,"Welfare\nOfficer","-",null,null,null,null,null,null,4,"後半",0]
["記録","榊　謙治",null,null,null,null,null,null,null,"PK",null,null,null,null,null,"記録","毛藤　勇三",null,null,null,null,null,null,null,"PK"]
[null,null,null,null,null,"氏名","番号","分",null,null,null,"分","番号","氏名",null,null,null,null,null,null,"氏名","番号","分",null,null,null,"分","番号","氏名"]
[null,null,null,null,"得点者",{"$f":"IF(ISERROR(VLOOKUP(CONCATENATE($F$62,\"_\",G66),選手名簿!$A:$E,5,FALSE))=TRUE,\"\",VLOOKUP(CONCATENATE($F$62,\"_\",G66),選手名簿!$A:$E,5,FALSE))","v":""},null,null,null,null,null,null,null,{"$f":"IF(ISERROR(VLOOKUP(CONCATENATE($N$62,\"_\",M66),選手名簿!$A:$E,5,FALSE))=TRUE,\"\",VLOOKUP(CONCATENATE($N$62,\"_\",M66),選手名簿!$A:$E,5,FALSE))","v":""},null,null,null,null,null,"得点者",{"$f":"IF(ISERROR(VLOOKUP(CONCATENATE($U$62,\"_\",V66),選手名簿!$A:$E,5,FALSE))=TRUE,\"\",VLOOKUP(CONCATENATE($U$62,\"_\",V66),選手名簿!$A:$E,5,FALSE))","v":""},null,null,null,null,null,null,null,{"$f":"IF(ISERROR(VLOOKUP(CONCATENATE($AC$62,\"_\",AB66),選手名簿!$A:$E,5,FALSE))=TRUE,\"\",VLOOKUP(CONCATENATE($AC$62,\"_\",AB66),選手名簿!$A:$E,5,FALSE))","v":""}]
[null,null,null,null,"得点者",{"$f":"IF(ISERROR(VLOOKUP(CONCATENATE($F$62,\"_\",G67),選手名簿!$A:$E,5,FALSE))=TRUE,\"\",VLOOKUP(CONCATENATE($F$62,\"_\",G67),選手名簿!$A:$E,5,FALSE))","v":""},null,null,null,null,null,null,null,{"$f":"IF(ISERROR(VLOOKUP(CONCATENATE($N$62,\"_\",M67),選手名簿!$A:$E,5,FALSE))=TRUE,\"\",VLOOKUP(CONCATENATE($N$62,\"_\",M67),選手名簿!$A:$E,5,FALSE))","v":""},null,null,null,null,null,"得点者",{"$f":"IF(ISERROR(VLOOKUP(CONCATENATE($U$62,\"_\",V67),選手名簿!$A:$E,5,FALSE))=TRUE,\"\",VLOOKUP(CONCATENATE($U$62,\"_\",V67),選手名簿!$A:$E,5,FALSE))","v":""},null,null,null,null,null,null,null,{"$f":"IF(ISERROR(VLOOKUP(CONCATENATE($AC$62,\"_\",AB67),選手名簿!$A:$E,5,FALSE))=TRUE,\"\",VLOOKUP(CONCATENATE($AC$62,\"_\",AB67),選手名簿!$A:$E,5,FALSE))","v":""}]
[null,null,null,null,"得点者",{"$f":"IF(ISERROR(VLOOKUP(CONCATENATE($F$62,\"_\",G68),選手名簿!$A:$E,5,FALSE))=TRUE,\"\",VLOOKUP(CONCATENATE($F$62,\"_\",G68),選手名簿!$A:$E,5,FALSE))","v":""},null,null,null,null,null,null,null,{"$f":"IF(ISERROR(VLOOKUP(CONCATENATE($N$62,\"_\",M68),選手名簿!$A:$E,5,FALSE))=TRUE,\"\",VLOOKUP(CONCATENATE($N$62,\"_\",M68),選手名簿!$A:$E,5,FALSE))","v":""},null,null,null,null,null,"得点者",{"$f":"IF(ISERROR(VLOOKUP(CONCATENATE($U$62,\"_\",V68),選手名簿!$A:$E,5,FALSE))=TRUE,\"\",VLOOKUP(CONCATENATE($U$62,\"_\",V68),選手名簿!$A:$E,5,FALSE))","v":""},null,null,null,null,null,null,null,{"$f":"IF(ISERROR(VLOOKUP(CONCATENATE($AC$62,\"_\",AB68),選手名簿!$A:$E,5,FALSE))=TRUE,\"\",VLOOKUP(CONCATENATE($AC$62,\"_\",AB68),選手名簿!$A:$E,5,FALSE))","v":""}]
[null,null,null,null,"得点者",{"$f":"IF(ISERROR(VLOOKUP(CONCATENATE($F$62,\"_\",G69),選手名簿!$A:$E,5,FALSE))=TRUE,\"\",VLOOKUP(CONCATENATE($F$62,\"_\",G69),選手名簿!$A:$E,5,FALSE))","v":""},null,null,null,null,null,null,null,{"$f":"IF(ISERROR(VLOOKUP(CONCATENATE($N$62,\"_\",M69),選手名簿!$A:$E,5,FALSE))=TRUE,\"\",VLOOKUP(CONCATENATE($N$62,\"_\",M69),選手名簿!$A:$E,5,FALSE))","v":""},null,null,null,null,null,"得点者",{"$f":"IF(ISERROR(VLOOKUP(CONCATENATE($U$62,\"_\",V69),選手名簿!$A:$E,5,FALSE))=TRUE,\"\",VLOOKUP(CONCATENATE($U$62,\"_\",V69),選手名簿!$A:$E,5,FALSE))","v":""},null,null,null,null,null,null,null,{"$f":"IF(ISERROR(VLOOKUP(CONCATENATE($AC$62,\"_\",AB69),選手名簿!$A:$E,5,FALSE))=TRUE,\"\",VLOOKUP(CONCATENATE($AC$62,\"_\",AB69),選手名簿!$A:$E,5,FALSE))","v":""}]
[null,null,null,null,"得点者",{"$f":"IF(ISERROR(VLOOKUP(CONCATENATE($F$62,\"_\",G70),選手名簿!$A:$E,5,FALSE))=TRUE,\"\",VLOOKUP(CONCATENATE($F$62,\"_\",G70),選手名簿!$A:$E,5,FALSE))","v":""},null,null,null,null,null,null,null,{"$f":"IF(ISERROR(VLOOKUP(CONCATENATE($N$62,\"_\",M70),選手名簿!$A:$E,5,FALSE))=TRUE,\"\",VLOOKUP(CONCATENATE($N$62,\"_\",M70),選手名簿!$A:$E,5,FALSE))","v":""},null,null,null,null,null,"得点者",{"$f":"IF(ISERROR(VLOOKUP(CONCATENATE($U$62,\"_\",V70),選手名簿!$A:$E,5,FALSE))=TRUE,\"\",VLOOKUP(CONCATENATE($U$62,\"_\",V70),選手名簿!$A:$E,5,FALSE))","v":""},null,null,null,null,null,null,null,{"$f":"IF(ISERROR(VLOOKUP(CONCATENATE($AC$62,\"_\",AB70),選手名簿!$A:$E,5,FALSE))=TRUE,\"\",VLOOKUP(CONCATENATE($AC$62,\"_\",AB70),選手名簿!$A:$E,5,FALSE))","v":""}]
[null,null,null,null,"得点者",{"$f":"IF(ISERROR(VLOOKUP(CONCATENATE($F$62,\"_\",G71),選手名簿!$A:$E,5,FALSE))=TRUE,\"\",VLOOKUP(CONCATENATE($F$62,\"_\",G71),選手名簿!$A:$E,5,FALSE))","v":""},null,null,null,null,null,null,null,{"$f":"IF(ISERROR(VLOOKUP(CONCATENATE($N$62,\"_\",M71),選手名簿!$A:$E,5,FALSE))=TRUE,\"\",VLOOKUP(CONCATENATE($N$62,\"_\",M71),選手名簿!$A:$E,5,FALSE))","v":""},null,null,null,null,null,"得点者",{"$f":"IF(ISERROR(VLOOKUP(CONCATENATE($U$62,\"_\",V71),選手名簿!$A:$E,5,FALSE))=TRUE,\"\",VLOOKUP(CONCATENATE($U$62,\"_\",V71),選手名簿!$A:$E,5,FALSE))","v":""},null,null,null,null,null,null,null,{"$f":"IF(ISERROR(VLOOKUP(CONCATENATE($AC$62,\"_\",AB71),選手名簿!$A:$E,5,FALSE))=TRUE,\"\",VLOOKUP(CONCATENATE($AC$62,\"_\",AB71),選手名簿!$A:$E,5,FALSE))","v":""}]
[null,null,null,null,"得点者",{"$f":"IF(ISERROR(VLOOKUP(CONCATENATE($F$62,\"_\",G72),選手名簿!$A:$E,5,FALSE))=TRUE,\"\",VLOOKUP(CONCATENATE($F$62,\"_\",G72),選手名簿!$A:$E,5,FALSE))","v":""},null,null,null,null,null,null,null,{"$f":"IF(ISERROR(VLOOKUP(CONCATENATE($N$62,\"_\",M72),選手名簿!$A:$E,5,FALSE))=TRUE,\"\",VLOOKUP(CONCATENATE($N$62,\"_\",M72),選手名簿!$A:$E,5,FALSE))","v":""},null,null,null,null,null,"得点者",{"$f":"IF(ISERROR(VLOOKUP(CONCATENATE($U$62,\"_\",V72),選手名簿!$A:$E,5,FALSE))=TRUE,\"\",VLOOKUP(CONCATENATE($U$62,\"_\",V72),選手名簿!$A:$E,5,FALSE))","v":""},null,null,null,null,null,null,null,{"$f":"IF(ISERROR(VLOOKUP(CONCATENATE($AC$62,\"_\",AB72),選手名簿!$A:$E,5,FALSE))=TRUE,\"\",VLOOKUP(CONCATENATE($AC$62,\"_\",AB72),選手名簿!$A:$E,5,FALSE))","v":""}]
[null,null,null,null,"得点者",{"$f":"IF(ISERROR(VLOOKUP(CONCATENATE($F$62,\"_\",G73),選手名簿!$A:$E,5,FALSE))=TRUE,\"\",VLOOKUP(CONCATENATE($F$62,\"_\",G73),選手名簿!$A:$E,5,FALSE))","v":""},null,null,null,null,null,null,null,{"$f":"IF(ISERROR(VLOOKUP(CONCATENATE($N$62,\"_\",M73),選手名簿!$A:$E,5,FALSE))=TRUE,\"\",VLOOKUP(CONCATENATE($N$62,\"_\",M73),選手名簿!$A:$E,5,FALSE))","v":""},null,null,null,null,null,"得点者",{"$f":"IF(ISERROR(VLOOKUP(CONCATENATE($U$62,\"_\",V73),選手名簿!$A:$E,5,FALSE))=TRUE,\"\",VLOOKUP(CONCATENATE($U$62,\"_\",V73),選手名簿!$A:$E,5,FALSE))","v":""},null,null,null,null,null,null,null,{"$f":"IF(ISERROR(VLOOKUP(CONCATENATE($AC$62,\"_\",AB73),選手名簿!$A:$E,5,FALSE))=TRUE,\"\",VLOOKUP(CONCATENATE($AC$62,\"_\",AB73),選手名簿!$A:$E,5,FALSE))","v":""}]
[null,null,null,null,"得点者",{"$f":"IF(ISERROR(VLOOKUP(CONCATENATE($F$62,\"_\",G74),選手名簿!$A:$E,5,FALSE))=TRUE,\"\",VLOOKUP(CONCATENATE($F$62,\"_\",G74),選手名簿!$A:$E,5,FALSE))","v":""},null,null,null,null,null,null,null,{"$f":"IF(ISERROR(VLOOKUP(CONCATENATE($N$62,\"_\",M74),選手名簿!$A:$E,5,FALSE))=TRUE,\"\",VLOOKUP(CONCATENATE($N$62,\"_\",M74),選手名簿!$A:$E,5,FALSE))","v":""},null,null,null,null,null,"得点者",{"$f":"IF(ISERROR(VLOOKUP(CONCATENATE($U$62,\"_\",V74),選手名簿!$A:$E,5,FALSE))=TRUE,\"\",VLOOKUP(CONCATENATE($U$62,\"_\",V74),選手名簿!$A:$E,5,FALSE))","v":""},null,null,null,null,null,null,null,{"$f":"IF(ISERROR(VLOOKUP(CONCATENATE($AC$62,\"_\",AB74),選手名簿!$A:$E,5,FALSE))=TRUE,\"\",VLOOKUP(CONCATENATE($AC$62,\"_\",AB74),選手名簿!$A:$E,5,FALSE))","v":""}]
[null,null,null,null,"得点者",{"$f":"IF(ISERROR(VLOOKUP(CONCATENATE($F$62,\"_\",G75),選手名簿!$A:$E,5,FALSE))=TRUE,\"\",VLOOKUP(CONCATENATE($F$62,\"_\",G75),選手名簿!$A:$E,5,FALSE))","v":""},null,null,null,null,null,null,null,{"$f":"IF(ISERROR(VLOOKUP(CONCATENATE($N$62,\"_\",M75),選手名簿!$A:$E,5,FALSE))=TRUE,\"\",VLOOKUP(CONCATENATE($N$62,\"_\",M75),選手名簿!$A:$E,5,FALSE))","v":""},null,null,null,null,null,"得点者",{"$f":"IF(ISERROR(VLOOKUP(CONCATENATE($U$62,\"_\",V75),選手名簿!$A:$E,5,FALSE))=TRUE,\"\",VLOOKUP(CONCATENATE($U$62,\"_\",V75),選手名簿!$A:$E,5,FALSE))","v":""},null,null,null,null,null,null,null,{"$f":"IF(ISERROR(VLOOKUP(CONCATENATE($AC$62,\"_\",AB75),選手名簿!$A:$E,5,FALSE))=TRUE,\"\",VLOOKUP(CONCATENATE($AC$62,\"_\",AB75),選手名簿!$A:$E,5,FALSE))","v":""}]
[null,null,null,null,"得点者",{"$f":"IF(ISERROR(VLOOKUP(CONCATENATE($F$62,\"_\",G76),選手名簿!$A:$E,5,FALSE))=TRUE,\"\",VLOOKUP(CONCATENATE($F$62,\"_\",G76),選手名簿!$A:$E,5,FALSE))","v":""},null,null,null,null,null,null,null,{"$f":"IF(ISERROR(VLOOKUP(CONCATENATE($N$62,\"_\",M76),選手名簿!$A:$E,5,FALSE))=TRUE,\"\",VLOOKUP(CONCATENATE($N$62,\"_\",M76),選手名簿!$A:$E,5,FALSE))","v":""},null,null,null,null,null,"得点者",{"$f":"IF(ISERROR(VLOOKUP(CONCATENATE($U$62,\"_\",V76),選手名簿!$A:$E,5,FALSE))=TRUE,\"\",VLOOKUP(CONCATENATE($U$62,\"_\",V76),選手名簿!$A:$E,5,FALSE))","v":""},null,null,null,null,null,null,null,{"$f":"IF(ISERROR(VLOOKUP(CONCATENATE($AC$62,\"_\",AB76),選手名簿!$A:$E,5,FALSE))=TRUE,\"\",VLOOKUP(CONCATENATE($AC$62,\"_\",AB76),選手名簿!$A:$E,5,FALSE))","v":""}]
[null,null,null,null,"得点者",{"$f":"IF(ISERROR(VLOOKUP(CONCATENATE($F$62,\"_\",G77),選手名簿!$A:$E,5,FALSE))=TRUE,\"\",VLOOKUP(CONCATENATE($F$62,\"_\",G77),選手名簿!$A:$E,5,FALSE))","v":""},null,null,null,null,null,null,null,{"$f":"IF(ISERROR(VLOOKUP(CONCATENATE($N$62,\"_\",M77),選手名簿!$A:$E,5,FALSE))=TRUE,\"\",VLOOKUP(CONCATENATE($N$62,\"_\",M77),選手名簿!$A:$E,5,FALSE))","v":""},null,null,null,null,null,"得点者",{"$f":"IF(ISERROR(VLOOKUP(CONCATENATE($U$62,\"_\",V77),選手名簿!$A:$E,5,FALSE))=TRUE,\"\",VLOOKUP(CONCATENATE($U$62,\"_\",V77),選手名簿!$A:$E,5,FALSE))","v":""},null,null,null,null,null,null,null,{"$f":"IF(ISERROR(VLOOKUP(CONCATENATE($AC$62,\"_\",AB77),選手名簿!$A:$E,5,FALSE))=TRUE,\"\",VLOOKUP(CONCATENATE($AC$62,\"_\",AB77),選手名簿!$A:$E,5,FALSE))","v":""}]
["＜Referee＞",null,null,null,null,"氏名","番号","分",null,null,null,"分","番号","氏名",null,"＜Referee＞",null,null,null,null,"氏名","番号","分",null,null,null,"分","番号","氏名"]
["番号","R001262999",null,null,"得点者",{"$f":"IF(ISERROR(VLOOKUP(CONCATENATE($F$62,\"_\",G79),選手名簿!$A:$E,5,FALSE))=TRUE,\"\",VLOOKUP(CONCATENATE($F$62,\"_\",G79),選手名簿!$A:$E,5,FALSE))","v":""},null,null,null,null,null,13,7,{"$f":"IF(ISERROR(VLOOKUP(CONCATENATE($N$62,\"_\",M79),選手名簿!$A:$E,5,FALSE))=TRUE,\"\",VLOOKUP(CONCATENATE($N$62,\"_\",M79),選手名簿!$A:$E,5,FALSE))","v":"河津　悠星"},null,"番号","R010281871",null,null,"得点者",{"$f":"IF(ISERROR(VLOOKUP(CONCATENATE($U$62,\"_\",V79),選手名簿!$A:$E,5,FALSE))=TRUE,\"\",VLOOKUP(CONCATENATE($U$62,\"_\",V79),選手名簿!$A:$E,5,FALSE))","v":"松崎　壮悟"},9,1,null,null,null,null,null,{"$f":"IF(ISERROR(VLOOKUP(CONCATENATE($AC$62,\"_\",AB79),選手名簿!$A:$E,5,FALSE))=TRUE,\"\",VLOOKUP(CONCATENATE($AC$62,\"_\",AB79),選手名簿!$A:$E,5,FALSE))","v":""}]
["R",{"$f":"IF(ISERROR(VLOOKUP(B79,審判員!$A:$C,2,FALSE))=TRUE,\"\",VLOOKUP(B79,審判員!$A:$C,2,FALSE))","v":"木原　一心"},null,{"$f":"IF(ISERROR(VLOOKUP(B79,審判員!$A:$C,3,FALSE))=TRUE,\"\",VLOOKUP(B79,審判員!$A:$C,3,FALSE))","v":"２級"},null,{"$f":"IF(ISERROR(VLOOKUP(CONCATENATE($F$62,\"_\",G80),選手名簿!$A:$E,5,FALSE))=TRUE,\"\",VLOOKUP(CONCATENATE($F$62,\"_\",G80),選手名簿!$A:$E,5,FALSE))","v":""},null,null,null,null,null,null,null,{"$f":"IF(ISERROR(VLOOKUP(CONCATENATE($N$62,\"_\",M80),選手名簿!$A:$E,5,FALSE))=TRUE,\"\",VLOOKUP(CONCATENATE($N$62,\"_\",M80),選手名簿!$A:$E,5,FALSE))","v":""},null,"R",{"$f":"IF(ISERROR(VLOOKUP(Q79,審判員!$A:$C,2,FALSE))=TRUE,\"\",VLOOKUP(Q79,審判員!$A:$C,2,FALSE))","v":"山本　青"},null,{"$f":"IF(ISERROR(VLOOKUP(Q79,審判員!$A:$C,3,FALSE))=TRUE,\"\",VLOOKUP(Q79,審判員!$A:$C,3,FALSE))","v":"３級"},"得点者",{"$f":"IF(ISERROR(VLOOKUP(CONCATENATE($U$62,\"_\",V80),選手名簿!$A:$E,5,FALSE))=TRUE,\"\",VLOOKUP(CONCATENATE($U$62,\"_\",V80),選手名簿!$A:$E,5,FALSE))","v":"今仁　雅治"},10,9,null,null,null,null,null,{"$f":"IF(ISERROR(VLOOKUP(CONCATENATE($AC$62,\"_\",AB80),選手名簿!$A:$E,5,FALSE))=TRUE,\"\",VLOOKUP(CONCATENATE($AC$62,\"_\",AB80),選手名簿!$A:$E,5,FALSE))","v":""}]
["番号","R001256402",null,null,null,{"$f":"IF(ISERROR(VLOOKUP(CONCATENATE($F$62,\"_\",G81),選手名簿!$A:$E,5,FALSE))=TRUE,\"\",VLOOKUP(CONCATENATE($F$62,\"_\",G81),選手名簿!$A:$E,5,FALSE))","v":""},null,null,null,null,null,null,null,{"$f":"IF(ISERROR(VLOOKUP(CONCATENATE($N$62,\"_\",M81),選手名簿!$A:$E,5,FALSE))=TRUE,\"\",VLOOKUP(CONCATENATE($N$62,\"_\",M81),選手名簿!$A:$E,5,FALSE))","v":""},null,"番号",null,null,null,"得点者",{"$f":"IF(ISERROR(VLOOKUP(CONCATENATE($U$62,\"_\",V81),選手名簿!$A:$E,5,FALSE))=TRUE,\"\",VLOOKUP(CONCATENATE($U$62,\"_\",V81),選手名簿!$A:$E,5,FALSE))","v":"今仁　雅治"},10,12,null,null,null,null,null,{"$f":"IF(ISERROR(VLOOKUP(CONCATENATE($AC$62,\"_\",AB81),選手名簿!$A:$E,5,FALSE))=TRUE,\"\",VLOOKUP(CONCATENATE($AC$62,\"_\",AB81),選手名簿!$A:$E,5,FALSE))","v":""}]
["AR1:",{"$f":"IF(ISERROR(VLOOKUP(B81,審判員!$A:$C,2,FALSE))=TRUE,\"\",VLOOKUP(B81,審判員!$A:$C,2,FALSE))","v":"小石川　悟"},null,{"$f":"IF(ISERROR(VLOOKUP(B81,審判員!$A:$C,3,FALSE))=TRUE,\"\",VLOOKUP(B81,審判員!$A:$C,3,FALSE))","v":"３級"},null,{"$f":"IF(ISERROR(VLOOKUP(CONCATENATE($F$62,\"_\",G82),選手名簿!$A:$E,5,FALSE))=TRUE,\"\",VLOOKUP(CONCATENATE($F$62,\"_\",G82),選手名簿!$A:$E,5,FALSE))","v":""},null,null,null,null,null,null,null,{"$f":"IF(ISERROR(VLOOKUP(CONCATENATE($N$62,\"_\",M82),選手名簿!$A:$E,5,FALSE))=TRUE,\"\",VLOOKUP(CONCATENATE($N$62,\"_\",M82),選手名簿!$A:$E,5,FALSE))","v":""},null,"AR1:",{"$f":"IF(ISERROR(VLOOKUP(Q81,審判員!$A:$C,2,FALSE))=TRUE,\"\",VLOOKUP(Q81,審判員!$A:$C,2,FALSE))","v":""},null,{"$f":"IF(ISERROR(VLOOKUP(Q81,審判員!$A:$C,3,FALSE))=TRUE,\"\",VLOOKUP(Q81,審判員!$A:$C,3,FALSE))","v":""},"得点者",{"$f":"IF(ISERROR(VLOOKUP(CONCATENATE($U$62,\"_\",V82),選手名簿!$A:$E,5,FALSE))=TRUE,\"\",VLOOKUP(CONCATENATE($U$62,\"_\",V82),選手名簿!$A:$E,5,FALSE))","v":"本多　勝"},11,22,null,null,null,null,null,{"$f":"IF(ISERROR(VLOOKUP(CONCATENATE($AC$62,\"_\",AB82),選手名簿!$A:$E,5,FALSE))=TRUE,\"\",VLOOKUP(CONCATENATE($AC$62,\"_\",AB82),選手名簿!$A:$E,5,FALSE))","v":""}]
["番号","R009546055",null,null,null,{"$f":"IF(ISERROR(VLOOKUP(CONCATENATE($F$62,\"_\",G83),選手名簿!$A:$E,5,FALSE))=TRUE,\"\",VLOOKUP(CONCATENATE($F$62,\"_\",G83),選手名簿!$A:$E,5,FALSE))","v":""},null,null,null,null,null,null,null,{"$f":"IF(ISERROR(VLOOKUP(CONCATENATE($N$62,\"_\",M83),選手名簿!$A:$E,5,FALSE))=TRUE,\"\",VLOOKUP(CONCATENATE($N$62,\"_\",M83),選手名簿!$A:$E,5,FALSE))","v":""},null,"番号",null,null,null,"得点者",{"$f":"IF(ISERROR(VLOOKUP(CONCATENATE($U$62,\"_\",V83),選手名簿!$A:$E,5,FALSE))=TRUE,\"\",VLOOKUP(CONCATENATE($U$62,\"_\",V83),選手名簿!$A:$E,5,FALSE))","v":"今仁　雅治"},10,26,null,null,null,null,null,{"$f":"IF(ISERROR(VLOOKUP(CONCATENATE($AC$62,\"_\",AB83),選手名簿!$A:$E,5,FALSE))=TRUE,\"\",VLOOKUP(CONCATENATE($AC$62,\"_\",AB83),選手名簿!$A:$E,5,FALSE))","v":""}]
["AR2:",{"$f":"IF(ISERROR(VLOOKUP(B83,審判員!$A:$C,2,FALSE))=TRUE,\"\",VLOOKUP(B83,審判員!$A:$C,2,FALSE))","v":"吐合　直樹"},null,{"$f":"IF(ISERROR(VLOOKUP(B83,審判員!$A:$C,3,FALSE))=TRUE,\"\",VLOOKUP(B83,審判員!$A:$C,3,FALSE))","v":"３級"},null,{"$f":"IF(ISERROR(VLOOKUP(CONCATENATE($F$62,\"_\",G84),選手名簿!$A:$E,5,FALSE))=TRUE,\"\",VLOOKUP(CONCATENATE($F$62,\"_\",G84),選手名簿!$A:$E,5,FALSE))","v":""},null,null,null,null,null,null,null,{"$f":"IF(ISERROR(VLOOKUP(CONCATENATE($N$62,\"_\",M84),選手名簿!$A:$E,5,FALSE))=TRUE,\"\",VLOOKUP(CONCATENATE($N$62,\"_\",M84),選手名簿!$A:$E,5,FALSE))","v":""},null,"AR2:",{"$f":"IF(ISERROR(VLOOKUP(Q83,審判員!$A:$C,2,FALSE))=TRUE,\"\",VLOOKUP(Q83,審判員!$A:$C,2,FALSE))","v":""},null,{"$f":"IF(ISERROR(VLOOKUP(Q83,審判員!$A:$C,3,FALSE))=TRUE,\"\",VLOOKUP(Q83,審判員!$A:$C,3,FALSE))","v":""},"得点者",{"$f":"IF(ISERROR(VLOOKUP(CONCATENATE($U$62,\"_\",V84),選手名簿!$A:$E,5,FALSE))=TRUE,\"\",VLOOKUP(CONCATENATE($U$62,\"_\",V84),選手名簿!$A:$E,5,FALSE))","v":""},"OG",29,null,null,null,null,null,{"$f":"IF(ISERROR(VLOOKUP(CONCATENATE($AC$62,\"_\",AB84),選手名簿!$A:$E,5,FALSE))=TRUE,\"\",VLOOKUP(CONCATENATE($AC$62,\"_\",AB84),選手名簿!$A:$E,5,FALSE))","v":""}]
["番号","R001264304",null,null,null,{"$f":"IF(ISERROR(VLOOKUP(CONCATENATE($F$62,\"_\",G85),選手名簿!$A:$E,5,FALSE))=TRUE,\"\",VLOOKUP(CONCATENATE($F$62,\"_\",G85),選手名簿!$A:$E,5,FALSE))","v":""},null,null,null,null,null,null,null,{"$f":"IF(ISERROR(VLOOKUP(CONCATENATE($N$62,\"_\",M85),選手名簿!$A:$E,5,FALSE))=TRUE,\"\",VLOOKUP(CONCATENATE($N$62,\"_\",M85),選手名簿!$A:$E,5,FALSE))","v":""},null,"番号",null,null,null,"得点者",{"$f":"IF(ISERROR(VLOOKUP(CONCATENATE($U$62,\"_\",V85),選手名簿!$A:$E,5,FALSE))=TRUE,\"\",VLOOKUP(CONCATENATE($U$62,\"_\",V85),選手名簿!$A:$E,5,FALSE))","v":"金子　寛太"},8,30,null,null,null,null,null,{"$f":"IF(ISERROR(VLOOKUP(CONCATENATE($AC$62,\"_\",AB85),選手名簿!$A:$E,5,FALSE))=TRUE,\"\",VLOOKUP(CONCATENATE($AC$62,\"_\",AB85),選手名簿!$A:$E,5,FALSE))","v":""}]
["4th:",{"$f":"IF(ISERROR(VLOOKUP(B85,審判員!$A:$C,2,FALSE))=TRUE,\"\",VLOOKUP(B85,審判員!$A:$C,2,FALSE))","v":"羽田野　亘"},null,{"$f":"IF(ISERROR(VLOOKUP(B85,審判員!$A:$C,3,FALSE))=TRUE,\"\",VLOOKUP(B85,審判員!$A:$C,3,FALSE))","v":"３級"},null,{"$f":"IF(ISERROR(VLOOKUP(CONCATENATE($F$62,\"_\",G86),選手名簿!$A:$E,5,FALSE))=TRUE,\"\",VLOOKUP(CONCATENATE($F$62,\"_\",G86),選手名簿!$A:$E,5,FALSE))","v":""},null,null,null,null,null,null,null,{"$f":"IF(ISERROR(VLOOKUP(CONCATENATE($N$62,\"_\",M86),選手名簿!$A:$E,5,FALSE))=TRUE,\"\",VLOOKUP(CONCATENATE($N$62,\"_\",M86),選手名簿!$A:$E,5,FALSE))","v":""},null,"4th:",{"$f":"IF(ISERROR(VLOOKUP(Q85,審判員!$A:$C,2,FALSE))=TRUE,\"\",VLOOKUP(Q85,審判員!$A:$C,2,FALSE))","v":""},null,{"$f":"IF(ISERROR(VLOOKUP(Q85,審判員!$A:$C,3,FALSE))=TRUE,\"\",VLOOKUP(Q85,審判員!$A:$C,3,FALSE))","v":""},null,{"$f":"IF(ISERROR(VLOOKUP(CONCATENATE($U$62,\"_\",V86),選手名簿!$A:$E,5,FALSE))=TRUE,\"\",VLOOKUP(CONCATENATE($U$62,\"_\",V86),選手名簿!$A:$E,5,FALSE))","v":""},null,null,null,null,null,null,null,{"$f":"IF(ISERROR(VLOOKUP(CONCATENATE($AC$62,\"_\",AB86),選手名簿!$A:$E,5,FALSE))=TRUE,\"\",VLOOKUP(CONCATENATE($AC$62,\"_\",AB86),選手名簿!$A:$E,5,FALSE))","v":""}]
[]
[]
[]
[]
[null,"Match No：31",null,null,null,null,null,null,null,null,null,null,null,null,null,null,"Match No：32"]
["MC","津守　一雄",null,null,"11:30:00",{"$f":"VLOOKUP(決勝トーナメント!K21,組合せ抽選用!$S:$U,3,FALSE)","v":"大分トリニータＵ－１２"},{"$f":"SUM(I92:I93)","v":2},"（",1,"前半",1,"）",{"$f":"SUM(K92:K93)","v":2},{"$f":"VLOOKUP(決勝トーナメント!O21,組合せ抽選用!$S:$U,3,FALSE)","v":"ＭＳＳ"},null,"MC","秋吉　明",null,null,"11:30:00",{"$f":"VLOOKUP(決勝トーナメント!K28,組合せ抽選用!$S:$U,3,FALSE)","v":"スマイス　セレソン　スポーツクラブ"},{"$f":"SUM(X92:X93)","v":1},"（",1,"前半",0,"）",{"$f":"SUM(Z92:Z93)","v":1},{"$f":"VLOOKUP(決勝トーナメント!O28,組合せ抽選用!$S:$U,3,FALSE)","v":"大道サッカースポーツ少年団"}]
["Welfare\nOfficer","秦　啓一郎",null,null,null,null,null,null,1,"後半",1,null,null,null,null,"Welfare\nOfficer","-",null,null,null,null,null,null,0,"後半",1]
["記録","松下　省吾",null,null,null,null,null,null,2,"PK",0,null,null,null,null,"記録","隅田　哲平",null,null,null,null,null,null,3,"PK",2]
[null,null,null,null,null,"氏名","番号","分",null,null,null,"分","番号","氏名",null,null,null,null,null,null,"氏名","番号","分",null,null,null,"分","番号","氏名"]
[null,null,null,null,"得点者",{"$f":"IF(ISERROR(VLOOKUP(CONCATENATE($F$62,\"_\",G96),選手名簿!$A:$E,5,FALSE))=TRUE,\"\",VLOOKUP(CONCATENATE($F$62,\"_\",G96),選手名簿!$A:$E,5,FALSE))","v":""},null,null,null,null,null,null,null,{"$f":"IF(ISERROR(VLOOKUP(CONCATENATE($N$62,\"_\",M96),選手名簿!$A:$E,5,FALSE))=TRUE,\"\",VLOOKUP(CONCATENATE($N$62,\"_\",M96),選手名簿!$A:$E,5,FALSE))","v":""},null,null,null,null,null,"得点者",{"$f":"IF(ISERROR(VLOOKUP(CONCATENATE($U$62,\"_\",V96),選手名簿!$A:$E,5,FALSE))=TRUE,\"\",VLOOKUP(CONCATENATE($U$62,\"_\",V96),選手名簿!$A:$E,5,FALSE))","v":""},null,null,null,null,null,null,null,{"$f":"IF(ISERROR(VLOOKUP(CONCATENATE($AC$62,\"_\",AB96),選手名簿!$A:$E,5,FALSE))=TRUE,\"\",VLOOKUP(CONCATENATE($AC$62,\"_\",AB96),選手名簿!$A:$E,5,FALSE))","v":""}]
[null,null,null,null,"得点者",{"$f":"IF(ISERROR(VLOOKUP(CONCATENATE($F$62,\"_\",G97),選手名簿!$A:$E,5,FALSE))=TRUE,\"\",VLOOKUP(CONCATENATE($F$62,\"_\",G97),選手名簿!$A:$E,5,FALSE))","v":""},null,null,null,null,null,null,null,{"$f":"IF(ISERROR(VLOOKUP(CONCATENATE($N$62,\"_\",M97),選手名簿!$A:$E,5,FALSE))=TRUE,\"\",VLOOKUP(CONCATENATE($N$62,\"_\",M97),選手名簿!$A:$E,5,FALSE))","v":""},null,null,null,null,null,"得点者",{"$f":"IF(ISERROR(VLOOKUP(CONCATENATE($U$62,\"_\",V97),選手名簿!$A:$E,5,FALSE))=TRUE,\"\",VLOOKUP(CONCATENATE($U$62,\"_\",V97),選手名簿!$A:$E,5,FALSE))","v":""},null,null,null,null,null,null,null,{"$f":"IF(ISERROR(VLOOKUP(CONCATENATE($AC$62,\"_\",AB97),選手名簿!$A:$E,5,FALSE))=TRUE,\"\",VLOOKUP(CONCATENATE($AC$62,\"_\",AB97),選手名簿!$A:$E,5,FALSE))","v":""}]
[null,null,null,null,"得点者",{"$f":"IF(ISERROR(VLOOKUP(CONCATENATE($F$62,\"_\",G98),選手名簿!$A:$E,5,FALSE))=TRUE,\"\",VLOOKUP(CONCATENATE($F$62,\"_\",G98),選手名簿!$A:$E,5,FALSE))","v":""},null,null,null,null,null,null,null,{"$f":"IF(ISERROR(VLOOKUP(CONCATENATE($N$62,\"_\",M98),選手名簿!$A:$E,5,FALSE))=TRUE,\"\",VLOOKUP(CONCATENATE($N$62,\"_\",M98),選手名簿!$A:$E,5,FALSE))","v":""},null,null,null,null,null,"得点者",{"$f":"IF(ISERROR(VLOOKUP(CONCATENATE($U$62,\"_\",V98),選手名簿!$A:$E,5,FALSE))=TRUE,\"\",VLOOKUP(CONCATENATE($U$62,\"_\",V98),選手名簿!$A:$E,5,FALSE))","v":""},null,null,null,null,null,null,null,{"$f":"IF(ISERROR(VLOOKUP(CONCATENATE($AC$62,\"_\",AB98),選手名簿!$A:$E,5,FALSE))=TRUE,\"\",VLOOKUP(CONCATENATE($AC$62,\"_\",AB98),選手名簿!$A:$E,5,FALSE))","v":""}]
[null,null,null,null,"得点者",{"$f":"IF(ISERROR(VLOOKUP(CONCATENATE($F$62,\"_\",G99),選手名簿!$A:$E,5,FALSE))=TRUE,\"\",VLOOKUP(CONCATENATE($F$62,\"_\",G99),選手名簿!$A:$E,5,FALSE))","v":""},null,null,null,null,null,null,null,{"$f":"IF(ISERROR(VLOOKUP(CONCATENATE($N$62,\"_\",M99),選手名簿!$A:$E,5,FALSE))=TRUE,\"\",VLOOKUP(CONCATENATE($N$62,\"_\",M99),選手名簿!$A:$E,5,FALSE))","v":""},null,null,null,null,null,"得点者",{"$f":"IF(ISERROR(VLOOKUP(CONCATENATE($U$62,\"_\",V99),選手名簿!$A:$E,5,FALSE))=TRUE,\"\",VLOOKUP(CONCATENATE($U$62,\"_\",V99),選手名簿!$A:$E,5,FALSE))","v":""},null,null,null,null,null,null,null,{"$f":"IF(ISERROR(VLOOKUP(CONCATENATE($AC$62,\"_\",AB99),選手名簿!$A:$E,5,FALSE))=TRUE,\"\",VLOOKUP(CONCATENATE($AC$62,\"_\",AB99),選手名簿!$A:$E,5,FALSE))","v":""}]
[null,null,null,null,"得点者",{"$f":"IF(ISERROR(VLOOKUP(CONCATENATE($F$62,\"_\",G100),選手名簿!$A:$E,5,FALSE))=TRUE,\"\",VLOOKUP(CONCATENATE($F$62,\"_\",G100),選手名簿!$A:$E,5,FALSE))","v":""},null,null,null,null,null,null,null,{"$f":"IF(ISERROR(VLOOKUP(CONCATENATE($N$62,\"_\",M100),選手名簿!$A:$E,5,FALSE))=TRUE,\"\",VLOOKUP(CONCATENATE($N$62,\"_\",M100),選手名簿!$A:$E,5,FALSE))","v":""},null,null,null,null,null,"得点者",{"$f":"IF(ISERROR(VLOOKUP(CONCATENATE($U$62,\"_\",V100),選手名簿!$A:$E,5,FALSE))=TRUE,\"\",VLOOKUP(CONCATENATE($U$62,\"_\",V100),選手名簿!$A:$E,5,FALSE))","v":""},null,null,null,null,null,null,null,{"$f":"IF(ISERROR(VLOOKUP(CONCATENATE($AC$62,\"_\",AB100),選手名簿!$A:$E,5,FALSE))=TRUE,\"\",VLOOKUP(CONCATENATE($AC$62,\"_\",AB100),選手名簿!$A:$E,5,FALSE))","v":""}]
[null,null,null,null,"得点者",{"$f":"IF(ISERROR(VLOOKUP(CONCATENATE($F$62,\"_\",G101),選手名簿!$A:$E,5,FALSE))=TRUE,\"\",VLOOKUP(CONCATENATE($F$62,\"_\",G101),選手名簿!$A:$E,5,FALSE))","v":""},null,null,null,null,null,null,null,{"$f":"IF(ISERROR(VLOOKUP(CONCATENATE($N$62,\"_\",M101),選手名簿!$A:$E,5,FALSE))=TRUE,\"\",VLOOKUP(CONCATENATE($N$62,\"_\",M101),選手名簿!$A:$E,5,FALSE))","v":""},null,null,null,null,null,"得点者",{"$f":"IF(ISERROR(VLOOKUP(CONCATENATE($U$62,\"_\",V101),選手名簿!$A:$E,5,FALSE))=TRUE,\"\",VLOOKUP(CONCATENATE($U$62,\"_\",V101),選手名簿!$A:$E,5,FALSE))","v":""},null,null,null,null,null,null,null,{"$f":"IF(ISERROR(VLOOKUP(CONCATENATE($AC$62,\"_\",AB101),選手名簿!$A:$E,5,FALSE))=TRUE,\"\",VLOOKUP(CONCATENATE($AC$62,\"_\",AB101),選手名簿!$A:$E,5,FALSE))","v":""}]
[null,null,null,null,"得点者",{"$f":"IF(ISERROR(VLOOKUP(CONCATENATE($F$62,\"_\",G102),選手名簿!$A:$E,5,FALSE))=TRUE,\"\",VLOOKUP(CONCATENATE($F$62,\"_\",G102),選手名簿!$A:$E,5,FALSE))","v":""},null,null,null,null,null,null,null,{"$f":"IF(ISERROR(VLOOKUP(CONCATENATE($N$62,\"_\",M102),選手名簿!$A:$E,5,FALSE))=TRUE,\"\",VLOOKUP(CONCATENATE($N$62,\"_\",M102),選手名簿!$A:$E,5,FALSE))","v":""},null,null,null,null,null,"得点者",{"$f":"IF(ISERROR(VLOOKUP(CONCATENATE($U$62,\"_\",V102),選手名簿!$A:$E,5,FALSE))=TRUE,\"\",VLOOKUP(CONCATENATE($U$62,\"_\",V102),選手名簿!$A:$E,5,FALSE))","v":""},null,null,null,null,null,null,null,{"$f":"IF(ISERROR(VLOOKUP(CONCATENATE($AC$62,\"_\",AB102),選手名簿!$A:$E,5,FALSE))=TRUE,\"\",VLOOKUP(CONCATENATE($AC$62,\"_\",AB102),選手名簿!$A:$E,5,FALSE))","v":""}]
[null,null,null,null,"得点者",{"$f":"IF(ISERROR(VLOOKUP(CONCATENATE($F$62,\"_\",G103),選手名簿!$A:$E,5,FALSE))=TRUE,\"\",VLOOKUP(CONCATENATE($F$62,\"_\",G103),選手名簿!$A:$E,5,FALSE))","v":""},null,null,null,null,null,null,null,{"$f":"IF(ISERROR(VLOOKUP(CONCATENATE($N$62,\"_\",M103),選手名簿!$A:$E,5,FALSE))=TRUE,\"\",VLOOKUP(CONCATENATE($N$62,\"_\",M103),選手名簿!$A:$E,5,FALSE))","v":""},null,null,null,null,null,"得点者",{"$f":"IF(ISERROR(VLOOKUP(CONCATENATE($U$62,\"_\",V103),選手名簿!$A:$E,5,FALSE))=TRUE,\"\",VLOOKUP(CONCATENATE($U$62,\"_\",V103),選手名簿!$A:$E,5,FALSE))","v":""},null,null,null,null,null,null,null,{"$f":"IF(ISERROR(VLOOKUP(CONCATENATE($AC$62,\"_\",AB103),選手名簿!$A:$E,5,FALSE))=TRUE,\"\",VLOOKUP(CONCATENATE($AC$62,\"_\",AB103),選手名簿!$A:$E,5,FALSE))","v":""}]
[null,null,null,null,"得点者",{"$f":"IF(ISERROR(VLOOKUP(CONCATENATE($F$62,\"_\",G104),選手名簿!$A:$E,5,FALSE))=TRUE,\"\",VLOOKUP(CONCATENATE($F$62,\"_\",G104),選手名簿!$A:$E,5,FALSE))","v":""},null,null,null,null,null,null,null,{"$f":"IF(ISERROR(VLOOKUP(CONCATENATE($N$62,\"_\",M104),選手名簿!$A:$E,5,FALSE))=TRUE,\"\",VLOOKUP(CONCATENATE($N$62,\"_\",M104),選手名簿!$A:$E,5,FALSE))","v":""},null,null,null,null,null,"得点者",{"$f":"IF(ISERROR(VLOOKUP(CONCATENATE($U$62,\"_\",V104),選手名簿!$A:$E,5,FALSE))=TRUE,\"\",VLOOKUP(CONCATENATE($U$62,\"_\",V104),選手名簿!$A:$E,5,FALSE))","v":""},null,null,null,null,null,null,null,{"$f":"IF(ISERROR(VLOOKUP(CONCATENATE($AC$62,\"_\",AB104),選手名簿!$A:$E,5,FALSE))=TRUE,\"\",VLOOKUP(CONCATENATE($AC$62,\"_\",AB104),選手名簿!$A:$E,5,FALSE))","v":""}]
[null,null,null,null,"得点者",{"$f":"IF(ISERROR(VLOOKUP(CONCATENATE($F$62,\"_\",G105),選手名簿!$A:$E,5,FALSE))=TRUE,\"\",VLOOKUP(CONCATENATE($F$62,\"_\",G105),選手名簿!$A:$E,5,FALSE))","v":""},null,null,null,null,null,null,null,{"$f":"IF(ISERROR(VLOOKUP(CONCATENATE($N$62,\"_\",M105),選手名簿!$A:$E,5,FALSE))=TRUE,\"\",VLOOKUP(CONCATENATE($N$62,\"_\",M105),選手名簿!$A:$E,5,FALSE))","v":""},null,null,null,null,null,"得点者",{"$f":"IF(ISERROR(VLOOKUP(CONCATENATE($U$62,\"_\",V105),選手名簿!$A:$E,5,FALSE))=TRUE,\"\",VLOOKUP(CONCATENATE($U$62,\"_\",V105),選手名簿!$A:$E,5,FALSE))","v":""},null,null,null,null,null,null,null,{"$f":"IF(ISERROR(VLOOKUP(CONCATENATE($AC$62,\"_\",AB105),選手名簿!$A:$E,5,FALSE))=TRUE,\"\",VLOOKUP(CONCATENATE($AC$62,\"_\",AB105),選手名簿!$A:$E,5,FALSE))","v":""}]
[null,null,null,null,"得点者",{"$f":"IF(ISERROR(VLOOKUP(CONCATENATE($F$62,\"_\",G106),選手名簿!$A:$E,5,FALSE))=TRUE,\"\",VLOOKUP(CONCATENATE($F$62,\"_\",G106),選手名簿!$A:$E,5,FALSE))","v":""},null,null,null,null,null,null,null,{"$f":"IF(ISERROR(VLOOKUP(CONCATENATE($N$62,\"_\",M106),選手名簿!$A:$E,5,FALSE))=TRUE,\"\",VLOOKUP(CONCATENATE($N$62,\"_\",M106),選手名簿!$A:$E,5,FALSE))","v":""},null,null,null,null,null,"得点者",{"$f":"IF(ISERROR(VLOOKUP(CONCATENATE($U$62,\"_\",V106),選手名簿!$A:$E,5,FALSE))=TRUE,\"\",VLOOKUP(CONCATENATE($U$62,\"_\",V106),選手名簿!$A:$E,5,FALSE))","v":""},null,null,null,null,null,null,null,{"$f":"IF(ISERROR(VLOOKUP(CONCATENATE($AC$62,\"_\",AB106),選手名簿!$A:$E,5,FALSE))=TRUE,\"\",VLOOKUP(CONCATENATE($AC$62,\"_\",AB106),選手名簿!$A:$E,5,FALSE))","v":""}]
[null,null,null,null,"得点者",{"$f":"IF(ISERROR(VLOOKUP(CONCATENATE($F$62,\"_\",G107),選手名簿!$A:$E,5,FALSE))=TRUE,\"\",VLOOKUP(CONCATENATE($F$62,\"_\",G107),選手名簿!$A:$E,5,FALSE))","v":""},null,null,null,null,null,null,null,{"$f":"IF(ISERROR(VLOOKUP(CONCATENATE($N$62,\"_\",M107),選手名簿!$A:$E,5,FALSE))=TRUE,\"\",VLOOKUP(CONCATENATE($N$62,\"_\",M107),選手名簿!$A:$E,5,FALSE))","v":""},null,null,null,null,null,"得点者",{"$f":"IF(ISERROR(VLOOKUP(CONCATENATE($U$62,\"_\",V107),選手名簿!$A:$E,5,FALSE))=TRUE,\"\",VLOOKUP(CONCATENATE($U$62,\"_\",V107),選手名簿!$A:$E,5,FALSE))","v":""},null,null,null,null,null,null,null,{"$f":"IF(ISERROR(VLOOKUP(CONCATENATE($AC$62,\"_\",AB107),選手名簿!$A:$E,5,FALSE))=TRUE,\"\",VLOOKUP(CONCATENATE($AC$62,\"_\",AB107),選手名簿!$A:$E,5,FALSE))","v":""}]
["＜Referee＞",null,null,null,null,"氏名","番号","分",null,null,null,"分","番号","氏名",null,"＜Referee＞",null,null,null,null,"氏名","番号","分",null,null,null,"分","番号","氏名"]
["番号","R006664961",null,null,"得点者",{"$f":"IF(ISERROR(VLOOKUP(CONCATENATE($F$92,\"_\",G109),選手名簿!$A:$E,5,FALSE))=TRUE,\"\",VLOOKUP(CONCATENATE($F$92,\"_\",G109),選手名簿!$A:$E,5,FALSE))","v":"木許　央雅"},10,5,null,null,null,9,11,{"$f":"IF(ISERROR(VLOOKUP(CONCATENATE($N$92,\"_\",M109),選手名簿!$A:$E,5,FALSE))=TRUE,\"\",VLOOKUP(CONCATENATE($N$92,\"_\",M109),選手名簿!$A:$E,5,FALSE))","v":"山本　一晟"},null,"番号","R005603486",null,null,"得点者",{"$f":"IF(ISERROR(VLOOKUP(CONCATENATE($U$92,\"_\",V109),選手名簿!$A:$E,5,FALSE))=TRUE,\"\",VLOOKUP(CONCATENATE($U$92,\"_\",V109),選手名簿!$A:$E,5,FALSE))","v":"中井　薫"},17,6,null,null,null,19,10,{"$f":"IF(ISERROR(VLOOKUP(CONCATENATE($AC$92,\"_\",AB109),選手名簿!$A:$E,5,FALSE))=TRUE,\"\",VLOOKUP(CONCATENATE($AC$92,\"_\",AB109),選手名簿!$A:$E,5,FALSE))","v":"首藤　教輔"}]
["R",{"$f":"IF(ISERROR(VLOOKUP(B109,審判員!$A:$C,2,FALSE))=TRUE,\"\",VLOOKUP(B109,審判員!$A:$C,2,FALSE))","v":"末吉　裕樹"},null,{"$f":"IF(ISERROR(VLOOKUP(B109,審判員!$A:$C,3,FALSE))=TRUE,\"\",VLOOKUP(B109,審判員!$A:$C,3,FALSE))","v":"３級"},"得点者",{"$f":"IF(ISERROR(VLOOKUP(CONCATENATE($F$92,\"_\",G110),選手名簿!$A:$E,5,FALSE))=TRUE,\"\",VLOOKUP(CONCATENATE($F$92,\"_\",G110),選手名簿!$A:$E,5,FALSE))","v":"河野　歩夢"},11,18,null,null,null,21,14,{"$f":"IF(ISERROR(VLOOKUP(CONCATENATE($N$92,\"_\",M110),選手名簿!$A:$E,5,FALSE))=TRUE,\"\",VLOOKUP(CONCATENATE($N$92,\"_\",M110),選手名簿!$A:$E,5,FALSE))","v":"高野　将大"},null,"R",{"$f":"IF(ISERROR(VLOOKUP(Q109,審判員!$A:$C,2,FALSE))=TRUE,\"\",VLOOKUP(Q109,審判員!$A:$C,2,FALSE))","v":"山本　篤"},null,{"$f":"IF(ISERROR(VLOOKUP(Q109,審判員!$A:$C,3,FALSE))=TRUE,\"\",VLOOKUP(Q109,審判員!$A:$C,3,FALSE))","v":"３級"},null,{"$f":"IF(ISERROR(VLOOKUP(CONCATENATE($U$92,\"_\",V110),選手名簿!$A:$E,5,FALSE))=TRUE,\"\",VLOOKUP(CONCATENATE($U$92,\"_\",V110),選手名簿!$A:$E,5,FALSE))","v":""},null,null,null,null,null,null,null,{"$f":"IF(ISERROR(VLOOKUP(CONCATENATE($AC$92,\"_\",AB110),選手名簿!$A:$E,5,FALSE))=TRUE,\"\",VLOOKUP(CONCATENATE($AC$92,\"_\",AB110),選手名簿!$A:$E,5,FALSE))","v":""}]
["番号","R010281814",null,null,null,{"$f":"IF(ISERROR(VLOOKUP(CONCATENATE($F$92,\"_\",G111),選手名簿!$A:$E,5,FALSE))=TRUE,\"\",VLOOKUP(CONCATENATE($F$92,\"_\",G111),選手名簿!$A:$E,5,FALSE))","v":""},null,null,null,null,null,null,null,{"$f":"IF(ISERROR(VLOOKUP(CONCATENATE($N$92,\"_\",M111),選手名簿!$A:$E,5,FALSE))=TRUE,\"\",VLOOKUP(CONCATENATE($N$92,\"_\",M111),選手名簿!$A:$E,5,FALSE))","v":""},null,"番号",null,null,null,null,{"$f":"IF(ISERROR(VLOOKUP(CONCATENATE($U$92,\"_\",V111),選手名簿!$A:$E,5,FALSE))=TRUE,\"\",VLOOKUP(CONCATENATE($U$92,\"_\",V111),選手名簿!$A:$E,5,FALSE))","v":""},null,null,null,null,null,null,null,{"$f":"IF(ISERROR(VLOOKUP(CONCATENATE($AC$92,\"_\",AB111),選手名簿!$A:$E,5,FALSE))=TRUE,\"\",VLOOKUP(CONCATENATE($AC$92,\"_\",AB111),選手名簿!$A:$E,5,FALSE))","v":""}]
["AR1:",{"$f":"IF(ISERROR(VLOOKUP(B111,審判員!$A:$C,2,FALSE))=TRUE,\"\",VLOOKUP(B111,審判員!$A:$C,2,FALSE))","v":"安部　正信"},null,{"$f":"IF(ISERROR(VLOOKUP(B111,審判員!$A:$C,3,FALSE))=TRUE,\"\",VLOOKUP(B111,審判員!$A:$C,3,FALSE))","v":"３級"},null,{"$f":"IF(ISERROR(VLOOKUP(CONCATENATE($F$92,\"_\",G112),選手名簿!$A:$E,5,FALSE))=TRUE,\"\",VLOOKUP(CONCATENATE($F$92,\"_\",G112),選手名簿!$A:$E,5,FALSE))","v":""},null,null,null,null,null,null,null,{"$f":"IF(ISERROR(VLOOKUP(CONCATENATE($N$92,\"_\",M112),選手名簿!$A:$E,5,FALSE))=TRUE,\"\",VLOOKUP(CONCATENATE($N$92,\"_\",M112),選手名簿!$A:$E,5,FALSE))","v":""},null,"AR1:",{"$f":"IF(ISERROR(VLOOKUP(Q111,審判員!$A:$C,2,FALSE))=TRUE,\"\",VLOOKUP(Q111,審判員!$A:$C,2,FALSE))","v":""},null,{"$f":"IF(ISERROR(VLOOKUP(Q111,審判員!$A:$C,3,FALSE))=TRUE,\"\",VLOOKUP(Q111,審判員!$A:$C,3,FALSE))","v":""},null,{"$f":"IF(ISERROR(VLOOKUP(CONCATENATE($U$92,\"_\",V112),選手名簿!$A:$E,5,FALSE))=TRUE,\"\",VLOOKUP(CONCATENATE($U$92,\"_\",V112),選手名簿!$A:$E,5,FALSE))","v":""},null,null,null,null,null,null,null,{"$f":"IF(ISERROR(VLOOKUP(CONCATENATE($AC$92,\"_\",AB112),選手名簿!$A:$E,5,FALSE))=TRUE,\"\",VLOOKUP(CONCATENATE($AC$92,\"_\",AB112),選手名簿!$A:$E,5,FALSE))","v":""}]
["番号","R010189300",null,null,null,{"$f":"IF(ISERROR(VLOOKUP(CONCATENATE($F$92,\"_\",G113),選手名簿!$A:$E,5,FALSE))=TRUE,\"\",VLOOKUP(CONCATENATE($F$92,\"_\",G113),選手名簿!$A:$E,5,FALSE))","v":""},null,null,null,null,null,null,null,{"$f":"IF(ISERROR(VLOOKUP(CONCATENATE($N$92,\"_\",M113),選手名簿!$A:$E,5,FALSE))=TRUE,\"\",VLOOKUP(CONCATENATE($N$92,\"_\",M113),選手名簿!$A:$E,5,FALSE))","v":""},null,"番号",null,null,null,null,{"$f":"IF(ISERROR(VLOOKUP(CONCATENATE($U$92,\"_\",V113),選手名簿!$A:$E,5,FALSE))=TRUE,\"\",VLOOKUP(CONCATENATE($U$92,\"_\",V113),選手名簿!$A:$E,5,FALSE))","v":""},null,null,null,null,null,null,null,{"$f":"IF(ISERROR(VLOOKUP(CONCATENATE($AC$92,\"_\",AB113),選手名簿!$A:$E,5,FALSE))=TRUE,\"\",VLOOKUP(CONCATENATE($AC$92,\"_\",AB113),選手名簿!$A:$E,5,FALSE))","v":""}]
["AR2:",{"$f":"IF(ISERROR(VLOOKUP(B113,審判員!$A:$C,2,FALSE))=TRUE,\"\",VLOOKUP(B113,審判員!$A:$C,2,FALSE))","v":"徳光　将太"},null,{"$f":"IF(ISERROR(VLOOKUP(B113,審判員!$A:$C,3,FALSE))=TRUE,\"\",VLOOKUP(B113,審判員!$A:$C,3,FALSE))","v":"３級"},null,{"$f":"IF(ISERROR(VLOOKUP(CONCATENATE($F$92,\"_\",G114),選手名簿!$A:$E,5,FALSE))=TRUE,\"\",VLOOKUP(CONCATENATE($F$92,\"_\",G114),選手名簿!$A:$E,5,FALSE))","v":""},null,null,null,null,null,null,null,{"$f":"IF(ISERROR(VLOOKUP(CONCATENATE($N$92,\"_\",M114),選手名簿!$A:$E,5,FALSE))=TRUE,\"\",VLOOKUP(CONCATENATE($N$92,\"_\",M114),選手名簿!$A:$E,5,FALSE))","v":""},null,"AR2:",{"$f":"IF(ISERROR(VLOOKUP(Q113,審判員!$A:$C,2,FALSE))=TRUE,\"\",VLOOKUP(Q113,審判員!$A:$C,2,FALSE))","v":""},null,{"$f":"IF(ISERROR(VLOOKUP(Q113,審判員!$A:$C,3,FALSE))=TRUE,\"\",VLOOKUP(Q113,審判員!$A:$C,3,FALSE))","v":""},null,{"$f":"IF(ISERROR(VLOOKUP(CONCATENATE($U$92,\"_\",V114),選手名簿!$A:$E,5,FALSE))=TRUE,\"\",VLOOKUP(CONCATENATE($U$92,\"_\",V114),選手名簿!$A:$E,5,FALSE))","v":""},null,null,null,null,null,null,null,{"$f":"IF(ISERROR(VLOOKUP(CONCATENATE($AC$92,\"_\",AB114),選手名簿!$A:$E,5,FALSE))=TRUE,\"\",VLOOKUP(CONCATENATE($AC$92,\"_\",AB114),選手名簿!$A:$E,5,FALSE))","v":""}]
["番号","R001262333",null,null,null,{"$f":"IF(ISERROR(VLOOKUP(CONCATENATE($F$92,\"_\",G115),選手名簿!$A:$E,5,FALSE))=TRUE,\"\",VLOOKUP(CONCATENATE($F$92,\"_\",G115),選手名簿!$A:$E,5,FALSE))","v":""},null,null,null,null,null,null,null,{"$f":"IF(ISERROR(VLOOKUP(CONCATENATE($N$92,\"_\",M115),選手名簿!$A:$E,5,FALSE))=TRUE,\"\",VLOOKUP(CONCATENATE($N$92,\"_\",M115),選手名簿!$A:$E,5,FALSE))","v":""},null,"番号",null,null,null,null,{"$f":"IF(ISERROR(VLOOKUP(CONCATENATE($U$92,\"_\",V115),選手名簿!$A:$E,5,FALSE))=TRUE,\"\",VLOOKUP(CONCATENATE($U$92,\"_\",V115),選手名簿!$A:$E,5,FALSE))","v":""},null,null,null,null,null,null,null,{"$f":"IF(ISERROR(VLOOKUP(CONCATENATE($AC$92,\"_\",AB115),選手名簿!$A:$E,5,FALSE))=TRUE,\"\",VLOOKUP(CONCATENATE($AC$92,\"_\",AB115),選手名簿!$A:$E,5,FALSE))","v":""}]
["4th:",{"$f":"IF(ISERROR(VLOOKUP(B115,審判員!$A:$C,2,FALSE))=TRUE,\"\",VLOOKUP(B115,審判員!$A:$C,2,FALSE))","v":"諌本　秀樹"},null,{"$f":"IF(ISERROR(VLOOKUP(B115,審判員!$A:$C,3,FALSE))=TRUE,\"\",VLOOKUP(B115,審判員!$A:$C,3,FALSE))","v":"２級"},null,{"$f":"IF(ISERROR(VLOOKUP(CONCATENATE($F$92,\"_\",G116),選手名簿!$A:$E,5,FALSE))=TRUE,\"\",VLOOKUP(CONCATENATE($F$92,\"_\",G116),選手名簿!$A:$E,5,FALSE))","v":""},null,null,null,null,null,null,null,{"$f":"IF(ISERROR(VLOOKUP(CONCATENATE($N$92,\"_\",M116),選手名簿!$A:$E,5,FALSE))=TRUE,\"\",VLOOKUP(CONCATENATE($N$92,\"_\",M116),選手名簿!$A:$E,5,FALSE))","v":""},null,"4th:",{"$f":"IF(ISERROR(VLOOKUP(Q115,審判員!$A:$C,2,FALSE))=TRUE,\"\",VLOOKUP(Q115,審判員!$A:$C,2,FALSE))","v":""},null,{"$f":"IF(ISERROR(VLOOKUP(Q115,審判員!$A:$C,3,FALSE))=TRUE,\"\",VLOOKUP(Q115,審判員!$A:$C,3,FALSE))","v":""},null,{"$f":"IF(ISERROR(VLOOKUP(CONCATENATE($U$92,\"_\",V116),選手名簿!$A:$E,5,FALSE))=TRUE,\"\",VLOOKUP(CONCATENATE($U$92,\"_\",V116),選手名簿!$A:$E,5,FALSE))","v":""},null,null,null,null,null,null,null,{"$f":"IF(ISERROR(VLOOKUP(CONCATENATE($AC$92,\"_\",AB116),選手名簿!$A:$E,5,FALSE))=TRUE,\"\",VLOOKUP(CONCATENATE($AC$92,\"_\",AB116),選手名簿!$A:$E,5,FALSE))","v":""}]

{"sheet":"決勝公式記録 No,33","index":13,"n_rows":69,"n_cols":51,"rows_kept":69,"cut":false,"hidden":false,"merged":[[67,6,67,12],[67,13,67,19],[67,20,67,26],[67,27,67,35],[68,6,70,12],[68,13,70,19],[68,20,70,26],[68,27,70,35],[56,29,56,30],[58,0,58,3],[58,5,58,9],[58,12,58,16],[58,18,58,33],[59,0,65,35],[56,3,56,5],[56,7,56,8],[56,11,56,13],[56,16,56,17],[56,20,56,21],[56,24,56,26],[54,3,54,4],[54,5,54,17],[54,21,54,22],[54,23,54,35],[55,3,55,4],[55,5,55,17],[55,21,55,22],[55,23,55,35],[52,3,52,4],[52,5,52,17],[52,21,52,22],[52,23,52,35],[53,3,53,4],[53,5,53,17],[53,21,53,22],[53,23,53,35],[50,3,50,4],[50,5,50,17],[50,21,50,22],[50,23,50,35],[51,3,51,4],[51,5,51,17],[51,21,51,22],[51,23,51,35],[48,25,48,26],[48,27,48,28],[49,0,49,2],[49,3,49,4],[49,5,49,17],[49,18,49,20],[49,21,49,22],[49,23,49,35],[47,25,47,26],[47,27,47,28],[48,7,48,8],[48,9,48,10],[48,11,48,12],[48,13,48,14],[48,15,48,16],[48,19,48,20],[48,21,48,22],[48,23,48,24],[44,0,48,6],[46,25,46,26],[46,27,46,28],[47,7,47,8],[47,9,47,10],[47,11,47,12],[47,13,47,14],[47,15,47,16],[47,19,47,20],[47,21,47,22],[47,23,47,24],[46,7,46,8],[46,9,46,10],[46,11,46,12],[46,13,46,14],[46,15,46,16],[46,19,46,20],[46,21,46,22],[46,23,46,24],[44,25,44,26],[44,27,44,28],[45,7,45,8],[45,9,45,10],[45,11,45,12],[45,13,45,14],[45,15,45,16],[45,19,45,20],[45,21,45,22],[45,23,45,24],[45,25,45,26],[45,27,45,28],[44,7,44,8],[44,9,44,10],[44,11,44,12],[44,13,44,14],[44,15,44,16],[44,19,44,20],[44,21,44,22],[44,23,44,24],[42,4,42,8],[42,12,42,16],[42,22,42,26],[42,30,42,34],[43,0,43,6],[43,7,43,8],[43,9,43,10],[43,11,43,12],[43,13,43,14],[43,15,43,16],[43,29,43,35],[43,17,43,18],[43,19,43,20],[43,21,43,22],[43,23,43,24],[43,25,43,26],[43,27,43,28],[40,4,40,8],[40,12,40,16],[40,22,40,26],[40,30,40,34],[41,4,41,8],[41,12,41,16],[41,22,41,26],[41,30,41,34],[38,4,38,8],[38,12,38,16],[38,22,38,26],[38,30,38,34],[39,4,39,8],[39,12,39,16],[39,22,39,26],[39,30,39,34],[36,4,36,8],[36,12,36,16],[36,22,36,26],[36,30,36,34],[37,4,37,8],[37,12,37,16],[37,22,37,26],[37,30,37,34],[33,27,34,27],[33,28,34,34],[34,17,34,18],[35,4,35,8],[35,12,35,16],[35,22,35,26],[35,30,35,34],[32,11,32,15],[32,17,32,18],[32,20,32,24],[33,2,34,8],[33,9,34,9],[33,10,34,16],[33,17,33,18],[33,20,34,26],[29,11,29,15],[29,20,29,24],[30,11,30,15],[30,20,30,24],[31,11,31,15],[31,20,31,24],[27,11,27,15],[27,20,27,24],[28,11,28,15],[28,20,28,24],[22,11,22,15],[22,20,22,24],[23,16,23,19],[24,11,24,15],[24,20,24,24],[25,11,25,15],[25,20,25,24],[21,11,21,15],[21,20,21,24],[16,11,16,15],[16,20,16,24],[17,11,17,15],[17,20,17,24],[18,11,18,15],[18,20,18,24],[26,11,26,15],[26,20,26,24],[15,11,15,15],[15,20,15,24],[13,30,13,31],[13,32,13,33],[13,34,13,35],[19,11,19,15],[19,20,19,24],[20,11,20,15],[20,20,20,24],[13,41,13,42],[14,0,14,1],[14,2,14,3],[14,4,14,5],[14,6,14,7],[14,8,14,9],[14,26,14,27],[12,26,12,33],[12,41,12,42],[13,0,13,1],[13,2,13,3],[13,4,13,5],[13,6,13,7],[13,8,13,9],[13,17,13,18],[13,26,13,27],[13,28,13,29],[14,28,14,29],[14,30,14,31],[14,32,14,33],[14,34,14,35],[11,17,11,18],[12,2,12,9],[7,32,7,35],[8,1,8,10],[8,11,8,14],[8,17,8,18],[8,22,8,31],[8,32,8,35],[7,0,7,2],[7,11,7,14],[7,15,11,15],[7,17,7,18],[7,20,11,20],[7,21,7,23],[9,12,9,14],[9,17,9,18],[9,21,9,23],[10,11,10,12],[5,26,5,30],[5,31,5,35],[6,0,6,1],[6,11,6,12],[6,13,6,14],[6,18,6,19],[6,26,6,30],[10,13,10,14],[10,17,10,18],[10,21,10,22],[10,23,10,24],[4,0,4,1],[4,2,6,8],[4,11,4,12],[4,18,4,19],[5,0,5,1],[5,11,5,12],[5,13,5,14],[5,18,5,19],[5,21,5,25],[1,28,2,29],[1,31,1,35],[2,0,2,1],[2,14,2,15],[2,16,2,17],[2,18,2,26],[2,31,2,35],[0,0,0,5],[0,6,0,9],[0,10,0,11],[1,0,1,1],[1,2,3,13],[1,15,1,16],[3,0,3,1],[3,14,3,15],[3,16,3,17],[3,18,3,26],[3,28,3,29],[3,31,3,35]]}
["公式記録",null,null,null,null,null,"Match No：",null,null,null,33]
["大",null,"第８回\n全日本不動産協会杯争奪少年サッカー大会\n【ラビットカップ】大分県大会",null,null,null,null,null,null,null,null,null,null,null,"第",2,null,"日",null,null,null,null,null,null,null,null,null,"競技","30分",null,"記"]
["会",null,null,null,null,null,null,null,null,null,null,null,null,null,"1回戦",null,"2回戦",null,"2019年　7月7日（日）",null,null,null,null,null,null,null,null,"時間",null,null,"録","松下　省吾"]
["名",null,null,null,null,null,null,null,null,null,null,null,null,null,"準決勝",null,"決勝",null,"試合開始　13時30分～",null,null,null,null,null,null,null,null,"延長","10分",null,"者","榊　謙治"]
["会",null,"大分ｽﾎﾟｰﾂ公園\n昭和電工ｻｯｶｰ･ﾗｸﾞﾋﾞｰ場\n　Aｺｰﾄ　北側",null,null,null,null,null,null,"天","晴","風",null,"強","弱","無","芝","状","良好",null,"審","主審",null,null,null,null,"副審",null,null,null,null,"第4の審判員"]
[null,null,null,null,null,null,null,null,null,null,"曇","気温",null,27.6,null,"℃",null,null,"不良",null,null,"幸　壮一郎",null,null,null,null,"白江　直樹",null,null,null,null,"佐藤　慎二"]
["場",null,null,null,null,null,null,null,null,"候","雨","湿度",null,47.3,null,"％","土","態","泥沼",null,"判",null,null,null,null,null,"宇髙　篤史"]
["【チーム名】",null,null,null,null,null,null,null,null,null,null,null,null,null,null,0,0,"前半",null,0,1,"【チーム名】"]
[null,{"$f":"AR13","v":"ＦＣアリアーレ"},null,null,null,null,null,null,null,null,null,{"$f":"AR14","v":"日田市"},null,null,null,null,0,"後半",null,1,null,null,{"$f":"AY13","v":"大分トリニータＵ－１２"},null,null,null,null,null,null,null,null,null,{"$f":"AY14","v":"大分市"}]
[null,null,null,null,null,null,null,null,null,null,null,null,"kick off",null,null,null,null,"延前",null,null,null,"kick off"]
[null,null,null,null,null,null,null,null,null,null,null,"番号",null,"PK",null,null,null,"延後",null,null,null,"PK",null,"番号"]
[null,null,null,null,null,null,null,null,null,null,null,"○","×","先","後",null,null,"ＰＫ戦",null,null,null,"先","後","○","×"]
[null,null,"シュート（得点者は○印）",null,null,null,null,null,null,null,"学",null,null,null,null,null,"番",null,null,"番",null,null,null,null,null,"学","シュート（得点者は○印）",null,null,null,null,null,null,null,null,null,null,null,null,null,null,"チーム名",null,"ＦＣアリアーレ",null,null,null,null,null,"チーム名","大分トリニータＵ－１２"]
["合",null,"延",null,"延",null,"後",null,"前",null,null,null,"選","手","名",null,null,"位置",null,null,null,"選","手","名",null,null,"前",null,"後",null,"延",null,"延",null,"合",null,null,null,null,null,null,"地区名",null,"日田市",null,null,null,null,null,"地区名","大分市"]
["計",null,"後",null,"前",null,"半",null,"半",null,"年",null,null,null,null,null,"号",null,null,"号",null,null,null,null,null,"年","半",null,"半",null,"前",null,"後",null,"計"]
[null,{"$f":"SUM(D16,F16,H16,J16)","v":0},null,null,null,null,null,null,null,null,{"$f":"IF(ISERROR(VLOOKUP(CONCATENATE($B$9,\"_\",Q16),選手名簿!$A$1:$G$65536,7,FALSE))=TRUE,\"\",VLOOKUP(CONCATENATE($B$9,\"_\",Q16),選手名簿!$A$1:$G$65536,7,FALSE))","v":6},{"$f":"IF(ISERROR(VLOOKUP(CONCATENATE($B$9,\"_\",Q16),選手名簿!$A$1:$E$65536,5,FALSE))=TRUE,\"\",VLOOKUP(CONCATENATE($B$9,\"_\",Q16),選手名簿!$A$1:$E$65536,5,FALSE))","v":"古賀　貫太郎"},null,null,null,null,1,{"$f":"IF(ISERROR(VLOOKUP(CONCATENATE($B$9,\"_\",Q16),選手名簿!$A$1:$E$65536,4,FALSE))=TRUE,\"\",VLOOKUP(CONCATENATE($B$9,\"_\",Q16),選手名簿!$A$1:$E$65536,4,FALSE))","v":"GK"},{"$f":"IF(ISERROR(VLOOKUP(CONCATENATE($W$9,\"_\",T16),選手名簿!$A$1:$E$65536,4,FALSE))=TRUE,\"\",VLOOKUP(CONCATENATE($W$9,\"_\",T16),選手名簿!$A$1:$E$65536,4,FALSE))","v":"GK"},1,{"$f":"IF(ISERROR(VLOOKUP(CONCATENATE($W$9,\"_\",T16),選手名簿!$A$1:$E$65536,5,FALSE))=TRUE,\"\",VLOOKUP(CONCATENATE($W$9,\"_\",T16),選手名簿!$A$1:$E$65536,5,FALSE))","v":"加藤　航"},null,null,null,null,{"$f":"IF(ISERROR(VLOOKUP(CONCATENATE($W$9,\"_\",T16),選手名簿!$A$1:$G$65536,7,FALSE))=TRUE,\"\",VLOOKUP(CONCATENATE($W$9,\"_\",T16),選手名簿!$A$1:$G$65536,7,FALSE))","v":6},null,null,null,null,null,null,null,null,null,{"$f":"SUM(AB16,AD16,AF16,AH16)","v":0}]
[null,1,null,null,null,null,null,null,null,1,{"$f":"IF(ISERROR(VLOOKUP(CONCATENATE($B$9,\"_\",Q17),選手名簿!$A$1:$G$65536,7,FALSE))=TRUE,\"\",VLOOKUP(CONCATENATE($B$9,\"_\",Q17),選手名簿!$A$1:$G$65536,7,FALSE))","v":6},{"$f":"IF(ISERROR(VLOOKUP(CONCATENATE($B$9,\"_\",Q17),選手名簿!$A$1:$E$65536,5,FALSE))=TRUE,\"\",VLOOKUP(CONCATENATE($B$9,\"_\",Q17),選手名簿!$A$1:$E$65536,5,FALSE))","v":"梶原　龍恩"},null,null,null,null,3,{"$f":"IF(ISERROR(VLOOKUP(CONCATENATE($B$9,\"_\",Q17),選手名簿!$A$1:$E$65536,4,FALSE))=TRUE,\"\",VLOOKUP(CONCATENATE($B$9,\"_\",Q17),選手名簿!$A$1:$E$65536,4,FALSE))","v":"DF"},{"$f":"IF(ISERROR(VLOOKUP(CONCATENATE($W$9,\"_\",T17),選手名簿!$A$1:$E$65536,4,FALSE))=TRUE,\"\",VLOOKUP(CONCATENATE($W$9,\"_\",T17),選手名簿!$A$1:$E$65536,4,FALSE))","v":"MF"},4,{"$f":"IF(ISERROR(VLOOKUP(CONCATENATE($W$9,\"_\",T17),選手名簿!$A$1:$E$65536,5,FALSE))=TRUE,\"\",VLOOKUP(CONCATENATE($W$9,\"_\",T17),選手名簿!$A$1:$E$65536,5,FALSE))","v":"有村　凌史郎"},null,null,null,null,{"$f":"IF(ISERROR(VLOOKUP(CONCATENATE($W$9,\"_\",T17),選手名簿!$A$1:$G$65536,7,FALSE))=TRUE,\"\",VLOOKUP(CONCATENATE($W$9,\"_\",T17),選手名簿!$A$1:$G$65536,7,FALSE))","v":6},null,null,null,1,null,null,null,null,null,1]
[null,3,null,null,null,null,null,2,null,1,{"$f":"IF(ISERROR(VLOOKUP(CONCATENATE($B$9,\"_\",Q18),選手名簿!$A$1:$G$65536,7,FALSE))=TRUE,\"\",VLOOKUP(CONCATENATE($B$9,\"_\",Q18),選手名簿!$A$1:$G$65536,7,FALSE))","v":6},{"$f":"IF(ISERROR(VLOOKUP(CONCATENATE($B$9,\"_\",Q18),選手名簿!$A$1:$E$65536,5,FALSE))=TRUE,\"\",VLOOKUP(CONCATENATE($B$9,\"_\",Q18),選手名簿!$A$1:$E$65536,5,FALSE))","v":"新原　遥翔"},null,null,null,null,4,{"$f":"IF(ISERROR(VLOOKUP(CONCATENATE($B$9,\"_\",Q18),選手名簿!$A$1:$E$65536,4,FALSE))=TRUE,\"\",VLOOKUP(CONCATENATE($B$9,\"_\",Q18),選手名簿!$A$1:$E$65536,4,FALSE))","v":"DF"},{"$f":"IF(ISERROR(VLOOKUP(CONCATENATE($W$9,\"_\",T18),選手名簿!$A$1:$E$65536,4,FALSE))=TRUE,\"\",VLOOKUP(CONCATENATE($W$9,\"_\",T18),選手名簿!$A$1:$E$65536,4,FALSE))","v":"MF"},5,{"$f":"IF(ISERROR(VLOOKUP(CONCATENATE($W$9,\"_\",T18),選手名簿!$A$1:$E$65536,5,FALSE))=TRUE,\"\",VLOOKUP(CONCATENATE($W$9,\"_\",T18),選手名簿!$A$1:$E$65536,5,FALSE))","v":"石本　星七"},null,null,null,null,{"$f":"IF(ISERROR(VLOOKUP(CONCATENATE($W$9,\"_\",T18),選手名簿!$A$1:$G$65536,7,FALSE))=TRUE,\"\",VLOOKUP(CONCATENATE($W$9,\"_\",T18),選手名簿!$A$1:$G$65536,7,FALSE))","v":6},null,null,null,1,null,null,null,null,null,1]
[null,0,null,null,null,null,null,null,null,null,{"$f":"IF(ISERROR(VLOOKUP(CONCATENATE($B$9,\"_\",Q19),選手名簿!$A$1:$G$65536,7,FALSE))=TRUE,\"\",VLOOKUP(CONCATENATE($B$9,\"_\",Q19),選手名簿!$A$1:$G$65536,7,FALSE))","v":6},{"$f":"IF(ISERROR(VLOOKUP(CONCATENATE($B$9,\"_\",Q19),選手名簿!$A$1:$E$65536,5,FALSE))=TRUE,\"\",VLOOKUP(CONCATENATE($B$9,\"_\",Q19),選手名簿!$A$1:$E$65536,5,FALSE))","v":"伊藤　瑠"},null,null,null,null,10,{"$f":"IF(ISERROR(VLOOKUP(CONCATENATE($B$9,\"_\",Q19),選手名簿!$A$1:$E$65536,4,FALSE))=TRUE,\"\",VLOOKUP(CONCATENATE($B$9,\"_\",Q19),選手名簿!$A$1:$E$65536,4,FALSE))","v":"DF"},{"$f":"IF(ISERROR(VLOOKUP(CONCATENATE($W$9,\"_\",T19),選手名簿!$A$1:$E$65536,4,FALSE))=TRUE,\"\",VLOOKUP(CONCATENATE($W$9,\"_\",T19),選手名簿!$A$1:$E$65536,4,FALSE))","v":"MF"},6,{"$f":"IF(ISERROR(VLOOKUP(CONCATENATE($W$9,\"_\",T19),選手名簿!$A$1:$E$65536,5,FALSE))=TRUE,\"\",VLOOKUP(CONCATENATE($W$9,\"_\",T19),選手名簿!$A$1:$E$65536,5,FALSE))","v":"大堀　翼颯"},null,null,null,null,{"$f":"IF(ISERROR(VLOOKUP(CONCATENATE($W$9,\"_\",T19),選手名簿!$A$1:$G$65536,7,FALSE))=TRUE,\"\",VLOOKUP(CONCATENATE($W$9,\"_\",T19),選手名簿!$A$1:$G$65536,7,FALSE))","v":6},null,2,null,null,null,null,null,null,null,2]
[null,0,null,null,null,null,null,null,null,null,{"$f":"IF(ISERROR(VLOOKUP(CONCATENATE($B$9,\"_\",Q20),選手名簿!$A$1:$G$65536,7,FALSE))=TRUE,\"\",VLOOKUP(CONCATENATE($B$9,\"_\",Q20),選手名簿!$A$1:$G$65536,7,FALSE))","v":6},{"$f":"IF(ISERROR(VLOOKUP(CONCATENATE($B$9,\"_\",Q20),選手名簿!$A$1:$E$65536,5,FALSE))=TRUE,\"\",VLOOKUP(CONCATENATE($B$9,\"_\",Q20),選手名簿!$A$1:$E$65536,5,FALSE))","v":"河津　悠星"},null,null,null,null,7,{"$f":"IF(ISERROR(VLOOKUP(CONCATENATE($B$9,\"_\",Q20),選手名簿!$A$1:$E$65536,4,FALSE))=TRUE,\"\",VLOOKUP(CONCATENATE($B$9,\"_\",Q20),選手名簿!$A$1:$E$65536,4,FALSE))","v":"MF"},{"$f":"IF(ISERROR(VLOOKUP(CONCATENATE($W$9,\"_\",T20),選手名簿!$A$1:$E$65536,4,FALSE))=TRUE,\"\",VLOOKUP(CONCATENATE($W$9,\"_\",T20),選手名簿!$A$1:$E$65536,4,FALSE))","v":"MF"},9,{"$f":"IF(ISERROR(VLOOKUP(CONCATENATE($W$9,\"_\",T20),選手名簿!$A$1:$E$65536,5,FALSE))=TRUE,\"\",VLOOKUP(CONCATENATE($W$9,\"_\",T20),選手名簿!$A$1:$E$65536,5,FALSE))","v":"原田　高虎"},null,null,null,null,{"$f":"IF(ISERROR(VLOOKUP(CONCATENATE($W$9,\"_\",T20),選手名簿!$A$1:$G$65536,7,FALSE))=TRUE,\"\",VLOOKUP(CONCATENATE($W$9,\"_\",T20),選手名簿!$A$1:$G$65536,7,FALSE))","v":6},null,2,null,2,null,null,null,null,null,4]
[null,1,null,null,null,null,null,null,null,1,{"$f":"IF(ISERROR(VLOOKUP(CONCATENATE($B$9,\"_\",Q21),選手名簿!$A$1:$G$65536,7,FALSE))=TRUE,\"\",VLOOKUP(CONCATENATE($B$9,\"_\",Q21),選手名簿!$A$1:$G$65536,7,FALSE))","v":6},{"$f":"IF(ISERROR(VLOOKUP(CONCATENATE($B$9,\"_\",Q21),選手名簿!$A$1:$E$65536,5,FALSE))=TRUE,\"\",VLOOKUP(CONCATENATE($B$9,\"_\",Q21),選手名簿!$A$1:$E$65536,5,FALSE))","v":"櫻木　海晴"},null,null,null,null,8,{"$f":"IF(ISERROR(VLOOKUP(CONCATENATE($B$9,\"_\",Q21),選手名簿!$A$1:$E$65536,4,FALSE))=TRUE,\"\",VLOOKUP(CONCATENATE($B$9,\"_\",Q21),選手名簿!$A$1:$E$65536,4,FALSE))","v":"MF"},{"$f":"IF(ISERROR(VLOOKUP(CONCATENATE($W$9,\"_\",T21),選手名簿!$A$1:$E$65536,4,FALSE))=TRUE,\"\",VLOOKUP(CONCATENATE($W$9,\"_\",T21),選手名簿!$A$1:$E$65536,4,FALSE))","v":"MF"},11,{"$f":"IF(ISERROR(VLOOKUP(CONCATENATE($W$9,\"_\",T21),選手名簿!$A$1:$E$65536,5,FALSE))=TRUE,\"\",VLOOKUP(CONCATENATE($W$9,\"_\",T21),選手名簿!$A$1:$E$65536,5,FALSE))","v":"河野　歩夢"},null,null,null,null,{"$f":"IF(ISERROR(VLOOKUP(CONCATENATE($W$9,\"_\",T21),選手名簿!$A$1:$G$65536,7,FALSE))=TRUE,\"\",VLOOKUP(CONCATENATE($W$9,\"_\",T21),選手名簿!$A$1:$G$65536,7,FALSE))","v":6},null,2,"①",4,null,null,null,null,null,6]
[null,0,null,null,null,null,null,null,null,null,{"$f":"IF(ISERROR(VLOOKUP(CONCATENATE($B$9,\"_\",Q22),選手名簿!$A$1:$G$65536,7,FALSE))=TRUE,\"\",VLOOKUP(CONCATENATE($B$9,\"_\",Q22),選手名簿!$A$1:$G$65536,7,FALSE))","v":6},{"$f":"IF(ISERROR(VLOOKUP(CONCATENATE($B$9,\"_\",Q22),選手名簿!$A$1:$E$65536,5,FALSE))=TRUE,\"\",VLOOKUP(CONCATENATE($B$9,\"_\",Q22),選手名簿!$A$1:$E$65536,5,FALSE))","v":"吉弘　瑠唯"},null,null,null,null,9,{"$f":"IF(ISERROR(VLOOKUP(CONCATENATE($B$9,\"_\",Q22),選手名簿!$A$1:$E$65536,4,FALSE))=TRUE,\"\",VLOOKUP(CONCATENATE($B$9,\"_\",Q22),選手名簿!$A$1:$E$65536,4,FALSE))","v":"MF"},{"$f":"IF(ISERROR(VLOOKUP(CONCATENATE($W$9,\"_\",T22),選手名簿!$A$1:$E$65536,4,FALSE))=TRUE,\"\",VLOOKUP(CONCATENATE($W$9,\"_\",T22),選手名簿!$A$1:$E$65536,4,FALSE))","v":"MF"},15,{"$f":"IF(ISERROR(VLOOKUP(CONCATENATE($W$9,\"_\",T22),選手名簿!$A$1:$E$65536,5,FALSE))=TRUE,\"\",VLOOKUP(CONCATENATE($W$9,\"_\",T22),選手名簿!$A$1:$E$65536,5,FALSE))","v":"柴田　峻徳"},null,null,null,null,{"$f":"IF(ISERROR(VLOOKUP(CONCATENATE($W$9,\"_\",T22),選手名簿!$A$1:$G$65536,7,FALSE))=TRUE,\"\",VLOOKUP(CONCATENATE($W$9,\"_\",T22),選手名簿!$A$1:$G$65536,7,FALSE))","v":6},null,null,null,null,null,null,null,null,null,0]
[null,0,null,null,null,null,null,null,null,null,{"$f":"IF(ISERROR(VLOOKUP(CONCATENATE($B$9,\"_\",Q23),選手名簿!$A$1:$G$65536,7,FALSE))=TRUE,\"\",VLOOKUP(CONCATENATE($B$9,\"_\",Q23),選手名簿!$A$1:$G$65536,7,FALSE))","v":6},{"$f":"IF(ISERROR(VLOOKUP(CONCATENATE($B$9,\"_\",Q23),選手名簿!$A$1:$E$65536,5,FALSE))=TRUE,\"\",VLOOKUP(CONCATENATE($B$9,\"_\",Q23),選手名簿!$A$1:$E$65536,5,FALSE))","v":"吉野　可亜斗"},null,null,null,null,11,{"$f":"IF(ISERROR(VLOOKUP(CONCATENATE($B$9,\"_\",Q23),選手名簿!$A$1:$E$65536,4,FALSE))=TRUE,\"\",VLOOKUP(CONCATENATE($B$9,\"_\",Q23),選手名簿!$A$1:$E$65536,4,FALSE))","v":"MF"},{"$f":"IF(ISERROR(VLOOKUP(CONCATENATE($W$9,\"_\",T23),選手名簿!$A$1:$E$65536,4,FALSE))=TRUE,\"\",VLOOKUP(CONCATENATE($W$9,\"_\",T23),選手名簿!$A$1:$E$65536,4,FALSE))","v":"FW"},10,{"$f":"IF(ISERROR(VLOOKUP(CONCATENATE($W$9,\"_\",T23),選手名簿!$A$1:$E$65536,5,FALSE))=TRUE,\"\",VLOOKUP(CONCATENATE($W$9,\"_\",T23),選手名簿!$A$1:$E$65536,5,FALSE))","v":"木許　央雅"},null,null,null,null,{"$f":"IF(ISERROR(VLOOKUP(CONCATENATE($W$9,\"_\",T23),選手名簿!$A$1:$G$65536,7,FALSE))=TRUE,\"\",VLOOKUP(CONCATENATE($W$9,\"_\",T23),選手名簿!$A$1:$G$65536,7,FALSE))","v":6},null,null,null,2,null,null,null,null,null,2]
[null,null,null,null,null,null,null,null,null,null,null,null,null,null,null,null,"交替要員"]
[null,{"$f":"SUM(D25,F25,H25,J25)","v":0},null,null,null,null,null,null,null,null,{"$f":"IF(ISERROR(VLOOKUP(CONCATENATE($B$9,\"_\",Q25),選手名簿!$A$1:$G$65536,7,FALSE))=TRUE,\"\",VLOOKUP(CONCATENATE($B$9,\"_\",Q25),選手名簿!$A$1:$G$65536,7,FALSE))","v":6},{"$f":"IF(ISERROR(VLOOKUP(CONCATENATE($B$9,\"_\",Q25),選手名簿!$A$1:$E$65536,5,FALSE))=TRUE,\"\",VLOOKUP(CONCATENATE($B$9,\"_\",Q25),選手名簿!$A$1:$E$65536,5,FALSE))","v":"矢羽田　大夢"},null,null,null,null,2,{"$f":"IF(ISERROR(VLOOKUP(CONCATENATE($B$9,\"_\",Q25),選手名簿!$A$1:$E$65536,4,FALSE))=TRUE,\"\",VLOOKUP(CONCATENATE($B$9,\"_\",Q25),選手名簿!$A$1:$E$65536,4,FALSE))","v":"MF"},{"$f":"IF(ISERROR(VLOOKUP(CONCATENATE($W$9,\"_\",T25),選手名簿!$A$1:$E$65536,4,FALSE))=TRUE,\"\",VLOOKUP(CONCATENATE($W$9,\"_\",T25),選手名簿!$A$1:$E$65536,4,FALSE))","v":"FW"},2,{"$f":"IF(ISERROR(VLOOKUP(CONCATENATE($W$9,\"_\",T25),選手名簿!$A$1:$E$65536,5,FALSE))=TRUE,\"\",VLOOKUP(CONCATENATE($W$9,\"_\",T25),選手名簿!$A$1:$E$65536,5,FALSE))","v":"新名　巧旺"},null,null,null,null,{"$f":"IF(ISERROR(VLOOKUP(CONCATENATE($W$9,\"_\",T25),選手名簿!$A$1:$G$65536,7,FALSE))=TRUE,\"\",VLOOKUP(CONCATENATE($W$9,\"_\",T25),選手名簿!$A$1:$G$65536,7,FALSE))","v":6},null,null,null,null,null,null,null,null,null,{"$f":"SUM(AB25,AD25,AF25,AH25)","v":0}]
[null,0,null,null,null,null,null,null,null,null,{"$f":"IF(ISERROR(VLOOKUP(CONCATENATE($B$9,\"_\",Q26),選手名簿!$A$1:$G$65536,7,FALSE))=TRUE,\"\",VLOOKUP(CONCATENATE($B$9,\"_\",Q26),選手名簿!$A$1:$G$65536,7,FALSE))","v":6},{"$f":"IF(ISERROR(VLOOKUP(CONCATENATE($B$9,\"_\",Q26),選手名簿!$A$1:$E$65536,5,FALSE))=TRUE,\"\",VLOOKUP(CONCATENATE($B$9,\"_\",Q26),選手名簿!$A$1:$E$65536,5,FALSE))","v":"杉野　佑樹"},null,null,null,null,5,{"$f":"IF(ISERROR(VLOOKUP(CONCATENATE($B$9,\"_\",Q26),選手名簿!$A$1:$E$65536,4,FALSE))=TRUE,\"\",VLOOKUP(CONCATENATE($B$9,\"_\",Q26),選手名簿!$A$1:$E$65536,4,FALSE))","v":"FW"},{"$f":"IF(ISERROR(VLOOKUP(CONCATENATE($W$9,\"_\",T26),選手名簿!$A$1:$E$65536,4,FALSE))=TRUE,\"\",VLOOKUP(CONCATENATE($W$9,\"_\",T26),選手名簿!$A$1:$E$65536,4,FALSE))","v":"MF"},3,{"$f":"IF(ISERROR(VLOOKUP(CONCATENATE($W$9,\"_\",T26),選手名簿!$A$1:$E$65536,5,FALSE))=TRUE,\"\",VLOOKUP(CONCATENATE($W$9,\"_\",T26),選手名簿!$A$1:$E$65536,5,FALSE))","v":"柳田　大希"},null,null,null,null,{"$f":"IF(ISERROR(VLOOKUP(CONCATENATE($W$9,\"_\",T26),選手名簿!$A$1:$G$65536,7,FALSE))=TRUE,\"\",VLOOKUP(CONCATENATE($W$9,\"_\",T26),選手名簿!$A$1:$G$65536,7,FALSE))","v":6},null,null,null,null,null,null,null,null,null,0]
[null,0,null,null,null,null,null,null,null,null,{"$f":"IF(ISERROR(VLOOKUP(CONCATENATE($B$9,\"_\",Q27),選手名簿!$A$1:$G$65536,7,FALSE))=TRUE,\"\",VLOOKUP(CONCATENATE($B$9,\"_\",Q27),選手名簿!$A$1:$G$65536,7,FALSE))","v":6},{"$f":"IF(ISERROR(VLOOKUP(CONCATENATE($B$9,\"_\",Q27),選手名簿!$A$1:$E$65536,5,FALSE))=TRUE,\"\",VLOOKUP(CONCATENATE($B$9,\"_\",Q27),選手名簿!$A$1:$E$65536,5,FALSE))","v":"三善　天翔"},null,null,null,null,6,{"$f":"IF(ISERROR(VLOOKUP(CONCATENATE($B$9,\"_\",Q27),選手名簿!$A$1:$E$65536,4,FALSE))=TRUE,\"\",VLOOKUP(CONCATENATE($B$9,\"_\",Q27),選手名簿!$A$1:$E$65536,4,FALSE))","v":"MF"},{"$f":"IF(ISERROR(VLOOKUP(CONCATENATE($W$9,\"_\",T27),選手名簿!$A$1:$E$65536,4,FALSE))=TRUE,\"\",VLOOKUP(CONCATENATE($W$9,\"_\",T27),選手名簿!$A$1:$E$65536,4,FALSE))","v":"MF"},7,{"$f":"IF(ISERROR(VLOOKUP(CONCATENATE($W$9,\"_\",T27),選手名簿!$A$1:$E$65536,5,FALSE))=TRUE,\"\",VLOOKUP(CONCATENATE($W$9,\"_\",T27),選手名簿!$A$1:$E$65536,5,FALSE))","v":"斉藤　晄吏"},null,null,null,null,{"$f":"IF(ISERROR(VLOOKUP(CONCATENATE($W$9,\"_\",T27),選手名簿!$A$1:$G$65536,7,FALSE))=TRUE,\"\",VLOOKUP(CONCATENATE($W$9,\"_\",T27),選手名簿!$A$1:$G$65536,7,FALSE))","v":6},null,null,null,null,null,null,null,null,null,0]
[null,0,null,null,null,null,null,null,null,null,{"$f":"IF(ISERROR(VLOOKUP(CONCATENATE($B$9,\"_\",Q28),選手名簿!$A$1:$G$65536,7,FALSE))=TRUE,\"\",VLOOKUP(CONCATENATE($B$9,\"_\",Q28),選手名簿!$A$1:$G$65536,7,FALSE))","v":5},{"$f":"IF(ISERROR(VLOOKUP(CONCATENATE($B$9,\"_\",Q28),選手名簿!$A$1:$E$65536,5,FALSE))=TRUE,\"\",VLOOKUP(CONCATENATE($B$9,\"_\",Q28),選手名簿!$A$1:$E$65536,5,FALSE))","v":"千原　天聖"},null,null,null,null,12,{"$f":"IF(ISERROR(VLOOKUP(CONCATENATE($B$9,\"_\",Q28),選手名簿!$A$1:$E$65536,4,FALSE))=TRUE,\"\",VLOOKUP(CONCATENATE($B$9,\"_\",Q28),選手名簿!$A$1:$E$65536,4,FALSE))","v":"MF"},{"$f":"IF(ISERROR(VLOOKUP(CONCATENATE($W$9,\"_\",T28),選手名簿!$A$1:$E$65536,4,FALSE))=TRUE,\"\",VLOOKUP(CONCATENATE($W$9,\"_\",T28),選手名簿!$A$1:$E$65536,4,FALSE))","v":"MF"},8,{"$f":"IF(ISERROR(VLOOKUP(CONCATENATE($W$9,\"_\",T28),選手名簿!$A$1:$E$65536,5,FALSE))=TRUE,\"\",VLOOKUP(CONCATENATE($W$9,\"_\",T28),選手名簿!$A$1:$E$65536,5,FALSE))","v":"染矢　宏輝"},null,null,null,null,{"$f":"IF(ISERROR(VLOOKUP(CONCATENATE($W$9,\"_\",T28),選手名簿!$A$1:$G$65536,7,FALSE))=TRUE,\"\",VLOOKUP(CONCATENATE($W$9,\"_\",T28),選手名簿!$A$1:$G$65536,7,FALSE))","v":6},null,null,null,null,null,null,null,null,null,0]
[null,{"$f":"SUM(D29,F29,H29,J29)","v":0},null,null,null,null,null,null,null,null,{"$f":"IF(ISERROR(VLOOKUP(CONCATENATE($B$9,\"_\",Q29),選手名簿!$A$1:$G$65536,7,FALSE))=TRUE,\"\",VLOOKUP(CONCATENATE($B$9,\"_\",Q29),選手名簿!$A$1:$G$65536,7,FALSE))","v":5},{"$f":"IF(ISERROR(VLOOKUP(CONCATENATE($B$9,\"_\",Q29),選手名簿!$A$1:$E$65536,5,FALSE))=TRUE,\"\",VLOOKUP(CONCATENATE($B$9,\"_\",Q29),選手名簿!$A$1:$E$65536,5,FALSE))","v":"日隈　琳鳳"},null,null,null,null,13,{"$f":"IF(ISERROR(VLOOKUP(CONCATENATE($B$9,\"_\",Q29),選手名簿!$A$1:$E$65536,4,FALSE))=TRUE,\"\",VLOOKUP(CONCATENATE($B$9,\"_\",Q29),選手名簿!$A$1:$E$65536,4,FALSE))","v":"DF"},{"$f":"IF(ISERROR(VLOOKUP(CONCATENATE($W$9,\"_\",T29),選手名簿!$A$1:$E$65536,4,FALSE))=TRUE,\"\",VLOOKUP(CONCATENATE($W$9,\"_\",T29),選手名簿!$A$1:$E$65536,4,FALSE))","v":"GK"},12,{"$f":"IF(ISERROR(VLOOKUP(CONCATENATE($W$9,\"_\",T29),選手名簿!$A$1:$E$65536,5,FALSE))=TRUE,\"\",VLOOKUP(CONCATENATE($W$9,\"_\",T29),選手名簿!$A$1:$E$65536,5,FALSE))","v":"桑原　颯太"},null,null,null,null,{"$f":"IF(ISERROR(VLOOKUP(CONCATENATE($W$9,\"_\",T29),選手名簿!$A$1:$G$65536,7,FALSE))=TRUE,\"\",VLOOKUP(CONCATENATE($W$9,\"_\",T29),選手名簿!$A$1:$G$65536,7,FALSE))","v":6},null,null,null,null,null,null,null,null,null,{"$f":"SUM(AB29,AD29,AF29,AH29)","v":0}]
[null,{"$f":"SUM(D30,F30,H30,J30)","v":0},null,null,null,null,null,null,null,null,{"$f":"IF(ISERROR(VLOOKUP(CONCATENATE($B$9,\"_\",Q30),選手名簿!$A$1:$G$65536,7,FALSE))=TRUE,\"\",VLOOKUP(CONCATENATE($B$9,\"_\",Q30),選手名簿!$A$1:$G$65536,7,FALSE))","v":4},{"$f":"IF(ISERROR(VLOOKUP(CONCATENATE($B$9,\"_\",Q30),選手名簿!$A$1:$E$65536,5,FALSE))=TRUE,\"\",VLOOKUP(CONCATENATE($B$9,\"_\",Q30),選手名簿!$A$1:$E$65536,5,FALSE))","v":"右近　陽翔"},null,null,null,null,14,{"$f":"IF(ISERROR(VLOOKUP(CONCATENATE($B$9,\"_\",Q30),選手名簿!$A$1:$E$65536,4,FALSE))=TRUE,\"\",VLOOKUP(CONCATENATE($B$9,\"_\",Q30),選手名簿!$A$1:$E$65536,4,FALSE))","v":"MF"},{"$f":"IF(ISERROR(VLOOKUP(CONCATENATE($W$9,\"_\",T30),選手名簿!$A$1:$E$65536,4,FALSE))=TRUE,\"\",VLOOKUP(CONCATENATE($W$9,\"_\",T30),選手名簿!$A$1:$E$65536,4,FALSE))","v":"MF"},13,{"$f":"IF(ISERROR(VLOOKUP(CONCATENATE($W$9,\"_\",T30),選手名簿!$A$1:$E$65536,5,FALSE))=TRUE,\"\",VLOOKUP(CONCATENATE($W$9,\"_\",T30),選手名簿!$A$1:$E$65536,5,FALSE))","v":"後藤　慶"},null,null,null,null,{"$f":"IF(ISERROR(VLOOKUP(CONCATENATE($W$9,\"_\",T30),選手名簿!$A$1:$G$65536,7,FALSE))=TRUE,\"\",VLOOKUP(CONCATENATE($W$9,\"_\",T30),選手名簿!$A$1:$G$65536,7,FALSE))","v":6},null,null,null,null,null,null,null,null,null,{"$f":"SUM(AB30,AD30,AF30,AH30)","v":0}]
[null,0,null,null,null,null,null,null,null,null,{"$f":"IF(ISERROR(VLOOKUP(CONCATENATE($B$9,\"_\",Q31),選手名簿!$A$1:$G$65536,7,FALSE))=TRUE,\"\",VLOOKUP(CONCATENATE($B$9,\"_\",Q31),選手名簿!$A$1:$G$65536,7,FALSE))","v":5},{"$f":"IF(ISERROR(VLOOKUP(CONCATENATE($B$9,\"_\",Q31),選手名簿!$A$1:$E$65536,5,FALSE))=TRUE,\"\",VLOOKUP(CONCATENATE($B$9,\"_\",Q31),選手名簿!$A$1:$E$65536,5,FALSE))","v":"城野　大翔"},null,null,null,null,16,{"$f":"IF(ISERROR(VLOOKUP(CONCATENATE($B$9,\"_\",Q31),選手名簿!$A$1:$E$65536,4,FALSE))=TRUE,\"\",VLOOKUP(CONCATENATE($B$9,\"_\",Q31),選手名簿!$A$1:$E$65536,4,FALSE))","v":"GK"},{"$f":"IF(ISERROR(VLOOKUP(CONCATENATE($W$9,\"_\",T31),選手名簿!$A$1:$E$65536,4,FALSE))=TRUE,\"\",VLOOKUP(CONCATENATE($W$9,\"_\",T31),選手名簿!$A$1:$E$65536,4,FALSE))","v":"MF"},14,{"$f":"IF(ISERROR(VLOOKUP(CONCATENATE($W$9,\"_\",T31),選手名簿!$A$1:$E$65536,5,FALSE))=TRUE,\"\",VLOOKUP(CONCATENATE($W$9,\"_\",T31),選手名簿!$A$1:$E$65536,5,FALSE))","v":"仲村　陽太"},null,null,null,null,{"$f":"IF(ISERROR(VLOOKUP(CONCATENATE($W$9,\"_\",T31),選手名簿!$A$1:$G$65536,7,FALSE))=TRUE,\"\",VLOOKUP(CONCATENATE($W$9,\"_\",T31),選手名簿!$A$1:$G$65536,7,FALSE))","v":6},null,null,null,null,null,null,null,null,null,0]
[null,0,null,null,null,null,null,null,null,null,{"$f":"IF(ISERROR(VLOOKUP(CONCATENATE($B$9,\"_\",Q32),選手名簿!$A$1:$G$65536,7,FALSE))=TRUE,\"\",VLOOKUP(CONCATENATE($B$9,\"_\",Q32),選手名簿!$A$1:$G$65536,7,FALSE))","v":""},{"$f":"IF(ISERROR(VLOOKUP(CONCATENATE($B$9,\"_\",Q32),選手名簿!$A$1:$E$65536,5,FALSE))=TRUE,\"\",VLOOKUP(CONCATENATE($B$9,\"_\",Q32),選手名簿!$A$1:$E$65536,5,FALSE))","v":""},null,null,null,null,null,{"$f":"IF(ISERROR(VLOOKUP(CONCATENATE($B$9,\"_\",Q32),選手名簿!$A$1:$E$65536,4,FALSE))=TRUE,\"\",VLOOKUP(CONCATENATE($B$9,\"_\",Q32),選手名簿!$A$1:$E$65536,4,FALSE))","v":""},{"$f":"IF(ISERROR(VLOOKUP(CONCATENATE($W$9,\"_\",T32),選手名簿!$A$1:$E$65536,4,FALSE))=TRUE,\"\",VLOOKUP(CONCATENATE($W$9,\"_\",T32),選手名簿!$A$1:$E$65536,4,FALSE))","v":"FW"},17,{"$f":"IF(ISERROR(VLOOKUP(CONCATENATE($W$9,\"_\",T32),選手名簿!$A$1:$E$65536,5,FALSE))=TRUE,\"\",VLOOKUP(CONCATENATE($W$9,\"_\",T32),選手名簿!$A$1:$E$65536,5,FALSE))","v":"中道　大聖"},null,null,null,null,{"$f":"IF(ISERROR(VLOOKUP(CONCATENATE($W$9,\"_\",T32),選手名簿!$A$1:$G$65536,7,FALSE))=TRUE,\"\",VLOOKUP(CONCATENATE($W$9,\"_\",T32),選手名簿!$A$1:$G$65536,7,FALSE))","v":5},null,null,null,null,null,null,null,null,null,0]
[null,{"$f":"SUM(C33:J33)","v":5},null,{"$f":"SUM(D16:D23,D25:D32)","v":0},null,{"$f":"SUM(F16:F23,F25:F32)","v":0},null,{"$f":"SUM(H16:H23,H25:H32)","v":2},null,{"$f":"SUM(J16:J23,J25:J32)","v":3},"小計",{"$f":"SUM(D33,F33,H33,J33)","v":5},null,null,null,null,"合計","シュート数",null,"合計",{"$f":"SUM(AB33,AD33,AF33,AH33)","v":16},null,null,null,null,"小計",null,{"$f":"SUM(AB16:AB23,AB25:AB32)","v":6},null,{"$f":"SUM(AD16:AD23,AD25:AD32)","v":10},null,{"$f":"SUM(AF16:AF23,AF25:AF32)","v":0},null,{"$f":"SUM(AH16:AH23,AH25:AH32)","v":0},null,{"$f":"SUM(AA33:AH33)","v":16}]
[null,null,"OUT",null,null,null,null,null,null,"→","IN",null,null,null,null,null,null,"交代",null,null,"OUT",null,null,null,null,null,null,"→","IN"]
[null,null,null,null,null,null,null,null,null,null,null,null,null,null,null,null,null,"選手"]
[16,"分",3,"番",{"$f":"IF(ISERROR(VLOOKUP(CONCATENATE($B$9,\"_\",C36),選手名簿!$A$1:$E$65536,5,FALSE))=TRUE,\"\",VLOOKUP(CONCATENATE($B$9,\"_\",C36),選手名簿!$A$1:$E$65536,5,FALSE))","v":"梶原　龍恩"},null,null,null,null,"→",2,"番",{"$f":"IF(ISERROR(VLOOKUP(CONCATENATE($B$9,\"_\",K36),選手名簿!$A$1:$E$65536,5,FALSE))=TRUE,\"\",VLOOKUP(CONCATENATE($B$9,\"_\",K36),選手名簿!$A$1:$E$65536,5,FALSE))","v":"矢羽田　大夢"},null,null,null,null,null,20,"分",15,"番",{"$f":"IF(ISERROR(VLOOKUP(CONCATENATE($W$9,\"_\",U36),選手名簿!$A$1:$E$65536,5,FALSE))=TRUE,\"\",VLOOKUP(CONCATENATE($W$9,\"_\",U36),選手名簿!$A$1:$E$65536,5,FALSE))","v":"柴田　峻徳"},null,null,null,null,"→",8,"番",{"$f":"IF(ISERROR(VLOOKUP(CONCATENATE($W$9,\"_\",AC36),選手名簿!$A$1:$E$65536,5,FALSE))=TRUE,\"\",VLOOKUP(CONCATENATE($W$9,\"_\",AC36),選手名簿!$A$1:$E$65536,5,FALSE))","v":"染矢　宏輝"}]
[16,"分",8,"番",{"$f":"IF(ISERROR(VLOOKUP(CONCATENATE($B$9,\"_\",C37),選手名簿!$A$1:$E$65536,5,FALSE))=TRUE,\"\",VLOOKUP(CONCATENATE($B$9,\"_\",C37),選手名簿!$A$1:$E$65536,5,FALSE))","v":"櫻木　海晴"},null,null,null,null,"→",16,"番",{"$f":"IF(ISERROR(VLOOKUP(CONCATENATE($B$9,\"_\",K37),選手名簿!$A$1:$E$65536,5,FALSE))=TRUE,\"\",VLOOKUP(CONCATENATE($B$9,\"_\",K37),選手名簿!$A$1:$E$65536,5,FALSE))","v":"城野　大翔"},null,null,null,null,null,23,"分",5,"番",{"$f":"IF(ISERROR(VLOOKUP(CONCATENATE($W$9,\"_\",U37),選手名簿!$A$1:$E$65536,5,FALSE))=TRUE,\"\",VLOOKUP(CONCATENATE($W$9,\"_\",U37),選手名簿!$A$1:$E$65536,5,FALSE))","v":"石本　星七"},null,null,null,null,"→",7,"番",{"$f":"IF(ISERROR(VLOOKUP(CONCATENATE($W$9,\"_\",AC37),選手名簿!$A$1:$E$65536,5,FALSE))=TRUE,\"\",VLOOKUP(CONCATENATE($W$9,\"_\",AC37),選手名簿!$A$1:$E$65536,5,FALSE))","v":"斉藤　晄吏"}]
[29,"分",16,"番",{"$f":"IF(ISERROR(VLOOKUP(CONCATENATE($B$9,\"_\",C38),選手名簿!$A$1:$E$65536,5,FALSE))=TRUE,\"\",VLOOKUP(CONCATENATE($B$9,\"_\",C38),選手名簿!$A$1:$E$65536,5,FALSE))","v":"城野　大翔"},null,null,null,null,"→",14,"番",{"$f":"IF(ISERROR(VLOOKUP(CONCATENATE($B$9,\"_\",K38),選手名簿!$A$1:$E$65536,5,FALSE))=TRUE,\"\",VLOOKUP(CONCATENATE($B$9,\"_\",K38),選手名簿!$A$1:$E$65536,5,FALSE))","v":"右近　陽翔"},null,null,null,null,null,null,"分",null,"番",{"$f":"IF(ISERROR(VLOOKUP(CONCATENATE($W$9,\"_\",U38),選手名簿!$A$1:$E$65536,5,FALSE))=TRUE,\"\",VLOOKUP(CONCATENATE($W$9,\"_\",U38),選手名簿!$A$1:$E$65536,5,FALSE))","v":""},null,null,null,null,"→",null,"番",{"$f":"IF(ISERROR(VLOOKUP(CONCATENATE($W$9,\"_\",AC38),選手名簿!$A$1:$E$65536,5,FALSE))=TRUE,\"\",VLOOKUP(CONCATENATE($W$9,\"_\",AC38),選手名簿!$A$1:$E$65536,5,FALSE))","v":""}]
[29,"分",2,"番",{"$f":"IF(ISERROR(VLOOKUP(CONCATENATE($B$9,\"_\",C39),選手名簿!$A$1:$E$65536,5,FALSE))=TRUE,\"\",VLOOKUP(CONCATENATE($B$9,\"_\",C39),選手名簿!$A$1:$E$65536,5,FALSE))","v":"矢羽田　大夢"},null,null,null,null,"→",6,"番",{"$f":"IF(ISERROR(VLOOKUP(CONCATENATE($B$9,\"_\",K39),選手名簿!$A$1:$E$65536,5,FALSE))=TRUE,\"\",VLOOKUP(CONCATENATE($B$9,\"_\",K39),選手名簿!$A$1:$E$65536,5,FALSE))","v":"三善　天翔"},null,null,null,null,null,null,"分",null,"番",{"$f":"IF(ISERROR(VLOOKUP(CONCATENATE($W$9,\"_\",U39),選手名簿!$A$1:$E$65536,5,FALSE))=TRUE,\"\",VLOOKUP(CONCATENATE($W$9,\"_\",U39),選手名簿!$A$1:$E$65536,5,FALSE))","v":""},null,null,null,null,"→",null,"番",{"$f":"IF(ISERROR(VLOOKUP(CONCATENATE($W$9,\"_\",AC39),選手名簿!$A$1:$E$65536,5,FALSE))=TRUE,\"\",VLOOKUP(CONCATENATE($W$9,\"_\",AC39),選手名簿!$A$1:$E$65536,5,FALSE))","v":""}]
[null,"分",null,"番",{"$f":"IF(ISERROR(VLOOKUP(CONCATENATE($B$9,\"_\",C40),選手名簿!$A$1:$E$65536,5,FALSE))=TRUE,\"\",VLOOKUP(CONCATENATE($B$9,\"_\",C40),選手名簿!$A$1:$E$65536,5,FALSE))","v":""},null,null,null,null,"→",null,"番",{"$f":"IF(ISERROR(VLOOKUP(CONCATENATE($B$9,\"_\",K40),選手名簿!$A$1:$E$65536,5,FALSE))=TRUE,\"\",VLOOKUP(CONCATENATE($B$9,\"_\",K40),選手名簿!$A$1:$E$65536,5,FALSE))","v":""},null,null,null,null,null,null,"分",null,"番",{"$f":"IF(ISERROR(VLOOKUP(CONCATENATE($W$9,\"_\",U40),選手名簿!$A$1:$E$65536,5,FALSE))=TRUE,\"\",VLOOKUP(CONCATENATE($W$9,\"_\",U40),選手名簿!$A$1:$E$65536,5,FALSE))","v":""},null,null,null,null,"→",null,"番",{"$f":"IF(ISERROR(VLOOKUP(CONCATENATE($W$9,\"_\",AC40),選手名簿!$A$1:$E$65536,5,FALSE))=TRUE,\"\",VLOOKUP(CONCATENATE($W$9,\"_\",AC40),選手名簿!$A$1:$E$65536,5,FALSE))","v":""}]
[null,"分",null,"番",{"$f":"IF(ISERROR(VLOOKUP(CONCATENATE($B$9,\"_\",C41),選手名簿!$A$1:$E$65536,5,FALSE))=TRUE,\"\",VLOOKUP(CONCATENATE($B$9,\"_\",C41),選手名簿!$A$1:$E$65536,5,FALSE))","v":""},null,null,null,null,"→",null,"番",{"$f":"IF(ISERROR(VLOOKUP(CONCATENATE($B$9,\"_\",K41),選手名簿!$A$1:$E$65536,5,FALSE))=TRUE,\"\",VLOOKUP(CONCATENATE($B$9,\"_\",K41),選手名簿!$A$1:$E$65536,5,FALSE))","v":""},null,null,null,null,null,null,"分",null,"番",{"$f":"IF(ISERROR(VLOOKUP(CONCATENATE($W$9,\"_\",U41),選手名簿!$A$1:$E$65536,5,FALSE))=TRUE,\"\",VLOOKUP(CONCATENATE($W$9,\"_\",U41),選手名簿!$A$1:$E$65536,5,FALSE))","v":""},null,null,null,null,"→",null,"番",{"$f":"IF(ISERROR(VLOOKUP(CONCATENATE($W$9,\"_\",AC41),選手名簿!$A$1:$E$65536,5,FALSE))=TRUE,\"\",VLOOKUP(CONCATENATE($W$9,\"_\",AC41),選手名簿!$A$1:$E$65536,5,FALSE))","v":""}]
[null,"分",null,"番",{"$f":"IF(ISERROR(VLOOKUP(CONCATENATE($B$9,\"_\",C42),選手名簿!$A$1:$E$65536,5,FALSE))=TRUE,\"\",VLOOKUP(CONCATENATE($B$9,\"_\",C42),選手名簿!$A$1:$E$65536,5,FALSE))","v":""},null,null,null,null,"→",null,"番",{"$f":"IF(ISERROR(VLOOKUP(CONCATENATE($B$9,\"_\",K42),選手名簿!$A$1:$E$65536,5,FALSE))=TRUE,\"\",VLOOKUP(CONCATENATE($B$9,\"_\",K42),選手名簿!$A$1:$E$65536,5,FALSE))","v":""},null,null,null,null,null,null,"分",null,"番",{"$f":"IF(ISERROR(VLOOKUP(CONCATENATE($W$9,\"_\",U42),選手名簿!$A$1:$E$65536,5,FALSE))=TRUE,\"\",VLOOKUP(CONCATENATE($W$9,\"_\",U42),選手名簿!$A$1:$E$65536,5,FALSE))","v":""},null,null,null,null,"→",null,"番",{"$f":"IF(ISERROR(VLOOKUP(CONCATENATE($W$9,\"_\",AC42),選手名簿!$A$1:$E$65536,5,FALSE))=TRUE,\"\",VLOOKUP(CONCATENATE($W$9,\"_\",AC42),選手名簿!$A$1:$E$65536,5,FALSE))","v":""}]
[null,"分",null,"番",{"$f":"IF(ISERROR(VLOOKUP(CONCATENATE($B$9,\"_\",C43),選手名簿!$A$1:$E$65536,5,FALSE))=TRUE,\"\",VLOOKUP(CONCATENATE($B$9,\"_\",C43),選手名簿!$A$1:$E$65536,5,FALSE))","v":""},null,null,null,null,"→",null,"番",{"$f":"IF(ISERROR(VLOOKUP(CONCATENATE($B$9,\"_\",K43),選手名簿!$A$1:$E$65536,5,FALSE))=TRUE,\"\",VLOOKUP(CONCATENATE($B$9,\"_\",K43),選手名簿!$A$1:$E$65536,5,FALSE))","v":""},null,null,null,null,null,null,"分",null,"番",{"$f":"IF(ISERROR(VLOOKUP(CONCATENATE($W$9,\"_\",U43),選手名簿!$A$1:$E$65536,5,FALSE))=TRUE,\"\",VLOOKUP(CONCATENATE($W$9,\"_\",U43),選手名簿!$A$1:$E$65536,5,FALSE))","v":""},null,null,null,null,"→",null,"番",{"$f":"IF(ISERROR(VLOOKUP(CONCATENATE($W$9,\"_\",AC43),選手名簿!$A$1:$E$65536,5,FALSE))=TRUE,\"\",VLOOKUP(CONCATENATE($W$9,\"_\",AC43),選手名簿!$A$1:$E$65536,5,FALSE))","v":""}]
["警告（Ｃ）・退場（Ｓ）など",null,null,null,null,null,null,"合計",null,"延後",null,"延前",null,"後半",null,"前半",null,"チーム\n合計",null,"前半",null,"後半",null,"延前",null,"延後",null,"合計",null,"警告（Ｃ）・退場（Ｓ）など"]
[null,null,null,null,null,null,null,{"$f":"SUM(J45:Q45)","v":6},null,null,null,null,null,5,null,1,null,"Ｇ","Ｋ",2,null,1,null,null,null,null,null,{"$f":"SUM(T45:AA45)","v":3}]
[null,null,null,null,null,null,null,{"$f":"SUM(J46:Q46)","v":2},null,null,null,null,null,0,null,2,null,"Ｃ","Ｋ",2,null,2,null,null,null,null,null,{"$f":"SUM(T46:AA46)","v":4}]
[null,null,null,null,null,null,null,{"$f":"SUM(J47:Q47)","v":2},null,null,null,null,null,1,null,1,null,"直接","ＦＫ",0,null,0,null,null,null,null,null,{"$f":"SUM(T47:AA47)","v":0}]
[null,null,null,null,null,null,null,{"$f":"SUM(J48:Q48)","v":3},null,null,null,null,null,1,null,2,null,"間接","ＦＫ",0,null,0,null,null,null,null,null,{"$f":"SUM(T48:AA48)","v":0}]
[null,null,null,null,null,null,null,{"$f":"SUM(J49:Q49)","v":0},null,null,null,null,null,0,null,0,null,"Ｐ","Ｋ",0,null,1,null,null,null,null,null,{"$f":"SUM(T49:AA49)","v":1}]
["時間",null,null,"得点者",null,"得　　点　　経　　過",null,null,null,null,null,null,null,null,null,null,null,null,"時間",null,null,"得点者",null,"得　　点　　経　　過"]
[null,null,"分",null,null,null,null,null,null,null,null,null,null,null,null,null,null,null,null,26,"分",11,null,"PK（相手DFのハンドリング）"]
[null,null,"分",null,null,null,null,null,null,null,null,null,null,null,null,null,null,null,null,null,"分"]
[null,null,"分",null,null,null,null,null,null,null,null,null,null,null,null,null,null,null,null,null,"分"]
[null,null,"分",null,null,null,null,null,null,null,null,null,null,null,null,null,null,null,null,null,"分"]
[null,null,"分",null,null,null,null,null,null,null,null,null,null,null,null,null,null,null,null,null,"分"]
[null,null,"分",null,null,null,null,null,null,null,null,null,null,null,null,null,null,null,null,null,"分"]
[" ",null,null,"《略号例》",null,null,null,"ドリブル",null,"～",null,"ゴロのパス",null,null,"→",null,"浮き球",null,"∩",null,"混戦",null,"×",null,"ヘディング",null,null,"H",null,"シュート",null,"S"]
[]
["戦評者氏名",null,null,null,"（","秦　啓一郎",null,null,null,null,"）",null,"勤務先または所属",null,null,null,null,"（","一般社団法人　大分県サッカー協会　技術委員会",null,null,null,null,null,null,null,null,null,null,null,null,null,null,null,"　）"]
["　大分トリニータU-12のキックオフで始まった前半、序盤から大分トリニータが10番　木許くんを中心にFCアリアーレゴールを脅かすも、アリアーレが。GK古賀くんを中心とした堅い守りで得点を許さず、11番 吉野くんを中心に速攻を仕掛けるといった展開で、0対0で前半終了。アリアーレのキックオフで始まった後半も、前半と同様の展開が続くが、後半11分 アリアーレのペナルティーエリア内のハンドリングによる反則で、トリニータがPKを獲得。それを11番 河野くんが落ちついて決めて、トリニータが先制。その後アリアーレもトリニータゴールに何度も迫るが得点できず、そのまま終了となった。"]
[]
[]
[]
[]
[]
[]
[]
[null,null,null,null,null,null,"マッチコミッショナー",null,null,null,null,null,null,"ウェルフェアオフィサー",null,null,null,null,null,null,"会　場　長",null,null,null,null,null,null,"主　　審"]
[null,null,null,null,null,null,"仲野　昭博",null,null,null,null,null,null,"中原　圭介",null,null,null,null,null,null,"安東　幹雄",null,null,null,null,null,null,"幸　壮一郎"]

{"sheet":"審判員","index":14,"n_rows":2609,"n_cols":10,"rows_kept":2609,"cut":false,"hidden":true,"merged":[]}
["審判登録番号","氏名","資格","フリガナ","性別","技能区分",null,"選択肢より",null,"＜警告選択肢＞"]
["R010209402","三浦　龍一","４級","ミウラ　リュウイチ","男性","S審判",null,"警告",null,"反スポ"]
["R010315949","溝口　介","４級","ミゾグチ　カイ","男性","S審判",null,"退場",null,"ラフ"]
["R001251601","佐々木　慎哉","１級","ササキ　シンヤ","男性","S審判",null,null,null,"異議"]
["R001265145","秋元　昭一","２級","アキモト　ショウイチ","男性","S審判",null,null,null,"繰り返し"]
["R000879756","足達　実生","２級","アダチ　ジツオ","男性","S審判",null,null,null,"遅延"]
["R001253502","安藤　博幸","２級","アンドウ　ヒロユキ","男性","S審判",null,null,null,"距離"]
["R006221377","池添　将大","２級","イケゾエ　マサヒロ","男性","S審判",null,null,null,"無断入"]
["R001262333","諌本　秀樹","２級","イサモト　ヒデキ","男性","S審判",null,null,null,"無断去"]
["R001254060","井上　大知","２級","イノウエ　ダイチ","男性","S審判",null,null,null,"＜退場選択肢＞"]
["R001265172","岩尾　雅広","２級","イワオ　マサヒロ","男性","S審判",null,null,null,"不正"]
["R001262546","岩崎　浩也","２級","イワサキ　ヒロヤ","男性","S審判",null,null,null,"乱暴"]
["R001265190","宇野　耕二","２級","ウノ　コウジ","男性","S審判",null,null,null,"つば"]
["R001265224","大塚　浩司","２級","オオツカ　コウジ","男性","S審判",null,null,null,"阻止(手)"]
["R001265233","大野　髙洋","２級","オオノ　タカヒロ","男性","S審判",null,null,null,"阻止(他)"]
["R009212325","戒田　直樹","２級","カイダ　ナオキ","男性","S審判",null,null,null,"暴言"]
["R001262971","木下　富喜","２級","キノシタ　トミヨシ","男性","S審判",null,null,null,"警告2"]
["R001262999","木原　一心","２級","キハラ　カズシ","男性","S審判"]
["R005528255","黒田　大貴","２級","クロダ　ダイキ","男性","S審判"]
["R001265349","小出　康博","２級","コイデ　ヤスヒロ","男性","S審判"]
["R001265376","後藤　樹明","２級","ゴトウ　シゲアキ","男性","S審判"]
["R000876616","後藤　晋平","２級","ゴトウ　シンペイ","男性","S審判"]
["R001265367","後藤　啓之","２級","ゴトウ　ヒロユキ","男性","S審判"]
["R001256943","笹原　年浩","２級","ササハラ　トシヒロ","男性","S審判"]
["R003255841","塩月　勇輝","２級","シオツキ　ユウキ","男性","S審判"]
["R001265385","須藤　健二","２級","ストウ　ケンジ","男性","S審判"]
["R001257818","関　太啓","２級","セキ　タカヒロ","男性","S審判"]
["R006221465","曽我　拓実","２級","ソガ　タクミ","男性","S審判"]
["R010052667","高木　翔","２級","タカキ　カケル","男性","S審判"]
["R001257924","高木　哲也","２級","タカキ　テツヤ","男性","S審判"]
["R000892429","田中　博","２級","タナカ　ヒロシ","男性","S審判"]
["R001265428","坪井　和幸","２級","ツボイ　カズユキ","男性","S審判"]
["R001265437","寺林　豊","２級","テラバヤシ　ユタカ","男性","S審判"]
["R008254236","時髙　美紅","２級","トキタカ　ミク","女性","S審判"]
["R001265455","中井　賢太郎","２級","ナカイ　ケンタロウ","男性","S審判"]
["R010250271","中尾　亜夢","２級","ナカオ　アユ","男性","S審判"]
["R006151032","中尾　優志","２級","ナカオ　ユウシ","男性","S審判"]
["R003317390","中園　健太郎","２級","ナカゾノ　ケンタロウ","男性","S審判"]
["R004162335","中原　元希","２級","ナカハラ　モトキ","男性","S審判"]
["R001265464","仲摩　則孝","２級","ナカマ　ノリタカ","男性","S審判"]
["R001265358","西田　亜矢","２級","ニシダ　アヤ","女性","S審判"]
["R010167733","原　大貴","２級","ハラ　ダイキ","男性","S審判"]
["R001265473","引地　弘幸","２級","ヒキチ　ヒロユキ","男性","S審判"]
["R001260140","福田　人志","２級","フクダ　ヒトシ","男性","S審判"]
["R001265534","前山　精治","２級","マエヤマ　セイジ","男性","S審判"]
["R001260593","増永　伸也","２級","マスナガ　ノブヤ","男性","S審判"]
["R001265552","松原　マヤ","２級","マツバラ　マヤ","女性","S審判"]
["R002331010","丸小野　聡暢","２級","マルオノ　トシノブ","男性","S審判"]
["R004793649","水江　真太郎","２級","ミズエ　シンタロウ","男性","S審判"]
["R001264632","湊　弘智","２級","ミナト　ヒロトモ","男性","S審判"]
["R006093817","幸　壮一郎","２級","ユキ　ソウイチロウ","男性","S審判"]
["R001262023","和田　敬生","２級","ワダ　タカオ","男性","S審判"]
["R007728956","秋鹿　栄","３級","アイカ　サカエ","男性","S審判"]
["R010093434","赤嶺　将太","３級","アカミネ　ショウタ","男性","S審判"]
["R001264881","赤山　千晶","３級","アカヤマ　チアキ","男性","S審判"]
["R001253007","秋元　貴生","３級","アキモト　タカオ","男性","S審判"]
["R001253025","秋吉　明","３級","アキヨシ　アキラ","男性","S審判"]
["R010382663","秋吉　崇志","３級","アキヨシ　タカシ","男性","S審判"]
["R010382666","秋吉　徹男","３級","アキヨシ　テツオ","男性","S審判"]
["R007960093","浅井　佑太","３級","アサイ　ユウタ","男性","S審判"]
["R010169055","朝来野　勇志","３級","アサクノ　ユウシ","男性","S審判"]
["R007728424","浅田　雄太","３級","アサダ　ユウタ","男性","S審判"]
["R003972391","朝比奈　義行","３級","アサヒナ　ヨシユキ","男性","S審判"]
["R003317336","朝吹　崇宏","３級","アサブキ　タカヒロ","男性","S審判"]
["R006933694","東　紘造","３級","アズマ　コウゾウ","男性","S審判"]
["R001253159","麻生　勝稔","３級","アソウ　カツトシ","男性","S審判"]
["R001265154","足立　英二","３級","アダチ　エイジ","男性","S審判"]
["R001253557","安達　信也","３級","アダチ　シンヤ","男性","S審判"]
["R001253195","足立　淳","３級","アダチ　ジュン","男性","S審判"]
["R010069871","足立　卓也","３級","アダチ　タクヤ","男性","S審判"]
["R009198423","足立　光","３級","アダチ　ヒカル","男性","S審判"]
["R010189040","阿地　孝","３級","アチ　タカシ","男性","S審判"]
["R010313745","穴井　大地","３級","アナイ　ダイチ","男性","S審判"]
["R010044664","穴井　裕大","３級","アナイ　ユウタ","男性","S審判"]
["R001262184","安部　一徳","３級","アベ　カズノリ","男性","S審判"]
["R006573784","安倍　和広","３級","アベ　カズヒロ","男性","S審判"]
["R009460436","安部　隆行","３級","アベ　タカユキ","男性","S審判"]
["R010189323","安部　孝之","３級","アベ　タカユキ","男性","S審判"]
["R007959103","安倍　達也","３級","アベ　タツヤ","男性","S審判"]
["R001262209","阿部　浩之","３級","アベ　ヒロユキ","男性","S審判"]
["R010281814","安部　正信","３級","アベ　マサノブ","男性","S審判"]
["R005336098","荒木　宗明","３級","アラキ　ムネアキ","男性","S審判"]
["R004225713","有田　裕哉","３級","アリタ　ユウヤ","男性","S審判"]
["R010189314","有村　惇志","３級","アリムラ　アツシ","男性","S審判"]
["R001251036","有村　季幸","３級","アリムラ　トシユキ","男性","S審判"]
["R001262236","有吉　剛","３級","アリヨシ　ツヨシ","男性","S審判"]
["R008634229","安藤　昭徳","３級","アンドウ　アキノリ","男性","S審判"]
["R007003033","安藤　和洋","３級","アンドウ　カズヒロ","男性","S審判"]
["R001253496","安東　信二","３級","アンドウ　シンジ","男性","S審判"]
["R010013254","安藤　暢","３級","アンドウ　トオル","男性","S審判"]
["R010064829","安藤　英明","３級","アンドウ　ヒデアキ","男性","S審判"]
["R001253548","安藤　洋樹","３級","アンドウ　ヒロキ","男性","S審判"]
["R001262254","安東　幹雄","３級","アンドウ　ミキオ","男性","S審判"]
["R009547124","安藤　洋一","３級","アンドウ　ヨウイチ","男性","S審判"]
["R007960084","安部　武志","３級","アンベ　タケシ","男性","S審判"]
["R001262290","池江　浩一郎","３級","イケエ　コウイチロウ","男性","S審判"]
["R010306442","池田　達哉","３級","イケダ　タツヤ","男性","S審判"]
["R002384216","池田　浩","３級","イケダ　ヒロシ","男性","S審判"]
["R010093456","池邉　賢一","３級","イケベ　ケンイチ","男性","S審判"]
["R001262324","池辺　俊明","３級","イケベ　トシアキ","男性","S審判"]
["R010301990","池本　岬","３級","イケモト　ミサキ","男性","S審判"]
["R009408904","石井　洋平","３級","イシイ　ヨウヘイ","男性","S審判"]
["R001262360","石川　幸二","３級","イシカワ　コウジ","男性","S審判"]
["R001262379","石川　慎也","３級","イシカワ　シンヤ","男性","S審判"]
["R010027832","石川　裕明","３級","イシカワ　ヒロアキ","男性","S審判"]
["R004060329","石松　卓哉","３級","イシマツ　タクヤ","男性","S審判"]
["R001262397","石丸　泰幸","３級","イシマル　ヤスユキ","男性","S審判"]
["R007753129","石本　直也","３級","イシモト　ナオヤ","男性","S審判"]
["R010189276","石本　侑己","３級","イシモト　ユウキ","男性","S審判"]
["R001262403","石山　慎史","３級","イシヤマ　シンジ","男性","S審判"]
["R003421338","五十川　文明","３級","イソガワ　フミアキ","男性","S審判"]
["R005467918","磯村　信一","３級","イソムラ　シンイチ","男性","S審判"]
["R008536972","板井　晋一","３級","イタイ　シンイチ","男性","S審判"]
["R010281826","板井　崇晃","３級","イタイ　タカアキ","男性","S審判"]
["R006093835","板井　龍法","３級","イタイ　タツノリ","男性","S審判"]
["R006151041","板倉　瑛希","３級","イタクラ　エイキ","男性","S審判"]
["R007686234","市田　翔太","３級","イチダ　ショウタ","男性","S審判"]
["R002384191","居塚　繁","３級","イヅカ　シゲル","男性","S審判"]
["R002531522","伊藤　宏充","３級","イトウ　ヒロミツ","男性","S審判"]
["R001262458","伊東　雅弘","３級","イトウ　マサヒロ","男性","S審判"]
["R008634478","伊藤　勇士","３級","イトウ　ユウジ","女性","S審判"]
["R006173919","井上　健次郎","３級","イノウエ　ケンジロウ","男性","S審判"]
["R010281875","井上　颯太","３級","イノウエ　ソウタ","男性","S審判"]
["R001254051","井上　直樹","３級","イノウエ　ナオキ","男性","S審判"]
["R001869093","井上　秀文","３級","イノウエ　ヒデフミ","男性","S審判"]
["R006574172","猪下　侑恭","３級","イノシタ　ユウスケ","男性","S審判"]
["R001262494","井堀　貴康","３級","イボリ　タカヤス","男性","S審判"]
["R001262500","今井　克人","３級","イマイ　カツヒト","男性","S審判"]
["R003677104","今宮　俊一","３級","イマミヤ　シュンイチ","男性","S審判"]
["R010090347","岩男　行祐","３級","イワオ　コウスケ","男性","S審判"]
["R005603820","岩尾　潤一郎","３級","イワオ　ジュンイチロウ","男性","S審判"]
["R010096810","岩尾　瑞貴","３級","イワオ　ミズキ","男性","S審判"]
["R006664758","岩男　雄一郎","３級","イワオ　ユウイチロウ","男性","S審判"]
["R001254176","岩坂　康範","３級","イワサカ　ヤスノリ","男性","S審判"]
["R004778507","岩崎　彰範","３級","イワサキ　アキノリ","男性","S審判"]
["R010100667","岩波　豊治","３級","イワナミ　トヨハル","男性","S審判"]
["R007335297","岩丸　海斗","３級","イワマル　カイト","男性","S審判"]
["R001262573","上尾　泰裕","３級","ウエオ　ヤスヒロ","男性","S審判"]
["R004055390","植木　邦彦","３級","ウエキ　クニヒコ","男性","S審判"]
["R001254282","上田　大吾","３級","ウエダ　ダイゴ","男性","S審判"]
["R001262582","上田　輝彦","３級","ウエダ　テルヒコ","男性","S審判"]
["R010169040","上本　慎一郎","３級","ウエモト　シンイチロウ","男性","S審判"]
["R009408773","植山　功喜","３級","ウエヤマ　コウキ","男性","S審判"]
["R010189280","魚住　健人","３級","ウオズミ　タケト","男性","S審判"]
["R007003431","宇髙　篤史","３級","ウタカ　アツシ","男性","S審判"]
["R003421231","内丸　貴裕","３級","ウチマル　タカヒロ","男性","S審判"]
["R010093443","内山田　光史","３級","ウチヤマダ　コウシ","男性","S審判"]
["R001262874","宇都宮　潤也","３級","ウツノミヤ　ジュンヤ","男性","S審判"]
["R005527609","宇都宮　貴之","３級","ウツノミヤ　タカユキ","男性","S審判"]
["R010193702","梅田　高志","３級","ウメダ　タカシ","男性","S審判"]
["R010189311","梅徳　里一","３級","ウメトク　リイチ","男性","S審判"]
["R010100691","浦本　雅志","３級","ウラモト　マサシ","男性","S審判"]
["R003421161","永路　尚道","３級","エイロ　ナオミチ","男性","S審判"]
["R010076621","江上　和希","３級","エガミ　カズキ","男性","S審判"]
["R005603361","江口　晃平","３級","エグチ　コウヘイ","男性","S審判"]
["R010281880","江口　大介","３級","エグチ　ダイスケ","男性","S審判"]
["R002530064","江崎　康平","３級","エサキ　コウヘイ","男性","S審判"]
["R001254538","江藤　修","３級","エトウ　オサム","男性","S審判"]
["R005603866","衛藤　圭典","３級","エトウ　ケイスケ","男性","S審判"]
["R001254510","衛藤　兼一","３級","エトウ　ケンイチ","男性","S審判"]
["R001262607","衛藤　俊明","３級","エトウ　トシアキ","男性","S審判"]
["R001254477","江藤　雅章","３級","エトウ　マサアキ","男性","S審判"]
["R009197619","恵美　圭介","３級","エミ　ケイスケ","男性","S審判"]
["R002384580","江良　信司","３級","エラ　シンジ","男性","S審判"]
["R001262625","大久保　邦彦","３級","オオクボ　クニヒコ","男性","S審判"]
["R008377616","大久保　稔生","３級","オオクボ　トシキ","男性","S審判"]
["R003421912","大久保　正明","３級","オオクボ　マサアキ","男性","S審判"]
["R006093738","大谷　伸二","３級","オオタニ　シンジ","男性","S審判"]
["R001254714","大塚　浩介","３級","オオツカ　コウスケ","男性","S審判"]
["R005528121","大塚　勇司","３級","オオツカ　ユウジ","男性","S審判"]
["R008174019","大塚　良輝","３級","オオツカ　ヨシキ","男性","S審判"]
["R003351109","大津留　健太","３級","オオツル　ケンタ","男性","S審判"]
["R003317080","大津留　聖太","３級","オオツル　ショウタ","男性","S審判"]
["R010281884","大戸　聡平","３級","オオト　ソウヘイ","男性","S審判"]
["R001262670","大渡　年春","３級","オオト　トシハル","男性","S審判"]
["R007686261","大友　拓郎","３級","オオトモ　タクロウ","男性","S審判"]
["R003421222","大野　盛通","３級","オオノ　モリミチ","男性","S審判"]
["R008523330","大場　剛","３級","オオバ　ゴウ","男性","S審判"]
["R010093494","大本　敏行","３級","オオモト　トシユキ","男性","S審判"]
["R007660573","岡　智史","３級","オカ　サトシ","男性","S審判"]
["R010313747","岡崎　俊介","３級","オカザキ　シュンスケ","男性","S審判"]
["R006901613","岡部　明男","３級","オカベ　アキオ","男性","S審判"]
["R001254875","岡部　司","３級","オカベ　ツカサ","男性","S審判"]
["R007959088","岡本　遼","３級","オカモト　リョウ","男性","S審判"]
["R001262698","緒方　崇","３級","オガタ　タカシ","男性","S審判"]
["R007075261","小川　翔太","３級","オガワ　ショウタ","男性","S審判"]
["R006573979","小川　雅和","３級","オガワ　マサカズ","男性","S審判"]
["R009460515","奥田　和彦","３級","オクダ　カズヒコ","男性","S審判"]
["R010100676","奥村　浩勝","３級","オクムラ　ヒロカツ","男性","S審判"]
["R003972355","小倉　正広","３級","オグラ　マサヒロ","男性","S審判"]
["R001262731","長田　敏明","３級","オサダ　トシアキ","男性","S審判"]
["R010189320","尾崎　勇","３級","オザキ　ユウ","男性","S審判"]
["R010099453","小関　啓太郎","３級","オゼキ　ケイタロウ","男性","S審判"]
["R007960109","小田　将大","３級","オダ　マサヒロ","男性","S審判"]
["R006901589","小田原　蓮","３級","オダワラ　レン","男性","S審判"]
["R010311884","越智　龍平","３級","オチ　リュウヘイ","男性","S審判"]
["R002996695","乙部　哲也","３級","オトベ　テツヤ","男性","S審判"]
["R007959954","オトメ　仁孝","３級","オトメ　ノリユキ","男性","S審判"]
["R002917661","小野　晃央","３級","オノ　アキオ","男性","S審判"]
["R001262768","小野　和生","３級","オノ　カズオ","男性","S審判"]
["R001255184","小野　聡","３級","オノ　サトシ","男性","S審判"]
["R005603608","小野　智史","３級","オノ　サトシ","男性","S審判"]
["R001255193","小野　修太郎","３級","オノ　シュウタロウ","男性","S審判"]
["R001262759","小野　俊二郎","３級","オノ　シュンジロウ","男性","S審判"]
["R001255139","小野　慎一","３級","オノ　シンイチ","男性","S審判"]
["R010255178","小野　智弘","３級","オノ　ノリヒロ","男性","S審判"]
["R005604005","小野　裕二","３級","オノ　ユウジ","男性","S審判"]
["R001262786","小野　幸登","３級","オノ　ユキト","男性","S審判"]
["R010390125","小野　友美子","３級","オノ　ユミコ","女性","S審判"]
["R001262777","小野　亮一","３級","オノ　リョウイチ","男性","S審判"]
["R002996659","小畑　郁夫","３級","オバタ　イクオ","男性","S審判"]
["R005164303","小幡　栄治","３級","オバタ　エイジ","男性","S審判"]
["R000466941","小畑　克則","３級","オバタ　カツノリ","男性","S審判"]
["R002530125","小畑　広大","３級","オバタ　コウダイ","男性","S審判"]
["R008173700","甲斐　剛樹","３級","カイ　ゴウキ","男性","S審判"]
["R001265260","甲斐　正三","３級","カイ　ショウゾウ","男性","S審判"]
["R003258501","甲斐　真号","３級","カイ　シンゴ","男性","S審判"]
["R000892818","甲斐　睦記","３級","カイ　チカフミ","男性","S審判"]
["R004794055","笠置　貴路","３級","カサキ　タカミチ","男性","S審判"]
["R001262829","笠置　忠照","３級","カサギ　タダアキ","男性","S審判"]
["R003255771","笠野　わかこ","３級","カサノ　ワカコ","女性","S審判"]
["R004793542","梶川　和志","３級","カジカワ　カズシ","男性","S審判"]
["R006574154","梶原　公","３級","カジワラ　アキラ","男性","S審判"]
["R004055585","梶原　賢士","３級","カジワラ　ケンジ","男性","S審判"]
["R009198511","梶原　幸平","３級","カジワラ　コウヘイ","男性","S審判"]
["R001262838","梶原　誠司","３級","カジワラ　セイジ","男性","S審判"]
["R010099455","糟谷　浩志","３級","カスタニ　ヒロシ","男性","S審判"]
["R004714642","加藤　敦士","３級","カトウ　アツシ","男性","S審判"]
["R007959608","加藤　恭介","３級","カトウ　キョウスケ","男性","S審判"]
["R010189342","加藤　拓己","３級","カトウ　タクミ","男性","S審判"]
["R009197929","加藤　泰広","３級","カトウ　ヤスヒロ","男性","S審判"]
["R010261482","金子　翔","３級","カネコ　ショウ","男性","S審判"]
["R009624779","株根　蒼太","３級","カブネ　ソウタ","男性","S審判"]
["R001262883","神川　基","３級","カミカワ　モトイ","男性","S審判"]
["R002996668","上西　亮次","３級","カミニシ　リョウジ","男性","S審判"]
["R010120143","萱嶌　修平","３級","カヤシマ　シュウヘイ","男性","S審判"]
["R001255616","川井　勇介","３級","カワイ　ユウスケ","男性","S審判"]
["R007959963","川内　智弘","３級","カワウチ　トモヒロ","男性","S審判"]
["R010070659","川浦　光晨","３級","カワウラ　コウシン","男性","S審判"]
["R006220952","川﨑　浩司","３級","カワサキ　コウジ","男性","S審判"]
["R002917430","河津　裕徳","３級","カワヅ　ヒロノリ","男性","S審判"]
["R005103418","河野　貴裕","３級","カワノ　タカヒロ","男性","S審判"]
["R001255740","川野　剛","３級","カワノ　タケシ","男性","S審判"]
["R001255713","河野　英樹","３級","カワノ　ヒデキ","男性","S審判"]
["R001262935","河野　裕明","３級","カワノ　ヒロアキ","男性","S審判"]
["R010281800","河野　光喜","３級","カワノ　ミツキ","男性","S審判"]
["R006094001","河野　祐司","３級","カワノ　ユウジ","男性","S審判"]
["R001255722","河野　隆次","３級","カワノ　リュウジ","男性","S審判"]
["R010214623","川畑　拓人","３級","カワバタ　タクト","男性","S審判"]
["R010093459","川辺　祐介","３級","カワベ　ユウスケ","男性","S審判"]
["R003351145","川村　啓一郎","３級","カワムラ　ケイイチロウ","男性","S審判"]
["R001255935","川村　正樹","３級","カワムラ　マサキ","男性","S審判"]
["R004112020","川元　翔","３級","カワモト　ショウ","男性","S審判"]
["R003256053","菊地　謙一","３級","キクチ　ケンイチ","男性","S審判"]
["R007890271","菊地　玄","３級","キクチ　ゲン","男性","S審判"]
["R010255152","菊池　芳郎","３級","キクチ　ヨシロウ","男性","S審判"]
["R010376296","木島　悠","３級","キジマ　ユウ","男性","S審判"]
["R007959583","吉川　一馬","３級","キッカワ　カズマ","男性","S審判"]
["R010074021","木津　洋孝","３級","キヅ　ヒロタカ","男性","S審判"]
["R007003468","木本　翔平","３級","キモト　ショウヘイ","男性","S審判"]
["R001256129","木本　信之","３級","キモト　ノブユキ","男性","S審判"]
["R001256138","木本　将斗","３級","キモト　マサト","男性","S審判"]
["R001251504","清原　雄太","３級","キヨハラ　ユウタ","男性","S審判"]
["R007003486","清松　隆浩","３級","キヨマツ　タカヒロ","男性","S審判"]
["R001263022","吉良　和明","３級","キラ　カズアキ","男性","S審判"]
["R001263031","吉良　信輝","３級","キラ　ノブテル","男性","S審判"]
["R001263040","吉良　光峰","３級","キラ　ミツタカ","男性","S審判"]
["R001263068","切封　智和","３級","キリフ　トモカズ","男性","S審判"]
["R001263077","草野　学","３級","クサノ　マナブ","男性","S審判"]
["R010247785","楠本　未沙都","３級","クスモト　ミサト","女性","S審判"]
["R001263129","工藤　慎一","３級","クドウ　シンイチ","男性","S審判"]
["R003258413","工藤　隆貴","３級","クドウ　タカキ","男性","S審判"]
["R001265312","工藤　高信","３級","クドウ　タカノブ","男性","S審判"]
["R010189301","工藤　拓海","３級","クドウ　タクミ","男性","S審判"]
["R001263086","工藤　信弘","３級","クドウ　ノブヒロ","男性","S審判"]
["R003351251","工藤　暢裕","３級","クドウ　ノブヒロ","男性","S審判"]
["R007002982","工藤　政野","３級","クドウ　マサノ","男性","S審判"]
["R001263110","工藤　康博","３級","クドウ　ヤスヒロ","男性","S審判"]
["R008798262","工藤　龍成","３級","クドウ　リュウセイ","男性","S審判"]
["R003677131","久保　雅敬","３級","クボ　マサノリ","男性","S審判"]
["R001256305","久保田　英樹","３級","クボタ　ヒデキ","男性","S審判"]
["R010259420","窪田　雅一","３級","クボタ　マサカズ","男性","S審判"]
["R001256314","久保山　守","３級","クボヤマ　マモル","男性","S審判"]
["R010120185","熊谷　薫","３級","クマガイ　カオル","男性","S審判"]
["R001263165","熊谷　浩之","３級","クマガエ　ヒロユキ","男性","S審判"]
["R007334890","熊谷　勇哉","３級","クマガエ　ユウヤ","男性","S審判"]
["R010193706","倉光　勇弥","３級","クラミツ　ユウヤ","男性","S審判"]
["R010074028","栗井　勝","３級","クリイ　マサル","男性","S審判"]
["R002037275","栗牧　翔一","３級","クリマキ　ショウイチ","男性","S審判"]
["R001263183","桑原　栄二郎","３級","クワバラ　エイジロウ","男性","S審判"]
["R008634487","桑原　将吾","３級","クワバラ　ショウゴ","男性","S審判"]
["R001256402","小石川　悟","３級","コイシカワ　サトル","男性","S審判"]
["R001263192","小出　和明","３級","コイデ　カズアキ","男性","S審判"]
["R007003228","河野　晋也","３級","コウノ　シンヤ","男性","S審判"]
["R006220387","河野　翼","３級","コウノ　ツバサ","男性","S審判"]
["R001263235","小嶋　亮","３級","コジマ　リョウ","男性","S審判"]
["R009546073","小玉　篤史","３級","コダマ　アツシ","男性","S審判"]
["R009198502","児玉　祥吾","３級","コダマ　ショウゴ","男性","S審判"]
["R005405255","小手川　朋輝","３級","コテガワ　トモキ","男性","S審判"]
["R010080887","古西　譲司","３級","コニシ　ジョウジ","男性","S審判"]
["R007728673","小林　亮介","３級","コバヤシ　リョウスケ","男性","S審判"]
["R005987209","小堀　良祐","３級","コボリ　リョウスケ","男性","S審判"]
["R001263314","近藤　健二","３級","コンドウ　ケンジ","男性","S審判"]
["R006591364","近藤　裕之","３級","コンドウ　ヒロユキ","男性","S審判"]
["R001263305","近藤　靖彦","３級","コンドウ　ヤスヒコ","男性","S審判"]
["R010376355","合嶋　雄大","３級","ゴウジマ　ユウダイ","男性","S審判"]
["R009408852","後藤　憲治","３級","ゴトウ　ケンジ","男性","S審判"]
["R004793667","後藤　悟","３級","ゴトウ　サトル","男性","S審判"]
["R001263299","後藤　伸太郎","３級","ゴトウ　シンタロウ","男性","S審判"]
["R008798226","後藤　貴志","３級","ゴトウ　タカシ","男性","S審判"]
["R001251540","後藤　毅","３級","ゴトウ　タケシ","男性","S審判"]
["R001256624","後藤　文生","３級","ゴトウ　フミオ","男性","S審判"]
["R010067947","後藤　美宇","３級","ゴトウ　ミウ","女性","S審判"]
["R001263271","後藤　稔","３級","ゴトウ　ミノル","男性","S審判"]
["R007960215","後藤　裕也","３級","ゴトウ　ユウヤ","男性","S審判"]
["R001263332","斎藤　克己","３級","サイトウ　カツミ","男性","S審判"]
["R001263369","酒井　清行","３級","サカイ　キヨユキ","男性","S審判"]
["R001263350","酒井　祐三","３級","サカイ　ユウゾウ","男性","S審判"]
["R010356115","榊　謙治","３級","サカキ　ケンジ","男性","S審判"]
["R004714688","坂本　克也","３級","サカモト　カツヤ","男性","S審判"]
["R003350863","坂本　圭","３級","サカモト　ケイ","男性","S審判"]
["R009072268","坂本　載瑛","３級","サカモト　コトエ","女性","S審判"]
["R001263402","坂本　淳吾","３級","サカモト　ジュンゴ","男性","S審判"]
["R006849191","坂本　大典","３級","サカモト　ダイスケ","男性","S審判"]
["R006574400","酒盛　政晴","３級","サカモリ　マサハル","男性","S審判"]
["R006664864","相良　章成","３級","サガラ　アキナリ","男性","S審判"]
["R002917500","迫　裕作","３級","サコ　ユウサク","男性","S審判"]
["R007335136","佐々木　秀樹","３級","ササキ　ヒデキ","男性","S審判"]
["R001263411","佐々木　正志","３級","ササキ　マサシ","男性","S審判"]
["R003677052","佐田　敬介","３級","サダ　ケイスケ","男性","S審判"]
["R001263448","佐藤　昭生","３級","サトウ　アキオ","男性","S審判"]
["R001263484","佐藤　一好","３級","サトウ　カズヨシ","男性","S審判"]
["R005603981","佐藤　健","３級","サトウ　ケン","男性","S審判"]
["R010261478","佐藤　賢太","３級","サトウ　ケンタ","男性","S審判"]
["R009460551","佐藤　慎二","３級","サトウ　シンジ","男性","S審判"]
["R005164394","佐藤　嵩隼","３級","サトウ　タカトシ","男性","S審判"]
["R008634706","佐藤　巨規","３級","サトウ　ナオキ","男性","S審判"]
["R007728512","佐藤　誠","３級","サトウ　マコト","男性","S審判"]
["R002530161","佐藤　光義","３級","サトウ　ミツヨシ","男性","S審判"]
["R007959811","佐藤　康之","３級","サトウ　ヤスユキ","男性","S審判"]
["R007003291","佐藤　優介","３級","サトウ　ユウスケ","男性","S審判"]
["R010382660","佐藤　祐輔","３級","サトウ　ユウスケ","男性","S審判"]
["R001263475","佐藤　隆太","３級","サトウ　リュウタ","男性","S審判"]
["R009552560","佐藤　亮","３級","サトウ　リョウ","男性","S審判"]
["R001257252","三宮　仁","３級","サンノミヤ　ヒトシ","男性","S審判"]
["R007959936","塩田　誠","３級","シオタ　マコト","男性","S審判"]
["R010167723","敷島　孝太","３級","シキシマ　コウタ","男性","S審判"]
["R009546781","四嶋　遼大","３級","シシマ　ハルト","男性","S審判"]
["R001257322","師藤　一也","３級","シトウ　カズヤ","男性","S審判"]
["R001257340","篠田　公成","３級","シノダ　キミナリ","男性","S審判"]
["R004326535","信田　卓也","３級","シノダ　タクヤ","男性","S審判"]
["R010073990","篠田　裕也","３級","シノダ　ユウヤ","男性","S審判"]
["R010189333","芝崎　駿","３級","シバサキ　カケル","男性","S審判"]
["R008634715","柴田　健一","３級","シバタ　ケンイチ","男性","S審判"]
["R010214543","柴田　峻佑","３級","シバタ　シュンスケ","男性","S審判"]
["R002938017","柴田　徹","３級","シバタ　トオル","男性","S審判"]
["R001263536","渋谷　崇","３級","シブヤ　タカシ","男性","S審判"]
["R001263545","島　邦彦","３級","シマ　クニヒコ","男性","S審判"]
["R003317114","島津　広光","３級","シマズ　ヒロミツ","男性","S審判"]
["R007686216","清水　圭二","３級","シミズ　ケイジ","男性","S審判"]
["R001558364","下野　智洋","３級","シモノ　トモヒロ","男性","S審判"]
["R006910259","下原　優一","３級","シモハラ　ユウイチ","男性","S審判"]
["R010390129","下村　華央","３級","シモムラ　カオ","女性","S審判"]
["R006849182","志谷　進","３級","シヤ　ススム","男性","S審判"]
["R001263590","首藤　圭介","３級","シュトウ　ケイスケ","男性","S審判"]
["R001934616","首藤　貴弘","３級","シュトウ　タカヒロ","男性","S審判"]
["R001263624","白石　正","３級","シライシ　タダシ","男性","S審判"]
["R009554780","白江　直樹","３級","シラエ　ナオキ","男性","S審判"]
["R010390128","白木原　琳花","３級","シラキハラ　リンカ","女性","S審判"]
["R006849128","城全　晃孝","３級","シロゼン　アキタカ","男性","S審判"]
["R001263606","城全　孝成","３級","シロゼン　タカナリ","男性","S審判"]
["R001263651","秦　啓一郎","３級","シン　ケイイチロウ","男性","S審判"]
["R001257641","秦　達郎","３級","シン　タツロウ","男性","S審判"]
["R001263633","秦　雅暢","３級","シン　マサノブ","男性","S審判"]
["R001257650","新貝　学","３級","シンガイ　マナブ","男性","S審判"]
["R004793834","末松　敬雅","３級","スエマツ　タカマサ","男性","S審判"]
["R006097345","末松　由貴","３級","スエマツ　ヨシタカ","男性","S審判"]
["R006664961","末吉　裕樹","３級","スエヨシ　ヒロキ","男性","S審判"]
["R008515571","菅川　智","３級","スガワ　サトシ","男性","S審判"]
["R007003024","杉崎　恭介","３級","スギサキ　キョウスケ","男性","S審判"]
["R010074299","杉本　大実","３級","スギモト　ヒロミ","男性","S審判"]
["R002530860","鈴木　史朗","３級","スズキ　シロウ","男性","S審判"]
["R008798369","鈴木　優希","３級","スズキ　ユウキ","男性","S審判"]
["R008798013","隅田　哲平","３級","スミタ　テッペイ","男性","S審判"]
["R010027823","清家　大介","３級","セイケ　ダイスケ","男性","S審判"]
["R001263679","関　憲二","３級","セキ　ケンジ","男性","S審判"]
["R000896665","関　文雄","３級","セキ　フミオ","男性","S審判"]
["R008798174","関屋　俊侑","３級","セキヤ　トシユキ","男性","S審判"]
["R001263688","瀬口　篤","３級","セグチ　アツシ","男性","S審判"]
["R010376284","瀬戸口　雄","３級","セトグチ　ユウ","男性","S審判"]
["R007606238","相馬　大典","３級","ソウマ　ダイスケ","男性","S審判"]
["R010247795","曽我　彩夏","３級","ソガ　アヤカ","女性","S審判"]
["R001263697","曽我　大一郎","３級","ソガ　ダイイチロウ","男性","S審判"]
["R001263721","園　貴司","３級","ソノ　タカシ","男性","S審判"]
["R005987032","園　秀利","３級","ソノ　ヒデトシ","男性","S審判"]
["R008798305","染矢　恭明","３級","ソメヤ　タカアキ","男性","S審判"]
["R005987430","平　和隆","３級","タイラ　カズタカ","男性","S審判"]
["R001263749","高尾　次郎","３級","タカオ　ジロウ","男性","S審判"]
["R006664615","高柿　康平","３級","タカガキ　コウヘイ","男性","S審判"]
["R006203593","高島　秀樹","３級","タカシマ　ヒデキ","男性","S審判"]
["R001258048","高橋　修一","３級","タカハシ　シユウイチ","男性","S審判"]
["R001263794","高橋　豊信","３級","タカハシ　トヨノブ","男性","S審判"]
["R001263819","高橋　雅浩","３級","タカハシ　マサヒロ","男性","S審判"]
["R001263828","髙橋　享誠","３級","タカハシ　ミチノブ","男性","S審判"]
["R001263785","高橋　芳洋","３級","タカハシ　ヨシヒロ","男性","S審判"]
["R005987120","高橋　涼太","３級","タカハシ　リョウタ","男性","S審判"]
["R001263846","高畑　徳治郎","３級","タカハタ　トクジロウ","男性","S審判"]
["R001263837","高畑　智秀","３級","タカハタ　トモヒデ","男性","S審判"]
["R002996738","高原　英司","３級","タカハラ　エイジ","男性","S審判"]
["R003258477","田上　和広","３級","タガミ　カズヒロ","男性","S審判"]
["R001262272","瀧山　理恵","３級","タキヤマ　リエ","女性","S審判"]
["R001263882","竹内　進","３級","タケウチ　ススム","男性","S審判"]
["R003972489","竹嶋　仁","３級","タケシマ　ヒトシ","男性","S審判"]
["R006220484","武智　正敏","３級","タケチ　マサトシ","男性","S審判"]
["R007754243","竹中　勇人","３級","タケナカ　ハヤト","男性","S審判"]
["R006030599","竹村　研一郎","３級","タケムラ　ケンイチロウ","男性","S審判"]
["R007335075","田坂　将和","３級","タサカ　マサカヅ","男性","S審判"]
["R010120124","田尻　貴志","３級","タジリ　タカシ","男性","S審判"]
["R004060170","立花　陽一郎","３級","タチバナ　ヨウイチロウ","男性","S審判"]
["R008626770","立川　大記","３級","タツカワ　タイキ","男性","S審判"]
["R010281886","立川　拓未","３級","タツカワ　タクミ","男性","S審判"]
["R009430578","立川　千紗","３級","タツカワ　チサ","女性","S審判"]
["R008627043","立川　充","３級","タツカワ　ミツル","男性","S審判"]
["R004683874","田中　貴大","３級","タナカ　タカヒロ","男性","S審判"]
["R001258394","田邉　義晶","３級","タナベ　ヨシアキラ","男性","S審判"]
["R005164677","田村　孝弘","３級","タムラ　タカヒロ","男性","S審判"]
["R010190756","垰　真樹","３級","タワ　マサキ","男性","S審判"]
["R004793579","團塚　晋之祐","３級","ダンヅカ　シンノスケ","男性","S審判"]
["R001263961","津崎　雅彦","３級","ツザキ　マサヒコ","男性","S審判"]
["R005430057","辻　一陽","３級","ツジ　イチヨウ","男性","S審判"]
["R010281819","辻井　拓夢","３級","ツジイ　タクム","男性","S審判"]
["R001265419","津田　憲生","３級","ツダ　ノリオ","男性","S審判"]
["R001263998","堤　祐慈","３級","ツツミ　ユウジ","男性","S審判"]
["R006312943","坪井　亮磨","３級","ツボイ　リョウマ","男性","S審判"]
["R002996677","坪根　晃","３級","ツボネ　アキラ","男性","S審判"]
["R001264003","津守　一雄","３級","ツモリ　カズオ","男性","S審判"]
["R001264012","津守　正博","３級","ツモリ　マサヒロ","男性","S審判"]
["R009408782","手島　冠","３級","テシマ　カン","男性","S審判"]
["R001264058","寺岡　富夫","３級","テラオカ　トミオ","男性","S審判"]
["R001264049","寺岡　義彦","３級","テラオカ　ヨシヒコ","男性","S審判"]
["R010120117","寺次　良生","３級","テラジ　ヨシタカ","男性","S審判"]
["R004226749","寺本　義高","３級","テラモト　ヨシタカ","男性","S審判"]
["R004111340","唐下　直之","３級","トウゲ　ナオユキ","男性","S審判"]
["R010167725","東藤　正幸","３級","トウドウ　マサユキ","男性","S審判"]
["R001264076","藤内　伸悟","３級","トウナイ　シンゴ","男性","S審判"]
["R001264085","塔元　繁喜","３級","トウモト　シゲキ","男性","S審判"]
["R004385653","徳永　尚也","３級","トクナガ　ナオヤ","男性","S審判"]
["R002848671","徳永　浩幸","３級","トクナガ　ヒロユキ","男性","S審判"]
["R010189300","徳光　将太","３級","トクミツ　ショウタ","男性","S審判"]
["R001258701","都甲　昌亨","３級","トコウ　マサユキ","男性","S審判"]
["R006220961","歳納　真人","３級","トシノ　マコト","男性","S審判"]
["R003972230","戸田　清","３級","トダ　キヨシ","男性","S審判"]
["R001258738","戸髙　博秋","３級","トダカ　ヒロアキ","男性","S審判"]
["R003317354","戸伏　重治","３級","トブシ　シゲハル","男性","S審判"]
["R008797759","冨永　憲司","３級","トミナガ　ケンジ","男性","S審判"]
["R002935472","友成　義朗","３級","トモナリ　ヨシロウ","男性","S審判"]
["R010214602","内藤　翔悟","３級","ナイトウ　ショウゴ","男性","S審判"]
["R010261477","仲　慎太郎","３級","ナカ　シンタロウ","男性","S審判"]
["R002917722","中尾　倫彰","３級","ナカオ　ミチアキ","男性","S審判"]
["R002530046","中上　聡志","３級","ナカガミ　サトシ","男性","S審判"]
["R010248585","中坂　大","３級","ナカサカ　ダイ","男性","S審判"]
["R003317071","中島　圭太","３級","ナカシマ　ケイタ","男性","S審判"]
["R008634681","中島　康平","３級","ナカシマ　コウヘイ","男性","S審判"]
["R010190757","中島　佑介","３級","ナカシマ　ユウスケ","男性","S審判"]
["R010007829","中島　亮太","３級","ナカシマ　リョウタ","男性","S審判"]
["R002996686","中園　真栄","３級","ナカゾノ　マサハル","男性","S審判"]
["R001258969","中田　邦明","３級","ナカタ　クニアキ","男性","S審判"]
["R001264164","仲野　昭博","３級","ナカノ　アキヒロ","男性","S審判"]
["R005429893","中野　佐和三","３級","ナカノ　サワミ","男性","S審判"]
["R003421310","中野　雄斗","３級","ナカノ　ユウト","男性","S審判"]
["R001264182","中原　圭介","３級","ナカハラ　ケイスケ","男性","S審判"]
["R010099448","中原　丈聖","３級","ナカハラ　ヒロマサ","男性","S審判"]
["R001265297","中村　圭一郎","３級","ナカムラ　ケイイチロウ","男性","S審判"]
["R010279448","中村　俊太","３級","ナカムラ　シュンタ","男性","S審判"]
["R007959990","中村　髙峰","３級","ナカムラ　タカネ","男性","S審判"]
["R010382275","中村　友海","３級","ナカムラ　ユウ","男性","S審判"]
["R010073993","仲村　陽一郎","３級","ナカムラ　ヨウイチロウ","男性","S審判"]
["R010189259","中山　修一","３級","ナカヤマ　シュウイチ","男性","S審判"]
["R005987528","中山　昌樹","３級","ナカヤマ　マサキ","男性","S審判"]
["R010376274","永井　翔也","３級","ナガイ　ショウヤ","男性","S審判"]
["R004111580","永井　勇司","３級","ナガイ　ユージ","男性","S審判"]
["R001258871","長尾　信宏","３級","ナガオ　ノブヒロ","男性","S審判"]
["R001264128","長尾　寿郎","３級","ナガオ　ヒサオ","男性","S審判"]
["R001264137","永木　桂","３級","ナガキ　ケイ","男性","S審判"]
["R001258978","長田　義弘","３級","ナガタ　ヨシヒロ","男性","S審判"]
["R008798129","長野　佳太","３級","ナガノ　ケイタ","男性","S審判"]
["R001259092","長野　省三","３級","ナガノ　ショウゾウ","男性","S審判"]
["R005164941","永松　真朗","３級","ナガマツ　マオ","男性","S審判"]
["R006889108","永松　真樹","３級","ナガマツ　マキ","女性","S審判"]
["R010306440","永芳　卓磨","３級","ナガヨシ　タクマ","男性","S審判"]
["R005986954","成原　政治","３級","ナリハラ　マサハル","男性","S審判"]
["R002908335","南里　秀樹","３級","ナンリ　ヒデキ","男性","S審判"]
["R010027839","西川　侑希","３級","ニシカワ　ユウキ","男性","S審判"]
["R001251975","西田　淳一","３級","ニシダ　ジュンイチ","男性","S審判"]
["R005987102","西村　和久","３級","ニシムラ　カズヒサ","男性","S審判"]
["R001264234","西村　誠","３級","ニシムラ　マコト","男性","S審判"]
["R009670176","西村　竜司","３級","ニシムラ　リュウジ","男性","S審判"]
["R006148515","西山　文朗","３級","ニシヤマ　フミアキ","男性","S審判"]
["R001259287","新田　祐一郎","３級","ニッタ　ユウイチロウ","男性","S審判"]
["R001264252","二ノ谷　徹","３級","ニノタニ　トオル","男性","S審判"]
["R010095349","二宮　慎太郎","３級","ニノミヤ　シンタロウ","男性","S審判"]
["R001264289","野田　洋平","３級","ノダ　ヨウヘイ","男性","S審判"]
["R007757994","野村　康佳","３級","ノムラ　ヤスヨシ","男性","S審判"]
["R009546055","吐合　直樹","３級","ハキアイ　ナオキ","男性","S審判"]
["R010027819","狭間　照央","３級","ハザマ　テルヒサ","男性","S審判"]
["R001252017","橋本　伸太郎","３級","ハシモト　シンタロウ","男性","S審判"]
["R008797962","橋本　葉音","３級","ハシモト　ハノン","女性","S審判"]
["R010080634","畑中　賢三","３級","ハタナカ　ケンゾウ","男性","S審判"]
["R010214541","羽田野　順一","３級","ハタノ　ジュンイチ","女性","S審判"]
["R001264304","羽田野　亘","３級","ハダノ　ワタル","男性","S審判"]
["R008450238","浜崎　憲","３級","ハマサキ　タダシ","男性","S審判"]
["R001259588","浜崎　陽介","３級","ハマサキ　ヨウスケ","男性","S審判"]
["R006221094","浜町　拓也","３級","ハママチ　タクヤ","男性","S審判"]
["R002384225","濱本　真治","３級","ハマモト　シンジ","男性","S審判"]
["R001259667","原　宏一","３級","ハラ　コウイチ","男性","S審判"]
["R005603802","原　俊輔","３級","ハラ　シュンスケ","男性","S審判"]
["R001264340","原田　浩司","３級","ハラダ　コウジ","男性","S審判"]
["R007003413","原田　雅也","３級","ハラダ　マサヤ","男性","S審判"]
["R007211182","原田　龍太郎","３級","ハラダ　リュウタロウ","男性","S審判"]
["R010067952","半谷　風花","３級","ハンガイ　フウカ","女性","S審判"]
["R002384465","東　一騎","３級","ヒガシ　カズキ","男性","S審判"]
["R001264359","東　和弘","３級","ヒガシ　カズヒロ","男性","S審判"]
["R001265482","久野　慎吾","３級","ヒサノ　シンゴ","男性","S審判"]
["R006147048","姫野　一陽","３級","ヒメノ　イチヨウ","男性","S審判"]
["R005528307","姫野　恵一","３級","ヒメノ　ケイイチ","男性","S審判"]
["R010027843","姫野　孝太","３級","ヒメノ　コウタ","男性","S審判"]
["R001251151","姫野　隆英","３級","ヒメノ　タカヒデ","男性","S審判"]
["R010189272","姫野　佑太郎","３級","ヒメノ　ユウタロウ","男性","S審判"]
["R010313780","姫野　祐太朗","３級","ヒメノ　ユウタロウ","男性","S審判"]
["R010352963","平井　彩斗","３級","ヒライ　サイト","男性","S審判"]
["R001259870","平岡　正広","３級","ヒラオカ　マサヒロ","男性","S審判"]
["R003972513","平川　伸吾","３級","ヒラカワ　シンゴ","男性","S審判"]
["R007002724","平原　裕己","３級","ヒラバル　ユウキ","男性","S審判"]
["R007003501","廣瀬　惣一朗","３級","ヒロセ　ソウイチロウ","男性","S審判"]
["R001264401","廣瀬　文明","３級","ヒロセ　フミアキ","男性","S審判"]
["R004386120","廣瀬　賢明","３級","ヒロセ　マサアキ","男性","S審判"]
["R001264410","廣田　寧孝","３級","ヒロタ　ヤスタカ","男性","S審判"]
["R001260070","廣戸　誠一","３級","ヒロト　セイイチ","男性","S審判"]
["R010069903","深田　知秀","３級","フカタ　トモヒデ","男性","S審判"]
["R009197691","深堀　祥司","３級","フカホリ　ショウジ","男性","S審判"]
["R010027861","福井　康平","３級","フクイ　コウヘイ","男性","S審判"]
["R001260113","福川　寿一","３級","フクカワ　ヒサカズ","男性","S審判"]
["R010178915","福島　瑞季","３級","フクシマ　ミズキ","男性","S審判"]
["R010099458","福原　元希","３級","フクハラ　ゲンキ","男性","S審判"]
["R001264447","福元　研治","３級","フクモト　ケンジ","男性","S審判"]
["R008798183","藤田　和也","３級","フジタ　カズヤ","男性","S審判"]
["R008798217","藤本　勝爾","３級","フジモト　カツジ","男性","S審判"]
["R007753819","藤本　洋","３級","フジモト　ヒロシ","男性","S審判"]
["R001264474","藤原　達郎","３級","フジワラ　タツロウ","男性","S審判"]
["R007335288","藤原　大輔","３級","フジワラ　ダイスケ","男性","S審判"]
["R010027860","藤原　佑史朗","３級","フジワラ　ユウシロウ","男性","S審判"]
["R003421772","藤原　龍司","３級","フジワラ　リュウジ","男性","S審判"]
["R001264483","渕　辰雄","３級","フチ　タツオ","男性","S審判"]
["R004060189","古川　高","３級","フルカワ　タカシ","男性","S審判"]
["R001600205","古戸　雅崇","３級","フルト　マサタカ","男性","S審判"]
["R001264508","古畑　葵","３級","フルハタ　アオイ","男性","S審判"]
["R001264492","古畑　翼","３級","フルハタ　ツバサ","男性","S審判"]
["R005336104","古元　準一郎","３級","フルモト　ジュンイチロウ","男性","S審判"]
["R010214558","分藤　真央","３級","ブンドウ　マオ","男性","S審判"]
["R005987050","星野　敦","３級","ホシノ　アツシ","男性","S審判"]
["R003351288","保月　寿智","３級","ホヅキ　トシアキ","男性","S審判"]
["R006112343","堀内　信敏","３級","ホリウチ　ノブトシ","男性","S審判"]
["R010074297","堀口　隆志","３級","ホリグチ　タカシ","男性","S審判"]
["R006574066","本田　和也","３級","ホンダ　カズヤ","男性","S審判"]
["R002530310","本多　裕介","３級","ホンダ　ユウスケ","男性","S審判"]
["R010127606","本戸　峰","３級","ホンド　ミネオ","男性","S審判"]
["R007003422","前田　篤史","３級","マエダ　トクフミ","男性","S審判"]
["R001260557","マガリェンス　リシャルドソン","３級","マガリェンス　リシャルドソン","男性","S審判"]
["R001264544","牧　和志","３級","マキ　カズシ","男性","S審判"]
["R007002733","柾木　洋平","３級","マサキ　ヨウヘイ","男性","S審判"]
["R009547115","桝永　龍己","３級","マスナガ　リュウキ","男性","S審判"]
["R010390127","松井　璃音","３級","マツイ　リオン","女性","S審判"]
["R003421736","松浦　将志","３級","マツウラ　マサシ","男性","S審判"]
["R010093436","松尾　達也","３級","マツオ　タツヤ","男性","S審判"]
["R005987555","松崎　智則","３級","マツザキ　トモノリ","男性","S審判"]
["R004793816","松下　明史","３級","マツシタ　アキフミ","男性","S審判"]
["R004055479","松下　昌史","３級","マツシタ　マサフミ","男性","S審判"]
["R007335303","松田　稜","３級","マツダ　リョウ","男性","S審判"]
["R005987564","松野　祐太","３級","マツノ　ユウタ","男性","S審判"]
["R009408737","松原　亜衣","３級","マツバラ　アイ","女性","S審判"]
["R006220916","松原　慎也","３級","マツバラ　シンヤ","男性","S審判"]
["R001264562","松本　光将","３級","マツモト　ミツマサ","男性","S審判"]
["R004060259","松本　祐輔","３級","マツモト　ユウスケ","男性","S審判"]
["R008481113","松山　和寛","３級","マツヤマ　カズヒロ","男性","S審判"]
["R006011372","松山　大二郎","３級","マツヤマ　ダイジロウ","男性","S審判"]
["R001264580","真鍋　裕一","３級","マナベ　ユウイチ","男性","S審判"]
["R010264267","馬原　直人","３級","マバル　ナオト","男性","S審判"]
["R008515535","丸尾　諭志","３級","マルオ　サトシ","男性","S審判"]
["R005405699","箕迫　雄介","３級","ミイサコ　ユウスケ","男性","S審判"]
["R007003307","水口　裕太","３級","ミズグチ　ユウタ","女性","S審判"]
["R008174046","溝辺　宏輝","３級","ミゾベ　コウキ","男性","S審判"]
["R002917263","溝邊　祐幸","３級","ミゾベ　ヒロユキ","男性","S審判"]
["R001264605","御手洗　毅","３級","ミタライ　タケシ","男性","S審判"]
["R004793658","光根　明徳","３級","ミツネ　アキノリ","男性","S審判"]
["R001264669","美濃　誠","３級","ミノ　マコト","男性","S審判"]
["R004793764","三原　隼人","３級","ミハラ　ハヤト","男性","S審判"]
["R004112057","都　学志","３級","ミヤコ　サトシ","男性","S審判"]
["R001264687","宮迫　利範","３級","ミヤサコ　トシノリ","男性","S審判"]
["R004385495","宮崎　隆史","３級","ミヤザキ　タカシ","男性","S審判"]
["R010099454","宮田　繁輝","３級","ミヤタ　シゲキ","男性","S審判"]
["R001264696","宮部　修次","３級","ミヤベ　シュウジ","男性","S審判"]
["R001252196","三好　美輝","３級","ミヨシ　ヨシテル","男性","S審判"]
["R001264702","向　直樹","３級","ムカイ　ナオキ","男性","S審判"]
["R010001968","宗岡　弦徳","３級","ムナオカ　ゲントク","男性","S審判"]
["R001264711","村上　一幸","３級","ムラカミ　カズユキ","男性","S審判"]
["R001265118","村上　貴志","３級","ムラカミ　タカシ","男性","S審判"]
["R010390126","村上　遥香","３級","ムラカミ　ハルカ","女性","S審判"]
["R003350854","毛藤　勇三","３級","モウトウ　ユウゾウ","男性","S審判"]
["R001252220","毛利　明博","３級","モウリ　アキヒロ","男性","S審判"]
["R007705326","用松　修平","３級","モチマツ　シュウヘイ","男性","S審判"]
["R008173861","本末　総治朗","３級","モトスエ　ソウジロウ","男性","S審判"]
["R002530851","本杉　拓也","３級","モトスギ　タクヤ","男性","S審判"]
["R010376370","元永　許一郎","３級","モトナガ　ユウイチロウ","男性","S審判"]
["R010189258","森　健太","３級","モリ　ケンタ","男性","S審判"]
["R007002779","森下　洋一","３級","モリシタ　ヨウイチ","男性","S審判"]
["R008634636","森山　幸介","３級","モリヤマ　コウスケ","男性","S審判"]
["R001261398","森山　信浩","３級","モリヤマ　ノブヒロ","男性","S審判"]
["R008798457","薬師寺　翔","３級","ヤクシジ　ショウ","男性","S審判"]
["R008798314","薬師寺　亮太","３級","ヤクシジ　リョウタ","男性","S審判"]
["R010190754","八坂　柊","３級","ヤサカ　シュウ","男性","S審判"]
["R001264766","矢﨑　年勝","３級","ヤザキ　トシカツ","男性","S審判"]
["R001264775","屋敷　伴幸","３級","ヤシキ　トモユキ","男性","S審判"]
["R001264784","安枝　良二","３級","ヤスエダ　リョウジ","男性","S審判"]
["R006093987","保田　薫","３級","ヤスダ　カオル","男性","S審判"]
["R005527308","柳井　孝則","３級","ヤナイ　タカノリ","男性","S審判"]
["R004793825","柳川　知也","３級","ヤナガワ　トモナリ","男性","S審判"]
["R001261477","柳本　剛","３級","ヤナギモト　タケシ","男性","S審判"]
["R009197594","柳元　哲哉","３級","ヤナギモト　テツヤ","男性","S審判"]
["R003972443","矢野　三千生","３級","ヤノ　ミチオ","男性","S審判"]
["R008537139","矢羽田　崇","３級","ヤハタ　タカシ","男性","S審判"]
["R004747206","山　大祐","３級","ヤマ　ダイスケ","男性","S審判"]
["R001965713","山崎　和也","３級","ヤマサキ　カズヤ","男性","S審判"]
["R010240533","山﨑　典保","３級","ヤマサキ　ノリヤス","男性","S審判"]
["R010363046","山崎　雅人","３級","ヤマザキ　マサト","男性","S審判"]
["R006147145","山下　省二","３級","ヤマシタ　ショウジ","男性","S審判"]
["R007753606","山下　直一","３級","ヤマシタ　ナオカズ","男性","S審判"]
["R010189260","山下　泰明","３級","ヤマシタ　ヤスアキ","男性","S審判"]
["R001261653","山田　真二","３級","ヤマダ　シンジ","男性","S審判"]
["R004112011","山田　裕一","３級","ヤマダ　ユウイチ","男性","S審判"]
["R001252293","山中　早一郎","３級","ヤマナカ　ソウイチロウ","男性","S審判"]
["R001264809","山野内　哲朗","３級","ヤマノウチ　テツロウ","男性","S審判"]
["R005164358","山宮　俊寛","３級","ヤマミヤ　トシヒロ","男性","S審判"]
["R005603486","山本　篤","３級","ヤマモト　アツシ","男性","S審判"]
["R010189296","山本　和真","３級","ヤマモト　カズマ","男性","S審判"]
["R010281871","山本　青","３級","ヤマモト　ジョウ","男性","S審判"]
["R001252336","山本　貴志","３級","ヤマモト　タカシ","男性","S審判"]
["R003351093","山本　哲司","３級","ヤマモト　テツジ","男性","S審判"]
["R004111562","山本　悠司","３級","ヤマモト　ユージ","男性","S審判"]
["R001264836","幸　靖博","３級","ユキ　ヤスヒロ","男性","S審判"]
["R001261778","湯田　浩士","３級","ユダ　コウジ","男性","S審判"]
["R008515553","柚木　徹也","３級","ユルギ　テツヤ","男性","S審判"]
["R003421374","横山　解史","３級","ヨコヤマ　トキフミ","男性","S審判"]
["R010382662","吉賀　洸貴","３級","ヨシガ　コウキ","男性","S審判"]
["R001261802","吉賀　智彦","３級","ヨシガ　トモヒコ","男性","S審判"]
["R001264854","吉田　栄治","３級","ヨシダ　エイジ","男性","S審判"]
["R010120115","吉田　和雅","３級","ヨシダ　カズノリ","男性","S審判"]
["R008173728","吉田　享宏","３級","ヨシダ　タカヒロ","男性","S審判"]
["R003972665","吉田　大助","３級","ヨシダ　ダイスケ","男性","S審判"]
["R010376363","吉田　昌広","３級","ヨシダ　マサヒロ","男性","S審判"]
["R007090686","吉元　健太朗","３級","ヨシモト　ケンタロウ","男性","S審判"]
["R010240571","吉元　剛","３級","ヨシモト　ツヨシ","男性","S審判"]
["R001261954","四辻　隆道","３級","ヨッツジ　タカミチ","男性","S審判"]
["R003421541","四元　厚次","３級","ヨツモト　コウジ","男性","S審判"]
["R003351154","脇　東洋","３級","ワキ　アキヒロ","男性","S審判"]
["R001264872","脇　雄洋","３級","ワキ　カツヒロ","男性","S審判"]
["R006220378","和喜田　拓","３級","ワキタ　タク","男性","S審判"]
["R004386218","和才　幸司","３級","ワサイ　コウジ","男性","S審判"]
["R007757657","渡辺　敬亮","３級","ワタナベ　ケイスケ","男性","S審判"]
["R010007794","渡邉　卓人","３級","ワタナベ　タクト","男性","S審判"]
["R001264915","渡辺　博文","３級","ワタナベ　ヒロフミ","男性","S審判"]
["R001262111","渡辺　陽一郎","３級","ワタナベ　ヨウイチロウ","男性","S審判"]
["R001252390","渡里　賢人","３級","ワタリ　ケント","男性","S審判"]
["R007729070","和田　健一郎","３級","ワダ　ケンイチロウ","男性","S審判"]
["R001264890","和田　健二","３級","ワダ　ケンジ","男性","S審判"]
["R001869127","和田　浩","３級","ワダ　ヒロシ","男性","S審判"]
["R010093470","合澤　慎太郎","４級","アイザワ　シンタロウ","男性","S審判"]
["R010352964","相澤　星空","４級","アイザワ　セナ","男性","S審判"]
["R010159163","相澤　拓也","４級","アイザワ　タクヤ","男性","S審判"]
["R010069876","相田　優弥","４級","アイダ　ユウヤ","男性","S審判"]
["R010303870","相原　良哉","４級","アイバラ　リョウヤ","男性","S審判"]
["R010083876","相部　直輝","４級","アイベ　ナオキ","男性","S審判"]
["R010262588","青松　来樹","４級","アオマツ　ライキ","男性","S審判"]
["R010351386","青山　京志郎","４級","アオヤマ　キョウシロウ","男性","S審判"]
["R010358008","青山　惺也","４級","アオヤマ　ショウヤ","男性","S審判"]
["R010120118","青山　義男","４級","アオヤマ　ヨシオ","男性","S審判"]
["R010189294","赤木　修二","４級","アカギ　シュウジ","男性","S審判"]
["R010396577","赤木　龍雅","４級","アカギ　リュウガ","男性","S審判"]
["R010396550","赤田　椋","４級","アカダ　リョウ","男性","S審判"]
["R001252947","赤星　勝","４級","アカホシ　マサル","男性","S審判"]
["R010376328","赤松　竜矢","４級","アカマツ　タツヤ","男性","S審判"]
["R008174028","赤嶺　一宇","４級","アカミネ　カズタカ","男性","S審判"]
["R010093427","赤峯　慎太郎","４級","アカミネ　シンタロウ","男性","S審判"]
["R010396556","阿賀　匠","４級","アガ　タクミ","男性","S審判"]
["R010386813","秋月　来望","４級","アキヅキ　クルミ","女性","S審判"]
["R005603884","秋月　将吾","４級","アキヅキ　ショウゴ","男性","S審判"]
["R010356145","秋月　信哉","４級","アキヅキ　シンヤ","男性","S審判"]
["R010376364","秋吉　慶汰","４級","アキヨシ　ケイタ","男性","S審判"]
["R010388062","秋吉　仁也","４級","アキヨシ　ジンヤ","男性","S審判"]
["R010248577","秋吉　晃行","４級","アキヨシ　テルユキ","男性","S審判"]
["R010261590","朝来野　叶汰","４級","アサクノ　カナタ","男性","S審判"]
["R001254990","朝山　睦夫","４級","アサヤマ　ムツオ","男性","S審判"]
["R010388041","足達　康平","４級","アシダチ　コウヘイ","男性","S審判"]
["R010390451","朝生　正義","４級","アソウ　セイギ","男性","S審判"]
["R010159172","麻生　大雅","４級","アソウ　タイガ","男性","S審判"]
["R010189281","麻生　佑","４級","アソウ　タスク","男性","S審判"]
["R010356130","麻生　隼翔","４級","アソウ　ハヤト","男性","S審判"]
["R010001949","麻生　凜太郎","４級","アソウ　リンタロウ","男性","S審判"]
["R008798068","足達　亜沙美","４級","アダチ　アサミ","女性","S審判"]
["R010261613","足立　憲星","４級","アダチ　ケンセイ","男性","S審判"]
["R010093502","足立　聡","４級","アダチ　サトシ","男性","S審判"]
["R010347383","安達　隼平","４級","アダチ　シュンペイ","男性","S審判"]
["R010364729","足立　慎之介","４級","アダチ　シンノスケ","男性","S審判"]
["R010376316","安達　勉","４級","アダチ　ツトム","男性","S審判"]
["R010396578","足立　尚隆","４級","アダチ　ナオタカ","男性","S審判"]
["R002384100","足立　望","４級","アダチ　ノゾミ","女性","S審判"]
["R008798208","安達　正信","４級","アダチ　マサノブ","男性","S審判"]
["R010358013","安達　陸人","４級","アダチ　リクト","男性","S審判"]
["R008626673","足立　龍星","４級","アダチ　リュウセイ","男性","S審判"]
["R010391961","穴井　康太","４級","アナイ　コウタ","男性","S審判"]
["R010281845","穴井　己登","４級","アナイ　コト","男性","S審判"]
["R010347381","穴井　翼","４級","アナイ　ツバサ","男性","S審判"]
["R010347378","穴井　拓翔","４級","アナイ　ヒロト","男性","S審判"]
["R010415913","穴井　優斗","４級","アナイ　ユウト","男性","S審判"]
["R010262586","阿南　弘毅","４級","アナミ　コウキ","男性","S審判"]
["R010262589","阿南　琢磨","４級","アナミ　タクマ","男性","S審判"]
["R010281862","阿南　理奈","４級","アナミ　リナ","女性","S審判"]
["R010376330","阿南　広太朗","４級","アナン　コウタロウ","男性","S審判"]
["R010396511","阿南　天馬","４級","アナン　テンマ","男性","S審判"]
["R010352942","姉川　光一朗","４級","アネカワ　コウイチロウ","男性","S審判"]
["R010354792","阿部　吾幌","４級","アベ　アポロ","男性","S審判"]
["R010388048","阿部　佑京","４級","アベ　ウキョウ","男性","S審判"]
["R010093439","阿部　和明","４級","アベ　カズアキ","男性","S審判"]
["R010376276","阿部　和輝","４級","アベ　カズキ","男性","S審判"]
["R010376299","阿部　斡汰","４級","アベ　カンタ","男性","S審判"]
["R010396564","阿部　凱斗","４級","アベ　ガイト","男性","S審判"]
["R010056099","安部　杏介","４級","アベ　キョウスケ","男性","S審判"]
["R010396552","阿部　賢次","４級","アベ　ケンジ","男性","S審判"]
["R010167792","安部　航生","４級","アベ　コウキ","男性","S審判"]
["R001253344","阿部　哲士","４級","アベ　サトシ","男性","S審判"]
["R010262591","安部　秀飛","４級","アベ　シュウト","男性","S審判"]
["R010261601","安部　大空","４級","アベ　ソラ","男性","S審判"]
["R010027824","安部　太貴","４級","アベ　タイキ","男性","S審判"]
["R001253326","阿部　孝之","４級","アベ　タカユキ","男性","S審判"]
["R010364739","安部　大樹","４級","アベ　ダイキ","男性","S審判"]
["R010262592","阿部　翔空","４級","アベ　トウア","男性","S審判"]
["R010376264","阿部　年男","４級","アベ　トシオ","男性","S審判"]
["R010167738","安倍　俊之","４級","アベ　トシユキ","男性","S審判"]
["R010167799","安倍　虎ノ介","４級","アベ　トラノスケ","男性","S審判"]
["R010364717","安倍　喜哉","４級","アベ　ハルキ","男性","S審判"]
["R010314829","安部　湧紀","４級","アベ　ユウキ","男性","S審判"]
["R010364715","安倍　雄太","４級","アベ　ユウタ","男性","S審判"]
["R010396557","安部　雄太","４級","アベ　ユウタ","男性","S審判"]
["R010259438","安部　陸翔","４級","アベ　リクト","男性","S審判"]
["R010415886","阿部　涼","４級","アベ　リョウ","男性","S審判"]
["R010350226","荒川　幸大","４級","アラカワ　コウタ","女性","S審判"]
["R010376266","荒金　洋一","４級","アラガネ　ヒロカズ","男性","S審判"]
["R001253423","荒巻　成志","４級","アラマキ　シゲユキ","男性","S審判"]
["R008798165","荒巻　恭貴","４級","アラマキ　ヤスタカ","男性","S審判"]
["R010298871","新本　空","４級","アラモト　ソラ","男性","S審判"]
["R007002715","有門　寿","４級","アリカド　ヒサシ","男性","S審判"]
["R010071984","有川　陸","４級","アリカワ　リク","男性","S審判"]
["R010189315","有須田　和宏","４級","アリスダ　カズヒロ","男性","S審判"]
["R010261611","有田　啓吾","４級","アリタ　ケイゴ","男性","S審判"]
["R010396506","有田　伸司","４級","アリタ　シンジ","男性","S審判"]
["R010123024","有田　利広","４級","アリタ　トシヒロ","男性","S審判"]
["R010262622","有田　悠真","４級","アリタ　ユウマ","男性","S審判"]
["R010376343","有次　奏太朗","４級","アリツグ　ソウタロウ","男性","S審判"]
["R010364716","有永　京","４級","アリナガ　キョウ","男性","S審判"]
["R010355730","有馬　海斗","４級","アリマ　カイト","男性","S審判"]
["R010159755","有馬　寧音","４級","アリマ　ネネ","女性","S審判"]
["R006125763","有村　光史","４級","アリムラ　コウジ","男性","S審判"]
["R010189282","安達　羽海","４級","アンダチ　ウミ","女性","S審判"]
["R010214574","安達　巧馬","４級","アンダチ　タクマ","男性","S審判"]
["R010356117","安達　帆海","４級","アンダチ　ホノミ","女性","S審判"]
["R010243643","安道　健斗","４級","アンドウ　ケント","男性","S審判"]
["R007959158","安東　弘貴","４級","アンドウ　コウキ","男性","S審判"]
["R010357150","安藤　幸志郎","４級","アンドウ　コウシロウ","男性","S審判"]
["R010047303","安東　湖楠","４級","アンドウ　コナン","男性","S審判"]
["R010376281","安藤　繁","４級","アンドウ　シゲル","男性","S審判"]
["R010243657","安藤　大河","４級","アンドウ　タイガ","男性","S審判"]
["R010352986","安東　泰士","４級","アンドウ　タイシ","男性","S審判"]
["R010120176","安藤　卓也","４級","アンドウ　タクヤ","男性","S審判"]
["R010189293","安東　正樹","４級","アンドウ　マサキ","男性","S審判"]
["R010376354","安藤　将洋","４級","アンドウ　マサヒロ","男性","S審判"]
["R010352995","安東　恭範","４級","アンドウ　ヤスノリ","男性","S審判"]
["R010161902","安藤　幸歩","４級","アンドウ　ユキホ","女性","S審判"]
["R010416216","安藤　梨愛","４級","アンドウ　リア","女性","S審判"]
["R002530383","阿武　志郎","４級","アンノ　シロウ","男性","S審判"]
["R010391948","李　先庸","４級","イ　ソンヨン","男性","S審判"]
["R010390453","井伊　祐月","４級","イイ　ユヅキ","男性","S審判"]
["R001253584","飯倉　洋介","４級","イイクラ　ヨウスケ","男性","S審判"]
["R010281883","飯干　遼飛","４級","イイホシ　リョウト","女性","S審判"]
["R010396546","家長　龍之介","４級","イエナガ　リュウノスケ","男性","S審判"]
["R010352961","五十川　大雅","４級","イカガワ　タイガ","男性","S審判"]
["R010189286","伊賀　隆博","４級","イガ　タカヒロ","男性","S審判"]
["R010347366","池上　剛司","４級","イケガミ　ツヨシ","男性","S審判"]
["R010376338","池上　亮太","４級","イケガミ　リョウタ","男性","S審判"]
["R010355070","池園　大輔","４級","イケゾノ　ダイスケ","男性","S審判"]
["R010255157","池田　康二郎","４級","イケダ　コウジロウ","男性","S審判"]
["R010261588","池田　剛","４級","イケダ　ツヨシ","男性","S審判"]
["R006848873","池田　敏明","４級","イケダ　トシアキ","男性","S審判"]
["R010391943","池田　洋明","４級","イケダ　ヒロアキ","男性","S審判"]
["R005603662","池田　雅俊","４級","イケダ　マサトシ","男性","S審判"]
["R008649124","池田　愛都","４級","イケダ　マナト","男性","S審判"]
["R010347369","池田　未來都","４級","イケダ　ミクト","男性","S審判"]
["R010376302","池田　陸人","４級","イケダ　リクト","男性","S審判"]
["R009460612","池田　亮太郎","４級","イケダ　リョウタロウ","男性","S審判"]
["R006937229","池田　航","４級","イケダ　ワタル","男性","S審判"]
["R010396532","池永　壮佑","４級","イケナガ　ソウスケ","男性","S審判"]
["R010007792","池永　拓矢","４級","イケナガ　タクヤ","男性","S審判"]
["R010390444","池邉　楓","４級","イケベ　カエデ","男性","S審判"]
["R010189318","池邉　晋","４級","イケベ　シン","男性","S審判"]
["R010356113","池辺　青那","４級","イケベ　セナ","男性","S審判"]
["R010281879","池辺　雅也","４級","イケベ　マサヤ","男性","S審判"]
["R010281878","池邉　涼太","４級","イケベ　リョウタ","男性","S審判"]
["R010263778","伊﨑　陸人","４級","イサキ　リクト","男性","S審判"]
["R010347367","諫山　鮎斗","４級","イサヤマ　アユト","男性","S審判"]
["R001253681","石井　重人","４級","イシイ　シゲト","男性","S審判"]
["R004714697","石井　靖彦","４級","イシイ　ヤスヒコ","男性","S審判"]
["R009554629","石井　悠太郎","４級","イシイ　ユウタロウ","男性","S審判"]
["R010243666","石井　優斗","４級","イシイ　ユウト","男性","S審判"]
["R010391913","石井　伶弥","４級","イシイ　レイヤ","男性","S審判"]
["R010167774","石川　旺歩","４級","イシカワ　オウブ","男性","S審判"]
["R009198399","石川　誠司","４級","イシカワ　セイジ","男性","S審判"]
["R010352993","石川　高光","４級","イシカワ　タカミツ","男性","S審判"]
["R010167772","石川　丈陽","４級","イシカワ　トモハル","男性","S審判"]
["R010128064","石川　由覇","４級","イシカワ　ヨシハル","男性","S審判"]
["R010248588","石川　嶺瑠","４級","イシカワ　レアル","男性","S審判"]
["R010281833","石原　壮琉","４級","イシハラ　タケル","男性","S審判"]
["R010120192","石橋　知士","４級","イシバシ　サトシ","男性","S審判"]
["R001253751","石松　大輔","４級","イシマツ　ダイスケ","男性","S審判"]
["R010281873","石本　和廣","４級","イシモト　カズヒロ","男性","S審判"]
["R009546037","石本　琉士","４級","イシモト　リュウト","男性","S審判"]
["R010128075","石元　涼太","４級","イシモト　リョウタ","男性","S審判"]
["R010214555","石本　渉","４級","イシモト　ワタル","男性","S審判"]
["R010415906","泉　颯飛","４級","イズミ　ソウト","男性","S審判"]
["R004714712","和泉　宜幸","４級","イズミ　ノブユキ","男性","S審判"]
["R010376313","泉　佑史朗","４級","イズミ　ユウシロウ","男性","S審判"]
["R010281863","泉　伶飛","４級","イズミ　レイト","男性","S審判"]
["R010354808","磯村　奏太","４級","イソムラ　カナタ","男性","S審判"]
["R009548284","板井　一雄","４級","イタイ　カズオ","男性","S審判"]
["R010120130","板井　俊介","４級","イタイ　シュンスケ","男性","S審判"]
["R010007837","板井　裕樹","４級","イタイ　ヒロキ","男性","S審判"]
["R010396558","板井　優樹","４級","イタイ　ユウキ","男性","S審判"]
["R010120139","板井　遥平","４級","イタイ　ヨウヘイ","男性","S審判"]
["R010159138","一ノ宮　杜環","４級","イチノミヤ　トワ","男性","S審判"]
["R010255165","市原　佳典","４級","イチハラ　ケイスケ","男性","S審判"]
["R001253876","市原　宗久","４級","イチハラ　ムネヒサ","男性","S審判"]
["R010189278","一丸　顕範","４級","イチマル　アキノリ","男性","S審判"]
["R010364737","一万田　翔大","４級","イチマンダ　ショウダイ","男性","S審判"]
["R010016111","一万田　陸","４級","イチマンダ　リク","男性","S審判"]
["R007090808","一法師　直喜","４級","イッポウシ　ナオキ","男性","S審判"]
["R010261617","井手　智貴","４級","イデ　トモキ","男性","S審判"]
["R008797926","出田　武","４級","イデタ　タケシ","男性","S審判"]
["R010281846","伊藤　魁","４級","イトウ　カイ","男性","S審判"]
["R010356120","伊東　啓介","４級","イトウ　ケイスケ","男性","S審判"]
["R010259419","伊東　健一","４級","イトウ　ケンイチ","男性","S審判"]
["R010376272","伊藤　賢治","４級","イトウ　ケンジ","男性","S審判"]
["R010214557","伊東　健太郎","４級","イトウ　ケンタロウ","男性","S審判"]
["R010281832","伊藤　浩介","４級","イトウ　コウスケ","男性","S審判"]
["R007959699","伊東　昇太郎","４級","イトウ　ショウタロウ","男性","S審判"]
["R010386818","伊藤　聖菜","４級","イトウ　セナ","女性","S審判"]
["R010243640","伊東　蒼馬","４級","イトウ　ソウマ","男性","S審判"]
["R008173922","伊藤　鷹応","４級","イトウ　タカマサ","男性","S審判"]
["R010356129","伊東　春道","４級","イトウ　ハルミチ","男性","S審判"]
["R009408898","伊藤　秀征","４級","イトウ　ヒデマサ","男性","S審判"]
["R010416225","伊藤　大翔","４級","イトウ　ヒロト","男性","S審判"]
["R010001953","伊東　龍之介","４級","イトウ　リュウノスケ","男性","S審判"]
["R010128066","伊藤　凜星","４級","イトウ　リンセイ","男性","S審判"]
["R010281816","糸永　泰樹","４級","イトナガ　タイキ","男性","S審判"]
["R010386819","稲生　ひより","４級","イナオ　ヒヨリ","女性","S審判"]
["R010390419","稲吉　椋斗","４級","イナヨシ　リョウト","男性","S審判"]
["R010376267","井野　瑠惟","４級","イノ　ルイ","男性","S審判"]
["R008523312","井上　海","４級","イノウエ　カイ","男性","S審判"]
["R010067951","井上　彩","４級","イノウエ　サヤカ","女性","S審判"]
["R010303896","井上　竣平","４級","イノウエ　シュンペイ","男性","S審判"]
["R001254015","井上　順子","４級","イノウエ　ジュンコ","女性","S審判"]
["R010421579","井上　宗","４級","イノウエ　ソウ","男性","S審判"]
["R010347361","井上　太凱","４級","イノウエ　タイガ","男性","S審判"]
["R010243651","井上　拓哉","４級","イノウエ　タクヤ","男性","S審判"]
["R010141818","井上　直之","４級","イノウエ　ナオユキ","男性","S審判"]
["R010396596","井上　凌汰","４級","イノウエ　リョウタ","男性","S審判"]
["R010421580","井上　倫平","４級","イノウエ　リンペイ","男性","S審判"]
["R010376263","井上　航","４級","イノウエ　ワタル","男性","S審判"]
["R010396526","猪原　虹輝","４級","イハラ　コウキ","男性","S審判"]
["R010354790","猪原　康弘","４級","イハラ　ヤスヒロ","男性","S審判"]
["R010264741","射場　琉聖","４級","イバ　リュウセイ","男性","S審判"]
["R010099449","今川　亮平","４級","イマガワ　リョウヘイ","男性","S審判"]
["R010390449","今津　広大","４級","イマヅ　コウダイ","男性","S審判"]
["R010386817","今村　咲羽","４級","イマムラ　サワ","女性","S審判"]
["R003421356","今村　武広","４級","イマムラ　タケヒロ","男性","S審判"]
["R010141834","今村　蓮","４級","イマムラ　レン","男性","S審判"]
["R006220624","今本　展也","４級","イマモト　ノブヤ","男性","S審判"]
["R010354819","井元　禅","４級","イモト　ゼン","男性","S審判"]
["R010364728","岩尾　和哉","４級","イワオ　カズヤ","男性","S審判"]
["R010352951","岩尾　誠","４級","イワオ　マコト","男性","S審判"]
["R010056098","岩尾　勇吾","４級","イワオ　ユウゴ","男性","S審判"]
["R010248578","岩城　慶樹","４級","イワキ　ヨシキ","男性","S審判"]
["R010120198","岩佐　紘沖","４級","イワサ　ヒロオキ","男性","S審判"]
["R010100663","岩崎　晋也","４級","イワサキ　シンヤ","男性","S審判"]
["R001254185","岩崎　利勝","４級","イワサキ　トシカツ","男性","S審判"]
["R010281861","岩﨑　大翔","４級","イワサキ　ヒロト","男性","S審判"]
["R010056103","岩﨑　嘉人","４級","イワサキ　ヨシト","男性","S審判"]
["R007959176","岩田　進","４級","イワタ　ススム","男性","S審判"]
["R010376292","岩田　拓也","４級","イワタ　タクヤ","男性","S審判"]
["R010396598","岩田　和海","４級","イワタ　ノドカ","女性","S審判"]
["R010306436","岩田　優佑","４級","イワタ　ユウスケ","男性","S審判"]
["R010354796","岩谷　悠ノ介","４級","イワタニ　ユウノスケ","男性","S審判"]
["R010007818","岩戸　敦史","４級","イワト　アツシ","男性","S審判"]
["R010189261","岩永　和馬","４級","イワナガ　カズマ","男性","S審判"]
["R010248575","岩波　大夢","４級","イワナミ　ヒロム","男性","S審判"]
["R010376282","岩野　貴文","４級","イワノ　タカフミ","男性","S審判"]
["R010248570","岩丸　英治","４級","イワマル　エイジ","男性","S審判"]
["R006314464","岩丸　博季","４級","イワマル　ヒロキ","男性","S審判"]
["R010255186","岩本　柊詩","４級","イワモト　シュウタ","男性","S審判"]
["R004111410","上尾　雅彰","４級","ウエオ　マサアキ","男性","S審判"]
["R008480956","植垣　秀人","４級","ウエガキ　ヒデト","男性","S審判"]
["R010159752","植木　莉香","４級","ウエキ　リカ","女性","S審判"]
["R010264734","植木　稜大","４級","ウエキ　リョウタ","男性","S審判"]
["R010391923","上栗　一将","４級","ウエクリ　カズマサ","男性","S審判"]
["R008797944","上田　晃","４級","ウエダ　アキラ","男性","S審判"]
["R010243654","上田　健介","４級","ウエダ　ケンスケ","男性","S審判"]
["R010248034","上田　翔聖","４級","ウエダ　ショウセイ","男性","S審判"]
["R010314811","上田　橙也","４級","ウエダ　トウヤ","男性","S審判"]
["R010415888","上田　源典","４級","ウエダ　モトフミ","男性","S審判"]
["R010356127","上田　龍汰","４級","ウエダ　リュウタ","男性","S審判"]
["R010262649","上野　瑛太","４級","ウエノ　エイタ","男性","S審判"]
["R010390413","上野　玄貴","４級","ウエノ　ゲンキ","男性","S審判"]
["R010358011","上野　蒼","４級","ウエノ　ソウ","男性","S審判"]
["R001251133","上野　貴士","４級","ウエノ　タカシ","男性","S審判"]
["R010093424","植野　亨","４級","ウエノ　トオル","男性","S審判"]
["R010386808","上野　仁胡","４級","ウエノ　ニコ","女性","S審判"]
["R010298867","上野　滉登","４級","ウエノ　ヒロト","男性","S審判"]
["R010376265","上野　真澄","４級","ウエノ　マスミ","男性","S審判"]
["R010313761","上野　亮司","４級","ウエノ　リョウジ","男性","S審判"]
["R010354664","上村　俊介","４級","ウエムラ　シュンスケ","男性","S審判"]
["R007959617","上屋　守","４級","ウエヤ　マモル","男性","S審判"]
["R010376914","宇木　聖二","４級","ウキ　セイジ","男性","S審判"]
["R007728549","内田　公夫","４級","ウチダ　キミオ","男性","S審判"]
["R010396563","内田　颯太","４級","ウチダ　ソウタ","男性","S審判"]
["R010214554","内田　喜久","４級","ウチダ　ノブヒサ","男性","S審判"]
["R010396587","内田　結也","４級","ウチダ　ユウヤ","男性","S審判"]
["R010396602","内田　優月","４級","ウチダ　ユヅキ","女性","S審判"]
["R010189257","内間　安希","４級","ウチマ　ヤスキ","男性","S審判"]
["R010396521","内山　隆寛","４級","ウチヤマ　タカヒロ","男性","S審判"]
["R010376341","内海　優斗","４級","ウツミ　ユウト","男性","S審判"]
["R010391966","有働　洋匡","４級","ウドウ　ヒロタダ","男性","S審判"]
["R008643281","宇野　伍大","４級","ウノ　ゴダイ","男性","S審判"]
["R010214550","梅木　圭一郎","４級","ウメキ　ケイイチロウ","男性","S審判"]
["R010354822","梅木　経成","４級","ウメキ　ノブナリ","男性","S審判"]
["R010313767","梅木　裕斗","４級","ウメキ　ユウト","男性","S審判"]
["R010214530","梅木　悠也","４級","ウメキ　ユウヤ","男性","S審判"]
["R010120178","梅田　竜一","４級","ウメダ　リュウイチ","男性","S審判"]
["R010128054","梅津　瑠暉","４級","ウメヅ　ルキ","男性","S審判"]
["R010261609","梅本　琉衣","４級","ウメモト　ルイ","男性","S審判"]
["R006093729","浦部　信哉","４級","ウラベ　シンヤ","男性","S審判"]
["R010357998","浦邊　剛史","４級","ウラベ　ツヨシ","男性","S審判"]
["R010352945","瓜生　一裕","４級","ウリウ　カズヒロ","男性","S審判"]
["R010354657","漆間　将吾","４級","ウルマ　ショウゴ","男性","S審判"]
["R001254431","漆間　大士","４級","ウルマ　ダイシ","男性","S審判"]
["R010355731","運天　ひかる","４級","ウンテン　ヒカル","男性","S審判"]
["R010391964","江頭　京佑","４級","エガシラ　キョウスケ","男性","S審判"]
["R010255169","江頭　徳也","４級","エガシラ　ノリヤ","男性","S審判"]
["R010120137","江上　智啓","４級","エガミ　トモヒロ","男性","S審判"]
["R010240560","江川　豊輝","４級","エガワ　トヨキ","男性","S審判"]
["R010391938","江口　大貴","４級","エグチ　ダイキ","男性","S審判"]
["R010002119","江隈　健斗","４級","エグマ　ケント","男性","S審判"]
["R010415911","江﨑　晃永","４級","エザキ　コウエイ","男性","S審判"]
["R010027903","江島　修一","４級","エシマ　シュウイチ","男性","S審判"]
["R010169060","江島　礼奈斗","４級","エシマ　レナト","男性","S審判"]
["R010354821","江玉　優河","４級","エダマ　ユウガ","男性","S審判"]
["R004653305","衛藤　和憲","４級","エトウ　カズノリ","男性","S審判"]
["R008634274","江藤　恭平","４級","エトウ　キョウヘイ","男性","S審判"]
["R010262640","江藤　健士朗","４級","エトウ　ケンシロウ","男性","S審判"]
["R010358007","衛藤　航大","４級","エトウ　コウタ","男性","S審判"]
["R010396518","江藤　真一","４級","エトウ　シンイチ","男性","S審判"]
["R005405228","江藤　潤","４級","エトウ　ジュン","男性","S審判"]
["R010352979","衛藤　太作","４級","エトウ　ダイサク","男性","S審判"]
["R010027887","衛藤　利祥","４級","エトウ　トシヒロ","男性","S審判"]
["R007959796","衛藤　智成","４級","エトウ　トモナリ","男性","S審判"]
["R010393994","衛藤　七海","４級","エトウ　ナナミ","女性","S審判"]
["R007728983","衛藤　秀高","４級","エトウ　ヒデタカ","男性","S審判"]
["R010364731","衛藤　恵希","４級","エトウ　ヨシキ","男性","S審判"]
["R010391940","江藤　蓮","４級","エトウ　レン","男性","S審判"]
["R010214452","榎園　峻介","４級","エノキゾノ　シュンスケ","男性","S審判"]
["R010376307","榎本　崇太","４級","エノモト　ソウタ","男性","S審判"]
["R010259436","江本　悠里","４級","エモト　ユウリ","女性","S審判"]
["R010354795","遠藤　翔大","４級","エンドウ　ショウタ","男性","S審判"]
["R003350881","遠藤　朝春","４級","エンドウ　トモハル","男性","S審判"]
["R010352962","遠藤　優翔","４級","エンドウ　ユウト","男性","S審判"]
["R010354650","尾家　幸汰","４級","オイエ　コウタ","男性","S審判"]
["R010364720","笈西　櫂大","４級","オイニシ　カイト","男性","S審判"]
["R001254583","大芦　佳宏","４級","オオアシ　ヨシヒロ","男性","S審判"]
["R010189313","大石　周弥","４級","オオイシ　シュウヤ","男性","S審判"]
["R010313748","大石　純也","４級","オオイシ　ジュンヤ","男性","S審判"]
["R010313760","大石　琢斗","４級","オオイシ　タクト","男性","S審判"]
["R010027883","大石　拓也","４級","オオイシ　タクヤ","男性","S審判"]
["R010376325","オオイシ　マコト","４級","オオイシ　マコト","男性","S審判"]
["R010027821","大石　正雄","４級","オオイシ　マサオ","男性","S審判"]
["R010396507","大内　皓平","４級","オオウチ　コウヘイ","男性","S審判"]
["R010354818","大川　万葉","４級","オオカワ　カズハ","男性","S審判"]
["R010248574","大木本　大輝","４級","オオキモト　タイキ","男性","S審判"]
["R010354656","大久保　宙","４級","オオクボ　ソラ","男性","S審判"]
["R005430163","大久保　広紀","４級","オオクボ　ヒロノリ","男性","S審判"]
["R010351382","大久保　優心","４級","オオクボ　ユウシン","男性","S審判"]
["R010351356","大崎　蒼生","４級","オオサキ　アオイ","男性","S審判"]
["R010189324","大嶋　伊織","４級","オオシマ　イオリ","男性","S審判"]
["R010358005","大嶋　仁翔","４級","オオシマ　マサト","男性","S審判"]
["R010262593","太田　翔陽","４級","オオタ　ショウヨウ","男性","S審判"]
["R010248567","太田　祐希","４級","オオタ　ユウキ","男性","S審判"]
["R010352976","太田　悠斗","４級","オオタ　ユウト","男性","S審判"]
["R010159132","大谷　幸希","４級","オオタニ　コウキ","男性","S審判"]
["R010388043","大谷　宗太郎","４級","オオタニ　ソウタロウ","男性","S審判"]
["R010356128","大谷　琉惺","４級","オオタニ　リュウセイ","男性","S審判"]
["R010376317","大津　匠司","４級","オオツ　ショウジ","男性","S審判"]
["R010162997","大津　響輝","４級","オオツ　ヒビキ","男性","S審判"]
["R010396538","大塚　紀彰","４級","オオツカ　キショウ","男性","S審判"]
["R010358020","大塚　州章","４級","オオツカ　クニアキ","男性","S審判"]
["R010189297","大塚　健斗","４級","オオツカ　ケント","男性","S審判"]
["R010128049","大塚　昇吾","４級","オオツカ　ショウゴ","男性","S審判"]
["R010167737","大塚　誠也","４級","オオツカ　セイヤ","男性","S審判"]
["R005528130","大塚　丈司","４級","オオツカ　タケシ","男性","S審判"]
["R010281805","大塚　雅基","４級","オオツカ　マサキ","男性","S審判"]
["R010415890","大塚　涼平","４級","オオツカ　リョウヘイ","男性","S審判"]
["R010159757","大津留　康代","４級","オオツル　ヤスヨ","女性","S審判"]
["R010243638","大友　開晴","４級","オオトモ　カイセイ","男性","S審判"]
["R010314820","大友　尋平","４級","オオトモ　ジンペイ","男性","S審判"]
["R010390431","大友　響姫","４級","オオトモ　ヒビキ","女性","S審判"]
["R010364699","大野　生牙","４級","オオノ　ショウゴ","男性","S審判"]
["R010390445","大野　琢巳","４級","オオノ　タクミ","男性","S審判"]
["R010120181","大野　楓河","４級","オオノ　フウガ","男性","S審判"]
["R010364714","大野　裕輝","４級","オオノ　ユウキ","男性","S審判"]
["R010376350","大原　凌","４級","オオハラ　リョウ","男性","S審判"]
["R010391922","大星　陸渡","４級","オオボシ　リクト","男性","S審判"]
["R010388061","大見　祥平","４級","オオミ　ショウヘイ","男性","S審判"]
["R010214576","大屋　楓真","４級","オオヤ　フウマ","男性","S審判"]
["R010303883","大山　尚一","４級","オオヤマ　ショウイチ","男性","S審判"]
["R010376297","大山　太郎","４級","オオヤマ　タロウ","男性","S審判"]
["R010214611","岡　正一郎","４級","オカ　ショウイチロウ","男性","S審判"]
["R010352973","岡田　海叶","４級","オカダ　カイト","男性","S審判"]
["R010255182","岡田　一輝","４級","オカダ　カズキ","男性","S審判"]
["R010083849","岡田　幸太郎","４級","オカダ　コウタロウ","男性","S審判"]
["R010027909","岡田　崇","４級","オカダ　タカシ","男性","S審判"]
["R005987412","岡田　隆行","４級","オカダ　タカユキ","男性","S審判"]
["R010352974","岡田　侑栞","４級","オカダ　ユウカ","女性","S審判"]
["R005603200","岡田　涼平","４級","オカダ　リョウヘイ","男性","S審判"]
["R010391965","岡野　凜平","４級","オカノ　リンペイ","男性","S審判"]
["R010141835","岡部　倖介","４級","オカベ　コウスケ","男性","S審判"]
["R010248029","岡部　純大","４級","オカベ　ジュンダイ","男性","S審判"]
["R010391957","岡部　巧武","４級","オカベ　タクム","男性","S審判"]
["R010248028","岡部　敏寛","４級","オカベ　トシヒロ","男性","S審判"]
["R010376290","岡本　英明","４級","オカモト　ヒデアキ","男性","S審判"]
["R010214449","岡本　陸","４級","オカモト　リク","男性","S審判"]
["R010171060","岡本　龍馬","４級","オカモト　リョウマ","男性","S審判"]
["R010376359","緒方　陽也","４級","オガタ　ハルヤ","男性","S審判"]
["R010415912","小川　杏汰","４級","オガワ　キョウタ","男性","S審判"]
["R006901570","小川　健二","４級","オガワ　ケンジ","男性","S審判"]
["R010255177","小川　航平","４級","オガワ　コウヘイ","男性","S審判"]
["R010395194","小川　侑利","４級","オガワ　ユウリ","男性","S審判"]
["R010391951","荻本　翔","４級","オギモト　ショウ","男性","S審判"]
["R010214466","荻本　里那","４級","オギモト　リナ","女性","S審判"]
["R010248589","於久　蒼馬","４級","オク　ソウマ","男性","S審判"]
["R002530286","於久　雅和","４級","オク　マサカズ","男性","S審判"]
["R010355072","奥　遼太朗","４級","オク　リョウタロウ","男性","S審判"]
["R010314808","於久　流絆晟","４級","オク　ルキア","男性","S審判"]
["R010376269","奥薗　将太","４級","オクゾノ　ショウタ","男性","S審判"]
["R010351378","奥田　翔太","４級","オクダ　ショウタ","男性","S審判"]
["R001254972","奥野　真一郎","４級","オクノ　シンイチロウ","男性","S審判"]
["R010027899","奥林　大輔","４級","オクバヤシ　ダイスケ","男性","S審判"]
["R010388055","奥平　大雅","４級","オクヒラ　タイガ","男性","S審判"]
["R010214577","奥藤　誠","４級","オクフジ　マコト","男性","S審判"]
["R010376910","奥村　祐利","４級","オクムラ　ユウト","男性","S審判"]
["R010189264","小栗　貴成","４級","オグリ　タカナリ","男性","S審判"]
["R010415897","長田　知樹","４級","オサダ　トモキ","男性","S審判"]
["R010350237","尾崎　羽菜","４級","オザキ　ハナ","女性","S審判"]
["R010099447","小澤　剛史","４級","オザワ　タケフミ","男性","S審判"]
["R010167739","小田　義也","４級","オダ　アキヤ","男性","S審判"]
["R009546064","小田　邦昭","４級","オダ　クニアキ","男性","S審判"]
["R010167750","小田　晴日","４級","オダ　ハルヒ","男性","S審判"]
["R010364735","小田口　将之","４級","オダグチ　マサユキ","男性","S審判"]
["R010355737","越智　礼雄","４級","オチ　レオン","男性","S審判"]
["R010390443","小野　海斗","４級","オノ　カイト","男性","S審判"]
["R004385936","小野　耕一","４級","オノ　コウイチ","男性","S審判"]
["R010214597","小野　煌平","４級","オノ　コウヘイ","男性","S審判"]
["R010281854","小野　翔希","４級","オノ　ショウキ","男性","S審判"]
["R010281828","小野　将司","４級","オノ　ショウジ","男性","S審判"]
["R010083851","小野　颯真","４級","オノ　ソウマ","男性","S審判"]
["R005527618","小埜　貴之","４級","オノ　タカユキ","男性","S審判"]
["R010243649","小野　徹","４級","オノ　テツ","男性","S審判"]
["R010248584","小野　天海","４級","オノ　テンカ","男性","S審判"]
["R010396530","小野　瞳生","４級","オノ　トウイ","男性","S審判"]
["R010388059","小野　翔希斗","４級","オノ　トキト","男性","S審判"]
["R010313764","小野　仁志","４級","オノ　ヒトシ","男性","S審判"]
["R010120112","小野　広道","４級","オノ　ヒロミチ","男性","S審判"]
["R010093504","小野　裕希","４級","オノ　ユウキ","男性","S審判"]
["R010100673","小野　裕司","４級","オノ　ユウジ","男性","S審判"]
["R010376315","小野　祥弘","４級","オノ　ヨシヒロ","男性","S審判"]
["R010354804","小野　龍ノ介","４級","オノ　リュウノスケ","男性","S審判"]
["R010255158","小野　凌世","４級","オノ　リョウト","男性","S審判"]
["R010357148","小野　蓮斗","４級","オノ　レント","男性","S審判"]
["R010396524","小原　聡倖","４級","オハラ　トシユキ","男性","S審判"]
["R010167812","小原　優斗","４級","オハラ　ユウト","男性","S審判"]
["R010263775","小畑　圭史","４級","オバタ　ケイシ","男性","S審判"]
["R006574048","尾林　秀章","４級","オバヤシ　ヒデアキ","男性","S審判"]
["R010243655","小袋　敦矢","４級","オブクロ　アツヤ","男性","S審判"]
["R010352968","尾本　想太","４級","オモト　ソウタ","男性","S審判"]
["R010175149","織野　絵里","４級","オリノ　エリ","女性","S審判"]
["R010363047","オン　ビョンフン","４級","オン　ビョンフン","男性","S審判"]
["R010388040","甲斐　照","４級","カイ　アキラ","男性","S審判"]
["R005164446","甲斐　一翠","４級","カイ　イッスイ","男性","S審判"]
["R005164613","甲斐　英治","４級","カイ　エイジ","男性","S審判"]
["R010396534","甲斐　宗","４級","カイ　ツカサ","男性","S審判"]
["R010281867","甲斐　茅花紗","４級","カイ　ツバサ","女性","S審判"]
["R010364726","甲斐　智也","４級","カイ　トモヤ","男性","S審判"]
["R005987388","甲斐　直樹","４級","カイ　ナオキ","男性","S審判"]
["R010376275","甲斐　隼","４級","カイ　ハヤテ","男性","S審判"]
["R010027906","甲斐　将虎","４級","カイ　マサト","男性","S審判"]
["R006314455","甲斐　竜二","４級","カイ　リュウジ","男性","S審判"]
["R010391942","甲斐　龍成","４級","カイ　リュウセイ","男性","S審判"]
["R001255281","甲斐　亮介","４級","カイ　リョウスケ","男性","S審判"]
["R010214529","加賀　寿一","４級","カガ　トシカズ","男性","S審判"]
["R010262594","香川　航汰","４級","カガワ　コウタ","男性","S審判"]
["R010189343","香川　真弓","４級","カガワ　マユミ","女性","S審判"]
["R005987397","香川　豊","４級","カガワ　ユタカ","男性","S審判"]
["R010390414","垣内　太陽","４級","カキウチ　タイヨウ","男性","S審判"]
["R010281844","柿原　康生","４級","カキハラ　コウセイ","男性","S審判"]
["R010364700","賀来　由羅","４級","カク　ユラ","男性","S審判"]
["R010347377","鹿毛　雅人","４級","カゲ　マサト","男性","S審判"]
["R006093923","笠野　泰良","４級","カサノ　タイラ","男性","S審判"]
["R007753581","笠野　大瑚","４級","カサノ　ダイゴ","男性","S審判"]
["R009545913","笠村　大","４級","カサムラ　ヒロシ","男性","S審判"]
["R010214467","笠村　凜","４級","カサムラ　リン","女性","S審判"]
["R010396539","加島　兼大","４級","カシマ　ケンタ","男性","S審判"]
["R010007813","加治　周也","４級","カジ　シュウヤ","男性","S審判"]
["R001255342","梶川　正和","４級","カジカワ　マサカズ","男性","S審判"]
["R010396527","梶本　滉稀","４級","カジモト　コウキ","男性","S審判"]
["R010281841","梶原　明空","４級","カジワラ　アス","男性","S審判"]
["R010303892","梶原　啓史","４級","カジワラ　ケイシ","男性","S審判"]
["R010376322","梶原　宏介","４級","カジワラ　コウスケ","男性","S審判"]
["R010007838","梶原　孝平","４級","カジワラ　コウヘイ","男性","S審判"]
["R010287222","梶原　天裕","４級","カジワラ　テンユウ","男性","S審判"]
["R010120174","梶原　規史","４級","カジワラ　ノリフミ","男性","S審判"]
["R010313766","片山　達郎","４級","カタヤマ　タツロウ","男性","S審判"]
["R008634593","片山　雄一","４級","カタヤマ　ユウイチ","男性","S審判"]
["R010214621","加田　真","４級","カダ　マコ","女性","S審判"]
["R010156504","勝木　翔也","４級","カツキ　ショウヤ","男性","S審判"]
["R010391949","勝原　楓雅","４級","カツハラ　フウガ","男性","S審判"]
["R010167782","葛城　征吾","４級","カツラギ　セイゴ","男性","S審判"]
["R010390440","桂木　颯斗","４級","カツラギ　ハヤト","男性","S審判"]
["R010189041","加藤　治","４級","カトウ　オサム","男性","S審判"]
["R010376306","加藤　煌大","４級","カトウ　コウタ","男性","S審判"]
["R010396549","加藤　晴久","４級","カトウ　ハルヒサ","男性","S審判"]
["R008797865","加藤　弘明","４級","カトウ　ヒロアキ","男性","S審判"]
["R010364723","門脇　健太","４級","カドワキ　ケンタ","男性","S審判"]
["R010314813","金丸　尚輝","４級","カナマル　ナオキ","男性","S審判"]
["R010156522","金森　海樹","４級","カナモリ　カイキ","男性","S審判"]
["R010255162","金山　斗和","４級","カナヤマ　トワ","男性","S審判"]
["R010396582","金田　智朗","４級","カネダ　トモアキ","男性","S審判"]
["R010376294","株根　聖太","４級","カブネ　キヨタ","男性","S審判"]
["R010386804","壁村　千尋","４級","カベムラ　チヒロ","女性","S審判"]
["R010167744","鎌田　大夢","４級","カマダ　ヒロム","男性","S審判"]
["R010347386","神川　翔平","４級","カミカワ　ショウヘイ","男性","S審判"]
["R010391931","神園　直矢","４級","カミゾノ　ナオヤ","男性","S審判"]
["R010027818","紙谷　昌弥","４級","カミタニ　マサヤ","男性","S審判"]
["R010347382","上西　相輝","４級","カミニシ　アイキ","男性","S審判"]
["R010416218","神山　葵","４級","カミヤマ　アオイ","女性","S審判"]
["R010396528","亀井　文子","４級","カメイ　アヤコ","女性","S審判"]
["R010364710","亀井　一起","４級","カメイ　カズキ","男性","S審判"]
["R005603282","亀山　万生","４級","カメヤマ　タカオ","男性","S審判"]
["R010256872","鴨川　奨","４級","カモガワ　ショウ","男性","S審判"]
["R010415900","萱島　竜也","４級","カヤシマ　タツヤ","男性","S審判"]
["R010262650","萱島　飛瑠","４級","カヤシマ　ヒカリ","男性","S審判"]
["R010352950","萱島　良太","４級","カヤシマ　リョウタ","男性","S審判"]
["R005603811","苅野　雄一","４級","カリノ　ユウイチ","男性","S審判"]
["R002917476","河井　寛次郎","４級","カワイ　カンジロウ","男性","S審判"]
["R010386814","河合　瑠彩","４級","カワイ　ルア","女性","S審判"]
["R010376921","川口　将騎","４級","カワグチ　カツキ","男性","S審判"]
["R010248572","川口　航平","４級","カワグチ　コウヘイ","男性","S審判"]
["R010314824","川口　俊輔","４級","カワグチ　シュンスケ","男性","S審判"]
["R010120186","川口　武道","４級","カワグチ　タケミチ","男性","S審判"]
["R010352965","川口　翼","４級","カワグチ　ツバサ","男性","S審判"]
["R010248569","川口　勇騎","４級","カワグチ　ユウキ","男性","S審判"]
["R010281803","川嶋　佳菜","４級","カワシマ　カナ","女性","S審判"]
["R010347373","河津　柊志","４級","カワズ　シュウジ","男性","S審判"]
["R010415898","河津　魁羅","４級","カワヅ　カイラ","男性","S審判"]
["R010261604","川津　楓京","４級","カワヅ　フウケイ","男性","S審判"]
["R010386810","川手　茉央","４級","カワテ　マオ","女性","S審判"]
["R005405282","川浪　健司","４級","カワナミ　ケンジ","男性","S審判"]
["R010421578","川浪　尚人","４級","カワナミ　ナオト","男性","S審判"]
["R010159751","川浪　実歩","４級","カワナミ　マホ","女性","S審判"]
["R010189268","河野　功寛","４級","カワノ　カツヒロ","男性","S審判"]
["R010354654","河野　孝誠","４級","カワノ　コウセイ","男性","S審判"]
["R010093451","川野　剛","４級","カワノ　ゴウ","男性","S審判"]
["R006220606","河野　成利","４級","カワノ　シゲトシ","男性","S審判"]
["R010396561","川野　陣","４級","カワノ　ジン","男性","S審判"]
["R010354667","河野　拓真","４級","カワノ　タクマ","男性","S審判"]
["R010415887","河野　拓巳","４級","カワノ　タクミ","男性","S審判"]
["R010189263","河野　徹郎","４級","カワノ　テツロウ","男性","S審判"]
["R010027894","河野　斗馬","４級","カワノ　トウマ","男性","S審判"]
["R010390422","河野　桐也","４級","カワノ　トウヤ","男性","S審判"]
["R010357999","川野　凪佐","４級","カワノ　ナギサ","男性","S審判"]
["R010159139","川野　愛琉","４級","カワノ　ナル","男性","S審判"]
["R010396562","川野　迅翔","４級","カワノ　ハヤト","男性","S審判"]
["R010391915","河野　晴輝","４級","カワノ　ハルキ","男性","S審判"]
["R010415903","河野　遥己","４級","カワノ　ハルキ","男性","S審判"]
["R010376293","河野　仁志","４級","カワノ　ヒトシ","男性","S審判"]
["R010364721","河野　大夢","４級","カワノ　ヒロム","男性","S審判"]
["R010214586","河野　真裟斗","４級","カワノ　マサト","男性","S審判"]
["R010214566","河野　大和","４級","カワノ　ヤマト","男性","S審判"]
["R010214628","川野　裕貴","４級","カワノ　ユウキ","男性","S審判"]
["R010262595","川野　竜聖","４級","カワノ　リュウセイ","男性","S審判"]
["R010358015","河野　琉星","４級","カワノ　リュウセイ","男性","S審判"]
["R010355735","川野　凌斗","４級","カワノ　リョウト","男性","S審判"]
["R010358016","川野　諒弥","４級","カワノ　リョウヤ","男性","S審判"]
["R010415885","川端　孝彦","４級","カワバタ　タカヒコ","男性","S審判"]
["R010376904","川端　輝","４級","カワバタ　ヒカル","男性","S審判"]
["R010388050","川端　大翔","４級","カワバタ　ヒロト","男性","S審判"]
["R010357147","川端　正倫","４級","カワバタ　マサミチ","男性","S審判"]
["R010355736","川畑　怜央","４級","カワバタ　レオ","男性","S審判"]
["R010358012","川邊　勝太","４級","カワベ　ショウタ","男性","S審判"]
["R009198487","川邉　太一朗","４級","カワベ　タイチロウ","男性","S審判"]
["R010396583","川邊　智己","４級","カワベ　トモキ","男性","S審判"]
["R010352999","川邉　裕也","４級","カワベ　ユウヤ","男性","S審判"]
["R005405264","河村　航大","４級","カワムラ　コウダイ","男性","S審判"]
["R010396560","河村　長雲","４級","カワムラ　チョウウン","男性","S審判"]
["R006220129","河村　哲二","４級","カワムラ　テツジ","男性","S審判"]
["R001255908","河村　信善","４級","カワムラ　ノブヨシ","男性","S審判"]
["R010248035","河村　拓飛","４級","カワムラ　ヒロト","男性","S審判"]
["R001251434","川村　祐一","４級","カワムラ　ユウイチ","男性","S審判"]
["R010396525","河村　陽平","４級","カワムラ　ヨウヘイ","男性","S審判"]
["R010161901","河面　瑠治","４級","カワモ　リュウジ","男性","S審判"]
["R010033126","管　拓哉","４級","カン　タクヤ","男性","S審判"]
["R010159144","神崎　一途","４級","カンザキ　イット","男性","S審判"]
["R010255161","神崎　竜之介","４級","カンザキ　タツノスケ","男性","S審判"]
["R010396520","神崎　大輔","４級","カンザキ　ダイスケ","男性","S審判"]
["R010390411","神田　脩汰","４級","カンダ　シュウタ","男性","S審判"]
["R010376303","神田　崇","４級","カンダ　タカシ","男性","S審判"]
["R008798101","神田　毅","４級","カンダ　タケシ","男性","S審判"]
["R010396529","神田　武志","４級","カンダ　タケシ","男性","S審判"]
["R010243659","神田　北斗","４級","カンダ　ホクト","男性","S審判"]
["R010303874","神田　陸","４級","カンダ　リク","男性","S審判"]
["R009554610","神田　陸翔","４級","カンダ　リクト","男性","S審判"]
["R001255953","菊田　興太郎","４級","キクタ　コウタロウ","男性","S審判"]
["R003972586","菊地　誠","４級","キクチ　マコト","男性","S審判"]
["R010354793","菊池　陸斗","４級","キクチ　リクト","男性","S審判"]
["R010214551","菊地　隆之輔","４級","キクチ　リュウノスケ","男性","S審判"]
["R001255980","木嶋　高行","４級","キシマ　タカユキ","男性","S審判"]
["R010313776","北河　祐一","４級","キタガワ　ユウイチ","男性","S審判"]
["R010364722","北崎　誠弥","４級","キタザキ　セイヤ","男性","S審判"]
["R008798147","木谷　大希","４級","キタニ　ダイキ","男性","S審判"]
["R010099459","北原　隆広","４級","キタハラ　タカヒロ","男性","S審判"]
["R010261591","北山　匠悟","４級","キタヤマ　ショウゴ","男性","S審判"]
["R010071971","喜田　潤一","４級","キダ　ジュンイチ","男性","S審判"]
["R010281848","喜田　智也","４級","キダ　トモヤ","男性","S審判"]
["R010214583","木津　浩太","４級","キヅ　コウタ","男性","S審判"]
["R010214584","木津　春歌","４級","キヅ　ハルカ","女性","S審判"]
["R001256004","岐津　宏史","４級","キヅ　ヒロフミ","男性","S審判"]
["R009369678","木戸　雄登","４級","キド　ユウト","男性","S審判"]
["R001256031","木下　和夫","４級","キノシタ　カズオ","男性","S審判"]
["R010396543","木下　広貴","４級","キノシタ　コウキ","男性","S審判"]
["R010262654","木下　遥己","４級","キノシタ　ハルキ","男性","S審判"]
["R008798138","木下　秀紀","４級","キノシタ　ヒデキ","男性","S審判"]
["R010356143","木原　将和","４級","キハラ　マサカズ","男性","S審判"]
["R001256068","岐部　裕二","４級","キベ　ユウジ","男性","S審判"]
["R010243648","木部　椋介","４級","キベ　リョウスケ","男性","S審判"]
["R010248580","木村　一平","４級","キムラ　イッペイ","男性","S審判"]
["R001251498","木村　竜吉","４級","キムラ　タツヨシ","男性","S審判"]
["R010416217","木村　美羽","４級","キムラ　ミワ","女性","S審判"]
["R010396513","木村　幹","４級","キムラ　モトキ","男性","S審判"]
["R010281806","木村　凌","４級","キムラ　リョウ","男性","S審判"]
["R010159181","木村　玲音","４級","キムラ　レオ","男性","S審判"]
["R010243650","木本　蒼翔","４級","キモト　アオト","男性","S審判"]
["R008634645","木本　隆之","４級","キモト　タカユキ","男性","S審判"]
["R010376351","清川　克幸","４級","キヨカワ　カツユキ","男性","S審判"]
["R010347362","清竹　波月","４級","キヨタケ　ハツキ","男性","S審判"]
["R010351390","清原　拓馬","４級","キヨハラ　タクマ","男性","S審判"]
["R010281797","清原　勇二","４級","キヨハラ　ユウジ","男性","S審判"]
["R010415896","清原　耀","４級","キヨハラ　ヨウ","男性","S審判"]
["R010255164","清松　創史","４級","キヨマツ　ソウシ","男性","S審判"]
["R010416215","吉良　星音","４級","キラ　シオン","女性","S審判"]
["R010261615","吉良　匡弘","４級","キラ　マサヒロ","男性","S審判"]
["R010159169","吉良　唯人","４級","キラ　ユイト","男性","S審判"]
["R001256183","吉良　陽平","４級","キラ　ヨウヘイ","男性","S審判"]
["R010393996","行部　心彩","４級","ギョウブ　ココロ","女性","S審判"]
["R010386821","行部　光咲","４級","ギョウブ　ヒカル","女性","S審判"]
["R010156515","釘宮　潤也","４級","クギミヤ　ジュンヤ","男性","S審判"]
["R010189291","釘宮　孝史","４級","クギミヤ　タカシ","男性","S審判"]
["R010248041","釘宮　翼","４級","クギミヤ　ツバサ","男性","S審判"]
["R010071957","釘宮　包青","４級","クギミヤ　ホウセイ","男性","S審判"]
["R010262596","釘宮　零士","４級","クギミヤ　レイジ","男性","S審判"]
["R010262620","久家　瑞樹","４級","クゲ　ミズキ","男性","S審判"]
["R010354661","日下　拓人","４級","クサカ　タクト","男性","S審判"]
["R010214630","草野　勝氣","４級","クサノ　ショウキ","男性","S審判"]
["R010093495","草野　大輝","４級","クサノ　ヒロキ","男性","S審判"]
["R010313754","櫛野　理弘","４級","クシノ　ミチヒロ","男性","S審判"]
["R010128058","楠田　桜大","４級","クスダ　オウタ","男性","S審判"]
["R010334503","楠　明日香","４級","クスノキ　アスカ","女性","S審判"]
["R010351368","楠元　和馬","４級","クスモト　カズマ","男性","S審判"]
["R010240555","楠本　祥彦","４級","クスモト　ヤスヒコ","男性","S審判"]
["R010376336","沓掛　聖和","４級","クツカケ　セナ","男性","S審判"]
["R010214578","工藤　歩","４級","クドウ　アユム","男性","S審判"]
["R010261616","工藤　大昌","４級","クドウ　タイショウ","男性","S審判"]
["R009546116","工藤　忠弘","４級","クドウ　タダヒロ","男性","S審判"]
["R010298861","工藤　辰哉","４級","クドウ　タツヤ","男性","S審判"]
["R010357151","工藤　翼","４級","クドウ　ツバサ","男性","S審判"]
["R010386805","工藤　晴瑠","４級","クドウ　ハル","女性","S審判"]
["R001256253","工藤　洋","４級","クドウ　ヒロシ","男性","S審判"]
["R007686252","工藤　史哲","４級","クドウ　フミアキ","男性","S審判"]
["R001256244","工藤　光範","４級","クドウ　ミツノリ","男性","S審判"]
["R010083877","工藤　大和","４級","クドウ　ヤマト","男性","S審判"]
["R010396522","工藤　竜世","４級","クドウ　リュウセイ","男性","S審判"]
["R010162988","国広　雄陽","４級","クニヒロ　ユウヒ","男性","S審判"]
["R010214468","久保　花暖","４級","クボ　カノン","女性","S審判"]
["R008793249","久保　茂樹","４級","クボ　シゲキ","男性","S審判"]
["R010376344","久保　翔太郎","４級","クボ　ショウタロウ","男性","S審判"]
["R009197947","久保　大翼","４級","クボ　ダイスケ","男性","S審判"]
["R007753624","久保　湧雅","４級","クボ　ユウマ","男性","S審判"]
["R010396541","久保　幸弥","４級","クボ　ユキヤ","男性","S審判"]
["R010352939","久保田　智史","４級","クボタ　サトシ","男性","S審判"]
["R010128069","窪田　龍","４級","クボタ　リュウ","男性","S審判"]
["R010027820","久保山　崇","４級","クボヤマ　タカシ","男性","S審判"]
["R004794310","熊谷　圭太","４級","クマガイ　ケイタ","男性","S審判"]
["R010083864","熊谷　遼","４級","クマガイ　リョウ","男性","S審判"]
["R010303891","熊谷　誠起","４級","クマガエ　マサキ","男性","S審判"]
["R010358009","蔵原　青吾","４級","クラハラ　セイゴ","男性","S審判"]
["R010255191","倉原　侑也","４級","クラハラ　ユウヤ","男性","S審判"]
["R010376268","倉原　蓮","４級","クラハラ　レン","男性","S審判"]
["R010391937","倉盛　雅基","４級","クラモリ　マサキ","男性","S審判"]
["R010313770","黒木　幹太","４級","クロキ　カンタ","男性","S審判"]
["R010281807","黒木　一輝","４級","クロギ　カズキ","男性","S審判"]
["R010364727","黒田　航世","４級","クロダ　コウセイ","男性","S審判"]
["R010386822","黒田　珠樺","４級","クロダ　ジュカ","女性","S審判"]
["R010248040","桑原　誓良","４級","クワバラ　セイラ","男性","S審判"]
["R001256387","桑原　剛志","４級","クワバラ　ツヨシ","男性","S審判"]
["R010027910","桑原　正行","４級","クワバラ　マサユキ","男性","S審判"]
["R010214595","小泉　斗眞","４級","コイズミ　トウマ","男性","S審判"]
["R010255153","小岩　晴久","４級","コイワ　ハルヒサ","男性","S審判"]
["R010391959","高　昇辰","４級","コウ　スンジン","男性","S審判"]
["R010189321","神志那　公市","４級","コウジナ　コウイチ","男性","S審判"]
["R010281843","江田　秀斗","４級","コウダ　シュウト","男性","S審判"]
["R010313771","河野　歩","４級","コウノ　アユム","男性","S審判"]
["R010364701","河野　光成","４級","コウノ　コウセイ","男性","S審判"]
["R010396536","河野　誠弥","４級","コウノ　セイヤ","男性","S審判"]
["R010355074","幸野　壮一郎","４級","コウノ　ソウイチロウ","男性","S審判"]
["R010364718","河埜　龍生","４級","コウノ　タツキ","男性","S審判"]
["R001255670","河野　千恵子","４級","コウノ　チエコ","女性","S審判"]
["R010376319","河野　匡視","４級","コウノ　マサシ","男性","S審判"]
["R010334502","河野　萌夏","４級","コウノ　モエカ","女性","S審判"]
["R010396592","河野　悠斗","４級","コウノ　ユウト","男性","S審判"]
["R010189273","高麗　勇輝","４級","コウライ　ユウキ","男性","S審判"]
["R010376271","古賀　嵐士","４級","コガ　アラシ","男性","S審判"]
["R010281849","古賀　渓太郎","４級","コガ　ケイタロウ","男性","S審判"]
["R010347375","古賀　奏太郎","４級","コガ　ソウタロウ","男性","S審判"]
["R010396510","古賀　時宗","４級","コガ　トキムネ","男性","S審判"]
["R002530277","古賀　博喜","４級","コガ　ヒロキ","男性","S審判"]
["R006574206","古賀　雅則","４級","コガ　マサノリ","男性","S審判"]
["R010388053","小久保　咲汰","４級","コクボ　サクタ","男性","S審判"]
["R010162996","小越　憲太郎","４級","コゴシ　ケンタロウ","男性","S審判"]
["R010243646","小坂　駿介","４級","コサカ　シュンスケ","男性","S審判"]
["R010214636","小島　千宙","４級","コジマ　チヒロ","男性","S審判"]
["R010376346","古城　鋼河","４級","コジョウ　コウガ","男性","S審判"]
["R010396586","小杉　青空","４級","コスギ　ソラ","男性","S審判"]
["R009408816","児玉　淳","４級","コダマ　アツシ","男性","S審判"]
["R010386815","児玉　一穂","４級","コダマ　イチホ","女性","S審判"]
["R010357149","児玉　空悟","４級","コダマ　クウゴ","男性","S審判"]
["R010313775","児玉　伸","４級","コダマ　シン","男性","S審判"]
["R010259431","兒玉　颯斗","４級","コダマ　ハヤテ","男性","S審判"]
["R010159131","児玉　勇翔","４級","コダマ　ハヤト","男性","S審判"]
["R010303868","児玉　港都","４級","コダマ　ミナト","男性","S審判"]
["R010169042","児玉　悠介","４級","コダマ　ユウスケ","男性","S審判"]
["R010255183","児玉　勇人","４級","コダマ　ユウト","男性","S審判"]
["R010351354","児玉　理緒","４級","コダマ　リオ","男性","S審判"]
["R010067948","小坪　花楓","４級","コツボ　カエデ","女性","S審判"]
["R010364709","小坪　裕紀","４級","コツボ　ヒロキ","男性","S審判"]
["R010298858","小手川　博俊","４級","コテガワ　ヒロトシ","男性","S審判"]
["R010264269","小手川　豊","４級","コテガワ　ユタカ","男性","S審判"]
["R005528060","小手川　洋介","４級","コテガワ　ヨウスケ","男性","S審判"]
["R004796080","古藤田　和好","４級","コトウダ　カズヨシ","男性","S審判"]
["R001256679","小名川　茂樹","４級","コナガワ　シゲキ","男性","S審判"]
["R010350228","小西　真夕","４級","コニシ　マユ","女性","S審判"]
["R004226712","小林　覚","４級","コバヤシ　サトル","男性","S審判"]
["R010255174","小林　亮太","４級","コバヤシ　リョウタ","男性","S審判"]
["R010261600","小米良　啓太","４級","コメラ　ケイタ","男性","S審判"]
["R010376321","古屋　空知","４級","コヤ　ソラチ","男性","S審判"]
["R010261603","古屋　友晟","４級","コヤ　ユウセイ","男性","S審判"]
["R009460579","古谷　悠汰","４級","コヤ　ユウタ","男性","S審判"]
["R006125587","小屋　良樹","４級","コヤ　ヨシキ","男性","S審判"]
["R010347385","小山　大輝","４級","コヤマ　タイキ","男性","S審判"]
["R010214460","是永　陽翔","４級","コレナガ　ハルト","男性","S審判"]
["R006664855","近藤　孝司","４級","コンドウ　コウジ","男性","S審判"]
["R010376362","近藤　將平","４級","コンドウ　ショウヘイ","男性","S審判"]
["R010303873","近藤　祥真","４級","コンドウ　ショウマ","男性","S審判"]
["R010364732","合田　秀汰","４級","ゴウダ　シュウタ","男性","S審判"]
["R009546091","五所　睦雄","４級","ゴショ　ムツオ","男性","S審判"]
["R010416212","後藤　愛梨","４級","ゴトウ　アイリ","女性","S審判"]
["R010358017","後藤　葵","４級","ゴトウ　アオイ","男性","S審判"]
["R010163001","後藤　快斗","４級","ゴトウ　カイト","男性","S審判"]
["R010099452","後藤　一利","４級","ゴトウ　カズトシ","男性","S審判"]
["R001256572","後藤　儀一郎","４級","ゴトウ　ギイチロウ","男性","S審判"]
["R010067950","後藤　恵子","４級","ゴトウ　ケイコ","女性","S審判"]
["R010354802","後藤　圭梧","４級","ゴトウ　ケイゴ","男性","S審判"]
["R005987519","後藤　慶太郎","４級","ゴトウ　ケイタロウ","男性","S審判"]
["R001256590","後藤　幸治","４級","ゴトウ　コウジ","男性","S審判"]
["R010350229","後藤　紗希","４級","ゴトウ　サキ","女性","S審判"]
["R003421426","後藤　茂好","４級","ゴトウ　シゲヨシ","男性","S審判"]
["R010263773","後藤　修蔵","４級","ゴトウ　シュウゾウ","男性","S審判"]
["R010376917","ごとう　しゅうと","４級","ゴトウ　シュウト","男性","S審判"]
["R003256044","後藤　真一","４級","ゴトウ　シンイチ","男性","S審判"]
["R001256606","後藤　信也","４級","ゴトウ　シンヤ","男性","S審判"]
["R010255175","後藤　颯太","４級","ゴトウ　ソウタ","男性","S審判"]
["R010376352","後藤　颯太","４級","ゴトウ　ソウタ","男性","S審判"]
["R008537111","後藤　拓磨","４級","ゴトウ　タクマ","男性","S審判"]
["R010193704","後藤　健文","４級","ゴトウ　タケフミ","男性","S審判"]
["R005603671","後藤　達也","４級","ゴトウ　タツヤ","男性","S審判"]
["R010391916","後藤　大輝","４級","ゴトウ　ダイキ","男性","S審判"]
["R010306452","後藤　知仁","４級","ゴトウ　トモヒト","男性","S審判"]
["R010263777","後藤　颯天","４級","ゴトウ　ハヤテ","男性","S審判"]
["R001256554","後藤　寿","４級","ゴトウ　ヒサシ","男性","S審判"]
["R010243641","後藤　響","４級","ゴトウ　ヒビキ","男性","S審判"]
["R007090978","後藤　洋彰","４級","ゴトウ　ヒロアキ","男性","S審判"]
["R007959130","後藤　宏之","４級","ゴトウ　ヒロユキ","男性","S審判"]
["R010303884","後藤　文太","４級","ゴトウ　ブンタ","男性","S審判"]
["R010396547","後藤　真弥","４級","ゴトウ　マヒロ","男性","S審判"]
["R010262599","後藤　萌俊","４級","ゴトウ　モエト","男性","S審判"]
["R010354663","後藤　大和","４級","ゴトウ　ヤマト","男性","S審判"]
["R010262600","後藤　勇輝","４級","ゴトウ　ユウキ","男性","S審判"]
["R010396571","後藤　勇飛","４級","ゴトウ　ユウヒ","男性","S審判"]
["R010163012","後藤　雄平","４級","ゴトウ　ユウヘイ","男性","S審判"]
["R010120116","後藤　芳健","４級","ゴトウ　ヨシカツ","男性","S審判"]
["R010364703","後藤　吏温","４級","ゴトウ　リオン","男性","S審判"]
["R010001964","後藤　亮一","４級","ゴトウ　リョウイチ","男性","S審判"]
["R010214572","後藤　伶緒","４級","ゴトウ　レオ","男性","S審判"]
["R010364706","後藤　渉","４級","ゴトウ　ワタル","男性","S審判"]
["R010376289","齋藤　俊孝","４級","サイトウ　トシタカ","男性","S審判"]
["R010354659","齋藤　速人","４級","サイトウ　ハヤト","男性","S審判"]
["R010167810","斉藤　祐輔","４級","サイトウ　ユウスケ","男性","S審判"]
["R008173685","斎藤　亮真","４級","サイトウ　リョウマ","男性","S審判"]
["R010334501","堺　彩葉","４級","サカイ　イロハ","女性","S審判"]
["R010390442","酒井　康輔","４級","サカイ　コウスケ","男性","S審判"]
["R010255192","界　脩二朗","４級","サカイ　シュウジロウ","男性","S審判"]
["R010261598","堺　大桜","４級","サカイ　タイオウ","男性","S審判"]
["R001251577","酒井　隆宏","４級","サカイ　タカヒロ","男性","S審判"]
["R006932525","酒井　泰峰","４級","サカイ　ヤスタカ","男性","S審判"]
["R010281825","酒井　祐樹","４級","サカイ　ユウキ","男性","S審判"]
["R010376353","坂口　太一","４級","サカグチ　タイチ","男性","S審判"]
["R010189326","坂田　大樹","４級","サカタ　ダイキ","男性","S審判"]
["R010347380","坂本　海士朗","４級","サカモト　カイシロウ","男性","S審判"]
["R010347379","坂本　颯士朗","４級","サカモト　ソウシロウ","男性","S審判"]
["R010388052","坂本　晴陽","４級","サカモト　ハル","男性","S審判"]
["R005430048","坂本　正実","４級","サカモト　マサミ","男性","S審判"]
["R010261592","坂本　勇良","４級","サカモト　ユラ","男性","S審判"]
["R010071981","坂本　璃王","４級","サカモト　リオ","男性","S審判"]
["R010283833","坂本　莉音","４級","サカモト　リオン","女性","S審判"]
["R010421577","坂本　陸","４級","サカモト　リク","男性","S審判"]
["R010214446","相良　采和","４級","サガラ　トワ","男性","S審判"]
["R008173746","相良　宣雄","４級","サガラ　ヨシオ","男性","S審判"]
["R009369456","相良　陸","４級","サガラ　リク","男性","S審判"]
["R010376906","桜本　航帆","４級","サクラモト　カズホ","男性","S審判"]
["R010281869","迫　宗次郎","４級","サコ　ソウジロウ","男性","S審判"]
["R010391924","佐々木　新","４級","ササキ　アラタ","男性","S審判"]
["R010281874","指原　健太郎","４級","サシハラ　ケンタロウ","男性","S審判"]
["R010214626","指原　徹志","４級","サシハラ　テツシ","男性","S審判"]
["R010396573","佐田　惇","４級","サダ　アツシ","男性","S審判"]
["R010189039","目　匡弘","４級","サッカ　タダヒロ","男性","S審判"]
["R010240550","里　昂大","４級","サト　タカヒロ","男性","S審判"]
["R010259437","佐藤　愛莉","４級","サトウ　アイリ","女性","S審判"]
["R001257076","佐藤　明","４級","サトウ　アキラ","男性","S審判"]
["R010281887","佐藤　飛鳥","４級","サトウ　アスカ","男性","S審判"]
["R010355075","佐藤　快","４級","サトウ　カイ","男性","S審判"]
["R010364704","佐藤　海斗","４級","サトウ　カイト","男性","S審判"]
["R010376318","佐藤　一史","４級","サトウ　カズシ","男性","S審判"]
["R010303890","佐藤　和彦","４級","サトウ　カズヒコ","男性","S審判"]
["R010416220","佐藤　圭市","４級","サトウ　ケイイチ","男性","S審判"]
["R010352947","佐藤　圭太","４級","サトウ　ケイタ","男性","S審判"]
["R010396579","佐藤　健司","４級","サトウ　ケンジ","男性","S審判"]
["R001976153","佐藤　公亮","４級","サトウ　コウスケ","男性","S審判"]
["R010281835","佐藤　康介","４級","サトウ　コウスケ","男性","S審判"]
["R010396604","佐藤　耕輔","４級","サトウ　コウスケ","男性","S審判"]
["R010281798","佐藤　茂","４級","サトウ　シゲル","男性","S審判"]
["R010248027","佐藤　駿","４級","サトウ　シュン","男性","S審判"]
["R004386306","佐藤　慎也","４級","サトウ　シンヤ","男性","S審判"]
["R010214594","佐藤　隼","４級","サトウ　ジュン","男性","S審判"]
["R010262644","佐藤　颯","４級","サトウ　ソウ","男性","S審判"]
["R010416224","佐藤　大雅","４級","サトウ　タイガ","男性","S審判"]
["R010396523","佐藤　匠人","４級","サトウ　タクト","男性","S審判"]
["R001257085","佐藤　武吉","４級","サトウ　タケヨシ","男性","S審判"]
["R010261605","佐藤　大樹","４級","サトウ　ダイキ","男性","S審判"]
["R010376337","佐藤　直","４級","サトウ　ナオト","男性","S審判"]
["R010396603","佐藤　颯","４級","サトウ　ハヤト","男性","S審判"]
["R010189325","佐藤　遥哉","４級","サトウ　ハルヤ","男性","S審判"]
["R010281827","佐藤　秀昭","４級","サトウ　ヒデアキ","男性","S審判"]
["R001257137","佐藤　秀勝","４級","サトウ　ヒデカツ","男性","S審判"]
["R010189269","佐藤　寛季","４級","サトウ　ヒロキ","男性","S審判"]
["R010354658","佐藤　史典","４級","サトウ　フミノリ","男性","S審判"]
["R010396593","佐藤　諒","４級","サトウ　マコト","男性","S審判"]
["R010376310","佐藤　雅斗吏","４級","サトウ　マサトシ","男性","S審判"]
["R005603389","佐藤　光雄","４級","サトウ　ミツオ","男性","S審判"]
["R010391925","佐藤　祐介","４級","サトウ　ユウスケ","男性","S審判"]
["R010396516","佐藤　侑大","４級","サトウ　ユウタ","男性","S審判"]
["R010243660","佐藤　勇仁","４級","サトウ　ユウト","男性","S審判"]
["R010262601","佐藤　優馬","４級","サトウ　ユウマ","男性","S審判"]
["R010069874","佐藤　佑哉","４級","サトウ　ユウヤ","男性","S審判"]
["R010263772","佐藤　友哉","４級","サトウ　ユウヤ","男性","S審判"]
["R010352970","佐藤　巧基","４級","サトウ　ヨシキ","男性","S審判"]
["R010314823","佐藤　善成","４級","サトウ　ヨシナリ","男性","S審判"]
["R007729210","佐藤　教春","４級","サトウ　ヨシハル","男性","S審判"]
["R010189336","佐藤　陸歩","４級","サトウ　リクト","男性","S審判"]
["R010376270","佐藤　亮平","４級","サトウ　リョウヘイ","男性","S審判"]
["R010351373","佐藤　凜也","４級","サトウ　リンヤ","男性","S審判"]
["R010159142","佐藤　琉稀","４級","サトウ　ルキ","男性","S審判"]
["R010396509","佐藤　蓮太","４級","サトウ　レンタ","男性","S審判"]
["R010388045","實松　祐輝","４級","サネマツ　ユウキ","男性","S審判"]
["R010303869","佐野　圭音","４級","サノ　ケイオン","男性","S審判"]
["R010354816","佐野　翔梧","４級","サノ　ショウゴ","男性","S審判"]
["R010214533","鮫島　裕貴","４級","サメジマ　ユウキ","男性","S審判"]
["R010096806","猿渡　崇史","４級","サルワタリ　タカシ","男性","S審判"]
["R010376311","澤井　駿樂","４級","サワイ　シュンガク","男性","S審判"]
["R010354807","澤井　優翔","４級","サワイ　ユウト","男性","S審判"]
["R010390432","沢田　奏太","４級","サワダ　ソウタ","男性","S審判"]
["R010376331","澤田　弘教","４級","サワダ　ヒロノリ","男性","S審判"]
["R010396568","澤永　悠樹","４級","サワナガ　ユウキ","男性","S審判"]
["R010358004","澤藤　慎之助","４級","サワフジ　シンノスケ","男性","S審判"]
["R010415891","三ノ宮　真吾","４級","サンノミヤ　シンゴ","男性","S審判"]
["R010100659","財前　友担","４級","ザイゼン　トモヒロ","男性","S審判"]
["R010376916","椎木　夢佐志","４級","シイキ　ムサシ","男性","S審判"]
["R005603291","椎原　健夫","４級","シイハラ　タケオ","男性","S審判"]
["R010255188","椎原　彪叶","４級","シイハラ　ヒョウガ","男性","S審判"]
["R010167760","椎葉　颯貴","４級","シイバ　ソウキ","男性","S審判"]
["R010303855","椎葉　涼太","４級","シイバ　リョウタ","男性","S審判"]
["R010189312","塩月　又幸","４級","シオツキ　マタユキ","男性","S審判"]
["R010281801","志賀　泰二","４級","シガ　タイジ","男性","S審判"]
["R010352944","式村　威吹","４級","シキムラ　イブキ","男性","S審判"]
["R010391927","重　遥大","４級","シゲ　ハルヒト","男性","S審判"]
["R001257304","重藤　光","４級","シゲフジ　ヒカル","男性","S審判"]
["R010391920","重松　剛史","４級","シゲマツ　タケシ","男性","S審判"]
["R010355071","志太波　直葵","４級","シタバ　ナオキ","男性","S審判"]
["R010352955","篠田　星凪","４級","シノダ　セナ","男性","S審判"]
["R001257377","芝関　功","４級","シバセキ　イサオ","男性","S審判"]
["R010281852","柴田　叡昇","４級","シバタ　エイショウ","男性","S審判"]
["R010415895","島　拓朗","４級","シマ　タクロウ","男性","S審判"]
["R010167757","嶋岡　烈士","４級","シマオカ　レツ","男性","S審判"]
["R007959592","島崎　雄大","４級","シマザキ　ユウダイ","男性","S審判"]
["R001257447","島谷　真司","４級","シマタニ　シンジ","男性","S審判"]
["R010356121","嶌田　幸志","４級","シマダ　コウシ","男性","S審判"]
["R010313749","嶋田　尚祐","４級","シマダ　ナオヒロ","男性","S審判"]
["R010382661","嶋田　優星","４級","シマダ　ユウセイ","男性","S審判"]
["R010391958","島田　蓮平","４級","シマダ　レンペイ","男性","S審判"]
["R010391963","島津　悠揮","４級","シマツ　ユウキ","男性","S審判"]
["R010350236","清水　彩花","４級","シミズ　アヤカ","女性","S審判"]
["R010351365","清水　楓","４級","シミズ　カエデ","男性","S審判"]
["R010396565","清水　和","４級","シミズ　カズ","男性","S審判"]
["R010071963","清水　嵩眺","４級","シミズ　シュウナ","男性","S審判"]
["R010376365","清水　新太","４級","シミズ　シンタ","男性","S審判"]
["R005986981","清水　聖徳","４級","シミズ　セイトク","男性","S審判"]
["R010069898","清水　樹生","４級","シミズ　タツキ","男性","S審判"]
["R010189304","清水　哲也","４級","シミズ　テツヤ","男性","S審判"]
["R010264743","清水　晃","４級","シミズ　ヒカル","男性","S審判"]
["R010255172","清水　寛人","４級","シミズ　ヒロト","男性","S審判"]
["R010421576","清水　碧倭","４級","シミズ　ヘキヤ","男性","S審判"]
["R006221678","清水　雄介","４級","シミズ　ユウスケ","男性","S審判"]
["R010069890","清水　優人","４級","シミズ　ユウト","男性","S審判"]
["R010303857","清水　羅偉","４級","シミズ　ライ","男性","S審判"]
["R010093497","七五三　正寿","４級","シメ　マサトシ","男性","S審判"]
["R010159143","下田　耀仁","４級","シモダ　アキト","男性","S審判"]
["R010364705","下藤　勝喜","４級","シモフジ　ショウキ","男性","S審判"]
["R010376349","下村　直希","４級","シモムラ　ナオキ","男性","S審判"]
["R010262624","下山　凌河","４級","シモヤマ　リョウガ","男性","S審判"]
["R010391955","首藤　海人","４級","シュトウ　カイト","男性","S審判"]
["R010352987","首藤　和希","４級","シュトウ　カズキ","男性","S審判"]
["R010352940","首藤　保","４級","シュトウ　タモツ","男性","S審判"]
["R008643838","首藤　翼","４級","シュトウ　ツバサ","男性","S審判"]
["R007002645","首藤　晴美","４級","シュトウ　ハルミ","男性","S審判"]
["R010354788","首藤　弘樹","４級","シュトウ　ヒロキ","男性","S審判"]
["R010376326","首藤　博貴","４級","シュトウ　ヒロキ","男性","S審判"]
["R010376340","首藤　正叡","４級","シュトウ　マサユキ","男性","S審判"]
["R010214469","首藤　梨花","４級","シュトウ　リンカ","女性","S審判"]
["R010356122","首藤　航","４級","シュトウ　ワタル","男性","S審判"]
["R010162994","首藤　光翼","４級","シュドウ　コウタ","男性","S審判"]
["R010415894","焦　哲","４級","ショウ　テツ","男性","S審判"]
["R003420029","庄　秀喜","４級","ショウ　ヒデキ","男性","S審判"]
["R005527362","庄司　誠","４級","ショウジ　マコト","男性","S審判"]
["R009460533","庄部　正人","４級","ショウブ　マサト","男性","S審判"]
["R010352971","白石　琥太郎","４級","シライシ　コタロウ","男性","S審判"]
["R010261607","白石　悠馬","４級","シライシ　ハルマ","男性","S審判"]
["R010259417","白岩　孝啓","４級","シライワ　タカヒロ","男性","S審判"]
["R010376278","白鞘　真彦","４級","シラサヤ　マサヒコ","男性","S審判"]
["R010354662","秦　琥太郎","４級","シン　コタロウ","男性","S審判"]
["R010350238","秦　鼓乃実","４級","シン　コノミ","女性","S審判"]
["R010306453","秦　翔平","４級","シン　ショウヘイ","男性","S審判"]
["R010364713","秦　翼","４級","シン　ツバサ","男性","S審判"]
["R010240532","新塘　統志也","４級","シンドモ　トシヤ","男性","S審判"]
["R010347368","新原　優翔","４級","シンバル　マサト","男性","S審判"]
["R006123774","軸丸　耕平","４級","ジクマル　コウヘイ","男性","S審判"]
["R010313772","軸丸　翔矢","４級","ジクマル　ショウヤ","男性","S審判"]
["R010376291","軸丸　昇","４級","ジクマル　ノボル","男性","S審判"]
["R010120159","実本　悠太","４級","ジツモト　ユウタ","男性","S審判"]
["R010303859","字室　航平","４級","ジムロ　コウヘイ","男性","S審判"]
["R010314825","積明　温斗","４級","ジャクミョウ　ハルト","男性","S審判"]
["R009198335","城野　清","４級","ジョウノ　キヨシ","男性","S審判"]
["R010347371","城野　雅翔","４級","ジョウノ　マサト","男性","S審判"]
["R010390418","陣内　拓海","４級","ジンナイ　タクミ","男性","S審判"]
["R007959167","須浦　清隆","４級","スウラ　キヨタカ","男性","S審判"]
["R001257696","須浦　伸一","４級","スウラ　シンイチ","男性","S審判"]
["R010189331","末崎　智也","４級","スエザキ　トモヤ","男性","S審判"]
["R004055424","末綱　海人","４級","スエツナ　カイト","男性","S審判"]
["R001257711","末綱　航大","４級","スエツナ　コウダイ","男性","S審判"]
["R006148463","末綱　太舟","４級","スエツナ　タイシュウ","男性","S審判"]
["R010262602","末永　京士朗","４級","スエナガ　キョウシロウ","男性","S審判"]
["R009545995","末永　成久","４級","スエナガ　ナルヒサ","男性","S審判"]
["R010264737","末永　孟久","４級","スエナガ　モトヒサ","男性","S審判"]
["R010262603","末平　陽祐","４級","スエヒラ　ヨウスケ","男性","S審判"]
["R010159129","菅　右京","４級","スガ　ウキョウ","男性","S審判"]
["R010390421","菅　左京","４級","スガ　サキョウ","男性","S審判"]
["R007959820","菅　博幸","４級","スガ　ヒロユキ","男性","S審判"]
["R010396559","杉崎　景光","４級","スギサキ　カゲミツ","男性","S審判"]
["R008798004","杉崎　誠","４級","スギサキ　マコト","男性","S審判"]
["R005528103","杉野　岳士","４級","スギノ　タケシ","男性","S審判"]
["R010364738","杉原　雄太","４級","スギハラ　ユウタ","男性","S審判"]
["R006220369","杉本　哲太","４級","スギモト　テッタ","男性","S審判"]
["R010281838","鈴江　真士","４級","スズエ　マナト","男性","S審判"]
["R010281839","鈴江　涼生","４級","スズエ　リョウセイ","男性","S審判"]
["R010214548","鈴木　公大","４級","スズキ　コウダイ","男性","S審判"]
["R010069892","鈴木　規久","４級","スズキ　ノリヒサ","男性","S審判"]
["R010067965","須藤　夏羽","４級","スドウ　ナツハ","女性","S審判"]
["R010247793","須藤　美羽","４級","スドウ　ミウ","女性","S審判"]
["R007959185","巣野　哲平","４級","スノ　テッペイ","男性","S審判"]
["R010128078","角　颯之介","４級","スミ　ソウノスケ","男性","S審判"]
["R010356125","隅田　香織","４級","スミタ　カオリ","女性","S審判"]
["R010214540","隅田　渚斗","４級","スミタ　ナギト","男性","S審判"]
["R010356124","隅田　波希","４級","スミタ　ナミキ","男性","S審判"]
["R010303863","住田　翔","４級","スミタ　リョウ","男性","S審判"]
["R008797838","図師　歌歩乃","４級","ズシ　カホナ","女性","S審判"]
["R010162998","圖師　好至朗","４級","ズシ　コウシロウ","男性","S審判"]
["R010159141","清家　航太","４級","セイケ　コウタ","男性","S審判"]
["R010303887","瀬川　礼野","４級","セガワ　レイヤ","男性","S審判"]
["R003258422","関　一昭","４級","セキ　カズアキ","男性","S審判"]
["R001257809","関　正二","４級","セキ　ショウジ","男性","S審判"]
["R010352992","関　翼","４級","セキ　ツバサ","男性","S審判"]
["R010189267","関　雅人","４級","セキ　マサト","男性","S審判"]
["R007959750","関谷　僚人","４級","セキヤ　トモヒト","男性","S審判"]
["R010376919","瀬口　修矢","４級","セグチ　シュウヤ","男性","S審判"]
["R009533653","瀬田　英明","４級","セタ　ヒデアキ","男性","S審判"]
["R010354812","瀬戸　天我","４級","セト　テンガ","男性","S審判"]
["R010167767","瀬戸口　智哉","４級","セトグチ　トモヤ","男性","S審判"]
["R010281872","千歳丸　忠","４級","センザイマル　タダシ","男性","S審判"]
["R010376360","惣川　朝太郎","４級","ソウカワ　アサタロウ","男性","S審判"]
["R010376356","惣川　春太朗","４級","ソウカワ　ハルタロウ","男性","S審判"]
["R010396514","曽我　晃大","４級","ソガ　コウタ","男性","S審判"]
["R010120162","曽根　文武","４級","ソネ　フミタケ","男性","S審判"]
["R010120127","曽根崎　忠","４級","ソネザキ　スナオ","男性","S審判"]
["R001257854","曽根崎　照紀","４級","ソネザキ　テルキ","男性","S審判"]
["R005987458","曽根田　康寿","４級","ソネダ　ヤストシ","男性","S審判"]
["R010262639","園　文来","４級","ソノ　アヤト","男性","S審判"]
["R010386816","園　ひなの","４級","ソノ　ヒナノ","女性","S審判"]
["R010306443","園田　純直","４級","ソノダ　スミタダ","男性","S審判"]
["R010391926","園田　悠","４級","ソノダ　ユウ","男性","S審判"]
["R001257872","園田　雄二","４級","ソノダ　ユウジ","男性","S審判"]
["R010069895","染矢　季琉","４級","ソメヤ　キルア","男性","S審判"]
["R010255156","染矢　陸","４級","ソメヤ　リク","男性","S審判"]
["R010193717","空田　碧波","４級","ソラダ　アオバ","男性","S審判"]
["R010391935","平　拓巳","４級","タイラ　タクミ","男性","S審判"]
["R010189295","高榎　健太郎","４級","タカエノキ　ケンタロウ","男性","S審判"]
["R008174037","高榎　祐太郎","４級","タカエノキ　ユウタロウ","男性","S審判"]
["R010347372","高尾　佳汰","４級","タカオ　ケイタ","男性","S審判"]
["R010351362","高岡　海堵","４級","タカオカ　カイト","男性","S審判"]
["R010303881","髙岡　堅吾","４級","タカオカ　ケンゴ","男性","S審判"]
["R010259428","高木　伸","４級","タカキ　シン","男性","S審判"]
["R010167745","高木　桐馬","４級","タカギ　トウマ","男性","S審判"]
["R001257942","高倉　一城","４級","タカクラ　カズキ","男性","S審判"]
["R010314802","高倉　左京","４級","タカクラ　サキョウ","男性","S審判"]
["R010071976","高倉　凛","４級","タカクラ　リン","男性","S審判"]
["R010069872","高司　龍之介","４級","タカジ　リュウノスケ","男性","S審判"]
["R010027898","髙瀬　瑛里","４級","タカセ　エイリ","男性","S審判"]
["R010073413","高瀬　心","４級","タカセ　シン","男性","S審判"]
["R010391932","高瀬　大雅","４級","タカセ　タイガ","男性","S審判"]
["R010358019","高田　虎之介","４級","タカダ　トラノスケ","男性","S審判"]
["R001257997","高田　義友","４級","タカダ　ヨシトモ","男性","S審判"]
["R010376369","高月　隆成","４級","タカツキ　リュウセイ","男性","S審判"]
["R010376358","高野　賢吾","４級","タカノ　ケンゴ","男性","S審判"]
["R010027825","髙野　翔大","４級","タカノ　ショウタ","男性","S審判"]
["R003578487","髙野　大輔","４級","タカノ　ダイスケ","男性","S審判"]
["R010390448","高橋　蒼大","４級","タカハシ　アオト","男性","S審判"]
["R010351355","高橋　海翔","４級","タカハシ　カイト","男性","S審判"]
["R008798077","高橋　紀嘉","４級","タカハシ　キヨシ","男性","S審判"]
["R010314827","高橋　巧希","４級","タカハシ　コウキ","男性","S審判"]
["R008798156","高橋　洸介","４級","タカハシ　コウスケ","男性","S審判"]
["R010354798","高橋　劫多","４級","タカハシ　コウタ","男性","S審判"]
["R010093479","高橋　晃平","４級","タカハシ　コウヘイ","男性","S審判"]
["R010364702","高橋　周平","４級","タカハシ　シュウヘイ","男性","S審判"]
["R010351359","高橋　颯太","４級","タカハシ　ソウタ","男性","S審判"]
["R010189346","高橋　敏也","４級","タカハシ　トシヤ","男性","S審判"]
["R010354794","高橋　那由多","４級","タカハシ　ナユタ","男性","S審判"]
["R007334924","高橋　央明","４級","タカハシ　ヒロアキ","男性","S審判"]
["R007767432","高橋　瑞紀","４級","タカハシ　ミズキ","女性","S審判"]
["R003256062","高橋　由資","４級","タカハシ　ユウスケ","男性","S審判"]
["R006220697","高橋　勇也","４級","タカハシ　ユウヤ","男性","S審判"]
["R010262604","高橋　陸","４級","タカハシ　リク","男性","S審判"]
["R010352959","髙橋　涼介","４級","タカハシ　リョウスケ","男性","S審判"]
["R010056101","高橋　蓮","４級","タカハシ　レン","男性","S審判"]
["R010214462","高畑　俊太","４級","タカハタ　シュンタ","男性","S審判"]
["R001258136","高原　啓司","４級","タカハラ　ケイジ","男性","S審判"]
["R010159140","高原　成都","４級","タカハラ　ナツ","男性","S審判"]
["R010240538","高原　悠太","４級","タカハラ　ユウタ","男性","S審判"]
["R010386811","高松　芹羽","４級","タカマツ　セリハ","女性","S審判"]
["R010351389","高見　啓太","４級","タカミ　ケイタ","男性","S審判"]
["R010351375","高見　陵太","４級","タカミ　リョウタ","男性","S審判"]
["R010350232","高本　澪奈","４級","タカモト　レイナ","女性","S審判"]
["R010255176","高森　宗治","４級","タカモリ　ムネハル","男性","S審判"]
["R010391919","高山　湧也","４級","タカヤマ　ユウヤ","男性","S審判"]
["R009533440","田上　龍真","４級","タガミ　タツマサ","男性","S審判"]
["R010259435","田川　乃々香","４級","タガワ　ノノカ","女性","S審判"]
["R010281815","瀧田　好浩","４級","タキダ　ヨシヒロ","男性","S審判"]
["R010259424","瀧水　蓮太郎","４級","タキミズ　レンタロウ","男性","S審判"]
["R010358000","田口　心之輔","４級","タグチ　シンノスケ","男性","S審判"]
["R010128072","田口　晴基","４級","タグチ　ハルキ","男性","S審判"]
["R010391939","武石　新太","４級","タケイシ　アラタ","男性","S審判"]
["R010120190","武石　智彰","４級","タケイシ　トモアキ","男性","S審判"]
["R010255180","武石　優作","４級","タケイシ　ユウサク","男性","S審判"]
["R010281858","武内　一准","４級","タケウチ　カズノリ","男性","S審判"]
["R010391953","武内　奨真","４級","タケウチ　ショウマ","男性","S審判"]
["R010415914","武内　時人","４級","タケウチ　トキト","男性","S審判"]
["R010396553","竹内　璃音","４級","タケウチ　リオン","男性","S審判"]
["R010376903","竹下　輝","４級","タケシタ　テル","男性","S審判"]
["R010262605","竹島　琉","４級","タケシマ　ルイ","男性","S審判"]
["R010355743","竹田　竣","４級","タケタ　シュン","男性","S審判"]
["R010390412","竹田　海翔","４級","タケダ　カイト","男性","S審判"]
["R009198283","武田　顕一","４級","タケダ　ケンイチ","男性","S審判"]
["R008616162","竹田　豪","４級","タケダ　ゴウ","男性","S審判"]
["R010255159","竹田　天馬","４級","タケダ　テンマ","男性","S審判"]
["R003972498","武田　憲和","４級","タケダ　ノリカズ","男性","S審判"]
["R007335127","竹中　啓司","４級","タケナカ　ケイジ","男性","S審判"]
["R010396591","竹中　太志","４級","タケナカ　タイシ","男性","S審判"]
["R006612816","竹之内　亮","４級","タケノウチ　リョウ","男性","S審判"]
["R010347363","武原　匠吾","４級","タケハラ　ショウゴ","男性","S審判"]
["R010415905","武久　文弥","４級","タケヒサ　フミヤ","男性","S審判"]
["R010262657","竹山　柊吾","４級","タケヤマ　トウゴ","男性","S審判"]
["R010243664","田崎　斗翔","４級","タサキ　トワ","男性","S審判"]
["R010303882","田﨑　琉唯","４級","タサキ　ルイ","男性","S審判"]
["R010306446","多嶋田　尚平","４級","タシマダ　ショウヘイ","男性","S審判"]
["R004371818","田代　修三","４級","タシロ　シュウゾウ","男性","S審判"]
["R010303886","田代　翔太郎","４級","タシロ　ショウタロウ","男性","S審判"]
["R010376320","田尻　成","４級","タジリ　ナル","男性","S審判"]
["R010376305","田尻　優斗","４級","タジリ　ユウト","男性","S審判"]
["R010376907","多田　侑槻","４級","タダ　アツキ","男性","S審判"]
["R010388057","立花　稜大","４級","タチバナ　リョウタ","男性","S審判"]
["R010303872","立岩　玄輝","４級","タテイワ　ゲンキ","男性","S審判"]
["R010396537","建野　年也","４級","タテノ　トシナリ","男性","S審判"]
["R010162985","帯刀　悠","４級","タテワキ　ユウ","男性","S審判"]
["R010243656","田中　滉大","４級","タナカ　コウダイ","男性","S審判"]
["R010083857","田中　脩翔","４級","タナカ　シュウト","男性","S審判"]
["R010214560","田中　俊丞","４級","タナカ　シュンスケ","男性","S審判"]
["R009460542","田中　友浩","４級","タナカ　トモヒロ","男性","S審判"]
["R010376342","田中　陽澄","４級","タナカ　ハルト","男性","S審判"]
["R010303862","田中　真輝","４級","タナカ　マサキ","男性","S審判"]
["R010376323","田中　真樹","４級","タナカ　マサキ","男性","S審判"]
["R010056104","田中　雄大","４級","タナカ　ユウダイ","男性","S審判"]
["R010351376","田中　陸翔","４級","タナカ　リクト","男性","S審判"]
["R010376339","田辺　旺生","４級","タナベ　オウセイ","男性","S審判"]
["R007728503","田邊　政治","４級","タナベ　マサハル","男性","S審判"]
["R010376368","田辺　裕也","４級","タナベ　ユウヤ","男性","S審判"]
["R008798484","谷川　潤弥","４級","タニガワ　ジュンヤ","男性","S審判"]
["R010352981","谷口　直也","４級","タニグチ　ナオヤ","男性","S審判"]
["R010281834","谷崎　舞","４級","タニザキ　マイ","女性","S審判"]
["R010073989","谷崎　涼","４級","タニザキ　リョウ","男性","S審判"]
["R009198539","谷崎　玲治","４級","タニザキ　レイジ","男性","S審判"]
["R010255173","谷脇　陸","４級","タニワキ　リク","男性","S審判"]
["R010159155","谷脇　蓮","４級","タニワキ　レン","男性","S審判"]
["R010214471","田野　愛華","４級","タノ　アイカ","女性","S審判"]
["R010167790","田野　翔大","４級","タノ　ショウタ","男性","S審判"]
["R008523215","田原　龍之介","４級","タハラ　リュウノスケ","男性","S審判"]
["R010391947","田畑　篤郎","４級","タバタ　アツロウ","男性","S審判"]
["R010357152","玉城　宗馬","４級","タマシロ　ソウマ","男性","S審判"]
["R009533510","田村　奎人","４級","タムラ　ケイト","男性","S審判"]
["R008797704","田村　健二","４級","タムラ　ケンジ","男性","S審判"]
["R010169043","田村　駿伍","４級","タムラ　シュンゴ","男性","S審判"]
["R010281809","田村　拓也","４級","タムラ　タクヤ","男性","S審判"]
["R010376901","田村　眞那斗","４級","タムラ　マナト","男性","S審判"]
["R010364719","大海　應介","４級","ダイカイ　オウスケ","男性","S審判"]
["R006111195","伊達　秀憲","４級","ダテ　ヒデノリ","男性","S審判"]
["R001251753","伊達　洋介","４級","ダテ　ヨウスケ","男性","S審判"]
["R001258455","千原　秀介","４級","チハラ　シュウスケ","男性","S審判"]
["R010264738","千原　隼輔","４級","チハラ　シュンスケ","男性","S審判"]
["R010071980","千原　瑠偉","４級","チハラ　ルイ","男性","S審判"]
["R010396504","忠願寺　慶祐","４級","チュウガンジ　ケイスケ","男性","S審判"]
["R010354820","長木　環和","４級","チョウキ　カンナ","男性","S審判"]
["R010067943","通正　こころ","４級","ツウショウ　ココロ","女性","S審判"]
["R010067949","通正　隆寿","４級","ツウショウ　タカヒサ","男性","S審判"]
["R010261597","通正　隆之介","４級","ツウショウ　リュウノスケ","男性","S審判"]
["R010391960","潰田　輝太","４級","ツエダ　コウタ","男性","S審判"]
["R010382665","塚崎　仁志","４級","ツカザキ　ヒトシ","男性","S審判"]
["R010262606","塚崎　凛音","４級","ツカザキ　リオン","男性","S審判"]
["R010214610","津崎　祐二","４級","ツザキ　ユウジ","男性","S審判"]
["R001258516","津下　一孝","４級","ツシタ　カズタカ","男性","S審判"]
["R001258491","辻　道弘","４級","ツジ　ミチヒロ","男性","S審判"]
["R010093455","津田　敬太","４級","ツダ　ケイタ","男性","S審判"]
["R010376347","土屋　光輝","４級","ツチヤ　コウキ","男性","S審判"]
["R010189345","筒井　愛","４級","ツツイ　アイ","女性","S審判"]
["R010120146","筒井　映介","４級","ツツイ　エイスケ","男性","S審判"]
["R010396531","堤　太河","４級","ツツミ　タイガ","男性","S審判"]
["R008360148","堤　哲郎","４級","ツツミ　テツロウ","男性","S審判"]
["R010214478","堤　晴菜","４級","ツツミ　ハルナ","女性","S審判"]
["R008651794","都竹　創","４級","ツヅク　ハジメ","男性","S審判"]
["R005429884","恒成　壮","４級","ツネナリ　タケシ","男性","S審判"]
["R005405723","恒松　和也","４級","ツネマツ　カズヤ","男性","S審判"]
["R009198256","常行　隼史","４級","ツネユキ　シュンジ","男性","S審判"]
["R010303858","角田　海斗","４級","ツノダ　カイト","男性","S審判"]
["R010391929","津村　真生","４級","ツムラ　マサキ","男性","S審判"]
["R006937089","津守　翔太","４級","ツモリ　ショウタ","男性","S審判"]
["R010303879","津谷　海登","４級","ツヤ　カイト","男性","S審判"]
["R010364712","築城　翔太","４級","ツユキ　ショウタ","男性","S審判"]
["R010376298","鶴田　和也","４級","ツルタ　カズヤ","男性","S審判"]
["R010306444","鶴田　翔一","４級","ツルタ　ショウイチ","男性","S審判"]
["R010214528","手嶋　章博","４級","テシマ　アキヒロ","男性","S審判"]
["R010261594","寺井　一","４級","テライ　イチ","男性","S審判"]
["R001258613","出口　功","４級","デグチ　イサオ","男性","S審判"]
["R010214470","藤内　なぎさ","４級","トウナイ　ナギサ","女性","S審判"]
["R010243644","遠山　隼都","４級","トオヤマ　ハヤト","男性","S審判"]
["R010396517","時任　佑樹哉","４級","トキトウ　ユキヤ","男性","S審判"]
["R010074011","徳田　正信","４級","トクダ　マサノブ","男性","S審判"]
["R010074007","徳田　隆聖","４級","トクダ　リュウセイ","男性","S審判"]
["R010364733","徳地　翔","４級","トクチ　ショウ","男性","S審判"]
["R010355733","徳留　暁","４級","トクドメ　タケル","男性","S審判"]
["R010093499","徳丸　淳治","４級","トクマル　ジュンジ","男性","S審判"]
["R010376314","徳丸　太陽","４級","トクマル　タイヨウ","男性","S審判"]
["R010255154","得丸　拓実","４級","トクマル　タクミ","男性","S審判"]
["R010243652","徳丸　白空","４級","トクマル　ハクア","男性","S審判"]
["R001258695","徳丸　英明","４級","トクマル　ヒデアキ","男性","S審判"]
["R001258686","得丸　政徳","４級","トクマル　マサノリ","男性","S審判"]
["R010391941","渡久地　蒔人","４級","トグチ　マキト","男性","S審判"]
["R010167753","都甲　明聖","４級","トコウ　ハルト","男性","S審判"]
["R010379064","都甲　空","４級","トゴウ　ソラ","男性","S審判"]
["R010214587","利根　悠理","４級","トシネ　ユウリ","男性","S審判"]
["R009533583","利光　貴翔","４級","トシミツ　キショウ","男性","S審判"]
["R010396585","利光　慧斗","４級","トシミツ　ケイト","男性","S審判"]
["R010358018","利光　翔磨","４級","トシミツ　ショウマ","男性","S審判"]
["R010261602","利光　陽成","４級","トシミツ　ヨウセイ","男性","S審判"]
["R010159150","戸田　汐音","４級","トダ　シオン","男性","S審判"]
["R010159136","戸髙　滉基","４級","トダカ　コウキ","男性","S審判"]
["R010376357","戸髙　航汰","４級","トダカ　コウタ","男性","S審判"]
["R010350234","戸髙　花菜","４級","トダカ　ハナ","女性","S審判"]
["R010046512","十時　優介","４級","トトキ　ユウスケ","男性","S審判"]
["R010415910","苫川　銀雅","４級","トマガワ　ギンガ","男性","S審判"]
["R010390447","富田　凱吏","４級","トミタ　カイリ","男性","S審判"]
["R010027867","富田　靖夫","４級","トミタ　ヤスオ","男性","S審判"]
["R007728974","冨田　保之","４級","トミタ　ヤスユキ","男性","S審判"]
["R010027830","富永　渉太","４級","トミナガ　ショウタ","男性","S審判"]
["R001258765","富永　佳幸","４級","トミナガ　ヨシユキ","男性","S審判"]
["R010351388","富松　慎之介","４級","トミマツ　シンノスケ","男性","S審判"]
["R005405608","冨吉　弘一","４級","トミヨシ　コウイチ","男性","S審判"]
["R010069889","留野　莉旺","４級","トメノ　リオ","男性","S審判"]
["R010281868","友田　裕斗","４級","トモダ　ユウト","男性","S審判"]
["R010415915","友永　弥","４級","トモナガ　ワタル","男性","S審判"]
["R010128059","友成　拓夢","４級","トモナリ　タクム","男性","S審判"]
["R010128070","友松　健太","４級","トモマツ　ケンタ","男性","S審判"]
["R010100678","友松　誠二","４級","トモマツ　セイジ","男性","S審判"]
["R010163009","豊島　海斗","４級","トヨシマ　カイト","男性","S審判"]
["R010313755","豊島　勇樹","４級","トヨシマ　ユウキ","男性","S審判"]
["R010214570","豊田　馨","４級","トヨダ　カオル","女性","S審判"]
["R010355734","豊田　淳也","４級","トヨダ　ジュンヤ","男性","S審判"]
["R010396515","豊田　洸","４級","トヨダ　ヒカル","男性","S審判"]
["R003421170","豊田　裕司","４級","トヨダ　ヒロシ","男性","S審判"]
["R009369641","豊永　拓弥","４級","トヨナガ　タクヤ","男性","S審判"]
["R010248573","堂本　和馬","４級","ドウモト　カズマ","男性","S審判"]
["R010168000","仲　恭平","４級","ナカ　キョウヘイ","男性","S審判"]
["R010354813","中井　琉惺","４級","ナカイ　リュウセイ","男性","S審判"]
["R010007815","中尾　圭介","４級","ナカオ　ケイスケ","男性","S審判"]
["R010120161","中尾　雅俊","４級","ナカオ　マサトシ","男性","S審判"]
["R010390441","中岡　駿","４級","ナカオカ　シュン","男性","S審判"]
["R010255166","中岡　昇","４級","ナカオカ　ショウ","男性","S審判"]
["R004793931","中川　勝裕","４級","ナカガワ　カツヒロ","男性","S審判"]
["R001258880","中川　俊哉","４級","ナカガワ　トシヤ","男性","S審判"]
["R010263774","中川　蓮太","４級","ナカガワ　レンタ","男性","S審判"]
["R002530329","中島　大成","４級","ナカシマ　オオナリ","男性","S審判"]
["R010388049","中島　魁利","４級","ナカシマ　カイリ","男性","S審判"]
["R010162981","中島　柊","４級","ナカシマ　シュウ","男性","S審判"]
["R010396594","中島　忠伸","４級","ナカシマ　タダノブ","男性","S審判"]
["R010396533","中嶋　哲也","４級","ナカシマ　テツヤ","男性","S審判"]
["R010167786","中島　湧友","４級","ナカシマ　ユウト","男性","S審判"]
["R010390417","中島　壮","４級","ナカジマ　ソウ","男性","S審判"]
["R010352956","中島　拓磨","４級","ナカジマ　タクマ","男性","S審判"]
["R010214567","中嶋　完","４級","ナカジマ　タモツ","男性","S審判"]
["R001258914","中嶋　結孝","４級","ナカジマ　ユウコウ","男性","S審判"]
["R009533662","中瀬　雄一郎","４級","ナカセ　ユウイチロウ","男性","S審判"]
["R010281836","仲宗根　玄昌","４級","ナカソネ　ゲンショウ","男性","S審判"]
["R010355740","中園　翔馬","４級","ナカゾノ　ショウマ","男性","S審判"]
["R010214461","中園　太陽","４級","ナカゾノ　タイヨウ","男性","S審判"]
["R010281808","中園　貴志","４級","ナカゾノ　タカシ","男性","S審判"]
["R010240546","中面　成斗","４級","ナカツラ　ナリト","男性","S審判"]
["R010083855","中津留　海翔","４級","ナカツル　カイト","男性","S審判"]
["R010390452","中津留　将悟","４級","ナカツル　ショウゴ","男性","S審判"]
["R006125602","中津留　正三","４級","ナカツル　ショウゾウ","男性","S審判"]
["R010334500","中津留　菜桜","４級","ナカツル　ナオ","女性","S審判"]
["R007334942","中津留　治将","４級","ナカヅル　ハルマサ","男性","S審判"]
["R002917412","中西　智彦","４級","ナカニシ　トモヒコ","男性","S審判"]
["R010189275","中根　孝史","４級","ナカネ　タカシ","男性","S審判"]
["R001259038","中根　幹雄","４級","ナカネ　ミキオ","男性","S審判"]
["R010056094","中根　武蔵","４級","ナカネ　ムサシ","男性","S審判"]
["R007728804","中根　龍馬","４級","ナカネ　リョウマ","男性","S審判"]
["R010281799","中野　明","４級","ナカノ　アキラ","男性","S審判"]
["R010248583","中野　翔梧","４級","ナカノ　ショウゴ","男性","S審判"]
["R010298856","中野　翔太","４級","ナカノ　ショウタ","男性","S審判"]
["R010281824","仲野　翔真","４級","ナカノ　ショウマ","男性","S審判"]
["R010255160","仲野　穣","４級","ナカノ　ジョウ","男性","S審判"]
["R001259056","中野　俊宏","４級","ナカノ　トシヒロ","男性","S審判"]
["R010093448","中野　智博","４級","ナカノ　トモヒロ","男性","S審判"]
["R010078598","中野　浩志","４級","ナカノ　ヒロシ","男性","S審判"]
["R010214472","中野　茉奈","４級","ナカノ　マナ","女性","S審判"]
["R010358002","仲野　隆貴","４級","ナカノ　リュウキ","男性","S審判"]
["R010281853","中野　竜太","４級","ナカノ　リュウタ","男性","S審判"]
["R006574394","中畑　光宏","４級","ナカハタ　ミツヒロ","男性","S審判"]
["R010396575","中原　壱春","４級","ナカハラ　イチハル","男性","S審判"]
["R010261596","中平　康士朗","４級","ナカヒラ　コウシロウ","男性","S審判"]
["R001251896","中間　敏彦","４級","ナカマ　トシヒコ","男性","S審判"]
["R010354814","中溝　遥","４級","ナカミゾ　ハル","男性","S審判"]
["R010354801","中道　裕斗","４級","ナカミチ　ユウト","男性","S審判"]
["R010016109","仲村　晃和","４級","ナカムラ　アキト","男性","S審判"]
["R010159153","中村　朝光","４級","ナカムラ　アサヒ","男性","S審判"]
["R010391933","中村　出海","４級","ナカムラ　イズミ","男性","S審判"]
["R003316948","中村　冴里","４級","ナカムラ　サエリ","女性","S審判"]
["R010262608","中村　真太朗","４級","ナカムラ　シンタロウ","男性","S審判"]
["R009197585","中村　智美","４級","ナカムラ　トモミ","女性","S審判"]
["R010281888","仲村　晃瑠","４級","ナカムラ　ヒカル","男性","S審判"]
["R001251911","中村　真彦","４級","ナカムラ　マサヒコ","男性","S審判"]
["R009198274","中村　洋太","４級","ナカムラ　ヨウタ","男性","S審判"]
["R010376273","中山　忍","４級","ナカヤマ　シノブ","男性","S審判"]
["R010351377","中山　遥","４級","ナカヤマ　ハル","男性","S審判"]
["R010376280","中渡瀬　真樹","４級","ナカワタセ　マキ","男性","S審判"]
["R010167747","永井　啓太朗","４級","ナガイ　ケイタロウ","男性","S審判"]
["R010354806","長井　滉希","４級","ナガイ　コウキ","男性","S審判"]
["R010352943","永井　秀","４級","ナガイ　シュウ","男性","S審判"]
["R010262635","長井　舜佑","４級","ナガイ　シュンスケ","男性","S審判"]
["R010240580","永井　智大","４級","ナガイ　トモヒロ","男性","S審判"]
["R010214609","長尾　浩希","４級","ナガオ　コウキ","男性","S審判"]
["R010281817","永尾　透","４級","ナガオ　トオル","男性","S審判"]
["R010376366","長岡　範","４級","ナガオカ　ススム","男性","S審判"]
["R010120189","長澤　直樹","４級","ナガサワ　ナオキ","男性","S審判"]
["R001258950","長瀬　良理","４級","ナガセ　ヨシミチ","男性","S審判"]
["R010390438","永田　壮一郎","４級","ナガタ　ソウイチロウ","男性","S審判"]
["R010313765","永田　蓮二","４級","ナガタ　レンジ","男性","S審判"]
["R010074018","長門　崚太","４級","ナガト　リョウタ","男性","S審判"]
["R010214622","永冨　真依","４級","ナガトミ　マイ","女性","S審判"]
["R010083859","永野　慎之助","４級","ナガノ　シンノスケ","男性","S審判"]
["R010388058","長野　優飛","４級","ナガノ　ユウヒ","男性","S審判"]
["R010259414","永松　和寿","４級","ナガマツ　カズトシ","男性","S審判"]
["R010355073","永松　周","４級","ナガマツ　シュウ","男性","S審判"]
["R005528264","永松　裕史","４級","ナガマツ　ヒロシ","男性","S審判"]
["R010396535","永松　正規","４級","ナガマツ　マサキ","男性","S審判"]
["R010303861","永松　涼介","４級","ナガマツ　リョウスケ","男性","S審判"]
["R010390434","長溝　遥","４級","ナガミゾ　ハル","男性","S審判"]
["R005527353","永山　正樹","４級","ナガヤマ　マサキ","男性","S審判"]
["R010193705","長山　祐介","４級","ナガヤマ　ユウスケ","男性","S審判"]
["R010396580","長吉　倖成","４級","ナガヨシ　ユキナリ","男性","S審判"]
["R005987403","流川　新","４級","ナガレカワ　アラタ","男性","S審判"]
["R010396599","奈須　要","４級","ナス　カナメ","男性","S審判"]
["R010396570","奈須　心勇","４級","ナス　シユウ","男性","S審判"]
["R010214537","奈須　哲平","４級","ナス　テッペイ","男性","S審判"]
["R010027829","奈須　大和","４級","ナス　ヤマト","男性","S審判"]
["R009072295","奈須野　安侑里","４級","ナスノ　アユリ","女性","S審判"]
["R010388054","楢原　翔大郎","４級","ナラハラ　ショウタロウ","男性","S審判"]
["R010262625","成重　柊哉","４級","ナルシゲ　シュウヤ","男性","S審判"]
["R010356119","新名　翔太","４級","ニイナ　ショウタ","男性","S審判"]
["R010356118","新名　拓哉","４級","ニイナ　タクヤ","男性","S審判"]
["R010358010","新納　永遠","４級","ニイノ　トワ","男性","S審判"]
["R010364730","新納　琉冬","４級","ニイノ　リュウト","男性","S審判"]
["R010313756","新原　一希","４級","ニイハラ　カズキ","男性","S審判"]
["R010391962","二川　史崇","４級","ニカワ　フミタカ","男性","S審判"]
["R010306439","西　将輝","４級","ニシ　ショウキ","男性","S審判"]
["R010303853","西　瑞希","４級","ニシ　ミズキ","男性","S審判"]
["R010314809","西尾　圭翔","４級","ニシオ　ケイト","男性","S審判"]
["R010382659","西尾　紀博","４級","ニシオ　ノリヒロ","男性","S審判"]
["R004386023","西尾　拓之","４級","ニシオ　ヒロユキ","男性","S審判"]
["R010128071","西尾　悠吾","４級","ニシオ　ユウゴ","男性","S審判"]
["R010303856","西尾　陸","４級","ニシオ　リク","男性","S審判"]
["R001251957","西岡　京一郎","４級","ニシオカ　ケイイチロウ","男性","S審判"]
["R010262641","西川　凜","４級","ニシカワ　リン","男性","S審判"]
["R010393995","西田　愛奈","４級","ニシダ　アイナ","女性","S審判"]
["R009533538","西田　克海","４級","ニシダ　カツミ","男性","S審判"]
["R010396501","西田　翔","４級","ニシダ　ショウ","男性","S審判"]
["R004793375","西田　真也","４級","ニシダ　シンヤ","男性","S審判"]
["R010391944","西野　凌平","４級","ニシノ　リョウヘイ","男性","S審判"]
["R010354815","西野　凜太朗","４級","ニシノ　リンタロウ","男性","S審判"]
["R010281850","西村　陽佑","４級","ニシムラ　ヨウスケ","男性","S審判"]
["R010159135","ニ田　理央","４級","ニッタ　リオ","男性","S審判"]
["R010391918","蜷川　勇来","４級","ニナガワ　ユライ","男性","S審判"]
["R010390439","二宮　圭吾","４級","ニノミヤ　ケイゴ","男性","S審判"]
["R010261589","二宮　慶太","４級","ニノミヤ　ケイタ","男性","S審判"]
["R010281837","二宮　大己","４級","ニノミヤ　ダイキ","男性","S審判"]
["R010096809","二宮　大作","４級","ニノミヤ　ダイサク","男性","S審判"]
["R004055664","二宮　康彰","４級","ニノミヤ　ヤスアキ","男性","S審判"]
["R010120164","二宮　悠樹","４級","ニノミヤ　ユウキ","男性","S審判"]
["R010396551","丹生　良三","４級","ニュウ　リョウゾウ","男性","S審判"]
["R010306454","入田　裕治","４級","ニュウタ　ユウジ","男性","S審判"]
["R010281856","如法寺　雅俊","４級","ニョホウジ　マサトシ","男性","S審判"]
["R010390433","庭瀬　元希","４級","ニワセ　ゲンキ","男性","S審判"]
["R010355738","沼田　翔弥","４級","ヌマタ　ショウヤ","男性","S審判"]
["R010376301","野上　拳跳","４級","ノガミ　ケント","男性","S審判"]
["R010027878","野口　一輝","４級","ノグチ　カズキ","男性","S審判"]
["R010396600","野口　源若","４級","ノグチ　ゲンワ","男性","S審判"]
["R002917333","野口　康二郎","４級","ノグチ　コウジロウ","男性","S審判"]
["R010027885","野口　智隆","４級","ノグチ　トモタカ","男性","S審判"]
["R010262637","野崎　央","４級","ノザキ　オウ","男性","S審判"]
["R010167740","野崎　来","４級","ノザキ　ライ","男性","S審判"]
["R005527830","野尻　崇","４級","ノジリ　タカシ","男性","S審判"]
["R010306450","野田　啓佑","４級","ノダ　ケイスケ","男性","S審判"]
["R010214592","野田　航平","４級","ノダ　コウヘイ","男性","S審判"]
["R010080607","野田　晶生","４級","ノダ　マサオ","男性","S審判"]
["R010128060","野中　充登","４級","ノナカ　アツト","男性","S審判"]
["R010214556","野中　裕介","４級","ノナカ　ユウスケ","男性","S審判"]
["R010354660","野村　慶太","４級","ノムラ　ケイタ","男性","S審判"]
["R001259436","野村　辰寿","４級","ノムラ　タツヒサ","男性","S審判"]
["R006125736","野村　哲也","４級","ノムラ　テツヤ","男性","S審判"]
["R010354811","野村　春希","４級","ノムラ　ハルキ","男性","S審判"]
["R010303877","野村　凌","４級","ノムラ　リョウ","男性","S審判"]
["R010388042","野依　桂","４級","ノヨリ　ケイ","男性","S審判"]
["R006544278","則次　祐介","４級","ノリツギ　ユウスケ","男性","S審判"]
["R004714721","袴田　真吾","４級","ハカマダ　シンゴ","男性","S審判"]
["R001259472","間　俊雄","４級","ハザマ　トシオ","男性","S審判"]
["R007003273","間　博紀","４級","ハザマ　ヒロキ","男性","S審判"]
["R010352972","間　勇翔","４級","ハザマ　ユウショウ","男性","S審判"]
["R010396567","狹間　優人","４級","ハザマ　ユウト","男性","S審判"]
["R010314814","橋口　一斗","４級","ハシグチ　イット","男性","S審判"]
["R008634609","橋本　翔","４級","ハシモト　カケル","男性","S審判"]
["R010396601","橋本　舜平","４級","ハシモト　シュンペイ","男性","S審判"]
["R010376361","橋本　淳平","４級","ハシモト　ジュンペイ","男性","S審判"]
["R010396540","橋本　壮旦","４級","ハシモト　ソウタ","男性","S審判"]
["R006221012","橋本　敏邦","４級","ハシモト　トシクニ","男性","S審判"]
["R007959440","橋本　伸忠","４級","ハシモト　ノブタダ","男性","S審判"]
["R010393993","橋本　凜","４級","ハシモト　リン","女性","S審判"]
["R010240540","橋本　玲央","４級","ハシモト　レオ","男性","S審判"]
["R010376915","蓮田　智","４級","ハスダ　サトル","男性","S審判"]
["R007729098","長谷　明治","４級","ハセ　アキハル","男性","S審判"]
["R010259429","畑　修一","４級","ハタ　シュウイチ","男性","S審判"]
["R010262643","秦　龍生","４級","ハタ　リュウセイ","男性","S審判"]
["R010388046","畑田　堅伸","４級","ハタダ　ケンシン","男性","S審判"]
["R010248571","畑中　恒輝","４級","ハタナカ　コウキ","男性","S審判"]
["R010100679","畑中　祝勝","４級","ハタナカ　ノリカツ","男性","S審判"]
["R010314826","畑中　大和","４級","ハタナカ　ヤマト","男性","S審判"]
["R010352984","畑野　新司","４級","ハタノ　シンジ","男性","S審判"]
["R010281859","羽田野　凪","４級","ハタノ　ナギ","男性","S審判"]
["R010007845","波多野　政美","４級","ハタノ　マサミ","男性","S審判"]
["R010347358","畑辺　康年","４級","ハタベ　ヤストシ","男性","S審判"]
["R010259439","羽田野　徹","４級","ハダノ　トオル","男性","S審判"]
["R010376287","羽田野　裕之","４級","ハダノ　ヒロユキ","男性","S審判"]
["R010169052","羽田野　将斗","４級","ハダノ　マサト","男性","S審判"]
["R010262647","服部　昌拓","４級","ハットリ　マサヒロ","男性","S審判"]
["R003421116","波津久　雄平","４級","ハツク　ユウヘイ","男性","S審判"]
["R010386809","花宮　うの","４級","ハナミヤ　ウノ","女性","S審判"]
["R010376277","花宮　大聖","４級","ハナミヤ　タイセイ","男性","S審判"]
["R001259579","濱崎　賢一","４級","ハマサキ　ケンイチ","男性","S審判"]
["R010390420","浜崎　颯太","４級","ハマサキ　ソウタ","男性","S審判"]
["R009460658","浜崎　拓海","４級","ハマサキ　タクミ","男性","S審判"]
["R010352977","濱砂　樹","４級","ハマスナ　イツキ","男性","S審判"]
["R010364708","濱田　碧空","４級","ハマダ　アオク","男性","S審判"]
["R010364725","浜田　子龍","４級","ハマダ　シリュウ","男性","S審判"]
["R010093435","濱田　尚希","４級","ハマダ　ナオキ","男性","S審判"]
["R006221100","浜町　隆蒔","４級","ハママチ　リュウジ","男性","S審判"]
["R010376285","林　航","４級","ハヤシ　ワタル","男性","S審判"]
["R010396503","林田　健太","４級","ハヤシダ　ケンタ","男性","S審判"]
["R010350231","原　愛由那","４級","ハラ　アユナ","女性","S審判"]
["R008626965","原　海斗","４級","ハラ　カイト","男性","S審判"]
["R009528800","原　和将","４級","ハラ　カズマサ","男性","S審判"]
["R010141822","原　冴空","４級","ハラ　サエト","男性","S審判"]
["R008174365","原　貴宏","４級","ハラ　タカヒロ","男性","S審判"]
["R006937113","原　大恭","４級","ハラ　ダイスケ","男性","S審判"]
["R006220095","原　正佳","４級","ハラ　マサヨシ","男性","S審判"]
["R010376905","原　由緋","４級","ハラ　ユイ","男性","S審判"]
["R006220934","原井　健太郎","４級","ハライ　ケンタロウ","男性","S審判"]
["R010243653","原田　圭","４級","ハラダ　ケイ","男性","S審判"]
["R010259430","原田　光清","４級","ハラダ　コウセイ","男性","S審判"]
["R010376900","原田　柊","４級","ハラダ　シュウ","男性","S審判"]
["R010100690","原田　拓弥","４級","ハラダ　タクミ","男性","S審判"]
["R010313781","原田　琢也","４級","ハラダ　タクヤ","男性","S審判"]
["R001259685","原田　健士","４級","ハラダ　タケシ","男性","S審判"]
["R010376329","原田　利男","４級","ハラダ　トシオ","男性","S審判"]
["R010390454","原田　直也","４級","ハラダ　ナオヤ","男性","S審判"]
["R010397207","原田　昌樹","４級","ハラダ　マサキ","男性","S審判"]
["R004747215","原田　宗法","４級","ハラダ　ムネノリ","男性","S審判"]
["R010189330","原田　裕規","４級","ハラダ　ユウキ","男性","S審判"]
["R010376309","馬場　一颯","４級","ババ　カズサ","男性","S審判"]
["R004111605","馬場　睦紀","４級","ババ　ムツキ","男性","S審判"]
["R010386823","東　更紗","４級","ヒガシ　サラサ","女性","S審判"]
["R010376345","東　大晟","４級","ヒガシ　タイセイ","男性","S審判"]
["R010391930","東方　優也","４級","ヒガシカタ　ユウヤ","男性","S審判"]
["R010393238","匹田　晟哉","４級","ヒキダ　セイヤ","男性","S審判"]
["R010376333","日隈　駿","４級","ヒグマ　シュン","男性","S審判"]
["R010313751","日坂　仁哉","４級","ヒサカ　マサヤ","男性","S審判"]
["R010390450","久志　泰謙","４級","ヒサシ　ヤスノリ","男性","S審判"]
["R003350890","久田　祥孝","４級","ヒサダ　ヤスタカ","男性","S審判"]
["R007090701","久野　章吾","４級","ヒサノ　ショウゴ","男性","S審判"]
["R010376324","菱川　翔平","４級","ヒシカワ　ショウヘイ","男性","S審判"]
["R009533422","日高　世那","４級","ヒダカ　セナ","男性","S審判"]
["R010243639","日高　雄登","４級","ヒダカ　ユウト","男性","S審判"]
["R010159133","日野　文翔","４級","ヒノ　アヤト","男性","S審判"]
["R010255184","日野　颯太","４級","ヒノ　ソウタ","男性","S審判"]
["R004111368","日野　崇","４級","ヒノ　タカシ","男性","S審判"]
["R010262611","日野　雄太","４級","ヒノ　ユウタ","男性","S審判"]
["R010352937","日野　陽平","４級","ヒノ　ヨウヘイ","男性","S審判"]
["R010350230","姫野　杏妃","４級","ヒメノ　アズキ","女性","S審判"]
["R010189332","姫野　賢吾","４級","ヒメノ　ケンゴ","男性","S審判"]
["R006220183","姫野　航平","４級","ヒメノ　コウヘイ","男性","S審判"]
["R010390435","姫野　柊斗","４級","ヒメノ　シュウト","男性","S審判"]
["R010351361","姫野　聖太","４級","ヒメノ　セイタ","男性","S審判"]
["R010352969","姫野　聖也","４級","ヒメノ　セイヤ","男性","S審判"]
["R010243665","姫野　青空","４級","ヒメノ　ソラ","男性","S審判"]
["R010255170","姫野　天翔","４級","ヒメノ　タカト","男性","S審判"]
["R007959194","姫野　貴裕","４級","ヒメノ　タカヒロ","男性","S審判"]
["R010027875","姫野　太輔","４級","ヒメノ　ダイスケ","男性","S審判"]
["R010214596","姫野　晴人","４級","ヒメノ　ハルヒト","男性","S審判"]
["R010376279","姫野　雅俊","４級","ヒメノ　マサトシ","男性","S審判"]
["R009430435","姫野　真智代","４級","ヒメノ　マチヨ","女性","S審判"]
["R010262645","姫野　隆太","４級","ヒメノ　リュウタ","男性","S審判"]
["R010074020","姫野　涼","４級","ヒメノ　リョウ","男性","S審判"]
["R010355742","姫野　烈也","４級","ヒメノ　レツヤ","男性","S審判"]
["R010262638","平井　楓","４級","ヒライ　カエデ","男性","S審判"]
["R010311845","平井　慧佑","４級","ヒライ　ケイスケ","男性","S審判"]
["R010396576","平井　康寛","４級","ヒライ　ヤスヒロ","男性","S審判"]
["R010128055","平池　悠馬","４級","ヒライケ　ユウマ","男性","S審判"]
["R010382664","平岡　和博","４級","ヒラオカ　カズヒロ","男性","S審判"]
["R010047300","平川　絢大","４級","ヒラカワ　ケント","男性","S審判"]
["R010259426","平川　功ニ","４級","ヒラカワ　コウジ","男性","S審判"]
["R007753846","平川　大雅","４級","ヒラカワ　タイガ","男性","S審判"]
["R001259898","平川　孝幸","４級","ヒラカワ　タカユキ","男性","S審判"]
["R010303899","平嶋　僚太","４級","ヒラジマ　リョウタ","男性","S審判"]
["R010415899","平野　翔太","４級","ヒラノ　ショウタ","男性","S審判"]
["R001259986","平野　雅也","４級","ヒラノ　マサヤ","男性","S審判"]
["R010120147","平野　眞丸","４級","ヒラノ　ママル","男性","S審判"]
["R008174064","平野　道弘","４級","ヒラノ　ミチヒロ","男性","S審判"]
["R010248581","平野　靖成","４級","ヒラノ　ヤスナリ","男性","S審判"]
["R010376335","平野　泰寛","４級","ヒラノ　ヤスヒロ","男性","S審判"]
["R004386193","平畠　数大","４級","ヒラハタ　カズヒロ","男性","S審判"]
["R010214604","平林　昭二","４級","ヒラバヤシ　ショウジ","男性","S審判"]
["R010352938","平林　拓朗","４級","ヒラバヤシ　タクロウ","男性","S審判"]
["R001260016","平原　晃","４級","ヒラバラ　アキラ","男性","S審判"]
["R008797953","平原　悟","４級","ヒラバラ　サトル","男性","S審判"]
["R002384049","平原　修人","４級","ヒラバラ　シュウト","男性","S審判"]
["R010351358","平松　寛大","４級","ヒラマツ　カンタ","男性","S審判"]
["R010159158","平松　孝汰朗","４級","ヒラマツ　コウタロウ","男性","S審判"]
["R005603370","平松　大輔","４級","ヒラマツ　ダイスケ","男性","S審判"]
["R010376295","平山　鷹也","４級","ヒラヤマ　タカヤ","男性","S審判"]
["R009197901","廣井　隼人","４級","ヒロイ　ハヤト","男性","S審判"]
["R010243642","廣岡　将","４級","ヒロオカ　ショウ","男性","S審判"]
["R010354789","廣川　陽介","４級","ヒロカワ　ヨウスケ","男性","S審判"]
["R010262652","廣瀬　長治","４級","ヒロセ　タケハル","男性","S審判"]
["R010390436","廣瀬　丈倖","４級","ヒロセ　トモユキ","男性","S審判"]
["R010069886","廣瀬　直軌","４級","ヒロセ　ナオキ","男性","S審判"]
["R008798253","廣瀬　尚人","４級","ヒロセ　ナオト","男性","S審判"]
["R010167787","広瀬　颯人","４級","ヒロセ　ハヤト","男性","S審判"]
["R006872296","廣瀬　光雄","４級","ヒロセ　ミツオ","男性","S審判"]
["R010351380","廣瀬　有気","４級","ヒロセ　ユウキ","男性","S審判"]
["R010415892","廣瀬　優磨","４級","ヒロセ　ユウマ","男性","S審判"]
["R010240551","広瀬　椋平","４級","ヒロセ　リョウヘイ","男性","S審判"]
["R010364736","深井　瞭太","４級","フカイ　リョウタ","男性","S審判"]
["R010069897","深田　涼雅","４級","フカタ　リョウガ","男性","S審判"]
["R010376332","深津　弘毅","４級","フカヅ　コウキ","男性","S審判"]
["R010093449","深見　精二","４級","フカミ　セイジ","男性","S審判"]
["R009369562","福井　健斗","４級","フクイ　ケント","男性","S審判"]
["R010306447","福島　達也","４級","フクシマ　タツヤ","男性","S審判"]
["R010248037","福島　直矢","４級","フクシマ　ナオヤ","男性","S審判"]
["R010394158","福島　莉聖","４級","フクシマ　リセ","女性","S審判"]
["R010314822","福谷　洸明","４級","フクタニ　コウメイ","男性","S審判"]
["R010281885","福田　和輝","４級","フクダ　カズキ","男性","S審判"]
["R010376913","福田　喬志郎","４級","フクダ　キョウシロウ","男性","S審判"]
["R010281831","福田　紫月","４級","フクダ　シヅキ","男性","S審判"]
["R010391917","福田　芳樹","４級","フクダ　ヨシキ","男性","S審判"]
["R010128062","福永　有基","４級","フクナガ　ユウキ","男性","S審判"]
["R010390446","福丸　秀虎","４級","フクマル　ヒデトラ","男性","S審判"]
["R010396500","藤井　健人","４級","フジイ　ケント","男性","S審判"]
["R010214568","藤井　俊輔","４級","フジイ　シュンスケ","男性","S審判"]
["R009408825","藤井　康之","４級","フジイ　ヤスユキ","男性","S審判"]
["R010352952","藤岡　典之","４級","フジオカ　ノリユキ","男性","S審判"]
["R010351372","藤澤　昂大","４級","フジサワ　コウタ","男性","S審判"]
["R010313762","藤澤　康秀","４級","フジサワ　ヤスヒデ","男性","S審判"]
["R010396584","藤澤　琉人","４級","フジサワ　リュウト","男性","S審判"]
["R010313773","藤島　虹太","４級","フジシマ　コウタ","男性","S審判"]
["R008173667","藤末　学","４級","フジスエ　マナブ","男性","S審判"]
["R010261608","藤末　琉生","４級","フジスエ　ルイ","男性","S審判"]
["R010352946","藤田　翔","４級","フジタ　カケル","男性","S審判"]
["R010262648","藤田　健志","４級","フジタ　ケンシ","男性","S審判"]
["R010352948","藤田　倖輝","４級","フジタ　コウキ","男性","S審判"]
["R010355729","藤田　翔輝","４級","フジタ　ショウキ","男性","S審判"]
["R010313758","藤田　匠平","４級","フジタ　ショウヘイ","男性","S審判"]
["R010167754","藤田　誠治","４級","フジタ　セイジ","男性","S審判"]
["R010358014","藤田　聖也","４級","フジタ　セイヤ","男性","S審判"]
["R010356133","藤田　望亜","４級","フジタ　ノア","男性","S審判"]
["R010391946","藤田　輝","４級","フジタ　ヒカル","男性","S審判"]
["R002530888","藤田　光弘","４級","フジタ　ミツヒロ","男性","S審判"]
["R006220837","藤高　豊彦","４級","フジタカ　トヨヒコ","男性","S審判"]
["R006123862","藤並　敬大","４級","フジナミ　タカヒロ","男性","S審判"]
["R010396574","藤野　聖也","４級","フジノ　セイヤ","男性","S審判"]
["R010396505","藤野　哲哉","４級","フジノ　テツヤ","男性","S審判"]
["R007090941","藤野　誠","４級","フジノ　マコト","男性","S審判"]
["R010396545","藤松　秀那","４級","フジマツ　シュウナ","男性","S審判"]
["R003351233","藤松　竜也","４級","フジマツ　タツヤ","男性","S審判"]
["R010214617","藤本　宏平","４級","フジモト　コウヘイ","男性","S審判"]
["R010303865","藤本　諒哉","４級","フジモト　リョウヤ","男性","S審判"]
["R010261612","藤原　樂","４級","フジワラ　ガク","男性","S審判"]
["R010421581","藤原　翔大","４級","フジワラ　ショウタ","男性","S審判"]
["R005467945","藤原　妙子","４級","フジワラ　タエコ","女性","S審判"]
["R010262612","藤原　輝","４級","フジワラ　テルキ","男性","S審判"]
["R010352967","藤原　遥斗","４級","フジワラ　ハルト","男性","S審判"]
["R010159165","藤原　秀俊","４級","フジワラ　ヒデトシ","男性","S審判"]
["R007959547","藤原　宏","４級","フジワラ　ヒロシ","男性","S審判"]
["R010255167","藤原　悠吾","４級","フジワラ　ユウゴ","男性","S審判"]
["R010364707","二神　翔馬","４級","フタガミ　ショウマ","男性","S審判"]
["R010376304","渕上　力輝","４級","フチガミ　リキ","男性","S審判"]
["R010396555","渕野　椋斗","４級","フチノ　リョウト","男性","S審判"]
["R010169058","船杉　祐斗","４級","フナスギ　ユウト","男性","S審判"]
["R010243661","古川　大翔","４級","フルカワ　ヒロト","男性","S審判"]
["R010376334","古代　峻也","４級","フルシロ　シュンヤ","男性","S審判"]
["R010214608","古野　龍","４級","フルノ　リュウ","男性","S審判"]
["R010396566","古野　渉","４級","フルノ　ワタル","男性","S審判"]
["R001260405","古畑　親治","４級","フルハタ　シンジ","男性","S審判"]
["R010259415","戸次　敦","４級","ベッキ　アツシ","男性","S審判"]
["R002678009","保明　栄治","４級","ホアキ　エイジ","男性","S審判"]
["R010214547","帆足　大","４級","ホアシ　ダイ","男性","S審判"]
["R010314803","帆足　優莉","４級","ホアシ　ユウリ","男性","S審判"]
["R010347384","宝珠　史洋","４級","ホウス　フミヒロ","男性","S審判"]
["R010355732","外薗　澪","４級","ホカゾノ　リョウ","男性","S審判"]
["R010376300","星　翔也","４級","ホシ　ショウヤ","男性","S審判"]
["R010056105","星野　杏","４級","ホシノ　キョウ","男性","S審判"]
["R009484728","星野　嵐","４級","ホシノ　ラン","男性","S審判"]
["R010354805","堀　宏斗","４級","ホリ　ヒロト","男性","S審判"]
["R010356144","堀　優太","４級","ホリ　ユウタ","男性","S審判"]
["R010262629","堀江　晴輝","４級","ホリエ　ハルキ","男性","S審判"]
["R010193707","堀川　雅矢","４級","ホリカワ　マサヤ","男性","S審判"]
["R010396512","堀切　鈴央","４級","ホリキリ　レオ","男性","S審判"]
["R010376308","堀部　奏人","４級","ホリベ　カナト","男性","S審判"]
["R010354651","本城　瑛翔","４級","ホンジョウ　アキト","男性","S審判"]
["R010351374","本住　蓮","４級","ホンズミ　レン","男性","S審判"]
["R010396572","本田　敬恭","４級","ホンダ　ケイスケ","男性","S審判"]
["R010352975","本田　裟久哉","４級","ホンダ　サクヤ","男性","S審判"]
["R001258899","本田　淳仁","４級","ホンダ　ジュンジ","男性","S審判"]
["R010120173","本多　太郎","４級","ホンダ　タロウ","男性","S審判"]
["R010364724","本田　輝","４級","ホンダ　ヒカル","男性","S審判"]
["R010396569","本田　郁恭","４級","ホンダ　ユウスケ","男性","S審判"]
["R010355739","本田　陽司","４級","ホンダ　ヨウジ","男性","S審判"]
["R010396502","本間　智己","４級","ホンマ　トモキ","男性","S審判"]
["R010376912","本間　塁","４級","ホンマ　ルイ","男性","S審判"]
["R010314830","前園　健晴","４級","マエゾノ　ケンセイ","男性","S審判"]
["R010159171","前田　耕輔","４級","マエダ　コウスケ","男性","S審判"]
["R010167793","前田　峻希","４級","マエダ　シュンキ","男性","S審判"]
["R006220192","前田　貴浩","４級","マエダ　タカヒロ","男性","S審判"]
["R010240574","前田　優希","４級","マエダ　ユウキ","男性","S審判"]
["R010264736","前田　悠希","４級","マエダ　ユウキ","男性","S審判"]
["R010243663","前橋　咲太","４級","マエバシ　ショウタ","男性","S審判"]
["R010248031","牧　青空","４級","マキ　アオト","男性","S審判"]
["R010093496","牧　大佑","４級","マキ　ダイスケ","男性","S審判"]
["R008793276","牧野　翔","４級","マキノ　カケル","男性","S審判"]
["R010314832","桝田　憲人","４級","マスダ　ケント","男性","S審判"]
["R010128067","桝田　弘人","４級","マスダ　ヒロト","男性","S審判"]
["R010262614","増田　真聡","４級","マスダ　マサト","男性","S審判"]
["R010214601","増野　凌雅","４級","マスノ　リョウガ","男性","S審判"]
["R010303852","増村　潮","４級","マスムラ　ウシオ","男性","S審判"]
["R004386111","松井　孝仁","４級","マツイ　タカヒト","男性","S審判"]
["R010218308","松尾　一生","４級","マツオ　イッセイ","男性","S審判"]
["R009546949","松尾　一平","４級","マツオ　イッペイ","男性","S審判"]
["R007753660","松尾　和文","４級","マツオ　カズフミ","男性","S審判"]
["R005528097","松尾　国洋","４級","マツオ　クニヒロ","男性","S審判"]
["R007334951","松尾　賢一","４級","マツオ　ケンイチ","男性","S審判"]
["R010415893","松尾　洸陽","４級","マツオ　コウヨウ","男性","S審判"]
["R010262634","松尾　琢磨","４級","マツオ　タクマ","男性","S審判"]
["R010007816","松尾　勇","４級","マツオ　ユウ","男性","S審判"]
["R010303854","松尾　勇斗","４級","マツオ　ユウト","男性","S審判"]
["R010391936","松尾　涼真","４級","マツオ　リョウマ","男性","S審判"]
["R010390430","松尾　玲桜馬","４級","マツオ　レオマ","男性","S審判"]
["R010351363","松木　明翔","４級","マツキ　ハルト","男性","S審判"]
["R010415908","松坂　童夢","４級","マツザカ　ドウム","男性","S審判"]
["R010396597","松﨑　裕太郎","４級","マツザキ　ユウタロウ","男性","S審判"]
["R010390425","松下　昂玄","４級","マツシタ　アキハル","男性","S審判"]
["R010314812","松下　衣舞希","４級","マツシタ　イブキ","男性","S審判"]
["R010390437","松下　昊稀","４級","マツシタ　コウキ","男性","S審判"]
["R010390426","松下　真也","４級","マツシタ　シンヤ","男性","S審判"]
["R007959723","松下　立夫","４級","マツシタ　タテオ","男性","S審判"]
["R010416221","松下　響","４級","マツシタ　ヒビキ","男性","S審判"]
["R009546806","松下　稜河","４級","マツシタ　リヨウガ","男性","S審判"]
["R010376348","松島　賢汰","４級","マツシマ　ケンタ","男性","S審判"]
["R010391921","松田　健吾","４級","マツダ　ケンゴ","男性","S審判"]
["R010303897","松田　尚之","４級","マツダ　ナオユキ","男性","S審判"]
["R010311808","松田　信行","４級","マツダ　ノブユキ","男性","S審判"]
["R010100662","松田　幸雄","４級","マツダ　ユキオ","男性","S審判"]
["R010214585","松胴　敦","４級","マツドウ　アツシ","男性","S審判"]
["R010376327","松原　舜","４級","マツバラ　シュン","男性","S審判"]
["R007002991","松原　広幸","４級","マツバラ　ヒロユキ","男性","S審判"]
["R004714970","松原　政司","４級","マツバラ　マサシ","男性","S審判"]
["R010347359","松原　唯衣","４級","マツバラ　ユイ","女性","S審判"]
["R010376312","松原　雄梧","４級","マツバラ　ユウゴ","男性","S審判"]
["R010007830","松村　征治","４級","マツムラ　セイジ","男性","S審判"]
["R010354652","松村　晟直","４級","マツムラ　セイマ","男性","S審判"]
["R010416213","松村　真那","４級","マツムラ　ナオナ","女性","S審判"]
["R010416214","松村　未来","４級","マツムラ　ミク","女性","S審判"]
["R010281857","松本　明広","４級","マツモト　アキヒロ","男性","S審判"]
["R010388060","松本　蒼空","４級","マツモト　カナタ","男性","S審判"]
["R009533486","松本　圭太","４級","マツモト　ケイタ","男性","S審判"]
["R010027881","松本　元希","４級","マツモト　ゲンキ","男性","S審判"]
["R010356126","松本　竜弥","４級","マツモト　タツヤ","男性","S審判"]
["R010386807","松本　ひなの","４級","マツモト　ヒナノ","女性","S審判"]
["R010248579","松本　洋一","４級","マツモト　ヒロカズ","男性","S審判"]
["R010071978","松本　聖輝","４級","マツモト　マサキ","男性","S審判"]
["R010350224","松本　芽依","４級","マツモト　メイ","女性","S審判"]
["R008634520","松元　勇","４級","マツモト　ユウ","女性","S審判"]
["R010093445","松本　侑樹","４級","マツモト　ユウキ","男性","S審判"]
["R004793940","松本　祐輔","４級","マツモト　ユウスケ","男性","S審判"]
["R010388044","松屋　海","４級","マツヤ　カイ","男性","S審判"]
["R010007817","松吉　宏剛","４級","マツヨシ　ヒロマサ","男性","S審判"]
["R010313757","馬見塚　守","４級","マミヅカ　マモル","男性","S審判"]
["R010263771","丸石　蒼太","４級","マルイシ　ソウタ","男性","S審判"]
["R010358003","三浦　櫂斗","４級","ミウラ　カイト","男性","S審判"]
["R005603583","三浦　和美","４級","ミウラ　カズミ","男性","S審判"]
["R008634283","三浦　憲太郎","４級","ミウラ　ケンタロウ","男性","S審判"]
["R010281804","三浦　建人","４級","ミウラ　ケント","男性","S審判"]
["R010376286","三浦　弘大","４級","ミウラ　コウダイ","男性","S審判"]
["R010120131","三浦　哲郎","４級","ミウラ　テツロウ","男性","S審判"]
["R006932437","三浦　雄大","４級","ミウラ　ユウダイ","男性","S審判"]
["R010351385","三重野　颯太","４級","ミエノ　ソウタ","男性","S審判"]
["R006125772","三重野　英人","４級","ミエノ　ヒデト","男性","S審判"]
["R010391950","三木　亨祐","４級","ミキ　キョウスケ","男性","S審判"]
["R008523181","三木　慎博","４級","ミキ　ノリヒロ","男性","S審判"]
["R010390415","三木　誉歩斗","４級","ミキ　マホト","男性","S審判"]
["R010240577","三木　雄斗","４級","ミキ　ユウト","男性","S審判"]
["R010391914","三代　賢司","４級","ミシロ　ケンジ","男性","S審判"]
["R005987582","三代　義彦","４級","ミシロ　ヨシヒコ","男性","S審判"]
["R004060374","水島　義規","４級","ミズシマ　ヨシノリ","男性","S審判"]
["R010083858","水島　澪生","４級","ミズシマ　レイ","男性","S審判"]
["R010303885","水本　翔悠春","４級","ミズモト　ヒュウガ","男性","S審判"]
["R010214618","水本　大登","４級","ミズモト　マサト","男性","S審判"]
["R008797892","溝口　一陽","４級","ミゾグチ　イチヨウ","男性","S審判"]
["R010162993","溝口　飛和","４級","ミゾグチ　トワ","男性","S審判"]
["R010255189","御手洗　響友","４級","ミタライ　キョウ","男性","S審判"]
["R004794073","御手洗　佑太","４級","ミタライ　ユウタ","男性","S審判"]
["R010386812","道久　絵理","４級","ミチヒサ　エリ","女性","S審判"]
["R010376283","三井　雄大","４級","ミツイ　ユウダイ","男性","S審判"]
["R010214591","三橋　諒","４級","ミツハシ　リョウ","男性","S審判"]
["R010264739","三ツ股　郁海","４級","ミツマタ　イクミ","男性","S審判"]
["R002917494","三笘　晋也","４級","ミトマ　シンヤ","男性","S審判"]
["R001261060","三苫　靖","４級","ミトマ　ヤスシ","男性","S審判"]
["R010350225","南　佳織","４級","ミナミ　カオリ","女性","S審判"]
["R010386495","南　桂アレン","４級","ミナミ　ケイアレン","男性","S審判"]
["R010376920","南　豪哉","４級","ミナミ　コウヤ","男性","S審判"]
["R010248586","南　周哉","４級","ミナミ　シュウヤ","男性","S審判"]
["R010352957","南　岳嗣","４級","ミナミ　タケシ","男性","S審判"]
["R010355741","南　早人","４級","ミナミ　ハヤト","男性","S審判"]
["R006574011","南　裕","４級","ミナミ　ヒロシ","男性","S審判"]
["R010214563","峰尾　勝","４級","ミネオ　マサル","男性","S審判"]
["R008480947","峯本　仁貴","４級","ミネモト　ヨシタカ","男性","S審判"]
["R010416223","御幡　優介","４級","ミハタ　ユウスケ","男性","S審判"]
["R003677432","三原　将弥","４級","ミハラ　マサヤ","男性","S審判"]
["R010376288","三股　正直","４級","ミマタ　タダナオ","男性","S審判"]
["R010376890","宮井　翔太","４級","ミヤイ　ショウタ","男性","S審判"]
["R010159137","宮内　廉斗","４級","ミヤウチ　レント","男性","S審判"]
["R010376899","宮岡　泰河","４級","ミヤオカ　タイガ","男性","S審判"]
["R010306451","宮川　大志","４級","ミヤカワ　タイシ","男性","S審判"]
["R004793852","宮崎　友雅","４級","ミヤザキ　トモマサ","男性","S審判"]
["R010364734","宮崎　正浩","４級","ミヤザキ　マサヒロ","男性","S審判"]
["R010376918","宮崎　留希矢","４級","ミヤザキ　ルキヤ","男性","S審判"]
["R010396588","宮里　直太郎","４級","ミヤザト　ナオタロウ","男性","S審判"]
["R010027911","宮田　侑揮","４級","ミヤタ　ユウキ","男性","S審判"]
["R010261593","宮成　啓介","４級","ミヤナリ　ケイスケ","男性","S審判"]
["R010351384","宮野　拓也","４級","ミヤノ　タクヤ","男性","S審判"]
["R007003060","宮原　雄一","４級","ミヤハラ　ユウイチ","男性","S審判"]
["R010261610","宮部　俊輝","４級","ミヤベ　トシキ","男性","S審判"]
["R010352966","宮本　健介","４級","ミヤモト　ケンスケ","男性","S審判"]
["R010262630","宮本　航志郎","４級","ミヤモト　コウシロウ","男性","S審判"]
["R010390429","宮本　晄汰","４級","ミヤモト　コウタ","男性","S審判"]
["R010356116","宮本　崇史","４級","ミヤモト　タカシ","男性","S審判"]
["R010354797","宮本　陽紀","４級","ミヤモト　ハルキ","男性","S審判"]
["R010391945","宮本　悠希","４級","ミヤモト　ユウキ","男性","S審判"]
["R010243668","宮本　幸亜","４級","ミヤモト　ユキア","男性","S審判"]
["R010415889","宮本　遼一","４級","ミヤモト　リョウイチ","男性","S審判"]
["R010347376","三善　李空","４級","ミヨシ　リク","男性","S審判"]
["R010314817","向井　翔夢","４級","ムカイ　ツバサ","男性","S審判"]
["R010376894","向　拓磨","４級","ムコウ　タクマ","男性","S審判"]
["R010390455","牟田　風太","４級","ムタ　フウタ","男性","S審判"]
["R010240541","鞭馬　大輝","４級","ムチマ　ダイキ","男性","S審判"]
["R010247786","宗岡　胡桃","４級","ムナオカ　クルミ","女性","S審判"]
["R004793755","宗岡　亮次","４級","ムナオカ　リョウジ","男性","S審判"]
["R010358006","村井　栄仁","４級","ムライ　エイト","男性","S審判"]
["R010045825","村井　拓磨","４級","ムライ　タクマ","男性","S審判"]
["R010354655","村岡　拓海","４級","ムラオカ　タクミ","男性","S審判"]
["R010162980","村上　一颯","４級","ムラカミ　イッサ","男性","S審判"]
["R010214582","村上　叶恋","４級","ムラカミ　カレン","女性","S審判"]
["R010314806","村上　煌誠","４級","ムラカミ　コウセイ","男性","S審判"]
["R010313763","村上　瑳彩","４級","ムラカミ　サアヤ","女性","S審判"]
["R010347370","村上　紫叶","４級","ムラカミ　シド","男性","S審判"]
["R010314805","村上　太惺","４級","ムラカミ　タイセイ","男性","S審判"]
["R009484986","村上　直士","４級","ムラカミ　ナオト","男性","S審判"]
["R010376902","村上　直哉","４級","ムラカミ　ナオヤ","男性","S審判"]
["R010376898","村上　滉心","４級","ムラカミ　ヒロト","男性","S審判"]
["R001261237","村上　康哉","４級","ムラカミ　ヤスヤ","男性","S審判"]
["R010027901","村上　裕祐","４級","ムラカミ　ユウスケ","男性","S審判"]
["R010128051","村上　悠晟","４級","ムラカミ　ユウセイ","男性","S審判"]
["R001737174","村上　洋平","４級","ムラカミ　ヨウヘイ","男性","S審判"]
["R001252211","村瀬　勇","４級","ムラセ　イサム","男性","S審判"]
["R010303878","村松　凌","４級","ムラマツ　リョウ","男性","S審判"]
["R010162976","村本　輝","４級","ムラモト　ヒカル","男性","S審判"]
["R008797908","村谷　祐一","４級","ムラヤ　ユウイチ","男性","S審判"]
["R010214562","村山　武志","４級","ムラヤマ　タケシ","男性","S審判"]
["R010314810","用松　聖登","４級","モチマツ　マサト","男性","S審判"]
["R010189285","元井　達貴","４級","モトイ　タツキ","男性","S審判"]
["R010159162","元井　陽太","４級","モトイ　ヒナタ","男性","S審判"]
["R010306448","元木　勇太","４級","モトキ　ユウタ","男性","S審判"]
["R010351357","元永　和真","４級","モトナガ　カズマ","男性","S審判"]
["R003421684","本野　秀貴","４級","モトノ　ヒデタカ","男性","S審判"]
["R010303904","本山　蓮","４級","モトヤマ　レン","男性","S審判"]
["R010243647","森　愛斗","４級","モリ　アイト","男性","S審判"]
["R010376895","森　栄紳","４級","モリ　エイシン","男性","S審判"]
["R010255181","森　海翔","４級","モリ　カイト","男性","S審判"]
["R010214605","森　恭子","４級","モリ　キョウコ","女性","S審判"]
["R010390423","森　健太朗","４級","モリ　ケンタロウ","男性","S審判"]
["R010354653","森　桜大朗","４級","モリ　サクタロウ","男性","S審判"]
["R010120183","森　春樹","４級","モリ　ハルキ","男性","S審判"]
["R010390416","森　勇太","４級","モリ　ユウタ","男性","S審判"]
["R010214606","森　凛人","４級","モリ　リト","男性","S審判"]
["R010027876","森　隆嗣","４級","モリ　リュウジ","男性","S審判"]
["R010281811","森崎　敬三","４級","モリサキ　ケイゾウ","男性","S審判"]
["R010396548","森崎　翔愛","４級","モリサキ　トア","男性","S審判"]
["R010113566","森﨑　龍之介","４級","モリサキ　リュウノスケ","男性","S審判"]
["R010421575","森崎　瑠菜","４級","モリサキ　ルナ","女性","S審判"]
["R010261595","森迫　遥希","４級","モリサコ　ハルキ","男性","S審判"]
["R010159147","森迫　聖","４級","モリサコ　ヒジリ","男性","S審判"]
["R010415902","森下　柊飛","４級","モリシタ　シュウト","男性","S審判"]
["R010069888","森下　晴悟","４級","モリシタ　セイゴ","男性","S審判"]
["R010128061","森下　悠","４級","モリシタ　ハルカ","男性","S審判"]
["R009547081","森田　章吾","４級","モリタ　ショウゴ","男性","S審判"]
["R010391928","森田　尚貴","４級","モリタ　ナオキ","男性","S審判"]
["R010259432","森永　和彦","４級","モリナガ　カズヒコ","男性","S審判"]
["R010415904","森光　皇介","４級","モリミツ　オウスケ","男性","S審判"]
["R006221191","森本　拓","４級","モリモト　タク","男性","S審判"]
["R007753679","森本　響","４級","モリモト　ヒビキ","男性","S審判"]
["R010416219","森山　敦能","４級","モリヤマ　アツヒサ","男性","S審判"]
["R010350233","森山　久美","４級","モリヤマ　クミ","女性","S審判"]
["R010416222","森山　皓士郎","４級","モリヤマ　コウシロウ","男性","S審判"]
["R010376911","矢川　魁人","４級","ヤガワ　カイト","男性","S審判"]
["R010354803","薬師寺　和波","４級","ヤクシジ　カズハ","男性","S審判"]
["R010352985","薬師寺　章伊","４級","ヤクシジ　ショウイ","男性","S審判"]
["R010262653","薬師寺　凌矢","４級","ヤクシジ　リョウヤ","男性","S審判"]
["R009554735","八坂　直輝","４級","ヤサカ　ナオキ","男性","S審判"]
["R009460472","八坂　秀青","４級","ヤサカ　ヒデハル","男性","S審判"]
["R010162983","屋敷　優成","４級","ヤシキ　ユウセイ","男性","S審判"]
["R010396581","矢治　弘志郎","４級","ヤジ　コウシロウ","男性","S審判"]
["R007757602","保田　拓海","４級","ヤスダ　タクミ","男性","S審判"]
["R010214593","安田　晴翔","４級","ヤスダ　ハルト","男性","S審判"]
["R001261413","安永　正宏","４級","ヤスナガ　マサヒロ","男性","S審判"]
["R010093501","安波　俊英","４級","ヤスナミ　トシヒデ","男性","S審判"]
["R010214590","安波　大和","４級","ヤスナミ　ヤマト","男性","S審判"]
["R010376892","安久　克也","４級","ヤスヒサ　カツヤ","男性","S審判"]
["R010100689","保本　忠広","４級","ヤスモト　タダヒロ","男性","S審判"]
["R010314816","矢田　彩都","４級","ヤダ　アヤト","男性","S審判"]
["R010350227","矢田　景子","４級","ヤダ　ケイコ","女性","S審判"]
["R010016094","矢田　理宇心","４級","ヤダ　リュウシン","男性","S審判"]
["R010027880","柳井　颯太","４級","ヤナイ　ソウタ","男性","S審判"]
["R010303889","柳　侑吾","４級","ヤナギ　ユウゴ","男性","S審判"]
["R010156516","矢野　翔太郎","４級","ヤノ　ショウタロウ","男性","S審判"]
["R010415909","矢野　想翔","４級","ヤノ　ソウハ","男性","S審判"]
["R009369544","矢野　太一","４級","ヤノ　タイチ","男性","S審判"]
["R010281882","矢野　巽也","４級","ヤノ　タツヤ","男性","S審判"]
["R010255171","矢野　十央南","４級","ヤノ　トオナ","男性","S審判"]
["R010078599","矢野　祐樹","４級","ヤノ　ユウキ","男性","S審判"]
["R010047302","矢野　佑粋","４級","ヤノ　ユウスイ","男性","S審判"]
["R010281830","矢野　譲","４級","ヤノ　ユズル","男性","S審判"]
["R010421582","矢野　龍聖","４級","ヤノ　リュウセイ","男性","S審判"]
["R010388051","矢野　陵太","４級","ヤノ　リョウタ","男性","S審判"]
["R010347365","矢羽田　翔音","４級","ヤハタ　カノン","男性","S審判"]
["R010391952","矢羽田　澪音","４級","ヤハタ　レオン","男性","S審判"]
["R010352990","矢部　泰史","４級","ヤベ　タイシ","男性","S審判"]
["R010159134","山岡　航大","４級","ヤマオカ　コウダイ","男性","S審判"]
["R004385820","山北　治雄","４級","ヤマキタ　ハルオ","男性","S審判"]
["R010354810","山岸　琥生","４級","ヤマギシ　コウ","男性","S審判"]
["R010214476","山岸　琉佳","４級","ヤマギシ　ルカ","女性","S審判"]
["R010100675","山口　彰","４級","ヤマグチ　アキラ","男性","S審判"]
["R010306445","山口　健一郎","４級","ヤマグチ　ケンイチロウ","男性","S審判"]
["R009198265","山口　卓己","４級","ヤマグチ　タクミ","男性","S審判"]
["R010247789","山口　環","４級","ヤマグチ　タマキ","女性","S審判"]
["R001965722","山口　大介","４級","ヤマグチ　ダイスケ","男性","S審判"]
["R010169051","山口　氷河","４級","ヤマグチ　ヒョウガ","男性","S審判"]
["R010303867","山崎　健治","４級","ヤマサキ　ケンジ","男性","S審判"]
["R010214603","山崎　隼樹","４級","ヤマサキ　シュンキ","男性","S審判"]
["R008174338","山﨑　爽暉","４級","ヤマサキ　ソウキ","男性","S審判"]
["R006220873","山崎　武志","４級","ヤマサキ　タケシ","男性","S審判"]
["R010027826","山崎　友樹","４級","ヤマサキ　トモキ","男性","S審判"]
["R010391954","山崎　成遂","４級","ヤマサキ　ナリト","男性","S審判"]
["R010248590","山崎　大和","４級","ヤマサキ　ヤマト","男性","S審判"]
["R010386820","山﨑　夢華","４級","ヤマサキ　ユメカ","女性","S審判"]
["R010248576","山下　瞬亮","４級","ヤマシタ　シュンスケ","男性","S審判"]
["R010388056","山下　空","４級","ヤマシタ　ソラ","男性","S審判"]
["R007090792","山下　寛明","４級","ヤマシタ　ヒロアキ","男性","S審判"]
["R010376893","山下　靖之","４級","ヤマシタ　ヤスユキ","男性","S審判"]
["R010396554","山下　勇翔","４級","ヤマシタ　ユウト","男性","S審判"]
["R010376896","山下　竜二","４級","ヤマシタ　リュウジ","男性","S審判"]
["R010358001","山添　陽生","４級","ヤマゾエ　ハルキ","男性","S審判"]
["R010167742","山田　俊輔","４級","ヤマダ　シュンスケ","男性","S審判"]
["R010376367","山田　大雅","４級","ヤマダ　タイガ","男性","S審判"]
["R010214542","山田　宏和","４級","ヤマダ　ヒロカズ","男性","S審判"]
["R010396589","山田　将来","４級","ヤマダ　マサキ","男性","S審判"]
["R010396544","山田　結和","４級","ヤマダ　ユウト","男性","S審判"]
["R010214599","山西　蒼","４級","ヤマニシ　ソラ","男性","S審判"]
["R010303876","山西　翼","４級","ヤマニシ　ツバサ","男性","S審判"]
["R006872311","山西　昇","４級","ヤマニシ　ノボル","男性","S審判"]
["R006220101","山根　雄治","４級","ヤマネ　ユウジ","男性","S審判"]
["R010189328","山野　聡士","４級","ヤマノ　ソウシ","男性","S審判"]
["R010189350","山野　雄士","４級","ヤマノ　ユウシ","男性","S審判"]
["R010390428","山村　一聡","４級","ヤマムラ　イッソウ","男性","S審判"]
["R006872612","山本　一夫","４級","ヤマモト　カズオ","男性","S審判"]
["R006125639","山本　一広","４級","ヤマモト　カズヒロ","男性","S審判"]
["R005603228","山本　康平","４級","ヤマモト　コウヘイ","男性","S審判"]
["R010303888","山本　祥二","４級","ヤマモト　ショウジ","男性","S審判"]
["R008626886","山本　真乃介","４級","ヤマモト　シンノスケ","男性","S審判"]
["R010189317","山本　純平","４級","ヤマモト　ジュンペイ","男性","S審判"]
["R010376891","山本　空","４級","ヤマモト　ソラ","男性","S審判"]
["R010313746","山本　崇史","４級","ヤマモト　タカフミ","男性","S審判"]
["R009533608","山本　達之介","４級","ヤマモト　タツノスケ","男性","S審判"]
["R010400187","山本　隼斗","４級","ヤマモト　ハヤト","男性","S審判"]
["R010169047","山本　政之介","４級","ヤマモト　マサノスケ","男性","S審判"]
["R010262631","山本　祐翔","４級","ヤマモト　ユウト","男性","S審判"]
["R010007812","山本　吉純","４級","ヤマモト　ヨシズミ","男性","S審判"]
["R010214619","山矢　修冬","４級","ヤマヤ　シュウト","男性","S審判"]
["R010386806","矢幡　芽生","４級","ヤワタ　メイ","女性","S審判"]
["R005164312","矢幡　裕一","４級","ヤワタ　ユウイチ","男性","S審判"]
["R010169045","湯浅　翼","４級","ユアサ　ツバサ","男性","S審判"]
["R010347364","湯浅　悠希","４級","ユアサ　ユウキ","男性","S審判"]
["R006872339","湯浅　陽介","４級","ユアサ　ヨウスケ","男性","S審判"]
["R010214589","幸　偉風","４級","ユキ　イブキ","男性","S審判"]
["R010396590","幸　凱斗","４級","ユキ　カイト","男性","S審判"]
["R010156526","幸　優成","４級","ユキ　ユウセイ","男性","S審判"]
["R010214620","雪野　知花","４級","ユキノ　チカ","女性","S審判"]
["R010352958","油野　陣大","４級","ユノ　ジンタ","男性","S審判"]
["R010261479","柚木　貴博","４級","ユノキ　タカヒロ","男性","S審判"]
["R010047306","弓場　将輝","４級","ユミバ　マサキ","男性","S審判"]
["R010298872","横井　俊斗","４級","ヨコイ　シュント","男性","S審判"]
["R010354800","横岩　颯","４級","ヨコイワ　ハヤテ","男性","S審判"]
["R010214553","横尾　茂","４級","ヨコオ　シゲル","男性","S審判"]
["R010354817","横尾　夏希","４級","ヨコオ　ナツキ","男性","S審判"]
["R010376889","横尾　侑磨","４級","ヨコオ　ユウマ","男性","S審判"]
["R010364711","横大路　寛太","４級","ヨコオウジ　カンタ","男性","S審判"]
["R010262633","横田　翔也","４級","ヨコタ　ショウヤ","男性","S審判"]
["R010396519","横野　陸斗","４級","ヨコノ　リクト","男性","S審判"]
["R010391956","横道　俊輔","４級","ヨコミチ　シュンスケ","男性","S審判"]
["R010261614","横山　翔祗","４級","ヨコヤマ　ショウキ","男性","S審判"]
["R010356114","横山　淳","４級","ヨコヤマ　ジュン","男性","S審判"]
["R010356123","横山　湊","４級","ヨコヤマ　ミナト","男性","S審判"]
["R010388047","吉岡　頼星","４級","ヨシオカ　ライセイ","男性","S審判"]
["R001261811","吉川　和仁","４級","ヨシカワ　カズヒト","男性","S審判"]
["R010281855","吉川　哲平","４級","ヨシカワ　テッペイ","男性","S審判"]
["R010352978","吉川　徳彦","４級","ヨシカワ　ノリヒコ","男性","S審判"]
["R010352988","吉川　大貴","４級","ヨシカワ　ヒロタカ","男性","S審判"]
["R009430268","吉川　美里","４級","ヨシカワ　ミサト","女性","S審判"]
["R010214588","吉川　獅子心","４級","ヨシカワ　ライト","男性","S審判"]
["R010354791","由川　凛大郞","４級","ヨシカワ　リンタロウ","男性","S審判"]
["R010214580","吉賀　信幸","４級","ヨシガ　ノブユキ","男性","S審判"]
["R010352949","吉武　海都","４級","ヨシタケ　カイト","男性","S審判"]
["R003421480","吉武　毅","４級","ヨシタケ　ツヨシ","男性","S審判"]
["R010390427","吉田　蒼威","４級","ヨシダ　アオイ","男性","S審判"]
["R010056093","吉田　圭佑","４級","ヨシダ　ケイスケ","男性","S審判"]
["R010255187","吉田　大晃","４級","ヨシダ　タイコウ","男性","S審判"]
["R010356132","吉田　智樹","４級","ヨシダ　トモキ","男性","S審判"]
["R008798509","吉田　正男","４級","ヨシダ　マサオ","男性","S審判"]
["R005603875","吉野　公司","４級","ヨシノ　コウジ","男性","S審判"]
["R010347374","吉野　浩輔","４級","ヨシノ　コウスケ","男性","S審判"]
["R010071979","吉野　遥紀","４級","ヨシノ　ハルキ","男性","S審判"]
["R010313768","吉野　遥菜","４級","ヨシノ　ハルナ","女性","S審判"]
["R008798466","吉原　喬樹","４級","ヨシハラ　タカキ","男性","S審判"]
["R010396508","吉弘　周平","４級","ヨシヒロ　シュウヘイ","男性","S審判"]
["R010396595","吉廣　心太郎","４級","ヨシヒロ　シンタロウ","男性","S審判"]
["R010120134","吉廣　年男","４級","ヨシヒロ　トシオ","男性","S審判"]
["R010415907","吉弘　怜大","４級","ヨシヒロ　レオ","男性","S審判"]
["R001261918","吉松　健","４級","ヨシマツ　タケシ","男性","S審判"]
["R006147057","吉村　一生","４級","ヨシムラ　カズオ","男性","S審判"]
["R007728716","吉村　純二","４級","ヨシムラ　ジュンジ","男性","S審判"]
["R010314819","吉村　翼","４級","ヨシムラ　ツバサ","男性","S審判"]
["R010356131","吉村　剣","４級","ヨシムラ　ツルギ","男性","S審判"]
["R010189303","吉村　一","４級","ヨシムラ　ハジメ","男性","S審判"]
["R001261936","佳元　省三","４級","ヨシモト　ショウゾウ","男性","S審判"]
["R010352954","吉本　隼磨","４級","ヨシモト　ハユマ","男性","S審判"]
["R010167789","吉元　優哉","４級","ヨシモト　ユウヤ","男性","S審判"]
["R010248568","四井　吏響","４級","ヨツイ　リオト","男性","S審判"]
["R010314821","四井　琉偉","４級","ヨツイ　ルイ","男性","S審判"]
["R009533644","米倉　孝一","４級","ヨネクラ　コウイチ","男性","S審判"]
["R010396542","米澤　邦彦","４級","ヨネザワ　クニヒコ","男性","S審判"]
["R001261972","米田　尚司","４級","ヨネダ　ショウジ","男性","S審判"]
["R010313759","米田　拓","４級","ヨネダ　タク","男性","S審判"]
["R010376908","餘野　尋斗","４級","ヨノ　ヒロト","男性","S審判"]
["R010162992","若林　歩夢","４級","ワカバヤシ　アユム","男性","S審判"]
["R010281870","若林　大暉","４級","ワカバヤシ　ダイキ","男性","S審判"]
["R010156510","若松　莉駒","４級","ワカマツ　リク","男性","S審判"]
["R010391934","若松　遼真","４級","ワカマツ　リョウマ","男性","S審判"]
["R010415901","和合　奏汰","４級","ワゴウ　カナタ","男性","S審判"]
["R010298862","渡邊　葵","４級","ワタナベ　アオイ","男性","S審判"]
["R008797971","渡辺　晃子","４級","ワタナベ　アキコ","女性","S審判"]
["R010314828","渡邉　偉央","４級","ワタナベ　イオ","男性","S審判"]
["R010262616","渡邊　一星","４級","ワタナベ　イッセイ","男性","S審判"]
["R009554896","渡辺　海斗","４級","ワタナベ　カイト","男性","S審判"]
["R010313778","渡邉　我聞","４級","ワタナベ　ガモン","男性","S審判"]
["R010243636","渡辺　嵩也","４級","ワタナベ　シュウヤ","男性","S審判"]
["R010259425","渡邊　舜","４級","ワタナベ　シュン","男性","S審判"]
["R010376897","渡邊　丈一朗","４級","ワタナベ　ジョウイチロウ","男性","S審判"]
["R010376909","渡辺　勝利","４級","ワタナベ　スグリ","男性","S審判"]
["R004385945","渡辺　清一","４級","ワタナベ　セイイチ","男性","S審判"]
["R010262617","渡辺　創己","４級","ワタナベ　ソウキ","男性","S審判"]
["R010159130","渡邉　泰人","４級","ワタナベ　タイト","男性","S審判"]
["R010113537","渡邉　鷹也","４級","ワタナベ　タカヤ","男性","S審判"]
["R010255163","渡辺　剛大","４級","ワタナベ　タケヒロ","男性","S審判"]
["R010007796","渡辺　達也","４級","ワタナベ　タツヤ","男性","S審判"]
["R010083873","渡辺　大翔","４級","ワタナベ　ダイト","男性","S審判"]
["R008797698","渡辺　秀喜","４級","ワタナベ　ヒデキ","男性","S審判"]
["R010390424","渡邉　寛人","４級","ワタナベ　ヒロト","男性","S審判"]
["R001262096","渡辺　寛幸","４級","ワタナベ　ヒロユキ","男性","S審判"]
["R010189289","渡邉　優憲","４級","ワタナベ　マサノリ","男性","S審判"]
["R009659544","渡邉　友輔","４級","ワタナベ　ユウスケ","男性","S審判"]
["R010306435","和田　優作","４級","ワダ　ユウサク","男性","S審判"]
["R010243637","和間　翔","４級","ワマ　ツバサ","男性","S審判"]

{"sheet":"項目","index":15,"n_rows":33,"n_cols":8,"rows_kept":33,"cut":false,"hidden":true,"merged":[]}
["警告/退場",null,"＜警告選択肢＞",null,"＜会場＞",null,"＜役員名簿＞","＜審判名簿＞"]
["警告",null,"反スポ",null,"大在東グラウンド",null,"-","幸　壮一郎"]
["退場",null,"ラフ",null,"挾間上原グラウンド",null,"安東　幹雄","白江　直樹"]
["警告(累積2枚目次節出場停止）",null,"異議",null,"大分ｽﾎﾟｰﾂ公園 昭和電工ｻｯｶｰ･ﾗｸﾞﾋﾞｰ場",null,"高田　友裕","宇髙　篤史"]
[null,null,"繰り返し",null,null,null,"牧　哲也","佐藤　慎二"]
[null,null,"遅延",null,null,null,"佐々木　秀樹"]
[null,null,"距離",null,null,null,"河野　千恵子"]
[null,null,"無断入",null,null,null,"衛藤　俊明"]
[null,null,"無断去",null,null,null,"榊　謙治"]
[null,null,"＜退場選択肢＞",null,null,null,"山本　崇史"]
[null,null,"不正",null,null,null,"小林　遥香"]
[null,null,"乱暴",null,null,null,"上野　貴士"]
[null,null,"つば",null,null,null,"岡部　司"]
[null,null,"阻止(手)",null,null,null,"毛藤　勇三"]
[null,null,"阻止(他)",null,null,null,"隅田　哲平"]
[null,null,"暴言",null,null,null,"秦　啓一郎"]
[null,null,"警告2",null,null,null,"山野内　哲朗"]
[null,null,null,null,null,null,"津守　一雄"]
[null,null,null,null,null,null,"笠野　わかこ"]
[null,null,null,null,null,null,"伊達　洋介"]
[null,null,null,null,null,null,"東　一騎"]
[null,null,null,null,null,null,"唐下　直之"]
[null,null,null,null,null,null,"中原　圭介"]
[null,null,null,null,null,null,"磯村　信一"]
[null,null,null,null,null,null,"松尾　章"]
[null,null,null,null,null,null,"中野　観司郎"]
[null,null,null,null,null,null,"伊東　雅弘"]
[null,null,null,null,null,null,"津守　一雄"]
[null,null,null,null,null,null,"秋吉　明"]
[null,null,null,null,null,null,"仲野　昭博"]
[null,null,null,null,null,null,"安東　信二"]
[null,null,null,null,null,null,"松下　省吾"]
[null,null,null,null,null,null,"市原　宗久"]

{"sheet":"選手名簿","index":16,"n_rows":355,"n_cols":10,"rows_kept":355,"cut":false,"hidden":true,"merged":[]}
[{"$f":"CONCATENATE(B1,\"_\",C1)","v":"大会参加チーム名_背番号"},"大会参加チーム名","背番号","ポジション","選手名漢字","選手名カナ","学年","男女区分","選手登録番号","キャプテン"]
["ＦＣアリアーレ_1","ＦＣアリアーレ","1","GK","古賀　貫太郎","コガ　カンタロウ",6,"男子","0710230034"]
["ＦＣアリアーレ_2","ＦＣアリアーレ","2","MF","矢羽田　大夢","ヤハタ　ヒロム",6,"男子","0707030141"]
["ＦＣアリアーレ_3","ＦＣアリアーレ","3","DF","梶原　龍恩","カジワラ　リュオン",6,"男子","0711120098"]
["ＦＣアリアーレ_4","ＦＣアリアーレ","4","DF","新原　遥翔","シンバル　ハルト",6,"男子","0711120043"]
["ＦＣアリアーレ_5","ＦＣアリアーレ","5","FW","杉野　佑樹","スギノ　ユウキ",6,"男子","0710240175"]
["ＦＣアリアーレ_6","ＦＣアリアーレ","6","MF","三善　天翔","ミヨシ　ツバサ",6,"男子","0803210131"]
["ＦＣアリアーレ_7","ＦＣアリアーレ","7","MF","河津　悠星","カワズ　ユウヤ",6,"男子","0704160148"]
["ＦＣアリアーレ_8","ＦＣアリアーレ","8","MF","櫻木　海晴","サクラギ　カイセイ",6,"男子","0704050150"]
["ＦＣアリアーレ_9","ＦＣアリアーレ","9","MF","吉弘　瑠唯","ヨシヒロ　ルイ",6,"男子","0803060001"]
["ＦＣアリアーレ_10","ＦＣアリアーレ","10","DF","伊藤　瑠","イトウ　ルイ",6,"男子","0803130103","○"]
["ＦＣアリアーレ_11","ＦＣアリアーレ","11","MF","吉野　可亜斗","ヨシノ　カアト",6,"男子","0712110047"]
["ＦＣアリアーレ_12","ＦＣアリアーレ","12","MF","千原　天聖","チハラ　テンセイ",5,"男子","0811060025"]
["ＦＣアリアーレ_13","ＦＣアリアーレ","13","DF","日隈　琳鳳","ヒグマ　リオ",5,"男子","0808120027"]
["ＦＣアリアーレ_14","ＦＣアリアーレ","14","MF","右近　陽翔","ウコン　ハルト",4,"男子","0908210089"]
["ＦＣアリアーレ_16","ＦＣアリアーレ","16","GK","城野　大翔","ジョウノ　ヒロト",5,"男子","0811120006"]
["ＦＣ　ＷＡＹＳ_2","ＦＣ　ＷＡＹＳ","2","MF","角野　泰偲","カクノ　タイシ",6,"男子","0803220176"]
["ＦＣ　ＷＡＹＳ_3","ＦＣ　ＷＡＹＳ","3","MF","梶原　颯汰","カジワラ　ソウタ",6,"男子","0705240141"]
["ＦＣ　ＷＡＹＳ_4","ＦＣ　ＷＡＹＳ","4","MF","金子　周太","カネコ　シュウタ",6,"男子","0705130121"]
["ＦＣ　ＷＡＹＳ_5","ＦＣ　ＷＡＹＳ","5","DF","兒島　佑朔","コジマ　ユウサク",6,"男子","0710260146"]
["ＦＣ　ＷＡＹＳ_6","ＦＣ　ＷＡＹＳ","6","MF","西願　玄騎","サイガン　ゲンキ",6,"男子","0802100083"]
["ＦＣ　ＷＡＹＳ_7","ＦＣ　ＷＡＹＳ","7","MF","吉井　琉輝斗","ヨシイ　ルキト",6,"男子","0704290041","○"]
["ＦＣ　ＷＡＹＳ_8","ＦＣ　ＷＡＹＳ","8","MF","金子　寛太","カネコ　カンタ",5,"男子","0809170147"]
["ＦＣ　ＷＡＹＳ_9","ＦＣ　ＷＡＹＳ","9","DF","松崎　壮悟","マツザキ　ショウゴ",6,"男子","0707270051"]
["ＦＣ　ＷＡＹＳ_10","ＦＣ　ＷＡＹＳ","10","FW","今仁　雅治","イマニ　マサハル",6,"男子","0704040051"]
["ＦＣ　ＷＡＹＳ_11","ＦＣ　ＷＡＹＳ","11","MF","本多　勝","ホンダ　ショウ",5,"男子","0804080045"]
["ＦＣ　ＷＡＹＳ_12","ＦＣ　ＷＡＹＳ","12","FW","永岡　大空","ナガオカ　ソラ",6,"男子","0711300118"]
["ＦＣ　ＷＡＹＳ_13","ＦＣ　ＷＡＹＳ","13","MF","津々良　瑠輝","ツヅラ　リュウキ",5,"男子","0807290141"]
["ＦＣ　ＷＡＹＳ_14","ＦＣ　ＷＡＹＳ","14","MF","三ヶ尻　栄斗","ミカジリ　エイト",5,"男子","0808280131"]
["ＦＣ　ＷＡＹＳ_16","ＦＣ　ＷＡＹＳ","16","GK","三ヶ尻　蒼哉","ミカジリ　ソウヤ",6,"男子","0802090093"]
["ＦＣ　ＷＡＹＳ_17","ＦＣ　ＷＡＹＳ","17","MF","林　泰毅","ハヤシ　タイキ",5,"男子","0805170110"]
["ＦＣ　ＷＡＹＳ_18","ＦＣ　ＷＡＹＳ","18","DF","松山　煌","マツヤマ　キラ",5,"男子","0806110135"]
["きつきＦＣ_1","きつきＦＣ","1","GK","木元　大和","キモト　ヤマト",6,"男子","0803220145"]
["きつきＦＣ_2","きつきＦＣ","2","MF","伊藤　天雅","イトウ　テンマ",2,"男子","1111120020"]
["きつきＦＣ_3","きつきＦＣ","3","MF","末廣　虎太郎","スエヒロ　コタロウ",3,"男子","1006170004"]
["きつきＦＣ_4","きつきＦＣ","4","MF","木元　大芽","キモト　タイガ",4,"男子","0909270033"]
["きつきＦＣ_5","きつきＦＣ","5","MF","廣瀬　帆斗","ヒロセ　ハント",4,"男子","0912170018"]
["きつきＦＣ_6","きつきＦＣ","6","DF","清水　優輔","シミズ　ユウスケ",5,"男子","0901150196"]
["きつきＦＣ_7","きつきＦＣ","7","DF","岩田　璃空","イワタ　リク",5,"男子","0902190039"]
["きつきＦＣ_8","きつきＦＣ","8","DF","野﨑　麻琉","ノザキ　マル",5,"男子","0809250225"]
["きつきＦＣ_9","きつきＦＣ","9","MF","立脇　蒼惟","タテワキ　アオイ",6,"男子","0706300207"]
["きつきＦＣ_10","きつきＦＣ","10","FW","元木　漣","モトキ　レン",6,"男子","0712180119","○"]
["きつきＦＣ_11","きつきＦＣ","11","DF","伊東　克弥","イトウ　カツミ",6,"男子","0801120030"]
["きつきＦＣ_12","きつきＦＣ","12","FW","山本　璃彩","ヤマモト　リア",2,"女子小学生","1106160012"]
["きつきＦＣ_13","きつきＦＣ","13","DF","植村　清十郎","ウエムラ　セイジュウロウ",2,"男子","1201130007"]
["きつきＦＣ_14","きつきＦＣ","14","FW","内藤　士穏","ナイトウ　シオン",2,"男子","1110020020"]
["きつきＦＣ_15","きつきＦＣ","15","DF","立脇　蓮惟","タテワキ　レイ",2,"男子","1201130012"]
["きつきＦＣ_16","きつきＦＣ","16","GK","林　悠真","ハヤシ　ユウマ",6,"男子","0708020286"]
["中津沖代ＪＳＣ_1","中津沖代ＪＳＣ","1","GK","大森　宗樹","オオモリ　ソウジュ",6,"男子","0707300089"]
["中津沖代ＪＳＣ_2","中津沖代ＪＳＣ","2","DF","小野　煌人","オノ　コウト",5,"男子","0808090155"]
["中津沖代ＪＳＣ_3","中津沖代ＪＳＣ","3","FW","古梶　颯大","コカジ　ソウタ",6,"男子","0802250152"]
["中津沖代ＪＳＣ_4","中津沖代ＪＳＣ","4","DF","高木　悠成","タカキ　ユウセイ",6,"男子","0712280092"]
["中津沖代ＪＳＣ_5","中津沖代ＪＳＣ","5","DF","田中　琉輝","タナカ　リュウキ",6,"男子","0704040224"]
["中津沖代ＪＳＣ_6","中津沖代ＪＳＣ","6","FW","大久保　律輝","オオクボ　リツキ",6,"男子","0710150085"]
["中津沖代ＪＳＣ_7","中津沖代ＪＳＣ","7","FW","佐々木　陽音","ササキ　ハルト",6,"男子","0704270125"]
["中津沖代ＪＳＣ_8","中津沖代ＪＳＣ","8","FW","久家　侑奈","クゲ　ユウナ",5,"女子小学生","0811160061"]
["中津沖代ＪＳＣ_9","中津沖代ＪＳＣ","9","MF","小野　悠真","オノ　ユウシン",6,"男子","0712100079"]
["中津沖代ＪＳＣ_10","中津沖代ＪＳＣ","10","MF","長岡　観太","ナガオカ　カンタ",6,"男子","0711080100","○"]
["中津沖代ＪＳＣ_11","中津沖代ＪＳＣ","11","DF","井上　大和","イノウエ　ヤマト",6,"男子","0705130088"]
["中津沖代ＪＳＣ_12","中津沖代ＪＳＣ","12","FW","甲斐　琉聖","カイ　リュウセイ",5,"男子","0811220155"]
["中津沖代ＪＳＣ_13","中津沖代ＪＳＣ","13","GK","宇土　大聖","ウト　オオセ",5,"男子","0812200165"]
["中津沖代ＪＳＣ_18","中津沖代ＪＳＣ","18","DF","外園　湊心","ホカゾノ　ソウタ",5,"男子","0902190080"]
["千怒サッカースポーツ少年団_1","千怒サッカースポーツ少年団","1","GK","石井　湊人","イシイ　ミナト",4,"男子","0904230118"]
["千怒サッカースポーツ少年団_2","千怒サッカースポーツ少年団","2","MF","岩﨑　冬輝","イワサキ　トウキ",3,"男子","1101160021"]
[{"$f":"CONCATENATE(B65,\"_\",C65)","v":"千怒サッカースポーツ少年団_3"},"千怒サッカースポーツ少年団","3","FW","上田　彗斗","ウエダ　ケイト",3,"男子","1007300023"]
["千怒サッカースポーツ少年団_4","千怒サッカースポーツ少年団","4","MF","小手川　耀","コテガワ　ヨウ",3,"男子","1009160012"]
["千怒サッカースポーツ少年団_5","千怒サッカースポーツ少年団","5","MF","岩﨑　蓮","イワサキ　レン",4,"男子","0904220032"]
["千怒サッカースポーツ少年団_7","千怒サッカースポーツ少年団","7","MF","有永　夏基","アリナガ　ナツキ",4,"男子","0907180012"]
["千怒サッカースポーツ少年団_8","千怒サッカースポーツ少年団","8","MF","石谷　悠次郎","イシタニ　ユウジロウ",4,"男子","0906140026"]
["千怒サッカースポーツ少年団_9","千怒サッカースポーツ少年団","9","DF","軸丸　大輝","ジクマル　ダイキ",6,"男子","0704130031"]
["千怒サッカースポーツ少年団_10","千怒サッカースポーツ少年団","10","MF","小松　由奈","コマツ　ユナ",6,"女子小学生","0704230027","○"]
["千怒サッカースポーツ少年団_11","千怒サッカースポーツ少年団","11","DF","松下　琴春","マツシタ　コハル",6,"女子小学生","0801190024"]
["千怒サッカースポーツ少年団_12","千怒サッカースポーツ少年団","12","FW","坂本　凪","サカモト　ナギ",3,"男子","1012310007"]
["千怒サッカースポーツ少年団_14","千怒サッカースポーツ少年団","14","FW","堀口　滉太","ホリグチ　コウタ",4,"男子","0908120016"]
["千怒サッカースポーツ少年団_16","千怒サッカースポーツ少年団","16","GK","仲　凌生","ナカ　リョウセイ",3,"男子","1009030008"]
["千怒サッカースポーツ少年団_17","千怒サッカースポーツ少年団","17","FW","西村　鴻志","ニシムラ　コウシ",3,"男子","1006030014"]
["千怒サッカースポーツ少年団_18","千怒サッカースポーツ少年団","18","FW","深津　空斗","フカヅ　ソラト",2,"男子","1203080011"]
["佐伯リベロフットボールクラブ_2","佐伯リベロフットボールクラブ","2","DF","山村　心大","ヤマムラ　シンタ",4,"男子","0910040079"]
["佐伯リベロフットボールクラブ_3","佐伯リベロフットボールクラブ","3","DF","岩丸　優真","イワマル　ユウマ",4,"男子","1003070070"]
["佐伯リベロフットボールクラブ_4","佐伯リベロフットボールクラブ","4","FW","井上　有夢","イノウエ　アルム",5,"女子小学生","0812250238"]
["佐伯リベロフットボールクラブ_5","佐伯リベロフットボールクラブ","5","DF","上杉　康真","ウエスギ　コウマ",6,"男子","0704230132","○"]
["佐伯リベロフットボールクラブ_6","佐伯リベロフットボールクラブ","6","FW","岩丸　陽斗","イワマル　ハルト",5,"男子","0901270176"]
["佐伯リベロフットボールクラブ_8","佐伯リベロフットボールクラブ","8","MF","百田　翔貴","モモタ　トキ",4,"男子","0904150138"]
["佐伯リベロフットボールクラブ_9","佐伯リベロフットボールクラブ","9","MF","奈須野　友登","ナスノ　ユウト",6,"男子","0710150118"]
["佐伯リベロフットボールクラブ_10","佐伯リベロフットボールクラブ","10","DF","山村　千代花","ヤマムラ　チヨカ",6,"女子小学生","0705130103"]
["佐伯リベロフットボールクラブ_11","佐伯リベロフットボールクラブ","11","FW","菊池　大翔","キクチ　ヒロト",5,"男子","0804270132"]
["佐伯リベロフットボールクラブ_12","佐伯リベロフットボールクラブ","12","FW","児玉　周哉","コダマ　シュウヤ",6,"男子","0704120130"]
["佐伯リベロフットボールクラブ_21","佐伯リベロフットボールクラブ","21","GK","上村　叶多","カミムラ　カナタ",5,"男子","0901260177"]
["別府フットボールクラブ．ミネルバＵ－１２_1","別府フットボールクラブ．ミネルバＵ－１２","1","GK","大野　弥生","オオノ　ヒロキ",6,"男子","0704200198"]
["別府フットボールクラブ．ミネルバＵ－１２_2","別府フットボールクラブ．ミネルバＵ－１２","2","DF","堀　竜仁","ホリ　リュウト",6,"男子","0708190135"]
["別府フットボールクラブ．ミネルバＵ－１２_3","別府フットボールクラブ．ミネルバＵ－１２","3","DF","恒松　宗梧","ツネマツ　ソウゴ",6,"男子","0708230158"]
["別府フットボールクラブ．ミネルバＵ－１２_4","別府フットボールクラブ．ミネルバＵ－１２","4","DF","網中　碧","アミナカ　アオイ",6,"男子","0801020110"]
["別府フットボールクラブ．ミネルバＵ－１２_5","別府フットボールクラブ．ミネルバＵ－１２","5","MF","有永　咲","アリナガ　サキ",5,"男子","0805030137"]
["別府フットボールクラブ．ミネルバＵ－１２_6","別府フットボールクラブ．ミネルバＵ－１２","6","FW","武田　司","タケダ　ツカサ",5,"男子","0804200157"]
["別府フットボールクラブ．ミネルバＵ－１２_7","別府フットボールクラブ．ミネルバＵ－１２","7","MF","高橋　遼","タカハシ　リョウ",6,"男子","0708230157","○"]
["別府フットボールクラブ．ミネルバＵ－１２_8","別府フットボールクラブ．ミネルバＵ－１２","8","MF","藤原　隆仁","フジワラ　タカヒト",6,"男子","0709110175"]
["別府フットボールクラブ．ミネルバＵ－１２_9","別府フットボールクラブ．ミネルバＵ－１２","9","FW","永路　拓実","エイロ　タクミ",6,"男子","0711290154"]
["別府フットボールクラブ．ミネルバＵ－１２_10","別府フットボールクラブ．ミネルバＵ－１２","10","MF","横井　希星","ヨコイ　キラ",6,"男子","0706200190"]
["別府フットボールクラブ．ミネルバＵ－１２_11","別府フットボールクラブ．ミネルバＵ－１２","11","FW","福屋　裕士","フクヤ　ヒロシ",5,"男子","0806280067"]
["別府フットボールクラブ．ミネルバＵ－１２_14","別府フットボールクラブ．ミネルバＵ－１２","14","MF","合田　理美","ゴウダ　リミ",6,"女子小学生","0607020099"]
["別府フットボールクラブ．ミネルバＵ－１２_15","別府フットボールクラブ．ミネルバＵ－１２","15","GK","幸重　頼人","ユキシゲ　ライト",5,"男子","0810180137"]
["別保ＳＦＣ_1","別保ＳＦＣ","1","GK","井伊　利大","イイ　トシマス",5,"男子","0806040213"]
["別保ＳＦＣ_2","別保ＳＦＣ","2","DF","江上　颯太","エガミ　ソウタ",5,"男子","0806090174"]
["別保ＳＦＣ_3","別保ＳＦＣ","3","DF","後藤　睦希","ゴトウ　ムツキ",5,"男子","0809270026"]
["別保ＳＦＣ_4","別保ＳＦＣ","4","FW","河野　優利","カワノ　ユウリ",6,"男子","0710270034"]
["別保ＳＦＣ_5","別保ＳＦＣ","5","DF","髙岡　心","タカオカ　シン",6,"男子","0712080090"]
["別保ＳＦＣ_6","別保ＳＦＣ","6","GK","久保田　大翔","クボタ　ツバサ",6,"男子","0707020127"]
["別保ＳＦＣ_7","別保ＳＦＣ","7","MF","小林　幹大","コバヤシ　カンダイ",6,"男子","0705090056"]
["別保ＳＦＣ_8","別保ＳＦＣ","8","FW","壁村　芽生","カベムラ　メイ",6,"女子小学生","0712210110"]
["別保ＳＦＣ_9","別保ＳＦＣ","9","MF","吉川　雅彦","ヨシカワ　マサヒコ",6,"男子","0709210045"]
["別保ＳＦＣ_10","別保ＳＦＣ","10","MF","池辺　結斗","イケベ　ユイト",6,"男子","0801260090","○"]
["別保ＳＦＣ_11","別保ＳＦＣ","11","MF","堀田　東寿","ホリタ　トウシュウ",6,"男子","0707240273"]
["別保ＳＦＣ_12","別保ＳＦＣ","12","FP","佐藤　悠人","サトウ　ユウト",5,"男子","0810010192"]
["別保ＳＦＣ_13","別保ＳＦＣ","13","DF","寺岡　健太郎","テラオカ　ケンタロウ",5,"男子","0805010278"]
["別保ＳＦＣ_14","別保ＳＦＣ","14","FW","中倉　舞姫","ナカクラ　マイ",5,"女子小学生","0804220212"]
["別保ＳＦＣ_15","別保ＳＦＣ","15","FW","児玉　龍飛","コダマ　リント",5,"男子","0807050172"]
["大分トリニータＵ－１２_1","大分トリニータＵ－１２","1","GK","加藤　航","カトウ　ワタル",6,"男子","0705270118"]
["大分トリニータＵ－１２_2","大分トリニータＵ－１２","2","FW","新名　巧旺","ニイナ　コオ",6,"男子","0709060128"]
["大分トリニータＵ－１２_3","大分トリニータＵ－１２","3","MF","柳田　大希","ヤナギダ　ダイキ",6,"男子","0704070124"]
["大分トリニータＵ－１２_4","大分トリニータＵ－１２","4","MF","有村　凌史郎","アリムラ　リョウシロウ",6,"男子","0803070112"]
["大分トリニータＵ－１２_5","大分トリニータＵ－１２","5","MF","石本　星七","イシモト　セナ",6,"男子","0704030055"]
["大分トリニータＵ－１２_6","大分トリニータＵ－１２","6","MF","大堀　翼颯","オオホリ　ツバサ",6,"男子","0708090128"]
["大分トリニータＵ－１２_7","大分トリニータＵ－１２","7","MF","斉藤　晄吏","サイトウ　ヒカリ",6,"男子","0711190042"]
["大分トリニータＵ－１２_8","大分トリニータＵ－１２","8","MF","染矢　宏輝","ソメヤ　コウキ",6,"男子","0710210098"]
["大分トリニータＵ－１２_9","大分トリニータＵ－１２","9","MF","原田　高虎","ハラダ　タカトラ",6,"男子","0711010122"]
["大分トリニータＵ－１２_10","大分トリニータＵ－１２","10","FW","木許　央雅","キモト　オウガ",6,"男子","0710270038"]
["大分トリニータＵ－１２_11","大分トリニータＵ－１２","11","MF","河野　歩夢","カワノ　アユム",6,"男子","0710130061"]
["大分トリニータＵ－１２_12","大分トリニータＵ－１２","12","GK","桑原　颯太","クワバラ　ソウタ",6,"男子","0707050141"]
[{"$f":"CONCATENATE(B129,\"_\",C129)","v":"大分トリニータＵ－１２_13"},"大分トリニータＵ－１２","13","MF","後藤　慶","ゴトウ　ケイ",6,"男子","0708290150"]
["大分トリニータＵ－１２_14","大分トリニータＵ－１２","14","MF","仲村　陽太","ナカムラ　ヒナタ",6,"男子","0705300102","○"]
["大分トリニータＵ－１２_15","大分トリニータＵ－１２","15","MF","柴田　峻徳","シバタ　シュントク",6,"男子","0704200003"]
["大分トリニータＵ－１２_17","大分トリニータＵ－１２","17","FW","中道　大聖","ナカミチ　タイセイ",5,"男子","0806260056"]
["明野東サッカースポーツ少年団_1","明野東サッカースポーツ少年団","1","GK","大倉　公亮","オオクラ　コウスケ",6,"男子","0707310099"]
["明野東サッカースポーツ少年団_2","明野東サッカースポーツ少年団","2","DF","寺田　和司","テラダ　カズシ",5,"男子","0808190227"]
["明野東サッカースポーツ少年団_3","明野東サッカースポーツ少年団","3","DF","渡辺　陽斗","ワタナベ　ヒナト",5,"男子","0812250223"]
["明野東サッカースポーツ少年団_4","明野東サッカースポーツ少年団","4","MF","山村　悠己","ヤマムラ　ユウキ",5,"男子","0806070190"]
["明野東サッカースポーツ少年団_5","明野東サッカースポーツ少年団","5","FW","森迫　京之介","モリサコ　キョウノスケ",5,"男子","0809210157"]
["明野東サッカースポーツ少年団_6","明野東サッカースポーツ少年団","6","MF","渡辺　敢太","ワタナベ　カンタ",5,"男子","0811190202"]
["明野東サッカースポーツ少年団_7","明野東サッカースポーツ少年団","7","DF","阿部　航大","アベ　コウダイ",6,"男子","0706260084"]
["明野東サッカースポーツ少年団_8","明野東サッカースポーツ少年団","8","MF","志賀　快音","シガ　カイト",6,"男子","0710100016"]
["明野東サッカースポーツ少年団_9","明野東サッカースポーツ少年団","9","FW","田島　李凰","タジマ　リオウ",5,"男子","0901070194"]
["明野東サッカースポーツ少年団_10","明野東サッカースポーツ少年団","10","MF","長野　新","ナガノ　アラタ",6,"男子","0711060091"]
["明野東サッカースポーツ少年団_11","明野東サッカースポーツ少年団","11","FW","前田　晴都","マエダ　ハルト",6,"男子","0707260154"]
["明野東サッカースポーツ少年団_13","明野東サッカースポーツ少年団","13","MF","阿部　渚","アベ　ナギサ",5,"男子","0806140172"]
["明野東サッカースポーツ少年団_14","明野東サッカースポーツ少年団","14","MF","長井　瑠之介","ナガイ　リュウノスケ",6,"男子","0706250099","○"]
["明野東サッカースポーツ少年団_15","明野東サッカースポーツ少年団","15","DF","岩坂　遥斗","イワサカ　ハルト",6,"男子","0707160072"]
["明野東サッカースポーツ少年団_18","明野東サッカースポーツ少年団","18","MF","加藤　煌明","カトウ　コウメイ",5,"男子","0804210216"]
["明野東サッカースポーツ少年団_21","明野東サッカースポーツ少年団","21","GK","大倉　舜佑","オオクラ　シュンスケ",5,"男子","0902090178"]
["大道サッカースポーツ少年団_1","大道サッカースポーツ少年団","1","GK","足立　暖和","アダチ　ハルト",5,"男子","0811150017"]
["大道サッカースポーツ少年団_2","大道サッカースポーツ少年団","2","DF","武藤　匠海","ムトウ　タクミ",6,"男子","0707060009"]
["大道サッカースポーツ少年団_3","大道サッカースポーツ少年団","3","DF","河野　優人","カワノ　ユウト",6,"男子","0803030005"]
["大道サッカースポーツ少年団_4","大道サッカースポーツ少年団","4","MF","森　弦世","モリ　ゲンセイ",6,"男子","0704150006","○"]
["大道サッカースポーツ少年団_5","大道サッカースポーツ少年団","5","FW","清末　七翔","キヨスエ　ナナト",6,"男子","0707050276"]
["大道サッカースポーツ少年団_6","大道サッカースポーツ少年団","6","MF","山中　翔太郎","ヤマナカ　ショウタロウ",6,"男子","0802010217"]
["大道サッカースポーツ少年団_7","大道サッカースポーツ少年団","7","FW","森永　悠太","モリナガ　ユウタ",6,"男子","0710150109"]
["大道サッカースポーツ少年団_8","大道サッカースポーツ少年団","8","FW","木村　太陽","キムラ　タイヨウ",5,"男子","0811170005"]
["大道サッカースポーツ少年団_9","大道サッカースポーツ少年団","9","DF","田原　健史朗","タハラ　ケンシロウ",5,"男子","0805220021"]
["大道サッカースポーツ少年団_10","大道サッカースポーツ少年団","10","MF","首藤　教輔","シュトウ　キョウスケ",5,"男子","0808300032"]
["大道サッカースポーツ少年団_11","大道サッカースポーツ少年団","11","FW","麻生　なるみ","アソウ　ナルミ",5,"女子小学生","0902120075"]
["大道サッカースポーツ少年団_12","大道サッカースポーツ少年団","12","GK","竹尾　理志","タケオ　サトシ",4,"男子","0909170010"]
["大道サッカースポーツ少年団_13","大道サッカースポーツ少年団","13","MF","利光　航琉","トシミツ　ワタル",5,"男子","0808200147"]
["大道サッカースポーツ少年団_15","大道サッカースポーツ少年団","15","FW","岩田　夏槻","イワタ　ナツキ",4,"男子","0905230008"]
["大道サッカースポーツ少年団_16","大道サッカースポーツ少年団","16","DF","今畠　かえで","イマハタ　カエデ",4,"女子小学生","0906280022"]
["大道サッカースポーツ少年団_18","大道サッカースポーツ少年団","18","MF","山口　倫","ヤマグチ　リン",4,"男子","0912090016"]
["明野西ＪＦＣ_1","明野西ＪＦＣ","1","GK","後藤　健伍","ゴトウ　ケンゴ",5,"男子","0804250019"]
["明野西ＪＦＣ_2","明野西ＪＦＣ","2","DF","中島　永風","ナカシマ　ハルカ",6,"男子","0709130261"]
["明野西ＪＦＣ_3","明野西ＪＦＣ","3","DF","田邉　洸乃","タナベ　コウダイ",5,"男子","0812120021"]
["明野西ＪＦＣ_4","明野西ＪＦＣ","4","DF","足立　悠真","アダチ　ユウマ",5,"男子","0809100015"]
["明野西ＪＦＣ_5","明野西ＪＦＣ","5","DF","東　美月","ヒガシ　ミヅキ",5,"女子小学生","0811190104"]
["明野西ＪＦＣ_6","明野西ＪＦＣ","6","MF","西田　空翔","ニシダ　ソラト",5,"男子","0902200011"]
["明野西ＪＦＣ_7","明野西ＪＦＣ","7","MF","日野　那音","ヒノ　ナオト",5,"男子","0805020021"]
["明野西ＪＦＣ_8","明野西ＪＦＣ","8","MF","東　拓史","ヒガシ　タクミ",5,"男子","0811190103"]
["明野西ＪＦＣ_9","明野西ＪＦＣ","9","FW","米丸　碧","ヨネマル　アオ",5,"男子","0807020126"]
["明野西ＪＦＣ_10","明野西ＪＦＣ","10","FW","篠田　諭貴久","シノダ　ユキヒサ",6,"男子","0712030025","○"]
["明野西ＪＦＣ_11","明野西ＪＦＣ","11","MF","松本　凌茉","マツモト　リョウマ",4,"男子","0910030010"]
["明野西ＪＦＣ_12","明野西ＪＦＣ","12","GK","切封　夢叶","キリフ　ユウト",5,"男子","0902080015"]
["明野西ＪＦＣ_13","明野西ＪＦＣ","13","MF","川副　孝仁","カワソエ　タカヒト",4,"男子","0908270028"]
["明野西ＪＦＣ_14","明野西ＪＦＣ","14","DF","河村　奏汰","カワムラ　ソウタ",4,"男子","0904180046"]
["明野西ＪＦＣ_15","明野西ＪＦＣ","15","MF","足立　雅樹","アダチ　マサキ",3,"男子","1009050006"]
["明野西ＪＦＣ_16","明野西ＪＦＣ","16","MF","西郡　皐太朗","ニシゴオリ　コウタロウ",4,"男子","0905080246"]
["ドリームキッズフットボールクラブ_1","ドリームキッズフットボールクラブ","1","GK","岩本　凌真","イワモト　リョウマ",5,"男子","0806190127"]
["ドリームキッズフットボールクラブ_2","ドリームキッズフットボールクラブ","2","MF","子守　悠真","コモリ　ユウマ",5,"男子","0811270028"]
["ドリームキッズフットボールクラブ_3","ドリームキッズフットボールクラブ","3","DF","鱒村　侑士","マスムラ　ユウト",5,"男子","0806210027"]
["ドリームキッズフットボールクラブ_4","ドリームキッズフットボールクラブ","4","MF","大谷　悟史","オオタニ　サトシ",5,"男子","0808200020"]
["ドリームキッズフットボールクラブ_5","ドリームキッズフットボールクラブ","5","MF","宮部　大翔","ミヤベ　ヒロト",6,"男子","0704100012"]
["ドリームキッズフットボールクラブ_6","ドリームキッズフットボールクラブ","6","DF","長田　昂大","ナガタ　コウダイ",6,"男子","0707010068"]
["ドリームキッズフットボールクラブ_7","ドリームキッズフットボールクラブ","7","DF","森崎　和翼","モリサキ　ナツ",6,"男子","0711050037"]
["ドリームキッズフットボールクラブ_8","ドリームキッズフットボールクラブ","8","MF","須川　愛琉","スガワ　アイル",6,"男子","0802040053"]
["ドリームキッズフットボールクラブ_9","ドリームキッズフットボールクラブ","9","DF","吉村　心冴","ヨシムラ　シンゴ",6,"男子","0704240050"]
["ドリームキッズフットボールクラブ_10","ドリームキッズフットボールクラブ","10","DF","佐藤　彰人","サトウ　アキト",6,"男子","0708030049","○"]
["ドリームキッズフットボールクラブ_11","ドリームキッズフットボールクラブ","11","MF","河野　真剣","カワノ　シンケン",5,"男子","0804290029"]
["ドリームキッズフットボールクラブ_12","ドリームキッズフットボールクラブ","12","DF","山下　紫凰","ヤマシタ　シオウ",5,"男子","0810080034"]
[{"$f":"CONCATENATE(B193,\"_\",C193)","v":"ドリームキッズフットボールクラブ_13"},"ドリームキッズフットボールクラブ","13","FW","佐藤　嘉人","サトウ　ヒロト",4,"男子","0908180038"]
["ドリームキッズフットボールクラブ_14","ドリームキッズフットボールクラブ","14","DF","有田　悠真","アリタ　ユウマ",6,"男子","0712180193"]
["ドリームキッズフットボールクラブ_16","ドリームキッズフットボールクラブ","16","GK","北田　旺佑","キタダ　オウスケ",4,"男子","0909280039"]
["ドリームキッズフットボールクラブ_20","ドリームキッズフットボールクラブ","20","DF","畔津　大治郎","アゼツ　ダイジロウ",5,"男子","0903010120"]
["ＦＣ安岐_1","ＦＣ安岐","1","GK","矢野　道之","ヤノ　ミチユキ",5,"男子","0901310082"]
["ＦＣ安岐_2","ＦＣ安岐","2","MF","橋本　尚","ハシモト　ナオ",5,"男子","0903260031"]
["ＦＣ安岐_3","ＦＣ安岐","3","MF","小俣　慶一郎","オマタ　ケイイチロウ",5,"男子","0805130114"]
["ＦＣ安岐_4","ＦＣ安岐","4","DF","上野　海翔","ウエノ　カイト",5,"男子","0808200125"]
["ＦＣ安岐_5","ＦＣ安岐","5","MF","小田原　奎斗","オダワラ　ケイト",6,"男子","0801250119"]
["ＦＣ安岐_6","ＦＣ安岐","6","FW","南　煌大","ミナミ　コウダイ",6,"男子","0803100100"]
["ＦＣ安岐_7","ＦＣ安岐","7","DF","橋本　昂太","ハシモト　コウタ",6,"男子","0706070140"]
["ＦＣ安岐_8","ＦＣ安岐","8","DF","木村　翔瑛","キムラ　ヒエイ",6,"男子","0704210130","○"]
["ＦＣ安岐_9","ＦＣ安岐","9","MF","清末　勘之","キヨスエ　ノリユキ",6,"男子","0712150093"]
["ＦＣ安岐_10","ＦＣ安岐","10","MF","金江　徹平","カナエ　テッペイ",6,"男子","0708070128"]
["ＦＣ安岐_11","ＦＣ安岐","11","MF","今富　蓮","イマトミ　レン",5,"男子","0806210045"]
["ＦＣ安岐_12","ＦＣ安岐","12","FW","小田　冬絆","オダ　トウキ",5,"男子","0903070015"]
["ＦＣ安岐_13","ＦＣ安岐","13","DF","佐藤　礼","サトウ　ライ",5,"男子","0810110196"]
["ＦＣ安岐_16","ＦＣ安岐","16","GK","羽迫　史久","ハサコ　リク",5,"男子","0804140217"]
["スマイス・セレソン_1","スマイス・セレソン","1","GK","阿部　巧翔","アベ　タクト",6,"男子","0801010022"]
["スマイス・セレソン_2","スマイス・セレソン","2","DF","渡辺　陽星","ワタナベ　ハル",6,"男子","0801050045"]
["スマイス・セレソン_3","スマイス・セレソン","3","DF","土井　純音","ドイ　アツキ",6,"男子","0803250240"]
["スマイス・セレソン_4","スマイス・セレソン","4","DF","原田　煌也","ハラダ　オウヤ",5,"男子","0805120217"]
["スマイス・セレソン_5","スマイス・セレソン","5","DF","石川　巧翔","イシカワ　タクト",6,"男子","0708210254"]
["スマイス・セレソン_6","スマイス・セレソン","6","FW","財前　大翔","ザイゼン　ヒロト",6,"男子","0705150143"]
["スマイス・セレソン_7","スマイス・セレソン","7","MF","小野　陽士","オノ　アキト",6,"男子","0710190158"]
["スマイス・セレソン_8","スマイス・セレソン","8","FW","佐々木　大和","ササキ　ヤマト",5,"男子","0804190157"]
["スマイス・セレソン_9","スマイス・セレソン","9","MF","横田　啓","ヨコタ　ケイ",5,"男子","0804040231"]
["スマイス・セレソン_10","スマイス・セレソン","10","FW","大室　響","オオムロ　ヒビキ",6,"男子","0706180106","○"]
["スマイス・セレソン_11","スマイス・セレソン","11","MF","膳瀬　晃希","ゼンセ　コウキ",6,"男子","0802080236"]
["スマイス・セレソン_12","スマイス・セレソン","12","MF","岩崎　蓮武","イワサキ　レン",5,"男子","0807280210"]
["スマイス・セレソン_13","スマイス・セレソン","13","FW","安部　颯","アンベ　ハヤテ",5,"男子","0804060163"]
["スマイス・セレソン_14","スマイス・セレソン","14","DF","宮崎　海迅","ミヤザキ　カイト",5,"男子","0806300232"]
["スマイス・セレソン_15","スマイス・セレソン","15","MF","大室　匠","オオムロ　タクミ",4,"男子","0907310200"]
["スマイス・セレソン_16","スマイス・セレソン","16","GK","赤野　陽亮","アカノ　ヨウスケ",6,"男子","0706010116"]
["カティオーラフットボールクラブＵ－１２_2","カティオーラフットボールクラブＵ－１２","2","FW","幸重　徹平","ユキシゲ　テッペイ",6,"男子","0706040158"]
["カティオーラフットボールクラブＵ－１２_3","カティオーラフットボールクラブＵ－１２","3","DF","小田　晴之介","オダ　セイノスケ",6,"男子","0706060142"]
["カティオーラフットボールクラブＵ－１２_4","カティオーラフットボールクラブＵ－１２","4","GK","工藤　渉","クドウ　ショウ",6,"男子","0712020077"]
["カティオーラフットボールクラブＵ－１２_5","カティオーラフットボールクラブＵ－１２","5","DF","奥田　智己","オクダ　トモキ",6,"男子","0801060101"]
["カティオーラフットボールクラブＵ－１２_6","カティオーラフットボールクラブＵ－１２","6","DF","吉元　俊輔","ヨシモト　シュンスケ",6,"男子","0705030048"]
["カティオーラフットボールクラブＵ－１２_7","カティオーラフットボールクラブＵ－１２","7","FW","司城　大輝","ツカサキ　ダイキ",6,"男子","0710240078","○"]
["カティオーラフットボールクラブＵ－１２_8","カティオーラフットボールクラブＵ－１２","8","FW","村上　温俊","ムラカミ　ハルト",6,"男子","0710240165"]
["カティオーラフットボールクラブＵ－１２_9","カティオーラフットボールクラブＵ－１２","9","MF","松田　翔空","マツダ　トア",6,"男子","0803010093"]
["カティオーラフットボールクラブＵ－１２_10","カティオーラフットボールクラブＵ－１２","10","MF","松場　次元","マツバ　ジゲン",6,"男子","0705010155"]
["カティオーラフットボールクラブＵ－１２_11","カティオーラフットボールクラブＵ－１２","11","MF","佐藤　悠晴","サトウ　ユウセイ",6,"男子","0706190218"]
["カティオーラフットボールクラブＵ－１２_13","カティオーラフットボールクラブＵ－１２","13","FW","玉井　祐彰","タマイ　ヨシアキ",6,"男子","0803080106"]
["カティオーラフットボールクラブＵ－１２_14","カティオーラフットボールクラブＵ－１２","14","MF","渡辺　碧海","ワタナベ　アオア",5,"男子","0809190032"]
["カティオーラフットボールクラブＵ－１２_15","カティオーラフットボールクラブＵ－１２","15","MF","奥　祐翔","オク　ユウト",6,"男子","0802250040"]
["カティオーラフットボールクラブＵ－１２_16","カティオーラフットボールクラブＵ－１２","16","DF","野尻　憲慎","ノジリ　ケンシン",5,"男子","0810180080"]
["由布川サッカースポーツ少年団_1","由布川サッカースポーツ少年団","1","MF","後藤　颯太","ゴトウ　ソウタ",6,"男子","0705030086"]
["由布川サッカースポーツ少年団_2","由布川サッカースポーツ少年団","2","MF","荒巻　而志","アラマキ　ナオユキ",5,"男子","0808140141"]
["由布川サッカースポーツ少年団_3","由布川サッカースポーツ少年団","3","FW","小野　友真","オノ　ユウマ",5,"男子","0809260131"]
["由布川サッカースポーツ少年団_4","由布川サッカースポーツ少年団","4","DF","上野　悠陽","ウエノ　ユウヒ",6,"男子","0802280085"]
["由布川サッカースポーツ少年団_5","由布川サッカースポーツ少年団","5","MF","今田　優太","イマダ　ユウタ",5,"男子","0807240173"]
["由布川サッカースポーツ少年団_7","由布川サッカースポーツ少年団","7","MF","甲斐　琉聖","カイ　リュウセイ",6,"男子","0709010081"]
["由布川サッカースポーツ少年団_8","由布川サッカースポーツ少年団","8","MF","吉廣　幸太郎","ヨシヒロ　コウタロウ",6,"男子","0705070093","○"]
["由布川サッカースポーツ少年団_9","由布川サッカースポーツ少年団","9","DF","江藤　翼","エトウ　ツバサ",6,"男子","0706040099"]
["由布川サッカースポーツ少年団_10","由布川サッカースポーツ少年団","10","FW","陣内　奏心","ジンノウチ　カナト",6,"男子","0711030084"]
["由布川サッカースポーツ少年団_11","由布川サッカースポーツ少年団","11","MF","佐藤　亮仁","サトウ　リョウト",6,"男子","0710170087"]
["由布川サッカースポーツ少年団_12","由布川サッカースポーツ少年団","12","FW","平川　颯人","ヒラカワ　ハヤト",4,"男子","0907230134"]
["由布川サッカースポーツ少年団_16","由布川サッカースポーツ少年団","16","GK","衛藤　庵","エトウ　イオリ",5,"男子","0806280103"]
["市浜レッドソックス_1","市浜レッドソックス","1","GK","平川　結偉","ヒラカワ　ユウイ",5,"男子","0806210162"]
["市浜レッドソックス_3","市浜レッドソックス","3","DF","三浦　來海","ミウラ　クルミ",6,"女子小学生","0708180181"]
["市浜レッドソックス_4","市浜レッドソックス","4","MF","穴見　恒輝","アナミ　コウキ",3,"男子","1004300052"]
["市浜レッドソックス_5","市浜レッドソックス","5","DF","川邊　恒輝","カワベ　コウキ",5,"男子","0909150030"]
[{"$f":"CONCATENATE(B257,\"_\",C257)","v":"市浜レッドソックス_6"},"市浜レッドソックス","6","MF","近藤　拓斗","コンドウ　タクト",5,"男子","0807080241"]
["市浜レッドソックス_7","市浜レッドソックス","7","FW","原田　滉大","ハラダ　コウダイ",5,"男子","0804090139"]
["市浜レッドソックス_8","市浜レッドソックス","8","MF","吉良　優輝","キラ　ユウキ",5,"男子","0902170090"]
["市浜レッドソックス_9","市浜レッドソックス","9","FW","小川　桜晴","オガワ　オウセイ",6,"男子","0704090243"]
["市浜レッドソックス_10","市浜レッドソックス","10","DF","三浦　健生","ミウラ　タケオ",6,"男子","0802230135","○"]
["市浜レッドソックス_11","市浜レッドソックス","11","MF","山木　蓮寿","ヤマキ　レント",6,"男子","0803120170"]
["市浜レッドソックス_12","市浜レッドソックス","12","FW","西村　駿佑","ニシムラ　シュンスケ",4,"男子","0906190130"]
["市浜レッドソックス_13","市浜レッドソックス","13","FW","梶原　康太","カジワラ　コウタ",4,"男子","0904120032"]
["市浜レッドソックス_14","市浜レッドソックス","14","MF","川野　羚準","カワノ　リヒト",4,"男子","0906180048"]
["市浜レッドソックス_15","市浜レッドソックス","15","MF","染矢　涼志","ソメヤ　リョウジ",4,"男子","0907200043"]
["市浜レッドソックス_16","市浜レッドソックス","16","GK","嶋津　色音","シマヅ　イロト",3,"男子","1006300089"]
["県央おおのＪＦＣ_1","県央おおのＪＦＣ","1","GK","工藤　琉希","クドウ　ルキ",6,"男子","0706150011"]
["県央おおのＪＦＣ_2","県央おおのＪＦＣ","2","DF","丹　陸人","タン　リクト",4,"男子","0906100024"]
["県央おおのＪＦＣ_3","県央おおのＪＦＣ","3","MF","清水　瑞樹","シミズ　ミズキ",5,"男子","0809270024"]
["県央おおのＪＦＣ_4","県央おおのＪＦＣ","4","DF","村上　莉久","ムラカミ　リク",4,"男子","0909280127"]
["県央おおのＪＦＣ_5","県央おおのＪＦＣ","5","DF","永易　颯","ナガヤス　ソウ",6,"男子","0708250052"]
["県央おおのＪＦＣ_6","県央おおのＪＦＣ","6","DF","松井　大海","マツイ　タイガ",6,"男子","0707120133"]
["県央おおのＪＦＣ_7","県央おおのＪＦＣ","7","MF","廣瀬　絆理","ヒロセ　バンリ",6,"男子","0707200048"]
["県央おおのＪＦＣ_8","県央おおのＪＦＣ","8","MF","後藤　颯真","ゴトウ　ソウマ",4,"男子","0907130010"]
["県央おおのＪＦＣ_9","県央おおのＪＦＣ","9","DF","後藤　綾心","ゴトウ　アヤト",6,"男子","0711300036"]
["県央おおのＪＦＣ_10","県央おおのＪＦＣ","10","FW","得丸　宗志","トクマル　ソウシ",6,"男子","0709100073","○"]
["県央おおのＪＦＣ_11","県央おおのＪＦＣ","11","MF","得丸　涼雅","トクマル　リョウマ",4,"男子","0908130029"]
["県央おおのＪＦＣ_12","県央おおのＪＦＣ","12","DF","後藤　充稀","ゴトウ　ミツキ",3,"男子","1101180033"]
["県央おおのＪＦＣ_13","県央おおのＪＦＣ","13","MF","仲町　駿祐","ナカマチ　シュンスケ",3,"男子","1007130036"]
["県央おおのＪＦＣ_14","県央おおのＪＦＣ","14","FW","宮成　淳也","ミヤナリ　ジュンヤ",3,"男子","1007120042"]
["県央おおのＪＦＣ_17","県央おおのＪＦＣ","17","GK","古庄　海惺","フルショウ　カイセイ",4,"男子","0906020032"]
["太陽スポーツクラブ大分西_1","太陽スポーツクラブ大分西","1","GK","坂本　帆駿","サカモト　ホタカ",6,"男子","0711010061"]
["太陽スポーツクラブ大分西_2","太陽スポーツクラブ大分西","2","DF","山﨑　康大","ヤマサキ　コウダイ",5,"男子","0808290110"]
["太陽スポーツクラブ大分西_3","太陽スポーツクラブ大分西","3","FW","東　侑平","ヒガシ　ユウヘイ",6,"男子","0710120059"]
["太陽スポーツクラブ大分西_4","太陽スポーツクラブ大分西","4","DF","山岡　湧斗","ヤマオカ　ユウト",6,"男子","0710120060"]
["太陽スポーツクラブ大分西_5","太陽スポーツクラブ大分西","5","MF","中山　夏帆","ナカヤマ　カホ",6,"女子小学生","0706290066"]
["太陽スポーツクラブ大分西_6","太陽スポーツクラブ大分西","6","DF","中山　凉","ナカヤマ　スズ",6,"女子小学生","0706290065"]
["太陽スポーツクラブ大分西_7","太陽スポーツクラブ大分西","7","FW","中島　歩夢","ナカシマ　アユム",5,"男子","0805090133"]
["太陽スポーツクラブ大分西_8","太陽スポーツクラブ大分西","8","MF","木下　蓮","キノシタ　レン",6,"男子","0710260065"]
["太陽スポーツクラブ大分西_9","太陽スポーツクラブ大分西","9","MF","岐部　颯平","キベ　ソウヘイ",6,"男子","0706180068"]
["太陽スポーツクラブ大分西_10","太陽スポーツクラブ大分西","10","DF","岩澤　春弥","イワサワ　ハルヤ",6,"男子","0803200055"]
["太陽スポーツクラブ大分西_11","太陽スポーツクラブ大分西","11","MF","進藤　晃太","シンドウ　コウタ",6,"男子","0704190067","○"]
["太陽スポーツクラブ大分西_15","太陽スポーツクラブ大分西","15","MF","堀田　詞音","ホリタ　シオン",5,"男子","0807240103"]
["太陽スポーツクラブ大分西_16","太陽スポーツクラブ大分西","16","GK","財津　璃大","ザイツ　リョウ",6,"男子","0711210060"]
["太陽スポーツクラブ大分西_18","太陽スポーツクラブ大分西","18","DF","嶋津　慶真","シマヅ　ケイシン",5,"男子","0812180113"]
["太陽スポーツクラブ大分西_19","太陽スポーツクラブ大分西","19","FW","江田　侑翔","コウダ　ユウト",5,"男子","0805300102"]
["太陽スポーツクラブ大分西_20","太陽スポーツクラブ大分西","20","MF","小畑　歩来","オバタ　アルク",5,"男子","0807280099"]
["ＭＳＳ_1","ＭＳＳ","1","GK","二宮　拓篤","ニノミヤ　タクマ",6,"男子","0704170109"]
["ＭＳＳ_3","ＭＳＳ","3","DF","田辺　逞登","タナベ　タクト",6,"男子","0705040102"]
["ＭＳＳ_4","ＭＳＳ","4","DF","南里　仁士","ナンリ　ヒロト",6,"男子","0704300012"]
["ＭＳＳ_5","ＭＳＳ","5","FW","赤峰　功己","アカミネ　イサミ",6,"男子","0711090082"]
["ＭＳＳ_7","ＭＳＳ","7","MF","渡邊　丈輝","ワタナベ　トモキ",6,"男子","0705170075"]
["ＭＳＳ_9","ＭＳＳ","9","MF","片島　啓太","カタシマ　ケイタ",6,"男子","0708200107","○"]
["ＭＳＳ_10","ＭＳＳ","10","FW","中川　天蒼","ナカガワ　ソラ",6,"男子","0705280218"]
["ＭＳＳ_11","ＭＳＳ","11","FW","山本　一晟","ヤマモト　イッセイ",6,"男子","0712170011"]
["ＭＳＳ_12","ＭＳＳ","12","MF","中西　俊喜","ナカニシ　トシキ",6,"男子","0708180087"]
["ＭＳＳ_13","ＭＳＳ","13","MF","吉田　光","ヨシダ　ヒカル",6,"男子","0708060194"]
["ＭＳＳ_14","ＭＳＳ","14","FW","高野　将大","タカノ　マサヒロ",6,"男子","0712310095"]
["ＭＳＳ_17","ＭＳＳ","17","MF","高濱　蒼太","タカハマ　ソウタ",6,"男子","0803280155"]
["リノスフットボールクラブ　Ｕ－１２_10","リノスフットボールクラブ　Ｕ－１２","10","DF","小泉　碧美","コイズミ　アミ",6,"女子小学生","0708030065"]
["リノスフットボールクラブ　Ｕ－１２_25","リノスフットボールクラブ　Ｕ－１２","25","MF","松﨑　朱音","マツザキ　アヤネ",5,"女子小学生","0807170109"]
["リノスフットボールクラブ　Ｕ－１２_30","リノスフットボールクラブ　Ｕ－１２","30","FW","末成　隼","スエナリ　シュン",5,"男子","0807310191"]
["リノスフットボールクラブ　Ｕ－１２_32","リノスフットボールクラブ　Ｕ－１２","32","DF","森　寛希","モリ　ヒロキ",6,"男子","0710110169","○"]
["リノスフットボールクラブ　Ｕ－１２_34","リノスフットボールクラブ　Ｕ－１２","34","MF","山口　優希翔","ヤマグチ　ユキト",5,"男子","0807070147"]
["リノスフットボールクラブ　Ｕ－１２_38","リノスフットボールクラブ　Ｕ－１２","38","GK","清末　歩夢","キヨスエ　アユム",5,"男子","0808120223"]
["リノスフットボールクラブ　Ｕ－１２_42","リノスフットボールクラブ　Ｕ－１２","42","FW","小泉　杏奈","コイズミ　アンナ",3,"女子小学生","1005210032"]
["リノスフットボールクラブ　Ｕ－１２_43","リノスフットボールクラブ　Ｕ－１２","43","FW","横野　紗羽","ヨコノ　サワ",6,"女子小学生","0705210206"]
["リノスフットボールクラブ　Ｕ－１２_50","リノスフットボールクラブ　Ｕ－１２","50","DF","菅　晃太朗","カン　コウタロウ",4,"男子","0908270064"]
["リノスフットボールクラブ　Ｕ－１２_51","リノスフットボールクラブ　Ｕ－１２","51","MF","清末　隆生","キヨスエ　リュウセイ",6,"男子","0707010195"]
[{"$f":"CONCATENATE(B321,\"_\",C321)","v":"リノスフットボールクラブ　Ｕ－１２_52"},"リノスフットボールクラブ　Ｕ－１２","52","MF","都築　正虎","ツヅキ　マサトラ",5,"男子","0809160093"]
["リノスフットボールクラブ　Ｕ－１２_55","リノスフットボールクラブ　Ｕ－１２","55","FW","河野　蒼良","カワノ　ソラ",3,"男子","1011270031"]
["リノスフットボールクラブ　Ｕ－１２_58","リノスフットボールクラブ　Ｕ－１２","58","DF","赤石　拓翔","アカイシ　タクト",4,"男子","0908250150"]
["スマイス　セレソン　スポーツクラブ_1","スマイス　セレソン　スポーツクラブ","1","GK","寺田　健太郎","テラダ　ケンタロウ",6,"男子","0801100095"]
["スマイス　セレソン　スポーツクラブ_2","スマイス　セレソン　スポーツクラブ","2","DF","重光　淳乃介","シゲミツ　ジュンノスケ",6,"男子","0709230087"]
["スマイス　セレソン　スポーツクラブ_3","スマイス　セレソン　スポーツクラブ","3","DF","木付　晴翔","キツキ　ハルト",6,"男子","0706180028"]
["スマイス　セレソン　スポーツクラブ_4","スマイス　セレソン　スポーツクラブ","4","DF","田嶋　勇征","タシマ　ユウセイ",6,"男子","0710070094"]
["スマイス　セレソン　スポーツクラブ_5","スマイス　セレソン　スポーツクラブ","5","DF","飯田　規介","イイダ　キスケ",6,"男子","0705250124"]
["スマイス　セレソン　スポーツクラブ_6","スマイス　セレソン　スポーツクラブ","6","DF","由利　倖大","ユリ　コウダイ",6,"男子","0803040096","○"]
["スマイス　セレソン　スポーツクラブ_7","スマイス　セレソン　スポーツクラブ","7","MF","小林　奏翔","コバヤシ　カナト",6,"男子","0708090105"]
["スマイス　セレソン　スポーツクラブ_8","スマイス　セレソン　スポーツクラブ","8","MF","稲葉　巧真","イナバ　タクマ",6,"男子","0709050217"]
["スマイス　セレソン　スポーツクラブ_9","スマイス　セレソン　スポーツクラブ","9","FW","岡本　怜平","オカモト　レンペイ",6,"男子","0707060210"]
["スマイス　セレソン　スポーツクラブ_10","スマイス　セレソン　スポーツクラブ","10","MF","板井　駿汰","イタイ　シュンタ",6,"男子","0803190040"]
["スマイス　セレソン　スポーツクラブ_11","スマイス　セレソン　スポーツクラブ","11","FW","河野　倫樹","カワノ　トモキ",6,"男子","0707180123"]
["スマイス　セレソン　スポーツクラブ_12","スマイス　セレソン　スポーツクラブ","12","FW","福島　瞳也","フクシマ　トウヤ",6,"男子","0709010097"]
["スマイス　セレソン　スポーツクラブ_13","スマイス　セレソン　スポーツクラブ","13","FW","甲斐　亮佑","カイ　リョウスケ",6,"男子","0712180090"]
["スマイス　セレソン　スポーツクラブ_14","スマイス　セレソン　スポーツクラブ","14","DF","生野　想羅","ショウノ　ソラ",6,"男子","0708030009"]
["スマイス　セレソン　スポーツクラブ_15","スマイス　セレソン　スポーツクラブ","15","MF","豊福　泰生","トヨフク　タイキ",5,"男子","0807090039"]
["スマイス　セレソン　スポーツクラブ_17","スマイス　セレソン　スポーツクラブ","17","FW","中井　薫","ナカイ　カオル",5,"男子","0902260020"]
["ＦＣ中津ジュニア_1","ＦＣ中津ジュニア","1","GK","上川　隆偉","カミカワ　リュウイ",5,"男子","0805100035"]
["ＦＣ中津ジュニア_2","ＦＣ中津ジュニア","2","DF","東　拓海","ヒガシ　タクミ",6,"男子","0710100207"]
["ＦＣ中津ジュニア_3","ＦＣ中津ジュニア","3","MF","藤冨　琥士馬","フジトミ　トオマ",6,"男子","0803130138"]
["ＦＣ中津ジュニア_4","ＦＣ中津ジュニア","4","DF","東　蒼太","ヒガシ　ソウタ",4,"男子","0904170102"]
["ＦＣ中津ジュニア_5","ＦＣ中津ジュニア","5","MF","橋本　力斗","ハシモト　リキト",6,"男子","0707200055"]
["ＦＣ中津ジュニア_6","ＦＣ中津ジュニア","6","FW","小幡　愛翔","オバタ　アイト",4,"男子","0906230002"]
["ＦＣ中津ジュニア_7","ＦＣ中津ジュニア","7","MF","壇　直助","ダン　ナオスケ",6,"男子","0712250046"]
["ＦＣ中津ジュニア_8","ＦＣ中津ジュニア","8","FW","高松　篤斗","タカマツ　アツト",5,"男子","0901220147"]
["ＦＣ中津ジュニア_9","ＦＣ中津ジュニア","9","MF","植村　銀","ウエムラ　ギン",5,"男子","0901240061"]
["ＦＣ中津ジュニア_10","ＦＣ中津ジュニア","10","FW","梅津　爽蒼","ウメヅ　ソラ",6,"男子","0706040072","○"]
["ＦＣ中津ジュニア_11","ＦＣ中津ジュニア","11","DF","松田　悠吾","マツダ　ユウゴ",5,"男子","0806090163"]
["ＦＣ中津ジュニア_12","ＦＣ中津ジュニア","12","GK","吉良　翼","キラ　タスク",4,"男子","0904150018"]
["ＦＣ中津ジュニア_13","ＦＣ中津ジュニア","13","MF","黒川　蓮","クロカワ　レン",5,"男子","0902050146"]
["ＦＣ中津ジュニア_14","ＦＣ中津ジュニア","14","MF","園　将翔","ソノ　マサト",4,"男子","0908150081"]
["ＦＣ中津ジュニア_16","ＦＣ中津ジュニア","16","MF","工藤　咲矢","クドウ　サクヤ",4,"男子","0909150102"]
["ＦＣ中津ジュニア_17","ＦＣ中津ジュニア","17","DF","加々見　凪","カガミ　ナギ",4,"男子","0912030088"]