{"text_format":"1","workbook":"xlsx","n_sheets":21,"sheets":["出場チーム","抽選方法","組み合わせ","全日程スケジュール","累積警告・退場","2018年度優秀選手 ","決勝【Match No,51】","準決勝②【Match No,50】","準決勝①【Match No,49】","２次リーグ組み合わせ・結果","１次リーグ組み合わせ・結果","２次リーグ（別府）","２次リーグ（豊肥）","１次リーグ（速杵国東）","１次リーグ（津久見・臼杵）","１次リーグ（日田）","１次リーグ（大分）","１次リーグ（佐伯）","１次リーグ（宇佐高田）","選手名簿","審判員"],"not_rendered":{"charts":0,"images":1,"macros":1,"external_links":0,"defined_names":18,"comments":0,"pivot_tables":0},"unopened":[],"bounds":{"document_bytes":16777216,"sheet_cells":100000,"rows_first":2000,"rows_last":500,"rows_between":2000,"halvings":0,"cell_chars":16384,"cell_head_chars":4096},"cells_cut":0,"cells_raw":0,"read":"whole","date_system":"1900"}

{"sheet":"出場チーム","index":0,"n_rows":59,"n_cols":13,"rows_kept":59,"cut":false,"hidden":false,"merged":[[10,8,13,8],[14,8,16,8],[0,10,0,11],[54,6,54,9],[49,10,49,12],[0,1,0,9],[20,8,21,8],[24,8,25,8],[10,1,26,1],[50,2,50,5],[17,8,19,8],[49,2,49,5],[52,6,52,9],[53,6,53,9],[53,10,53,12],[50,10,50,12],[59,10,59,12],[56,2,56,5],[57,2,57,5],[52,2,52,5],[57,10,57,12],[54,10,54,12],[59,6,59,9],[58,10,58,12],[59,2,59,5],[54,2,54,5],[58,2,58,5],[55,6,55,9],[56,6,56,9],[57,6,57,9],[58,6,58,9],[56,10,56,12],[55,2,55,5],[51,10,51,12],[52,10,52,12],[53,2,53,5],[51,2,51,5],[22,8,23,8],[50,6,50,9],[51,6,51,9],[49,6,49,9],[55,10,55,12]]}
[null,"OFA 第 50 回大分県少年サッカー大会　兼　KYFA 九州U-12サッカー大会大分県大会",null,null,null,null,null,null,null,null,"抽選会"]
[]
["１．日時　　2019年1月20日(日) 午後6時00分（18:00）～"]
[]
["２．場所　　大分市　大銀ドーム　地下会議室 408"]
[]
["３．参加チーム",null,36,"チーム"]
[]
[null,"Aブロック(フリー)",null,null,null,null,null,null,"Bブロック(奇数)"]
["抽選順","地区","チーム名","申込","参加料","抽選会",null,"抽選順","地区","チーム名","申込","参加料","抽選会"]
[20,"大分","大道サッカースポーツ少年団","2019-01-07","2019-01-07",null,null,16,"中津","Ｓｈｙｎｔ　ＦＣ","2019-01-16","2019-01-11"]
[21,null,"滝尾下郡サッカースポーツ少年団","2019-01-07","2019-01-08",null,null,17,null,"ＦＣ中津ジュニア","2019-01-15","2019-01-16"]
[22,null,"宗方サッカークラブ","2019-01-08","2019-01-08",null,null,18,null,"鶴居ＳＳＳ","2019-01-13","2019-01-15"]
[23,null,"判田サッカースポーツ少年団","2019-01-08","2019-01-08",null,null,19,null,"中津沖代ＪＳＣ","2019-01-14","2019-01-15"]
[24,null,"ブルーウイングフットボールクラブ","2019-01-11","2019-01-08",null,null,4,"速杵国東","ＯＫＹ山香サッカークラブ","2019-01-16","2019-01-09"]
[25,null,"スマイス　セレソン　スポーツクラブ","2019-01-08","2019-01-08",null,null,5,null,"きつきＦＣ","2019-01-15","2019-01-10"]
[26,null,"桃園サッカースポーツ少年団","2019-01-07","2019-01-08",null,null,14,null,"武蔵オークスサッカークラブ","2019-01-14","2019-01-15"]
[27,null,"カティオーラフットボールクラブ　大在","2019-01-07","2019-01-09",null,null,6,"日田","太陽スポーツクラブ大分西","2019-01-15","2019-01-15"]
[28,null,"明野東サッカースポーツ少年団","2019-01-08","2019-01-09",null,null,7,null,"ＦＣアリアーレ","2019-01-14","2019-01-15"]
[29,null,"東陽フットボールクラブ","2019-01-07","2019-01-09",null,null,15,null,"若宮サッカースポーツ少年団","2019-01-14","2019-01-15"]
[30,null,"ドリームキッズサッカークラブ","2019-01-09","2019-01-09",null,null,1,"別府","スマイス・セレソン","2019-01-08","2019-01-08"]
[31,null,"大分トリニータＵ－１２","2019-01-09","2019-01-10",null,null,2,null,"別府フットボールクラブ．ミネルバＵ－１２","2019-01-07","2019-01-07"]
[32,null,"明治サッカースポーツ少年団","2019-01-08","2019-01-10",null,null,8,"佐伯","弥生少年サッカークラブ","2019-01-12","2019-01-10"]
[33,null,"ＦＣ　ＲＥＧＡＴＥ","2019-01-10","2019-01-10",null,null,9,null,"佐伯リベロフットボールクラブ","2019-01-11","2019-01-07"]
[34,null,"明治北ＳＳＣ","2019-01-13","2019-01-15",null,null,10,"宇佐高田","ＦＣ　ＵＮＩＴＥ","2019-01-11","2019-01-16"]
[35,null,"ＭＳＳ","2019-01-07","2019-01-15",null,null,11,null,"豊後高田ＦＣ　Ｂｏｒｄｅｒ　Ｊｒ","2019-01-10","2019-01-09"]
[36,null,"アトレチコエラン横瀬","2019-01-08","2019-01-16",null,null,3,"豊肥","ＦＣ大野","2019-01-15","2019-01-15"]
[null,null,null,null,null,null,null,12,"臼杵","臼杵ＳＳＳ","2019-01-13","2019-01-15"]
[null,null,null,null,null,null,null,13,"津久見","千怒サッカースポーツ少年団","2019-01-08","2019-01-16"]
[]
[]
["４．会議次第"]
["　　①ジュニア委員長あいさつ"]
["　　②審判部より"]
["　　　・1次リーグ/2次リーグは、帯同審判員（大分県協会所属の3級以上）を帯同する事。"]
["　　　　（各チームにて責任を持って準備しておく事。）"]
["　　③要項の確認、質問、諸注意"]
["　　④抽選"]
[]
["５．その他"]
["　　①大会期間中は、常に選手証及び、指導者資格証、審判資格証を携帯し、必要に応じて提示すること。"]
["　　　指導者資格証、審判資格証を有していない、ベンチ入り予定の指導者については、顔写真の確認出来る証明書(免許証等)を携帯しておく事。"]
["　　②領収証は、｢振込みの際の領収証」にかえさせていただきます。"]
["　　③「駐車証」を」車内に表示すること。"]
["　　④各会場にて、各パートの第1試合開始70分前に、各パートのマッチコーディネーションミーティング(MCM)を、3チーム同時に行います。"]
["       チーム代表者は必ずユニホームを持参(FP/GKの正副全て現物を。写真等不可。)にて参加願います。"]
[]
[]
["６．試合会場"]
[null,null,"会場",null,null,null,"住所",null,null,null,"電話番号"]
["1次ﾘｰｸﾞ","速杵国東","ﾌｯﾄﾎﾞｰﾙｾﾝﾀｰ大分きつき(杵築市営ｻｯｶｰ場)",null,null,null,"杵築市山香町大字野原700-5",null,null,null,"0977-28-5600"]
["1次ﾘｰｸﾞ","佐伯","佐伯市総合運動公園多目的ｸﾞﾗｳﾝﾄﾞ(人工芝)",null,null,null,"佐伯市大字長谷2614番地",null,null,null,"0972-25-1335\n(管理事務所 総合体育館内)"]
["1次ﾘｰｸﾞ","津久見・臼杵","吉四六ﾗﾝﾄﾞ陸上競技場",null,null,null,"臼杵市野津町大字原326番地",null,null,null,"0974-32-7757"]
["1次ﾘｰｸﾞ","日田","玖珠町総合運動公園",null,null,null,"玖珠町大字山田90番地",null,null,null,"0973-72-6880\n(玖珠町B&G海洋ｾﾝﾀｰ)"]
["1次ﾘｰｸﾞ","宇佐高田","宇佐市平成の森公園",null,null,null,"宇佐市院内町原口146-1",null,null,null,"0978-42-5894\n(管理事務所)"]
["1次ﾘｰｸﾞ","大分","大在東グラウンド",null,null,null,"大分市大在浜2丁目",null,null,null,"津守一雄\n(大分地区ジュニア委員長)\n090-7472-7249"]
["2次ﾘｰｸﾞ","別府","実相寺ｻｯｶｰ競技場(人工芝)",null,null,null,"別府市大字鶴見3705番地",null,null,null,"0977-26-0535\n (市民体育館内)"]
["2次ﾘｰｸﾞ","豊肥","ｻﾝ・ｽﾎﾟｰﾂﾗﾝﾄﾞみえ",null,null,null,"豊後大野市三重町百枝1086番地",null,null,null,"0974-22-7678"]
["準決勝・決勝","サブA","大分ｽﾎﾟｰﾂ公園だいぎんｻｯｶｰ･ﾗｸﾞﾋﾞｰ場　Aｺｰﾄ",null,null,null,"大分市大字松岡6841番地",null,null,null,"097-528-7700\n(管理事務所)"]

{"sheet":"抽選方法","index":1,"n_rows":9,"n_cols":8,"rows_kept":9,"cut":false,"hidden":true,"merged":[]}
["No,",null,null,null,null,null,null,"抽選順"]
[1,"別府①","別府②","を　＊3の",null,null,"で、2ブロックで分ける","1,2"]
[2,"豊肥",null,"を　＊3の",null,null,"に入れる",3]
[3,"各地区地元開催の","第1,第2代表","を　＊1の",null,null,"で、2ブロックで分ける","4,5,6,7,8,9,10,11"]
[4,"臼杵","津久見","を　＊1の",null,null,"で、2ブロックで分ける","12,13"]
[5,"速杵国東③","日田③","を　＊3の",null,null,"で、4ブロックで分ける","14,15"]
[6,"審議","2余り(大分)","グループの",null,null,"に大分以外が入ってない場合は、中津が優先的に入るように、4ブロックの4ヶ所のみに限定"]
[7,"地元開催の無い","中津","を　＊3の",null,null,"で、4ブロックで分ける","16～19"]
[8,"大分",null,"を　フリー抽選","2余り(大分)",null,"に入ったチームは、地元開催","20～36"]

{"sheet":"組み合わせ","index":2,"n_rows":111,"n_cols":188,"rows_kept":111,"cut":false,"hidden":false,"merged":[[110,61,111,72],[108,49,109,60],[110,49,111,60],[94,61,95,72],[96,61,97,72],[98,61,99,72],[100,61,101,72],[102,61,103,72],[104,61,105,72],[106,61,107,72],[108,61,109,72],[7,3,7,10],[7,11,7,13],[7,14,7,50],[9,49,10,58],[106,37,107,48],[108,37,109,48],[110,37,111,48],[94,49,95,60],[96,49,97,60],[98,49,99,60],[100,49,101,60],[102,49,103,60],[104,49,105,60],[106,49,107,60],[94,37,95,48],[96,37,97,48],[98,37,99,48],[100,37,101,48],[102,37,103,48],[104,37,105,48],[88,37,89,48],[86,1,87,12],[86,37,87,48],[78,17,85,20],[47,65,47,68],[37,83,38,102],[35,79,36,82],[47,85,47,88],[35,33,36,34],[33,43,34,54],[37,47,38,66],[39,7,40,10],[39,11,40,30],[33,7,34,18],[33,19,34,30],[33,33,34,34],[39,43,40,46],[35,43,36,46],[35,47,36,66],[37,7,38,10],[37,43,38,46],[47,53,47,56],[47,137,47,140],[78,101,85,104],[78,105,85,108],[86,97,87,108],[47,81,47,84],[78,129,85,132],[78,137,85,140],[78,109,85,112],[78,113,85,116],[86,85,87,96],[78,117,85,120],[78,121,85,124],[78,125,85,128],[78,93,85,96],[48,93,77,96],[15,145,16,161],[88,109,89,120],[88,121,89,132],[88,133,89,144],[78,141,85,144],[86,121,87,132],[86,133,87,144],[47,117,47,120],[33,79,34,90],[86,73,87,84],[78,89,85,92],[88,97,89,108],[35,83,36,102],[48,101,77,104],[78,97,85,100],[78,133,85,136],[48,133,77,136],[86,109,87,120],[37,119,38,138],[33,91,34,102],[33,115,34,126],[33,127,34,138],[39,119,40,138],[37,115,38,118],[4,3,4,15],[5,65,5,67],[6,119,6,121],[5,11,5,13],[5,57,5,64],[6,14,6,50],[5,14,5,50],[6,111,6,118],[6,65,6,67],[6,68,6,104],[4,16,4,18],[5,68,5,104],[6,11,6,13],[6,57,6,64],[5,3,5,10],[6,3,6,10],[88,73,89,84],[47,89,47,92],[88,13,89,24],[78,49,85,52],[78,13,85,16],[78,73,85,76],[78,77,85,80],[78,53,85,56],[48,29,77,32],[48,89,77,92],[48,17,77,20],[48,33,77,36],[48,37,77,40],[48,41,77,44],[48,85,77,88],[48,81,77,84],[48,77,77,80],[48,49,77,52],[78,21,85,24],[78,37,85,40],[78,41,85,44],[78,29,85,32],[78,33,85,36],[47,21,47,24],[88,61,89,72],[88,85,89,96],[47,17,47,20],[47,49,47,52],[47,13,47,16],[47,77,47,80],[86,13,87,24],[47,25,47,28],[47,57,47,60],[47,61,47,64],[47,69,47,72],[78,65,85,68],[78,69,85,72],[78,25,85,28],[47,29,47,32],[47,33,47,36],[78,61,85,64],[78,85,85,88],[47,73,47,76],[78,81,85,84],[78,57,85,60],[78,45,85,48],[86,49,87,60],[86,61,87,72],[48,53,77,56],[48,13,77,16],[48,1,77,4],[48,9,77,12],[48,5,77,8],[48,25,77,28],[88,0,89,0],[86,0,87,0],[78,9,85,12],[78,1,85,4],[44,0,85,0],[78,5,85,8],[47,9,47,12],[88,1,89,12],[48,21,77,24],[88,25,89,36],[47,1,47,4],[47,5,47,8],[86,25,87,36],[88,49,89,60],[47,37,47,40],[47,41,47,44],[47,45,47,48],[48,45,77,48],[23,145,24,182],[26,119,28,140],[17,95,19,122],[32,115,32,138],[35,115,36,118],[26,83,28,104],[35,119,36,138],[23,103,24,114],[18,69,19,70],[33,105,34,106],[18,71,19,74],[18,75,19,76],[32,79,32,102],[20,69,21,70],[20,71,21,74],[29,129,30,140],[29,0,43,0],[26,113,28,118],[26,5,28,10],[26,11,28,32],[26,41,28,46],[26,47,28,68],[25,33,26,40],[9,0,28,0],[31,33,32,34],[29,21,30,32],[35,39,36,40],[35,7,36,10],[35,11,36,30],[33,35,34,38],[23,31,24,42],[33,55,34,66],[9,59,10,96],[33,39,34,40],[32,43,32,66],[29,33,30,34],[32,7,32,30],[37,11,38,30],[35,35,36,38],[7,65,7,67],[31,35,32,38],[27,107,28,110],[29,57,30,68],[31,105,32,106],[29,105,30,106],[31,39,32,40],[29,35,30,38],[29,93,30,104],[7,57,7,64],[2,0,2,182],[17,23,19,50],[17,145,18,182],[16,69,17,76],[20,75,21,76],[21,145,22,161],[9,145,10,161],[25,105,26,112],[22,69,23,70],[22,71,23,74],[22,75,23,76],[26,77,28,82],[27,111,28,112],[27,35,28,38],[27,33,28,34],[20,39,21,50],[20,111,21,122],[6,122,6,158],[7,68,7,104],[11,145,12,182],[14,67,15,78],[7,111,7,118],[7,119,7,121],[7,122,7,158],[48,141,77,144],[48,129,77,132],[48,117,77,120],[48,113,77,116],[47,141,47,144],[27,39,28,40],[27,105,28,106],[29,39,30,40],[47,121,47,124],[48,137,77,140],[47,125,47,128],[47,129,47,132],[48,121,77,124],[47,133,47,136],[48,125,77,128],[29,111,30,112],[33,107,34,110],[33,111,34,112],[47,109,47,112],[31,111,32,112],[29,107,30,110],[35,111,36,112],[31,107,32,110],[47,113,47,116],[92,49,93,60],[92,61,93,72],[48,73,77,76],[48,69,77,72],[48,65,77,68],[48,57,77,60],[0,163,0,182],[0,0,0,162],[4,19,4,64],[47,93,47,96],[39,115,40,118],[48,105,77,108],[48,97,77,100],[39,79,40,82],[39,83,40,102],[48,61,77,64],[48,109,77,112],[35,107,36,110],[47,105,47,108],[47,101,47,104],[47,97,47,100],[39,47,40,66],[37,79,38,82],[35,105,36,106]]}
[{"$f":"出場チーム!B1","v":"OFA 第 50 回大分県少年サッカー大会　兼　KYFA 九州U-12サッカー大会大分県大会"},null,null,null,null,null,null,null,null,null,null,null,null,null,null,null,null,null,null,null,null,null,null,null,null,null,null,null,null,null,null,null,null,null,null,null,null,null,null,null,null,null,null,null,null,null,null,null,null,null,null,null,null,null,null,null,null,null,null,null,null,null,null,null,null,null,null,null,null,null,null,null,null,null,null,null,null,null,null,null,null,null,null,null,null,null,null,null,null,null,null,null,null,null,null,null,null,null,null,null,null,null,null,null,null,null,null,null,null,null,null,null,null,null,null,null,null,null,null,null,null,null,null,null,null,null,null,null,null,null,null,null,null,null,null,null,null,null,null,null,null,null,null,null,null,null,null,null,null,null,null,null,null,null,null,null,null,null,null,null,null,null,null,"組み合わせ"]
[]
["期日：2019（平成31）年1月27日（日）・2月3日（日）・10日（日）"]
["《会場》"]
["決勝・準決勝",null,null,"サブA",null,null,null,null,null,null,null,null,null,null,null,null,"→",null,null,{"$f":"VLOOKUP(D5,出場チーム!$B$51:$F$59,2,FALSE)","v":"大分ｽﾎﾟｰﾂ公園だいぎんｻｯｶｰ･ﾗｸﾞﾋﾞｰ場　Aｺｰﾄ"}]
["2次リーグ",null,null,"別府",null,null,null,null,null,null,null,"→",null,null,{"$f":"VLOOKUP(D6,出場チーム!$B$51:$F$59,2,FALSE)","v":"実相寺ｻｯｶｰ競技場(人工芝)"},null,null,null,null,null,null,null,null,null,null,null,null,null,null,null,null,null,null,null,null,null,null,null,null,null,null,null,null,null,null,null,null,null,null,null,null,null,null,null,null,null,null,"豊肥",null,null,null,null,null,null,null,"→",null,null,{"$f":"VLOOKUP(BF6,出場チーム!$B$51:$F$59,2,FALSE)","v":"ｻﾝ・ｽﾎﾟｰﾂﾗﾝﾄﾞみえ"}]
["1次リーグ",null,null,"速杵国東",null,null,null,null,null,null,null,"→",null,null,{"$f":"VLOOKUP(D7,出場チーム!$B$51:$F$59,2,FALSE)","v":"ﾌｯﾄﾎﾞｰﾙｾﾝﾀｰ大分きつき(杵築市営ｻｯｶｰ場)"},null,null,null,null,null,null,null,null,null,null,null,null,null,null,null,null,null,null,null,null,null,null,null,null,null,null,null,null,null,null,null,null,null,null,null,null,null,null,null,null,null,null,"日田",null,null,null,null,null,null,null,"→",null,null,{"$f":"VLOOKUP(BF7,出場チーム!$B$51:$F$59,2,FALSE)","v":"玖珠町総合運動公園"},null,null,null,null,null,null,null,null,null,null,null,null,null,null,null,null,null,null,null,null,null,null,null,null,null,null,null,null,null,null,null,null,null,null,null,null,null,null,null,null,null,null,"佐伯",null,null,null,null,null,null,null,"→",null,null,{"$f":"VLOOKUP(DH7,出場チーム!$B$51:$F$59,2,FALSE)","v":"佐伯市総合運動公園多目的ｸﾞﾗｳﾝﾄﾞ(人工芝)"}]
[null,null,null,"津久見・臼杵",null,null,null,null,null,null,null,"→",null,null,{"$f":"VLOOKUP(D8,出場チーム!$B$51:$F$59,2,FALSE)","v":"吉四六ﾗﾝﾄﾞ陸上競技場"},null,null,null,null,null,null,null,null,null,null,null,null,null,null,null,null,null,null,null,null,null,null,null,null,null,null,null,null,null,null,null,null,null,null,null,null,null,null,null,null,null,null,"大分",null,null,null,null,null,null,null,"→",null,null,{"$f":"VLOOKUP(BF8,出場チーム!$B$51:$F$59,2,FALSE)","v":"大在東グラウンド"},null,null,null,null,null,null,null,null,null,null,null,null,null,null,null,null,null,null,null,null,null,null,null,null,null,null,null,null,null,null,null,null,null,null,null,null,null,null,null,null,null,null,"宇佐高田",null,null,null,null,null,null,null,"→",null,null,{"$f":"VLOOKUP(DH8,出場チーム!$B$51:$F$59,2,FALSE)","v":"宇佐市平成の森公園"}]
[]
["2/10（日）\n\n決勝\n\n準決勝\n\n大会3日目",null,null,null,null,null,null,null,null,null,null,null,null,null,null,null,null,null,null,null,null,null,null,null,null,null,null,null,null,null,null,null,null,null,null,null,null,null,null,null,null,null,null,null,null,null,null,null,null,"＜優勝＞",null,null,null,null,null,null,null,null,null,"ブルーウイングフットボールクラブ",null,null,null,null,null,null,null,null,null,null,null,null,null,null,null,null,null,null,null,null,null,null,null,null,null,null,null,null,null,null,null,null,null,null,null,null,null,null,null,null,null,null,null,null,null,null,null,null,null,null,null,null,null,null,null,null,null,null,null,null,null,null,null,null,null,null,null,null,null,null,null,null,null,null,null,null,null,null,null,null,null,null,null,null,null,"＜準優勝＞"]
[]
[null,null,null,null,null,null,null,null,null,null,null,null,null,null,null,null,null,null,null,null,null,null,null,null,null,null,null,null,null,null,null,null,null,null,null,null,null,null,null,null,null,null,null,null,null,null,null,null,null,null,null,null,null,null,null,null,null,null,null,null,null,null,null,null,null,null,null,null,null,null,null,null,null,null,null,null,null,null,null,null,null,null,null,null,null,null,null,null,null,null,null,null,null,null,null,null,null,null,null,null,null,null,null,null,null,null,null,null,null,null,null,null,null,null,null,null,null,null,null,null,null,null,null,null,null,null,null,null,null,null,null,null,null,null,null,null,null,null,null,null,null,null,null,null,null,"ＦＣアリアーレ"]
[]
[]
[null,null,null,null,null,null,null,null,null,null,null,null,null,null,null,null,null,null,null,null,null,null,null,null,null,null,null,null,null,null,null,null,null,null,null,null,null,null,null,null,null,null,null,null,null,null,null,null,null,null,null,null,null,null,null,null,null,null,null,null,null,null,null,null,null,null,null,{"$f":"D5","v":"サブA"}]
[null,null,null,null,null,null,null,null,null,null,null,null,null,null,null,null,null,null,null,null,null,null,null,null,null,null,null,null,null,null,null,null,null,null,null,null,null,null,null,null,null,null,null,null,null,null,null,null,null,null,null,null,null,null,null,null,null,null,null,null,null,null,null,null,null,null,null,null,null,null,null,null,null,null,null,null,null,null,null,null,null,null,null,null,null,null,null,null,null,null,null,null,null,null,null,null,null,null,null,null,null,null,null,null,null,null,null,null,null,null,null,null,null,null,null,null,null,null,null,null,null,null,null,null,null,null,null,null,null,null,null,null,null,null,null,null,null,null,null,null,null,null,null,null,null,"＜３位＞"]
[null,null,null,null,null,null,null,null,null,null,null,null,null,null,null,null,null,null,null,null,null,null,null,null,null,null,null,null,null,null,null,null,null,null,null,null,null,null,null,null,null,null,null,null,null,null,null,null,null,null,null,null,null,null,null,null,null,null,null,null,null,null,null,null,null,null,null,null,null,"13:00～"]
[null,null,null,null,null,null,null,null,null,null,null,null,null,null,null,null,null,null,null,null,null,null,null,"ＦＣアリアーレ",null,null,null,null,null,null,null,null,null,null,null,null,null,null,null,null,null,null,null,null,null,null,null,null,null,null,null,null,null,null,null,null,null,null,null,null,null,null,null,null,null,null,null,null,null,null,null,null,null,null,null,null,null,null,null,null,null,null,null,null,null,null,null,null,null,null,null,null,null,null,null,"ブルーウイングフットボールクラブ",null,null,null,null,null,null,null,null,null,null,null,null,null,null,null,null,null,null,null,null,null,null,null,null,null,null,null,null,null,null,null,null,null,null,null,null,null,null,null,null,null,null,null,null,null,null,null,null,null,"太陽スポーツクラブ大分西"]
[null,null,null,null,null,null,null,null,null,null,null,null,null,null,null,null,null,null,null,null,null,null,null,null,null,null,null,null,null,null,null,null,null,null,null,null,null,null,null,null,null,null,null,null,null,null,null,null,null,null,null,null,null,null,null,null,null,null,null,null,null,null,null,null,null,null,null,null,null,0,null,"前半",null,null,null,2]
[]
[null,null,null,null,null,null,null,null,null,null,null,null,null,null,null,null,null,null,null,null,null,null,null,null,null,null,null,null,null,null,null,null,null,null,null,null,null,null,null,"（日田市）",null,null,null,null,null,null,null,null,null,null,null,null,null,null,null,null,null,null,null,null,null,null,null,null,null,null,null,null,null,2,null,"後半",null,null,null,1,null,null,null,null,null,null,null,null,null,null,null,null,null,null,null,null,null,null,null,null,null,null,null,null,null,null,null,null,null,null,null,null,null,null,null,"（大分市）"]
[null,null,null,null,null,null,null,null,null,null,null,null,null,null,null,null,null,null,null,null,null,null,null,null,null,null,null,null,null,null,null,null,null,null,null,null,null,null,null,null,null,null,null,null,null,null,null,null,null,null,null,null,null,null,null,null,null,null,null,null,null,null,null,null,null,null,null,null,null,null,null,null,null,null,null,null,null,null,null,null,null,null,null,null,null,null,null,null,null,null,null,null,null,null,null,null,null,null,null,null,null,null,null,null,null,null,null,null,null,null,null,null,null,null,null,null,null,null,null,null,null,null,null,null,null,null,null,null,null,null,null,null,null,null,null,null,null,null,null,null,null,null,null,null,null,"＜３位＞"]
[null,null,null,null,null,null,null,null,null,null,null,null,null,null,null,null,null,null,null,null,null,null,null,null,null,null,null,null,null,null,null,null,null,null,null,null,null,null,null,null,null,null,null,null,null,null,null,null,null,null,null,null,null,null,null,null,null,null,null,null,null,null,null,null,null,null,null,null,null,null,null,"PK"]
[null,null,null,null,null,null,null,null,null,null,null,null,null,null,null,null,null,null,null,null,null,null,null,null,null,null,null,null,null,null,null,{"$f":"D5","v":"サブA"},null,null,null,null,null,null,null,null,null,null,null,null,null,null,null,null,null,null,null,null,null,null,null,null,null,null,null,null,null,null,null,null,null,null,null,null,null,null,null,null,null,null,null,null,null,null,null,null,null,null,null,null,null,null,null,null,null,null,null,null,null,null,null,null,null,null,null,null,null,null,null,{"$f":"D5","v":"サブA"},null,null,null,null,null,null,null,null,null,null,null,null,null,null,null,null,null,null,null,null,null,null,null,null,null,null,null,null,null,null,null,null,null,null,null,null,null,null,null,null,null,"スマイス・セレソン"]
[]
[null,null,null,null,null,null,null,null,null,null,null,null,null,null,null,null,null,null,null,null,null,null,null,null,null,null,null,null,null,null,null,null,null,"9:30～",null,null,null,null,null,null,null,null,null,null,null,null,null,null,null,null,null,null,null,null,null,null,null,null,null,null,null,null,null,null,null,null,null,null,null,null,null,null,null,null,null,null,null,null,null,null,null,null,null,null,null,null,null,null,null,null,null,null,null,null,null,null,null,null,null,null,null,null,null,null,null,"10:30～"]
[null,null,null,null,null,"Aパート\n1位",null,null,null,null,null,"スマイス・セレソン",null,null,null,null,null,null,null,null,null,null,null,null,null,null,null,null,null,null,null,null,null,null,null,null,null,null,null,null,null,"Bパート\n1位",null,null,null,null,null,"ＦＣアリアーレ",null,null,null,null,null,null,null,null,null,null,null,null,null,null,null,null,null,null,null,null,null,null,null,null,null,null,null,null,null,"Cパート\n1位",null,null,null,null,null,"ブルーウイングフットボールクラブ",null,null,null,null,null,null,null,null,null,null,null,null,null,null,null,null,null,null,null,null,null,null,null,null,null,null,null,null,null,"Dパート\n1位",null,null,null,null,null,"太陽スポーツクラブ大分西"]
[null,null,null,null,null,null,null,null,null,null,null,null,null,null,null,null,null,null,null,null,null,null,null,null,null,null,null,null,null,null,null,null,null,0,null,"前半",null,null,null,2,null,null,null,null,null,null,null,null,null,null,null,null,null,null,null,null,null,null,null,null,null,null,null,null,null,null,null,null,null,null,null,null,null,null,null,null,null,null,null,null,null,null,null,null,null,null,null,null,null,null,null,null,null,null,null,null,null,null,null,null,null,null,null,null,null,1,null,"前半",null,null,null,0]
[]
["2/3（日）\n\n2次リーグ\n\n大会2日目",null,null,null,null,null,null,null,null,null,null,null,null,null,null,null,null,null,null,null,null,"（別府市）",null,null,null,null,null,null,null,null,null,null,null,0,null,"後半",null,null,null,1,null,null,null,null,null,null,null,null,null,null,null,null,null,null,null,null,null,"（日田市）",null,null,null,null,null,null,null,null,null,null,null,null,null,null,null,null,null,null,null,null,null,null,null,null,null,null,null,null,null,null,null,null,null,null,null,"（大分市）",null,null,null,null,null,null,null,null,null,null,null,2,null,"後半",null,null,null,0,null,null,null,null,null,null,null,null,null,null,null,null,null,null,null,null,null,"（日田市）"]
[]
[null,null,null,null,null,null,null,null,null,null,null,null,null,null,null,null,null,null,null,null,null,null,null,null,null,null,null,null,null,null,null,null,null,null,null,"延前",null,null,null,null,null,null,null,null,null,null,null,null,null,null,null,null,null,null,null,null,null,null,null,null,null,null,null,null,null,null,null,null,null,null,null,null,null,null,null,null,null,null,null,null,null,null,null,null,null,null,null,null,null,null,null,null,null,null,null,null,null,null,null,null,null,null,null,null,null,null,null,"延前"]
[null,null,null,null,null,null,null,"2次リーグ　Aパート",null,null,null,null,null,null,null,null,null,null,null,null,null,null,null,null,null,null,null,null,null,null,null,null,null,null,null,null,null,null,null,null,null,null,null,"2次リーグ　Bパート",null,null,null,null,null,null,null,null,null,null,null,null,null,null,null,null,null,null,null,null,null,null,null,null,null,null,null,null,null,null,null,null,null,null,null,"2次リーグ　Cパート",null,null,null,null,null,null,null,null,null,null,null,null,null,null,null,null,null,null,null,null,null,null,null,null,null,null,null,null,null,null,null,null,null,null,null,"2次リーグ　Dパート"]
[null,null,null,null,null,null,null,"会場：",null,null,null,null,null,null,null,null,null,null,null,{"$f":"D6","v":"別府"},null,null,null,null,null,null,null,null,null,null,null,null,null,null,null,"延後",null,null,null,null,null,null,null,"会場：",null,null,null,null,null,null,null,null,null,null,null,{"$f":"BF6","v":"豊肥"},null,null,null,null,null,null,null,null,null,null,null,null,null,null,null,null,null,null,null,null,null,null,null,"会場：",null,null,null,null,null,null,null,null,null,null,null,{"$f":"D6","v":"別府"},null,null,null,null,null,null,null,null,null,null,null,null,null,null,null,"延後",null,null,null,null,null,null,null,"会場：",null,null,null,null,null,null,null,null,null,null,null,{"$f":"BF6","v":"豊肥"}]
[]
[null,null,null,null,null,null,null,"A",null,null,null,"ＦＣ　ＵＮＩＴＥ",null,null,null,null,null,null,null,null,null,null,null,null,null,null,null,null,null,null,null,null,null,null,null,"PK",null,null,null,null,null,null,null,"D",null,null,null,"武蔵オークスサッカークラブ",null,null,null,null,null,null,null,null,null,null,null,null,null,null,null,null,null,null,null,null,null,null,null,null,null,null,null,null,null,null,null,"G",null,null,null,"ブルーウイングフットボールクラブ",null,null,null,null,null,null,null,null,null,null,null,null,null,null,null,null,null,null,null,null,null,null,null,"PK",null,null,null,null,null,null,null,"J",null,null,null,"明治北ＳＳＣ"]
[]
[null,null,null,null,null,null,null,"B",null,null,null,"スマイス　セレソン　スポーツクラブ",null,null,null,null,null,null,null,null,null,null,null,null,null,null,null,null,null,null,null,null,null,null,null,null,null,null,null,null,null,null,null,"E",null,null,null,"ＦＣアリアーレ",null,null,null,null,null,null,null,null,null,null,null,null,null,null,null,null,null,null,null,null,null,null,null,null,null,null,null,null,null,null,null,"H",null,null,null,"カティオーラフットボールクラブ　大在",null,null,null,null,null,null,null,null,null,null,null,null,null,null,null,null,null,null,null,null,null,null,null,null,null,null,null,null,null,null,null,"K",null,null,null,"ＭＳＳ"]
[]
[null,null,null,null,null,null,null,"C",null,null,null,"スマイス・セレソン",null,null,null,null,null,null,null,null,null,null,null,null,null,null,null,null,null,null,null,null,null,null,null,null,null,null,null,null,null,null,null,"F",null,null,null,"桃園サッカースポーツ少年団",null,null,null,null,null,null,null,null,null,null,null,null,null,null,null,null,null,null,null,null,null,null,null,null,null,null,null,null,null,null,null,"I",null,null,null,"別府フットボールクラブ．ミネルバＵ－１２",null,null,null,null,null,null,null,null,null,null,null,null,null,null,null,null,null,null,null,null,null,null,null,null,null,null,null,null,null,null,null,"L",null,null,null,"太陽スポーツクラブ大分西"]
[]
[]
[]
[]
["1/27（日）\n\n1次リーグ\n\n大会1日目"]
[]
[]
[null,"A1",null,null,null,"A2",null,null,null,"A3",null,null,null,"B1",null,null,null,"B2",null,null,null,"B3",null,null,null,"C1",null,null,null,"C2",null,null,null,"C3",null,null,null,"D1",null,null,null,"D2",null,null,null,"D3",null,null,null,"E1",null,null,null,"E2",null,null,null,"E3",null,null,null,"F1",null,null,null,"F2",null,null,null,"F3",null,null,null,"G1",null,null,null,"G2",null,null,null,"G3",null,null,null,"H1",null,null,null,"H2",null,null,null,"H3",null,null,null,"I1",null,null,null,"I2",null,null,null,"I3",null,null,null,"J1",null,null,null,"J2",null,null,null,"J3",null,null,null,"K1",null,null,null,"K2",null,null,null,"K3",null,null,null,"L1",null,null,null,"L2",null,null,null,"L3",null,null,null,null,null,null,null,null,null,null,null,null,null,null,null,null,null,null,null,null,null,null,null,null,null,null,null,null,null,null,null,null,null,null,null,null,null,null,null,null,null,null,null,"抽選番号入力","チーム名入力（偶数）","地区入力"]
[null,{"$f":"IF(ISERROR(VLOOKUP(B48,$GD:$GF,2,FALSE))=TRUE,\"\",VLOOKUP(B48,$GD:$GF,2,FALSE))","v":"ＦＣ　ＵＮＩＴＥ"},null,null,null,{"$f":"IF(ISERROR(VLOOKUP(F48,$GD:$GF,2,FALSE))=TRUE,\"\",VLOOKUP(F48,$GD:$GF,2,FALSE))","v":"大分トリニータＵ－１２"},null,null,null,{"$f":"IF(ISERROR(VLOOKUP(J48,$GD:$GF,2,FALSE))=TRUE,\"\",VLOOKUP(J48,$GD:$GF,2,FALSE))","v":"鶴居ＳＳＳ"},null,null,null,{"$f":"IF(ISERROR(VLOOKUP(N48,$GD:$GF,2,FALSE))=TRUE,\"\",VLOOKUP(N48,$GD:$GF,2,FALSE))","v":"きつきＦＣ"},null,null,null,{"$f":"IF(ISERROR(VLOOKUP(R48,$GD:$GF,2,FALSE))=TRUE,\"\",VLOOKUP(R48,$GD:$GF,2,FALSE))","v":"アトレチコエラン横瀬"},null,null,null,{"$f":"IF(ISERROR(VLOOKUP(V48,$GD:$GF,2,FALSE))=TRUE,\"\",VLOOKUP(V48,$GD:$GF,2,FALSE))","v":"スマイス　セレソン　スポーツクラブ"},null,null,null,{"$f":"IF(ISERROR(VLOOKUP(Z48,$GD:$GF,2,FALSE))=TRUE,\"\",VLOOKUP(Z48,$GD:$GF,2,FALSE))","v":"弥生少年サッカークラブ"},null,null,null,{"$f":"IF(ISERROR(VLOOKUP(AD48,$GD:$GF,2,FALSE))=TRUE,\"\",VLOOKUP(AD48,$GD:$GF,2,FALSE))","v":"滝尾下郡サッカースポーツ少年団"},null,null,null,{"$f":"IF(ISERROR(VLOOKUP(AH48,$GD:$GF,2,FALSE))=TRUE,\"\",VLOOKUP(AH48,$GD:$GF,2,FALSE))","v":"スマイス・セレソン"},null,null,null,{"$f":"IF(ISERROR(VLOOKUP(AL48,$GD:$GF,2,FALSE))=TRUE,\"\",VLOOKUP(AL48,$GD:$GF,2,FALSE))","v":"臼杵ＳＳＳ"},null,null,null,{"$f":"IF(ISERROR(VLOOKUP(AP48,$GD:$GF,2,FALSE))=TRUE,\"\",VLOOKUP(AP48,$GD:$GF,2,FALSE))","v":"東陽フットボールクラブ"},null,null,null,{"$f":"IF(ISERROR(VLOOKUP(AT48,$GD:$GF,2,FALSE))=TRUE,\"\",VLOOKUP(AT48,$GD:$GF,2,FALSE))","v":"武蔵オークスサッカークラブ"},null,null,null,{"$f":"IF(ISERROR(VLOOKUP(AX48,$GD:$GF,2,FALSE))=TRUE,\"\",VLOOKUP(AX48,$GD:$GF,2,FALSE))","v":"ＦＣアリアーレ"},null,null,null,{"$f":"IF(ISERROR(VLOOKUP(BB48,$GD:$GF,2,FALSE))=TRUE,\"\",VLOOKUP(BB48,$GD:$GF,2,FALSE))","v":"明治サッカースポーツ少年団"},null,null,null,{"$f":"IF(ISERROR(VLOOKUP(BF48,$GD:$GF,2,FALSE))=TRUE,\"\",VLOOKUP(BF48,$GD:$GF,2,FALSE))","v":"ＦＣ大野"},null,null,null,{"$f":"IF(ISERROR(VLOOKUP(BJ48,$GD:$GF,2,FALSE))=TRUE,\"\",VLOOKUP(BJ48,$GD:$GF,2,FALSE))","v":"判田サッカースポーツ少年団"},null,null,null,{"$f":"IF(ISERROR(VLOOKUP(BN48,$GD:$GF,2,FALSE))=TRUE,\"\",VLOOKUP(BN48,$GD:$GF,2,FALSE))","v":"桃園サッカースポーツ少年団"},null,null,null,{"$f":"IF(ISERROR(VLOOKUP(BR48,$GD:$GF,2,FALSE))=TRUE,\"\",VLOOKUP(BR48,$GD:$GF,2,FALSE))","v":"ＦＣ中津ジュニア"},null,null,null,{"$f":"IF(ISERROR(VLOOKUP(BV48,$GD:$GF,2,FALSE))=TRUE,\"\",VLOOKUP(BV48,$GD:$GF,2,FALSE))","v":"ＯＫＹ山香サッカークラブ"},null,null,null,{"$f":"IF(ISERROR(VLOOKUP(BZ48,$GD:$GF,2,FALSE))=TRUE,\"\",VLOOKUP(BZ48,$GD:$GF,2,FALSE))","v":"ブルーウイングフットボールクラブ"},null,null,null,{"$f":"IF(ISERROR(VLOOKUP(CD48,$GD:$GF,2,FALSE))=TRUE,\"\",VLOOKUP(CD48,$GD:$GF,2,FALSE))","v":"中津沖代ＪＳＣ"},null,null,null,{"$f":"IF(ISERROR(VLOOKUP(CH48,$GD:$GF,2,FALSE))=TRUE,\"\",VLOOKUP(CH48,$GD:$GF,2,FALSE))","v":"カティオーラフットボールクラブ　大在"},null,null,null,{"$f":"IF(ISERROR(VLOOKUP(CL48,$GD:$GF,2,FALSE))=TRUE,\"\",VLOOKUP(CL48,$GD:$GF,2,FALSE))","v":"ドリームキッズサッカークラブ"},null,null,null,{"$f":"IF(ISERROR(VLOOKUP(CP48,$GD:$GF,2,FALSE))=TRUE,\"\",VLOOKUP(CP48,$GD:$GF,2,FALSE))","v":"若宮サッカースポーツ少年団"},null,null,null,{"$f":"IF(ISERROR(VLOOKUP(CT48,$GD:$GF,2,FALSE))=TRUE,\"\",VLOOKUP(CT48,$GD:$GF,2,FALSE))","v":"千怒サッカースポーツ少年団"},null,null,null,{"$f":"IF(ISERROR(VLOOKUP(CX48,$GD:$GF,2,FALSE))=TRUE,\"\",VLOOKUP(CX48,$GD:$GF,2,FALSE))","v":"明野東サッカースポーツ少年団"},null,null,null,{"$f":"IF(ISERROR(VLOOKUP(DB48,$GD:$GF,2,FALSE))=TRUE,\"\",VLOOKUP(DB48,$GD:$GF,2,FALSE))","v":"別府フットボールクラブ．ミネルバＵ－１２"},null,null,null,{"$f":"IF(ISERROR(VLOOKUP(DF48,$GD:$GF,2,FALSE))=TRUE,\"\",VLOOKUP(DF48,$GD:$GF,2,FALSE))","v":"豊後高田ＦＣ　Ｂｏｒｄｅｒ　Ｊｒ"},null,null,null,{"$f":"IF(ISERROR(VLOOKUP(DJ48,$GD:$GF,2,FALSE))=TRUE,\"\",VLOOKUP(DJ48,$GD:$GF,2,FALSE))","v":"大道サッカースポーツ少年団"},null,null,null,{"$f":"IF(ISERROR(VLOOKUP(DN48,$GD:$GF,2,FALSE))=TRUE,\"\",VLOOKUP(DN48,$GD:$GF,2,FALSE))","v":"明治北ＳＳＣ"},null,null,null,{"$f":"IF(ISERROR(VLOOKUP(DR48,$GD:$GF,2,FALSE))=TRUE,\"\",VLOOKUP(DR48,$GD:$GF,2,FALSE))","v":"佐伯リベロフットボールクラブ"},null,null,null,{"$f":"IF(ISERROR(VLOOKUP(DV48,$GD:$GF,2,FALSE))=TRUE,\"\",VLOOKUP(DV48,$GD:$GF,2,FALSE))","v":"ＦＣ　ＲＥＧＡＴＥ"},null,null,null,{"$f":"IF(ISERROR(VLOOKUP(DZ48,$GD:$GF,2,FALSE))=TRUE,\"\",VLOOKUP(DZ48,$GD:$GF,2,FALSE))","v":"ＭＳＳ"},null,null,null,{"$f":"IF(ISERROR(VLOOKUP(ED48,$GD:$GF,2,FALSE))=TRUE,\"\",VLOOKUP(ED48,$GD:$GF,2,FALSE))","v":"太陽スポーツクラブ大分西"},null,null,null,{"$f":"IF(ISERROR(VLOOKUP(EH48,$GD:$GF,2,FALSE))=TRUE,\"\",VLOOKUP(EH48,$GD:$GF,2,FALSE))","v":"宗方サッカークラブ"},null,null,null,{"$f":"IF(ISERROR(VLOOKUP(EL48,$GD:$GF,2,FALSE))=TRUE,\"\",VLOOKUP(EL48,$GD:$GF,2,FALSE))","v":"Ｓｈｙｎｔ　ＦＣ"},null,null,null,null,null,null,null,null,null,null,null,null,null,null,null,null,null,null,null,null,null,null,null,null,null,null,null,null,null,null,null,null,null,null,null,null,null,null,null,null,null,null,20,"J2",{"$f":"出場チーム!C11","v":"大道サッカースポーツ少年団"},"大分"]
[null,null,null,null,null,null,null,null,null,null,null,null,null,null,null,null,null,null,null,null,null,null,null,null,null,null,null,null,null,null,null,null,null,null,null,null,null,null,null,null,null,null,null,null,null,null,null,null,null,null,null,null,null,null,null,null,null,null,null,null,null,null,null,null,null,null,null,null,null,null,null,null,null,null,null,null,null,null,null,null,null,null,null,null,null,null,null,null,null,null,null,null,null,null,null,null,null,null,null,null,null,null,null,null,null,null,null,null,null,null,null,null,null,null,null,null,null,null,null,null,null,null,null,null,null,null,null,null,null,null,null,null,null,null,null,null,null,null,null,null,null,null,null,null,null,null,null,null,null,null,null,null,null,null,null,null,null,null,null,null,null,null,null,null,null,null,null,null,null,null,null,null,null,null,null,null,null,null,null,null,null,null,null,null,21,"C2",{"$f":"出場チーム!C12","v":"滝尾下郡サッカースポーツ少年団"},"大分"]
[null,null,null,null,null,null,null,null,null,null,null,null,null,null,null,null,null,null,null,null,null,null,null,null,null,null,null,null,null,null,null,null,null,null,null,null,null,null,null,null,null,null,null,null,null,null,null,null,null,null,null,null,null,null,null,null,null,null,null,null,null,null,null,null,null,null,null,null,null,null,null,null,null,null,null,null,null,null,null,null,null,null,null,null,null,null,null,null,null,null,null,null,null,null,null,null,null,null,null,null,null,null,null,null,null,null,null,null,null,null,null,null,null,null,null,null,null,null,null,null,null,null,null,null,null,null,null,null,null,null,null,null,null,null,null,null,null,null,null,null,null,null,null,null,null,null,null,null,null,null,null,null,null,null,null,null,null,null,null,null,null,null,null,null,null,null,null,null,null,null,null,null,null,null,null,null,null,null,null,null,null,null,null,null,22,"L2",{"$f":"出場チーム!C13","v":"宗方サッカークラブ"},"大分"]
[null,null,null,null,null,null,null,null,null,null,null,null,null,null,null,null,null,null,null,null,null,null,null,null,null,null,null,null,null,null,null,null,null,null,null,null,null,null,null,null,null,null,null,null,null,null,null,null,null,null,null,null,null,null,null,null,null,null,null,null,null,null,null,null,null,null,null,null,null,null,null,null,null,null,null,null,null,null,null,null,null,null,null,null,null,null,null,null,null,null,null,null,null,null,null,null,null,null,null,null,null,null,null,null,null,null,null,null,null,null,null,null,null,null,null,null,null,null,null,null,null,null,null,null,null,null,null,null,null,null,null,null,null,null,null,null,null,null,null,null,null,null,null,null,null,null,null,null,null,null,null,null,null,null,null,null,null,null,null,null,null,null,null,null,null,null,null,null,null,null,null,null,null,null,null,null,null,null,null,null,null,null,null,null,23,"F1",{"$f":"出場チーム!C14","v":"判田サッカースポーツ少年団"},"大分"]
[null,null,null,null,null,null,null,null,null,null,null,null,null,null,null,null,null,null,null,null,null,null,null,null,null,null,null,null,null,null,null,null,null,null,null,null,null,null,null,null,null,null,null,null,null,null,null,null,null,null,null,null,null,null,null,null,null,null,null,null,null,null,null,null,null,null,null,null,null,null,null,null,null,null,null,null,null,null,null,null,null,null,null,null,null,null,null,null,null,null,null,null,null,null,null,null,null,null,null,null,null,null,null,null,null,null,null,null,null,null,null,null,null,null,null,null,null,null,null,null,null,null,null,null,null,null,null,null,null,null,null,null,null,null,null,null,null,null,null,null,null,null,null,null,null,null,null,null,null,null,null,null,null,null,null,null,null,null,null,null,null,null,null,null,null,null,null,null,null,null,null,null,null,null,null,null,null,null,null,null,null,null,null,null,24,"G2",{"$f":"出場チーム!C15","v":"ブルーウイングフットボールクラブ"},"大分"]
[null,null,null,null,null,null,null,null,null,null,null,null,null,null,null,null,null,null,null,null,null,null,null,null,null,null,null,null,null,null,null,null,null,null,null,null,null,null,null,null,null,null,null,null,null,null,null,null,null,null,null,null,null,null,null,null,null,null,null,null,null,null,null,null,null,null,null,null,null,null,null,null,null,null,null,null,null,null,null,null,null,null,null,null,null,null,null,null,null,null,null,null,null,null,null,null,null,null,null,null,null,null,null,null,null,null,null,null,null,null,null,null,null,null,null,null,null,null,null,null,null,null,null,null,null,null,null,null,null,null,null,null,null,null,null,null,null,null,null,null,null,null,null,null,null,null,null,null,null,null,null,null,null,null,null,null,null,null,null,null,null,null,null,null,null,null,null,null,null,null,null,null,null,null,null,null,null,null,null,null,null,null,null,null,25,"B3",{"$f":"出場チーム!C16","v":"スマイス　セレソン　スポーツクラブ"},"大分"]
[null,null,null,null,null,null,null,null,null,null,null,null,null,null,null,null,null,null,null,null,null,null,null,null,null,null,null,null,null,null,null,null,null,null,null,null,null,null,null,null,null,null,null,null,null,null,null,null,null,null,null,null,null,null,null,null,null,null,null,null,null,null,null,null,null,null,null,null,null,null,null,null,null,null,null,null,null,null,null,null,null,null,null,null,null,null,null,null,null,null,null,null,null,null,null,null,null,null,null,null,null,null,null,null,null,null,null,null,null,null,null,null,null,null,null,null,null,null,null,null,null,null,null,null,null,null,null,null,null,null,null,null,null,null,null,null,null,null,null,null,null,null,null,null,null,null,null,null,null,null,null,null,null,null,null,null,null,null,null,null,null,null,null,null,null,null,null,null,null,null,null,null,null,null,null,null,null,null,null,null,null,null,null,null,26,"F2",{"$f":"出場チーム!C17","v":"桃園サッカースポーツ少年団"},"大分"]
[null,null,null,null,null,null,null,null,null,null,null,null,null,null,null,null,null,null,null,null,null,null,null,null,null,null,null,null,null,null,null,null,null,null,null,null,null,null,null,null,null,null,null,null,null,null,null,null,null,null,null,null,null,null,null,null,null,null,null,null,null,null,null,null,null,null,null,null,null,null,null,null,null,null,null,null,null,null,null,null,null,null,null,null,null,null,null,null,null,null,null,null,null,null,null,null,null,null,null,null,null,null,null,null,null,null,null,null,null,null,null,null,null,null,null,null,null,null,null,null,null,null,null,null,null,null,null,null,null,null,null,null,null,null,null,null,null,null,null,null,null,null,null,null,null,null,null,null,null,null,null,null,null,null,null,null,null,null,null,null,null,null,null,null,null,null,null,null,null,null,null,null,null,null,null,null,null,null,null,null,null,null,null,null,27,"H1",{"$f":"出場チーム!C18","v":"カティオーラフットボールクラブ　大在"},"大分"]
[null,null,null,null,null,null,null,null,null,null,null,null,null,null,null,null,null,null,null,null,null,null,null,null,null,null,null,null,null,null,null,null,null,null,null,null,null,null,null,null,null,null,null,null,null,null,null,null,null,null,null,null,null,null,null,null,null,null,null,null,null,null,null,null,null,null,null,null,null,null,null,null,null,null,null,null,null,null,null,null,null,null,null,null,null,null,null,null,null,null,null,null,null,null,null,null,null,null,null,null,null,null,null,null,null,null,null,null,null,null,null,null,null,null,null,null,null,null,null,null,null,null,null,null,null,null,null,null,null,null,null,null,null,null,null,null,null,null,null,null,null,null,null,null,null,null,null,null,null,null,null,null,null,null,null,null,null,null,null,null,null,null,null,null,null,null,null,null,null,null,null,null,null,null,null,null,null,null,null,null,null,null,null,null,28,"I2",{"$f":"出場チーム!C19","v":"明野東サッカースポーツ少年団"},"大分"]
[null,null,null,null,null,null,null,null,null,null,null,null,null,null,null,null,null,null,null,null,null,null,null,null,null,null,null,null,null,null,null,null,null,null,null,null,null,null,null,null,null,null,null,null,null,null,null,null,null,null,null,null,null,null,null,null,null,null,null,null,null,null,null,null,null,null,null,null,null,null,null,null,null,null,null,null,null,null,null,null,null,null,null,null,null,null,null,null,null,null,null,null,null,null,null,null,null,null,null,null,null,null,null,null,null,null,null,null,null,null,null,null,null,null,null,null,null,null,null,null,null,null,null,null,null,null,null,null,null,null,null,null,null,null,null,null,null,null,null,null,null,null,null,null,null,null,null,null,null,null,null,null,null,null,null,null,null,null,null,null,null,null,null,null,null,null,null,null,null,null,null,null,null,null,null,null,null,null,null,null,null,null,null,null,29,"D2",{"$f":"出場チーム!C20","v":"東陽フットボールクラブ"},"大分"]
[null,null,null,null,null,null,null,null,null,null,null,null,null,null,null,null,null,null,null,null,null,null,null,null,null,null,null,null,null,null,null,null,null,null,null,null,null,null,null,null,null,null,null,null,null,null,null,null,null,null,null,null,null,null,null,null,null,null,null,null,null,null,null,null,null,null,null,null,null,null,null,null,null,null,null,null,null,null,null,null,null,null,null,null,null,null,null,null,null,null,null,null,null,null,null,null,null,null,null,null,null,null,null,null,null,null,null,null,null,null,null,null,null,null,null,null,null,null,null,null,null,null,null,null,null,null,null,null,null,null,null,null,null,null,null,null,null,null,null,null,null,null,null,null,null,null,null,null,null,null,null,null,null,null,null,null,null,null,null,null,null,null,null,null,null,null,null,null,null,null,null,null,null,null,null,null,null,null,null,null,null,null,null,null,30,"H2",{"$f":"出場チーム!C21","v":"ドリームキッズサッカークラブ"},"大分"]
[null,null,null,null,null,null,null,null,null,null,null,null,null,null,null,null,null,null,null,null,null,null,null,null,null,null,null,null,null,null,null,null,null,null,null,null,null,null,null,null,null,null,null,null,null,null,null,null,null,null,null,null,null,null,null,null,null,null,null,null,null,null,null,null,null,null,null,null,null,null,null,null,null,null,null,null,null,null,null,null,null,null,null,null,null,null,null,null,null,null,null,null,null,null,null,null,null,null,null,null,null,null,null,null,null,null,null,null,null,null,null,null,null,null,null,null,null,null,null,null,null,null,null,null,null,null,null,null,null,null,null,null,null,null,null,null,null,null,null,null,null,null,null,null,null,null,null,null,null,null,null,null,null,null,null,null,null,null,null,null,null,null,null,null,null,null,null,null,null,null,null,null,null,null,null,null,null,null,null,null,null,null,null,null,31,"A2",{"$f":"出場チーム!C22","v":"大分トリニータＵ－１２"},"大分"]
[null,null,null,null,null,null,null,null,null,null,null,null,null,null,null,null,null,null,null,null,null,null,null,null,null,null,null,null,null,null,null,null,null,null,null,null,null,null,null,null,null,null,null,null,null,null,null,null,null,null,null,null,null,null,null,null,null,null,null,null,null,null,null,null,null,null,null,null,null,null,null,null,null,null,null,null,null,null,null,null,null,null,null,null,null,null,null,null,null,null,null,null,null,null,null,null,null,null,null,null,null,null,null,null,null,null,null,null,null,null,null,null,null,null,null,null,null,null,null,null,null,null,null,null,null,null,null,null,null,null,null,null,null,null,null,null,null,null,null,null,null,null,null,null,null,null,null,null,null,null,null,null,null,null,null,null,null,null,null,null,null,null,null,null,null,null,null,null,null,null,null,null,null,null,null,null,null,null,null,null,null,null,null,null,32,"E2",{"$f":"出場チーム!C23","v":"明治サッカースポーツ少年団"},"大分"]
[null,null,null,null,null,null,null,null,null,null,null,null,null,null,null,null,null,null,null,null,null,null,null,null,null,null,null,null,null,null,null,null,null,null,null,null,null,null,null,null,null,null,null,null,null,null,null,null,null,null,null,null,null,null,null,null,null,null,null,null,null,null,null,null,null,null,null,null,null,null,null,null,null,null,null,null,null,null,null,null,null,null,null,null,null,null,null,null,null,null,null,null,null,null,null,null,null,null,null,null,null,null,null,null,null,null,null,null,null,null,null,null,null,null,null,null,null,null,null,null,null,null,null,null,null,null,null,null,null,null,null,null,null,null,null,null,null,null,null,null,null,null,null,null,null,null,null,null,null,null,null,null,null,null,null,null,null,null,null,null,null,null,null,null,null,null,null,null,null,null,null,null,null,null,null,null,null,null,null,null,null,null,null,null,33,"K2",{"$f":"出場チーム!C24","v":"ＦＣ　ＲＥＧＡＴＥ"},"大分"]
[null,null,null,null,null,null,null,null,null,null,null,null,null,null,null,null,null,null,null,null,null,null,null,null,null,null,null,null,null,null,null,null,null,null,null,null,null,null,null,null,null,null,null,null,null,null,null,null,null,null,null,null,null,null,null,null,null,null,null,null,null,null,null,null,null,null,null,null,null,null,null,null,null,null,null,null,null,null,null,null,null,null,null,null,null,null,null,null,null,null,null,null,null,null,null,null,null,null,null,null,null,null,null,null,null,null,null,null,null,null,null,null,null,null,null,null,null,null,null,null,null,null,null,null,null,null,null,null,null,null,null,null,null,null,null,null,null,null,null,null,null,null,null,null,null,null,null,null,null,null,null,null,null,null,null,null,null,null,null,null,null,null,null,null,null,null,null,null,null,null,null,null,null,null,null,null,null,null,null,null,null,null,null,null,34,"J3",{"$f":"出場チーム!C25","v":"明治北ＳＳＣ"},"大分"]
[null,null,null,null,null,null,null,null,null,null,null,null,null,null,null,null,null,null,null,null,null,null,null,null,null,null,null,null,null,null,null,null,null,null,null,null,null,null,null,null,null,null,null,null,null,null,null,null,null,null,null,null,null,null,null,null,null,null,null,null,null,null,null,null,null,null,null,null,null,null,null,null,null,null,null,null,null,null,null,null,null,null,null,null,null,null,null,null,null,null,null,null,null,null,null,null,null,null,null,null,null,null,null,null,null,null,null,null,null,null,null,null,null,null,null,null,null,null,null,null,null,null,null,null,null,null,null,null,null,null,null,null,null,null,null,null,null,null,null,null,null,null,null,null,null,null,null,null,null,null,null,null,null,null,null,null,null,null,null,null,null,null,null,null,null,null,null,null,null,null,null,null,null,null,null,null,null,null,null,null,null,null,null,null,35,"K3",{"$f":"出場チーム!C26","v":"ＭＳＳ"},"大分"]
[null,null,null,null,null,null,null,null,null,null,null,null,null,null,null,null,null,null,null,null,null,null,null,null,null,null,null,null,null,null,null,null,null,null,null,null,null,null,null,null,null,null,null,null,null,null,null,null,null,null,null,null,null,null,null,null,null,null,null,null,null,null,null,null,null,null,null,null,null,null,null,null,null,null,null,null,null,null,null,null,null,null,null,null,null,null,null,null,null,null,null,null,null,null,null,null,null,null,null,null,null,null,null,null,null,null,null,null,null,null,null,null,null,null,null,null,null,null,null,null,null,null,null,null,null,null,null,null,null,null,null,null,null,null,null,null,null,null,null,null,null,null,null,null,null,null,null,null,null,null,null,null,null,null,null,null,null,null,null,null,null,null,null,null,null,null,null,null,null,null,null,null,null,null,null,null,null,null,null,null,null,null,null,null,36,"B2",{"$f":"出場チーム!C27","v":"アトレチコエラン横瀬"},"大分"]
[]
[]
[]
[null,null,null,null,null,null,null,null,null,null,null,null,null,null,null,null,null,null,null,null,null,null,null,null,null,null,null,null,null,null,null,null,null,null,null,null,null,null,null,null,null,null,null,null,null,null,null,null,null,null,null,null,null,null,null,null,null,null,null,null,null,null,null,null,null,null,null,null,null,null,null,null,null,null,null,null,null,null,null,null,null,null,null,null,null,null,null,null,null,null,null,null,null,null,null,null,null,null,null,null,null,null,null,null,null,null,null,null,null,null,null,null,null,null,null,null,null,null,null,null,null,null,null,null,null,null,null,null,null,null,null,null,null,null,null,null,null,null,null,null,null,null,null,null,null,null,null,null,null,null,null,null,null,null,null,null,null,null,null,null,null,null,null,null,null,null,null,null,null,null,null,null,null,null,null,null,null,null,null,null,null,null,null,null,null,"抽選番号入力","チーム名入力（奇数）","地区入力"]
[null,null,null,null,null,null,null,null,null,null,null,null,null,null,null,null,null,null,null,null,null,null,null,null,null,null,null,null,null,null,null,null,null,null,null,null,null,null,null,null,null,null,null,null,null,null,null,null,null,null,null,null,null,null,null,null,null,null,null,null,null,null,null,null,null,null,null,null,null,null,null,null,null,null,null,null,null,null,null,null,null,null,null,null,null,null,null,null,null,null,null,null,null,null,null,null,null,null,null,null,null,null,null,null,null,null,null,null,null,null,null,null,null,null,null,null,null,null,null,null,null,null,null,null,null,null,null,null,null,null,null,null,null,null,null,null,null,null,null,null,null,null,null,null,null,null,null,null,null,null,null,null,null,null,null,null,null,null,null,null,null,null,null,null,null,null,null,null,null,null,null,null,null,null,null,null,null,null,null,null,null,null,null,null,16,"L3",{"$f":"出場チーム!J11","v":"Ｓｈｙｎｔ　ＦＣ"},"中津"]
[null,null,null,null,null,null,null,null,null,null,null,null,null,null,null,null,null,null,null,null,null,null,null,null,null,null,null,null,null,null,null,null,null,null,null,null,null,null,null,null,null,null,null,null,null,null,null,null,null,null,null,null,null,null,null,null,null,null,null,null,null,null,null,null,null,null,null,null,null,null,null,null,null,null,null,null,null,null,null,null,null,null,null,null,null,null,null,null,null,null,null,null,null,null,null,null,null,null,null,null,null,null,null,null,null,null,null,null,null,null,null,null,null,null,null,null,null,null,null,null,null,null,null,null,null,null,null,null,null,null,null,null,null,null,null,null,null,null,null,null,null,null,null,null,null,null,null,null,null,null,null,null,null,null,null,null,null,null,null,null,null,null,null,null,null,null,null,null,null,null,null,null,null,null,null,null,null,null,null,null,null,null,null,null,17,"F3",{"$f":"出場チーム!J12","v":"ＦＣ中津ジュニア"},"中津"]
[null,null,null,null,null,null,null,null,null,null,null,null,null,null,null,null,null,null,null,null,null,null,null,null,null,null,null,null,null,null,null,null,null,null,null,null,null,null,null,null,null,null,null,null,null,null,null,null,null,null,null,null,null,null,null,null,null,null,null,null,null,null,null,null,null,null,null,null,null,null,null,null,null,null,null,null,null,null,null,null,null,null,null,null,null,null,null,null,null,null,null,null,null,null,null,null,null,null,null,null,null,null,null,null,null,null,null,null,null,null,null,null,null,null,null,null,null,null,null,null,null,null,null,null,null,null,null,null,null,null,null,null,null,null,null,null,null,null,null,null,null,null,null,null,null,null,null,null,null,null,null,null,null,null,null,null,null,null,null,null,null,null,null,null,null,null,null,null,null,null,null,null,null,null,null,null,null,null,null,null,null,null,null,null,18,"A3",{"$f":"出場チーム!J13","v":"鶴居ＳＳＳ"},"中津"]
[null,null,null,null,null,null,null,null,null,null,null,null,null,null,null,null,null,null,null,null,null,null,null,null,null,null,null,null,null,null,null,null,null,null,null,null,null,null,null,null,null,null,null,null,null,null,null,null,null,null,null,null,null,null,null,null,null,null,null,null,null,null,null,null,null,null,null,null,null,null,null,null,null,null,null,null,null,null,null,null,null,null,null,null,null,null,null,null,null,null,null,null,null,null,null,null,null,null,null,null,null,null,null,null,null,null,null,null,null,null,null,null,null,null,null,null,null,null,null,null,null,null,null,null,null,null,null,null,null,null,null,null,null,null,null,null,null,null,null,null,null,null,null,null,null,null,null,null,null,null,null,null,null,null,null,null,null,null,null,null,null,null,null,null,null,null,null,null,null,null,null,null,null,null,null,null,null,null,null,null,null,null,null,null,19,"G3",{"$f":"出場チーム!J14","v":"中津沖代ＪＳＣ"},"中津"]
[null,null,null,null,null,null,null,null,null,null,null,null,null,null,null,null,null,null,null,null,null,null,null,null,null,null,null,null,null,null,null,null,null,null,null,null,null,null,null,null,null,null,null,null,null,null,null,null,null,null,null,null,null,null,null,null,null,null,null,null,null,null,null,null,null,null,null,null,null,null,null,null,null,null,null,null,null,null,null,null,null,null,null,null,null,null,null,null,null,null,null,null,null,null,null,null,null,null,null,null,null,null,null,null,null,null,null,null,null,null,null,null,null,null,null,null,null,null,null,null,null,null,null,null,null,null,null,null,null,null,null,null,null,null,null,null,null,null,null,null,null,null,null,null,null,null,null,null,null,null,null,null,null,null,null,null,null,null,null,null,null,null,null,null,null,null,null,null,null,null,null,null,null,null,null,null,null,null,null,null,null,null,null,null,4,"G1",{"$f":"出場チーム!J15","v":"ＯＫＹ山香サッカークラブ"},"速杵国東"]
[null,null,null,null,null,null,null,null,null,null,null,null,null,null,null,null,null,null,null,null,null,null,null,null,null,null,null,null,null,null,null,null,null,null,null,null,null,null,null,null,null,null,null,null,null,null,null,null,null,null,null,null,null,null,null,null,null,null,null,null,null,null,null,null,null,null,null,null,null,null,null,null,null,null,null,null,null,null,null,null,null,null,null,null,null,null,null,null,null,null,null,null,null,null,null,null,null,null,null,null,null,null,null,null,null,null,null,null,null,null,null,null,null,null,null,null,null,null,null,null,null,null,null,null,null,null,null,null,null,null,null,null,null,null,null,null,null,null,null,null,null,null,null,null,null,null,null,null,null,null,null,null,null,null,null,null,null,null,null,null,null,null,null,null,null,null,null,null,null,null,null,null,null,null,null,null,null,null,null,null,null,null,null,null,5,"B1",{"$f":"出場チーム!J16","v":"きつきＦＣ"},"速杵国東"]
[null,null,null,null,null,null,null,null,null,null,null,null,null,null,null,null,null,null,null,null,null,null,null,null,null,null,null,null,null,null,null,null,null,null,null,null,null,null,null,null,null,null,null,null,null,null,null,null,null,null,null,null,null,null,null,null,null,null,null,null,null,null,null,null,null,null,null,null,null,null,null,null,null,null,null,null,null,null,null,null,null,null,null,null,null,null,null,null,null,null,null,null,null,null,null,null,null,null,null,null,null,null,null,null,null,null,null,null,null,null,null,null,null,null,null,null,null,null,null,null,null,null,null,null,null,null,null,null,null,null,null,null,null,null,null,null,null,null,null,null,null,null,null,null,null,null,null,null,null,null,null,null,null,null,null,null,null,null,null,null,null,null,null,null,null,null,null,null,null,null,null,null,null,null,null,null,null,null,null,null,null,null,null,null,14,"D3",{"$f":"出場チーム!J17","v":"武蔵オークスサッカークラブ"},"速杵国東"]
[null,null,null,null,null,null,null,null,null,null,null,null,null,null,null,null,null,null,null,null,null,null,null,null,null,null,null,null,null,null,null,null,null,null,null,null,null,null,null,null,null,null,null,null,null,null,null,null,null,null,null,null,null,null,null,null,null,null,null,null,null,null,null,null,null,null,null,null,null,null,null,null,null,null,null,null,null,null,null,null,null,null,null,null,null,null,null,null,null,null,null,null,null,null,null,null,null,null,null,null,null,null,null,null,null,null,null,null,null,null,null,null,null,null,null,null,null,null,null,null,null,null,null,null,null,null,null,null,null,null,null,null,null,null,null,null,null,null,null,null,null,null,null,null,null,null,null,null,null,null,null,null,null,null,null,null,null,null,null,null,null,null,null,null,null,null,null,null,null,null,null,null,null,null,null,null,null,null,null,null,null,null,null,null,6,"L1",{"$f":"出場チーム!J18","v":"太陽スポーツクラブ大分西"},"日田"]
[null,null,null,null,null,null,null,null,null,null,null,null,null,null,null,null,null,null,null,null,null,null,null,null,null,null,null,null,null,null,null,null,null,null,null,null,null,null,null,null,null,null,null,null,null,null,null,null,null,null,null,null,null,null,null,null,null,null,null,null,null,null,null,null,null,null,null,null,null,null,null,null,null,null,null,null,null,null,null,null,null,null,null,null,null,null,null,null,null,null,null,null,null,null,null,null,null,null,null,null,null,null,null,null,null,null,null,null,null,null,null,null,null,null,null,null,null,null,null,null,null,null,null,null,null,null,null,null,null,null,null,null,null,null,null,null,null,null,null,null,null,null,null,null,null,null,null,null,null,null,null,null,null,null,null,null,null,null,null,null,null,null,null,null,null,null,null,null,null,null,null,null,null,null,null,null,null,null,null,null,null,null,null,null,7,"E1",{"$f":"出場チーム!J19","v":"ＦＣアリアーレ"},"日田"]
[null,{"$f":"IF(ISERROR(VLOOKUP(B48,$GD:$GF,3,FALSE))=TRUE,\"\",VLOOKUP(B48,$GD:$GF,3,FALSE))","v":"宇佐高田"},null,null,null,{"$f":"IF(ISERROR(VLOOKUP(F48,$GD:$GF,3,FALSE))=TRUE,\"\",VLOOKUP(F48,$GD:$GF,3,FALSE))","v":"大分"},null,null,null,{"$f":"IF(ISERROR(VLOOKUP(J48,$GD:$GF,3,FALSE))=TRUE,\"\",VLOOKUP(J48,$GD:$GF,3,FALSE))","v":"中津"},null,null,null,{"$f":"IF(ISERROR(VLOOKUP(N48,$GD:$GF,3,FALSE))=TRUE,\"\",VLOOKUP(N48,$GD:$GF,3,FALSE))","v":"速杵国東"},null,null,null,{"$f":"IF(ISERROR(VLOOKUP(R48,$GD:$GF,3,FALSE))=TRUE,\"\",VLOOKUP(R48,$GD:$GF,3,FALSE))","v":"大分"},null,null,null,{"$f":"IF(ISERROR(VLOOKUP(V48,$GD:$GF,3,FALSE))=TRUE,\"\",VLOOKUP(V48,$GD:$GF,3,FALSE))","v":"大分"},null,null,null,{"$f":"IF(ISERROR(VLOOKUP(Z48,$GD:$GF,3,FALSE))=TRUE,\"\",VLOOKUP(Z48,$GD:$GF,3,FALSE))","v":"佐伯"},null,null,null,{"$f":"IF(ISERROR(VLOOKUP(AD48,$GD:$GF,3,FALSE))=TRUE,\"\",VLOOKUP(AD48,$GD:$GF,3,FALSE))","v":"大分"},null,null,null,{"$f":"IF(ISERROR(VLOOKUP(AH48,$GD:$GF,3,FALSE))=TRUE,\"\",VLOOKUP(AH48,$GD:$GF,3,FALSE))","v":"別府"},null,null,null,{"$f":"IF(ISERROR(VLOOKUP(AL48,$GD:$GF,3,FALSE))=TRUE,\"\",VLOOKUP(AL48,$GD:$GF,3,FALSE))","v":"臼杵"},null,null,null,{"$f":"IF(ISERROR(VLOOKUP(AP48,$GD:$GF,3,FALSE))=TRUE,\"\",VLOOKUP(AP48,$GD:$GF,3,FALSE))","v":"大分"},null,null,null,{"$f":"IF(ISERROR(VLOOKUP(AT48,$GD:$GF,3,FALSE))=TRUE,\"\",VLOOKUP(AT48,$GD:$GF,3,FALSE))","v":"速杵国東"},null,null,null,{"$f":"IF(ISERROR(VLOOKUP(AX48,$GD:$GF,3,FALSE))=TRUE,\"\",VLOOKUP(AX48,$GD:$GF,3,FALSE))","v":"日田"},null,null,null,{"$f":"IF(ISERROR(VLOOKUP(BB48,$GD:$GF,3,FALSE))=TRUE,\"\",VLOOKUP(BB48,$GD:$GF,3,FALSE))","v":"大分"},null,null,null,{"$f":"IF(ISERROR(VLOOKUP(BF48,$GD:$GF,3,FALSE))=TRUE,\"\",VLOOKUP(BF48,$GD:$GF,3,FALSE))","v":"豊肥"},null,null,null,{"$f":"IF(ISERROR(VLOOKUP(BJ48,$GD:$GF,3,FALSE))=TRUE,\"\",VLOOKUP(BJ48,$GD:$GF,3,FALSE))","v":"大分"},null,null,null,{"$f":"IF(ISERROR(VLOOKUP(BN48,$GD:$GF,3,FALSE))=TRUE,\"\",VLOOKUP(BN48,$GD:$GF,3,FALSE))","v":"大分"},null,null,null,{"$f":"IF(ISERROR(VLOOKUP(BR48,$GD:$GF,3,FALSE))=TRUE,\"\",VLOOKUP(BR48,$GD:$GF,3,FALSE))","v":"中津"},null,null,null,{"$f":"IF(ISERROR(VLOOKUP(BV48,$GD:$GF,3,FALSE))=TRUE,\"\",VLOOKUP(BV48,$GD:$GF,3,FALSE))","v":"速杵国東"},null,null,null,{"$f":"IF(ISERROR(VLOOKUP(BZ48,$GD:$GF,3,FALSE))=TRUE,\"\",VLOOKUP(BZ48,$GD:$GF,3,FALSE))","v":"大分"},null,null,null,{"$f":"IF(ISERROR(VLOOKUP(CD48,$GD:$GF,3,FALSE))=TRUE,\"\",VLOOKUP(CD48,$GD:$GF,3,FALSE))","v":"中津"},null,null,null,{"$f":"IF(ISERROR(VLOOKUP(CH48,$GD:$GF,3,FALSE))=TRUE,\"\",VLOOKUP(CH48,$GD:$GF,3,FALSE))","v":"大分"},null,null,null,{"$f":"IF(ISERROR(VLOOKUP(CL48,$GD:$GF,3,FALSE))=TRUE,\"\",VLOOKUP(CL48,$GD:$GF,3,FALSE))","v":"大分"},null,null,null,{"$f":"IF(ISERROR(VLOOKUP(CP48,$GD:$GF,3,FALSE))=TRUE,\"\",VLOOKUP(CP48,$GD:$GF,3,FALSE))","v":"日田"},null,null,null,{"$f":"IF(ISERROR(VLOOKUP(CT48,$GD:$GF,3,FALSE))=TRUE,\"\",VLOOKUP(CT48,$GD:$GF,3,FALSE))","v":"津久見"},null,null,null,{"$f":"IF(ISERROR(VLOOKUP(CX48,$GD:$GF,3,FALSE))=TRUE,\"\",VLOOKUP(CX48,$GD:$GF,3,FALSE))","v":"大分"},null,null,null,{"$f":"IF(ISERROR(VLOOKUP(DB48,$GD:$GF,3,FALSE))=TRUE,\"\",VLOOKUP(DB48,$GD:$GF,3,FALSE))","v":"別府"},null,null,null,{"$f":"IF(ISERROR(VLOOKUP(DF48,$GD:$GF,3,FALSE))=TRUE,\"\",VLOOKUP(DF48,$GD:$GF,3,FALSE))","v":"宇佐高田"},null,null,null,{"$f":"IF(ISERROR(VLOOKUP(DJ48,$GD:$GF,3,FALSE))=TRUE,\"\",VLOOKUP(DJ48,$GD:$GF,3,FALSE))","v":"大分"},null,null,null,{"$f":"IF(ISERROR(VLOOKUP(DN48,$GD:$GF,3,FALSE))=TRUE,\"\",VLOOKUP(DN48,$GD:$GF,3,FALSE))","v":"大分"},null,null,null,{"$f":"IF(ISERROR(VLOOKUP(DR48,$GD:$GF,3,FALSE))=TRUE,\"\",VLOOKUP(DR48,$GD:$GF,3,FALSE))","v":"佐伯"},null,null,null,{"$f":"IF(ISERROR(VLOOKUP(DV48,$GD:$GF,3,FALSE))=TRUE,\"\",VLOOKUP(DV48,$GD:$GF,3,FALSE))","v":"大分"},null,null,null,{"$f":"IF(ISERROR(VLOOKUP(DZ48,$GD:$GF,3,FALSE))=TRUE,\"\",VLOOKUP(DZ48,$GD:$GF,3,FALSE))","v":"大分"},null,null,null,{"$f":"IF(ISERROR(VLOOKUP(ED48,$GD:$GF,3,FALSE))=TRUE,\"\",VLOOKUP(ED48,$GD:$GF,3,FALSE))","v":"日田"},null,null,null,{"$f":"IF(ISERROR(VLOOKUP(EH48,$GD:$GF,3,FALSE))=TRUE,\"\",VLOOKUP(EH48,$GD:$GF,3,FALSE))","v":"大分"},null,null,null,{"$f":"IF(ISERROR(VLOOKUP(EL48,$GD:$GF,3,FALSE))=TRUE,\"\",VLOOKUP(EL48,$GD:$GF,3,FALSE))","v":"中津"},null,null,null,null,null,null,null,null,null,null,null,null,null,null,null,null,null,null,null,null,null,null,null,null,null,null,null,null,null,null,null,null,null,null,null,null,null,null,null,null,null,null,15,"H3",{"$f":"出場チーム!J20","v":"若宮サッカースポーツ少年団"},"日田"]
[null,null,null,null,null,null,null,null,null,null,null,null,null,null,null,null,null,null,null,null,null,null,null,null,null,null,null,null,null,null,null,null,null,null,null,null,null,null,null,null,null,null,null,null,null,null,null,null,null,null,null,null,null,null,null,null,null,null,null,null,null,null,null,null,null,null,null,null,null,null,null,null,null,null,null,null,null,null,null,null,null,null,null,null,null,null,null,null,null,null,null,null,null,null,null,null,null,null,null,null,null,null,null,null,null,null,null,null,null,null,null,null,null,null,null,null,null,null,null,null,null,null,null,null,null,null,null,null,null,null,null,null,null,null,null,null,null,null,null,null,null,null,null,null,null,null,null,null,null,null,null,null,null,null,null,null,null,null,null,null,null,null,null,null,null,null,null,null,null,null,null,null,null,null,null,null,null,null,null,null,null,null,null,null,1,"C3",{"$f":"出場チーム!J21","v":"スマイス・セレソン"},"別府"]
[null,null,null,null,null,null,null,null,null,null,null,null,null,null,null,null,null,null,null,null,null,null,null,null,null,null,null,null,null,null,null,null,null,null,null,null,null,null,null,null,null,null,null,null,null,null,null,null,null,null,null,null,null,null,null,null,null,null,null,null,null,null,null,null,null,null,null,null,null,null,null,null,null,null,null,null,null,null,null,null,null,null,null,null,null,null,null,null,null,null,null,null,null,null,null,null,null,null,null,null,null,null,null,null,null,null,null,null,null,null,null,null,null,null,null,null,null,null,null,null,null,null,null,null,null,null,null,null,null,null,null,null,null,null,null,null,null,null,null,null,null,null,null,null,null,null,null,null,null,null,null,null,null,null,null,null,null,null,null,null,null,null,null,null,null,null,null,null,null,null,null,null,null,null,null,null,null,null,null,null,null,null,null,null,2,"I3",{"$f":"出場チーム!J22","v":"別府フットボールクラブ．ミネルバＵ－１２"},"別府"]
[null,null,null,null,null,null,null,null,null,null,null,null,null,null,null,null,null,null,null,null,null,null,null,null,null,null,null,null,null,null,null,null,null,null,null,null,null,null,null,null,null,null,null,null,null,null,null,null,null,null,null,null,null,null,null,null,null,null,null,null,null,null,null,null,null,null,null,null,null,null,null,null,null,null,null,null,null,null,null,null,null,null,null,null,null,null,null,null,null,null,null,null,null,null,null,null,null,null,null,null,null,null,null,null,null,null,null,null,null,null,null,null,null,null,null,null,null,null,null,null,null,null,null,null,null,null,null,null,null,null,null,null,null,null,null,null,null,null,null,null,null,null,null,null,null,null,null,null,null,null,null,null,null,null,null,null,null,null,null,null,null,null,null,null,null,null,null,null,null,null,null,null,null,null,null,null,null,null,null,null,null,null,null,null,8,"C1",{"$f":"出場チーム!J23","v":"弥生少年サッカークラブ"},"佐伯"]
[null,null,null,null,null,null,null,null,null,null,null,null,null,null,null,null,null,null,null,null,null,null,null,null,null,null,null,null,null,null,null,null,null,null,null,null,null,null,null,null,null,null,null,null,null,null,null,null,null,null,null,null,null,null,null,null,null,null,null,null,null,null,null,null,null,null,null,null,null,null,null,null,null,null,null,null,null,null,null,null,null,null,null,null,null,null,null,null,null,null,null,null,null,null,null,null,null,null,null,null,null,null,null,null,null,null,null,null,null,null,null,null,null,null,null,null,null,null,null,null,null,null,null,null,null,null,null,null,null,null,null,null,null,null,null,null,null,null,null,null,null,null,null,null,null,null,null,null,null,null,null,null,null,null,null,null,null,null,null,null,null,null,null,null,null,null,null,null,null,null,null,null,null,null,null,null,null,null,null,null,null,null,null,null,9,"K1",{"$f":"出場チーム!J24","v":"佐伯リベロフットボールクラブ"},"佐伯"]
[null,null,null,null,null,null,null,null,null,null,null,null,null,null,null,null,null,null,null,null,null,null,null,null,null,null,null,null,null,null,null,null,null,null,null,null,null,null,null,null,null,null,null,null,null,null,null,null,null,null,null,null,null,null,null,null,null,null,null,null,null,null,null,null,null,null,null,null,null,null,null,null,null,null,null,null,null,null,null,null,null,null,null,null,null,null,null,null,null,null,null,null,null,null,null,null,null,null,null,null,null,null,null,null,null,null,null,null,null,null,null,null,null,null,null,null,null,null,null,null,null,null,null,null,null,null,null,null,null,null,null,null,null,null,null,null,null,null,null,null,null,null,null,null,null,null,null,null,null,null,null,null,null,null,null,null,null,null,null,null,null,null,null,null,null,null,null,null,null,null,null,null,null,null,null,null,null,null,null,null,null,null,null,null,10,"A1",{"$f":"出場チーム!J25","v":"ＦＣ　ＵＮＩＴＥ"},"宇佐高田"]
[null,null,null,null,null,null,null,null,null,null,null,null,null,null,null,null,null,null,null,null,null,null,null,null,null,null,null,null,null,null,null,null,null,null,null,null,null,null,null,null,null,null,null,null,null,null,null,null,null,null,null,null,null,null,null,null,null,null,null,null,null,null,null,null,null,null,null,null,null,null,null,null,null,null,null,null,null,null,null,null,null,null,null,null,null,null,null,null,null,null,null,null,null,null,null,null,null,null,null,null,null,null,null,null,null,null,null,null,null,null,null,null,null,null,null,null,null,null,null,null,null,null,null,null,null,null,null,null,null,null,null,null,null,null,null,null,null,null,null,null,null,null,null,null,null,null,null,null,null,null,null,null,null,null,null,null,null,null,null,null,null,null,null,null,null,null,null,null,null,null,null,null,null,null,null,null,null,null,null,null,null,null,null,null,11,"J1",{"$f":"出場チーム!J26","v":"豊後高田ＦＣ　Ｂｏｒｄｅｒ　Ｊｒ"},"宇佐高田"]
[null,null,null,null,null,null,null,null,null,null,null,null,null,null,null,null,null,null,null,null,null,null,null,null,null,null,null,null,null,null,null,null,null,null,null,null,null,null,null,null,null,null,null,null,null,null,null,null,null,null,null,null,null,null,null,null,null,null,null,null,null,null,null,null,null,null,null,null,null,null,null,null,null,null,null,null,null,null,null,null,null,null,null,null,null,null,null,null,null,null,null,null,null,null,null,null,null,null,null,null,null,null,null,null,null,null,null,null,null,null,null,null,null,null,null,null,null,null,null,null,null,null,null,null,null,null,null,null,null,null,null,null,null,null,null,null,null,null,null,null,null,null,null,null,null,null,null,null,null,null,null,null,null,null,null,null,null,null,null,null,null,null,null,null,null,null,null,null,null,null,null,null,null,null,null,null,null,null,null,null,null,null,null,null,3,"E3",{"$f":"出場チーム!J27","v":"ＦＣ大野"},"豊肥"]
["会場",{"$f":"IF(B79=\"\",\"\",IF(B79=\"津久見\",\"津久見・臼杵\",IF(B79=\"臼杵\",\"津久見・臼杵\",B79)))","v":"宇佐高田"},null,null,null,null,null,null,null,null,null,null,null,{"$f":"IF(N79=\"\",\"\",IF(N79=\"津久見\",\"津久見・臼杵\",IF(N79=\"臼杵\",\"津久見・臼杵\",N79)))","v":"速杵国東"},null,null,null,null,null,null,null,null,null,null,null,{"$f":"IF(Z79=\"\",\"\",IF(Z79=\"津久見\",\"津久見・臼杵\",IF(Z79=\"臼杵\",\"津久見・臼杵\",Z79)))","v":"佐伯"},null,null,null,null,null,null,null,null,null,null,null,{"$f":"IF(AL79=\"\",\"\",IF(AL79=\"津久見\",\"津久見・臼杵\",IF(AL79=\"臼杵\",\"津久見・臼杵\",AL79)))","v":"津久見・臼杵"},null,null,null,null,null,null,null,null,null,null,null,{"$f":"IF(AX79=\"\",\"\",IF(AX79=\"津久見\",\"津久見・臼杵\",IF(AX79=\"臼杵\",\"津久見・臼杵\",AX79)))","v":"日田"},null,null,null,null,null,null,null,null,null,null,null,{"$f":"IF(BJ79=\"\",\"\",IF(BJ79=\"津久見\",\"津久見・臼杵\",IF(BJ79=\"臼杵\",\"津久見・臼杵\",BJ79)))","v":"大分"},null,null,null,null,null,null,null,null,null,null,null,{"$f":"IF(BV79=\"\",\"\",IF(BV79=\"津久見\",\"津久見・臼杵\",IF(BV79=\"臼杵\",\"津久見・臼杵\",BV79)))","v":"速杵国東"},null,null,null,null,null,null,null,null,null,null,null,{"$f":"IF(CH79=\"\",\"\",IF(CH79=\"津久見\",\"津久見・臼杵\",IF(CH79=\"臼杵\",\"津久見・臼杵\",CH79)))","v":"大分"},null,null,null,null,null,null,null,null,null,null,null,{"$f":"IF(CT79=\"\",\"\",IF(CT79=\"津久見\",\"津久見・臼杵\",IF(CT79=\"臼杵\",\"津久見・臼杵\",CT79)))","v":"津久見・臼杵"},null,null,null,null,null,null,null,null,null,null,null,{"$f":"IF(DF79=\"\",\"\",IF(DF79=\"津久見\",\"津久見・臼杵\",IF(DF79=\"臼杵\",\"津久見・臼杵\",DF79)))","v":"宇佐高田"},null,null,null,null,null,null,null,null,null,null,null,{"$f":"IF(DR79=\"\",\"\",IF(DR79=\"津久見\",\"津久見・臼杵\",IF(DR79=\"臼杵\",\"津久見・臼杵\",DR79)))","v":"佐伯"},null,null,null,null,null,null,null,null,null,null,null,{"$f":"IF(ED79=\"\",\"\",IF(ED79=\"津久見\",\"津久見・臼杵\",IF(ED79=\"臼杵\",\"津久見・臼杵\",ED79)))","v":"日田"},null,null,null,null,null,null,null,null,null,null,null,null,null,null,null,null,null,null,null,null,null,null,null,null,null,null,null,null,null,null,null,null,null,null,null,null,null,null,null,null,null,null,null,null,null,null,null,null,null,null,12,"D1",{"$f":"出場チーム!J28","v":"臼杵ＳＳＳ"},"臼杵"]
[null,null,null,null,null,null,null,null,null,null,null,null,null,null,null,null,null,null,null,null,null,null,null,null,null,null,null,null,null,null,null,null,null,null,null,null,null,null,null,null,null,null,null,null,null,null,null,null,null,null,null,null,null,null,null,null,null,null,null,null,null,null,null,null,null,null,null,null,null,null,null,null,null,null,null,null,null,null,null,null,null,null,null,null,null,null,null,null,null,null,null,null,null,null,null,null,null,null,null,null,null,null,null,null,null,null,null,null,null,null,null,null,null,null,null,null,null,null,null,null,null,null,null,null,null,null,null,null,null,null,null,null,null,null,null,null,null,null,null,null,null,null,null,null,null,null,null,null,null,null,null,null,null,null,null,null,null,null,null,null,null,null,null,null,null,null,null,null,null,null,null,null,null,null,null,null,null,null,null,null,null,null,null,null,13,"I1",{"$f":"出場チーム!J29","v":"千怒サッカースポーツ少年団"},"津久見"]
["パート","A",null,null,null,null,null,null,null,null,null,null,null,"B",null,null,null,null,null,null,null,null,null,null,null,"C",null,null,null,null,null,null,null,null,null,null,null,"D",null,null,null,null,null,null,null,null,null,null,null,"E",null,null,null,null,null,null,null,null,null,null,null,"F",null,null,null,null,null,null,null,null,null,null,null,"G",null,null,null,null,null,null,null,null,null,null,null,"H",null,null,null,null,null,null,null,null,null,null,null,"I",null,null,null,null,null,null,null,null,null,null,null,"J",null,null,null,null,null,null,null,null,null,null,null,"K",null,null,null,null,null,null,null,null,null,null,null,"L"]
[]
[]
[]
[null,null,null,null,null,null,null,null,null,null,null,null,null,null,null,null,null,null,null,null,null,null,null,null,null,null,null,null,null,null,null,null,null,null,null,null,null,null,null,null,null,null,null,null,null,null,null,null,null,"パート",null,null,null,null,null,null,null,null,null,null,null,"パート"]
[]
[null,null,null,null,null,null,null,null,null,null,null,null,null,null,null,null,null,null,null,null,null,null,null,null,null,null,null,null,null,null,null,null,null,null,null,null,null,"中津"]
[]
[null,null,null,null,null,null,null,null,null,null,null,null,null,null,null,null,null,null,null,null,null,null,null,null,null,null,null,null,null,null,null,null,null,null,null,null,null,"速杵国東",null,null,null,null,null,null,null,null,null,null,null,"B",null,null,null,null,null,null,null,null,null,null,null,"G"]
[]
[null,null,null,null,null,null,null,null,null,null,null,null,null,null,null,null,null,null,null,null,null,null,null,null,null,null,null,null,null,null,null,null,null,null,null,null,null,"日田",null,null,null,null,null,null,null,null,null,null,null,"E",null,null,null,null,null,null,null,null,null,null,null,"L"]
[]
[null,null,null,null,null,null,null,null,null,null,null,null,null,null,null,null,null,null,null,null,null,null,null,null,null,null,null,null,null,null,null,null,null,null,null,null,null,"別府"]
[]
[null,null,null,null,null,null,null,null,null,null,null,null,null,null,null,null,null,null,null,null,null,null,null,null,null,null,null,null,null,null,null,null,null,null,null,null,null,"佐伯",null,null,null,null,null,null,null,null,null,null,null,"C",null,null,null,null,null,null,null,null,null,null,null,"K"]
[]
[null,null,null,null,null,null,null,null,null,null,null,null,null,null,null,null,null,null,null,null,null,null,null,null,null,null,null,null,null,null,null,null,null,null,null,null,null,"宇佐高田",null,null,null,null,null,null,null,null,null,null,null,"A",null,null,null,null,null,null,null,null,null,null,null,"J"]
[]
[null,null,null,null,null,null,null,null,null,null,null,null,null,null,null,null,null,null,null,null,null,null,null,null,null,null,null,null,null,null,null,null,null,null,null,null,null,"豊肥"]
[]
[null,null,null,null,null,null,null,null,null,null,null,null,null,null,null,null,null,null,null,null,null,null,null,null,null,null,null,null,null,null,null,null,null,null,null,null,null,"津久見・臼杵",null,null,null,null,null,null,null,null,null,null,null,"D",null,null,null,null,null,null,null,null,null,null,null,"I"]
[]
[null,null,null,null,null,null,null,null,null,null,null,null,null,null,null,null,null,null,null,null,null,null,null,null,null,null,null,null,null,null,null,null,null,null,null,null,null,"大分",null,null,null,null,null,null,null,null,null,null,null,"F",null,null,null,null,null,null,null,null,null,null,null,"H"]

{"sheet":"全日程スケジュール","index":3,"n_rows":80,"n_cols":18,"rows_kept":80,"cut":false,"hidden":false,"merged":[[16,0,17,0],[32,0,33,0],[22,0,23,0],[60,0,65,0],[39,10,39,12],[34,3,34,17],[21,13,21,15],[21,16,21,17],[21,6,21,7],[21,8,21,10],[21,11,21,12],[21,3,21,5],[39,5,39,7],[24,2,25,2],[28,2,29,2],[30,0,31,0],[30,1,31,1],[30,2,31,2],[28,0,29,0],[24,0,25,0],[28,1,29,1],[0,0,0,9],[51,0,52,0],[51,1,52,1],[51,2,52,2],[49,2,50,2],[45,1,46,1],[41,2,42,2],[45,2,46,2],[4,5,4,7],[8,0,9,0],[10,0,11,0],[24,1,25,1],[49,0,50,0],[45,0,46,0],[47,0,48,0],[49,1,50,1],[47,1,48,1],[43,0,44,0],[40,3,40,5],[40,6,40,7],[40,8,40,10],[12,0,13,0],[14,0,15,0],[0,10,0,12],[4,10,4,12],[10,2,11,2],[5,11,5,12],[6,1,7,1],[6,2,7,2],[20,5,20,7],[16,1,17,1],[16,2,17,2],[18,3,18,17],[5,16,5,17],[8,1,9,1],[8,2,9,2],[10,1,11,1],[4,15,4,17],[5,3,5,5],[5,13,5,15],[5,6,5,7],[5,8,5,10],[20,15,20,17],[12,1,13,1],[12,2,13,2],[14,1,15,1],[14,2,15,2],[20,10,20,12],[75,3,75,12],[70,3,70,12],[59,3,59,12],[73,6,74,7],[72,6,72,7],[71,3,71,10],[32,1,33,1],[32,2,33,2],[22,1,23,1],[22,2,23,2],[26,1,27,1],[26,2,27,2],[63,6,63,7],[47,2,48,2],[43,1,44,1],[43,2,44,2],[61,3,61,12],[62,2,65,2],[62,1,65,1],[70,0,74,0],[40,11,40,12],[6,0,7,0],[41,0,42,0],[41,1,42,1],[71,1,74,1],[71,2,74,2],[64,6,65,7],[67,6,67,7],[68,6,69,7],[66,2,69,2],[60,3,60,12],[62,3,62,10],[66,3,66,10],[64,3,65,5],[68,3,69,5],[73,3,74,5],[73,8,74,10],[64,8,65,10],[68,8,69,10],[66,1,69,1],[53,3,53,12],[26,0,27,0],[66,0,69,0]]}
[{"$f":"出場チーム!B1","v":"OFA 第 50 回大分県少年サッカー大会　兼　KYFA 九州U-12サッカー大会大分県大会"},null,null,null,null,null,null,null,null,null,"全日程スケジュール"]
[]
[null,"（１）期日","1月27日（日）1次リーグ"]
[null,"（２）日程","各会場にて、各パートの第1試合開始70分前に、各パートのマッチコーディネーションミーティング(MCM)を、3チーム同時に行います。"]
[null,null,null,"会場：",{"$f":"組み合わせ!D7","v":"速杵国東"},{"$f":"VLOOKUP(E5,出場チーム!$B$51:$F$59,2,FALSE)","v":"ﾌｯﾄﾎﾞｰﾙｾﾝﾀｰ大分きつき(杵築市営ｻｯｶｰ場)"},null,null,"会場：",{"$f":"組み合わせ!BF7","v":"日田"},{"$f":"VLOOKUP(J5,出場チーム!$B$51:$F$59,2,FALSE)","v":"玖珠町総合運動公園"},null,null,"会場：",{"$f":"組み合わせ!DH7","v":"佐伯"},{"$f":"VLOOKUP(O5,出場チーム!$B$51:$F$59,2,FALSE)","v":"佐伯市総合運動公園多目的ｸﾞﾗｳﾝﾄﾞ(人工芝)"}]
[null,"８：３０～","会場設営","設営担当者or対応協会",null,null,"審判員",null,"設営担当者or対応協会",null,null,"審判員",null,"設営担当者or対応協会",null,null,"審判員"]
["①","１０：００～","１次リーグ",null,null,null,"R：本部","A1：②帯同",null,null,null,"R：本部","A1：②帯同",null,null,null,"R：本部","A1：②帯同"]
[null,null,null,{"$f":"'１次リーグ（速杵国東）'!$B$12","v":"きつきＦＣ"},"vs",{"$f":"'１次リーグ（速杵国東）'!$J$12","v":"アトレチコエラン横瀬"},"4th：本部","A2：②帯同",{"$f":"'１次リーグ（日田）'!$B$12","v":"ＦＣアリアーレ"},"vs",{"$f":"'１次リーグ（日田）'!$J$12","v":"明治サッカースポーツ少年団"},"4th：本部","A2：②帯同",{"$f":"'１次リーグ（佐伯）'!$B$12","v":"弥生少年サッカークラブ"},"vs",{"$f":"'１次リーグ（佐伯）'!$J$12","v":"滝尾下郡サッカースポーツ少年団"},"4th：本部","A2：②帯同"]
["②","１１：００～","〃",null,null,null,"R：本部","A1：①帯同",null,null,null,"R：本部","A1：①帯同",null,null,null,"R：本部","A1：①帯同"]
[null,null,null,{"$f":"'１次リーグ（速杵国東）'!$N$12","v":"ＯＫＹ山香サッカークラブ"},"vs",{"$f":"'１次リーグ（速杵国東）'!$V$12","v":"ブルーウイングフットボールクラブ"},"4th：本部","A2：①帯同",{"$f":"'１次リーグ（日田）'!$N$12","v":"太陽スポーツクラブ大分西"},"vs",{"$f":"'１次リーグ（日田）'!$V$12","v":"宗方サッカークラブ"},"4th：本部","A2：①帯同",{"$f":"'１次リーグ（佐伯）'!$N$12","v":"佐伯リベロフットボールクラブ"},"vs",{"$f":"'１次リーグ（佐伯）'!$V$12","v":"ＦＣ　ＲＥＧＡＴＥ"},"4th：本部","A2：①帯同"]
["③","１２：００～","〃",null,null,null,"R：本部","A1：④帯同",null,null,null,"R：本部","A1：④帯同",null,null,null,"R：本部","A1：④帯同"]
[null,null,null,{"$f":"'１次リーグ（速杵国東）'!$B$30","v":"アトレチコエラン横瀬"},"vs",{"$f":"'１次リーグ（速杵国東）'!$J$30","v":"スマイス　セレソン　スポーツクラブ"},"4th：本部","A2：④帯同",{"$f":"'１次リーグ（日田）'!$B$30","v":"明治サッカースポーツ少年団"},"vs",{"$f":"'１次リーグ（日田）'!$J$30","v":"ＦＣ大野"},"4th：本部","A2：④帯同",{"$f":"'１次リーグ（佐伯）'!$B$30","v":"滝尾下郡サッカースポーツ少年団"},"vs",{"$f":"'１次リーグ（佐伯）'!$J$30","v":"スマイス・セレソン"},"4th：本部","A2：④帯同"]
["④","１３：００～","〃",null,null,null,"R：本部","A1：③帯同",null,null,null,"R：本部","A1：③帯同",null,null,null,"R：本部","A1：③帯同"]
[null,null,null,{"$f":"'１次リーグ（速杵国東）'!$N$30","v":"ブルーウイングフットボールクラブ"},"vs",{"$f":"'１次リーグ（速杵国東）'!$V$30","v":"中津沖代ＪＳＣ"},"4th：本部","A2：③帯同",{"$f":"'１次リーグ（日田）'!$N$30","v":"宗方サッカークラブ"},"vs",{"$f":"'１次リーグ（日田）'!$V$30","v":"Ｓｈｙｎｔ　ＦＣ"},"4th：本部","A2：③帯同",{"$f":"'１次リーグ（佐伯）'!$N$30","v":"ＦＣ　ＲＥＧＡＴＥ"},"vs",{"$f":"'１次リーグ（佐伯）'!$V$30","v":"ＭＳＳ"},"4th：本部","A2：③帯同"]
["⑤","１４：００～","〃",null,null,null,"R：本部","A1：⑥帯同",null,null,null,"R：本部","A1：⑥帯同",null,null,null,"R：本部","A1：⑥帯同"]
[null,null,null,{"$f":"'１次リーグ（速杵国東）'!$B$48","v":"スマイス　セレソン　スポーツクラブ"},"vs",{"$f":"'１次リーグ（速杵国東）'!$J$48","v":"きつきＦＣ"},"4th：本部","A2：⑥帯同",{"$f":"'１次リーグ（日田）'!$B$48","v":"ＦＣ大野"},"vs",{"$f":"'１次リーグ（日田）'!$J$48","v":"ＦＣアリアーレ"},"4th：本部","A2：⑥帯同",{"$f":"'１次リーグ（佐伯）'!$B$48","v":"スマイス・セレソン"},"vs",{"$f":"'１次リーグ（佐伯）'!$J$48","v":"弥生少年サッカークラブ"},"4th：本部","A2：⑥帯同"]
["⑥","１５：００～","〃",null,null,null,"R：本部","A1：⑤帯同",null,null,null,"R：本部","A1：⑤帯同",null,null,null,"R：本部","A1：⑤帯同"]
[null,null,null,{"$f":"'１次リーグ（速杵国東）'!$N$48","v":"中津沖代ＪＳＣ"},"vs",{"$f":"'１次リーグ（速杵国東）'!$V$48","v":"ＯＫＹ山香サッカークラブ"},"4th：本部","A2：⑤帯同",{"$f":"'１次リーグ（日田）'!$N$48","v":"Ｓｈｙｎｔ　ＦＣ"},"vs",{"$f":"'１次リーグ（日田）'!$V$48","v":"太陽スポーツクラブ大分西"},"4th：本部","A2：⑤帯同",{"$f":"'１次リーグ（佐伯）'!$N$48","v":"ＭＳＳ"},"vs",{"$f":"'１次リーグ（佐伯）'!$V$48","v":"佐伯リベロフットボールクラブ"},"4th：本部","A2：⑤帯同"]
[null,null,"片付け","⑥で試合をしたチームでフラッグ・本部・ゴール等を片付けます。"]
[]
[null,null,null,"会場：",{"$f":"組み合わせ!D8","v":"津久見・臼杵"},{"$f":"VLOOKUP(E21,出場チーム!$B$51:$F$59,2,FALSE)","v":"吉四六ﾗﾝﾄﾞ陸上競技場"},null,null,"会場：",{"$f":"組み合わせ!BF8","v":"大分"},{"$f":"VLOOKUP(J21,出場チーム!$B$51:$F$59,2,FALSE)","v":"大在東グラウンド"},null,null,"会場：",{"$f":"組み合わせ!DH8","v":"宇佐高田"},{"$f":"VLOOKUP(O21,出場チーム!$B$51:$F$59,2,FALSE)","v":"宇佐市平成の森公園"}]
[null,"８：３０～","会場設営","設営担当者or対応協会",null,null,"審判員",null,"設営担当者or対応協会",null,null,"審判員",null,"設営担当者or対応協会",null,null,"審判員"]
["①","１０：００～","１次リーグ",null,null,null,"R：本部","A1：②帯同",null,null,null,"R：本部","A1：②帯同",null,null,null,"R：本部","A1：②帯同"]
[null,null,null,{"$f":"'１次リーグ（津久見・臼杵）'!$B$12","v":"臼杵ＳＳＳ"},"vs",{"$f":"'１次リーグ（津久見・臼杵）'!$J$12","v":"東陽フットボールクラブ"},"4th：本部","A2：②帯同",{"$f":"'１次リーグ（大分）'!$B$12","v":"判田サッカースポーツ少年団"},"vs",{"$f":"'１次リーグ（大分）'!$J$12","v":"桃園サッカースポーツ少年団"},"4th：本部","A2：②帯同",{"$f":"'１次リーグ（宇佐高田）'!$B$12","v":"ＦＣ　ＵＮＩＴＥ"},"vs",{"$f":"'１次リーグ（宇佐高田）'!$J$12","v":"大分トリニータＵ－１２"},"4th：本部","A2：②帯同"]
["②","１１：００～","〃",null,null,null,"R：本部","A1：①帯同",null,null,null,"R：本部","A1：①帯同",null,null,null,"R：本部","A1：①帯同"]
[null,null,null,{"$f":"'１次リーグ（津久見・臼杵）'!$N$12","v":"千怒サッカースポーツ少年団"},"vs",{"$f":"'１次リーグ（津久見・臼杵）'!$V$12","v":"明野東サッカースポーツ少年団"},"4th：本部","A2：①帯同",{"$f":"'１次リーグ（大分）'!$N$12","v":"カティオーラフットボールクラブ　大在"},"vs",{"$f":"'１次リーグ（大分）'!$V$12","v":"ドリームキッズサッカークラブ"},"4th：本部","A2：①帯同",{"$f":"'１次リーグ（宇佐高田）'!$N$12","v":"豊後高田ＦＣ　Ｂｏｒｄｅｒ　Ｊｒ"},"vs",{"$f":"'１次リーグ（宇佐高田）'!$V$12","v":"大道サッカースポーツ少年団"},"4th：本部","A2：①帯同"]
["③","１２：００～","〃",null,null,null,"R：本部","A1：④帯同",null,null,null,"R：本部","A1：④帯同",null,null,null,"R：本部","A1：④帯同"]
[null,null,null,{"$f":"'１次リーグ（津久見・臼杵）'!$B$30","v":"東陽フットボールクラブ"},"vs",{"$f":"'１次リーグ（津久見・臼杵）'!$J$30","v":"武蔵オークスサッカークラブ"},"4th：本部","A2：④帯同",{"$f":"'１次リーグ（大分）'!$B$30","v":"桃園サッカースポーツ少年団"},"vs",{"$f":"'１次リーグ（大分）'!$J$30","v":"ＦＣ中津ジュニア"},"4th：本部","A2：④帯同",{"$f":"'１次リーグ（宇佐高田）'!$B$30","v":"大分トリニータＵ－１２"},"vs",{"$f":"'１次リーグ（宇佐高田）'!$J$30","v":"鶴居ＳＳＳ"},"4th：本部","A2：④帯同"]
["④","１３：００～","〃",null,null,null,"R：本部","A1：③帯同",null,null,null,"R：本部","A1：③帯同",null,null,null,"R：本部","A1：③帯同"]
[null,null,null,{"$f":"'１次リーグ（津久見・臼杵）'!$N$30","v":"明野東サッカースポーツ少年団"},"vs",{"$f":"'１次リーグ（津久見・臼杵）'!$V$30","v":"別府フットボールクラブ．ミネルバＵ－１２"},"4th：本部","A2：③帯同",{"$f":"'１次リーグ（大分）'!$N$30","v":"ドリームキッズサッカークラブ"},"vs",{"$f":"'１次リーグ（大分）'!$V$30","v":"若宮サッカースポーツ少年団"},"4th：本部","A2：③帯同",{"$f":"'１次リーグ（宇佐高田）'!$N$30","v":"大道サッカースポーツ少年団"},"vs",{"$f":"'１次リーグ（宇佐高田）'!$V$30","v":"明治北ＳＳＣ"},"4th：本部","A2：③帯同"]
["⑤","１４：００～","〃",null,null,null,"R：本部","A1：⑥帯同",null,null,null,"R：本部","A1：⑥帯同",null,null,null,"R：本部","A1：⑥帯同"]
[null,null,null,{"$f":"'１次リーグ（津久見・臼杵）'!$B$48","v":"武蔵オークスサッカークラブ"},"vs",{"$f":"'１次リーグ（津久見・臼杵）'!$J$48","v":"臼杵ＳＳＳ"},"4th：本部","A2：⑥帯同",{"$f":"'１次リーグ（大分）'!$B$48","v":"ＦＣ中津ジュニア"},"vs",{"$f":"'１次リーグ（大分）'!$J$48","v":"判田サッカースポーツ少年団"},"4th：本部","A2：⑥帯同",{"$f":"'１次リーグ（宇佐高田）'!$B$48","v":"鶴居ＳＳＳ"},"vs",{"$f":"'１次リーグ（宇佐高田）'!$J$48","v":"ＦＣ　ＵＮＩＴＥ"},"4th：本部","A2：⑥帯同"]
["⑥","１５：００～","〃",null,null,null,"R：本部","A1：⑤帯同",null,null,null,"R：本部","A1：⑤帯同",null,null,null,"R：本部","A1：⑤帯同"]
[null,null,null,{"$f":"'１次リーグ（津久見・臼杵）'!$N$48","v":"別府フットボールクラブ．ミネルバＵ－１２"},"vs",{"$f":"'１次リーグ（津久見・臼杵）'!$V$48","v":"千怒サッカースポーツ少年団"},"4th：本部","A2：⑤帯同",{"$f":"'１次リーグ（大分）'!$N$48","v":"若宮サッカースポーツ少年団"},"vs",{"$f":"'１次リーグ（大分）'!$V$48","v":"カティオーラフットボールクラブ　大在"},"4th：本部","A2：⑤帯同",{"$f":"'１次リーグ（宇佐高田）'!$N$48","v":"明治北ＳＳＣ"},"vs",{"$f":"'１次リーグ（宇佐高田）'!$V$48","v":"豊後高田ＦＣ　Ｂｏｒｄｅｒ　Ｊｒ"},"4th：本部","A2：⑤帯同"]
[null,null,"片付け","⑥で試合をしたチームでフラッグ・本部・ゴール等を片付けます。"]
[]
[]
[null,"（１）期日","2月3日（日）2次リーグ"]
[null,"（２）日程","各会場にて、各パートの第1試合開始70分前に、各パートのマッチコーディネーションミーティング(MCM)を、3チーム同時に行います。"]
[null,null,null,"会場：",{"$f":"組み合わせ!D6","v":"別府"},{"$f":"VLOOKUP(E40,出場チーム!$B$51:$F$59,2,FALSE)","v":"実相寺ｻｯｶｰ競技場(人工芝)"},null,null,"会場：",{"$f":"組み合わせ!BF6","v":"豊肥"},{"$f":"VLOOKUP(J40,出場チーム!$B$51:$F$59,2,FALSE)","v":"ｻﾝ・ｽﾎﾟｰﾂﾗﾝﾄﾞみえ"}]
[null,"８：３０～","会場設営","設営担当者or対応協会",null,null,"審判員",null,"設営担当者or対応協会",null,null,"審判員"]
["①","１０：００～","２次リーグ",null,null,null,"R：本部","A1：②帯同",null,null,null,"R：本部","A1：②帯同"]
[null,null,null,{"$f":"'２次リーグ（別府）'!$B$12","v":"ＦＣ　ＵＮＩＴＥ"},"vs",{"$f":"'２次リーグ（別府）'!$J$12","v":"スマイス　セレソン　スポーツクラブ"},"4th：本部","A2：②帯同",{"$f":"'２次リーグ（豊肥）'!$B$12","v":"武蔵オークスサッカークラブ"},"vs",{"$f":"'２次リーグ（豊肥）'!$J$12","v":"ＦＣアリアーレ"},"4th：本部","A2：②帯同"]
["②","１１：００～","〃",null,null,null,"R：本部","A1：①帯同",null,null,null,"R：本部","A1：①帯同"]
[null,null,null,{"$f":"'２次リーグ（別府）'!$N$12","v":"ブルーウイングフットボールクラブ"},"vs",{"$f":"'２次リーグ（別府）'!$V$12","v":"カティオーラフットボールクラブ　大在"},"4th：本部","A2：①帯同",{"$f":"'２次リーグ（豊肥）'!$N$12","v":"明治北ＳＳＣ"},"vs",{"$f":"'２次リーグ（豊肥）'!$V$12","v":"ＭＳＳ"},"4th：本部","A2：①帯同"]
["③","１２：００～","〃",null,null,null,"R：本部","A1：④帯同",null,null,null,"R：本部","A1：④帯同"]
[null,null,null,{"$f":"'２次リーグ（別府）'!$B$30","v":"スマイス　セレソン　スポーツクラブ"},"vs",{"$f":"'２次リーグ（別府）'!$J$30","v":"スマイス・セレソン"},"4th：本部","A2：④帯同",{"$f":"'２次リーグ（豊肥）'!$B$30","v":"ＦＣアリアーレ"},"vs",{"$f":"'２次リーグ（豊肥）'!$J$30","v":"桃園サッカースポーツ少年団"},"4th：本部","A2：④帯同"]
["④","１３：００～","〃",null,null,null,"R：本部","A1：③帯同",null,null,null,"R：本部","A1：③帯同"]
[null,null,null,{"$f":"'２次リーグ（別府）'!$N$30","v":"カティオーラフットボールクラブ　大在"},"vs",{"$f":"'２次リーグ（別府）'!$V$30","v":"別府フットボールクラブ．ミネルバＵ－１２"},"4th：本部","A2：③帯同",{"$f":"'２次リーグ（豊肥）'!$N$30","v":"ＭＳＳ"},"vs",{"$f":"'２次リーグ（豊肥）'!$V$30","v":"太陽スポーツクラブ大分西"},"4th：本部","A2：③帯同"]
["⑤","１４：００～","〃",null,null,null,"R：本部","A1：⑥帯同",null,null,null,"R：本部","A1：⑥帯同"]
[null,null,null,{"$f":"'２次リーグ（別府）'!$B$48","v":"スマイス・セレソン"},"vs",{"$f":"'２次リーグ（別府）'!$J$48","v":"ＦＣ　ＵＮＩＴＥ"},"4th：本部","A2：⑥帯同",{"$f":"'２次リーグ（豊肥）'!$B$48","v":"桃園サッカースポーツ少年団"},"vs",{"$f":"'２次リーグ（豊肥）'!$J$48","v":"武蔵オークスサッカークラブ"},"4th：本部","A2：⑥帯同"]
["⑥","１５：００～","〃",null,null,null,"R：本部","A1：⑤帯同",null,null,null,"R：本部","A1：⑤帯同"]
[null,null,null,{"$f":"'２次リーグ（別府）'!$N$48","v":"別府フットボールクラブ．ミネルバＵ－１２"},"vs",{"$f":"'２次リーグ（別府）'!$V$48","v":"ブルーウイングフットボールクラブ"},"4th：本部","A2：⑤帯同",{"$f":"'２次リーグ（豊肥）'!$N$48","v":"太陽スポーツクラブ大分西"},"vs",{"$f":"'２次リーグ（豊肥）'!$V$48","v":"明治北ＳＳＣ"},"4th：本部","A2：⑤帯同"]
[null,null,"片付け","⑥で試合をしたチームでフラッグ・本部・ゴール等を片付けます。"]
[]
[]
[null,"（１）期日","2月10日（日）準決勝(代表決定戦) / 決勝(順位決定戦)"]
[null,"（２）日程"]
[null,null,null,"会場：",{"$f":"組み合わせ!D5","v":"サブA"},{"$f":"VLOOKUP(E59,出場チーム!$B$51:$F$59,2,FALSE)","v":"大分ｽﾎﾟｰﾂ公園だいぎんｻｯｶｰ･ﾗｸﾞﾋﾞｰ場　Aｺｰﾄ"}]
[null,"８：００～","会場設営","大会役員でしますが、ゴール移動など加勢をチーム関係者にもお願いします。"]
["①","８：２０～","MCM","準決勝①【Match No,49】マッチコーディネーションミーティング"]
[null,"９：２０～","MCM","準決勝②【Match No,50】マッチコーディネーションミーティング"]
[null,"９：３０～","準決勝\n①","【Match No,49】",null,null,null,null,null,null,null,"主審","審判委員会"]
[null,null,null,null,{"$f":"組み合わせ!V30","v":"（別府市）"},null,{"$f":"組み合わせ!D5","v":"サブA"},null,null,{"$f":"組み合わせ!BF30","v":"（日田市）"},null,"副審","審判委員会"]
[null,null,null,{"$f":"組み合わせ!$L$27","v":"スマイス・セレソン"},null,null,"vs",null,{"$f":"組み合わせ!$AV$27","v":"ＦＣアリアーレ"},null,null,"副審","審判委員会"]
[null,null,null,null,null,null,null,null,null,null,null,"4審","審判委員会"]
[null,"１０：３０～","準決勝\n②","【Match No,50】",null,null,null,null,null,null,null,"主審","審判委員会"]
[null,null,null,null,{"$f":"組み合わせ!CP30","v":"（大分市）"},null,{"$f":"組み合わせ!D5","v":"サブA"},null,null,{"$f":"組み合わせ!DZ30","v":"（日田市）"},null,"副審","審判委員会"]
[null,null,null,{"$f":"組み合わせ!CF27","v":"ブルーウイングフットボールクラブ"},null,null,"vs",null,{"$f":"組み合わせ!DP27","v":"太陽スポーツクラブ大分西"},null,null,"副審","審判委員会"]
[null,null,null,null,null,null,null,null,null,null,null,"4審","審判委員会"]
["②","１１：５０～","MCM","決勝【Match No,51】マッチコーディネーションミーティング"]
[null,"１３：００～","決勝","【Match No,51】",null,null,null,null,null,null,null,"主審","審判委員会"]
[null,null,null,null,{"$f":"組み合わせ!AN21","v":"（日田市）"},null,{"$f":"組み合わせ!BP15","v":"サブA"},null,null,{"$f":"組み合わせ!DH21","v":"（大分市）"},null,"副審","審判委員会"]
[null,null,null,{"$f":"組み合わせ!X18","v":"ＦＣアリアーレ"},null,null,"vs",null,{"$f":"組み合わせ!CR18","v":"ブルーウイングフットボールクラブ"},null,null,"副審","審判委員会"]
[null,null,null,null,null,null,null,null,null,null,null,"4審","審判委員会"]
[null,"１４：００～","表彰","優勝・準優勝・３位チーム・優秀選手の表彰をします。"]
[]
[]
["《問い合わせ》委員長　安東　携帯　０９０－８６６８−０６９７"]
["※指導者以外の問い合わせは、ご遠慮願います。"]

{"sheet":"累積警告・退場","index":4,"n_rows":40,"n_cols":36,"rows_kept":40,"cut":false,"hidden":false,"merged":[[16,1,17,1],[18,1,19,1],[23,1,39,1],[4,1,7,1],[8,1,10,1],[11,1,13,1],[14,1,15,1]]}
["×",null,{"$f":"出場チーム!B1","v":"OFA 第 50 回大分県少年サッカー大会　兼　KYFA 九州U-12サッカー大会大分県大会"},null,null,null,null,null,"累積警告・退場",null,null,null,null,null,null,null,null,null,null,null,null,null,null,null,null,null,null,null,null,null,null,null,null,"警告/退場",null,"＜警告選択肢＞"]
[null,null,null,null,null,null,null,null,null,null,null,null,null,null,null,null,null,null,null,null,null,null,null,null,null,null,null,null,null,null,null,null,null,"警告",null,"反スポ"]
[null,null,null,"地区大会",null,null,null,"1次ﾘｰｸﾞ①",null,null,null,"1次ﾘｰｸﾞ②",null,null,null,"2次ﾘｰｸﾞ①",null,null,null,"2次ﾘｰｸﾞ②",null,null,null,"準決勝",null,null,null,"決勝",null,null,null,null,null,"退場",null,"ラフ"]
["敗戦","地区","チーム名","背番号","氏名","警告/退場","内容","背番号","氏名","警告/退場","内容","背番号","氏名","警告/退場","内容","背番号","氏名","警告/退場","内容","背番号","氏名","警告/退場","内容","背番号","氏名","警告/退場","内容","背番号","氏名","警告/退場","内容",null,null,"警告(累積2枚目次節出場停止）",null,"異議"]
[null,"中津",{"$f":"出場チーム!J11","v":"Ｓｈｙｎｔ　ＦＣ"},"-",null,null,null,null,null,null,null,null,null,null,null,null,null,null,null,null,null,null,null,null,null,null,null,null,null,null,null,null,null,null,null,"繰り返し"]
[null,null,{"$f":"出場チーム!J12","v":"ＦＣ中津ジュニア"},"-"]
[null,null,{"$f":"出場チーム!J13","v":"鶴居ＳＳＳ"},"-",null,null,null,null,null,null,null,null,null,null,null,null,null,null,null,null,null,null,null,null,null,null,null,null,null,null,null,null,null,null,null,"遅延"]
[null,null,{"$f":"出場チーム!J14","v":"中津沖代ＪＳＣ"},"-",null,null,null,null,null,null,null,null,null,null,null,null,null,null,null,null,null,null,null,null,null,null,null,null,null,null,null,null,null,null,null,"距離"]
[null,"速杵国東",{"$f":"出場チーム!J15","v":"ＯＫＹ山香サッカークラブ"},"-",null,null,null,null,null,null,null,null,null,null,null,null,null,null,null,null,null,null,null,null,null,null,null,null,null,null,null,null,null,null,null,"無断入"]
[null,null,{"$f":"出場チーム!J16","v":"きつきＦＣ"},"-",null,null,null,null,null,null,null,null,null,null,null,null,null,null,null,null,null,null,null,null,null,null,null,null,null,null,null,null,null,null,null,"無断去"]
[null,null,{"$f":"出場チーム!J17","v":"武蔵オークスサッカークラブ"},"-",null,null,null,null,null,null,null,null,null,null,null,null,null,null,null,null,null,null,null,null,null,null,null,null,null,null,null,null,null,null,null,"＜退場選択肢＞"]
[null,"日田",{"$f":"出場チーム!J18","v":"太陽スポーツクラブ大分西"},"-",null,null,null,17,"長尾　一朗","退場","不正",null,null,null,null,null,null,null,null,null,null,null,null,null,null,null,null,null,null,null,null,null,null,null,null,"不正"]
[null,null,{"$f":"出場チーム!J19","v":"ＦＣアリアーレ"},"-",null,null,null,null,null,null,null,null,null,null,null,null,null,null,null,null,null,null,null,null,null,null,null,null,null,null,null,null,null,null,null,"乱暴"]
[null,null,{"$f":"出場チーム!J20","v":"若宮サッカースポーツ少年団"},"-",null,null,null,null,null,null,null,null,null,null,null,null,null,null,null,null,null,null,null,null,null,null,null,null,null,null,null,null,null,null,null,"つば"]
[null,"別府",{"$f":"出場チーム!J21","v":"スマイス・セレソン"},"-",null,null,null,null,null,null,null,null,null,null,null,null,null,null,null,null,null,null,null,10,"松尾　蒼友太","警告","反スポ",null,null,null,null,null,null,null,null,"阻止(手)"]
[null,null,{"$f":"出場チーム!J22","v":"別府フットボールクラブ．ミネルバＵ－１２"},"-",null,null,null,null,null,null,null,null,null,null,null,null,null,null,null,7,"小野　誠竜","警告","ラフ",null,null,null,null,null,null,null,null,null,null,null,null,"阻止(他)"]
[null,"佐伯",{"$f":"出場チーム!J23","v":"弥生少年サッカークラブ"},"-",null,null,null,null,null,null,null,null,null,null,null,null,null,null,null,null,null,null,null,null,null,null,null,null,null,null,null,null,null,null,null,"暴言"]
[null,null,{"$f":"出場チーム!J24","v":"佐伯リベロフットボールクラブ"},"-",null,null,null,null,null,null,null,null,null,null,null,null,null,null,null,null,null,null,null,null,null,null,null,null,null,null,null,null,null,null,null,"警告2"]
[null,"宇佐高田",{"$f":"出場チーム!J25","v":"ＦＣ　ＵＮＩＴＥ"},"-"]
[null,null,{"$f":"出場チーム!J26","v":"豊後高田ＦＣ　Ｂｏｒｄｅｒ　Ｊｒ"},"-"]
[null,"豊肥",{"$f":"出場チーム!J27","v":"ＦＣ大野"},"-"]
[null,"臼杵",{"$f":"出場チーム!J28","v":"臼杵ＳＳＳ"},"-"]
[null,"津久見",{"$f":"出場チーム!J29","v":"千怒サッカースポーツ少年団"},"-"]
[null,"大分",{"$f":"出場チーム!C11","v":"大道サッカースポーツ少年団"},"-"]
[null,null,{"$f":"出場チーム!C12","v":"滝尾下郡サッカースポーツ少年団"},"-"]
[null,null,{"$f":"出場チーム!C13","v":"宗方サッカークラブ"},"-"]
[null,null,{"$f":"出場チーム!C14","v":"判田サッカースポーツ少年団"},"-"]
[null,null,{"$f":"出場チーム!C15","v":"ブルーウイングフットボールクラブ"},"-",null,null,null,null,null,null,null,null,null,null,null,null,null,null,null,null,null,null,null,null,null,null,null,11,"三浦　隼","警告","ラフ"]
[null,null,{"$f":"出場チーム!C16","v":"スマイス　セレソン　スポーツクラブ"},"-"]
[null,null,{"$f":"出場チーム!C17","v":"桃園サッカースポーツ少年団"},"-",null,null,null,null,null,null,null,16,"阿部　祐斗","警告","反スポ"]
[null,null,{"$f":"出場チーム!C18","v":"カティオーラフットボールクラブ　大在"},"-"]
[null,null,{"$f":"出場チーム!C19","v":"明野東サッカースポーツ少年団"},"-",null,null,null,null,null,null,null,9,"園田　凰介","警告","遅延"]
[null,null,{"$f":"出場チーム!C20","v":"東陽フットボールクラブ"},"-"]
[null,null,{"$f":"出場チーム!C21","v":"ドリームキッズサッカークラブ"},"-"]
[null,null,{"$f":"出場チーム!C22","v":"大分トリニータＵ－１２"},"-"]
[null,null,{"$f":"出場チーム!C23","v":"明治サッカースポーツ少年団"},"-"]
[null,null,{"$f":"出場チーム!C24","v":"ＦＣ　ＲＥＧＡＴＥ"},"-",null,null,null,6,"斉藤　快吏","警告","反スポ"]
[null,null,{"$f":"出場チーム!C25","v":"明治北ＳＳＣ"},"-"]
[null,null,{"$f":"出場チーム!C26","v":"ＭＳＳ"},"-",null,null,null,null,null,null,null,2,"藤内　勇一朗","警告","遅延"]
[null,null,{"$f":"出場チーム!C27","v":"アトレチコエラン横瀬"},"-"]

{"sheet":"2018年度優秀選手 ","index":5,"n_rows":26,"n_cols":13,"rows_kept":26,"cut":false,"hidden":false,"merged":[]}
["（一社）大分県サッカー協会　ジュニア委員会"]
["2018年度　優秀選手名簿",null,null,null,null,null,null,"女子"]
[]
["№","地区","選手氏名","ふりがな","所属チーム","出欠",null,"№","地区","選手氏名","ふりがな","所属チーム","出欠"]
[1,"大分","南　創太","みなみ そうた","ブルーウイングフットボールクラブ","〇",null,1,"大分","花宮　うの","はなみや　うの","カティオーラフットボールクラブ高城","〇"]
[2,"大分","志賀　杏陸","しが あんり","明野東サッカースポーツ少年団","〇",null,2,"大分","村上　叶恋","むらかみ　かれん","碩田サッカースポーツ少年団","〇"]
[3,"大分","石本　頼杜","いしもと らいと","明治北ＳＳＣ","〇",null,3,"大分","西田　愛奈","にしだ　あいな","明野西JFC","〇"]
[4,"大分","吉坂　飛勇悟","よしざか ひゅうご","大分トリニータＵ－１２","〇",null,4,"中津","高松　芹羽","たかまつ　せりは","FC中津ジュニア","〇"]
[5,"大分","増永　琥士朗","ますなが こじろう","明治北ＳＳＣ","〇",null,5,"中津","園　ひなの","その　ひなの","FC中津ジュニア","〇"]
[6,"大分","須賀　一樹","すが かずき","城南サッカースポーツ少年団","〇",null,6,"日田","児玉　一穂","こだま　いちほ","FCアリアーレ","〇"]
[7,"大分","早木　弘翔","はやき ひろと","宗方サッカークラブ","〇",null,7,"速杵国東","伊藤　聖菜","いとう　せな","OKY山香SC ","〇"]
[8,"大分","阿部　紘斗","あべ ひろと","カティオーラフットボールクラブＵ－１２","〇",null,8,"宇佐高田","河野　楓","かわの　かえで","豊後高田FC Border Jr","〇"]
[9,"大分","柳本　龍成","やなもと りゅうせい","明治北ＳＳＣ","〇",null,9,"別府","衛藤　七海","えとう　ななみ","緑丘SSS","〇"]
[10,"大分","藤内　勇一朗","とうない ゆういちろう","ＭＳＳ","〇",null,10,"豊肥","峯野  愛叶","みねの　まなか","竹田直入FC","〇"]
[11,"中津","十時　夢叶","ととき ゆうと","Shynt FC","〇",null,11,"臼杵","山﨑　夢華","やまさき　ゆめか","野津ＦＣ","〇"]
[12,"中津","平原　俊介","ひらばる しゅんすけ","中津沖代JSC","〇",null,null,null,"※佐伯地区、津久見地区は、6年生がいないため辞退 大分・中津を1名ずつ追加"]
[13,"日田","矢野　想翔","やの　そうは","FCアリアーレ","〇"]
[14,"日田","長尾　一郎","ながお　いちろう","太陽スポーツクラブ大分西","〇"]
[15,"速杵国東","徳丸　亜色夢","とくまる あいむ","きつきFC","〇"]
[16,"速杵国東","高橋　陣","たかはし　じん","きつきFC","〇"]
[17,"佐伯","百田　凌基","ももた　りょうき","佐伯リベロFC","〇"]
[18,"宇佐高田","近藤　陽稀　","こんどう　はるき","FC UNITE","〇"]
[19,"別府","市野　圭吾","いちの けいご","スマイス・セレソン","〇"]
[20,"豊肥","狭間　優人","はざま　ゆうと","FC大野","〇"]
[21,"臼杵","足立　桜太郎","あだち　おうたろう","臼杵ＳＳＳ","〇"]
[22,"津久見","小手川　蓮","こてがわ　れん","千怒サッカースポーツ少年団","〇"]

{"sheet":"決勝【Match No,51】","index":6,"n_rows":71,"n_cols":36,"rows_kept":71,"cut":false,"hidden":false,"merged":[[0,0,0,5],[0,6,0,9],[0,10,0,11],[1,0,1,1],[1,2,3,13],[1,15,1,16],[3,0,3,1],[3,14,3,15],[3,16,3,17],[1,28,2,29],[1,31,1,35],[2,0,2,1],[2,14,2,15],[2,16,2,17],[2,18,2,26],[2,31,2,35],[3,31,3,35],[4,0,4,1],[4,2,6,8],[4,11,4,12],[4,18,4,19],[5,0,5,1],[5,11,5,12],[5,13,5,14],[6,0,6,1],[6,11,6,12],[6,13,6,14],[6,18,6,19],[6,26,6,30],[3,18,3,26],[3,28,3,29],[9,21,9,23],[5,18,5,19],[5,21,5,25],[5,26,5,30],[5,31,5,35],[7,32,7,35],[10,17,10,18],[10,21,10,22],[10,23,10,24],[8,32,8,35],[7,21,7,23],[8,22,8,31],[7,0,7,2],[7,11,7,14],[7,15,11,15],[7,17,7,18],[10,13,10,14],[10,11,10,12],[11,17,11,18],[12,2,12,9],[7,20,11,20],[9,12,9,14],[9,17,9,18],[8,1,8,10],[8,11,8,14],[8,17,8,18],[12,26,12,33],[13,0,13,1],[13,2,13,3],[13,4,13,5],[13,6,13,7],[13,8,13,9],[13,17,13,18],[13,26,13,27],[13,28,13,29],[13,30,13,31],[13,32,13,33],[13,34,13,35],[14,0,14,1],[14,2,14,3],[14,4,14,5],[14,6,14,7],[14,8,14,9],[14,26,14,27],[14,28,14,29],[14,30,14,31],[14,32,14,33],[14,34,14,35],[15,11,15,15],[15,20,15,24],[16,11,16,15],[16,20,16,24],[17,11,17,15],[17,20,17,24],[18,11,18,15],[18,20,18,24],[19,11,19,15],[19,20,19,24],[20,11,20,15],[20,20,20,24],[21,11,21,15],[21,20,21,24],[22,11,22,15],[22,20,22,24],[23,16,23,19],[24,11,24,15],[24,20,24,24],[25,11,25,15],[25,20,25,24],[26,11,26,15],[26,20,26,24],[27,11,27,15],[27,20,27,24],[28,11,28,15],[28,20,28,24],[29,11,29,15],[29,20,29,24],[30,11,30,15],[30,20,30,24],[31,11,31,15],[31,20,31,24],[35,20,36,26],[35,27,36,27],[32,11,32,15],[32,20,32,24],[33,11,33,15],[33,20,33,24],[34,11,34,15],[34,17,34,18],[34,20,34,24],[35,28,36,34],[36,17,36,18],[37,4,37,8],[37,12,37,16],[37,22,37,26],[37,30,37,34],[35,2,36,8],[35,9,36,9],[35,10,36,16],[35,17,35,18],[38,4,38,8],[38,12,38,16],[38,22,38,26],[38,30,38,34],[39,4,39,8],[39,12,39,16],[39,22,39,26],[39,30,39,34],[40,4,40,8],[40,12,40,16],[40,22,40,26],[40,30,40,34],[41,4,41,8],[41,12,41,16],[41,22,41,26],[41,30,41,34],[42,4,42,8],[42,12,42,16],[42,22,42,26],[42,30,42,34],[43,4,43,8],[43,12,43,16],[43,22,43,26],[43,30,43,34],[44,4,44,8],[44,12,44,16],[44,22,44,26],[44,30,44,34],[45,0,45,6],[45,7,45,8],[45,9,45,10],[45,11,45,12],[45,13,45,14],[45,15,45,16],[45,17,45,18],[45,19,45,20],[45,21,45,22],[45,23,45,24],[45,25,45,26],[45,27,45,28],[45,29,45,35],[46,27,46,28],[47,7,47,8],[47,9,47,10],[47,11,47,12],[47,13,47,14],[47,15,47,16],[47,19,47,20],[47,21,47,22],[47,23,47,24],[47,25,47,26],[47,27,47,28],[46,7,46,8],[46,9,46,10],[46,11,46,12],[46,13,46,14],[46,15,46,16],[46,19,46,20],[46,21,46,22],[46,23,46,24],[46,25,46,26],[48,7,48,8],[48,9,48,10],[48,11,48,12],[48,13,48,14],[48,15,48,16],[48,19,48,20],[48,21,48,22],[48,23,48,24],[48,25,48,26],[49,9,49,10],[49,11,49,12],[49,13,49,14],[49,15,49,16],[49,19,49,20],[49,21,49,22],[49,23,49,24],[49,25,49,26],[49,27,49,28],[50,27,50,28],[51,0,51,2],[51,3,51,4],[51,5,51,17],[51,18,51,20],[51,21,51,22],[51,23,51,35],[52,3,52,4],[52,5,52,17],[52,21,52,22],[52,23,52,35],[50,7,50,8],[50,9,50,10],[50,11,50,12],[50,13,50,14],[50,15,50,16],[50,19,50,20],[50,21,50,22],[50,23,50,24],[50,25,50,26],[46,0,50,6],[46,29,50,35],[48,27,48,28],[49,7,49,8],[53,3,53,4],[53,5,53,17],[53,21,53,22],[53,23,53,35],[54,3,54,4],[54,5,54,17],[54,21,54,22],[54,23,54,35],[55,3,55,4],[55,5,55,17],[55,21,55,22],[55,23,55,35],[56,3,56,4],[56,5,56,17],[56,21,56,22],[56,23,56,35],[57,3,57,4],[57,5,57,17],[57,21,57,22],[57,23,57,35],[69,15,69,21],[69,22,69,28],[69,29,69,35],[58,3,58,5],[58,7,58,8],[58,11,58,13],[58,16,58,17],[58,20,58,21],[58,24,58,26],[61,0,67,35],[70,8,72,14],[70,15,72,21],[70,22,72,28],[70,29,72,35],[58,29,58,30],[60,0,60,3],[60,5,60,9],[60,12,60,16],[60,18,60,33],[69,8,69,14]]}
["公式記録",null,null,null,null,null,"Match No：",null,null,null,51]
["大",null,"OFA 第 50 回大分県少年サッカー大会\n　兼　KYFA 九州U-12サッカー大会大分県大会",null,null,null,null,null,null,null,null,null,null,null,"第",3,null,"日",null,null,null,null,null,null,null,null,null,"競技","40分",null,"記","松下　省吾"]
["会",null,null,null,null,null,null,null,null,null,null,null,null,null,"1回戦",null,"2回戦",null,"平成31年　2月10日（日）",null,null,null,null,null,null,null,null,"時間",null,null,"録","津守　一雄"]
["名",null,null,null,null,null,null,null,null,null,null,null,null,null,"準決勝",null,"決勝",null,"試合開始　13時00分～",null,null,null,null,null,null,null,null,"延長",null,null,"者","中野、山本"]
["会",null,"大分県大分スポーツ公園\nだいぎんサッカー・ラグビー場\nＡコート",null,null,null,null,null,null,"天","晴","風",null,"強","弱","無","芝","状","良好",null,"審","主審",null,null,null,null,"副審",null,null,null,null,"第4の審判員"]
[null,null,null,null,null,null,null,null,null,null,"曇","気温",null,9,null,"℃",null,null,"不良",null,null,"木原　一心",null,null,null,null,"末吉　裕樹",null,null,null,null,"増永　伸也"]
["場",null,null,null,null,null,null,null,null,"候","雨","湿度",null,38,null,"％","土","態","泥沼",null,"判",null,null,null,null,null,"矢野三千生"]
["【チーム名】",null,null,null,null,null,null,null,null,null,null,null,null,null,null,2,0,"前半",null,2,3,"【チーム名】"]
[null,"ＦＣアリアーレ",null,null,null,null,null,null,null,null,null,"（日田市）",null,null,null,null,2,"後半",null,1,null,null,"ブルーウイングフットボールクラブ",null,null,null,null,null,null,null,null,null,"（大分市）"]
[null,null,null,null,null,null,null,null,null,null,null,null,"kick off",null,null,null,null,"延前",null,null,null,"kick off"]
[null,null,null,null,null,null,null,null,null,null,null,"背番号",null,"PK",null,null,null,"延後",null,null,null,"PK",null,"背番号"]
[null,null,null,null,null,null,null,null,null,null,null,"○","×","先","後",null,null,"ＰＫ戦",null,null,null,"先","後","○","×"]
[null,null,"シュート（得点者は○印）",null,null,null,null,null,null,null,"学",null,null,null,null,null,"背",null,null,"背",null,null,null,null,null,"学","シュート（得点者は○印）"]
["合",null,"延",null,"延",null,"後",null,"前",null,null,null,"選","手","名",null,"番","位置",null,"番",null,"選","手","名",null,null,"前",null,"後",null,"延",null,"延",null,"合"]
["計",null,"後",null,"前",null,"半",null,"半",null,"年",null,null,null,null,null,"号",null,null,"号",null,null,null,null,null,"年","半",null,"半",null,"前",null,"後",null,"計"]
[null,0,null,null,null,null,null,null,null,null,5,"古賀　貫太郎",null,null,null,null,16,"GK","GK",1,"麻生　珀珠",null,null,null,null,6,null,null,null,null,null,null,null,null,null,0]
[null,4,null,null,null,null,null,null,null,4,6,"矢野　想翔",null,null,null,null,4,"DF","DF",5,"藤川　碧冬",null,null,null,null,6,null,null,null,null,null,null,null,null,null,0]
[null,0,null,null,null,null,null,null,null,null,6,"吉弘　怜大",null,null,null,null,5,"DF","DF",11,"三浦　隼",null,null,null,null,6,null,null,null,1,null,null,null,null,null,1]
[null,0,null,null,null,null,null,null,null,null,6,"泉　颯飛",null,null,null,null,7,"MF","DF",16,"諸永　徠斗",null,null,null,null,5,null,1,null,null,null,null,null,null,null,1]
[null,1,null,null,null,null,"①",1,null,null,6,"後藤　瑠力",null,null,null,null,8,"MF","MF",7,"佐藤　秀哉",null,null,null,null,6,"②",3,null,null,null,null,null,null,null,3]
[null,0,null,null,null,null,null,null,null,null,6,"松坂　童夢",null,null,null,null,10,"MF","MF",8,"秦　碧空",null,null,null,null,6,null,null,null,1,null,null,null,null,null,1]
[null,0,null,null,null,null,null,null,null,null,6,"金丸　響",null,null,null,null,11,"MF","FW",10,"南　創太",null,null,null,null,6,null,1,"①",2,null,null,null,null,null,3]
[null,3,null,null,null,null,"①",3,null,null,6,"森下　柊飛",null,null,null,null,9,"FW","FW",15,"奈良　三志朗",null,null,null,null,5,null,null,null,1,null,null,null,null,null,1]
[null,null,null,null,null,null,null,null,null,null,null,null,null,null,null,null,"交替要員"]
[null,0,null,null,null,null,null,null,null,null,6,"野村　枝暉",null,null,null,null,1,"GK","MF",2,"大野　花道",null,null,null,null,6,null,null,null,null,null,null,null,null,null,0]
[null,0,null,null,null,null,null,null,null,null,5,"伊藤　瑠",null,null,null,null,2,"MF","FW",3,"瀬戸口　晴紀",null,null,null,null,6,null,null,null,null,null,null,null,null,null,0]
[null,0,null,null,null,null,null,null,null,null,5,"吉弘　瑠唯",null,null,null,null,3,"FW","DF",4,"小野　佑馬",null,null,null,null,6,null,null,null,null,null,null,null,null,null,0]
[null,0,null,null,null,null,null,null,null,null,5,"新原　遥翔",null,null,null,null,12,"DF","FW",6,"三浦　舜平",null,null,null,null,6,null,null,null,null,null,null,null,null,null,0]
[null,0,null,null,null,null,null,null,null,null,5,"河津　悠星",null,null,null,null,13,"MF","MF",9,"宿利　友輝",null,null,null,null,6,null,null,null,null,null,null,null,null,null,0]
[null,0,null,null,null,null,null,null,null,null,6,"武久　文弥",null,null,null,null,14,"MF","GK",12,"安藤　亮太",null,null,null,null,5,null,null,null,null,null,null,null,null,null,0]
[null,0,null,null,null,null,null,null,null,null,5,"櫻木　海晴",null,null,null,null,15,"MF","FW",13,"河内　竜樹",null,null,null,null,6,null,null,null,null,null,null,null,null,null,0]
[null,0,null,null,null,null,null,null,null,null,"","",null,null,null,null,null,"","DF",14,"嶋田　祐也",null,null,null,null,6,null,null,null,null,null,null,null,null,null,0]
[null,0,null,null,null,null,null,null,null,null,"","",null,null,null,null,null,"","DF",17,"山下　純弥",null,null,null,null,6,null,null,null,null,null,null,null,null,null,0]
[null,0,null,null,null,null,null,null,null,null,"","",null,null,null,null,null,"","FW",18,"高部　紫音",null,null,null,null,6,null,null,null,null,null,null,null,null,null,0]
[null,8,null,0,null,0,null,4,null,4,"小計",8,null,null,null,null,"合計","シュート数",null,"合計",10,null,null,null,null,"小計",null,5,null,5,null,0,null,0,null,10]
[null,null,"OUT",null,null,null,null,null,null,"→","IN",null,null,null,null,null,null,"交代",null,null,"OUT",null,null,null,null,null,null,"→","IN"]
[null,null,null,null,null,null,null,null,null,null,null,null,null,null,null,null,null,"選手"]
[20,"分",7,"番","泉　颯飛",null,null,null,null,"→",12,"番","新原　遥翔",null,null,null,null,null,null,"分",null,"番","",null,null,null,null,"→",null,"番",""]
[30,"分",12,"番","新原　遥翔",null,null,null,null,"→",3,"番","吉弘　瑠唯",null,null,null,null,null,null,"分",null,"番","",null,null,null,null,"→",null,"番",""]
[null,"分",null,"番","",null,null,null,null,"→",null,"番","",null,null,null,null,null,null,"分",null,"番","",null,null,null,null,"→",null,"番",""]
[null,"分",null,"番","",null,null,null,null,"→",null,"番","",null,null,null,null,null,null,"分",null,"番","",null,null,null,null,"→",null,"番",""]
[null,"分",null,"番","",null,null,null,null,"→",null,"番","",null,null,null,null,null,null,"分",null,"番","",null,null,null,null,"→",null,"番",""]
[null,"分",null,"番","",null,null,null,null,"→",null,"番","",null,null,null,null,null,null,"分",null,"番","",null,null,null,null,"→",null,"番",""]
[null,"分",null,"番","",null,null,null,null,"→",null,"番","",null,null,null,null,null,null,"分",null,"番","",null,null,null,null,"→",null,"番",""]
[null,"分",null,"番","",null,null,null,null,"→",null,"番","",null,null,null,null,null,null,"分",null,"番","",null,null,null,null,"→",null,"番",""]
["警告（Ｃ）・退場（Ｓ）など",null,null,null,null,null,null,"合計",null,"延後",null,"延前",null,"後半",null,"前半",null,"チーム\n合計",null,"前半",null,"後半",null,"延前",null,"延後",null,"合計",null,"警告（Ｃ）・退場（Ｓ）など"]
[null,null,null,null,null,null,null,6,null,null,null,null,null,2,null,4,null,"Ｇ","Ｋ",4,null,3,null,null,null,null,null,7,null,"34分11番（Ｃ）ラフ"]
[null,null,null,null,null,null,null,1,null,null,null,null,null,0,null,1,null,"Ｃ","Ｋ",1,null,3,null,null,null,null,null,4]
[null,null,null,null,null,null,null,4,null,null,null,null,null,2,null,2,null,"直接","ＦＫ",1,null,3,null,null,null,null,null,4]
[null,null,null,null,null,null,null,2,null,null,null,null,null,0,null,2,null,"間接","ＦＫ",0,null,0,null,null,null,null,null,0]
[null,null,null,null,null,null,null,1,null,null,null,null,null,1,null,0,null,"Ｐ","Ｋ",0,null,0,null,null,null,null,null,0]
["時間",null,null,"得点者",null,"得　　点　　経　　過",null,null,null,null,null,null,null,null,null,null,null,null,"時間",null,null,"得点者",null,"得　　点　　経　　過"]
[null,32,"分",9,null,"3　∩　9～Ｓ",null,null,null,null,null,null,null,null,null,null,null,null,null,13,"分",7,null,"15～　→　7Ｓ"]
[null,35,"分",8,null,"ＰＫ",null,null,null,null,null,null,null,null,null,null,null,null,null,18,"分",7,null,"5　∩　7Ｓ"]
[null,null,"分",null,null,null,null,null,null,null,null,null,null,null,null,null,null,null,null,22,"分",10,null,"10～Ｓ"]
[null,null,"分",null,null,null,null,null,null,null,null,null,null,null,null,null,null,null,null,null,"分"]
[null,null,"分",null,null,null,null,null,null,null,null,null,null,null,null,null,null,null,null,null,"分"]
[null,null,"分",null,null,null,null,null,null,null,null,null,null,null,null,null,null,null,null,null,"分"]
[" ",null,null,"《略号例》",null,null,null,"ドリブル",null,"～",null,"ゴロのパス",null,null,"→",null,"浮き球",null,"∩",null,"混戦",null,"×",null,"ヘディング",null,null,"H",null,"シュート",null,"S"]
[]
["戦評者氏名",null,null,null,"（","平尾　彰敏",null,null,null,null,"）",null,"勤務先または所属",null,null,null,null,"（","一般社団法人大分県サッカー協会技術委員会",null,null,null,null,null,null,null,null,null,null,null,null,null,null,null,"　）"]
["　序盤からアリアーレが幅と深みを使いながらビルドアップしてゲームを支配する。アリアーレは、守備においても4番矢野君と5番吉弘君が中心となり、素晴らしいラインコントロールをしながら安定した守備を見せていた。しかし、13分にアリアーレがオフサイドをかけようとしたところをブルーウイング7番佐藤君が上手く裏に抜け出して先制点を奪う。先制したことによって勢いに乗ったブルーウイングは、18分に7番佐藤君が裏に抜け出し、上手くＧＫをかわして素晴らしいゴールを決め、2-0で前半を折り返す。\n　後半に入っても勢いに乗るブルーウイングは22分に、エース10番南君がドリブルで抜け出しゴールを決めて3-0と点差を広げる。3点を追うかたちとなったアリアーレは、能力の高いＤＦ４番矢野君をＦＷにあげてゴールを狙い、32分と35分に2点を奪い返して1点差とし、試合終了間際まで同点ゴールを狙った。ブルーウイングも最後まで全員で粘り強く守備をして同点ゴールを許さずに試合終了を告げるホイッスルが鳴り響き、3-2でブルーウイングが優勝を果たした。素晴らしい決勝戦であった。地元大分県で開催される本大会での両チームの活躍に期待する。"]
[]
[]
[]
[]
[]
[]
[]
[null,null,null,null,null,null,null,null,"M   C",null,null,null,null,null,null,"ウェルフェアオフィサー",null,null,null,null,null,null,"会　場　長",null,null,null,null,null,null,"主　　審"]
[null,null,null,null,null,null,null,null,"仲野　昭博",null,null,null,null,null,null,"津守　一雄",null,null,null,null,null,null,"山野内　哲郎",null,null,null,null,null,null,"木原　一心"]

{"sheet":"準決勝②【Match No,50】","index":7,"n_rows":71,"n_cols":36,"rows_kept":71,"cut":false,"hidden":false,"merged":[[0,0,0,5],[0,6,0,9],[0,10,0,11],[1,0,1,1],[1,2,3,13],[1,15,1,16],[3,0,3,1],[3,14,3,15],[3,16,3,17],[1,28,2,29],[1,31,1,35],[2,0,2,1],[2,14,2,15],[2,16,2,17],[2,18,2,26],[2,31,2,35],[3,31,3,35],[4,0,4,1],[4,2,6,8],[4,11,4,12],[4,18,4,19],[5,0,5,1],[5,11,5,12],[5,13,5,14],[6,0,6,1],[6,11,6,12],[6,13,6,14],[6,18,6,19],[6,26,6,30],[3,18,3,26],[3,28,3,29],[9,21,9,23],[5,18,5,19],[5,21,5,25],[5,26,5,30],[5,31,5,35],[7,32,7,35],[10,17,10,18],[10,21,10,22],[10,23,10,24],[8,32,8,35],[7,21,7,23],[8,22,8,31],[7,0,7,2],[7,11,7,14],[7,15,11,15],[7,17,7,18],[10,13,10,14],[10,11,10,12],[11,17,11,18],[12,2,12,9],[7,20,11,20],[9,12,9,14],[9,17,9,18],[8,1,8,10],[8,11,8,14],[8,17,8,18],[12,26,12,33],[13,0,13,1],[13,2,13,3],[13,4,13,5],[13,6,13,7],[13,8,13,9],[13,17,13,18],[13,26,13,27],[13,28,13,29],[13,30,13,31],[13,32,13,33],[13,34,13,35],[14,0,14,1],[14,2,14,3],[14,4,14,5],[14,6,14,7],[14,8,14,9],[14,26,14,27],[14,28,14,29],[14,30,14,31],[14,32,14,33],[14,34,14,35],[15,11,15,15],[15,20,15,24],[16,11,16,15],[16,20,16,24],[17,11,17,15],[17,20,17,24],[18,11,18,15],[18,20,18,24],[19,11,19,15],[19,20,19,24],[20,11,20,15],[20,20,20,24],[21,11,21,15],[21,20,21,24],[22,11,22,15],[22,20,22,24],[23,16,23,19],[24,11,24,15],[24,20,24,24],[25,11,25,15],[25,20,25,24],[26,11,26,15],[26,20,26,24],[27,11,27,15],[27,20,27,24],[28,11,28,15],[28,20,28,24],[29,11,29,15],[29,20,29,24],[30,11,30,15],[30,20,30,24],[31,11,31,15],[31,20,31,24],[35,20,36,26],[35,27,36,27],[32,11,32,15],[32,20,32,24],[33,11,33,15],[33,20,33,24],[34,11,34,15],[34,17,34,18],[34,20,34,24],[35,28,36,34],[36,17,36,18],[37,4,37,8],[37,12,37,16],[37,22,37,26],[37,30,37,34],[35,2,36,8],[35,9,36,9],[35,10,36,16],[35,17,35,18],[38,4,38,8],[38,12,38,16],[38,22,38,26],[38,30,38,34],[39,4,39,8],[39,12,39,16],[39,22,39,26],[39,30,39,34],[40,4,40,8],[40,12,40,16],[40,22,40,26],[40,30,40,34],[41,4,41,8],[41,12,41,16],[41,22,41,26],[41,30,41,34],[42,4,42,8],[42,12,42,16],[42,22,42,26],[42,30,42,34],[43,4,43,8],[43,12,43,16],[43,22,43,26],[43,30,43,34],[44,4,44,8],[44,12,44,16],[44,22,44,26],[44,30,44,34],[45,0,45,6],[45,7,45,8],[45,9,45,10],[45,11,45,12],[45,13,45,14],[45,15,45,16],[45,17,45,18],[45,19,45,20],[45,21,45,22],[45,23,45,24],[45,25,45,26],[45,27,45,28],[45,29,45,35],[46,27,46,28],[47,7,47,8],[47,9,47,10],[47,11,47,12],[47,13,47,14],[47,15,47,16],[47,19,47,20],[47,21,47,22],[47,23,47,24],[47,25,47,26],[47,27,47,28],[46,7,46,8],[46,9,46,10],[46,11,46,12],[46,13,46,14],[46,15,46,16],[46,19,46,20],[46,21,46,22],[46,23,46,24],[46,25,46,26],[48,27,48,28],[49,7,49,8],[49,9,49,10],[49,11,49,12],[49,13,49,14],[49,15,49,16],[49,19,49,20],[49,21,49,22],[49,23,49,24],[49,25,49,26],[49,27,49,28],[48,7,48,8],[48,9,48,10],[48,11,48,12],[48,13,48,14],[48,15,48,16],[48,19,48,20],[48,21,48,22],[48,23,48,24],[48,25,48,26],[50,27,50,28],[51,0,51,2],[51,3,51,4],[51,5,51,17],[51,18,51,20],[51,21,51,22],[51,23,51,35],[52,3,52,4],[52,5,52,17],[52,21,52,22],[52,23,52,35],[50,7,50,8],[50,9,50,10],[50,11,50,12],[50,13,50,14],[50,15,50,16],[50,19,50,20],[50,21,50,22],[50,23,50,24],[50,25,50,26],[53,3,53,4],[53,5,53,17],[53,21,53,22],[53,23,53,35],[54,3,54,4],[54,5,54,17],[54,21,54,22],[54,23,54,35],[55,3,55,4],[55,5,55,17],[55,21,55,22],[55,23,55,35],[56,3,56,4],[56,5,56,17],[56,21,56,22],[56,23,56,35],[57,3,57,4],[57,5,57,17],[57,21,57,22],[57,23,57,35],[69,15,69,21],[69,22,69,28],[69,29,69,35],[58,3,58,5],[58,7,58,8],[58,11,58,13],[58,16,58,17],[58,20,58,21],[58,24,58,26],[61,0,67,35],[70,8,72,14],[70,15,72,21],[70,22,72,28],[70,29,72,35],[58,29,58,30],[60,0,60,3],[60,5,60,9],[60,12,60,16],[60,18,60,33],[69,8,69,14]]}
["公式記録",null,null,null,null,null,"Match No：",null,null,null,50]
["大",null,"OFA 第 50 回大分県少年サッカー大会\n　兼　KYFA 九州U-12サッカー大会大分県大会",null,null,null,null,null,null,null,null,null,null,null,"第",3,null,"日",null,null,null,null,null,null,null,null,null,"競技","40分",null,"記","安東　信二"]
["会",null,null,null,null,null,null,null,null,null,null,null,null,null,"1回戦",null,"2回戦",null,"平成31年　2月10日（日）",null,null,null,null,null,null,null,null,"時間",null,null,"録","市原　宗久"]
["名",null,null,null,null,null,null,null,null,null,null,null,null,null,"準決勝",null,"決勝",null,"試合開始　10時30分～",null,null,null,null,null,null,null,null,"延長","10分",null,"者","山本、榊"]
["会",null,"大分県大分スポーツ公園\nだいぎんサッカー・ラグビー場\nＡコート",null,null,null,null,null,null,"天","晴","風",null,"強","弱","無","芝","状","良好",null,"審","主審",null,null,null,null,"副審",null,null,null,null,"第4の審判員"]
[null,null,null,null,null,null,null,null,null,null,"曇","気温",null,10.8,null,"℃",null,null,"不良",null,null,"増永　伸也",null,null,null,null,"足立　卓也",null,null,null,null,"末吉　裕樹"]
["場",null,null,null,null,null,null,null,null,"候","雨","湿度",null,51,null,"％","土","態","泥沼",null,"判",null,null,null,null,null,"白江　直樹"]
["【チーム名】",null,null,null,null,null,null,null,null,null,null,null,null,null,null,3,1,"前半",null,0,0,"【チーム名】"]
[null,"ブルーウイングフットボールクラブ",null,null,null,null,null,null,null,null,null,"（大分市）",null,null,null,null,2,"後半",null,0,null,null,"太陽スポーツクラブ大分西",null,null,null,null,null,null,null,null,null,"（日田市）"]
[null,null,null,null,null,null,null,null,null,null,null,null,"kick off",null,null,null,null,"延前",null,null,null,"kick off"]
[null,null,null,null,null,null,null,null,null,null,null,"背番号",null,"PK",null,null,null,"延後",null,null,null,"PK",null,"背番号"]
[null,null,null,null,null,null,null,null,null,null,null,"○","×","先","後",null,null,"ＰＫ戦",null,null,null,"先","後","○","×"]
[null,null,"シュート（得点者は○印）",null,null,null,null,null,null,null,"学",null,null,null,null,null,"背",null,null,"背",null,null,null,null,null,"学","シュート（得点者は○印）"]
["合",null,"延",null,"延",null,"後",null,"前",null,null,null,"選","手","名",null,"番","位置",null,"番",null,"選","手","名",null,null,"前",null,"後",null,"延",null,"延",null,"合"]
["計",null,"後",null,"前",null,"半",null,"半",null,"年",null,null,null,null,null,"号",null,null,"号",null,null,null,null,null,"年","半",null,"半",null,"前",null,"後",null,"計"]
[null,0,null,null,null,null,null,null,null,null,6,"麻生　珀珠",null,null,null,null,1,"GK","GK",7,"江藤　聖悟",null,null,null,null,6,null,null,null,null,null,null,null,null,null,0]
[null,0,null,null,null,null,null,null,null,null,6,"藤川　碧冬",null,null,null,null,5,"DF","DF",5,"髙村　彰人",null,null,null,null,6,null,null,null,null,null,null,null,null,null,0]
[null,1,null,null,null,null,null,null,null,1,6,"三浦　隼",null,null,null,null,11,"DF","DF",15,"横尾　陸翔",null,null,null,null,6,null,3,null,null,null,null,null,null,null,3]
[null,2,null,null,null,null,null,1,null,1,5,"諸永　徠斗",null,null,null,null,16,"DF","DF",17,"長尾　一朗",null,null,null,null,6,null,null,null,null,null,null,null,null,null,0]
[null,1,null,null,null,null,null,null,"①",1,6,"佐藤　秀哉",null,null,null,null,7,"MF","MF",2,"江藤　朝陽",null,null,null,null,6,null,null,null,null,null,null,null,null,null,0]
[null,4,null,null,null,null,"①",3,null,1,6,"秦　碧空",null,null,null,null,8,"MF","MF",8,"伊東　幹太",null,null,null,null,6,null,null,null,null,null,null,null,null,null,0]
[null,4,null,null,null,null,"①",2,null,2,6,"南　創太",null,null,null,null,10,"FW","FW",10,"立花　佑悟",null,null,null,null,6,null,null,null,1,null,null,null,null,null,1]
[null,1,null,null,null,null,null,null,null,1,5,"奈良　三志朗",null,null,null,null,15,"FW","FW",13,"森山　大貴",null,null,null,null,6,null,1,null,null,null,null,null,null,null,1]
[null,null,null,null,null,null,null,null,null,null,null,null,null,null,null,null,"交替要員"]
[null,0,null,null,null,null,null,null,null,null,6,"大野　花道",null,null,null,null,2,"MF","DF",3,"東　侑平",null,null,null,null,5,null,null,null,null,null,null,null,null,null,0]
[null,0,null,null,null,null,null,null,null,null,6,"瀬戸口　晴紀",null,null,null,null,3,"FW","FW",6,"嶋津　裕心",null,null,null,null,6,null,null,null,null,null,null,null,null,null,0]
[null,0,null,null,null,null,null,null,null,null,6,"小野　佑馬",null,null,null,null,4,"DF","FW",9,"櫻木　煌河",null,null,null,null,6,null,null,null,null,null,null,null,null,null,0]
[null,1,null,null,null,null,null,1,null,null,6,"三浦　舜平",null,null,null,null,6,"FW","FW",12,"諌山　浩志",null,null,null,null,6,null,null,null,null,null,null,null,null,null,0]
[null,0,null,null,null,null,null,null,null,null,6,"宿利　友輝",null,null,null,null,9,"MF","MF",14,"中野　未萊",null,null,null,null,6,null,null,null,null,null,null,null,null,null,0]
[null,0,null,null,null,null,null,null,null,null,5,"安藤　亮太",null,null,null,null,12,"GK","GK",16,"中島　歩夢",null,null,null,null,4,null,null,null,null,null,null,null,null,null,0]
[null,0,null,null,null,null,null,null,null,null,6,"河内　竜樹",null,null,null,null,13,"FW","",null,"",null,null,null,null,"",null,null,null,null,null,null,null,null,null,0]
[null,0,null,null,null,null,null,null,null,null,6,"嶋田　祐也",null,null,null,null,14,"DF","",null,"",null,null,null,null,"",null,null,null,null,null,null,null,null,null,0]
[null,0,null,null,null,null,null,null,null,null,6,"山下　純弥",null,null,null,null,17,"DF","",null,"",null,null,null,null,"",null,null,null,null,null,null,null,null,null,0]
[null,0,null,null,null,null,null,null,null,null,6,"高部　紫音",null,null,null,null,18,"FW","",null,"",null,null,null,null,"",null,null,null,null,null,null,null,null,null,0]
[null,14,null,0,null,0,null,7,null,7,"小計",14,null,null,null,null,"合計","シュート数",null,"合計",5,null,null,null,null,"小計",null,4,null,1,null,0,null,0,null,5]
[null,null,"OUT",null,null,null,null,null,null,"→","IN",null,null,null,null,null,null,"交代",null,null,"OUT",null,null,null,null,null,null,"→","IN"]
[null,null,null,null,null,null,null,null,null,null,null,null,null,null,null,null,null,"選手"]
[33,"分",10,"番","南　創太",null,null,null,null,"→",6,"番","三浦　舜平",null,null,null,null,null,21,"分",8,"番","伊東　幹太",null,null,null,null,"→",14,"番","中野　未萊"]
[null,"分",null,"番","",null,null,null,null,"→",null,"番","",null,null,null,null,null,null,"分",null,"番","",null,null,null,null,"→",null,"番",""]
[null,"分",null,"番","",null,null,null,null,"→",null,"番","",null,null,null,null,null,null,"分",null,"番","",null,null,null,null,"→",null,"番",""]
[null,"分",null,"番","",null,null,null,null,"→",null,"番","",null,null,null,null,null,null,"分",null,"番","",null,null,null,null,"→",null,"番",""]
[null,"分",null,"番","",null,null,null,null,"→",null,"番","",null,null,null,null,null,null,"分",null,"番","",null,null,null,null,"→",null,"番",""]
[null,"分",null,"番","",null,null,null,null,"→",null,"番","",null,null,null,null,null,null,"分",null,"番","",null,null,null,null,"→",null,"番",""]
[null,"分",null,"番","",null,null,null,null,"→",null,"番","",null,null,null,null,null,null,"分",null,"番","",null,null,null,null,"→",null,"番",""]
[null,"分",null,"番","",null,null,null,null,"→",null,"番","",null,null,null,null,null,null,"分",null,"番","",null,null,null,null,"→",null,"番",""]
["警告（Ｃ）・退場（Ｓ）など",null,null,null,null,null,null,"合計",null,"延後",null,"延前",null,"後半",null,"前半",null,"チーム\n合計",null,"前半",null,"後半",null,"延前",null,"延後",null,"合計",null,"警告（Ｃ）・退場（Ｓ）など"]
[null,null,null,null,null,null,null,6,null,null,null,null,null,4,null,2,null,"Ｇ","Ｋ",5,null,6,null,null,null,null,null,11]
[null,null,null,null,null,null,null,2,null,null,null,null,null,0,null,2,null,"Ｃ","Ｋ",0,null,1,null,null,null,null,null,1]
[null,null,null,null,null,null,null,3,null,null,null,null,null,2,null,1,null,"直接","ＦＫ",4,null,1,null,null,null,null,null,5]
[null,null,null,null,null,null,null,1,null,null,null,null,null,0,null,1,null,"間接","ＦＫ",0,null,0,null,null,null,null,null,0]
[null,null,null,null,null,null,null,0,null,null,null,null,null,0,null,0,null,"Ｐ","Ｋ",0,null,0,null,null,null,null,null,0]
["時間",null,null,"得点者",null,"得　　点　　経　　過",null,null,null,null,null,null,null,null,null,null,null,null,"時間",null,null,"得点者",null,"得　　点　　経　　過"]
[null,4,"分",7,null,"5∩15ＨＳ　ＧＫこぼれ　7Ｓ",null,null,null,null,null,null,null,null,null,null,null,null,null,null,"分"]
[null,25,"分",10,null,"10～Ｓ",null,null,null,null,null,null,null,null,null,null,null,null,null,null,"分"]
[null,33,"分",8,null,"7→8～Ｓ",null,null,null,null,null,null,null,null,null,null,null,null,null,null,"分"]
[null,null,"分",null,null,null,null,null,null,null,null,null,null,null,null,null,null,null,null,null,"分"]
[null,null,"分",null,null,null,null,null,null,null,null,null,null,null,null,null,null,null,null,null,"分"]
[null,null,"分",null,null,null,null,null,null,null,null,null,null,null,null,null,null,null,null,null,"分"]
[" ",null,null,"《略号例》",null,null,null,"ドリブル",null,"～",null,"ゴロのパス",null,null,"→",null,"浮き球",null,"∩",null,"混戦",null,"×",null,"ヘディング",null,null,"H",null,"シュート",null,"S"]
[]
["戦評者氏名",null,null,null,"（","大友　拓郎",null,null,null,null,"）",null,"勤務先または所属",null,null,null,null,"（","一般社団法人大分県サッカー協会技術委員会",null,null,null,null,null,null,null,null,null,null,null,null,null,null,null,"　）"]
["　前半から激しい中盤のせめぎ合いの中から、前半4分こぼれ球に反応したブルーウィング７番佐藤君が押し込みブルーウィングが先制した。前半終了間際にお互いチャンスを作るが決めきれず前半終了。\n　後半に入り太陽大分西は、24分に10番立花君がミドルシュートを放つも惜しくも左に外れた。直後の25分にブルーウィング10番南君が左サイドからドリブルで切り込み2点目、さらに33分8番秦君が右からドリブルで仕掛けミドルシュートで3点目を上げて、ブルーウィングが3-0で勝利して、4年連続で決勝進出を果たし、併せて本大会出場の切符を手にした。\n　準決勝1試合目、2試合目共に、試合を通して、両チーム共に前線からの積極的な守備が印象的であった。"]
[]
[]
[]
[]
[]
[]
[]
[null,null,null,null,null,null,null,null,"M   C",null,null,null,null,null,null,"ウェルフェアオフィサー",null,null,null,null,null,null,"会　場　長",null,null,null,null,null,null,"主　　審"]
[null,null,null,null,null,null,null,null,"津守　一雄",null,null,null,null,null,null,"伊東　雅弘",null,null,null,null,null,null,"安東　幹雄",null,null,null,null,null,null,"増永　伸也"]

{"sheet":"準決勝①【Match No,49】","index":8,"n_rows":71,"n_cols":36,"rows_kept":71,"cut":false,"hidden":false,"merged":[[53,23,53,35],[52,23,52,35],[51,21,51,22],[51,23,51,35],[49,21,49,22],[50,21,50,22],[51,18,51,20],[49,23,49,24],[13,32,13,33],[13,28,13,29],[12,26,12,33],[13,34,13,35],[13,30,13,31],[14,34,14,35],[44,30,44,34],[14,30,14,31],[8,22,8,31],[9,21,9,23],[10,23,10,24],[10,21,10,22],[44,22,44,26],[18,20,18,24],[19,20,19,24],[30,20,30,24],[16,20,16,24],[15,20,15,24],[17,20,17,24],[35,28,36,34],[38,30,38,34],[41,30,41,34],[37,30,37,34],[1,28,2,29],[7,32,7,35],[3,28,3,29],[2,18,2,26],[4,18,4,19],[5,18,5,19],[6,18,6,19],[3,18,3,26],[1,31,1,35],[2,31,2,35],[7,20,11,20],[5,21,5,25],[5,26,5,30],[5,31,5,35],[6,26,6,30],[3,31,3,35],[7,21,7,23],[8,32,8,35],[51,0,51,2],[14,8,14,9],[14,6,14,7],[48,7,48,8],[50,7,50,8],[50,9,50,10],[49,13,49,14],[48,19,48,20],[35,2,36,8],[38,4,38,8],[42,4,42,8],[21,11,21,15],[20,11,20,15],[41,4,41,8],[14,0,14,1],[46,0,50,6],[49,19,49,20],[50,19,50,20],[46,19,46,20],[49,15,49,16],[49,11,49,12],[46,13,46,14],[46,23,46,24],[50,15,50,16],[46,27,46,28],[47,27,47,28],[24,11,24,15],[25,11,25,15],[26,11,26,15],[31,11,31,15],[28,11,28,15],[47,13,47,14],[45,15,45,16],[30,11,30,15],[29,11,29,15],[40,12,40,16],[47,19,47,20],[41,12,41,16],[50,23,50,24],[48,21,48,22],[37,22,37,26],[39,22,39,26],[49,25,49,26],[46,25,46,26],[14,28,14,29],[14,26,14,27],[48,25,48,26],[34,17,34,18],[45,29,45,35],[45,19,45,20],[45,23,45,24],[50,27,50,28],[35,27,36,27],[23,16,23,19],[50,25,50,26],[46,21,46,22],[49,27,49,28],[48,27,48,28],[47,21,47,22],[47,25,47,26],[47,23,47,24],[48,23,48,24],[14,2,14,3],[13,4,13,5],[13,6,13,7],[57,23,57,35],[56,3,56,4],[57,3,57,4],[56,21,56,22],[56,23,56,35],[55,23,55,35],[56,5,56,17],[55,5,55,17],[57,5,57,17],[57,21,57,22],[55,21,55,22],[55,3,55,4],[52,5,52,17],[53,5,53,17],[54,5,54,17],[31,20,31,24],[32,20,32,24],[34,20,34,24],[47,7,47,8],[14,32,14,33],[45,25,45,26],[58,3,58,5],[58,7,58,8],[60,0,60,3],[60,5,60,9],[60,12,60,16],[70,22,72,28],[70,15,72,21],[58,24,58,26],[60,18,60,33],[58,11,58,13],[69,22,69,28],[58,29,58,30],[69,15,69,21],[58,20,58,21],[58,16,58,17],[69,8,69,14],[70,8,72,14],[69,29,69,35],[70,29,72,35],[61,0,67,35],[13,26,13,27],[33,11,33,15],[35,17,35,18],[36,17,36,18],[37,12,37,16],[42,12,42,16],[43,12,43,16],[15,11,15,15],[19,11,19,15],[16,11,16,15],[17,11,17,15],[21,20,21,24],[22,11,22,15],[24,20,24,24],[39,12,39,16],[20,20,20,24],[45,21,45,22],[33,20,33,24],[35,20,36,26],[22,20,22,24],[26,20,26,24],[28,20,28,24],[54,23,54,35],[54,21,54,22],[43,22,43,26],[25,20,25,24],[35,9,36,9],[32,11,32,15],[27,11,27,15],[42,22,42,26],[34,11,34,15],[29,20,29,24],[38,12,38,16],[27,20,27,24],[39,30,39,34],[38,22,38,26],[43,30,43,34],[40,22,40,26],[40,30,40,34],[42,30,42,34],[41,22,41,26],[45,27,45,28],[53,21,53,22],[52,21,52,22],[47,9,47,10],[47,11,47,12],[54,3,54,4],[51,3,51,4],[48,11,48,12],[50,11,50,12],[49,7,49,8],[45,7,45,8],[49,9,49,10],[48,9,48,10],[51,5,51,17],[50,13,50,14],[53,3,53,4],[45,0,45,6],[45,11,45,12],[48,15,48,16],[48,13,48,14],[46,15,46,16],[45,13,45,14],[46,7,46,8],[46,9,46,10],[46,11,46,12],[47,15,47,16],[45,17,45,18],[45,9,45,10],[52,3,52,4],[14,4,14,5],[44,4,44,8],[44,12,44,16],[39,4,39,8],[43,4,43,8],[40,4,40,8],[37,4,37,8],[13,8,13,9],[35,10,36,16],[18,11,18,15],[13,0,13,1],[2,16,2,17],[2,14,2,15],[7,15,11,15],[9,17,9,18],[10,17,10,18],[7,17,7,18],[3,14,3,15],[3,16,3,17],[8,17,8,18],[13,17,13,18],[11,17,11,18],[12,2,12,9],[4,11,4,12],[4,0,4,1],[13,2,13,3],[1,15,1,16],[2,0,2,1],[0,0,0,5],[10,13,10,14],[1,0,1,1],[0,10,0,11],[5,13,5,14],[1,2,3,13],[0,6,0,9],[5,11,5,12],[6,13,6,14],[6,0,6,1],[10,11,10,12],[9,12,9,14],[3,0,3,1],[4,2,6,8],[6,11,6,12],[8,11,8,14],[5,0,5,1],[7,11,7,14],[7,0,7,2],[8,1,8,10]]}
["公式記録",null,null,null,null,null,"Match No：",null,null,null,49]
["大",null,"OFA 第 50 回大分県少年サッカー大会\n　兼　KYFA 九州U-12サッカー大会大分県大会",null,null,null,null,null,null,null,null,null,null,null,"第",3,null,"日",null,null,null,null,null,null,null,null,null,"競技","40分",null,"記","松下　省吾"]
["会",null,null,null,null,null,null,null,null,null,null,null,null,null,"1回戦",null,"2回戦",null,"平成31年　2月10日（日）",null,null,null,null,null,null,null,null,"時間",null,null,"録","中野観司朗"]
["名",null,null,null,null,null,null,null,null,null,null,null,null,null,"準決勝",null,"決勝",null,"試合開始　9時30分～",null,null,null,null,null,null,null,null,"延長","10分",null,"者","津守、榊"]
["会",null,"大分県大分スポーツ公園\nだいぎんサッカー・ラグビー場\nＡコート",null,null,null,null,null,null,"天","晴","風",null,"強","弱","無","芝","状","良好",null,"審","主審",null,null,null,null,"副審",null,null,null,null,"第4の審判員"]
[null,null,null,null,null,null,null,null,null,null,"曇","気温",null,6,null,"℃",null,null,"不良",null,null,"木原　一心",null,null,null,null,"小手川朋輝",null,null,null,null,"矢野　三千生"]
["場",null,null,null,null,null,null,null,null,"候","雨","湿度",null,54.2,null,"％","土","態","泥沼",null,"判",null,null,null,null,null,"安倍　和広"]
["【チーム名】",null,null,null,null,null,null,null,null,null,null,null,null,null,null,0,0,"前半",null,2,3,"【チーム名】"]
[null,"スマイス・セレソン",null,null,null,null,null,null,null,null,null,"（別府市）",null,null,null,null,0,"後半",null,1,null,null,"ＦＣアリアーレ",null,null,null,null,null,null,null,null,null,"（日田市）"]
[null,null,null,null,null,null,null,null,null,null,null,null,"kick off",null,null,null,null,"延前",null,null,null,"kick off"]
[null,null,null,null,null,null,null,null,null,null,null,"背番号",null,"PK",null,null,null,"延後",null,null,null,"PK",null,"背番号"]
[null,null,null,null,null,null,null,null,null,null,null,"○","×","先","後",null,null,"ＰＫ戦",null,null,null,"先","後","○","×"]
[null,null,"シュート（得点者は○印）",null,null,null,null,null,null,null,"学",null,null,null,null,null,"背",null,null,"背",null,null,null,null,null,"学","シュート（得点者は○印）"]
["合",null,"延",null,"延",null,"後",null,"前",null,null,null,"選","手","名",null,"番","位置",null,"番",null,"選","手","名",null,null,"前",null,"後",null,"延",null,"延",null,"合"]
["計",null,"後",null,"前",null,"半",null,"半",null,"年",null,null,null,null,null,"号",null,null,"号",null,null,null,null,null,"年","半",null,"半",null,"前",null,"後",null,"計"]
[null,1,null,null,null,null,null,null,null,1,6,"谷　遥斗",null,null,null,null,1,"GK","GK",16,"古賀　貫太郎",null,null,null,null,5,null,null,null,null,null,null,null,null,null,0]
[null,1,null,null,null,null,null,1,null,null,6,"赤嶺　瞭",null,null,null,null,2,"DF","DF",4,"矢野　想翔",null,null,null,null,6,null,1,null,1,null,null,null,null,null,2]
[null,0,null,null,null,null,null,null,null,null,6,"原田　惺斗",null,null,null,null,4,"DF","DF",5,"吉弘　怜大",null,null,null,null,6,null,2,null,3,null,null,null,null,null,5]
[null,2,null,null,null,null,null,null,null,2,6,"後藤　光輝",null,null,null,null,9,"DF","MF",7,"泉　颯飛",null,null,null,null,6,"②",3,null,null,null,null,null,null,null,3]
[null,0,null,null,null,null,null,null,null,null,6,"釘宮　大和",null,null,null,null,8,"MF","MF",8,"後藤　瑠力",null,null,null,null,6,null,null,null,null,null,null,null,null,null,0]
[null,1,null,null,null,null,null,1,null,null,6,"松尾　蒼友太",null,null,null,null,10,"MF","MF",10,"松坂　童夢",null,null,null,null,6,null,null,null,3,null,null,null,null,null,3]
[null,1,null,null,null,null,null,null,null,1,6,"市野　圭吾",null,null,null,null,7,"FW","FW",9,"森下　柊飛",null,null,null,null,6,null,1,"①",1,null,null,null,null,null,2]
[null,1,null,null,null,null,null,1,null,null,5,"大室　響",null,null,null,null,11,"FW","MF",11,"金丸　響",null,null,null,null,6,null,null,null,null,null,null,null,null,null,0]
[null,null,null,null,null,null,null,null,null,null,null,null,null,null,null,null,"交替要員"]
[null,0,null,null,null,null,null,null,null,null,6,"木山　壮太朗",null,null,null,null,3,"DF","GK",1,"野村　枝暉",null,null,null,null,6,null,null,null,null,null,null,null,null,null,0]
[null,0,null,null,null,null,null,null,null,null,6,"荒金　侑成",null,null,null,null,5,"MF","MF",2,"伊藤　瑠",null,null,null,null,5,null,null,null,null,null,null,null,null,null,0]
[null,0,null,null,null,null,null,null,null,null,6,"花田　憐",null,null,null,null,6,"MF","FW",3,"吉弘　瑠唯",null,null,null,null,5,null,null,null,null,null,null,null,null,null,0]
[null,0,null,null,null,null,null,null,null,null,6,"河野　慧大",null,null,null,null,12,"MF","DF",12,"新原　遥翔",null,null,null,null,5,null,null,null,null,null,null,null,null,null,0]
[null,1,null,null,null,null,null,1,null,null,6,"原田　隼大",null,null,null,null,13,"FW","MF",13,"河津　悠星",null,null,null,null,5,null,null,null,null,null,null,null,null,null,0]
[null,0,null,null,null,null,null,null,null,null,5,"小野　陽士",null,null,null,null,14,"MF","MF",14,"武久　文弥",null,null,null,null,6,null,null,null,null,null,null,null,null,null,0]
[null,0,null,null,null,null,null,null,null,null,5,"阿部　巧翔",null,null,null,null,16,"GK","MF",15,"櫻木　海晴",null,null,null,null,5,null,null,null,null,null,null,null,null,null,0]
[null,0,null,null,null,null,null,null,null,null,"","",null,null,null,null,null,"","",null,"",null,null,null,null,"",null,null,null,null,null,null,null,null,null,0]
[null,0,null,null,null,null,null,null,null,null,"","",null,null,null,null,null,"","",null,"",null,null,null,null,"",null,null,null,null,null,null,null,null,null,0]
[null,0,null,null,null,null,null,null,null,null,"","",null,null,null,null,null,"","",null,"",null,null,null,null,"",null,null,null,null,null,null,null,null,null,0]
[null,8,null,0,null,0,null,4,null,4,"小計",8,null,null,null,null,"合計","シュート数",null,"合計",15,null,null,null,null,"小計",null,7,null,8,null,0,null,0,null,15]
[null,null,"OUT",null,null,null,null,null,null,"→","IN",null,null,null,null,null,null,"交代",null,null,"OUT",null,null,null,null,null,null,"→","IN"]
[null,null,null,null,null,null,null,null,null,null,null,null,null,null,null,null,null,"選手"]
[14,"分",8,"番","釘宮　大和",null,null,null,null,"→",13,"番","原田　隼大",null,null,null,null,null,30,"分",7,"番","泉　颯飛",null,null,null,null,"→",3,"番","吉弘　瑠唯"]
[37,"分",7,"番","市野　圭吾",null,null,null,null,"→",5,"番","荒金　侑成",null,null,null,null,null,null,"分",null,"番","",null,null,null,null,"→",null,"番",""]
[null,"分",null,"番","",null,null,null,null,"→",null,"番","",null,null,null,null,null,null,"分",null,"番","",null,null,null,null,"→",null,"番",""]
[null,"分",null,"番","",null,null,null,null,"→",null,"番","",null,null,null,null,null,null,"分",null,"番","",null,null,null,null,"→",null,"番",""]
[null,"分",null,"番","",null,null,null,null,"→",null,"番","",null,null,null,null,null,null,"分",null,"番","",null,null,null,null,"→",null,"番",""]
[null,"分",null,"番","",null,null,null,null,"→",null,"番","",null,null,null,null,null,null,"分",null,"番","",null,null,null,null,"→",null,"番",""]
[null,"分",null,"番","",null,null,null,null,"→",null,"番","",null,null,null,null,null,null,"分",null,"番","",null,null,null,null,"→",null,"番",""]
[null,"分",null,"番","",null,null,null,null,"→",null,"番","",null,null,null,null,null,null,"分",null,"番","",null,null,null,null,"→",null,"番",""]
["警告（Ｃ）・退場（Ｓ）など",null,null,null,null,null,null,"合計",null,"延後",null,"延前",null,"後半",null,"前半",null,"チーム\n合計",null,"前半",null,"後半",null,"延前",null,"延後",null,"合計",null,"警告（Ｃ）・退場（Ｓ）など"]
["14分　10番（Ｃ）反スポ",null,null,null,null,null,null,8,null,null,null,null,null,3,null,5,null,"Ｇ","Ｋ",4,null,2,null,null,null,null,null,6]
[null,null,null,null,null,null,null,2,null,null,null,null,null,1,null,1,null,"Ｃ","Ｋ",1,null,3,null,null,null,null,null,4]
[null,null,null,null,null,null,null,7,null,null,null,null,null,3,null,4,null,"直接","ＦＫ",3,null,0,null,null,null,null,null,3]
[null,null,null,null,null,null,null,0,null,null,null,null,null,0,null,0,null,"間接","ＦＫ",0,null,0,null,null,null,null,null,0]
[null,null,null,null,null,null,null,0,null,null,null,null,null,0,null,0,null,"Ｐ","Ｋ",0,null,0,null,null,null,null,null,0]
["時間",null,null,"得点者",null,"得　　点　　経　　過",null,null,null,null,null,null,null,null,null,null,null,null,"時間",null,null,"得点者",null,"得　　点　　経　　過"]
[null,null,"分",null,null,null,null,null,null,null,null,null,null,null,null,null,null,null,null,11,"分",7,null,"～④－⑦Ｓ"]
[null,null,"分",null,null,null,null,null,null,null,null,null,null,null,null,null,null,null,null,16,"分",7,null,"～④Ｓ　ＧＫこぼれ　⑦Ｓ"]
[null,null,"分",null,null,null,null,null,null,null,null,null,null,null,null,null,null,null,null,37,"分",9,null,"～⑩Ｓ　ＧＫこぼれ　⑨Ｓ"]
[null,null,"分",null,null,null,null,null,null,null,null,null,null,null,null,null,null,null,null,null,"分"]
[null,null,"分",null,null,null,null,null,null,null,null,null,null,null,null,null,null,null,null,null,"分"]
[null,null,"分",null,null,null,null,null,null,null,null,null,null,null,null,null,null,null,null,null,"分"]
[" ",null,null,"《略号例》",null,null,null,"ドリブル",null,"～",null,"ゴロのパス",null,null,"→",null,"浮き球",null,"∩",null,"混戦",null,"×",null,"ヘディング",null,null,"H",null,"シュート",null,"S"]
[]
["戦評者氏名",null,null,null,"（","羽田野　亘",null,null,null,null,"）",null,"勤務先または所属",null,null,null,null,"（","一般社団法人大分県サッカー協会技術委員会",null,null,null,null,null,null,null,null,null,null,null,null,null,null,null,"　）"]
["　お互いに攻守の切り替えが早く、ボールに対しプレッシャーをかけ合う好ゲームとなった。試合序盤は、アリアーレのＤＦ４番矢野君、５番吉弘君がポジションを深くとっていたため、中盤にスペースを得たスマイスは、９番後藤君が際どいシュートを放つなどチャンスを作った。アリアーレは、ＤＦからロングボールを入れ、こぼれ球を拾いながら、徐々に試合のペースを握り始め、１１分に４番吉弘君が左サイドをドリブルで持ち上がり、７番泉君へパスをつなぎ７番泉君がシュートを決めて先制した。１６分にも７番泉君が追加点をあげてアリアーレが前半を2-0とリードする。\n　後半に入ってもアリアーレの守備は緩むことがなく、スマイスは、パスワークを発揮することができずにパススピードに欠けて動きが少なくなったためバックパスが多くなり、ロングボールを蹴らされては、こぼれ球をアリアーレに拾われていた。アリアーレは、３７分カウンターから右サイドを突破した１０番松坂君がシュートしたボールをＧＫが弾いたところを９番森下君が押し込み追加点をあげ3-0で勝利した。ＤＦ４番矢野君、５番吉弘君を中心に意思統一が図られていたアリアーレの戦術が光り、初の決勝進出と本大会出場の権利を手にした。\n　"]
[]
[]
[]
[]
[]
[]
[]
[null,null,null,null,null,null,null,null,"M   C",null,null,null,null,null,null,"ウェルフェアオフィサー",null,null,null,null,null,null,"会　場　長",null,null,null,null,null,null,"主　　審"]
[null,null,null,null,null,null,null,null,"中原　圭介",null,null,null,null,null,null,"仲野　昭博",null,null,null,null,null,null,"山野内　哲郎",null,null,null,null,null,null,"木原　一心"]

{"sheet":"２次リーグ組み合わせ・結果","index":9,"n_rows":59,"n_cols":53,"rows_kept":59,"cut":false,"hidden":false,"merged":[[17,33,17,35],[17,37,17,39],[16,40,16,42],[17,40,17,42],[16,33,16,35],[16,37,16,39],[57,51,58,51],[57,52,58,53],[57,44,58,44],[57,45,58,45],[57,46,58,46],[57,47,58,47],[57,48,58,49],[57,50,58,50],[55,51,56,51],[55,52,56,53],[55,44,56,44],[55,45,56,45],[55,46,56,46],[55,47,56,47],[55,48,56,49],[55,50,56,50],[52,50,52,51],[52,52,52,53],[57,29,57,30],[57,40,58,40],[57,41,58,41],[57,42,58,42],[57,43,58,43],[58,29,58,30],[53,28,54,28],[53,29,53,30],[53,40,54,40],[53,41,54,41],[53,42,54,42],[53,43,54,43],[54,29,54,30],[55,28,56,28],[55,29,55,30],[55,40,56,40],[55,41,56,41],[55,42,56,42],[55,43,56,43],[56,29,56,30],[57,23,58,23],[57,24,58,25],[55,23,56,23],[55,24,56,25],[53,23,54,23],[53,24,54,25],[52,22,52,23],[52,24,52,25],[57,28,58,28],[53,51,54,51],[53,52,54,53],[53,44,54,44],[53,45,54,45],[53,46,54,46],[53,47,54,47],[53,48,54,49],[53,50,54,50],[57,16,58,16],[57,17,58,17],[57,18,58,18],[57,19,58,19],[57,20,58,21],[57,22,58,22],[55,18,56,18],[55,19,56,19],[55,20,56,21],[55,22,56,22],[53,16,54,16],[53,17,54,17],[53,18,54,18],[53,19,54,19],[53,20,54,21],[53,22,54,22],[57,0,58,0],[57,1,57,2],[57,12,58,12],[57,13,58,13],[57,14,58,14],[57,15,58,15],[58,1,58,2],[55,16,56,16],[55,17,56,17],[55,0,56,0],[55,1,55,2],[55,12,56,12],[55,13,56,13],[55,14,56,14],[55,15,56,15],[56,1,56,2],[53,0,54,0],[53,1,53,2],[53,12,54,12],[53,13,54,13],[53,14,54,14],[53,15,54,15],[54,1,54,2],[52,0,52,2],[52,3,52,5],[52,6,52,8],[52,9,52,11],[49,23,50,23],[52,18,52,19],[52,20,52,21],[49,51,50,51],[49,52,50,53],[49,44,50,44],[49,45,50,45],[49,46,50,46],[49,47,50,47],[49,48,50,49],[49,50,50,50],[49,28,50,28],[49,29,49,30],[49,40,50,40],[49,41,50,41],[49,42,50,42],[49,43,50,43],[50,29,50,30],[52,28,52,30],[52,31,52,33],[52,34,52,36],[52,37,52,39],[52,46,52,47],[52,48,52,49],[47,52,48,53],[47,44,48,44],[47,45,48,45],[47,46,48,46],[47,47,48,47],[47,48,48,49],[47,50,48,50],[47,28,48,28],[47,29,47,30],[47,40,48,40],[47,41,48,41],[47,42,48,42],[47,43,48,43],[48,29,48,30],[45,50,46,50],[45,28,46,28],[45,29,45,30],[45,40,46,40],[45,41,46,41],[45,42,46,42],[45,43,46,43],[46,29,46,30],[47,51,48,51],[49,0,50,0],[49,1,49,2],[49,12,50,12],[49,13,50,13],[49,14,50,14],[50,1,50,2],[44,50,44,51],[44,52,44,53],[44,28,44,30],[44,31,44,33],[44,34,44,36],[44,37,44,39],[44,46,44,47],[44,48,44,49],[49,24,50,25],[44,24,44,25],[45,51,46,51],[45,52,46,53],[45,44,46,44],[45,45,46,45],[45,46,46,46],[45,47,46,47],[45,48,46,49],[47,0,48,0],[47,1,47,2],[47,12,48,12],[47,13,48,13],[47,14,48,14],[49,18,50,18],[49,19,50,19],[49,20,50,21],[49,22,50,22],[48,1,48,2],[47,15,48,15],[49,15,50,15],[49,16,50,16],[49,17,50,17],[47,23,48,23],[47,24,48,25],[47,16,48,16],[47,17,48,17],[47,18,48,18],[47,19,48,19],[47,20,48,21],[47,22,48,22],[45,22,46,22],[45,23,46,23],[45,24,46,25],[45,16,46,16],[45,17,46,17],[45,18,46,18],[45,19,46,19],[45,20,46,21],[44,0,44,2],[44,3,44,5],[44,6,44,8],[44,9,44,11],[44,18,44,19],[44,20,44,21],[44,22,44,23],[46,1,46,2],[23,3,23,4],[23,5,23,7],[23,9,23,11],[23,12,23,14],[45,0,46,0],[45,1,45,2],[45,12,46,12],[45,13,46,13],[45,14,46,14],[45,15,46,15],[23,31,23,32],[23,33,23,35],[22,28,23,28],[22,29,23,30],[22,33,22,35],[23,37,23,39],[22,40,22,42],[23,40,23,42],[22,0,23,0],[22,1,23,2],[22,3,22,4],[22,5,22,7],[22,9,22,11],[22,12,22,14],[22,31,22,32],[22,37,22,39],[21,12,21,14],[21,31,21,32],[21,33,21,35],[21,37,21,39],[20,28,21,28],[21,40,21,42],[20,29,21,30],[20,12,20,14],[20,31,20,32],[20,33,20,35],[20,37,20,39],[20,40,20,42],[20,0,21,0],[20,1,21,2],[20,3,20,4],[20,5,20,7],[20,9,20,11],[19,3,19,4],[19,5,19,7],[19,9,19,11],[18,0,19,0],[18,1,19,2],[18,3,18,4],[18,5,18,7],[18,9,18,11],[21,3,21,4],[21,5,21,7],[21,9,21,11],[19,12,19,14],[19,31,19,32],[18,33,18,35],[18,37,18,39],[18,40,18,42],[19,33,19,35],[19,37,19,39],[19,40,19,42],[18,28,19,28],[18,29,19,30],[18,12,18,14],[18,31,18,32],[17,3,17,4],[17,5,17,7],[17,9,17,11],[17,12,17,14],[17,31,17,32],[16,0,17,0],[16,1,17,2],[16,3,16,4],[16,5,16,7],[16,9,16,11],[16,12,16,14],[16,31,16,32],[16,28,17,28],[16,29,17,30],[15,12,15,14],[15,31,15,32],[15,33,15,35],[15,37,15,39],[15,40,15,42],[14,29,15,30],[14,12,14,14],[14,31,14,32],[14,33,14,35],[14,37,14,39],[14,40,14,42],[14,28,15,28],[14,0,15,0],[14,1,15,2],[14,3,14,4],[14,5,14,7],[14,9,14,11],[13,3,13,4],[13,5,13,7],[13,9,13,11],[12,0,13,0],[12,1,13,2],[12,3,12,4],[12,5,12,7],[12,9,12,11],[15,3,15,4],[15,5,15,7],[15,9,15,11],[13,12,13,14],[13,31,13,32],[12,33,12,35],[12,37,12,39],[12,40,12,42],[13,33,13,35],[13,37,13,39],[13,40,13,42],[12,28,13,28],[12,29,13,30],[12,12,12,14],[12,31,12,32],[11,0,11,2],[11,12,11,14],[11,40,11,42],[10,0,10,2],[10,28,10,30],[7,3,7,8],[7,9,7,14],[7,31,7,36],[7,37,7,42],[5,28,7,30],[11,28,11,30],[6,3,6,8],[6,9,6,14],[6,31,6,36],[6,37,6,42],[5,0,7,2],[5,3,5,8],[5,9,5,14],[5,31,5,36],[5,37,5,42],[4,0,4,2],[4,3,4,8],[4,9,4,14],[4,31,4,36],[4,37,4,42],[4,28,4,30],[0,0,0,26],[2,0,2,2],[2,3,2,14],[2,31,2,42],[3,0,3,2],[3,3,3,8],[3,9,3,14],[3,31,3,36],[3,37,3,42],[3,28,3,30],[0,28,0,54],[2,28,2,30]]}
["＜２次リーグ組み合わせ・結果＞"]
[]
["会場",null,null,{"$f":"'２次リーグ（別府）'!B4","v":"別府"},null,null,null,null,null,null,null,null,null,null,null,null,null,null,null,null,null,null,null,null,null,null,null,null,"会場",null,null,{"$f":"'２次リーグ（豊肥）'!B4","v":"豊肥"}]
["グループ",null,null,{"$f":"'２次リーグ（別府）'!B6","v":"2次リーグ　Aパート"},null,null,null,null,null,{"$f":"'２次リーグ（別府）'!N6","v":"2次リーグ　Cパート"},null,null,null,null,null,null,null,null,null,null,null,null,null,null,null,null,null,null,"グループ",null,null,{"$f":"'２次リーグ（豊肥）'!B6","v":"2次リーグ　Bパート"},null,null,null,null,null,{"$f":"'２次リーグ（豊肥）'!N6","v":"2次リーグ　Dパート"}]
["MCM",null,null,"08:50:00",null,null,null,null,null,"09:50:00",null,null,null,null,null,null,null,null,null,null,null,null,null,null,null,null,null,null,"MCM",null,null,"08:50:00",null,null,null,null,null,"09:50:00"]
["チーム",null,null,{"$f":"'２次リーグ（別府）'!C7","v":"ＦＣ　ＵＮＩＴＥ"},null,null,null,null,null,{"$f":"'２次リーグ（別府）'!O7","v":"ブルーウイングフットボールクラブ"},null,null,null,null,null,null,null,null,null,null,null,null,null,null,null,null,null,null,"チーム",null,null,{"$f":"'２次リーグ（豊肥）'!C7","v":"武蔵オークスサッカークラブ"},null,null,null,null,null,{"$f":"'２次リーグ（豊肥）'!O7","v":"明治北ＳＳＣ"}]
[null,null,null,{"$f":"'２次リーグ（別府）'!C8","v":"スマイス　セレソン　スポーツクラブ"},null,null,null,null,null,{"$f":"'２次リーグ（別府）'!O8","v":"カティオーラフットボールクラブ　大在"},null,null,null,null,null,null,null,null,null,null,null,null,null,null,null,null,null,null,null,null,null,{"$f":"'２次リーグ（豊肥）'!C8","v":"ＦＣアリアーレ"},null,null,null,null,null,{"$f":"'２次リーグ（豊肥）'!O8","v":"ＭＳＳ"}]
[null,null,null,{"$f":"'２次リーグ（別府）'!C9","v":"スマイス・セレソン"},null,null,null,null,null,{"$f":"'２次リーグ（別府）'!O9","v":"別府フットボールクラブ．ミネルバＵ－１２"},null,null,null,null,null,null,null,null,null,null,null,null,null,null,null,null,null,null,null,null,null,{"$f":"'２次リーグ（豊肥）'!C9","v":"桃園サッカースポーツ少年団"},null,null,null,null,null,{"$f":"'２次リーグ（豊肥）'!O9","v":"太陽スポーツクラブ大分西"}]
[]
[]
["【組合せ・時間割】",null,null,null,null,null,null,null,null,null,null,null,null,null,null,null,null,null,null,null,null,null,null,null,null,null,null,null,"【組合せ・時間割】"]
["試合時間",null,null,null,null,null,null,null,"対戦相手",null,null,null,"副審",null,null,null,null,null,null,null,null,null,null,null,null,null,null,null,"試合時間",null,null,null,null,null,null,null,"対戦相手",null,null,null,"副審"]
["①","10:00:00",null,"チーム名",null,{"$f":"D6","v":"ＦＣ　ＵＮＩＴＥ"},null,null,"-",{"$f":"D7","v":"スマイス　セレソン　スポーツクラブ"},null,null,{"$f":"J6","v":"ブルーウイングフットボールクラブ"},null,null,null,null,null,null,null,null,null,null,null,null,null,null,null,"①","10:00:00",null,"チーム名",null,{"$f":"AF6","v":"武蔵オークスサッカークラブ"},null,null,"-",{"$f":"AF7","v":"ＦＣアリアーレ"},null,null,{"$f":"AL6","v":"明治北ＳＳＣ"}]
[null,null,null,"得失点",null,1,null,null,"-",1,null,null,{"$f":"J7","v":"カティオーラフットボールクラブ　大在"},null,null,null,null,null,null,null,null,null,null,null,null,null,null,null,null,null,null,"得失点",null,0,null,null,"-",8,null,null,{"$f":"AL7","v":"ＭＳＳ"}]
["②","11:00:00",null,"チーム名",null,{"$f":"J6","v":"ブルーウイングフットボールクラブ"},null,null,"-",{"$f":"J7","v":"カティオーラフットボールクラブ　大在"},null,null,{"$f":"D6","v":"ＦＣ　ＵＮＩＴＥ"},null,null,null,null,null,null,null,null,null,null,null,null,null,null,null,"②","11:00:00",null,"チーム名",null,{"$f":"AL6","v":"明治北ＳＳＣ"},null,null,"-",{"$f":"AL7","v":"ＭＳＳ"},null,null,{"$f":"AF6","v":"武蔵オークスサッカークラブ"}]
[null,null,null,"得失点",null,5,null,null,"-",1,null,null,{"$f":"D7","v":"スマイス　セレソン　スポーツクラブ"},null,null,null,null,null,null,null,null,null,null,null,null,null,null,null,null,null,null,"得失点",null,2,null,null,"-",1,null,null,{"$f":"AF7","v":"ＦＣアリアーレ"}]
["③","12:00:00",null,"チーム名",null,{"$f":"D7","v":"スマイス　セレソン　スポーツクラブ"},null,null,"-",{"$f":"D8","v":"スマイス・セレソン"},null,null,{"$f":"J7","v":"カティオーラフットボールクラブ　大在"},null,null,null,null,null,null,null,null,null,null,null,null,null,null,null,"③","12:00:00",null,"チーム名",null,{"$f":"AF7","v":"ＦＣアリアーレ"},null,null,"-",{"$f":"AF8","v":"桃園サッカースポーツ少年団"},null,null,{"$f":"AL7","v":"ＭＳＳ"}]
[null,null,null,"得失点",null,0,null,null,"-",3,null,null,{"$f":"J8","v":"別府フットボールクラブ．ミネルバＵ－１２"},null,null,null,null,null,null,null,null,null,null,null,null,null,null,null,null,null,null,"得失点",null,3,null,null,"-",1,null,null,{"$f":"AL8","v":"太陽スポーツクラブ大分西"}]
["④","13:00:00",null,"チーム名",null,{"$f":"J7","v":"カティオーラフットボールクラブ　大在"},null,null,"-",{"$f":"J8","v":"別府フットボールクラブ．ミネルバＵ－１２"},null,null,{"$f":"D7","v":"スマイス　セレソン　スポーツクラブ"},null,null,null,null,null,null,null,null,null,null,null,null,null,null,null,"④","13:00:00",null,"チーム名",null,{"$f":"AL7","v":"ＭＳＳ"},null,null,"-",{"$f":"AL8","v":"太陽スポーツクラブ大分西"},null,null,{"$f":"AF7","v":"ＦＣアリアーレ"}]
[null,null,null,"得失点",null,0,null,null,"-",4,null,null,{"$f":"D8","v":"スマイス・セレソン"},null,null,null,null,null,null,null,null,null,null,null,null,null,null,null,null,null,null,"得失点",null,0,null,null,"-",3,null,null,{"$f":"AF8","v":"桃園サッカースポーツ少年団"}]
["⑤","14:00:00",null,"チーム名",null,{"$f":"D8","v":"スマイス・セレソン"},null,null,"-",{"$f":"D6","v":"ＦＣ　ＵＮＩＴＥ"},null,null,{"$f":"J8","v":"別府フットボールクラブ．ミネルバＵ－１２"},null,null,null,null,null,null,null,null,null,null,null,null,null,null,null,"⑤","14:00:00",null,"チーム名",null,{"$f":"AF8","v":"桃園サッカースポーツ少年団"},null,null,"-",{"$f":"AF6","v":"武蔵オークスサッカークラブ"},null,null,{"$f":"AL8","v":"太陽スポーツクラブ大分西"}]
[null,null,null,"得失点",null,1,null,null,"-",1,null,null,{"$f":"J6","v":"ブルーウイングフットボールクラブ"},null,null,null,null,null,null,null,null,null,null,null,null,null,null,null,null,null,null,"得失点",null,4,null,null,"-",1,null,null,{"$f":"AL6","v":"明治北ＳＳＣ"}]
["⑥","15:00:00",null,"チーム名",null,{"$f":"J8","v":"別府フットボールクラブ．ミネルバＵ－１２"},null,null,"-",{"$f":"J6","v":"ブルーウイングフットボールクラブ"},null,null,{"$f":"D8","v":"スマイス・セレソン"},null,null,null,null,null,null,null,null,null,null,null,null,null,null,null,"⑥","15:00:00",null,"チーム名",null,{"$f":"AL8","v":"太陽スポーツクラブ大分西"},null,null,"-",{"$f":"AL6","v":"明治北ＳＳＣ"},null,null,{"$f":"AF8","v":"桃園サッカースポーツ少年団"}]
[null,null,null,"得失点",null,1,null,null,"-",1,null,null,{"$f":"D6","v":"ＦＣ　ＵＮＩＴＥ"},null,null,null,null,null,null,null,null,null,null,null,null,null,null,null,null,null,null,"得失点",null,1,null,null,"-",1,null,null,{"$f":"AF6","v":"武蔵オークスサッカークラブ"}]
[]
[]
[]
[]
[]
[]
[]
[]
[]
[]
[]
[]
[]
[]
[]
[]
[]
[]
[null,null,null,null,null,"勝点表","勝",3,null,"引分",1,null,"負",0,null,null,null,null,null,null,null,null,null,null,null,null,null,null,null,null,null,null,null,"勝点表","勝",3,null,"引分",1,null,"負",0]
[]
[{"$f":"D4","v":"2次リーグ　Aパート"},null,null,{"$f":"A46","v":"ＦＣ　ＵＮＩＴＥ"},null,null,{"$f":"A48","v":"スマイス　セレソン　スポーツクラブ"},null,null,{"$f":"A50","v":"スマイス・セレソン"},null,null,"勝","引\n分","敗","得\n点","失\n点","勝\n点","勝点\n順位",null,"得失\n点差",null,"得失\n順位",null,"ﾄｰﾀﾙ\n順位",null,null,null,{"$f":"AF4","v":"2次リーグ　Bパート"},null,null,{"$f":"AC46","v":"武蔵オークスサッカークラブ"},null,null,{"$f":"AC48","v":"ＦＣアリアーレ"},null,null,{"$f":"AC50","v":"桃園サッカースポーツ少年団"},null,null,"勝","引\n分","敗","得\n点","失\n点","勝\n点","勝点\n順位",null,"得失\n点差",null,"得失\n順位",null,"ﾄｰﾀﾙ\n順位"]
[{"$f":"D6","v":"ＦＣ　ＵＮＩＴＥ"},"星取表",null,null,null,null,null,{"$f":"IF(G47=\"\",\"\",IF(G47>I47,\"○\",IF(G47<I47,\"●\",IF(G47=I47,\"△\"))))","v":"△"},null,null,{"$f":"IF(J47=\"\",\"\",IF(J47>L47,\"○\",IF(J47<L47,\"●\",IF(J47=L47,\"△\"))))","v":"△"},null,{"$f":"COUNTIF(D46:L46,\"○\")","v":0},{"$f":"COUNTIF(D46:L46,\"△\")+COUNTIF(D46:L46,\"▲\")","v":2},{"$f":"COUNTIF(D46:L46,\"●\")","v":0},{"$f":"SUM(D47,G47,J47)","v":2},{"$f":"SUM(F47,I47,L47)","v":2},{"$f":"(M46*3)+(N46*1)","v":2},{"$f":"RANK(R46,R$46:R$51)","v":2},"位",{"$f":"P46-Q46","v":0},null,{"$f":"RANK(U46,U$46:U$51)","v":2},"位",2,null,null,null,{"$f":"AF6","v":"武蔵オークスサッカークラブ"},"星取表",null,null,null,null,null,{"$f":"IF(AI47=\"\",\"\",IF(AI47>AK47,\"○\",IF(AI47<AK47,\"●\",IF(AI47=AK47,\"△\"))))","v":"●"},null,null,{"$f":"IF(AL47=\"\",\"\",IF(AL47>AN47,\"○\",IF(AL47<AN47,\"●\",IF(AL47=AN47,\"△\"))))","v":"●"},null,{"$f":"COUNTIF(AF46:AN46,\"○\")","v":0},{"$f":"COUNTIF(AF46:AN46,\"△\")+COUNTIF(AF46:AN46,\"▲\")","v":0},{"$f":"COUNTIF(AF46:AN46,\"●\")","v":2},{"$f":"SUM(AF47,AI47,AL47)","v":1},{"$f":"SUM(AH47,AK47,AN47)","v":12},{"$f":"(AO46*3)+(AP46*1)","v":0},{"$f":"RANK(AT46,$AT$46:$AT$51)","v":3},"位",{"$f":"AR46-AS46","v":-11},null,{"$f":"RANK(AW46,$AW$46:$AX$51)","v":3},"位",3]
[null,"得失点",null,null,null,null,{"$f":"F14","v":1},"-",{"$f":"J14","v":1},{"$f":"J22","v":1},"-",{"$f":"F22","v":1},null,null,null,null,null,null,null,null,null,null,null,null,null,null,null,null,null,"得失点",null,null,null,null,{"$f":"AH14","v":0},"-",{"$f":"AL14","v":8},{"$f":"AL22","v":1},"-",{"$f":"AH22","v":4}]
[{"$f":"D7","v":"スマイス　セレソン　スポーツクラブ"},"星取表",null,null,{"$f":"IF(D49=\"\",\"\",IF(D49>F49,\"○\",IF(D49<F49,\"●\",IF(D49=F49,\"△\"))))","v":"△"},null,null,null,null,null,{"$f":"IF(J49=\"\",\"\",IF(J49>L49,\"○\",IF(J49<L49,\"●\",IF(J49=L49,\"△\"))))","v":"●"},null,{"$f":"COUNTIF(D48:L48,\"○\")","v":0},{"$f":"COUNTIF(D48:L48,\"△\")+COUNTIF(D48:L48,\"▲\")","v":1},{"$f":"COUNTIF(D48:L48,\"●\")","v":1},{"$f":"SUM(D49,G49,J49)","v":1},{"$f":"SUM(F49,I49,L49)","v":4},{"$f":"(M48*3)+(N48*1)","v":1},{"$f":"RANK(R48,R$46:R$51)","v":3},"位",{"$f":"P48-Q48","v":-3},null,{"$f":"RANK(U48,U$46:U$51)","v":3},"位",3,null,null,null,{"$f":"AF7","v":"ＦＣアリアーレ"},"星取表",null,null,{"$f":"IF(AF49=\"\",\"\",IF(AF49>AH49,\"○\",IF(AF49<AH49,\"●\",IF(AF49=AH49,\"△\"))))","v":"○"},null,null,null,null,null,{"$f":"IF(AL49=\"\",\"\",IF(AL49>AN49,\"○\",IF(AL49<AN49,\"●\",IF(AL49=AN49,\"△\"))))","v":"○"},null,{"$f":"COUNTIF(AF48:AN48,\"○\")","v":2},{"$f":"COUNTIF(AF48:AN48,\"△\")+COUNTIF(AF48:AN48,\"▲\")","v":0},{"$f":"COUNTIF(AF48:AN48,\"●\")","v":0},{"$f":"SUM(AF49,AI49,AL49)","v":11},{"$f":"SUM(AH49,AK49,AN49)","v":1},{"$f":"(AO48*3)+(AP48*1)","v":6},{"$f":"RANK(AT48,$AT$46:$AT$51)","v":1},"位",{"$f":"AR48-AS48","v":10},null,{"$f":"RANK(AW48,$AW$46:$AX$51)","v":1},"位",1]
[null,"得失点",null,{"$f":"I47","v":1},"-",{"$f":"G47","v":1},null,null,null,{"$f":"F18","v":0},"-",{"$f":"J18","v":3},null,null,null,null,null,null,null,null,null,null,null,null,null,null,null,null,null,"得失点",null,{"$f":"AK47","v":8},"-",{"$f":"AI47","v":0},null,null,null,{"$f":"AH18","v":3},"-",{"$f":"AL18","v":1}]
[{"$f":"D8","v":"スマイス・セレソン"},"星取表",null,null,{"$f":"IF(D51=\"\",\"\",IF(D51>F51,\"○\",IF(D51<F51,\"●\",IF(D51=F51,\"△\"))))","v":"△"},null,null,{"$f":"IF(G51=\"\",\"\",IF(G51>I51,\"○\",IF(G51<I51,\"●\",IF(G51=I51,\"△\"))))","v":"○"},null,null,null,null,{"$f":"COUNTIF(D50:L50,\"○\")","v":1},{"$f":"COUNTIF(D50:L50,\"△\")+COUNTIF(D50:L50,\"▲\")","v":1},{"$f":"COUNTIF(D50:L50,\"●\")","v":0},{"$f":"SUM(D51,G51,J51)","v":4},{"$f":"SUM(F51,I51,L51)","v":1},{"$f":"(M50*3)+(N50*1)","v":4},{"$f":"RANK(R50,R$46:R$51)","v":1},"位",{"$f":"P50-Q50","v":3},null,{"$f":"RANK(U50,U$46:U$51)","v":1},"位",1,null,null,null,{"$f":"AF8","v":"桃園サッカースポーツ少年団"},"星取表",null,null,{"$f":"IF(AF51=\"\",\"\",IF(AF51>AH51,\"○\",IF(AF51<AH51,\"●\",IF(AF51=AH51,\"△\"))))","v":"○"},null,null,{"$f":"IF(AI51=\"\",\"\",IF(AI51>AK51,\"○\",IF(AI51<AK51,\"●\",IF(AI51=AK51,\"△\"))))","v":"●"},null,null,null,null,{"$f":"COUNTIF(AF50:AN50,\"○\")","v":1},{"$f":"COUNTIF(AF50:AN50,\"△\")+COUNTIF(AF50:AN50,\"▲\")","v":0},{"$f":"COUNTIF(AF50:AN50,\"●\")","v":1},{"$f":"SUM(AF51,AI51,AL51)","v":5},{"$f":"SUM(AH51,AK51,AN51)","v":4},{"$f":"(AO50*3)+(AP50*1)","v":3},{"$f":"RANK(AT50,$AT$46:$AT$51)","v":2},"位",{"$f":"AR50-AS50","v":1},null,{"$f":"RANK(AW50,$AW$46:$AX$51)","v":2},"位",2]
[null,"得失点",null,{"$f":"L47","v":1},"-",{"$f":"J47","v":1},{"$f":"L49","v":3},"-",{"$f":"J49","v":0},null,null,null,null,null,null,null,null,null,null,null,null,null,null,null,null,null,null,null,null,"得失点",null,{"$f":"AN47","v":4},"-",{"$f":"AL47","v":1},{"$f":"AN49","v":1},"-",{"$f":"AL49","v":3}]
[]
[{"$f":"J4","v":"2次リーグ　Cパート"},null,null,{"$f":"A54","v":"ブルーウイングフットボールクラブ"},null,null,{"$f":"A56","v":"カティオーラフットボールクラブ　大在"},null,null,{"$f":"A58","v":"別府フットボールクラブ．ミネルバＵ－１２"},null,null,"勝","引\n分","敗","得\n点","失\n点","勝\n点","勝点\n順位",null,"得失\n点差",null,"得失\n順位",null,"ﾄｰﾀﾙ\n順位",null,null,null,{"$f":"AL4","v":"2次リーグ　Dパート"},null,null,{"$f":"AC54","v":"明治北ＳＳＣ"},null,null,{"$f":"AC56","v":"ＭＳＳ"},null,null,{"$f":"AC58","v":"太陽スポーツクラブ大分西"},null,null,"勝","引\n分","敗","得\n点","失\n点","勝\n点","勝点\n順位",null,"得失\n点差",null,"得失\n順位",null,"ﾄｰﾀﾙ\n順位"]
[{"$f":"J6","v":"ブルーウイングフットボールクラブ"},"星取表",null,null,null,null,null,{"$f":"IF(G55=\"\",\"\",IF(G55>I55,\"○\",IF(G55<I55,\"●\",IF(G55=I55,\"△\"))))","v":"○"},null,null,{"$f":"IF(J55=\"\",\"\",IF(J55>L55,\"○\",IF(J55<L55,\"●\",IF(J55=L55,\"△\"))))","v":"△"},null,{"$f":"COUNTIF(D54:L54,\"○\")","v":1},{"$f":"COUNTIF(D54:L54,\"△\")+COUNTIF(D54:L54,\"▲\")","v":1},{"$f":"COUNTIF(D54:L54,\"●\")","v":0},{"$f":"SUM(D55,G55,J55)","v":6},{"$f":"SUM(F55,I55,L55)","v":2},{"$f":"(M54*3)+(N54*1)","v":4},{"$f":"RANK(R54,$R$54:$R$59)","v":1},"位",{"$f":"P54-Q54","v":4},null,{"$f":"RANK(U54,$U$54:$V$59)","v":1},"位",1,null,null,null,{"$f":"AL6","v":"明治北ＳＳＣ"},"星取表",null,null,null,null,null,{"$f":"IF(AI55=\"\",\"\",IF(AI55>AK55,\"○\",IF(AI55<AK55,\"●\",IF(AI55=AK55,\"△\"))))","v":"○"},null,null,{"$f":"IF(AL55=\"\",\"\",IF(AL55>AN55,\"○\",IF(AL55<AN55,\"●\",IF(AL55=AN55,\"△\"))))","v":"△"},null,{"$f":"COUNTIF(AF54:AN54,\"○\")","v":1},{"$f":"COUNTIF(AF54:AN54,\"△\")+COUNTIF(AF54:AN54,\"▲\")","v":1},{"$f":"COUNTIF(AF54:AN54,\"●\")","v":0},{"$f":"SUM(AF55,AI55,AL55)","v":3},{"$f":"SUM(AH55,AK55,AN55)","v":2},{"$f":"(AO54*3)+(AP54*1)","v":4},{"$f":"RANK(AT54,$AT$54:$AT$59)","v":1},"位",{"$f":"AR54-AS54","v":1},null,{"$f":"RANK(AW54,$AW$54:$AX$59)","v":2},"位",2]
[null,"得失点",null,null,null,null,{"$f":"F16","v":5},"-",{"$f":"J16","v":1},{"$f":"J24","v":1},"-",{"$f":"F24","v":1},null,null,null,null,null,null,null,null,null,null,null,null,null,null,null,null,null,"得失点",null,null,null,null,{"$f":"AH16","v":2},"-",{"$f":"AL16","v":1},{"$f":"AL24","v":1},"-",{"$f":"AH24","v":1}]
[{"$f":"J7","v":"カティオーラフットボールクラブ　大在"},"星取表",null,null,{"$f":"IF(D57=\"\",\"\",IF(D57>F57,\"○\",IF(D57<F57,\"●\",IF(D57=F57,\"△\"))))","v":"●"},null,null,null,null,null,{"$f":"IF(J57=\"\",\"\",IF(J57>L57,\"○\",IF(J57<L57,\"●\",IF(J57=L57,\"△\"))))","v":"●"},null,{"$f":"COUNTIF(D56:L56,\"○\")","v":0},{"$f":"COUNTIF(D56:L56,\"△\")+COUNTIF(D56:L56,\"▲\")","v":0},{"$f":"COUNTIF(D56:L56,\"●\")","v":2},{"$f":"SUM(D57,G57,J57)","v":1},{"$f":"SUM(F57,I57,L57)","v":9},{"$f":"(M56*3)+(N56*1)","v":0},{"$f":"RANK(R56,$R$54:$R$59)","v":3},"位",{"$f":"P56-Q56","v":-8},null,{"$f":"RANK(U56,$U$54:$V$59)","v":3},"位",3,null,null,null,{"$f":"AL7","v":"ＭＳＳ"},"星取表",null,null,{"$f":"IF(AF57=\"\",\"\",IF(AF57>AH57,\"○\",IF(AF57<AH57,\"●\",IF(AF57=AH57,\"△\"))))","v":"●"},null,null,null,null,null,{"$f":"IF(AL57=\"\",\"\",IF(AL57>AN57,\"○\",IF(AL57<AN57,\"●\",IF(AL57=AN57,\"△\"))))","v":"●"},null,{"$f":"COUNTIF(AF56:AN56,\"○\")","v":0},{"$f":"COUNTIF(AF56:AN56,\"△\")+COUNTIF(AF56:AN56,\"▲\")","v":0},{"$f":"COUNTIF(AF56:AN56,\"●\")","v":2},{"$f":"SUM(AF57,AI57,AL57)","v":1},{"$f":"SUM(AH57,AK57,AN57)","v":5},{"$f":"(AO56*3)+(AP56*1)","v":0},{"$f":"RANK(AT56,$AT$54:$AT$59)","v":3},"位",{"$f":"AR56-AS56","v":-4},null,{"$f":"RANK(AW56,$AW$54:$AX$59)","v":3},"位",3]
[null,"得失点",null,{"$f":"I55","v":1},"-",{"$f":"G55","v":5},null,null,null,{"$f":"F20","v":0},"-",{"$f":"J20","v":4},null,null,null,null,null,null,null,null,null,null,null,null,null,null,null,null,null,"得失点",null,{"$f":"AK55","v":1},"-",{"$f":"AI55","v":2},null,null,null,{"$f":"AH20","v":0},"-",{"$f":"AL20","v":3}]
[{"$f":"J8","v":"別府フットボールクラブ．ミネルバＵ－１２"},"星取表",null,null,{"$f":"IF(D59=\"\",\"\",IF(D59>F59,\"○\",IF(D59<F59,\"●\",IF(D59=F59,\"△\"))))","v":"△"},null,null,{"$f":"IF(G59=\"\",\"\",IF(G59>I59,\"○\",IF(G59<I59,\"●\",IF(G59=I59,\"△\"))))","v":"○"},null,null,null,null,{"$f":"COUNTIF(D58:L58,\"○\")","v":1},{"$f":"COUNTIF(D58:L58,\"△\")+COUNTIF(D58:L58,\"▲\")","v":1},{"$f":"COUNTIF(D58:L58,\"●\")","v":0},{"$f":"SUM(D59,G59,J59)","v":5},{"$f":"SUM(F59,I59,L59)","v":1},{"$f":"(M58*3)+(N58*1)","v":4},{"$f":"RANK(R58,$R$54:$R$59)","v":1},"位",{"$f":"P58-Q58","v":4},null,{"$f":"RANK(U58,$U$54:$V$59)","v":1},"位",2,null,null,null,{"$f":"AL8","v":"太陽スポーツクラブ大分西"},"星取表",null,null,{"$f":"IF(AF59=\"\",\"\",IF(AF59>AH59,\"○\",IF(AF59<AH59,\"●\",IF(AF59=AH59,\"△\"))))","v":"△"},null,null,{"$f":"IF(AI59=\"\",\"\",IF(AI59>AK59,\"○\",IF(AI59<AK59,\"●\",IF(AI59=AK59,\"△\"))))","v":"○"},null,null,null,null,{"$f":"COUNTIF(AF58:AN58,\"○\")","v":1},{"$f":"COUNTIF(AF58:AN58,\"△\")+COUNTIF(AF58:AN58,\"▲\")","v":1},{"$f":"COUNTIF(AF58:AN58,\"●\")","v":0},{"$f":"SUM(AF59,AI59,AL59)","v":4},{"$f":"SUM(AH59,AK59,AN59)","v":1},{"$f":"(AO58*3)+(AP58*1)","v":4},{"$f":"RANK(AT58,$AT$54:$AT$59)","v":1},"位",{"$f":"AR58-AS58","v":3},null,{"$f":"RANK(AW58,$AW$54:$AX$59)","v":1},"位",1]
[null,"得失点",null,{"$f":"L55","v":1},"-",{"$f":"J55","v":1},{"$f":"L57","v":4},"-",{"$f":"J57","v":0},null,null,null,null,null,null,null,null,null,null,null,null,null,null,null,null,null,null,null,null,"得失点",null,{"$f":"AN55","v":1},"-",{"$f":"AL55","v":1},{"$f":"AN57","v":3},"-",{"$f":"AL57","v":0}]

{"sheet":"１次リーグ組み合わせ・結果","index":10,"n_rows":75,"n_cols":81,"rows_kept":75,"cut":false,"hidden":false,"merged":[[4,59,4,64],[3,31,3,36],[3,37,3,42],[3,43,3,48],[3,49,3,54],[10,56,10,58],[4,56,4,58],[20,29,21,30],[20,28,21,28],[16,29,17,30],[16,28,17,28],[12,29,13,30],[12,28,13,28],[10,28,10,30],[4,28,4,30],[18,57,19,58],[18,56,19,56],[14,57,15,58],[14,56,15,56],[20,56,21,56],[20,57,21,58],[16,56,17,56],[16,57,17,58],[11,56,11,58],[13,31,13,32],[13,33,13,35],[13,37,13,39],[13,40,13,42],[13,43,13,44],[13,45,13,47],[13,49,13,51],[12,40,12,42],[48,57,48,58],[45,57,45,58],[45,56,46,56],[46,57,46,58],[47,56,48,56],[47,57,47,58],[50,57,50,58],[49,57,49,58],[49,56,50,56],[56,57,56,58],[55,57,55,58],[55,56,56,56],[54,57,54,58],[52,56,52,58],[66,57,66,58],[65,57,65,58],[65,56,66,56],[64,57,64,58],[62,57,62,58],[61,57,61,58],[61,56,62,56],[60,56,60,58],[53,56,54,56],[53,57,53,58],[63,56,64,56],[63,57,63,58],[71,57,71,58],[71,56,72,56],[70,57,70,58],[69,57,69,58],[69,56,70,56],[57,57,57,58],[57,56,58,56],[72,57,72,58],[58,57,58,58],[68,56,68,58],[73,78,74,78],[73,79,74,79],[73,80,74,81],[74,57,74,58],[2,3,2,14],[2,15,2,26],[2,31,2,42],[2,43,2,54],[2,59,2,70],[2,71,2,82],[73,71,74,71],[73,72,74,72],[73,73,74,73],[73,74,74,74],[73,75,74,75],[73,76,74,77],[73,56,74,56],[73,57,73,58],[73,68,74,68],[73,69,74,69],[73,70,74,70],[71,74,72,74],[71,68,72,68],[71,69,72,69],[71,70,72,70],[71,71,72,71],[71,78,72,78],[71,79,72,79],[71,80,72,81],[69,80,70,81],[69,78,70,78],[69,79,70,79],[71,72,72,72],[71,73,72,73],[69,73,70,73],[69,74,70,74],[69,75,70,75],[69,76,70,77],[71,75,72,75],[71,76,72,77],[68,80,68,81],[69,68,70,68],[69,69,70,69],[69,70,70,70],[69,71,70,71],[69,72,70,72],[68,74,68,75],[57,74,58,74],[57,75,58,75],[57,73,58,73],[68,76,68,77],[68,78,68,79],[57,68,58,68],[57,69,58,69],[57,70,58,70],[57,71,58,71],[57,72,58,72],[61,79,62,79],[61,80,62,81],[68,59,68,61],[68,62,68,64],[68,65,68,67],[55,79,56,79],[57,76,58,77],[57,78,58,78],[57,79,58,79],[65,73,66,73],[65,74,66,74],[65,75,66,75],[57,80,58,81],[55,80,56,81],[53,74,54,74],[55,73,56,73],[55,74,56,74],[55,75,56,75],[55,76,56,77],[55,78,56,78],[53,75,54,75],[53,76,54,77],[53,79,54,79],[53,80,54,81],[55,68,56,68],[55,69,56,69],[55,70,56,70],[55,71,56,71],[55,72,56,72],[53,72,54,72],[53,73,54,73],[53,78,54,78],[53,68,54,68],[53,69,54,69],[53,70,54,70],[53,71,54,71],[52,62,52,64],[52,65,52,67],[52,74,52,75],[52,76,52,77],[52,78,52,79],[52,80,52,81],[65,76,66,77],[65,78,66,78],[65,79,66,79],[63,79,64,79],[63,80,64,81],[65,80,66,81],[65,68,66,68],[65,69,66,69],[65,70,66,70],[65,71,66,71],[65,72,66,72],[63,72,64,72],[63,71,64,71],[63,73,64,73],[63,74,64,74],[63,75,64,75],[63,76,64,77],[63,78,64,78],[63,68,64,68],[63,69,64,69],[63,70,64,70],[61,75,62,75],[61,76,62,77],[61,78,62,78],[4,65,4,70],[4,71,4,76],[4,77,4,82],[60,80,60,81],[61,68,62,68],[61,69,62,69],[61,70,62,70],[61,71,62,71],[61,72,62,72],[61,73,62,73],[61,74,62,74],[49,80,50,81],[60,59,60,61],[60,62,60,64],[60,65,60,67],[60,74,60,75],[60,76,60,77],[60,78,60,79],[49,72,50,72],[49,73,50,73],[52,59,52,61],[49,74,50,74],[49,75,50,75],[49,76,50,77],[49,78,50,78],[47,78,48,78],[47,79,48,79],[47,76,48,77],[49,79,50,79],[47,80,48,81],[49,68,50,68],[49,69,50,69],[49,70,50,70],[49,71,50,71],[47,71,48,71],[47,72,48,72],[47,73,48,73],[47,74,48,74],[47,75,48,75],[47,68,48,68],[47,69,48,69],[47,70,48,70],[45,74,46,74],[45,75,46,75],[45,76,46,77],[45,73,46,73],[45,78,46,78],[45,79,46,79],[45,80,46,81],[44,78,44,79],[44,80,44,81],[45,68,46,68],[45,69,46,69],[45,70,46,70],[45,71,46,71],[45,72,46,72],[23,77,23,79],[23,80,23,82],[44,56,44,58],[44,59,44,61],[44,62,44,64],[44,65,44,67],[44,74,44,75],[44,76,44,77],[22,57,23,58],[22,56,23,56],[23,59,23,60],[23,61,23,63],[23,65,23,67],[23,68,23,70],[23,71,23,72],[23,73,23,75],[21,77,21,79],[21,80,21,82],[22,59,22,60],[22,61,22,63],[22,65,22,67],[22,68,22,70],[22,71,22,72],[22,73,22,75],[22,77,22,79],[22,80,22,82],[20,71,20,72],[20,73,20,75],[20,77,20,79],[20,80,20,82],[21,59,21,60],[21,61,21,63],[21,65,21,67],[21,68,21,70],[21,71,21,72],[21,73,21,75],[20,59,20,60],[20,61,20,63],[20,65,20,67],[20,68,20,70],[18,77,18,79],[18,80,18,82],[19,59,19,60],[19,61,19,63],[19,65,19,67],[19,68,19,70],[19,71,19,72],[19,73,19,75],[19,77,19,79],[19,80,19,82],[17,77,17,79],[17,80,17,82],[18,59,18,60],[18,61,18,63],[18,65,18,67],[18,68,18,70],[18,71,18,72],[18,73,18,75],[16,71,16,72],[16,73,16,75],[16,77,16,79],[16,80,16,82],[17,59,17,60],[17,61,17,63],[17,65,17,67],[17,68,17,70],[17,71,17,72],[17,73,17,75],[16,59,16,60],[16,61,16,63],[16,65,16,67],[16,68,16,70],[14,80,14,82],[15,59,15,60],[15,61,15,63],[15,65,15,67],[15,68,15,70],[15,71,15,72],[15,73,15,75],[15,77,15,79],[15,80,15,82],[14,59,14,60],[14,61,14,63],[14,65,14,67],[14,68,14,70],[14,71,14,72],[14,73,14,75],[14,77,14,79],[12,73,12,75],[12,77,12,79],[12,80,12,82],[13,59,13,60],[13,61,13,63],[13,65,13,67],[13,68,13,70],[13,71,13,72],[13,73,13,75],[13,77,13,79],[11,68,11,70],[11,80,11,82],[12,56,13,56],[12,57,13,58],[12,59,12,60],[12,61,12,63],[12,65,12,67],[12,68,12,70],[12,71,12,72],[7,65,7,70],[7,71,7,76],[7,77,7,82],[5,56,7,58],[5,59,5,64],[5,65,5,70],[5,71,5,76],[5,77,5,82],[6,59,6,64],[13,80,13,82],[0,56,0,82],[2,56,2,58],[3,56,3,58],[3,59,3,64],[3,65,3,70],[3,71,3,76],[3,15,3,20],[3,21,3,26],[6,65,6,70],[6,71,6,76],[6,77,6,82],[7,59,7,64],[3,28,3,30],[4,31,4,36],[4,37,4,42],[4,43,4,48],[5,21,5,26],[5,28,7,30],[3,77,3,82],[0,0,0,26],[0,28,0,54],[2,0,2,2],[2,28,2,30],[3,0,3,2],[3,3,3,8],[3,9,3,14],[5,31,5,36],[5,37,5,42],[5,43,5,48],[5,49,5,54],[6,3,6,8],[6,9,6,14],[6,15,6,20],[6,21,6,26],[6,31,6,36],[6,37,6,42],[6,43,6,48],[6,49,6,54],[7,3,7,8],[7,9,7,14],[7,15,7,20],[7,21,7,26],[7,31,7,36],[7,37,7,42],[7,43,7,48],[7,49,7,54],[10,0,10,2],[4,0,4,2],[4,3,4,8],[4,9,4,14],[4,15,4,20],[4,21,4,26],[5,0,7,2],[5,3,5,8],[5,9,5,14],[5,15,5,20],[4,49,4,54],[11,0,11,2],[11,12,11,14],[11,24,11,26],[11,28,11,30],[11,40,11,42],[11,52,11,54],[12,0,13,0],[12,1,13,2],[12,3,12,4],[12,5,12,7],[12,9,12,11],[12,12,12,14],[13,3,13,4],[13,5,13,7],[13,9,13,11],[13,12,13,14],[12,15,12,16],[12,17,12,19],[12,21,12,23],[12,24,12,26],[12,31,12,32],[12,33,12,35],[12,37,12,39],[12,43,12,44],[12,45,12,47],[12,49,12,51],[12,52,12,54],[13,15,13,16],[13,17,13,19],[13,21,13,23],[13,24,13,26],[13,52,13,54],[14,0,15,0],[14,1,15,2],[14,3,14,4],[14,5,14,7],[14,9,14,11],[14,12,14,14],[15,3,15,4],[15,5,15,7],[15,9,15,11],[15,12,15,14],[14,15,14,16],[14,17,14,19],[14,21,14,23],[14,24,14,26],[14,28,15,28],[14,29,15,30],[15,15,15,16],[15,17,15,19],[14,31,14,32],[14,33,14,35],[15,21,15,23],[15,24,15,26],[15,31,15,32],[15,33,15,35],[14,37,14,39],[14,40,14,42],[14,43,14,44],[14,45,14,47],[14,49,14,51],[14,52,14,54],[15,37,15,39],[15,40,15,42],[15,43,15,44],[15,45,15,47],[15,49,15,51],[15,52,15,54],[16,0,17,0],[16,1,17,2],[16,3,16,4],[16,5,16,7],[16,9,16,11],[16,12,16,14],[17,3,17,4],[17,5,17,7],[17,9,17,11],[17,12,17,14],[16,15,16,16],[16,17,16,19],[16,21,16,23],[16,24,16,26],[16,31,16,32],[16,33,16,35],[16,37,16,39],[16,40,16,42],[16,43,16,44],[16,45,16,47],[16,49,16,51],[16,52,16,54],[17,15,17,16],[17,17,17,19],[17,21,17,23],[17,24,17,26],[17,31,17,32],[17,33,17,35],[17,37,17,39],[17,40,17,42],[17,43,17,44],[17,45,17,47],[17,49,17,51],[17,52,17,54],[18,0,19,0],[18,1,19,2],[18,3,18,4],[18,5,18,7],[18,9,18,11],[18,12,18,14],[19,3,19,4],[19,5,19,7],[19,9,19,11],[19,12,19,14],[18,15,18,16],[18,17,18,19],[18,21,18,23],[18,24,18,26],[18,28,19,28],[18,29,19,30],[19,15,19,16],[19,17,19,19],[18,31,18,32],[18,33,18,35],[19,21,19,23],[19,24,19,26],[19,31,19,32],[19,33,19,35],[18,37,18,39],[18,40,18,42],[18,43,18,44],[18,45,18,47],[18,49,18,51],[18,52,18,54],[19,37,19,39],[19,40,19,42],[19,43,19,44],[19,45,19,47],[19,49,19,51],[19,52,19,54],[20,0,21,0],[20,1,21,2],[20,3,20,4],[20,5,20,7],[20,9,20,11],[20,12,20,14],[21,3,21,4],[21,5,21,7],[21,9,21,11],[21,12,21,14],[20,15,20,16],[20,17,20,19],[20,21,20,23],[20,24,20,26],[20,31,20,32],[20,33,20,35],[20,37,20,39],[20,40,20,42],[20,43,20,44],[20,45,20,47],[20,49,20,51],[20,52,20,54],[21,15,21,16],[21,17,21,19],[21,21,21,23],[21,24,21,26],[21,31,21,32],[21,33,21,35],[21,37,21,39],[21,40,21,42],[21,43,21,44],[21,45,21,47],[21,49,21,51],[21,52,21,54],[22,0,23,0],[22,1,23,2],[22,3,22,4],[22,5,22,7],[22,9,22,11],[22,12,22,14],[23,3,23,4],[23,5,23,7],[23,9,23,11],[23,12,23,14],[22,15,22,16],[22,17,22,19],[22,21,22,23],[22,24,22,26],[22,28,23,28],[22,29,23,30],[23,15,23,16],[23,17,23,19],[22,31,22,32],[22,33,22,35],[23,21,23,23],[23,24,23,26],[23,31,23,32],[23,33,23,35],[22,37,22,39],[22,40,22,42],[22,43,22,44],[22,45,22,47],[22,49,22,51],[22,52,22,54],[23,37,23,39],[23,40,23,42],[23,43,23,44],[23,45,23,47],[23,49,23,51],[23,52,23,54],[44,0,44,2],[44,3,44,5],[44,6,44,8],[44,9,44,11],[44,18,44,19],[44,20,44,21],[44,22,44,23],[44,24,44,25],[44,28,44,30],[44,31,44,33],[44,34,44,36],[44,37,44,39],[44,46,44,47],[44,48,44,49],[44,50,44,51],[44,52,44,53],[45,0,46,0],[45,1,45,2],[45,12,46,12],[45,13,46,13],[45,14,46,14],[45,15,46,15],[45,16,46,16],[45,17,46,17],[45,18,46,18],[45,19,46,19],[45,20,46,21],[45,22,46,22],[45,46,46,46],[45,47,46,47],[45,23,46,23],[45,24,46,25],[45,28,46,28],[45,29,45,30],[45,40,46,40],[45,41,46,41],[45,48,46,49],[45,50,46,50],[45,51,46,51],[45,52,46,53],[46,1,46,2],[46,29,46,30],[45,42,46,42],[45,43,46,43],[45,44,46,44],[45,45,46,45],[47,0,48,0],[47,1,47,2],[47,12,48,12],[47,13,48,13],[47,14,48,14],[47,15,48,15],[47,16,48,16],[47,17,48,17],[47,18,48,18],[47,19,48,19],[47,20,48,21],[47,22,48,22],[47,46,48,46],[47,47,48,47],[47,23,48,23],[47,24,48,25],[47,28,48,28],[47,29,47,30],[47,40,48,40],[47,41,48,41],[47,48,48,49],[47,50,48,50],[47,51,48,51],[47,52,48,53],[48,1,48,2],[48,29,48,30],[47,42,48,42],[47,43,48,43],[47,44,48,44],[47,45,48,45],[49,0,50,0],[49,1,49,2],[49,12,50,12],[49,13,50,13],[49,14,50,14],[49,15,50,15],[49,16,50,16],[49,17,50,17],[49,18,50,18],[49,19,50,19],[49,20,50,21],[49,22,50,22],[49,46,50,46],[49,47,50,47],[49,23,50,23],[49,24,50,25],[49,28,50,28],[49,29,49,30],[49,40,50,40],[49,41,50,41],[49,48,50,49],[49,50,50,50],[49,51,50,51],[49,52,50,53],[50,1,50,2],[50,29,50,30],[49,42,50,42],[49,43,50,43],[49,44,50,44],[49,45,50,45],[60,0,60,2],[60,3,60,5],[60,6,60,8],[60,9,60,11],[60,18,60,19],[60,20,60,21],[60,22,60,23],[60,24,60,25],[60,28,60,30],[60,31,60,33],[60,34,60,36],[60,37,60,39],[60,46,60,47],[60,48,60,49],[60,50,60,51],[60,52,60,53],[52,46,52,47],[52,48,52,49],[52,50,52,51],[52,52,52,53],[53,46,54,46],[53,47,54,47],[63,46,64,46],[63,47,64,47],[63,23,64,23],[63,24,64,25],[63,28,64,28],[63,29,63,30],[63,40,64,40],[63,41,64,41],[63,48,64,49],[63,50,64,50],[61,0,62,0],[61,1,61,2],[61,12,62,12],[61,13,62,13],[61,14,62,14],[61,15,62,15],[61,16,62,16],[61,17,62,17],[61,18,62,18],[61,19,62,19],[61,20,62,21],[61,22,62,22],[61,46,62,46],[61,47,62,47],[61,23,62,23],[61,24,62,25],[61,28,62,28],[61,29,61,30],[61,40,62,40],[61,41,62,41],[64,1,64,2],[64,29,64,30],[65,46,66,46],[65,47,66,47],[65,23,66,23],[65,24,66,25],[65,28,66,28],[65,29,65,30],[65,40,66,40],[65,41,66,41],[65,48,66,49],[65,50,66,50],[65,51,66,51],[65,52,66,53],[61,48,62,49],[61,50,62,50],[61,51,62,51],[61,52,62,53],[62,1,62,2],[62,29,62,30],[61,42,62,42],[61,43,62,43],[61,44,62,44],[61,45,62,45],[63,1,63,2],[63,12,64,12],[63,13,64,13],[63,14,64,14],[63,15,64,15],[63,16,64,16],[63,17,64,17],[63,18,64,18],[63,19,64,19],[63,20,64,21],[63,42,64,42],[63,43,64,43],[63,44,64,44],[63,45,64,45],[65,0,66,0],[65,1,65,2],[65,12,66,12],[65,13,66,13],[65,14,66,14],[65,15,66,15],[65,16,66,16],[65,17,66,17],[65,18,66,18],[65,19,66,19],[65,20,66,21],[65,22,66,22],[63,0,64,0],[63,22,64,22],[52,0,52,2],[52,3,52,5],[52,6,52,8],[52,9,52,11],[52,18,52,19],[52,20,52,21],[52,22,52,23],[52,24,52,25],[52,28,52,30],[52,31,52,33],[52,34,52,36],[52,37,52,39],[53,0,54,0],[53,1,53,2],[53,12,54,12],[53,13,54,13],[53,14,54,14],[53,15,54,15],[53,16,54,16],[53,17,54,17],[53,18,54,18],[53,19,54,19],[53,20,54,21],[53,22,54,22],[53,23,54,23],[53,24,54,25],[53,28,54,28],[53,29,53,30],[53,40,54,40],[53,41,54,41],[53,48,54,49],[53,50,54,50],[53,51,54,51],[53,52,54,53],[54,1,54,2],[54,29,54,30],[53,42,54,42],[53,43,54,43],[53,44,54,44],[53,45,54,45],[55,0,56,0],[55,1,55,2],[55,12,56,12],[55,13,56,13],[55,14,56,14],[55,15,56,15],[55,16,56,16],[55,17,56,17],[55,18,56,18],[55,19,56,19],[55,20,56,21],[55,22,56,22],[55,46,56,46],[55,47,56,47],[55,23,56,23],[55,24,56,25],[55,28,56,28],[55,29,55,30],[55,40,56,40],[55,41,56,41],[55,48,56,49],[55,50,56,50],[55,51,56,51],[55,52,56,53],[56,1,56,2],[56,29,56,30],[55,42,56,42],[55,43,56,43],[55,44,56,44],[55,45,56,45],[57,0,58,0],[57,1,57,2],[57,12,58,12],[57,13,58,13],[57,14,58,14],[57,15,58,15],[57,16,58,16],[57,17,58,17],[57,18,58,18],[57,19,58,19],[57,20,58,21],[57,22,58,22],[57,46,58,46],[57,47,58,47],[57,23,58,23],[57,24,58,25],[57,28,58,28],[57,29,57,30],[57,40,58,40],[57,41,58,41],[57,48,58,49],[57,50,58,50],[57,51,58,51],[57,52,58,53],[58,1,58,2],[58,29,58,30],[57,42,58,42],[57,43,58,43],[57,44,58,44],[57,45,58,45],[68,0,68,2],[68,3,68,5],[68,6,68,8],[68,9,68,11],[68,18,68,19],[68,20,68,21],[68,22,68,23],[68,24,68,25],[68,28,68,30],[68,31,68,33],[68,34,68,36],[68,37,68,39],[68,46,68,47],[68,48,68,49],[68,50,68,51],[68,52,68,53],[66,1,66,2],[66,29,66,30],[65,42,66,42],[65,43,66,43],[65,44,66,44],[65,45,66,45],[63,51,64,51],[63,52,64,53],[71,28,72,28],[71,29,71,30],[71,40,72,40],[71,41,72,41],[71,48,72,49],[71,50,72,50],[69,0,70,0],[69,1,69,2],[69,12,70,12],[69,13,70,13],[69,14,70,14],[69,15,70,15],[69,16,70,16],[69,17,70,17],[69,18,70,18],[69,19,70,19],[69,20,70,21],[69,22,70,22],[69,46,70,46],[69,47,70,47],[69,23,70,23],[69,24,70,25],[69,28,70,28],[69,29,69,30],[69,40,70,40],[69,41,70,41],[73,40,74,40],[73,41,74,41],[73,48,74,49],[73,50,74,50],[73,51,74,51],[73,52,74,53],[69,48,70,49],[69,50,70,50],[69,51,70,51],[69,52,70,53],[70,1,70,2]],"merged_total":1053,"flags":["merged_cut"]}
["＜１次リーグ組み合わせ・結果＞",null,null,null,null,null,null,null,null,null,null,null,null,null,null,null,null,null,null,null,null,null,null,null,null,null,null,null,"＜１次リーグ組み合わせ・結果＞",null,null,null,null,null,null,null,null,null,null,null,null,null,null,null,null,null,null,null,null,null,null,null,null,null,null,null,"＜１次リーグ組み合わせ・結果＞"]
[]
["会場",null,null,{"$f":"'１次リーグ（速杵国東）'!B4","v":"速杵国東"},null,null,null,null,null,null,null,null,null,null,null,{"$f":"'１次リーグ（津久見・臼杵）'!B4","v":"津久見・臼杵"},null,null,null,null,null,null,null,null,null,null,null,null,"会場",null,null,{"$f":"'１次リーグ（日田）'!B4","v":"日田"},null,null,null,null,null,null,null,null,null,null,null,{"$f":"'１次リーグ（大分）'!B4","v":"大分"},null,null,null,null,null,null,null,null,null,null,null,null,"会場",null,null,{"$f":"'１次リーグ（佐伯）'!B4","v":"佐伯"},null,null,null,null,null,null,null,null,null,null,null,{"$f":"'１次リーグ（宇佐高田）'!B4","v":"宇佐高田"}]
["グループ",null,null,{"$f":"'１次リーグ（速杵国東）'!B6","v":"B"},null,null,null,null,null,{"$f":"'１次リーグ（速杵国東）'!N6","v":"G"},null,null,null,null,null,{"$f":"'１次リーグ（津久見・臼杵）'!B6","v":"D"},null,null,null,null,null,{"$f":"'１次リーグ（津久見・臼杵）'!N6","v":"I"},null,null,null,null,null,null,"グループ",null,null,{"$f":"'１次リーグ（日田）'!B6","v":"E"},null,null,null,null,null,{"$f":"'１次リーグ（日田）'!N6","v":"L"},null,null,null,null,null,{"$f":"'１次リーグ（大分）'!B6","v":"F"},null,null,null,null,null,{"$f":"'１次リーグ（大分）'!N6","v":"H"},null,null,null,null,null,null,"グループ",null,null,{"$f":"'１次リーグ（佐伯）'!B6","v":"C"},null,null,null,null,null,{"$f":"'１次リーグ（佐伯）'!N6","v":"K"},null,null,null,null,null,{"$f":"'１次リーグ（宇佐高田）'!B6","v":"A"},null,null,null,null,null,{"$f":"'１次リーグ（宇佐高田）'!N6","v":"J"}]
["MCM",null,null,"08:50:00",null,null,null,null,null,"09:50:00",null,null,null,null,null,"08:50:00",null,null,null,null,null,"09:50:00",null,null,null,null,null,null,"MCM",null,null,"08:50:00",null,null,null,null,null,"09:50:00",null,null,null,null,null,"08:50:00",null,null,null,null,null,"09:50:00",null,null,null,null,null,null,"MCM",null,null,"08:50:00",null,null,null,null,null,"09:50:00",null,null,null,null,null,"08:50:00",null,null,null,null,null,"09:50:00"]
["チーム",null,null,{"$f":"'１次リーグ（速杵国東）'!C7","v":"きつきＦＣ"},null,null,null,null,null,{"$f":"'１次リーグ（速杵国東）'!O7","v":"ＯＫＹ山香サッカークラブ"},null,null,null,null,null,{"$f":"'１次リーグ（津久見・臼杵）'!C7","v":"臼杵ＳＳＳ"},null,null,null,null,null,{"$f":"'１次リーグ（津久見・臼杵）'!O7","v":"千怒サッカースポーツ少年団"},null,null,null,null,null,null,"チーム",null,null,{"$f":"'１次リーグ（日田）'!C7","v":"ＦＣアリアーレ"},null,null,null,null,null,{"$f":"'１次リーグ（日田）'!O7","v":"太陽スポーツクラブ大分西"},null,null,null,null,null,{"$f":"'１次リーグ（大分）'!C7","v":"判田サッカースポーツ少年団"},null,null,null,null,null,{"$f":"'１次リーグ（大分）'!O7","v":"カティオーラフットボールクラブ　大在"},null,null,null,null,null,null,"チーム",null,null,{"$f":"'１次リーグ（佐伯）'!C7","v":"弥生少年サッカークラブ"},null,null,null,null,null,{"$f":"'１次リーグ（佐伯）'!O7","v":"佐伯リベロフットボールクラブ"},null,null,null,null,null,{"$f":"'１次リーグ（宇佐高田）'!C7","v":"ＦＣ　ＵＮＩＴＥ"},null,null,null,null,null,{"$f":"'１次リーグ（宇佐高田）'!O7","v":"豊後高田ＦＣ　Ｂｏｒｄｅｒ　Ｊｒ"}]
[null,null,null,{"$f":"'１次リーグ（速杵国東）'!C8","v":"アトレチコエラン横瀬"},null,null,null,null,null,{"$f":"'１次リーグ（速杵国東）'!O8","v":"ブルーウイングフットボールクラブ"},null,null,null,null,null,{"$f":"'１次リーグ（津久見・臼杵）'!C8","v":"東陽フットボールクラブ"},null,null,null,null,null,{"$f":"'１次リーグ（津久見・臼杵）'!O8","v":"明野東サッカースポーツ少年団"},null,null,null,null,null,null,null,null,null,{"$f":"'１次リーグ（日田）'!C8","v":"明治サッカースポーツ少年団"},null,null,null,null,null,{"$f":"'１次リーグ（日田）'!O8","v":"宗方サッカークラブ"},null,null,null,null,null,{"$f":"'１次リーグ（大分）'!C8","v":"桃園サッカースポーツ少年団"},null,null,null,null,null,{"$f":"'１次リーグ（大分）'!O8","v":"ドリームキッズサッカークラブ"},null,null,null,null,null,null,null,null,null,{"$f":"'１次リーグ（佐伯）'!C8","v":"滝尾下郡サッカースポーツ少年団"},null,null,null,null,null,{"$f":"'１次リーグ（佐伯）'!O8","v":"ＦＣ　ＲＥＧＡＴＥ"},null,null,null,null,null,{"$f":"'１次リーグ（宇佐高田）'!C8","v":"大分トリニータＵ－１２"},null,null,null,null,null,{"$f":"'１次リーグ（宇佐高田）'!O8","v":"大道サッカースポーツ少年団"}]
[null,null,null,{"$f":"'１次リーグ（速杵国東）'!C9","v":"スマイス　セレソン　スポーツクラブ"},null,null,null,null,null,{"$f":"'１次リーグ（速杵国東）'!O9","v":"中津沖代ＪＳＣ"},null,null,null,null,null,{"$f":"'１次リーグ（津久見・臼杵）'!C9","v":"武蔵オークスサッカークラブ"},null,null,null,null,null,{"$f":"'１次リーグ（津久見・臼杵）'!O9","v":"別府フットボールクラブ．ミネルバＵ－１２"},null,null,null,null,null,null,null,null,null,{"$f":"'１次リーグ（日田）'!C9","v":"ＦＣ大野"},null,null,null,null,null,{"$f":"'１次リーグ（日田）'!O9","v":"Ｓｈｙｎｔ　ＦＣ"},null,null,null,null,null,{"$f":"'１次リーグ（大分）'!C9","v":"ＦＣ中津ジュニア"},null,null,null,null,null,{"$f":"'１次リーグ（大分）'!O9","v":"若宮サッカースポーツ少年団"},null,null,null,null,null,null,null,null,null,{"$f":"'１次リーグ（佐伯）'!C9","v":"スマイス・セレソン"},null,null,null,null,null,{"$f":"'１次リーグ（佐伯）'!O9","v":"ＭＳＳ"},null,null,null,null,null,{"$f":"'１次リーグ（宇佐高田）'!C9","v":"鶴居ＳＳＳ"},null,null,null,null,null,{"$f":"'１次リーグ（宇佐高田）'!O9","v":"明治北ＳＳＣ"}]
[]
[]
["【組合せ・時間割】",null,null,null,null,null,null,null,null,null,null,null,null,null,null,null,null,null,null,null,null,null,null,null,null,null,null,null,"【組合せ・時間割】",null,null,null,null,null,null,null,null,null,null,null,null,null,null,null,null,null,null,null,null,null,null,null,null,null,null,null,"【組合せ・時間割】"]
["試合時間",null,null,null,null,null,null,null,"対戦相手",null,null,null,"副審",null,null,null,null,null,null,null,"対戦相手",null,null,null,"副審",null,null,null,"試合時間",null,null,null,null,null,null,null,"対戦相手",null,null,null,"副審",null,null,null,null,null,null,null,"対戦相手",null,null,null,"副審",null,null,null,"試合時間",null,null,null,null,null,null,null,"対戦相手",null,null,null,"副審",null,null,null,null,null,null,null,"対戦相手",null,null,null,"副審"]
["①","10:00:00",null,"チーム名",null,{"$f":"D6","v":"きつきＦＣ"},null,null,"-",{"$f":"D7","v":"アトレチコエラン横瀬"},null,null,{"$f":"J6","v":"ＯＫＹ山香サッカークラブ"},null,null,"チーム名",null,{"$f":"P6","v":"臼杵ＳＳＳ"},null,null,"-",{"$f":"P7","v":"東陽フットボールクラブ"},null,null,{"$f":"V6","v":"千怒サッカースポーツ少年団"},null,null,null,"①","10:00:00",null,"チーム名",null,{"$f":"AF6","v":"ＦＣアリアーレ"},null,null,"-",{"$f":"AF7","v":"明治サッカースポーツ少年団"},null,null,{"$f":"AL6","v":"太陽スポーツクラブ大分西"},null,null,"チーム名",null,{"$f":"AR6","v":"判田サッカースポーツ少年団"},null,null,"-",{"$f":"AR7","v":"桃園サッカースポーツ少年団"},null,null,{"$f":"AX6","v":"カティオーラフットボールクラブ　大在"},null,null,null,"①","10:00:00",null,"チーム名",null,{"$f":"BH6","v":"弥生少年サッカークラブ"},null,null,"-",{"$f":"BH7","v":"滝尾下郡サッカースポーツ少年団"},null,null,{"$f":"BN6","v":"佐伯リベロフットボールクラブ"},null,null,"チーム名",null,{"$f":"BT6","v":"ＦＣ　ＵＮＩＴＥ"},null,null,"-",{"$f":"BT7","v":"大分トリニータＵ－１２"},null,null,{"$f":"BZ6","v":"豊後高田ＦＣ　Ｂｏｒｄｅｒ　Ｊｒ"}]
[null,null,null,"得失点",null,1,null,null,"-",1,null,null,{"$f":"J7","v":"ブルーウイングフットボールクラブ"},null,null,"得失点",null,4,null,null,"-",0,null,null,{"$f":"V7","v":"明野東サッカースポーツ少年団"},null,null,null,null,null,null,"得失点",null,1,null,null,"-",1,null,null,{"$f":"AL7","v":"宗方サッカークラブ"},null,null,"得失点",null,0,null,null,"-",0,null,null,{"$f":"AX7","v":"ドリームキッズサッカークラブ"},null,null,null,null,null,null,"得失点",null,0,null,null,"-",2,null,null,{"$f":"BN7","v":"ＦＣ　ＲＥＧＡＴＥ"},null,null,"得失点",null,4,null,null,"-",3,null,null,{"$f":"BZ7","v":"大道サッカースポーツ少年団"}]
["②","11:00:00",null,"チーム名",null,{"$f":"J6","v":"ＯＫＹ山香サッカークラブ"},null,null,"-",{"$f":"J7","v":"ブルーウイングフットボールクラブ"},null,null,{"$f":"D6","v":"きつきＦＣ"},null,null,"チーム名",null,{"$f":"V6","v":"千怒サッカースポーツ少年団"},null,null,"-",{"$f":"V7","v":"明野東サッカースポーツ少年団"},null,null,{"$f":"P6","v":"臼杵ＳＳＳ"},null,null,null,"②","11:00:00",null,"チーム名",null,{"$f":"AL6","v":"太陽スポーツクラブ大分西"},null,null,"-",{"$f":"AL7","v":"宗方サッカークラブ"},null,null,{"$f":"AF6","v":"ＦＣアリアーレ"},null,null,"チーム名",null,{"$f":"AX6","v":"カティオーラフットボールクラブ　大在"},null,null,"-",{"$f":"AX7","v":"ドリームキッズサッカークラブ"},null,null,{"$f":"AR6","v":"判田サッカースポーツ少年団"},null,null,null,"②","11:00:00",null,"チーム名",null,{"$f":"BN6","v":"佐伯リベロフットボールクラブ"},null,null,"-",{"$f":"BN7","v":"ＦＣ　ＲＥＧＡＴＥ"},null,null,{"$f":"BH6","v":"弥生少年サッカークラブ"},null,null,"チーム名",null,{"$f":"BZ6","v":"豊後高田ＦＣ　Ｂｏｒｄｅｒ　Ｊｒ"},null,null,"-",{"$f":"BZ7","v":"大道サッカースポーツ少年団"},null,null,{"$f":"BT6","v":"ＦＣ　ＵＮＩＴＥ"}]
[null,null,null,"得失点",null,0,null,null,"-",5,null,null,{"$f":"D7","v":"アトレチコエラン横瀬"},null,null,"得失点",null,0,null,null,"-",9,null,null,{"$f":"P7","v":"東陽フットボールクラブ"},null,null,null,null,null,null,"得失点",null,2,null,null,"-",0,null,null,{"$f":"AF7","v":"明治サッカースポーツ少年団"},null,null,"得失点",null,2,null,null,"-",1,null,null,{"$f":"AR7","v":"桃園サッカースポーツ少年団"},null,null,null,null,null,null,"得失点",null,0,null,null,"-",0,null,null,{"$f":"BH7","v":"滝尾下郡サッカースポーツ少年団"},null,null,"得失点",null,1,null,null,"-",4,null,null,{"$f":"BT7","v":"大分トリニータＵ－１２"}]
["③","12:00:00",null,"チーム名",null,{"$f":"D7","v":"アトレチコエラン横瀬"},null,null,"-",{"$f":"D8","v":"スマイス　セレソン　スポーツクラブ"},null,null,{"$f":"J7","v":"ブルーウイングフットボールクラブ"},null,null,"チーム名",null,{"$f":"P7","v":"東陽フットボールクラブ"},null,null,"-",{"$f":"P8","v":"武蔵オークスサッカークラブ"},null,null,{"$f":"V7","v":"明野東サッカースポーツ少年団"},null,null,null,"③","12:00:00",null,"チーム名",null,{"$f":"AF7","v":"明治サッカースポーツ少年団"},null,null,"-",{"$f":"AF8","v":"ＦＣ大野"},null,null,{"$f":"AL7","v":"宗方サッカークラブ"},null,null,"チーム名",null,{"$f":"AR7","v":"桃園サッカースポーツ少年団"},null,null,"-",{"$f":"AR8","v":"ＦＣ中津ジュニア"},null,null,{"$f":"AX7","v":"ドリームキッズサッカークラブ"},null,null,null,"③","12:00:00",null,"チーム名",null,{"$f":"BH7","v":"滝尾下郡サッカースポーツ少年団"},null,null,"-",{"$f":"BH8","v":"スマイス・セレソン"},null,null,{"$f":"BN7","v":"ＦＣ　ＲＥＧＡＴＥ"},null,null,"チーム名",null,{"$f":"BT7","v":"大分トリニータＵ－１２"},null,null,"-",{"$f":"BT8","v":"鶴居ＳＳＳ"},null,null,{"$f":"BZ7","v":"大道サッカースポーツ少年団"}]
[null,null,null,"得失点",null,0,null,null,"-",1,null,null,{"$f":"J8","v":"中津沖代ＪＳＣ"},null,null,"得失点",null,2,null,null,"-",3,null,null,{"$f":"V8","v":"別府フットボールクラブ．ミネルバＵ－１２"},null,null,null,null,null,null,"得失点",null,2,null,null,"-",2,null,null,{"$f":"AL8","v":"Ｓｈｙｎｔ　ＦＣ"},null,null,"得失点",null,2,null,null,"-",0,null,null,{"$f":"AX8","v":"若宮サッカースポーツ少年団"},null,null,null,null,null,null,"得失点",null,2,null,null,"-",2,null,null,{"$f":"BN8","v":"ＭＳＳ"},null,null,"得失点",null,2,null,null,"-",0,null,null,{"$f":"BZ8","v":"明治北ＳＳＣ"}]
["④","13:00:00",null,"チーム名",null,{"$f":"J7","v":"ブルーウイングフットボールクラブ"},null,null,"-",{"$f":"J8","v":"中津沖代ＪＳＣ"},null,null,{"$f":"D7","v":"アトレチコエラン横瀬"},null,null,"チーム名",null,{"$f":"V7","v":"明野東サッカースポーツ少年団"},null,null,"-",{"$f":"V8","v":"別府フットボールクラブ．ミネルバＵ－１２"},null,null,{"$f":"P7","v":"東陽フットボールクラブ"},null,null,null,"④","13:00:00",null,"チーム名",null,{"$f":"AL7","v":"宗方サッカークラブ"},null,null,"-",{"$f":"AL8","v":"Ｓｈｙｎｔ　ＦＣ"},null,null,{"$f":"AF7","v":"明治サッカースポーツ少年団"},null,null,"チーム名",null,{"$f":"AX7","v":"ドリームキッズサッカークラブ"},null,null,"-",{"$f":"AX8","v":"若宮サッカースポーツ少年団"},null,null,{"$f":"AR7","v":"桃園サッカースポーツ少年団"},null,null,null,"④","13:00:00",null,"チーム名",null,{"$f":"BN7","v":"ＦＣ　ＲＥＧＡＴＥ"},null,null,"-",{"$f":"BN8","v":"ＭＳＳ"},null,null,{"$f":"BH7","v":"滝尾下郡サッカースポーツ少年団"},null,null,"チーム名",null,{"$f":"BZ7","v":"大道サッカースポーツ少年団"},null,null,"-",{"$f":"BZ8","v":"明治北ＳＳＣ"},null,null,{"$f":"BT7","v":"大分トリニータＵ－１２"}]
[null,null,null,"得失点",null,3,null,null,"-",2,null,null,{"$f":"D8","v":"スマイス　セレソン　スポーツクラブ"},null,null,"得失点",null,0,null,null,"-",2,null,null,{"$f":"P8","v":"武蔵オークスサッカークラブ"},null,null,null,null,null,null,"得失点",null,1,null,null,"-",2,null,null,{"$f":"AF8","v":"ＦＣ大野"},null,null,"得失点",null,3,null,null,"-",0,null,null,{"$f":"AR8","v":"ＦＣ中津ジュニア"},null,null,null,null,null,null,"得失点",null,1,null,null,"-",4,null,null,{"$f":"BH8","v":"スマイス・セレソン"},null,null,"得失点",null,0,null,null,"-",2,null,null,{"$f":"BT8","v":"鶴居ＳＳＳ"}]
["⑤","14:00:00",null,"チーム名",null,{"$f":"D8","v":"スマイス　セレソン　スポーツクラブ"},null,null,"-",{"$f":"D6","v":"きつきＦＣ"},null,null,{"$f":"J8","v":"中津沖代ＪＳＣ"},null,null,"チーム名",null,{"$f":"P8","v":"武蔵オークスサッカークラブ"},null,null,"-",{"$f":"P6","v":"臼杵ＳＳＳ"},null,null,{"$f":"V8","v":"別府フットボールクラブ．ミネルバＵ－１２"},null,null,null,"⑤","14:00:00",null,"チーム名",null,{"$f":"AF8","v":"ＦＣ大野"},null,null,"-",{"$f":"AF6","v":"ＦＣアリアーレ"},null,null,{"$f":"AL8","v":"Ｓｈｙｎｔ　ＦＣ"},null,null,"チーム名",null,{"$f":"AR8","v":"ＦＣ中津ジュニア"},null,null,"-",{"$f":"AR6","v":"判田サッカースポーツ少年団"},null,null,{"$f":"AX8","v":"若宮サッカースポーツ少年団"},null,null,null,"⑤","14:00:00",null,"チーム名",null,{"$f":"BH8","v":"スマイス・セレソン"},null,null,"-",{"$f":"BH6","v":"弥生少年サッカークラブ"},null,null,{"$f":"BN8","v":"ＭＳＳ"},null,null,"チーム名",null,{"$f":"BT8","v":"鶴居ＳＳＳ"},null,null,"-",{"$f":"BT6","v":"ＦＣ　ＵＮＩＴＥ"},null,null,{"$f":"BZ8","v":"明治北ＳＳＣ"}]
[null,null,null,"得失点",null,2,null,null,"-",1,null,null,{"$f":"J6","v":"ＯＫＹ山香サッカークラブ"},null,null,"得失点",null,3,null,null,"-",1,null,null,{"$f":"V6","v":"千怒サッカースポーツ少年団"},null,null,null,null,null,null,"得失点",null,0,null,null,"-",4,null,null,{"$f":"AL6","v":"太陽スポーツクラブ大分西"},null,null,"得失点",null,4,null,null,"-",2,null,null,{"$f":"AX6","v":"カティオーラフットボールクラブ　大在"},null,null,null,null,null,null,"得失点",null,10,null,null,"-",0,null,null,{"$f":"BN6","v":"佐伯リベロフットボールクラブ"},null,null,"得失点",null,2,null,null,"-",4,null,null,{"$f":"BZ6","v":"豊後高田ＦＣ　Ｂｏｒｄｅｒ　Ｊｒ"}]
["⑥","15:00:00",null,"チーム名",null,{"$f":"J8","v":"中津沖代ＪＳＣ"},null,null,"-",{"$f":"J6","v":"ＯＫＹ山香サッカークラブ"},null,null,{"$f":"D8","v":"スマイス　セレソン　スポーツクラブ"},null,null,"チーム名",null,{"$f":"V8","v":"別府フットボールクラブ．ミネルバＵ－１２"},null,null,"-",{"$f":"V6","v":"千怒サッカースポーツ少年団"},null,null,{"$f":"P8","v":"武蔵オークスサッカークラブ"},null,null,null,"⑥","15:00:00",null,"チーム名",null,{"$f":"AL8","v":"Ｓｈｙｎｔ　ＦＣ"},null,null,"-",{"$f":"AL6","v":"太陽スポーツクラブ大分西"},null,null,{"$f":"AF8","v":"ＦＣ大野"},null,null,"チーム名",null,{"$f":"AX8","v":"若宮サッカースポーツ少年団"},null,null,"-",{"$f":"AX6","v":"カティオーラフットボールクラブ　大在"},null,null,{"$f":"AR8","v":"ＦＣ中津ジュニア"},null,null,null,"⑥","15:00:00",null,"チーム名",null,{"$f":"BN8","v":"ＭＳＳ"},null,null,"-",{"$f":"BN6","v":"佐伯リベロフットボールクラブ"},null,null,{"$f":"BH8","v":"スマイス・セレソン"},null,null,"チーム名",null,{"$f":"BZ8","v":"明治北ＳＳＣ"},null,null,"-",{"$f":"BZ6","v":"豊後高田ＦＣ　Ｂｏｒｄｅｒ　Ｊｒ"},null,null,{"$f":"BT8","v":"鶴居ＳＳＳ"}]
[null,null,null,"得失点",null,3,null,null,"-",1,null,null,{"$f":"D6","v":"きつきＦＣ"},null,null,"得失点",null,7,null,null,"-",0,null,null,{"$f":"P6","v":"臼杵ＳＳＳ"},null,null,null,null,null,null,"得失点",null,2,null,null,"-",2,null,null,{"$f":"AF6","v":"ＦＣアリアーレ"},null,null,"得失点",null,0,null,null,"-",2,null,null,{"$f":"AR6","v":"判田サッカースポーツ少年団"},null,null,null,null,null,null,"得失点",null,2,null,null,"-",2,null,null,{"$f":"BH6","v":"弥生少年サッカークラブ"},null,null,"得失点",null,4,null,null,"-",0,null,null,{"$f":"BT6","v":"ＦＣ　ＵＮＩＴＥ"}]
[]
[]
[]
[]
[]
[]
[]
[]
[]
[]
[]
[]
[]
[]
[]
[]
[]
[]
[null,null,null,null,null,"勝点表","勝",3,null,"引分",1,null,"負",0,null,null,null,null,null,null,null,null,null,null,null,null,null,null,null,null,null,null,null,"勝点表","勝",3,null,"引分",1,null,"負",0,null,null,null,null,null,null,null,null,null,null,null,null,null,null,null,null,null,null,null,"勝点表","勝",3,null,"引分",1,null,"負",0]
[]
[{"$f":"D4","v":"B"},null,null,{"$f":"A46","v":"きつきＦＣ"},null,null,{"$f":"A48","v":"アトレチコエラン横瀬"},null,null,{"$f":"A50","v":"スマイス　セレソン　スポーツクラブ"},null,null,"勝","引\n分","敗","得\n点","失\n点","勝\n点","勝点\n順位",null,"得失\n点差",null,"得失\n順位",null,"ﾄｰﾀﾙ\n順位",null,null,null,{"$f":"AF4","v":"E"},null,null,{"$f":"AC46","v":"ＦＣアリアーレ"},null,null,{"$f":"AC48","v":"明治サッカースポーツ少年団"},null,null,{"$f":"AC50","v":"ＦＣ大野"},null,null,"勝","引\n分","敗","得\n点","失\n点","勝\n点","勝点\n順位",null,"得失\n点差",null,"得失\n順位",null,"ﾄｰﾀﾙ\n順位",null,null,null,{"$f":"BH4","v":"C"},null,null,{"$f":"BE46","v":"弥生少年サッカークラブ"},null,null,{"$f":"BE48","v":"滝尾下郡サッカースポーツ少年団"},null,null,{"$f":"BE50","v":"スマイス・セレソン"},null,null,"勝","引\n分","敗","得\n点","失\n点","勝\n点","勝点\n順位",null,"得失\n点差",null,"得失\n順位",null,"ﾄｰﾀﾙ\n順位"]
[{"$f":"D6","v":"きつきＦＣ"},"星取表",null,null,null,null,null,{"$f":"IF(G47=\"\",\"\",IF(G47>I47,\"○\",IF(G47<I47,\"●\",IF(G47=I47,\"△\"))))","v":"△"},null,null,{"$f":"IF(J47=\"\",\"\",IF(J47>L47,\"○\",IF(J47<L47,\"●\",IF(J47=L47,\"△\"))))","v":"●"},null,{"$f":"COUNTIF(D46:L46,\"○\")","v":0},{"$f":"COUNTIF(D46:L46,\"△\")+COUNTIF(D46:L46,\"▲\")","v":1},{"$f":"COUNTIF(D46:L46,\"●\")","v":1},{"$f":"SUM(D47,G47,J47)","v":2},{"$f":"SUM(F47,I47,L47)","v":3},{"$f":"(M46*3)+(N46*1)","v":1},{"$f":"RANK(R46,R$46:R$51)","v":2},"位",{"$f":"P46-Q46","v":-1},null,{"$f":"RANK(U46,U$46:U$51)","v":2},"位",2,null,null,null,{"$f":"AF6","v":"ＦＣアリアーレ"},"星取表",null,null,null,null,null,{"$f":"IF(AI47=\"\",\"\",IF(AI47>AK47,\"○\",IF(AI47<AK47,\"●\",IF(AI47=AK47,\"△\"))))","v":"△"},null,null,{"$f":"IF(AL47=\"\",\"\",IF(AL47>AN47,\"○\",IF(AL47<AN47,\"●\",IF(AL47=AN47,\"△\"))))","v":"○"},null,{"$f":"COUNTIF(AF46:AN46,\"○\")","v":1},{"$f":"COUNTIF(AF46:AN46,\"△\")+COUNTIF(AF46:AN46,\"▲\")","v":1},{"$f":"COUNTIF(AF46:AN46,\"●\")","v":0},{"$f":"SUM(AF47,AI47,AL47)","v":5},{"$f":"SUM(AH47,AK47,AN47)","v":1},{"$f":"(AO46*3)+(AP46*1)","v":4},{"$f":"RANK(AT46,AT$46:AT$51)","v":1},"位",{"$f":"AR46-AS46","v":4},null,{"$f":"RANK(AW46,AW$46:AW$51)","v":1},"位",1,null,null,null,{"$f":"BH6","v":"弥生少年サッカークラブ"},"星取表",null,null,null,null,null,{"$f":"IF(BK47=\"\",\"\",IF(BK47>BM47,\"○\",IF(BK47<BM47,\"●\",IF(BK47=BM47,\"△\"))))","v":"●"},null,null,{"$f":"IF(BN47=\"\",\"\",IF(BN47>BP47,\"○\",IF(BN47<BP47,\"●\",IF(BN47=BP47,\"△\"))))","v":"●"},null,{"$f":"COUNTIF(BH46:BP46,\"○\")","v":0},{"$f":"COUNTIF(BH46:BP46,\"△\")+COUNTIF(BH46:BP46,\"▲\")","v":0},{"$f":"COUNTIF(BH46:BP46,\"●\")","v":2},{"$f":"SUM(BH47,BK47,BN47)","v":0},{"$f":"SUM(BJ47,BM47,BP47)","v":12},{"$f":"(BQ46*3)+(BR46*1)","v":0},{"$f":"RANK(BV46,BV$46:BV$51)","v":3},"位",{"$f":"BT46-BU46","v":-12},null,{"$f":"RANK(BY46,BY$46:BY$51)","v":3},"位",3]
[null,"得失点",null,null,null,null,{"$f":"F14","v":1},"-",{"$f":"J14","v":1},{"$f":"J22","v":1},"-",{"$f":"F22","v":2},null,null,null,null,null,null,null,null,null,null,null,null,null,null,null,null,null,"得失点",null,null,null,null,{"$f":"AH14","v":1},"-",{"$f":"AL14","v":1},{"$f":"AL22","v":4},"-",{"$f":"AH22","v":0},null,null,null,null,null,null,null,null,null,null,null,null,null,null,null,null,null,"得失点",null,null,null,null,{"$f":"BJ14","v":0},"-",{"$f":"BN14","v":2},{"$f":"BN22","v":0},"-",{"$f":"BJ22","v":10}]
[{"$f":"D7","v":"アトレチコエラン横瀬"},"星取表",null,null,{"$f":"IF(D49=\"\",\"\",IF(D49>F49,\"○\",IF(D49<F49,\"●\",IF(D49=F49,\"△\"))))","v":"△"},null,null,null,null,null,{"$f":"IF(J49=\"\",\"\",IF(J49>L49,\"○\",IF(J49<L49,\"●\",IF(J49=L49,\"△\"))))","v":"●"},null,{"$f":"COUNTIF(D48:L48,\"○\")","v":0},{"$f":"COUNTIF(D48:L48,\"△\")+COUNTIF(D48:L48,\"▲\")","v":1},{"$f":"COUNTIF(D48:L48,\"●\")","v":1},{"$f":"SUM(D49,G49,J49)","v":1},{"$f":"SUM(F49,I49,L49)","v":2},{"$f":"(M48*3)+(N48*1)","v":1},{"$f":"RANK(R48,R$46:R$51)","v":2},"位",{"$f":"P48-Q48","v":-1},null,{"$f":"RANK(U48,U$46:U$51)","v":2},"位",3,null,null,null,{"$f":"AF7","v":"明治サッカースポーツ少年団"},"星取表",null,null,{"$f":"IF(AF49=\"\",\"\",IF(AF49>AH49,\"○\",IF(AF49<AH49,\"●\",IF(AF49=AH49,\"△\"))))","v":"△"},null,null,null,null,null,{"$f":"IF(AL49=\"\",\"\",IF(AL49>AN49,\"○\",IF(AL49<AN49,\"●\",IF(AL49=AN49,\"△\"))))","v":"△"},null,{"$f":"COUNTIF(AF48:AN48,\"○\")","v":0},{"$f":"COUNTIF(AF48:AN48,\"△\")+COUNTIF(AF48:AN48,\"▲\")","v":2},{"$f":"COUNTIF(AF48:AN48,\"●\")","v":0},{"$f":"SUM(AF49,AI49,AL49)","v":3},{"$f":"SUM(AH49,AK49,AN49)","v":3},{"$f":"(AO48*3)+(AP48*1)","v":2},{"$f":"RANK(AT48,AT$46:AT$51)","v":2},"位",{"$f":"AR48-AS48","v":0},null,{"$f":"RANK(AW48,AW$46:AW$51)","v":2},"位",2,null,null,null,{"$f":"BH7","v":"滝尾下郡サッカースポーツ少年団"},"星取表",null,null,{"$f":"IF(BH49=\"\",\"\",IF(BH49>BJ49,\"○\",IF(BH49<BJ49,\"●\",IF(BH49=BJ49,\"△\"))))","v":"○"},null,null,null,null,null,{"$f":"IF(BN49=\"\",\"\",IF(BN49>BP49,\"○\",IF(BN49<BP49,\"●\",IF(BN49=BP49,\"△\"))))","v":"△"},null,{"$f":"COUNTIF(BH48:BP48,\"○\")","v":1},{"$f":"COUNTIF(BH48:BP48,\"△\")+COUNTIF(BH48:BP48,\"▲\")","v":1},{"$f":"COUNTIF(BH48:BP48,\"●\")","v":0},{"$f":"SUM(BH49,BK49,BN49)","v":4},{"$f":"SUM(BJ49,BM49,BP49)","v":2},{"$f":"(BQ48*3)+(BR48*1)","v":4},{"$f":"RANK(BV48,BV$46:BV$51)","v":1},"位",{"$f":"BT48-BU48","v":2},null,{"$f":"RANK(BY48,BY$46:BY$51)","v":2},"位",2]
[null,"得失点",null,{"$f":"I47","v":1},"-",{"$f":"G47","v":1},null,null,null,{"$f":"F18","v":0},"-",{"$f":"J18","v":1},null,null,null,null,null,null,null,null,null,null,null,null,null,null,null,null,null,"得失点",null,{"$f":"AK47","v":1},"-",{"$f":"AI47","v":1},null,null,null,{"$f":"AH18","v":2},"-",{"$f":"AL18","v":2},null,null,null,null,null,null,null,null,null,null,null,null,null,null,null,null,null,"得失点",null,{"$f":"BM47","v":2},"-",{"$f":"BK47","v":0},null,null,null,{"$f":"BJ18","v":2},"-",{"$f":"BN18","v":2}]
[{"$f":"D8","v":"スマイス　セレソン　スポーツクラブ"},"星取表",null,null,{"$f":"IF(D51=\"\",\"\",IF(D51>F51,\"○\",IF(D51<F51,\"●\",IF(D51=F51,\"△\"))))","v":"○"},null,null,{"$f":"IF(G51=\"\",\"\",IF(G51>I51,\"○\",IF(G51<I51,\"●\",IF(G51=I51,\"△\"))))","v":"○"},null,null,null,null,{"$f":"COUNTIF(D50:L50,\"○\")","v":2},{"$f":"COUNTIF(D50:L50,\"△\")+COUNTIF(D50:L50,\"▲\")","v":0},{"$f":"COUNTIF(D50:L50,\"●\")","v":0},{"$f":"SUM(D51,G51,J51)","v":3},{"$f":"SUM(F51,I51,L51)","v":1},{"$f":"(M50*3)+(N50*1)","v":6},{"$f":"RANK(R50,R$46:R$51)","v":1},"位",{"$f":"P50-Q50","v":2},null,{"$f":"RANK(U50,U$46:U$51)","v":1},"位",1,null,null,null,{"$f":"AF8","v":"ＦＣ大野"},"星取表",null,null,{"$f":"IF(AF51=\"\",\"\",IF(AF51>AH51,\"○\",IF(AF51<AH51,\"●\",IF(AF51=AH51,\"△\"))))","v":"●"},null,null,{"$f":"IF(AI51=\"\",\"\",IF(AI51>AK51,\"○\",IF(AI51<AK51,\"●\",IF(AI51=AK51,\"△\"))))","v":"△"},null,null,null,null,{"$f":"COUNTIF(AF50:AN50,\"○\")","v":0},{"$f":"COUNTIF(AF50:AN50,\"△\")+COUNTIF(AF50:AN50,\"▲\")","v":1},{"$f":"COUNTIF(AF50:AN50,\"●\")","v":1},{"$f":"SUM(AF51,AI51,AL51)","v":2},{"$f":"SUM(AH51,AK51,AN51)","v":6},{"$f":"(AO50*3)+(AP50*1)","v":1},{"$f":"RANK(AT50,AT$46:AT$51)","v":3},"位",{"$f":"AR50-AS50","v":-4},null,{"$f":"RANK(AW50,AW$46:AW$51)","v":3},"位",3,null,null,null,{"$f":"BH8","v":"スマイス・セレソン"},"星取表",null,null,{"$f":"IF(BH51=\"\",\"\",IF(BH51>BJ51,\"○\",IF(BH51<BJ51,\"●\",IF(BH51=BJ51,\"△\"))))","v":"○"},null,null,{"$f":"IF(BK51=\"\",\"\",IF(BK51>BM51,\"○\",IF(BK51<BM51,\"●\",IF(BK51=BM51,\"△\"))))","v":"△"},null,null,null,null,{"$f":"COUNTIF(BH50:BP50,\"○\")","v":1},{"$f":"COUNTIF(BH50:BP50,\"△\")+COUNTIF(BH50:BP50,\"▲\")","v":1},{"$f":"COUNTIF(BH50:BP50,\"●\")","v":0},{"$f":"SUM(BH51,BK51,BN51)","v":12},{"$f":"SUM(BJ51,BM51,BP51)","v":2},{"$f":"(BQ50*3)+(BR50*1)","v":4},{"$f":"RANK(BV50,BV$46:BV$51)","v":1},"位",{"$f":"BT50-BU50","v":10},null,{"$f":"RANK(BY50,BY$46:BY$51)","v":1},"位",1]
[null,"得失点",null,{"$f":"L47","v":2},"-",{"$f":"J47","v":1},{"$f":"L49","v":1},"-",{"$f":"J49","v":0},null,null,null,null,null,null,null,null,null,null,null,null,null,null,null,null,null,null,null,null,"得失点",null,{"$f":"AN47","v":0},"-",{"$f":"AL47","v":4},{"$f":"AN49","v":2},"-",{"$f":"AL49","v":2},null,null,null,null,null,null,null,null,null,null,null,null,null,null,null,null,null,null,null,null,"得失点",null,{"$f":"BP47","v":10},"-",{"$f":"BN47","v":0},{"$f":"BP49","v":2},"-",{"$f":"BN49","v":2}]
[]
[{"$f":"J4","v":"G"},null,null,{"$f":"A54","v":"ＯＫＹ山香サッカークラブ"},null,null,{"$f":"A56","v":"ブルーウイングフットボールクラブ"},null,null,{"$f":"A58","v":"中津沖代ＪＳＣ"},null,null,"勝","引\n分","敗","得\n点","失\n点","勝\n点","勝点\n順位",null,"得失\n点差",null,"得失\n順位",null,"ﾄｰﾀﾙ\n順位",null,null,null,{"$f":"AL4","v":"L"},null,null,{"$f":"AC54","v":"太陽スポーツクラブ大分西"},null,null,{"$f":"AC56","v":"宗方サッカークラブ"},null,null,{"$f":"AC58","v":"Ｓｈｙｎｔ　ＦＣ"},null,null,"勝","引\n分","敗","得\n点","失\n点","勝\n点","勝点\n順位",null,"得失\n点差",null,"得失\n順位",null,"ﾄｰﾀﾙ\n順位",null,null,null,{"$f":"BN4","v":"K"},null,null,{"$f":"BE54","v":"佐伯リベロフットボールクラブ"},null,null,{"$f":"BE56","v":"ＦＣ　ＲＥＧＡＴＥ"},null,null,{"$f":"BE58","v":"ＭＳＳ"},null,null,"勝","引\n分","敗","得\n点","失\n点","勝\n点","勝点\n順位",null,"得失\n点差",null,"得失\n順位",null,"ﾄｰﾀﾙ\n順位"]
[{"$f":"J6","v":"ＯＫＹ山香サッカークラブ"},"星取表",null,null,null,null,null,{"$f":"IF(G55=\"\",\"\",IF(G55>I55,\"○\",IF(G55<I55,\"●\",IF(G55=I55,\"△\"))))","v":"●"},null,null,{"$f":"IF(J55=\"\",\"\",IF(J55>L55,\"○\",IF(J55<L55,\"●\",IF(J55=L55,\"△\"))))","v":"●"},null,{"$f":"COUNTIF(D54:L54,\"○\")","v":0},{"$f":"COUNTIF(D54:L54,\"△\")+COUNTIF(D54:L54,\"▲\")","v":0},{"$f":"COUNTIF(D54:L54,\"●\")","v":2},{"$f":"SUM(D55,G55,J55)","v":1},{"$f":"SUM(F55,I55,L55)","v":8},{"$f":"(M54*3)+(N54*1)","v":0},{"$f":"RANK(R54,$R$54:$R$59)","v":3},"位",{"$f":"P54-Q54","v":-7},null,{"$f":"RANK(U54,$U$54:$V$59)","v":3},"位",3,null,null,null,{"$f":"AL6","v":"太陽スポーツクラブ大分西"},"星取表",null,null,null,null,null,{"$f":"IF(AI55=\"\",\"\",IF(AI55>AK55,\"○\",IF(AI55<AK55,\"●\",IF(AI55=AK55,\"△\"))))","v":"○"},null,null,{"$f":"IF(AL55=\"\",\"\",IF(AL55>AN55,\"○\",IF(AL55<AN55,\"●\",IF(AL55=AN55,\"△\"))))","v":"△"},null,{"$f":"COUNTIF(AF54:AN54,\"○\")","v":1},{"$f":"COUNTIF(AF54:AN54,\"△\")+COUNTIF(AF54:AN54,\"▲\")","v":1},{"$f":"COUNTIF(AF54:AN54,\"●\")","v":0},{"$f":"SUM(AF55,AI55,AL55)","v":4},{"$f":"SUM(AH55,AK55,AN55)","v":2},{"$f":"(AO54*3)+(AP54*1)","v":4},{"$f":"RANK(AT54,$AT$54:$AT$59)","v":1},"位",{"$f":"AR54-AS54","v":2},null,{"$f":"RANK(AW54,$AW$54:$AW$59)","v":1},"位",1,null,null,null,{"$f":"BN6","v":"佐伯リベロフットボールクラブ"},"星取表",null,null,null,null,null,{"$f":"IF(BK55=\"\",\"\",IF(BK55>BM55,\"○\",IF(BK55<BM55,\"●\",IF(BK55=BM55,\"△\"))))","v":"△"},null,null,{"$f":"IF(BN55=\"\",\"\",IF(BN55>BP55,\"○\",IF(BN55<BP55,\"●\",IF(BN55=BP55,\"△\"))))","v":"△"},null,{"$f":"COUNTIF(BH54:BP54,\"○\")","v":0},{"$f":"COUNTIF(BH54:BP54,\"△\")+COUNTIF(BH54:BP54,\"▲\")","v":2},{"$f":"COUNTIF(BH54:BP54,\"●\")","v":0},{"$f":"SUM(BH55,BK55,BN55)","v":2},{"$f":"SUM(BJ55,BM55,BP55)","v":2},{"$f":"(BQ54*3)+(BR54*1)","v":2},{"$f":"RANK(BV54,$BV$54:$BV$59)","v":2},"位",{"$f":"BT54-BU54","v":0},null,{"$f":"RANK(BY54,$BY$54:$BY$59)","v":2},"位",2]
[null,"得失点",null,null,null,null,{"$f":"F16","v":0},"-",{"$f":"J16","v":5},{"$f":"J24","v":1},"-",{"$f":"F24","v":3},null,null,null,null,null,null,null,null,null,null,null,null,null,null,null,null,null,"得失点",null,null,null,null,{"$f":"AH16","v":2},"-",{"$f":"AL16","v":0},{"$f":"AL24","v":2},"-",{"$f":"AH24","v":2},null,null,null,null,null,null,null,null,null,null,null,null,null,null,null,null,null,"得失点",null,null,null,null,{"$f":"BJ16","v":0},"-",{"$f":"BN16","v":0},{"$f":"BN24","v":2},"-",{"$f":"BJ24","v":2}]
[{"$f":"J7","v":"ブルーウイングフットボールクラブ"},"星取表",null,null,{"$f":"IF(D57=\"\",\"\",IF(D57>F57,\"○\",IF(D57<F57,\"●\",IF(D57=F57,\"△\"))))","v":"○"},null,null,null,null,null,{"$f":"IF(J57=\"\",\"\",IF(J57>L57,\"○\",IF(J57<L57,\"●\",IF(J57=L57,\"△\"))))","v":"○"},null,{"$f":"COUNTIF(D56:L56,\"○\")","v":2},{"$f":"COUNTIF(D56:L56,\"△\")+COUNTIF(D56:L56,\"▲\")","v":0},{"$f":"COUNTIF(D56:L56,\"●\")","v":0},{"$f":"SUM(D57,G57,J57)","v":8},{"$f":"SUM(F57,I57,L57)","v":2},{"$f":"(M56*3)+(N56*1)","v":6},{"$f":"RANK(R56,$R$54:$R$59)","v":1},"位",{"$f":"P56-Q56","v":6},null,{"$f":"RANK(U56,$U$54:$V$59)","v":1},"位",1,null,null,null,{"$f":"AL7","v":"宗方サッカークラブ"},"星取表",null,null,{"$f":"IF(AF57=\"\",\"\",IF(AF57>AH57,\"○\",IF(AF57<AH57,\"●\",IF(AF57=AH57,\"△\"))))","v":"●"},null,null,null,null,null,{"$f":"IF(AL57=\"\",\"\",IF(AL57>AN57,\"○\",IF(AL57<AN57,\"●\",IF(AL57=AN57,\"△\"))))","v":"●"},null,{"$f":"COUNTIF(AF56:AN56,\"○\")","v":0},{"$f":"COUNTIF(AF56:AN56,\"△\")+COUNTIF(AF56:AN56,\"▲\")","v":0},{"$f":"COUNTIF(AF56:AN56,\"●\")","v":2},{"$f":"SUM(AF57,AI57,AL57)","v":1},{"$f":"SUM(AH57,AK57,AN57)","v":4},{"$f":"(AO56*3)+(AP56*1)","v":0},{"$f":"RANK(AT56,$AT$54:$AT$59)","v":3},"位",{"$f":"AR56-AS56","v":-3},null,{"$f":"RANK(AW56,$AW$54:$AW$59)","v":3},"位",3,null,null,null,{"$f":"BN7","v":"ＦＣ　ＲＥＧＡＴＥ"},"星取表",null,null,{"$f":"IF(BH57=\"\",\"\",IF(BH57>BJ57,\"○\",IF(BH57<BJ57,\"●\",IF(BH57=BJ57,\"△\"))))","v":"△"},null,null,null,null,null,{"$f":"IF(BN57=\"\",\"\",IF(BN57>BP57,\"○\",IF(BN57<BP57,\"●\",IF(BN57=BP57,\"△\"))))","v":"●"},null,{"$f":"COUNTIF(BH56:BP56,\"○\")","v":0},{"$f":"COUNTIF(BH56:BP56,\"△\")+COUNTIF(BH56:BP56,\"▲\")","v":1},{"$f":"COUNTIF(BH56:BP56,\"●\")","v":1},{"$f":"SUM(BH57,BK57,BN57)","v":1},{"$f":"SUM(BJ57,BM57,BP57)","v":4},{"$f":"(BQ56*3)+(BR56*1)","v":1},{"$f":"RANK(BV56,$BV$54:$BV$59)","v":3},"位",{"$f":"BT56-BU56","v":-3},null,{"$f":"RANK(BY56,$BY$54:$BY$59)","v":3},"位",3]
[null,"得失点",null,{"$f":"I55","v":5},"-",{"$f":"G55","v":0},null,null,null,{"$f":"F20","v":3},"-",{"$f":"J20","v":2},null,null,null,null,null,null,null,null,null,null,null,null,null,null,null,null,null,"得失点",null,{"$f":"AK55","v":0},"-",{"$f":"AI55","v":2},null,null,null,{"$f":"AH20","v":1},"-",{"$f":"AL20","v":2},null,null,null,null,null,null,null,null,null,null,null,null,null,null,null,null,null,"得失点",null,{"$f":"BM55","v":0},"-",{"$f":"BK55","v":0},null,null,null,{"$f":"BJ20","v":1},"-",{"$f":"BN20","v":4}]
[{"$f":"J8","v":"中津沖代ＪＳＣ"},"星取表",null,null,{"$f":"IF(D59=\"\",\"\",IF(D59>F59,\"○\",IF(D59<F59,\"●\",IF(D59=F59,\"△\"))))","v":"○"},null,null,{"$f":"IF(G59=\"\",\"\",IF(G59>I59,\"○\",IF(G59<I59,\"●\",IF(G59=I59,\"△\"))))","v":"●"},null,null,null,null,{"$f":"COUNTIF(D58:L58,\"○\")","v":1},{"$f":"COUNTIF(D58:L58,\"△\")+COUNTIF(D58:L58,\"▲\")","v":0},{"$f":"COUNTIF(D58:L58,\"●\")","v":1},{"$f":"SUM(D59,G59,J59)","v":5},{"$f":"SUM(F59,I59,L59)","v":4},{"$f":"(M58*3)+(N58*1)","v":3},{"$f":"RANK(R58,$R$54:$R$59)","v":2},"位",{"$f":"P58-Q58","v":1},null,{"$f":"RANK(U58,$U$54:$V$59)","v":2},"位",2,null,null,null,{"$f":"AL8","v":"Ｓｈｙｎｔ　ＦＣ"},"星取表",null,null,{"$f":"IF(AF59=\"\",\"\",IF(AF59>AH59,\"○\",IF(AF59<AH59,\"●\",IF(AF59=AH59,\"△\"))))","v":"△"},null,null,{"$f":"IF(AI59=\"\",\"\",IF(AI59>AK59,\"○\",IF(AI59<AK59,\"●\",IF(AI59=AK59,\"△\"))))","v":"○"},null,null,null,null,{"$f":"COUNTIF(AF58:AN58,\"○\")","v":1},{"$f":"COUNTIF(AF58:AN58,\"△\")+COUNTIF(AF58:AN58,\"▲\")","v":1},{"$f":"COUNTIF(AF58:AN58,\"●\")","v":0},{"$f":"SUM(AF59,AI59,AL59)","v":4},{"$f":"SUM(AH59,AK59,AN59)","v":3},{"$f":"(AO58*3)+(AP58*1)","v":4},{"$f":"RANK(AT58,$AT$54:$AT$59)","v":1},"位",{"$f":"AR58-AS58","v":1},null,{"$f":"RANK(AW58,$AW$54:$AW$59)","v":2},"位",2,null,null,null,{"$f":"BN8","v":"ＭＳＳ"},"星取表",null,null,{"$f":"IF(BH59=\"\",\"\",IF(BH59>BJ59,\"○\",IF(BH59<BJ59,\"●\",IF(BH59=BJ59,\"△\"))))","v":"△"},null,null,{"$f":"IF(BK59=\"\",\"\",IF(BK59>BM59,\"○\",IF(BK59<BM59,\"●\",IF(BK59=BM59,\"△\"))))","v":"○"},null,null,null,null,{"$f":"COUNTIF(BH58:BP58,\"○\")","v":1},{"$f":"COUNTIF(BH58:BP58,\"△\")+COUNTIF(BH58:BP58,\"▲\")","v":1},{"$f":"COUNTIF(BH58:BP58,\"●\")","v":0},{"$f":"SUM(BH59,BK59,BN59)","v":6},{"$f":"SUM(BJ59,BM59,BP59)","v":3},{"$f":"(BQ58*3)+(BR58*1)","v":4},{"$f":"RANK(BV58,$BV$54:$BV$59)","v":1},"位",{"$f":"BT58-BU58","v":3},null,{"$f":"RANK(BY58,$BY$54:$BY$59)","v":1},"位",1]
[null,"得失点",null,{"$f":"L55","v":3},"-",{"$f":"J55","v":1},{"$f":"L57","v":2},"-",{"$f":"J57","v":3},null,null,null,null,null,null,null,null,null,null,null,null,null,null,null,null,null,null,null,null,"得失点",null,{"$f":"AN55","v":2},"-",{"$f":"AL55","v":2},{"$f":"AN57","v":2},"-",{"$f":"AL57","v":1},null,null,null,null,null,null,null,null,null,null,null,null,null,null,null,null,null,null,null,null,"得失点",null,{"$f":"BP55","v":2},"-",{"$f":"BN55","v":2},{"$f":"BP57","v":4},"-",{"$f":"BN57","v":1}]
[]
[{"$f":"P4","v":"D"},null,null,{"$f":"A62","v":"臼杵ＳＳＳ"},null,null,{"$f":"A64","v":"東陽フットボールクラブ"},null,null,{"$f":"A66","v":"武蔵オークスサッカークラブ"},null,null,"勝","引\n分","敗","得\n点","失\n点","勝\n点","勝点\n順位",null,"得失\n点差",null,"得失\n順位",null,"ﾄｰﾀﾙ\n順位",null,null,null,{"$f":"AR4","v":"F"},null,null,{"$f":"AC62","v":"判田サッカースポーツ少年団"},null,null,{"$f":"AC64","v":"桃園サッカースポーツ少年団"},null,null,{"$f":"AC66","v":"ＦＣ中津ジュニア"},null,null,"勝","引\n分","敗","得\n点","失\n点","勝\n点","勝点\n順位",null,"得失\n点差",null,"得失\n順位",null,"ﾄｰﾀﾙ\n順位",null,null,null,{"$f":"BT4","v":"A"},null,null,{"$f":"BE62","v":"ＦＣ　ＵＮＩＴＥ"},null,null,{"$f":"BE64","v":"大分トリニータＵ－１２"},null,null,{"$f":"BE66","v":"鶴居ＳＳＳ"},null,null,"勝","引\n分","敗","得\n点","失\n点","勝\n点","勝点\n順位",null,"得失\n点差",null,"得失\n順位",null,"ﾄｰﾀﾙ\n順位"]
[{"$f":"P6","v":"臼杵ＳＳＳ"},"星取表",null,null,null,null,null,{"$f":"IF(G63=\"\",\"\",IF(G63>I63,\"○\",IF(G63<I63,\"●\",IF(G63=I63,\"△\"))))","v":"○"},null,null,{"$f":"IF(J63=\"\",\"\",IF(J63>L63,\"○\",IF(J63<L63,\"●\",IF(J63=L63,\"△\"))))","v":"●"},null,{"$f":"COUNTIF(D62:L62,\"○\")","v":1},{"$f":"COUNTIF(D62:L62,\"△\")+COUNTIF(D62:L62,\"▲\")","v":0},{"$f":"COUNTIF(D62:L62,\"●\")","v":1},{"$f":"SUM(D63,G63,J63)","v":5},{"$f":"SUM(F63,I63,L63)","v":3},{"$f":"(M62*3)+(N62*1)","v":3},{"$f":"RANK(R62,$R$62:$R$67)","v":2},"位",{"$f":"P62-Q62","v":2},null,{"$f":"RANK(U62,$U$62:$V$67)","v":2},"位",2,null,null,null,{"$f":"AR6","v":"判田サッカースポーツ少年団"},"星取表",null,null,null,null,null,{"$f":"IF(AI63=\"\",\"\",IF(AI63>AK63,\"○\",IF(AI63<AK63,\"●\",IF(AI63=AK63,\"△\"))))","v":"△"},null,null,{"$f":"IF(AL63=\"\",\"\",IF(AL63>AN63,\"○\",IF(AL63<AN63,\"●\",IF(AL63=AN63,\"△\"))))","v":"●"},null,{"$f":"COUNTIF(AF62:AN62,\"○\")","v":0},{"$f":"COUNTIF(AF62:AN62,\"△\")+COUNTIF(AF62:AN62,\"▲\")","v":1},{"$f":"COUNTIF(AF62:AN62,\"●\")","v":1},{"$f":"SUM(AF63,AI63,AL63)","v":2},{"$f":"SUM(AH63,AK63,AN63)","v":4},{"$f":"(AO62*3)+(AP62*1)","v":1},{"$f":"RANK(AT62,$AT$62:$AT$67)","v":3},"位",{"$f":"AR62-AS62","v":-2},null,{"$f":"RANK(AW62,$AW$62:$AW$67)","v":3},"位",3,null,null,null,{"$f":"BT6","v":"ＦＣ　ＵＮＩＴＥ"},"星取表",null,null,null,null,null,{"$f":"IF(BK63=\"\",\"\",IF(BK63>BM63,\"○\",IF(BK63<BM63,\"●\",IF(BK63=BM63,\"△\"))))","v":"○"},null,null,{"$f":"IF(BN63=\"\",\"\",IF(BN63>BP63,\"○\",IF(BN63<BP63,\"●\",IF(BN63=BP63,\"△\"))))","v":"○"},null,{"$f":"COUNTIF(BH62:BP62,\"○\")","v":2},{"$f":"COUNTIF(BH62:BP62,\"△\")+COUNTIF(BH62:BP62,\"▲\")","v":0},{"$f":"COUNTIF(BH62:BP62,\"●\")","v":0},{"$f":"SUM(BH63,BK63,BN63)","v":8},{"$f":"SUM(BJ63,BM63,BP63)","v":5},{"$f":"(BQ62*3)+(BR62*1)","v":6},{"$f":"RANK(BV62,$BV$62:$BV$67)","v":1},"位",{"$f":"BT62-BU62","v":3},null,{"$f":"RANK(BY62,$BY$62:$BY$67)","v":1},"位",1]
[null,"得失点",null,null,null,null,{"$f":"R14","v":4},"-",{"$f":"V14","v":0},{"$f":"V22","v":1},"-",{"$f":"R22","v":3},null,null,null,null,null,null,null,null,null,null,null,null,null,null,null,null,null,"得失点",null,null,null,null,{"$f":"AT14","v":0},"-",{"$f":"AX14","v":0},{"$f":"AX22","v":2},"-",{"$f":"AT22","v":4},null,null,null,null,null,null,null,null,null,null,null,null,null,null,null,null,null,"得失点",null,null,null,null,{"$f":"BV14","v":4},"-",{"$f":"BZ14","v":3},{"$f":"BZ22","v":4},"-",{"$f":"BV22","v":2}]
[{"$f":"P7","v":"東陽フットボールクラブ"},"星取表",null,null,{"$f":"IF(D65=\"\",\"\",IF(D65>F65,\"○\",IF(D65<F65,\"●\",IF(D65=F65,\"△\"))))","v":"●"},null,null,null,null,null,{"$f":"IF(J65=\"\",\"\",IF(J65>L65,\"○\",IF(J65<L65,\"●\",IF(J65=L65,\"△\"))))","v":"●"},null,{"$f":"COUNTIF(D64:L64,\"○\")","v":0},{"$f":"COUNTIF(D64:L64,\"△\")+COUNTIF(D64:L64,\"▲\")","v":0},{"$f":"COUNTIF(D64:L64,\"●\")","v":2},{"$f":"SUM(D65,G65,J65)","v":2},{"$f":"SUM(F65,I65,L65)","v":7},{"$f":"(M64*3)+(N64*1)","v":0},{"$f":"RANK(R64,$R$62:$R$67)","v":3},"位",{"$f":"P64-Q64","v":-5},null,{"$f":"RANK(U64,$U$62:$V$67)","v":3},"位",3,null,null,null,{"$f":"AR7","v":"桃園サッカースポーツ少年団"},"星取表",null,null,{"$f":"IF(AF65=\"\",\"\",IF(AF65>AH65,\"○\",IF(AF65<AH65,\"●\",IF(AF65=AH65,\"△\"))))","v":"△"},null,null,null,null,null,{"$f":"IF(AL65=\"\",\"\",IF(AL65>AN65,\"○\",IF(AL65<AN65,\"●\",IF(AL65=AN65,\"△\"))))","v":"○"},null,{"$f":"COUNTIF(AF64:AN64,\"○\")","v":1},{"$f":"COUNTIF(AF64:AN64,\"△\")+COUNTIF(AF64:AN64,\"▲\")","v":1},{"$f":"COUNTIF(AF64:AN64,\"●\")","v":0},{"$f":"SUM(AF65,AI65,AL65)","v":2},{"$f":"SUM(AH65,AK65,AN65)","v":0},{"$f":"(AO64*3)+(AP64*1)","v":4},{"$f":"RANK(AT64,$AT$62:$AT$67)","v":1},"位",{"$f":"AR64-AS64","v":2},null,{"$f":"RANK(AW64,$AW$62:$AW$67)","v":1},"位",1,null,null,null,{"$f":"BT7","v":"大分トリニータＵ－１２"},"星取表",null,null,{"$f":"IF(BH65=\"\",\"\",IF(BH65>BJ65,\"○\",IF(BH65<BJ65,\"●\",IF(BH65=BJ65,\"△\"))))","v":"●"},null,null,null,null,null,{"$f":"IF(BN65=\"\",\"\",IF(BN65>BP65,\"○\",IF(BN65<BP65,\"●\",IF(BN65=BP65,\"△\"))))","v":"○"},null,{"$f":"COUNTIF(BH64:BP64,\"○\")","v":1},{"$f":"COUNTIF(BH64:BP64,\"△\")+COUNTIF(BH64:BP64,\"▲\")","v":0},{"$f":"COUNTIF(BH64:BP64,\"●\")","v":1},{"$f":"SUM(BH65,BK65,BN65)","v":5},{"$f":"SUM(BJ65,BM65,BP65)","v":4},{"$f":"(BQ64*3)+(BR64*1)","v":3},{"$f":"RANK(BV64,$BV$62:$BV$67)","v":2},"位",{"$f":"BT64-BU64","v":1},null,{"$f":"RANK(BY64,$BY$62:$BY$67)","v":2},"位",2]
[null,"得失点",null,{"$f":"I63","v":0},"-",{"$f":"G63","v":4},null,null,null,{"$f":"R18","v":2},"-",{"$f":"V18","v":3},null,null,null,null,null,null,null,null,null,null,null,null,null,null,null,null,null,"得失点",null,{"$f":"AK63","v":0},"-",{"$f":"AI63","v":0},null,null,null,{"$f":"AT18","v":2},"-",{"$f":"AX18","v":0},null,null,null,null,null,null,null,null,null,null,null,null,null,null,null,null,null,"得失点",null,{"$f":"BM63","v":3},"-",{"$f":"BK63","v":4},null,null,null,{"$f":"BV18","v":2},"-",{"$f":"BZ18","v":0}]
[{"$f":"P8","v":"武蔵オークスサッカークラブ"},"星取表",null,null,{"$f":"IF(D67=\"\",\"\",IF(D67>F67,\"○\",IF(D67<F67,\"●\",IF(D67=F67,\"△\"))))","v":"○"},null,null,{"$f":"IF(G67=\"\",\"\",IF(G67>I67,\"○\",IF(G67<I67,\"●\",IF(G67=I67,\"△\"))))","v":"○"},null,null,null,null,{"$f":"COUNTIF(D66:L66,\"○\")","v":2},{"$f":"COUNTIF(D66:L66,\"△\")+COUNTIF(D66:L66,\"▲\")","v":0},{"$f":"COUNTIF(D66:L66,\"●\")","v":0},{"$f":"SUM(D67,G67,J67)","v":6},{"$f":"SUM(F67,I67,L67)","v":3},{"$f":"(M66*3)+(N66*1)","v":6},{"$f":"RANK(R66,$R$62:$R$67)","v":1},"位",{"$f":"P66-Q66","v":3},null,{"$f":"RANK(U66,$U$62:$V$67)","v":1},"位",1,null,null,null,{"$f":"AR8","v":"ＦＣ中津ジュニア"},"星取表",null,null,{"$f":"IF(AF67=\"\",\"\",IF(AF67>AH67,\"○\",IF(AF67<AH67,\"●\",IF(AF67=AH67,\"△\"))))","v":"○"},null,null,{"$f":"IF(AI67=\"\",\"\",IF(AI67>AK67,\"○\",IF(AI67<AK67,\"●\",IF(AI67=AK67,\"△\"))))","v":"●"},null,null,null,null,{"$f":"COUNTIF(AF66:AN66,\"○\")","v":1},{"$f":"COUNTIF(AF66:AN66,\"△\")+COUNTIF(AF66:AN66,\"▲\")","v":0},{"$f":"COUNTIF(AF66:AN66,\"●\")","v":1},{"$f":"SUM(AF67,AI67,AL67)","v":4},{"$f":"SUM(AH67,AK67,AN67)","v":4},{"$f":"(AO66*3)+(AP66*1)","v":3},{"$f":"RANK(AT66,$AT$62:$AT$67)","v":2},"位",{"$f":"AR66-AS66","v":0},null,{"$f":"RANK(AW66,$AW$62:$AW$67)","v":2},"位",2,null,null,null,{"$f":"BT8","v":"鶴居ＳＳＳ"},"星取表",null,null,{"$f":"IF(BH67=\"\",\"\",IF(BH67>BJ67,\"○\",IF(BH67<BJ67,\"●\",IF(BH67=BJ67,\"△\"))))","v":"●"},null,null,{"$f":"IF(BK67=\"\",\"\",IF(BK67>BM67,\"○\",IF(BK67<BM67,\"●\",IF(BK67=BM67,\"△\"))))","v":"●"},null,null,null,null,{"$f":"COUNTIF(BH66:BP66,\"○\")","v":0},{"$f":"COUNTIF(BH66:BP66,\"△\")+COUNTIF(BH66:BP66,\"▲\")","v":0},{"$f":"COUNTIF(BH66:BP66,\"●\")","v":2},{"$f":"SUM(BH67,BK67,BN67)","v":2},{"$f":"SUM(BJ67,BM67,BP67)","v":6},{"$f":"(BQ66*3)+(BR66*1)","v":0},{"$f":"RANK(BV66,$BV$62:$BV$67)","v":3},"位",{"$f":"BT66-BU66","v":-4},null,{"$f":"RANK(BY66,$BY$62:$BY$67)","v":3},"位",3]
[null,"得失点",null,{"$f":"L63","v":3},"-",{"$f":"J63","v":1},{"$f":"L65","v":3},"-",{"$f":"J65","v":2},null,null,null,null,null,null,null,null,null,null,null,null,null,null,null,null,null,null,null,null,"得失点",null,{"$f":"AN63","v":4},"-",{"$f":"AL63","v":2},{"$f":"AN65","v":0},"-",{"$f":"AL65","v":2},null,null,null,null,null,null,null,null,null,null,null,null,null,null,null,null,null,null,null,null,"得失点",null,{"$f":"BP63","v":2},"-",{"$f":"BN63","v":4},{"$f":"BP65","v":0},"-",{"$f":"BN65","v":2}]
[]
[{"$f":"V4","v":"I"},null,null,{"$f":"A70","v":"千怒サッカースポーツ少年団"},null,null,{"$f":"A72","v":"明野東サッカースポーツ少年団"},null,null,{"$f":"A74","v":"別府フットボールクラブ．ミネルバＵ－１２"},null,null,"勝","引\n分","敗","得\n点","失\n点","勝\n点","勝点\n順位",null,"得失\n点差",null,"得失\n順位",null,"ﾄｰﾀﾙ\n順位",null,null,null,{"$f":"AX4","v":"H"},null,null,{"$f":"AC70","v":"カティオーラフットボールクラブ　大在"},null,null,{"$f":"AC72","v":"ドリームキッズサッカークラブ"},null,null,{"$f":"AC74","v":"若宮サッカースポーツ少年団"},null,null,"勝","引\n分","敗","得\n点","失\n点","勝\n点","勝点\n順位",null,"得失\n点差",null,"得失\n順位",null,"ﾄｰﾀﾙ\n順位",null,null,null,{"$f":"BZ4","v":"J"},null,null,{"$f":"BE70","v":"豊後高田ＦＣ　Ｂｏｒｄｅｒ　Ｊｒ"},null,null,{"$f":"BE72","v":"大道サッカースポーツ少年団"},null,null,{"$f":"BE74","v":"明治北ＳＳＣ"},null,null,"勝","引\n分","敗","得\n点","失\n点","勝\n点","勝点\n順位",null,"得失\n点差",null,"得失\n順位",null,"ﾄｰﾀﾙ\n順位"]
[{"$f":"V6","v":"千怒サッカースポーツ少年団"},"星取表",null,null,null,null,null,{"$f":"IF(G71=\"\",\"\",IF(G71>I71,\"○\",IF(G71<I71,\"●\",IF(G71=I71,\"△\"))))","v":"●"},null,null,{"$f":"IF(J71=\"\",\"\",IF(J71>L71,\"○\",IF(J71<L71,\"●\",IF(J71=L71,\"△\"))))","v":"●"},null,{"$f":"COUNTIF(D70:L70,\"○\")","v":0},{"$f":"COUNTIF(D70:L70,\"△\")+COUNTIF(D70:L70,\"▲\")","v":0},{"$f":"COUNTIF(D70:L70,\"●\")","v":2},{"$f":"SUM(D71,G71,J71)","v":0},{"$f":"SUM(F71,I71,L71)","v":16},{"$f":"(M70*3)+(N70*1)","v":0},{"$f":"RANK(R70,$R$70:$R$75)","v":3},"位",{"$f":"P70-Q70","v":-16},null,{"$f":"RANK(U70,$U$70:$V$75)","v":3},"位",3,null,null,null,{"$f":"AX6","v":"カティオーラフットボールクラブ　大在"},"星取表",null,null,null,null,null,{"$f":"IF(AI71=\"\",\"\",IF(AI71>AK71,\"○\",IF(AI71<AK71,\"●\",IF(AI71=AK71,\"△\"))))","v":"○"},null,null,{"$f":"IF(AL71=\"\",\"\",IF(AL71>AN71,\"○\",IF(AL71<AN71,\"●\",IF(AL71=AN71,\"△\"))))","v":"○"},null,{"$f":"COUNTIF(AF70:AN70,\"○\")","v":2},{"$f":"COUNTIF(AF70:AN70,\"△\")+COUNTIF(AF70:AN70,\"▲\")","v":0},{"$f":"COUNTIF(AF70:AN70,\"●\")","v":0},{"$f":"SUM(AF71,AI71,AL71)","v":4},{"$f":"SUM(AH71,AK71,AN71)","v":1},{"$f":"(AO70*3)+(AP70*1)","v":6},{"$f":"RANK(AT70,$AT$70:$AT$75)","v":1},"位",{"$f":"AR70-AS70","v":3},null,{"$f":"RANK(AW70,$AW$70:$AW$75)","v":1},"位",1,null,null,null,{"$f":"BZ6","v":"豊後高田ＦＣ　Ｂｏｒｄｅｒ　Ｊｒ"},"星取表",null,null,null,null,null,{"$f":"IF(BK71=\"\",\"\",IF(BK71>BM71,\"○\",IF(BK71<BM71,\"●\",IF(BK71=BM71,\"△\"))))","v":"●"},null,null,{"$f":"IF(BN71=\"\",\"\",IF(BN71>BP71,\"○\",IF(BN71<BP71,\"●\",IF(BN71=BP71,\"△\"))))","v":"●"},null,{"$f":"COUNTIF(BH70:BP70,\"○\")","v":0},{"$f":"COUNTIF(BH70:BP70,\"△\")+COUNTIF(BH70:BP70,\"▲\")","v":0},{"$f":"COUNTIF(BH70:BP70,\"●\")","v":2},{"$f":"SUM(BH71,BK71,BN71)","v":1},{"$f":"SUM(BJ71,BM71,BP71)","v":8},{"$f":"(BQ70*3)+(BR70*1)","v":0},{"$f":"RANK(BV70,$BV$70:$BV$75)","v":3},"位",{"$f":"BT70-BU70","v":-7},null,{"$f":"RANK(BY70,$BY$70:$BY$75)","v":3},"位",3]
[null,"得失点",null,null,null,null,{"$f":"R16","v":0},"-",{"$f":"V16","v":9},{"$f":"V24","v":0},"-",{"$f":"R24","v":7},null,null,null,null,null,null,null,null,null,null,null,null,null,null,null,null,null,"得失点",null,null,null,null,{"$f":"AT16","v":2},"-",{"$f":"AX16","v":1},{"$f":"AX24","v":2},"-",{"$f":"AT24","v":0},null,null,null,null,null,null,null,null,null,null,null,null,null,null,null,null,null,"得失点",null,null,null,null,{"$f":"BV16","v":1},"-",{"$f":"BZ16","v":4},{"$f":"BZ24","v":0},"-",{"$f":"BV24","v":4}]
[{"$f":"V7","v":"明野東サッカースポーツ少年団"},"星取表",null,null,{"$f":"IF(D73=\"\",\"\",IF(D73>F73,\"○\",IF(D73<F73,\"●\",IF(D73=F73,\"△\"))))","v":"○"},null,null,null,null,null,{"$f":"IF(J73=\"\",\"\",IF(J73>L73,\"○\",IF(J73<L73,\"●\",IF(J73=L73,\"△\"))))","v":"●"},null,{"$f":"COUNTIF(D72:L72,\"○\")","v":1},{"$f":"COUNTIF(D72:L72,\"△\")+COUNTIF(D72:L72,\"▲\")","v":0},{"$f":"COUNTIF(D72:L72,\"●\")","v":1},{"$f":"SUM(D73,G73,J73)","v":9},{"$f":"SUM(F73,I73,L73)","v":2},{"$f":"(M72*3)+(N72*1)","v":3},{"$f":"RANK(R72,$R$70:$R$75)","v":2},"位",{"$f":"P72-Q72","v":7},null,{"$f":"RANK(U72,$U$70:$V$75)","v":2},"位",2,null,null,null,{"$f":"AX7","v":"ドリームキッズサッカークラブ"},"星取表",null,null,{"$f":"IF(AF73=\"\",\"\",IF(AF73>AH73,\"○\",IF(AF73<AH73,\"●\",IF(AF73=AH73,\"△\"))))","v":"●"},null,null,null,null,null,{"$f":"IF(AL73=\"\",\"\",IF(AL73>AN73,\"○\",IF(AL73<AN73,\"●\",IF(AL73=AN73,\"△\"))))","v":"○"},null,{"$f":"COUNTIF(AF72:AN72,\"○\")","v":1},{"$f":"COUNTIF(AF72:AN72,\"△\")+COUNTIF(AF72:AN72,\"▲\")","v":0},{"$f":"COUNTIF(AF72:AN72,\"●\")","v":1},{"$f":"SUM(AF73,AI73,AL73)","v":4},{"$f":"SUM(AH73,AK73,AN73)","v":2},{"$f":"(AO72*3)+(AP72*1)","v":3},{"$f":"RANK(AT72,$AT$70:$AT$75)","v":2},"位",{"$f":"AR72-AS72","v":2},null,{"$f":"RANK(AW72,$AW$70:$AW$75)","v":2},"位",2,null,null,null,{"$f":"BZ7","v":"大道サッカースポーツ少年団"},"星取表",null,null,{"$f":"IF(BH73=\"\",\"\",IF(BH73>BJ73,\"○\",IF(BH73<BJ73,\"●\",IF(BH73=BJ73,\"△\"))))","v":"○"},null,null,null,null,null,{"$f":"IF(BN73=\"\",\"\",IF(BN73>BP73,\"○\",IF(BN73<BP73,\"●\",IF(BN73=BP73,\"△\"))))","v":"●"},null,{"$f":"COUNTIF(BH72:BP72,\"○\")","v":1},{"$f":"COUNTIF(BH72:BP72,\"△\")+COUNTIF(BH72:BP72,\"▲\")","v":0},{"$f":"COUNTIF(BH72:BP72,\"●\")","v":1},{"$f":"SUM(BH73,BK73,BN73)","v":4},{"$f":"SUM(BJ73,BM73,BP73)","v":3},{"$f":"(BQ72*3)+(BR72*1)","v":3},{"$f":"RANK(BV72,$BV$70:$BV$75)","v":2},"位",{"$f":"BT72-BU72","v":1},null,{"$f":"RANK(BY72,$BY$70:$BY$75)","v":2},"位",2]
[null,"得失点",null,{"$f":"I71","v":9},"-",{"$f":"G71","v":0},null,null,null,{"$f":"R20","v":0},"-",{"$f":"V20","v":2},null,null,null,null,null,null,null,null,null,null,null,null,null,null,null,null,null,"得失点",null,{"$f":"AK71","v":1},"-",{"$f":"AI71","v":2},null,null,null,{"$f":"AT20","v":3},"-",{"$f":"AX20","v":0},null,null,null,null,null,null,null,null,null,null,null,null,null,null,null,null,null,"得失点",null,{"$f":"BM71","v":4},"-",{"$f":"BK71","v":1},null,null,null,{"$f":"BV20","v":0},"-",{"$f":"BZ20","v":2}]
[{"$f":"V8","v":"別府フットボールクラブ．ミネルバＵ－１２"},"星取表",null,null,{"$f":"IF(D75=\"\",\"\",IF(D75>F75,\"○\",IF(D75<F75,\"●\",IF(D75=F75,\"△\"))))","v":"○"},null,null,{"$f":"IF(G75=\"\",\"\",IF(G75>I75,\"○\",IF(G75<I75,\"●\",IF(G75=I75,\"△\"))))","v":"○"},null,null,null,null,{"$f":"COUNTIF(D74:L74,\"○\")","v":2},{"$f":"COUNTIF(D74:L74,\"△\")+COUNTIF(D74:L74,\"▲\")","v":0},{"$f":"COUNTIF(D74:L74,\"●\")","v":0},{"$f":"SUM(D75,G75,J75)","v":9},{"$f":"SUM(F75,I75,L75)","v":0},{"$f":"(M74*3)+(N74*1)","v":6},{"$f":"RANK(R74,$R$70:$R$75)","v":1},"位",{"$f":"P74-Q74","v":9},null,{"$f":"RANK(U74,$U$70:$V$75)","v":1},"位",1,null,null,null,{"$f":"AX8","v":"若宮サッカースポーツ少年団"},"星取表",null,null,{"$f":"IF(AF75=\"\",\"\",IF(AF75>AH75,\"○\",IF(AF75<AH75,\"●\",IF(AF75=AH75,\"△\"))))","v":"●"},null,null,{"$f":"IF(AI75=\"\",\"\",IF(AI75>AK75,\"○\",IF(AI75<AK75,\"●\",IF(AI75=AK75,\"△\"))))","v":"●"},null,null,null,null,{"$f":"COUNTIF(AF74:AN74,\"○\")","v":0},{"$f":"COUNTIF(AF74:AN74,\"△\")+COUNTIF(AF74:AN74,\"▲\")","v":0},{"$f":"COUNTIF(AF74:AN74,\"●\")","v":2},{"$f":"SUM(AF75,AI75,AL75)","v":0},{"$f":"SUM(AH75,AK75,AN75)","v":5},{"$f":"(AO74*3)+(AP74*1)","v":0},{"$f":"RANK(AT74,$AT$70:$AT$75)","v":3},"位",{"$f":"AR74-AS74","v":-5},null,{"$f":"RANK(AW74,$AW$70:$AW$75)","v":3},"位",3,null,null,null,{"$f":"BZ8","v":"明治北ＳＳＣ"},"星取表",null,null,{"$f":"IF(BH75=\"\",\"\",IF(BH75>BJ75,\"○\",IF(BH75<BJ75,\"●\",IF(BH75=BJ75,\"△\"))))","v":"○"},null,null,{"$f":"IF(BK75=\"\",\"\",IF(BK75>BM75,\"○\",IF(BK75<BM75,\"●\",IF(BK75=BM75,\"△\"))))","v":"○"},null,null,null,null,{"$f":"COUNTIF(BH74:BP74,\"○\")","v":2},{"$f":"COUNTIF(BH74:BP74,\"△\")+COUNTIF(BH74:BP74,\"▲\")","v":0},{"$f":"COUNTIF(BH74:BP74,\"●\")","v":0},{"$f":"SUM(BH75,BK75,BN75)","v":6},{"$f":"SUM(BJ75,BM75,BP75)","v":0},{"$f":"(BQ74*3)+(BR74*1)","v":6},{"$f":"RANK(BV74,$BV$70:$BV$75)","v":1},"位",{"$f":"BT74-BU74","v":6},null,{"$f":"RANK(BY74,$BY$70:$BY$75)","v":1},"位",1]
[null,"得失点",null,{"$f":"L71","v":7},"-",{"$f":"J71","v":0},{"$f":"L73","v":2},"-",{"$f":"J73","v":0},null,null,null,null,null,null,null,null,null,null,null,null,null,null,null,null,null,null,null,null,"得失点",null,{"$f":"AN71","v":0},"-",{"$f":"AL71","v":2},{"$f":"AN73","v":0},"-",{"$f":"AL73","v":3},null,null,null,null,null,null,null,null,null,null,null,null,null,null,null,null,null,null,null,null,"得失点",null,{"$f":"BP71","v":4},"-",{"$f":"BN71","v":0},{"$f":"BP73","v":2},"-",{"$f":"BN73","v":0}]

{"sheet":"２次リーグ（別府）","index":11,"n_rows":100,"n_cols":67,"rows_kept":100,"cut":false,"hidden":true,"merged":[[14,13,14,17],[14,18,14,20],[14,21,14,22],[15,13,15,17],[15,18,15,20],[15,21,15,22],[16,13,16,17],[16,18,16,20],[16,21,16,22],[14,1,14,5],[14,6,14,8],[14,9,14,10],[15,1,15,5],[15,6,15,8],[15,9,15,10],[16,1,16,5],[16,6,16,8],[16,9,16,10],[32,1,32,5],[32,6,32,8],[32,9,32,10],[33,1,33,5],[33,6,33,8],[33,9,33,10],[34,1,34,5],[34,6,34,8],[34,9,34,10],[52,18,52,20],[52,21,52,22],[32,13,32,17],[32,18,32,20],[32,21,32,22],[33,13,33,17],[33,18,33,20],[33,21,33,22],[34,13,34,17],[34,18,34,20],[34,21,34,22],[50,1,50,5],[50,6,50,8],[50,9,50,10],[51,1,51,5],[51,6,51,8],[51,9,51,10],[52,1,52,5],[52,6,52,8],[52,9,52,10],[89,66,94,66],[89,54,94,55],[89,56,94,57],[89,58,94,59],[89,46,94,47],[91,36,92,37],[91,38,92,38],[91,39,92,40],[89,64,94,65],[89,60,94,61],[83,64,88,65],[83,58,88,59],[89,50,94,51],[89,52,94,53],[89,62,94,63],[93,34,94,35],[93,36,94,37],[93,38,94,38],[93,39,94,40],[87,34,88,35],[87,41,88,42],[83,48,88,49],[83,50,88,51],[83,60,88,61],[83,62,88,63],[83,52,88,53],[83,54,88,55],[83,56,88,57],[91,34,92,35],[89,31,90,35],[89,36,90,40],[93,31,94,32],[93,33,94,33],[71,46,76,47],[71,48,76,49],[71,50,76,51],[71,52,76,53],[71,54,76,55],[77,48,82,49],[77,50,82,51],[71,64,76,65],[81,41,82,42],[81,43,82,43],[77,66,82,66],[79,36,80,37],[79,38,80,38],[81,36,82,37],[81,38,82,38],[81,39,82,40],[79,39,80,40],[79,41,80,42],[79,43,80,43],[79,44,80,45],[14,54,19,55],[14,56,19,57],[32,66,37,66],[34,31,35,32],[34,33,35,33],[34,34,35,35],[34,36,35,37],[34,38,35,38],[34,39,35,40],[36,31,37,32],[36,33,37,33],[32,48,37,49],[32,60,37,61],[32,62,37,63],[32,64,37,65],[32,50,37,51],[32,52,37,53],[32,54,37,55],[32,56,37,57],[32,58,37,59],[14,58,19,59],[14,60,19,61],[14,62,19,63],[20,48,25,49],[0,60,0,66],[1,0,1,10],[1,12,1,22],[1,24,1,58],[0,9,0,10],[0,21,0,22],[24,41,25,42],[24,43,25,43],[24,44,25,45],[14,64,19,65],[14,66,19,66],[20,36,21,40],[20,41,21,45],[20,64,25,65],[20,66,25,66],[22,36,23,37],[22,38,23,38],[22,39,23,40],[14,36,19,40],[14,41,19,45],[14,46,19,47],[14,48,19,49],[14,50,19,51],[14,52,19,53],[3,3,3,10],[3,15,3,22],[3,24,3,26],[3,27,3,32],[3,34,3,48],[5,24,5,26],[6,41,6,44],[5,27,5,32],[0,0,0,8],[0,12,0,20],[0,24,0,58],[7,2,7,8],[7,9,7,10],[7,14,7,20],[7,21,7,22],[7,25,7,27],[7,28,7,40],[7,41,7,44],[6,2,6,8],[6,9,6,10],[6,14,6,20],[6,21,6,22],[6,25,6,27],[6,28,6,40],[8,41,8,44],[11,0,13,0],[11,1,13,1],[11,2,13,2],[11,3,13,3],[11,7,13,7],[11,8,13,8],[11,9,13,9],[11,12,13,12],[11,13,13,13],[11,14,13,14],[11,15,13,15],[11,19,13,19],[11,20,13,20],[11,21,13,21],[17,21,17,22],[14,24,19,27],[14,28,19,30],[14,31,19,35],[20,21,20,22],[8,2,8,8],[8,9,8,10],[8,14,8,20],[8,21,8,22],[8,25,8,27],[8,28,8,40],[18,4,18,5],[18,6,18,8],[18,9,18,10],[18,16,18,17],[18,18,18,20],[18,21,18,22],[19,4,19,5],[19,6,19,8],[19,9,19,10],[19,16,19,17],[19,18,19,20],[19,21,19,22],[20,4,20,5],[20,6,20,8],[20,9,20,10],[20,16,20,17],[20,18,20,20],[17,4,17,5],[17,6,17,8],[17,9,17,10],[17,16,17,17],[17,18,17,20],[20,24,25,28],[20,29,22,30],[20,31,25,35],[20,46,25,47],[22,41,23,42],[22,43,23,43],[22,44,23,45],[24,36,25,37],[24,38,25,38],[24,39,25,40],[20,50,25,51],[20,52,25,53],[20,54,25,55],[20,56,25,57],[20,58,25,59],[20,60,25,61],[20,62,25,63],[23,29,25,30],[26,24,31,28],[26,29,28,30],[26,36,31,40],[26,46,31,47],[28,31,29,32],[28,33,29,33],[28,34,29,35],[28,41,29,42],[30,31,31,32],[30,33,31,33],[26,31,27,35],[26,41,27,45],[28,44,29,45],[26,60,31,61],[26,62,31,63],[29,29,31,30],[83,66,88,66],[85,31,86,32],[85,33,86,33],[85,34,86,35],[39,24,40,57],[41,24,42,25],[41,26,42,26],[41,29,42,29],[41,32,42,32],[71,24,76,27],[71,28,76,30],[71,31,76,35],[71,36,76,40],[71,41,76,45],[63,25,64,27],[63,28,64,40],[71,56,76,57],[71,58,76,59],[71,60,76,61],[71,62,76,63],[71,66,76,66],[77,36,78,40],[77,41,78,45],[77,64,82,65],[77,24,82,28],[77,29,79,30],[77,31,82,35],[77,46,82,47],[29,0,31,0],[29,1,31,1],[29,2,31,2],[29,3,31,3],[29,7,31,7],[29,8,31,8],[29,9,31,9],[29,12,31,12],[29,13,31,13],[29,14,31,14],[29,15,31,15],[29,19,31,19],[29,20,31,20],[29,21,31,21],[47,24,48,58],[35,4,35,5],[35,6,35,8],[35,9,35,10],[36,4,36,5],[36,6,36,8],[47,60,48,66],[49,24,50,58],[41,35,42,35],[26,64,31,65],[26,66,31,66],[28,43,29,43],[47,20,49,20],[47,14,49,14],[47,15,49,15],[47,19,49,19],[47,21,49,21],[26,54,31,55],[26,56,31,57],[26,58,31,59],[30,34,31,35],[30,41,31,42],[30,43,31,43],[30,44,31,45],[26,48,31,49],[26,50,31,51],[26,52,31,53],[32,36,33,40],[36,34,37,35],[36,36,37,37],[56,18,56,20],[56,21,56,22],[32,24,37,28],[32,29,34,30],[32,41,37,45],[32,46,37,47],[32,31,33,35],[35,16,35,17],[35,18,35,20],[35,21,35,22],[53,18,53,20],[53,21,53,22],[35,29,37,30],[53,33,54,33],[53,34,54,48],[36,38,37,38],[36,39,37,40],[50,13,50,17],[50,18,50,20],[50,21,50,22],[51,13,51,17],[51,18,51,20],[51,21,51,22],[52,13,52,17],[36,9,36,10],[36,16,36,17],[36,18,36,20],[36,21,36,22],[37,4,37,5],[37,6,37,8],[37,9,37,10],[37,16,37,17],[37,18,37,20],[37,21,37,22],[38,4,38,5],[38,6,38,8],[38,9,38,10],[38,16,38,17],[38,18,38,20],[38,21,38,22],[77,58,82,59],[77,60,82,61],[77,62,82,63],[81,44,82,45],[55,4,55,5],[55,6,55,8],[55,9,55,10],[55,16,55,17],[55,18,55,20],[55,21,55,22],[56,4,56,5],[56,6,56,8],[56,9,56,10],[56,16,56,17],[53,4,53,5],[53,6,53,8],[53,9,53,10],[53,16,53,17],[83,24,88,28],[83,29,85,30],[83,36,88,40],[83,46,88,47],[85,41,86,42],[85,43,86,43],[85,44,86,45],[87,31,88,32],[86,29,88,30],[87,44,88,45],[87,43,88,43],[83,31,84,35],[83,41,84,45],[87,33,88,33],[47,0,49,0],[47,1,49,1],[47,2,49,2],[47,3,49,3],[47,7,49,7],[47,8,49,8],[47,9,49,9],[47,12,49,12],[47,13,49,13],[54,4,54,5],[54,6,54,8],[54,9,54,10],[54,16,54,17],[54,18,54,20],[54,21,54,22],[63,41,64,44],[98,24,99,25],[98,26,99,26],[98,29,99,29],[98,32,99,32],[96,24,97,57],[89,48,94,49],[92,29,94,30],[89,24,94,28],[89,29,91,30],[80,29,82,30],[77,52,82,53],[77,54,82,55],[77,56,82,57],[98,35,99,35],[89,41,94,45],[91,31,92,32],[91,33,92,33],[57,24,58,26],[57,27,58,32],[59,28,60,40],[61,28,62,40],[59,25,60,27],[61,25,62,27],[53,24,54,26],[53,27,54,32],[59,41,60,44],[61,41,62,44]]}
[{"$f":"出場チーム!B1","v":"OFA 第 50 回大分県少年サッカー大会　兼　KYFA 九州U-12サッカー大会大分県大会"},null,null,null,null,null,null,null,null,"２次リーグ結果　報告用紙",null,null,{"$f":"出場チーム!B1","v":"OFA 第 50 回大分県少年サッカー大会　兼　KYFA 九州U-12サッカー大会大分県大会"},null,null,null,null,null,null,null,null,"２次リーグ結果　報告用紙",null,null,{"$f":"$A$1","v":"OFA 第 50 回大分県少年サッカー大会　兼　KYFA 九州U-12サッカー大会大分県大会"},null,null,null,null,null,null,null,null,null,null,null,null,null,null,null,null,null,null,null,null,null,null,null,null,null,null,null,null,null,null,null,null,null,null,null,{"$f":"$J$1","v":"２次リーグ結果　報告用紙"}]
["＜時間割＞　①10:00～　②11:00～　③12:00～　④13:00～　⑤14:00～　⑥15:00～",null,null,null,null,null,null,null,null,null,null,null,"＜時間割＞　①10:00～　②11:00～　③12:00～　④13:00～　⑤14:00～　⑥15:00～",null,null,null,null,null,null,null,null,null,null,null,"＜時間割＞　①10:00～　②11:00～　③12:00～　④13:00～　⑤14:00～　⑥15:00～"]
[]
["会場",{"$f":"組み合わせ!D6","v":"別府"},"⇒",{"$f":"VLOOKUP(B4,出場チーム!$B$51:$F$59,2,FALSE)","v":"実相寺ｻｯｶｰ競技場(人工芝)"},null,null,null,null,null,null,null,null,"会場",{"$f":"組み合わせ!D6","v":"別府"},"⇒",{"$f":"VLOOKUP(N4,出場チーム!$B$51:$F$59,2,FALSE)","v":"実相寺ｻｯｶｰ競技場(人工芝)"},null,null,null,null,null,null,null,null,"会場",null,null,{"$f":"$B$4","v":"別府"},null,null,null,null,null,"⇒",{"$f":"$D$4","v":"実相寺ｻｯｶｰ競技場(人工芝)"}]
[]
["パート",{"$f":"組み合わせ!H33","v":"2次リーグ　Aパート"},null,null,null,null,null,null,null,null,null,null,"パート",{"$f":"組み合わせ!CB33","v":"2次リーグ　Cパート"},null,null,null,null,null,null,null,null,null,null,"パート",null,null,{"$f":"$B$6","v":"2次リーグ　Aパート"}]
[null,{"$f":"組み合わせ!$H$36","v":"A"},{"$f":"組み合わせ!$L$36","v":"ＦＣ　ＵＮＩＴＥ"},null,null,null,null,null,null,{"$f":"HLOOKUP(C7,組み合わせ!$B$49:$EO$86,31,FALSE)","v":"宇佐高田"},null,null,null,{"$f":"組み合わせ!$CB$36","v":"G"},{"$f":"組み合わせ!$CF$36","v":"ブルーウイングフットボールクラブ"},null,null,null,null,null,null,{"$f":"HLOOKUP(O7,組み合わせ!$B$49:$EO$86,31,FALSE)","v":"大分"},null,null,null,{"$f":"+B7","v":"A"},null,null,{"$f":"$C$7","v":"ＦＣ　ＵＮＩＴＥ"},null,null,null,null,null,null,null,null,null,null,null,null,{"$f":"$J$7","v":"宇佐高田"}]
[null,{"$f":"組み合わせ!$H$38","v":"B"},{"$f":"組み合わせ!$L$38","v":"スマイス　セレソン　スポーツクラブ"},null,null,null,null,null,null,{"$f":"HLOOKUP(C8,組み合わせ!$B$49:$EO$86,31,FALSE)","v":"大分"},null,null,null,{"$f":"組み合わせ!$CB$38","v":"H"},{"$f":"組み合わせ!$CF$38","v":"カティオーラフットボールクラブ　大在"},null,null,null,null,null,null,{"$f":"HLOOKUP(O8,組み合わせ!$B$49:$EO$86,31,FALSE)","v":"大分"},null,null,null,{"$f":"+B8","v":"B"},null,null,{"$f":"$C$8","v":"スマイス　セレソン　スポーツクラブ"},null,null,null,null,null,null,null,null,null,null,null,null,{"$f":"$J$8","v":"大分"}]
[null,{"$f":"組み合わせ!$H$40","v":"C"},{"$f":"組み合わせ!$L$40","v":"スマイス・セレソン"},null,null,null,null,null,null,{"$f":"HLOOKUP(C9,組み合わせ!$B$49:$EO$86,31,FALSE)","v":"別府"},null,null,null,{"$f":"組み合わせ!$CB$40","v":"I"},{"$f":"組み合わせ!$CF$40","v":"別府フットボールクラブ．ミネルバＵ－１２"},null,null,null,null,null,null,{"$f":"HLOOKUP(O9,組み合わせ!$B$49:$EO$86,31,FALSE)","v":"別府"},null,null,null,{"$f":"+B9","v":"C"},null,null,{"$f":"$C$9","v":"スマイス・セレソン"},null,null,null,null,null,null,null,null,null,null,null,null,{"$f":"$J$9","v":"別府"}]
["8：50～ＭＣＭ",null,null,null,null,null,null,null,null,null,null,null,"9：50～ＭＣＭ"]
[]
["①\n10:00～",{"$f":"C7","v":"ＦＣ　ＵＮＩＴＥ"},{"$f":"IF(E12=\"\",\"\",SUM(E12:E13))","v":1},"（",0,"前半",0,"）",{"$f":"IF(G12=\"\",\"\",SUM(G12:G13))","v":1},{"$f":"C8","v":"スマイス　セレソン　スポーツクラブ"},null,null,"②\n11:00～",{"$f":"O7","v":"ブルーウイングフットボールクラブ"},{"$f":"IF(Q12=\"\",\"\",SUM(Q12:Q13))","v":5},"（",3,"前半",0,"）",{"$f":"IF(S12=\"\",\"\",SUM(S12:S13))","v":1},{"$f":"O8","v":"カティオーラフットボールクラブ　大在"}]
[null,null,null,null,1,"後半",1,null,null,null,null,null,null,null,null,null,2,"後半",1]
[null,null,null,null,null,"PK",null,null,null,null,null,null,null,null,null,null,null,"PK"]
["MC","伊東　雅弘",null,null,null,null,"所属協会",null,null,"別府市サッカー協会",null,null,"MC","河野　勝",null,null,null,null,"所属協会",null,null,"別府市サッカー協会",null,null,{"$f":"$Y$6","v":"パート"},null,null,null,{"$f":"$AB$6","v":"2次リーグ　Aパート"},null,null,{"$f":"$Y$21","v":"ＦＣ　ＵＮＩＴＥ"},null,null,null,null,{"$f":"$Y$27","v":"スマイス　セレソン　スポーツクラブ"},null,null,null,null,{"$f":"$Y$33","v":"スマイス・セレソン"},null,null,null,null,"勝",null,"PK\n勝",null,"PK\n負",null,"負",null,"得点",null,"失点",null,"勝点",null,"勝点\n順位",null,"得失\n点差",null,"得失\n順位",null,"総\n順位"]
["WelfareOfficer","秦　啓一郎",null,null,null,null,"所属協会",null,null,"(一社)大分県サッカー協会　ジュニア委員会",null,null,"WelfareOfficer","秦　啓一郎",null,null,null,null,"所属協会",null,null,"(一社)大分県サッカー協会　ジュニア委員会"]
["記録","流川　新",null,null,null,null,"所属協会",null,null,"別府市サッカー協会",null,null,"記録","切封　智和",null,null,null,null,"所属協会",null,null,"別府市サッカー協会"]
["R:",{"$f":"IF(ISERROR(VLOOKUP(G18,審判員!$A:$C,2,FALSE))=TRUE,\"\",VLOOKUP(G18,審判員!$A:$C,2,FALSE))","v":"足達　実生"},{"$f":"IF(ISERROR(VLOOKUP(G18,審判員!$A:$C,3,FALSE))=TRUE,\"\",VLOOKUP(G18,審判員!$A:$C,3,FALSE))","v":2},"級","資格番号",null,"R000879756",null,null,"本部",null,null,"R:",{"$f":"IF(ISERROR(VLOOKUP(S18,審判員!$A:$C,2,FALSE))=TRUE,\"\",VLOOKUP(S18,審判員!$A:$C,2,FALSE))","v":"後藤　樹明"},{"$f":"IF(ISERROR(VLOOKUP(S18,審判員!$A:$C,3,FALSE))=TRUE,\"\",VLOOKUP(S18,審判員!$A:$C,3,FALSE))","v":2},"級","資格番号",null,"R001265376",null,null,"本部"]
["AR1:",{"$f":"IF(ISERROR(VLOOKUP(G19,審判員!$A:$C,2,FALSE))=TRUE,\"\",VLOOKUP(G19,審判員!$A:$C,2,FALSE))","v":"有田　裕哉"},{"$f":"IF(ISERROR(VLOOKUP(G19,審判員!$A:$C,3,FALSE))=TRUE,\"\",VLOOKUP(G19,審判員!$A:$C,3,FALSE))","v":3},"級","資格番号",null,"R004225713",null,null,{"$f":"N12","v":"ブルーウイングフットボールクラブ"},null,null,"AR1:",{"$f":"IF(ISERROR(VLOOKUP(S19,審判員!$A:$C,2,FALSE))=TRUE,\"\",VLOOKUP(S19,審判員!$A:$C,2,FALSE))","v":"相良　章成"},{"$f":"IF(ISERROR(VLOOKUP(S19,審判員!$A:$C,3,FALSE))=TRUE,\"\",VLOOKUP(S19,審判員!$A:$C,3,FALSE))","v":3},"級","資格番号",null,"R006664864",null,null,{"$f":"B12","v":"ＦＣ　ＵＮＩＴＥ"}]
["AR2:",{"$f":"IF(ISERROR(VLOOKUP(G20,審判員!$A:$C,2,FALSE))=TRUE,\"\",VLOOKUP(G20,審判員!$A:$C,2,FALSE))","v":"篠田　裕也"},{"$f":"IF(ISERROR(VLOOKUP(G20,審判員!$A:$C,3,FALSE))=TRUE,\"\",VLOOKUP(G20,審判員!$A:$C,3,FALSE))","v":3},"級","資格番号",null,"R010073990",null,null,{"$f":"V12","v":"カティオーラフットボールクラブ　大在"},null,null,"AR2:",{"$f":"IF(ISERROR(VLOOKUP(S20,審判員!$A:$C,2,FALSE))=TRUE,\"\",VLOOKUP(S20,審判員!$A:$C,2,FALSE))","v":"マガリェンス　リシャルドソン"},{"$f":"IF(ISERROR(VLOOKUP(S20,審判員!$A:$C,3,FALSE))=TRUE,\"\",VLOOKUP(S20,審判員!$A:$C,3,FALSE))","v":3},"級","資格番号",null,"R001260557",null,null,{"$f":"J12","v":"スマイス　セレソン　スポーツクラブ"}]
["4th:",{"$f":"IF(ISERROR(VLOOKUP(G21,審判員!$A:$C,2,FALSE))=TRUE,\"\",VLOOKUP(G21,審判員!$A:$C,2,FALSE))","v":"切封　智和"},{"$f":"IF(ISERROR(VLOOKUP(G21,審判員!$A:$C,3,FALSE))=TRUE,\"\",VLOOKUP(G21,審判員!$A:$C,3,FALSE))","v":3},"級","資格番号",null,"R001263068",null,null,"本部",null,null,"4th:",{"$f":"IF(ISERROR(VLOOKUP(S21,審判員!$A:$C,2,FALSE))=TRUE,\"\",VLOOKUP(S21,審判員!$A:$C,2,FALSE))","v":"香川　豊"},{"$f":"IF(ISERROR(VLOOKUP(S21,審判員!$A:$C,3,FALSE))=TRUE,\"\",VLOOKUP(S21,審判員!$A:$C,3,FALSE))","v":4},"級","資格番号",null,"R005987397",null,null,"本部",null,null,{"$f":"$AC$7","v":"ＦＣ　ＵＮＩＴＥ"},null,null,null,null,"星取表",null,null,null,null,null,null,{"$f":"IF(AK25=\"\",\"\",IF(AK25>AN25,\"○\",IF(AK25<AN25,\"●\",IF(AK23>AN23,\"△\",IF(AK23<AN23,\"▲\")))))","v":false},null,null,null,null,{"$f":"IF(AP25=\"\",\"\",IF(AP25>AS25,\"○\",IF(AP25<AS25,\"●\",IF(AP23>AS23,\"△\",IF(AP23<AS23,\"▲\")))))","v":false},null,null,null,null,{"$f":"COUNTIF($AF$21:$AT$22,\"○\")","v":0},null,{"$f":"COUNTIF($AF$21:$AT$22,\"△\")","v":0},null,{"$f":"COUNTIF($AF$21:$AT$22,\"▲\")","v":0},null,{"$f":"COUNTIF($AF$21:$AT$22,\"●\")","v":0},null,{"$f":"SUM($AK$25,$AP$25)","v":2},null,{"$f":"SUM($AN$25,$AS$25)","v":2},null,{"$f":"($AU$21*3)+($AW$21*2)+($AY$21*1)","v":0},null,{"$f":"RANK($BG$21,$BG$21:$BH$38)","v":2},null,{"$f":"$BC$21-$BE$21","v":0},null,{"$f":"RANK($BK$21,$BK$21:$BL$38)","v":2}]
["警告/退場","氏名","背番号","分","内容",null,"内容","分","背番号","氏名","警告/退場",null,"警告/退場","氏名","背番号","分","内容",null,"内容","分","背番号","氏名","警告/退場"]
[null,{"$f":"IF(ISERROR(VLOOKUP(CONCATENATE($B$12,\"_\",C23),選手名簿!$A:$E,5,FALSE))=TRUE,\"\",VLOOKUP(CONCATENATE($B$12,\"_\",C23),選手名簿!$A:$E,5,FALSE))","v":""},null,null,null,null,null,null,null,{"$f":"IF(ISERROR(VLOOKUP(CONCATENATE($J$12,\"_\",I23),選手名簿!$A:$E,5,FALSE))=TRUE,\"\",VLOOKUP(CONCATENATE($J$12,\"_\",I23),選手名簿!$A:$E,5,FALSE))","v":""},null,null,null,{"$f":"IF(ISERROR(VLOOKUP(CONCATENATE($N$12,\"_\",O23),選手名簿!$A:$E,5,FALSE))=TRUE,\"\",VLOOKUP(CONCATENATE($N$12,\"_\",O23),選手名簿!$A:$E,5,FALSE))","v":""},null,null,null,null,null,null,null,{"$f":"IF(ISERROR(VLOOKUP(CONCATENATE($V$12,\"_\",U23),選手名簿!$A:$E,5,FALSE))=TRUE,\"\",VLOOKUP(CONCATENATE($V$12,\"_\",U23),選手名簿!$A:$E,5,FALSE))","v":""},null,null,null,null,null,null,null,null,null,null,null,null,null,null,{"$f":"IF($E$14=\"\",\"\",$E$14)","v":""},null,"―",{"$f":"IF($G$14=\"\",\"\",$G$14)","v":""},null,{"$f":"IF($G$50=\"\",\"\",$G$50)","v":""},null,"―",{"$f":"IF($E$50=\"\",\"\",$E$50)","v":""}]
[null,{"$f":"IF(ISERROR(VLOOKUP(CONCATENATE($B$12,\"_\",C24),選手名簿!$A:$E,5,FALSE))=TRUE,\"\",VLOOKUP(CONCATENATE($B$12,\"_\",C24),選手名簿!$A:$E,5,FALSE))","v":""},null,null,null,null,null,null,null,{"$f":"IF(ISERROR(VLOOKUP(CONCATENATE($J$12,\"_\",I24),選手名簿!$A:$E,5,FALSE))=TRUE,\"\",VLOOKUP(CONCATENATE($J$12,\"_\",I24),選手名簿!$A:$E,5,FALSE))","v":""},null,null,null,{"$f":"IF(ISERROR(VLOOKUP(CONCATENATE($N$12,\"_\",O24),選手名簿!$A:$E,5,FALSE))=TRUE,\"\",VLOOKUP(CONCATENATE($N$12,\"_\",O24),選手名簿!$A:$E,5,FALSE))","v":""},null,null,null,null,null,null,null,{"$f":"IF(ISERROR(VLOOKUP(CONCATENATE($V$12,\"_\",U24),選手名簿!$A:$E,5,FALSE))=TRUE,\"\",VLOOKUP(CONCATENATE($V$12,\"_\",U24),選手名簿!$A:$E,5,FALSE))","v":""},null,null,null,null,null,null,null,"得失点"]
[null,{"$f":"IF(ISERROR(VLOOKUP(CONCATENATE($B$12,\"_\",C25),選手名簿!$A:$E,5,FALSE))=TRUE,\"\",VLOOKUP(CONCATENATE($B$12,\"_\",C25),選手名簿!$A:$E,5,FALSE))","v":""},null,null,null,null,null,null,null,{"$f":"IF(ISERROR(VLOOKUP(CONCATENATE($J$12,\"_\",I25),選手名簿!$A:$E,5,FALSE))=TRUE,\"\",VLOOKUP(CONCATENATE($J$12,\"_\",I25),選手名簿!$A:$E,5,FALSE))","v":""},null,null,null,{"$f":"IF(ISERROR(VLOOKUP(CONCATENATE($N$12,\"_\",O25),選手名簿!$A:$E,5,FALSE))=TRUE,\"\",VLOOKUP(CONCATENATE($N$12,\"_\",O25),選手名簿!$A:$E,5,FALSE))","v":""},null,null,null,null,null,null,null,{"$f":"IF(ISERROR(VLOOKUP(CONCATENATE($V$12,\"_\",U25),選手名簿!$A:$E,5,FALSE))=TRUE,\"\",VLOOKUP(CONCATENATE($V$12,\"_\",U25),選手名簿!$A:$E,5,FALSE))","v":""},null,null,null,null,null,null,null,null,null,null,null,null,null,null,{"$f":"$C$12","v":1},null,"―",{"$f":"$I$12","v":1},null,{"$f":"$I$48","v":1},null,"―",{"$f":"$C$48","v":1}]
[null,{"$f":"IF(ISERROR(VLOOKUP(CONCATENATE($B$12,\"_\",C26),選手名簿!$A:$E,5,FALSE))=TRUE,\"\",VLOOKUP(CONCATENATE($B$12,\"_\",C26),選手名簿!$A:$E,5,FALSE))","v":""},null,null,null,null,null,null,null,{"$f":"IF(ISERROR(VLOOKUP(CONCATENATE($J$12,\"_\",I26),選手名簿!$A:$E,5,FALSE))=TRUE,\"\",VLOOKUP(CONCATENATE($J$12,\"_\",I26),選手名簿!$A:$E,5,FALSE))","v":""},null,null,null,{"$f":"IF(ISERROR(VLOOKUP(CONCATENATE($N$12,\"_\",O26),選手名簿!$A:$E,5,FALSE))=TRUE,\"\",VLOOKUP(CONCATENATE($N$12,\"_\",O26),選手名簿!$A:$E,5,FALSE))","v":""},null,null,null,null,null,null,null,{"$f":"IF(ISERROR(VLOOKUP(CONCATENATE($V$12,\"_\",U26),選手名簿!$A:$E,5,FALSE))=TRUE,\"\",VLOOKUP(CONCATENATE($V$12,\"_\",U26),選手名簿!$A:$E,5,FALSE))","v":""}]
[null,{"$f":"IF(ISERROR(VLOOKUP(CONCATENATE($B$12,\"_\",C27),選手名簿!$A:$E,5,FALSE))=TRUE,\"\",VLOOKUP(CONCATENATE($B$12,\"_\",C27),選手名簿!$A:$E,5,FALSE))","v":""},null,null,null,null,null,null,null,{"$f":"IF(ISERROR(VLOOKUP(CONCATENATE($J$12,\"_\",I27),選手名簿!$A:$E,5,FALSE))=TRUE,\"\",VLOOKUP(CONCATENATE($J$12,\"_\",I27),選手名簿!$A:$E,5,FALSE))","v":""},null,null,null,{"$f":"IF(ISERROR(VLOOKUP(CONCATENATE($N$12,\"_\",O27),選手名簿!$A:$E,5,FALSE))=TRUE,\"\",VLOOKUP(CONCATENATE($N$12,\"_\",O27),選手名簿!$A:$E,5,FALSE))","v":""},null,null,null,null,null,null,null,{"$f":"IF(ISERROR(VLOOKUP(CONCATENATE($V$12,\"_\",U27),選手名簿!$A:$E,5,FALSE))=TRUE,\"\",VLOOKUP(CONCATENATE($V$12,\"_\",U27),選手名簿!$A:$E,5,FALSE))","v":""},null,null,{"$f":"$AC$8","v":"スマイス　セレソン　スポーツクラブ"},null,null,null,null,"星取表",null,{"$f":"IF(AF31=\"\",\"\",IF(AF31>AI31,\"○\",IF(AF31<AI31,\"●\",IF(AF29>AI29,\"△\",IF(AF29<AI29,\"▲\")))))","v":false},null,null,null,null,null,null,null,null,null,{"$f":"IF(AP31=\"\",\"\",IF(AP31>AS31,\"○\",IF(AP31<AS31,\"●\",IF(AP29>AS29,\"△\",IF(AP29<AS29,\"▲\")))))","v":"●"},null,null,null,null,{"$f":"COUNTIF($AF$27:$AT$28,\"○\")","v":0},null,{"$f":"COUNTIF($AF$27:$AT$28,\"△\")","v":0},null,{"$f":"COUNTIF($AF$27:$AT$28,\"▲\")","v":0},null,{"$f":"COUNTIF($AF$27:$AT$28,\"●\")","v":1},null,{"$f":"SUM($AF$31,$AP$31)","v":1},null,{"$f":"SUM($AI$31,$AS$31)","v":4},null,{"$f":"($AU$27*3)+($AW$27*2)+($AY$27*1)","v":0},null,{"$f":"RANK($BG$27,$BG$21:$BH$38)","v":2},null,{"$f":"$BC$27-$BE$27","v":-3},null,{"$f":"RANK($BK$27,$BK$21:$BL$38)","v":3}]
[]
[null,null,null,null,null,null,null,null,null,null,null,null,null,null,null,null,null,null,null,null,null,null,null,null,null,null,null,null,null,null,null,{"$f":"AN23","v":""},null,"―",{"$f":"AK23","v":""},null,null,null,null,null,null,{"$f":"IF($E$32=\"\",\"\",$E$32)","v":""},null,"―",{"$f":"IF($G$32=\"\",\"\",$G$32)","v":""}]
["③\n12:00～",{"$f":"C8","v":"スマイス　セレソン　スポーツクラブ"},{"$f":"IF(E30=\"\",\"\",SUM(E30:E31))","v":0},"（",0,"前半",2,"）",{"$f":"IF(G30=\"\",\"\",SUM(G30:G31))","v":3},{"$f":"C9","v":"スマイス・セレソン"},null,null,"④\n13:00～",{"$f":"O8","v":"カティオーラフットボールクラブ　大在"},{"$f":"IF(Q30=\"\",\"\",SUM(Q30:Q31))","v":0},"（",0,"前半",3,"）",{"$f":"IF(S30=\"\",\"\",SUM(S30:S31))","v":4},{"$f":"O9","v":"別府フットボールクラブ．ミネルバＵ－１２"},null,null,null,null,null,null,null,"得失点"]
[null,null,null,null,0,"後半",1,null,null,null,null,null,null,null,null,null,0,"後半",1,null,null,null,null,null,null,null,null,null,null,null,null,{"$f":"AN25","v":1},null,"―",{"$f":"AK25","v":1},null,null,null,null,null,null,{"$f":"$C$30","v":0},null,"―",{"$f":"$I$30","v":3}]
[null,null,null,null,null,"PK",null,null,null,null,null,null,null,null,null,null,null,"PK"]
["MC","伊東　雅弘",null,null,null,null,"所属協会",null,null,"別府市サッカー協会",null,null,"MC","河野　勝",null,null,null,null,"所属協会",null,null,"別府市サッカー協会",null,null,{"$f":"$AC$9","v":"スマイス・セレソン"},null,null,null,null,"星取表",null,{"$f":"IF(AF37=\"\",\"\",IF(AF37>AI37,\"○\",IF(AF37<AI37,\"●\",IF(AF35>AI35,\"△\",IF(AF35<AI35,\"▲\")))))","v":false},null,null,null,null,{"$f":"IF(AK37=\"\",\"\",IF(AK37>AN37,\"○\",IF(AK37<AN37,\"●\",IF(AK35>AN35,\"△\",IF(AK35<AN35,\"▲\")))))","v":"○"},null,null,null,null,null,null,null,null,null,{"$f":"COUNTIF($AF$33:$AT$34,\"○\")","v":1},null,{"$f":"COUNTIF($AF$33:$AT$34,\"△\")","v":0},null,{"$f":"COUNTIF($AF$33:$AT$34,\"▲\")","v":0},null,{"$f":"COUNTIF($AF$33:$AT$34,\"●\")","v":0},null,{"$f":"SUM($AF$37,$AK$37)","v":4},null,{"$f":"SUM($AI$37,$AN$37)","v":1},null,{"$f":"($AU$33*3)+($AW$33*2)+($AY$33*1)","v":3},null,{"$f":"RANK($BG$33,$BG$21:$BH$38)","v":1},null,{"$f":"$BC$33-$BE$33","v":3},null,{"$f":"RANK($BK$33,$BK$21:$BL$38)","v":1}]
["WelfareOfficer","秦　啓一郎",null,null,null,null,"所属協会",null,null,"(一社)大分県サッカー協会　ジュニア委員会",null,null,"WelfareOfficer","秦　啓一郎",null,null,null,null,"所属協会",null,null,"(一社)大分県サッカー協会　ジュニア委員会"]
["記録","香川　豊",null,null,null,null,"所属協会",null,null,"別府市サッカー協会",null,null,"記録","流川　新",null,null,null,null,"所属協会",null,null,"別府市サッカー協会",null,null,null,null,null,null,null,null,null,{"$f":"AS23","v":""},null,"―",{"$f":"AP23","v":""},null,{"$f":"AS29","v":""},null,"―",{"$f":"AP29","v":""}]
["R:",{"$f":"IF(ISERROR(VLOOKUP(G36,審判員!$A:$C,2,FALSE))=TRUE,\"\",VLOOKUP(G36,審判員!$A:$C,2,FALSE))","v":"足達　実生"},{"$f":"IF(ISERROR(VLOOKUP(G36,審判員!$A:$C,3,FALSE))=TRUE,\"\",VLOOKUP(G36,審判員!$A:$C,3,FALSE))","v":2},"級","資格番号",null,"R000879756",null,null,"本部",null,null,"R:",{"$f":"IF(ISERROR(VLOOKUP(S36,審判員!$A:$C,2,FALSE))=TRUE,\"\",VLOOKUP(S36,審判員!$A:$C,2,FALSE))","v":"後藤　樹明"},{"$f":"IF(ISERROR(VLOOKUP(S36,審判員!$A:$C,3,FALSE))=TRUE,\"\",VLOOKUP(S36,審判員!$A:$C,3,FALSE))","v":2},"級","資格番号",null,"R001265376",null,null,"本部",null,null,null,null,null,null,null,"得失点"]
["AR1:",{"$f":"IF(ISERROR(VLOOKUP(G37,審判員!$A:$C,2,FALSE))=TRUE,\"\",VLOOKUP(G37,審判員!$A:$C,2,FALSE))","v":"篠田　裕也"},{"$f":"IF(ISERROR(VLOOKUP(G37,審判員!$A:$C,3,FALSE))=TRUE,\"\",VLOOKUP(G37,審判員!$A:$C,3,FALSE))","v":3},"級","資格番号",null,"R010073990",null,null,{"$f":"N30","v":"カティオーラフットボールクラブ　大在"},null,null,"AR1:",{"$f":"IF(ISERROR(VLOOKUP(S37,審判員!$A:$C,2,FALSE))=TRUE,\"\",VLOOKUP(S37,審判員!$A:$C,2,FALSE))","v":"マガリェンス　リシャルドソン"},{"$f":"IF(ISERROR(VLOOKUP(S37,審判員!$A:$C,3,FALSE))=TRUE,\"\",VLOOKUP(S37,審判員!$A:$C,3,FALSE))","v":3},"級","資格番号",null,"R001260557",null,null,{"$f":"B30","v":"スマイス　セレソン　スポーツクラブ"},null,null,null,null,null,null,null,null,null,{"$f":"AS25","v":1},null,"―",{"$f":"AP25","v":1},null,{"$f":"AS31","v":3},null,"―",{"$f":"AP31","v":0}]
["AR2:",{"$f":"IF(ISERROR(VLOOKUP(G38,審判員!$A:$C,2,FALSE))=TRUE,\"\",VLOOKUP(G38,審判員!$A:$C,2,FALSE))","v":"永路　尚道"},{"$f":"IF(ISERROR(VLOOKUP(G38,審判員!$A:$C,3,FALSE))=TRUE,\"\",VLOOKUP(G38,審判員!$A:$C,3,FALSE))","v":3},"級","資格番号",null,"R003421161",null,null,{"$f":"V30","v":"別府フットボールクラブ．ミネルバＵ－１２"},null,null,"AR2:",{"$f":"IF(ISERROR(VLOOKUP(S38,審判員!$A:$C,2,FALSE))=TRUE,\"\",VLOOKUP(S38,審判員!$A:$C,2,FALSE))","v":"信田　卓也"},{"$f":"IF(ISERROR(VLOOKUP(S38,審判員!$A:$C,3,FALSE))=TRUE,\"\",VLOOKUP(S38,審判員!$A:$C,3,FALSE))","v":3},"級","資格番号",null,"R004326535",null,null,{"$f":"J30","v":"スマイス・セレソン"}]
["4th:",{"$f":"IF(ISERROR(VLOOKUP(G39,審判員!$A:$C,2,FALSE))=TRUE,\"\",VLOOKUP(G39,審判員!$A:$C,2,FALSE))","v":"流川　新"},{"$f":"IF(ISERROR(VLOOKUP(G39,審判員!$A:$C,3,FALSE))=TRUE,\"\",VLOOKUP(G39,審判員!$A:$C,3,FALSE))","v":4},"級","資格番号",null,"R005987403",null,null,"本部",null,null,"4th:",{"$f":"IF(ISERROR(VLOOKUP(S39,審判員!$A:$C,2,FALSE))=TRUE,\"\",VLOOKUP(S39,審判員!$A:$C,2,FALSE))","v":"切封　智和"},{"$f":"IF(ISERROR(VLOOKUP(S39,審判員!$A:$C,3,FALSE))=TRUE,\"\",VLOOKUP(S39,審判員!$A:$C,3,FALSE))","v":3},"級","資格番号",null,"R001263068",null,null,"本部"]
["警告/退場","氏名","背番号","分","内容",null,"内容","分","背番号","氏名","警告/退場",null,"警告/退場","氏名","背番号","分","内容",null,"内容","分","背番号","氏名","警告/退場",null,"Ⅰ勝点（勝３点　ＰＫ勝２点　ＰＫ負１点　負０点）　Ⅱ当該チームの戦績　Ⅲ得失点差　Ⅳ多得点　Ⅴ抽選の順で順位を決定する。"]
[null,{"$f":"IF(ISERROR(VLOOKUP(CONCATENATE($B$30,\"_\",C41),選手名簿!$A:$E,5,FALSE))=TRUE,\"\",VLOOKUP(CONCATENATE($B$30,\"_\",C41),選手名簿!$A:$E,5,FALSE))","v":""},null,null,null,null,null,null,null,{"$f":"IF(ISERROR(VLOOKUP(CONCATENATE($J$30,\"_\",I41),選手名簿!$A:$E,5,FALSE))=TRUE,\"\",VLOOKUP(CONCATENATE($J$30,\"_\",I41),選手名簿!$A:$E,5,FALSE))","v":""},null,null,null,{"$f":"IF(ISERROR(VLOOKUP(CONCATENATE($N$30,\"_\",O41),選手名簿!$A:$E,5,FALSE))=TRUE,\"\",VLOOKUP(CONCATENATE($N$30,\"_\",O41),選手名簿!$A:$E,5,FALSE))","v":""},null,null,null,null,null,null,null,{"$f":"IF(ISERROR(VLOOKUP(CONCATENATE($V$30,\"_\",U41),選手名簿!$A:$E,5,FALSE))=TRUE,\"\",VLOOKUP(CONCATENATE($V$30,\"_\",U41),選手名簿!$A:$E,5,FALSE))","v":""}]
[null,{"$f":"IF(ISERROR(VLOOKUP(CONCATENATE($B$30,\"_\",C42),選手名簿!$A:$E,5,FALSE))=TRUE,\"\",VLOOKUP(CONCATENATE($B$30,\"_\",C42),選手名簿!$A:$E,5,FALSE))","v":""},null,null,null,null,null,null,null,{"$f":"IF(ISERROR(VLOOKUP(CONCATENATE($J$30,\"_\",I42),選手名簿!$A:$E,5,FALSE))=TRUE,\"\",VLOOKUP(CONCATENATE($J$30,\"_\",I42),選手名簿!$A:$E,5,FALSE))","v":""},null,null,null,{"$f":"IF(ISERROR(VLOOKUP(CONCATENATE($N$30,\"_\",O42),選手名簿!$A:$E,5,FALSE))=TRUE,\"\",VLOOKUP(CONCATENATE($N$30,\"_\",O42),選手名簿!$A:$E,5,FALSE))","v":""},null,null,null,null,null,null,null,{"$f":"IF(ISERROR(VLOOKUP(CONCATENATE($V$30,\"_\",U42),選手名簿!$A:$E,5,FALSE))=TRUE,\"\",VLOOKUP(CONCATENATE($V$30,\"_\",U42),選手名簿!$A:$E,5,FALSE))","v":""},null,null,"勝点表",null,"勝","○",null,"PK\n勝","△",null,"PK\n負","▲",null,"負","●"]
[null,{"$f":"IF(ISERROR(VLOOKUP(CONCATENATE($B$30,\"_\",C43),選手名簿!$A:$E,5,FALSE))=TRUE,\"\",VLOOKUP(CONCATENATE($B$30,\"_\",C43),選手名簿!$A:$E,5,FALSE))","v":""},null,null,null,null,null,null,null,{"$f":"IF(ISERROR(VLOOKUP(CONCATENATE($J$30,\"_\",I43),選手名簿!$A:$E,5,FALSE))=TRUE,\"\",VLOOKUP(CONCATENATE($J$30,\"_\",I43),選手名簿!$A:$E,5,FALSE))","v":""},null,null,null,{"$f":"IF(ISERROR(VLOOKUP(CONCATENATE($N$30,\"_\",O43),選手名簿!$A:$E,5,FALSE))=TRUE,\"\",VLOOKUP(CONCATENATE($N$30,\"_\",O43),選手名簿!$A:$E,5,FALSE))","v":""},null,null,null,null,null,null,null,{"$f":"IF(ISERROR(VLOOKUP(CONCATENATE($V$30,\"_\",U43),選手名簿!$A:$E,5,FALSE))=TRUE,\"\",VLOOKUP(CONCATENATE($V$30,\"_\",U43),選手名簿!$A:$E,5,FALSE))","v":""},null,null,null,null,null,3,null,null,2,null,null,1,null,null,0]
[null,{"$f":"IF(ISERROR(VLOOKUP(CONCATENATE($B$30,\"_\",C44),選手名簿!$A:$E,5,FALSE))=TRUE,\"\",VLOOKUP(CONCATENATE($B$30,\"_\",C44),選手名簿!$A:$E,5,FALSE))","v":""},null,null,null,null,null,null,null,{"$f":"IF(ISERROR(VLOOKUP(CONCATENATE($J$30,\"_\",I44),選手名簿!$A:$E,5,FALSE))=TRUE,\"\",VLOOKUP(CONCATENATE($J$30,\"_\",I44),選手名簿!$A:$E,5,FALSE))","v":""},null,null,null,{"$f":"IF(ISERROR(VLOOKUP(CONCATENATE($N$30,\"_\",O44),選手名簿!$A:$E,5,FALSE))=TRUE,\"\",VLOOKUP(CONCATENATE($N$30,\"_\",O44),選手名簿!$A:$E,5,FALSE))","v":""},null,null,null,null,null,null,null,{"$f":"IF(ISERROR(VLOOKUP(CONCATENATE($V$30,\"_\",U44),選手名簿!$A:$E,5,FALSE))=TRUE,\"\",VLOOKUP(CONCATENATE($V$30,\"_\",U44),選手名簿!$A:$E,5,FALSE))","v":""}]
[null,{"$f":"IF(ISERROR(VLOOKUP(CONCATENATE($B$30,\"_\",C45),選手名簿!$A:$E,5,FALSE))=TRUE,\"\",VLOOKUP(CONCATENATE($B$30,\"_\",C45),選手名簿!$A:$E,5,FALSE))","v":""},null,null,null,null,null,null,null,{"$f":"IF(ISERROR(VLOOKUP(CONCATENATE($J$30,\"_\",I45),選手名簿!$A:$E,5,FALSE))=TRUE,\"\",VLOOKUP(CONCATENATE($J$30,\"_\",I45),選手名簿!$A:$E,5,FALSE))","v":""},null,null,null,{"$f":"IF(ISERROR(VLOOKUP(CONCATENATE($N$30,\"_\",O45),選手名簿!$A:$E,5,FALSE))=TRUE,\"\",VLOOKUP(CONCATENATE($N$30,\"_\",O45),選手名簿!$A:$E,5,FALSE))","v":""},null,null,null,null,null,null,null,{"$f":"IF(ISERROR(VLOOKUP(CONCATENATE($V$30,\"_\",U45),選手名簿!$A:$E,5,FALSE))=TRUE,\"\",VLOOKUP(CONCATENATE($V$30,\"_\",U45),選手名簿!$A:$E,5,FALSE))","v":""}]
[]
[]
["⑤\n14:00～",{"$f":"C9","v":"スマイス・セレソン"},{"$f":"IF(E48=\"\",\"\",SUM(E48:E49))","v":1},"（",1,"前半",0,"）",{"$f":"IF(G48=\"\",\"\",SUM(G48:G49))","v":1},{"$f":"C7","v":"ＦＣ　ＵＮＩＴＥ"},null,null,"⑥\n15:00～",{"$f":"O9","v":"別府フットボールクラブ．ミネルバＵ－１２"},{"$f":"IF(Q48=\"\",\"\",SUM(Q48:Q49))","v":1},"（",0,"前半",0,"）",{"$f":"IF(S48=\"\",\"\",SUM(S48:S49))","v":1},{"$f":"O7","v":"ブルーウイングフットボールクラブ"},null,null,{"$f":"$Y$1","v":"OFA 第 50 回大分県少年サッカー大会　兼　KYFA 九州U-12サッカー大会大分県大会"},null,null,null,null,null,null,null,null,null,null,null,null,null,null,null,null,null,null,null,null,null,null,null,null,null,null,null,null,null,null,null,null,null,null,null,{"$f":"$BI$1","v":"２次リーグ結果　報告用紙"}]
[null,null,null,null,0,"後半",1,null,null,null,null,null,null,null,null,null,1,"後半",1]
[null,null,null,null,null,"PK",null,null,null,null,null,null,null,null,null,null,null,"PK",null,null,null,null,null,null,"＜時間割＞　①10:00～　②11:00～　③12:00～　④13:00～　⑤14:00～　⑥15:00～"]
["MC","伊東　雅弘",null,null,null,null,"所属協会",null,null,"別府市サッカー協会",null,null,"MC","河野　勝",null,null,null,null,"所属協会",null,null,"別府市サッカー協会"]
["WelfareOfficer","秦　啓一郎",null,null,null,null,"所属協会",null,null,"(一社)大分県サッカー協会　ジュニア委員会",null,null,"WelfareOfficer","秦　啓一郎",null,null,null,null,"所属協会",null,null,"(一社)大分県サッカー協会　ジュニア委員会"]
["記録","切封　智和",null,null,null,null,"所属協会",null,null,"別府市サッカー協会",null,null,"記録","香川　豊",null,null,null,null,"所属協会",null,null,"別府市サッカー協会"]
["R:",{"$f":"IF(ISERROR(VLOOKUP(G54,審判員!$A:$C,2,FALSE))=TRUE,\"\",VLOOKUP(G54,審判員!$A:$C,2,FALSE))","v":"足達　実生"},{"$f":"IF(ISERROR(VLOOKUP(G54,審判員!$A:$C,3,FALSE))=TRUE,\"\",VLOOKUP(G54,審判員!$A:$C,3,FALSE))","v":2},"級","資格番号",null,"R000879756",null,null,"本部",null,null,"R:",{"$f":"IF(ISERROR(VLOOKUP(S54,審判員!$A:$C,2,FALSE))=TRUE,\"\",VLOOKUP(S54,審判員!$A:$C,2,FALSE))","v":"後藤　樹明"},{"$f":"IF(ISERROR(VLOOKUP(S54,審判員!$A:$C,3,FALSE))=TRUE,\"\",VLOOKUP(S54,審判員!$A:$C,3,FALSE))","v":2},"級","資格番号",null,"R001265376",null,null,"本部",null,null,"会場",null,null,{"$f":"$N$4","v":"別府"},null,null,null,null,null,"⇒",{"$f":"$P$4","v":"実相寺ｻｯｶｰ競技場(人工芝)"}]
["AR1:",{"$f":"IF(ISERROR(VLOOKUP(G55,審判員!$A:$C,2,FALSE))=TRUE,\"\",VLOOKUP(G55,審判員!$A:$C,2,FALSE))","v":"永路　尚道"},{"$f":"IF(ISERROR(VLOOKUP(G55,審判員!$A:$C,3,FALSE))=TRUE,\"\",VLOOKUP(G55,審判員!$A:$C,3,FALSE))","v":3},"級","資格番号",null,"R003421161",null,null,{"$f":"N48","v":"別府フットボールクラブ．ミネルバＵ－１２"},null,null,"AR1:",{"$f":"IF(ISERROR(VLOOKUP(S55,審判員!$A:$C,2,FALSE))=TRUE,\"\",VLOOKUP(S55,審判員!$A:$C,2,FALSE))","v":"信田　卓也"},{"$f":"IF(ISERROR(VLOOKUP(S55,審判員!$A:$C,3,FALSE))=TRUE,\"\",VLOOKUP(S55,審判員!$A:$C,3,FALSE))","v":3},"級","資格番号",null,"R004326535",null,null,{"$f":"B48","v":"スマイス・セレソン"}]
["AR2:",{"$f":"IF(ISERROR(VLOOKUP(G56,審判員!$A:$C,2,FALSE))=TRUE,\"\",VLOOKUP(G56,審判員!$A:$C,2,FALSE))","v":"有田　裕哉"},{"$f":"IF(ISERROR(VLOOKUP(G56,審判員!$A:$C,3,FALSE))=TRUE,\"\",VLOOKUP(G56,審判員!$A:$C,3,FALSE))","v":3},"級","資格番号",null,"R004225713",null,null,{"$f":"V48","v":"ブルーウイングフットボールクラブ"},null,null,"AR2:",{"$f":"IF(ISERROR(VLOOKUP(S56,審判員!$A:$C,2,FALSE))=TRUE,\"\",VLOOKUP(S56,審判員!$A:$C,2,FALSE))","v":"相良　章成"},{"$f":"IF(ISERROR(VLOOKUP(S56,審判員!$A:$C,3,FALSE))=TRUE,\"\",VLOOKUP(S56,審判員!$A:$C,3,FALSE))","v":3},"級","資格番号",null,"R006664864",null,null,{"$f":"J48","v":"ＦＣ　ＵＮＩＴＥ"}]
["4th:",{"$f":"IF(ISERROR(VLOOKUP(G57,審判員!$A:$C,2,FALSE))=TRUE,\"\",VLOOKUP(G57,審判員!$A:$C,2,FALSE))","v":"香川　豊"},{"$f":"IF(ISERROR(VLOOKUP(G57,審判員!$A:$C,3,FALSE))=TRUE,\"\",VLOOKUP(G57,審判員!$A:$C,3,FALSE))","v":4},"級","資格番号",null,"R005987397",null,null,"本部",null,null,"4th:",{"$f":"IF(ISERROR(VLOOKUP(S57,審判員!$A:$C,2,FALSE))=TRUE,\"\",VLOOKUP(S57,審判員!$A:$C,2,FALSE))","v":"流川　新"},{"$f":"IF(ISERROR(VLOOKUP(S57,審判員!$A:$C,3,FALSE))=TRUE,\"\",VLOOKUP(S57,審判員!$A:$C,3,FALSE))","v":4},"級","資格番号",null,"R005987403",null,null,"本部"]
["警告/退場","氏名","背番号","分","内容",null,"内容","分","背番号","氏名","警告/退場",null,"警告/退場","氏名","背番号","分","内容",null,"内容","分","背番号","氏名","警告/退場",null,"パート",null,null,{"$f":"$N$6","v":"2次リーグ　Cパート"}]
[null,{"$f":"IF(ISERROR(VLOOKUP(CONCATENATE($B$48,\"_\",C59),選手名簿!$A:$E,5,FALSE))=TRUE,\"\",VLOOKUP(CONCATENATE($B$48,\"_\",C59),選手名簿!$A:$E,5,FALSE))","v":""},null,null,null,null,null,null,null,{"$f":"IF(ISERROR(VLOOKUP(CONCATENATE($J$48,\"_\",I59),選手名簿!$A:$E,5,FALSE))=TRUE,\"\",VLOOKUP(CONCATENATE($J$48,\"_\",I59),選手名簿!$A:$E,5,FALSE))","v":""},null,null,"警告",{"$f":"IF(ISERROR(VLOOKUP(CONCATENATE($N$48,\"_\",O59),選手名簿!$A:$E,5,FALSE))=TRUE,\"\",VLOOKUP(CONCATENATE($N$48,\"_\",O59),選手名簿!$A:$E,5,FALSE))","v":"小野　誠竜"},7,30,"ラフ",null,null,null,null,{"$f":"IF(ISERROR(VLOOKUP(CONCATENATE($V$48,\"_\",U59),選手名簿!$A:$E,5,FALSE))=TRUE,\"\",VLOOKUP(CONCATENATE($V$48,\"_\",U59),選手名簿!$A:$E,5,FALSE))","v":""}]
[null,{"$f":"IF(ISERROR(VLOOKUP(CONCATENATE($B$48,\"_\",C60),選手名簿!$A:$E,5,FALSE))=TRUE,\"\",VLOOKUP(CONCATENATE($B$48,\"_\",C60),選手名簿!$A:$E,5,FALSE))","v":""},null,null,null,null,null,null,null,{"$f":"IF(ISERROR(VLOOKUP(CONCATENATE($J$48,\"_\",I60),選手名簿!$A:$E,5,FALSE))=TRUE,\"\",VLOOKUP(CONCATENATE($J$48,\"_\",I60),選手名簿!$A:$E,5,FALSE))","v":""},null,null,null,{"$f":"IF(ISERROR(VLOOKUP(CONCATENATE($N$48,\"_\",O60),選手名簿!$A:$E,5,FALSE))=TRUE,\"\",VLOOKUP(CONCATENATE($N$48,\"_\",O60),選手名簿!$A:$E,5,FALSE))","v":""},null,null,null,null,null,null,null,{"$f":"IF(ISERROR(VLOOKUP(CONCATENATE($V$48,\"_\",U60),選手名簿!$A:$E,5,FALSE))=TRUE,\"\",VLOOKUP(CONCATENATE($V$48,\"_\",U60),選手名簿!$A:$E,5,FALSE))","v":""},null,null,null,{"$f":"$N$7","v":"G"},null,null,{"$f":"$O$7","v":"ブルーウイングフットボールクラブ"},null,null,null,null,null,null,null,null,null,null,null,null,{"$f":"$V$7","v":"大分"}]
[null,{"$f":"IF(ISERROR(VLOOKUP(CONCATENATE($B$48,\"_\",C61),選手名簿!$A:$E,5,FALSE))=TRUE,\"\",VLOOKUP(CONCATENATE($B$48,\"_\",C61),選手名簿!$A:$E,5,FALSE))","v":""},null,null,null,null,null,null,null,{"$f":"IF(ISERROR(VLOOKUP(CONCATENATE($J$48,\"_\",I61),選手名簿!$A:$E,5,FALSE))=TRUE,\"\",VLOOKUP(CONCATENATE($J$48,\"_\",I61),選手名簿!$A:$E,5,FALSE))","v":""},null,null,null,{"$f":"IF(ISERROR(VLOOKUP(CONCATENATE($N$48,\"_\",O61),選手名簿!$A:$E,5,FALSE))=TRUE,\"\",VLOOKUP(CONCATENATE($N$48,\"_\",O61),選手名簿!$A:$E,5,FALSE))","v":""},null,null,null,null,null,null,null,{"$f":"IF(ISERROR(VLOOKUP(CONCATENATE($V$48,\"_\",U61),選手名簿!$A:$E,5,FALSE))=TRUE,\"\",VLOOKUP(CONCATENATE($V$48,\"_\",U61),選手名簿!$A:$E,5,FALSE))","v":""}]
[null,{"$f":"IF(ISERROR(VLOOKUP(CONCATENATE($B$48,\"_\",C62),選手名簿!$A:$E,5,FALSE))=TRUE,\"\",VLOOKUP(CONCATENATE($B$48,\"_\",C62),選手名簿!$A:$E,5,FALSE))","v":""},null,null,null,null,null,null,null,{"$f":"IF(ISERROR(VLOOKUP(CONCATENATE($J$48,\"_\",I62),選手名簿!$A:$E,5,FALSE))=TRUE,\"\",VLOOKUP(CONCATENATE($J$48,\"_\",I62),選手名簿!$A:$E,5,FALSE))","v":""},null,null,null,{"$f":"IF(ISERROR(VLOOKUP(CONCATENATE($N$48,\"_\",O62),選手名簿!$A:$E,5,FALSE))=TRUE,\"\",VLOOKUP(CONCATENATE($N$48,\"_\",O62),選手名簿!$A:$E,5,FALSE))","v":""},null,null,null,null,null,null,null,{"$f":"IF(ISERROR(VLOOKUP(CONCATENATE($V$48,\"_\",U62),選手名簿!$A:$E,5,FALSE))=TRUE,\"\",VLOOKUP(CONCATENATE($V$48,\"_\",U62),選手名簿!$A:$E,5,FALSE))","v":""},null,null,null,{"$f":"$N$8","v":"H"},null,null,{"$f":"$O$8","v":"カティオーラフットボールクラブ　大在"},null,null,null,null,null,null,null,null,null,null,null,null,{"$f":"$V$8","v":"大分"}]
[null,{"$f":"IF(ISERROR(VLOOKUP(CONCATENATE($B$48,\"_\",C63),選手名簿!$A:$E,5,FALSE))=TRUE,\"\",VLOOKUP(CONCATENATE($B$48,\"_\",C63),選手名簿!$A:$E,5,FALSE))","v":""},null,null,null,null,null,null,null,{"$f":"IF(ISERROR(VLOOKUP(CONCATENATE($J$48,\"_\",I63),選手名簿!$A:$E,5,FALSE))=TRUE,\"\",VLOOKUP(CONCATENATE($J$48,\"_\",I63),選手名簿!$A:$E,5,FALSE))","v":""},null,null,null,{"$f":"IF(ISERROR(VLOOKUP(CONCATENATE($N$48,\"_\",O63),選手名簿!$A:$E,5,FALSE))=TRUE,\"\",VLOOKUP(CONCATENATE($N$48,\"_\",O63),選手名簿!$A:$E,5,FALSE))","v":""},null,null,null,null,null,null,null,{"$f":"IF(ISERROR(VLOOKUP(CONCATENATE($V$48,\"_\",U63),選手名簿!$A:$E,5,FALSE))=TRUE,\"\",VLOOKUP(CONCATENATE($V$48,\"_\",U63),選手名簿!$A:$E,5,FALSE))","v":""}]
[null,null,null,null,null,null,null,null,null,null,null,null,null,null,null,null,null,null,null,null,null,null,null,null,null,{"$f":"$N$9","v":"I"},null,null,{"$f":"$O$9","v":"別府フットボールクラブ．ミネルバＵ－１２"},null,null,null,null,null,null,null,null,null,null,null,null,{"$f":"$V$9","v":"別府"}]
[]
[]
[]
[]
[]
[]
[]
[null,null,null,null,null,null,null,null,null,null,null,null,null,null,null,null,null,null,null,null,null,null,null,null,{"$f":"$Y$6","v":"パート"},null,null,null,{"$f":"$AB$58","v":"2次リーグ　Cパート"},null,null,{"$f":"$Y$78","v":"ブルーウイングフットボールクラブ"},null,null,null,null,{"$f":"$Y$84","v":"カティオーラフットボールクラブ　大在"},null,null,null,null,{"$f":"$Y$90","v":"別府フットボールクラブ．ミネルバＵ－１２"},null,null,null,null,"勝",null,"PK\n勝",null,"PK\n負",null,"負",null,"得点",null,"失点",null,"勝点",null,"勝点\n順位",null,"得失\n点差",null,"得失\n順位",null,"総\n順位"]
[]
[]
[]
[]
[]
[null,null,null,null,null,null,null,null,null,null,null,null,null,null,null,null,null,null,null,null,null,null,null,null,{"$f":"$AC$60","v":"ブルーウイングフットボールクラブ"},null,null,null,null,"星取表",null,null,null,null,null,null,{"$f":"IF(AK82=\"\",\"\",IF(AK82>AN82,\"○\",IF(AK82<AN82,\"●\",IF(AK80>AN80,\"△\",IF(AK80<AN80,\"▲\")))))","v":"○"},null,null,null,null,{"$f":"IF(AP82=\"\",\"\",IF(AP82>AS82,\"○\",IF(AP82<AS82,\"●\",IF(AP80>AS80,\"△\",IF(AP80<AS80,\"▲\")))))","v":false},null,null,null,null,{"$f":"COUNTIF($AF$78:$AT$79,\"○\")","v":1},null,{"$f":"COUNTIF($AF$78:$AT$79,\"△\")","v":0},null,{"$f":"COUNTIF($AF$78:$AT$79,\"▲\")","v":0},null,{"$f":"COUNTIF($AF$78:$AT$79,\"●\")","v":0},null,{"$f":"SUM($AK$82,$AP$82)","v":6},null,{"$f":"SUM($AN$82,$AS$82)","v":2},null,{"$f":"($AU$78*3)+($AW$78*2)+($AY$78*1)","v":3},null,{"$f":"RANK($BG$78,$BG$78:$BH$95)","v":1},null,{"$f":"$BC$78-$BE$78","v":4},null,{"$f":"RANK($BK$78,$BK$78:$BL$95)","v":1}]
[]
[null,null,null,null,null,null,null,null,null,null,null,null,null,null,null,null,null,null,null,null,null,null,null,null,null,null,null,null,null,null,null,null,null,null,null,null,{"$f":"IF($Q$14=\"\",\"\",$Q$14)","v":""},null,"―",{"$f":"IF($S$14=\"\",\"\",$S$14)","v":""},null,{"$f":"IF($S$50=\"\",\"\",$S$50)","v":""},null,"―",{"$f":"IF($Q$50=\"\",\"\",$Q$50)","v":""}]
[null,null,null,null,null,null,null,null,null,null,null,null,null,null,null,null,null,null,null,null,null,null,null,null,null,null,null,null,null,"得失点"]
[null,null,null,null,null,null,null,null,null,null,null,null,null,null,null,null,null,null,null,null,null,null,null,null,null,null,null,null,null,null,null,null,null,null,null,null,{"$f":"$O$12","v":5},null,"―",{"$f":"$U$12","v":1},null,{"$f":"$U$48","v":1},null,"―",{"$f":"$O$48","v":1}]
[]
[null,null,null,null,null,null,null,null,null,null,null,null,null,null,null,null,null,null,null,null,null,null,null,null,{"$f":"$AC$62","v":"カティオーラフットボールクラブ　大在"},null,null,null,null,"星取表",null,{"$f":"IF(AF88=\"\",\"\",IF(AF88>AI88,\"○\",IF(AF88<AI88,\"●\",IF(AF86>AI86,\"△\",IF(AF86<AI86,\"▲\")))))","v":"●"},null,null,null,null,null,null,null,null,null,{"$f":"IF(AP88=\"\",\"\",IF(AP88>AS88,\"○\",IF(AP88<AS88,\"●\",IF(AP86>AS86,\"△\",IF(AP86<AS86,\"▲\")))))","v":"●"},null,null,null,null,{"$f":"COUNTIF($AF$84:$AT$85,\"○\")","v":0},null,{"$f":"COUNTIF($AF$84:$AT$85,\"△\")","v":0},null,{"$f":"COUNTIF($AF$84:$AT$85,\"▲\")","v":0},null,{"$f":"COUNTIF($AF$84:$AT$85,\"●\")","v":2},null,{"$f":"SUM($AF$88,$AP$88)","v":1},null,{"$f":"SUM($AI$88,$AS$88)","v":9},null,{"$f":"($AU$84*3)+($AW$84*2)+($AY$84*1)","v":0},null,{"$f":"RANK($BG$84,$BG$78:$BH$95)","v":3},null,{"$f":"$BC$84-$BE$84","v":-8},null,{"$f":"RANK($BK$84,$BK$78:$BL$95)","v":3}]
[]
[null,null,null,null,null,null,null,null,null,null,null,null,null,null,null,null,null,null,null,null,null,null,null,null,null,null,null,null,null,null,null,{"$f":"AN80","v":""},null,"―",{"$f":"AK80","v":""},null,null,null,null,null,null,{"$f":"IF($Q$32=\"\",\"\",$Q$32)","v":""},null,"―",{"$f":"IF($S$32=\"\",\"\",$S$32)","v":""}]
[null,null,null,null,null,null,null,null,null,null,null,null,null,null,null,null,null,null,null,null,null,null,null,null,null,null,null,null,null,"得失点"]
[null,null,null,null,null,null,null,null,null,null,null,null,null,null,null,null,null,null,null,null,null,null,null,null,null,null,null,null,null,null,null,{"$f":"AN82","v":1},null,"―",{"$f":"AK82","v":5},null,null,null,null,null,null,{"$f":"$O$30","v":0},null,"―",{"$f":"$U$30","v":4}]
[]
[null,null,null,null,null,null,null,null,null,null,null,null,null,null,null,null,null,null,null,null,null,null,null,null,{"$f":"$AC$64","v":"別府フットボールクラブ．ミネルバＵ－１２"},null,null,null,null,"星取表",null,{"$f":"IF(AF94=\"\",\"\",IF(AF94>AI94,\"○\",IF(AF94<AI94,\"●\",IF(AF92>AI92,\"△\",IF(AF92<AI92,\"▲\")))))","v":false},null,null,null,null,{"$f":"IF(AK94=\"\",\"\",IF(AK94>AN94,\"○\",IF(AK94<AN94,\"●\",IF(AK92>AN92,\"△\",IF(AK92<AN92,\"▲\")))))","v":"○"},null,null,null,null,null,null,null,null,null,{"$f":"COUNTIF($AF$90:$AT$91,\"○\")","v":1},null,{"$f":"COUNTIF($AF$90:$AT$91,\"△\")","v":0},null,{"$f":"COUNTIF($AF$90:$AT$91,\"▲\")","v":0},null,{"$f":"COUNTIF($AF$90:$AT$91,\"●\")","v":0},null,{"$f":"SUM($AF$94,$AK$94)","v":5},null,{"$f":"SUM($AI$94,$AN$94)","v":1},null,{"$f":"($AU$90*3)+($AW$90*2)+($AY$90*1)","v":3},null,{"$f":"RANK($BG$90,$BG$78:$BH$95)","v":1},null,{"$f":"$BC$90-$BE$90","v":4},null,{"$f":"RANK($BK$90,$BK$78:$BL$95)","v":1}]
[]
[null,null,null,null,null,null,null,null,null,null,null,null,null,null,null,null,null,null,null,null,null,null,null,null,null,null,null,null,null,null,null,{"$f":"AS80","v":""},null,"―",{"$f":"AP80","v":""},null,{"$f":"AS86","v":""},null,"―",{"$f":"AP86","v":""}]
[null,null,null,null,null,null,null,null,null,null,null,null,null,null,null,null,null,null,null,null,null,null,null,null,null,null,null,null,null,"得失点"]
[null,null,null,null,null,null,null,null,null,null,null,null,null,null,null,null,null,null,null,null,null,null,null,null,null,null,null,null,null,null,null,{"$f":"AS82","v":1},null,"―",{"$f":"AP82","v":1},null,{"$f":"AS88","v":4},null,"―",{"$f":"AP88","v":0}]
[]
[]
[null,null,null,null,null,null,null,null,null,null,null,null,null,null,null,null,null,null,null,null,null,null,null,null,"Ⅰ勝点（勝３点　ＰＫ勝２点　ＰＫ負１点　負０点）　Ⅱ当該チームの戦績　Ⅲ得失点差　Ⅳ多得点　Ⅴ抽選の順で順位を決定する。"]
[]
[null,null,null,null,null,null,null,null,null,null,null,null,null,null,null,null,null,null,null,null,null,null,null,null,"勝点表",null,"勝","○",null,"PK\n勝","△",null,"PK\n負","▲",null,"負","●"]
[null,null,null,null,null,null,null,null,null,null,null,null,null,null,null,null,null,null,null,null,null,null,null,null,null,null,null,3,null,null,2,null,null,1,null,null,0]

{"sheet":"２次リーグ（豊肥）","index":12,"n_rows":100,"n_cols":67,"rows_kept":100,"cut":false,"hidden":true,"merged":[[20,6,20,8],[20,9,20,10],[20,16,20,17],[20,18,20,20],[29,14,31,14],[29,15,31,15],[29,19,31,19],[29,20,31,20],[29,21,31,21],[20,21,20,22],[34,1,34,5],[34,6,34,8],[34,9,34,10],[32,13,32,17],[32,18,32,20],[32,21,32,22],[33,13,33,17],[33,18,33,20],[33,21,33,22],[34,13,34,17],[34,18,34,20],[34,21,34,22],[32,1,32,5],[32,6,32,8],[32,9,32,10],[33,1,33,5],[33,6,33,8],[33,9,33,10],[52,1,52,5],[52,6,52,8],[52,9,52,10],[50,13,50,17],[50,18,50,20],[50,21,50,22],[51,13,51,17],[51,18,51,20],[51,21,51,22],[52,13,52,17],[52,18,52,20],[52,21,52,22],[77,36,78,40],[77,41,78,45],[77,64,82,65],[79,36,80,37],[91,31,92,32],[91,33,92,33],[91,34,92,35],[91,36,92,37],[91,38,92,38],[87,33,88,33],[87,34,88,35],[87,41,88,42],[83,31,84,35],[89,31,90,35],[89,36,90,40],[87,31,88,32],[32,50,37,51],[32,52,37,53],[89,64,94,65],[89,66,94,66],[87,43,88,43],[87,44,88,45],[83,66,88,66],[85,44,86,45],[83,54,88,55],[83,56,88,57],[83,58,88,59],[89,54,94,55],[71,66,76,66],[83,41,84,45],[83,64,88,65],[89,58,94,59],[89,62,94,63],[77,66,82,66],[79,44,80,45],[47,24,48,58],[47,60,48,66],[49,24,50,58],[41,35,42,35],[89,24,94,28],[98,35,99,35],[14,64,19,65],[14,66,19,66],[20,36,21,40],[20,41,21,45],[20,64,25,65],[20,66,25,66],[22,36,23,37],[22,38,23,38],[22,39,23,40],[14,36,19,40],[14,41,19,45],[14,46,19,47],[14,48,19,49],[14,50,19,51],[14,52,19,53],[14,54,19,55],[14,56,19,57],[14,58,19,59],[34,34,35,35],[34,36,35,37],[32,64,37,65],[32,66,37,66],[79,39,80,40],[5,27,5,32],[0,0,0,8],[0,12,0,20],[0,24,0,58],[0,60,0,66],[1,0,1,10],[1,12,1,22],[1,24,1,58],[6,14,6,20],[6,21,6,22],[6,25,6,27],[6,28,6,40],[3,3,3,10],[3,15,3,22],[3,24,3,26],[3,27,3,32],[3,34,3,48],[5,24,5,26],[6,41,6,44],[7,21,7,22],[7,25,7,27],[7,28,7,40],[7,41,7,44],[6,2,6,8],[6,9,6,10],[8,41,8,44],[11,0,13,0],[11,1,13,1],[11,2,13,2],[11,3,13,3],[11,7,13,7],[11,8,13,8],[11,9,13,9],[11,12,13,12],[11,13,13,13],[11,14,13,14],[11,15,13,15],[11,19,13,19],[11,20,13,20],[11,21,13,21],[7,2,7,8],[7,9,7,10],[7,14,7,20],[8,2,8,8],[8,9,8,10],[8,14,8,20],[8,21,8,22],[8,25,8,27],[8,28,8,40],[14,1,14,5],[14,6,14,8],[14,9,14,10],[14,28,19,30],[14,31,19,35],[17,21,17,22],[15,1,15,5],[15,6,15,8],[15,9,15,10],[16,1,16,5],[16,6,16,8],[16,9,16,10],[14,13,14,17],[14,18,14,20],[14,21,14,22],[15,13,15,17],[16,18,16,20],[16,21,16,22],[20,4,20,5],[15,18,15,20],[15,21,15,22],[16,13,16,17],[14,60,19,61],[14,62,19,63],[18,4,18,5],[18,6,18,8],[18,9,18,10],[18,16,18,17],[18,18,18,20],[18,21,18,22],[19,4,19,5],[19,6,19,8],[19,9,19,10],[19,16,19,17],[19,18,19,20],[19,21,19,22],[17,4,17,5],[17,6,17,8],[17,9,17,10],[17,16,17,17],[17,18,17,20],[14,24,19,27],[20,24,25,28],[20,29,22,30],[20,31,25,35],[20,46,25,47],[22,41,23,42],[22,43,23,43],[22,44,23,45],[24,36,25,37],[24,38,25,38],[24,39,25,40],[24,43,25,43],[24,44,25,45],[24,41,25,42],[20,48,25,49],[20,50,25,51],[20,52,25,53],[20,54,25,55],[20,56,25,57],[20,58,25,59],[20,60,25,61],[20,62,25,63],[23,29,25,30],[30,43,31,43],[30,44,31,45],[26,48,31,49],[26,50,31,51],[26,52,31,53],[26,24,31,28],[26,29,28,30],[26,36,31,40],[26,46,31,47],[28,31,29,32],[28,33,29,33],[28,34,29,35],[28,41,29,42],[30,31,31,32],[30,33,31,33],[26,31,27,35],[26,41,27,45],[28,44,29,45],[53,24,54,26],[77,50,82,51],[77,52,82,53],[32,24,37,28],[32,29,34,30],[32,41,37,45],[32,46,37,47],[32,31,33,35],[32,36,33,40],[36,34,37,35],[36,36,37,37],[32,48,37,49],[34,31,35,32],[34,33,35,33],[36,31,37,32],[36,33,37,33],[36,38,37,38],[36,39,37,40],[81,39,82,40],[81,41,82,42],[81,43,82,43],[81,44,82,45],[34,38,35,38],[34,39,35,40],[53,27,54,32],[53,33,54,33],[53,34,54,48],[77,48,82,49],[85,31,86,32],[85,33,86,33],[85,34,86,35],[71,64,76,65],[61,28,62,40],[77,60,82,61],[77,62,82,63],[71,56,76,57],[71,58,76,59],[71,60,76,61],[71,62,76,63],[77,56,82,57],[77,58,82,59],[79,38,80,38],[81,36,82,37],[81,38,82,38],[79,41,80,42],[83,48,88,49],[83,50,88,51],[83,52,88,53],[29,0,31,0],[29,1,31,1],[29,2,31,2],[29,3,31,3],[29,7,31,7],[29,8,31,8],[29,9,31,9],[29,12,31,12],[29,13,31,13],[26,64,31,65],[26,66,31,66],[28,43,29,43],[38,21,38,22],[47,21,49,21],[32,54,37,55],[32,56,37,57],[32,58,37,59],[32,60,37,61],[32,62,37,63],[35,29,37,30],[39,24,40,57],[41,24,42,25],[41,26,42,26],[41,29,42,29],[41,32,42,32],[26,54,31,55],[26,56,31,57],[26,58,31,59],[26,60,31,61],[26,62,31,63],[29,29,31,30],[30,34,31,35],[30,41,31,42],[35,4,35,5],[35,6,35,8],[35,9,35,10],[35,16,35,17],[35,18,35,20],[35,21,35,22],[36,4,36,5],[36,6,36,8],[36,9,36,10],[36,16,36,17],[36,18,36,20],[36,21,36,22],[37,4,37,5],[37,6,37,8],[37,9,37,10],[37,16,37,17],[37,18,37,20],[37,21,37,22],[38,4,38,5],[38,6,38,8],[38,9,38,10],[38,16,38,17],[38,18,38,20],[53,21,53,22],[54,4,54,5],[54,6,54,8],[54,9,54,10],[54,16,54,17],[54,18,54,20],[54,21,54,22],[55,4,55,5],[55,6,55,8],[47,0,49,0],[47,1,49,1],[47,2,49,2],[47,3,49,3],[47,7,49,7],[47,20,49,20],[53,4,53,5],[53,6,53,8],[53,9,53,10],[53,16,53,17],[53,18,53,20],[47,12,49,12],[47,13,49,13],[47,9,49,9],[47,8,49,8],[47,14,49,14],[47,15,49,15],[47,19,49,19],[50,1,50,5],[50,6,50,8],[50,9,50,10],[51,1,51,5],[51,6,51,8],[51,9,51,10],[56,4,56,5],[56,6,56,8],[56,9,56,10],[56,16,56,17],[56,18,56,20],[56,21,56,22],[57,24,58,26],[77,54,82,55],[71,46,76,47],[77,46,82,47],[71,48,76,49],[71,24,76,27],[71,28,76,30],[71,31,76,35],[71,36,76,40],[71,41,76,45],[71,50,76,51],[71,52,76,53],[77,24,82,28],[77,29,79,30],[77,31,82,35],[80,29,82,30],[71,54,76,55],[79,43,80,43],[89,29,91,30],[89,41,94,45],[89,46,94,47],[93,34,94,35],[89,60,94,61],[92,29,94,30],[91,39,92,40],[93,31,94,32],[93,33,94,33],[93,36,94,37],[93,38,94,38],[93,39,94,40],[83,24,88,28],[83,29,85,30],[83,36,88,40],[83,46,88,47],[85,41,86,42],[85,43,86,43],[83,60,88,61],[83,62,88,63],[86,29,88,30],[96,24,97,57],[98,24,99,25],[98,26,99,26],[98,29,99,29],[98,32,99,32],[0,9,0,10],[0,21,0,22],[89,48,94,49],[89,50,94,51],[89,52,94,53],[89,56,94,57],[57,27,58,32],[59,25,60,27],[59,28,60,40],[59,41,60,44],[61,41,62,44],[63,25,64,27],[63,28,64,40],[63,41,64,44],[61,25,62,27],[55,9,55,10],[55,16,55,17],[55,18,55,20],[55,21,55,22]]}
[{"$f":"出場チーム!B1","v":"OFA 第 50 回大分県少年サッカー大会　兼　KYFA 九州U-12サッカー大会大分県大会"},null,null,null,null,null,null,null,null,"２次リーグ結果　報告用紙",null,null,{"$f":"出場チーム!B1","v":"OFA 第 50 回大分県少年サッカー大会　兼　KYFA 九州U-12サッカー大会大分県大会"},null,null,null,null,null,null,null,null,"２次リーグ結果　報告用紙",null,null,{"$f":"$A$1","v":"OFA 第 50 回大分県少年サッカー大会　兼　KYFA 九州U-12サッカー大会大分県大会"},null,null,null,null,null,null,null,null,null,null,null,null,null,null,null,null,null,null,null,null,null,null,null,null,null,null,null,null,null,null,null,null,null,null,null,{"$f":"$J$1","v":"２次リーグ結果　報告用紙"}]
["＜時間割＞　①10:00～　②11:00～　③12:00～　④13:00～　⑤14:00～　⑥15:00～",null,null,null,null,null,null,null,null,null,null,null,"＜時間割＞　①10:00～　②11:00～　③12:00～　④13:00～　⑤14:00～　⑥15:00～",null,null,null,null,null,null,null,null,null,null,null,"＜時間割＞　①10:00～　②11:00～　③12:00～　④13:00～　⑤14:00～　⑥15:00～"]
[]
["会場",{"$f":"組み合わせ!BF6","v":"豊肥"},"⇒",{"$f":"VLOOKUP(B4,出場チーム!$B$51:$F$59,2,FALSE)","v":"ｻﾝ・ｽﾎﾟｰﾂﾗﾝﾄﾞみえ"},null,null,null,null,null,null,null,null,"会場",{"$f":"組み合わせ!BF6","v":"豊肥"},"⇒",{"$f":"VLOOKUP(N4,出場チーム!$B$51:$F$59,2,FALSE)","v":"ｻﾝ・ｽﾎﾟｰﾂﾗﾝﾄﾞみえ"},null,null,null,null,null,null,null,null,"会場",null,null,{"$f":"$B$4","v":"豊肥"},null,null,null,null,null,"⇒",{"$f":"$D$4","v":"ｻﾝ・ｽﾎﾟｰﾂﾗﾝﾄﾞみえ"}]
[]
["パート",{"$f":"組み合わせ!AR33","v":"2次リーグ　Bパート"},null,null,null,null,null,null,null,null,null,null,"パート",{"$f":"組み合わせ!DL33","v":"2次リーグ　Dパート"},null,null,null,null,null,null,null,null,null,null,"パート",null,null,{"$f":"$B$6","v":"2次リーグ　Bパート"}]
[null,{"$f":"組み合わせ!$AR$36","v":"D"},{"$f":"組み合わせ!$AV$36","v":"武蔵オークスサッカークラブ"},null,null,null,null,null,null,{"$f":"HLOOKUP(C7,組み合わせ!$B$49:$EO$86,31,FALSE)","v":"速杵国東"},null,null,null,{"$f":"組み合わせ!$DL$36","v":"J"},{"$f":"組み合わせ!$DP$36","v":"明治北ＳＳＣ"},null,null,null,null,null,null,{"$f":"HLOOKUP(O7,組み合わせ!$B$49:$EO$86,31,FALSE)","v":"大分"},null,null,null,{"$f":"+B7","v":"D"},null,null,{"$f":"$C$7","v":"武蔵オークスサッカークラブ"},null,null,null,null,null,null,null,null,null,null,null,null,{"$f":"$J$7","v":"速杵国東"}]
[null,{"$f":"組み合わせ!$AR$38","v":"E"},{"$f":"組み合わせ!$AV$38","v":"ＦＣアリアーレ"},null,null,null,null,null,null,{"$f":"HLOOKUP(C8,組み合わせ!$B$49:$EO$86,31,FALSE)","v":"日田"},null,null,null,{"$f":"組み合わせ!$DL$38","v":"K"},{"$f":"組み合わせ!$DP$38","v":"ＭＳＳ"},null,null,null,null,null,null,{"$f":"HLOOKUP(O8,組み合わせ!$B$49:$EO$86,31,FALSE)","v":"大分"},null,null,null,{"$f":"+B8","v":"E"},null,null,{"$f":"$C$8","v":"ＦＣアリアーレ"},null,null,null,null,null,null,null,null,null,null,null,null,{"$f":"$J$8","v":"日田"}]
[null,{"$f":"組み合わせ!$AR$40","v":"F"},{"$f":"組み合わせ!$AV$40","v":"桃園サッカースポーツ少年団"},null,null,null,null,null,null,{"$f":"HLOOKUP(C9,組み合わせ!$B$49:$EO$86,31,FALSE)","v":"大分"},null,null,null,{"$f":"組み合わせ!$DL$40","v":"L"},{"$f":"組み合わせ!$DP$40","v":"太陽スポーツクラブ大分西"},null,null,null,null,null,null,{"$f":"HLOOKUP(O9,組み合わせ!$B$49:$EO$86,31,FALSE)","v":"日田"},null,null,null,{"$f":"+B9","v":"F"},null,null,{"$f":"$C$9","v":"桃園サッカースポーツ少年団"},null,null,null,null,null,null,null,null,null,null,null,null,{"$f":"$J$9","v":"大分"}]
["8：50～ＭＣＭ",null,null,null,null,null,null,null,null,null,null,null,"9：50～ＭＣＭ"]
[]
["①\n10:00～",{"$f":"C7","v":"武蔵オークスサッカークラブ"},{"$f":"IF(E12=\"\",\"\",SUM(E12:E13))","v":0},"（",0,"前半",3,"）",{"$f":"IF(G12=\"\",\"\",SUM(G12:G13))","v":8},{"$f":"C8","v":"ＦＣアリアーレ"},null,null,"②\n11:00～",{"$f":"O7","v":"明治北ＳＳＣ"},{"$f":"IF(Q12=\"\",\"\",SUM(Q12:Q13))","v":2},"（",1,"前半",1,"）",{"$f":"IF(S12=\"\",\"\",SUM(S12:S13))","v":1},{"$f":"O8","v":"ＭＳＳ"}]
[null,null,null,null,0,"後半",5,null,null,null,null,null,null,null,null,null,1,"後半",0]
[null,null,null,null,null,"PK",null,null,null,null,null,null,null,null,null,null,null,"PK"]
["MC","仲野　昭博",null,null,null,null,"所属協会",null,null,"豊肥地区サッカー協会",null,null,"MC","岡部　司",null,null,null,null,"所属協会",null,null,"(一社)大分県サッカー協会　ジュニア委員会",null,null,{"$f":"$Y$6","v":"パート"},null,null,null,{"$f":"$AB$6","v":"2次リーグ　Bパート"},null,null,{"$f":"$Y$21","v":"武蔵オークスサッカークラブ"},null,null,null,null,{"$f":"$Y$27","v":"ＦＣアリアーレ"},null,null,null,null,{"$f":"$Y$33","v":"桃園サッカースポーツ少年団"},null,null,null,null,"勝",null,"PK\n勝",null,"PK\n負",null,"負",null,"得点",null,"失点",null,"勝点",null,"勝点\n順位",null,"得失\n点差",null,"得失\n順位",null,"総\n順位"]
["WelfareOfficer","岡部　司",null,null,null,null,"所属協会",null,null,"(一社)大分県サッカー協会　ジュニア委員会",null,null,"WelfareOfficer","仲野　昭博",null,null,null,null,"所属協会",null,null,"豊肥地区サッカー協会"]
["記録","徳丸　拓実",null,null,null,null,"所属協会",null,null,"豊肥地区サッカー協会",null,null,"記録","寺次　良生",null,null,null,null,"所属協会",null,null,"豊肥地区サッカー協会"]
["R:",{"$f":"IF(ISERROR(VLOOKUP(G18,審判員!$A:$C,2,FALSE))=TRUE,\"\",VLOOKUP(G18,審判員!$A:$C,2,FALSE))","v":"佐藤　昭生"},{"$f":"IF(ISERROR(VLOOKUP(G18,審判員!$A:$C,3,FALSE))=TRUE,\"\",VLOOKUP(G18,審判員!$A:$C,3,FALSE))","v":3},"級","資格番号",null,"R001263448",null,null,"本部",null,null,"R:",{"$f":"IF(ISERROR(VLOOKUP(S18,審判員!$A:$C,2,FALSE))=TRUE,\"\",VLOOKUP(S18,審判員!$A:$C,2,FALSE))","v":"毛藤　勇三"},{"$f":"IF(ISERROR(VLOOKUP(S18,審判員!$A:$C,3,FALSE))=TRUE,\"\",VLOOKUP(S18,審判員!$A:$C,3,FALSE))","v":3},"級","資格番号",null,"R003350854",null,null,"本部"]
["AR1:",{"$f":"IF(ISERROR(VLOOKUP(G19,審判員!$A:$C,2,FALSE))=TRUE,\"\",VLOOKUP(G19,審判員!$A:$C,2,FALSE))","v":"赤山　千晶"},{"$f":"IF(ISERROR(VLOOKUP(G19,審判員!$A:$C,3,FALSE))=TRUE,\"\",VLOOKUP(G19,審判員!$A:$C,3,FALSE))","v":3},"級","資格番号",null,"R001264881",null,null,{"$f":"N12","v":"明治北ＳＳＣ"},null,null,"AR1:",{"$f":"IF(ISERROR(VLOOKUP(S19,審判員!$A:$C,2,FALSE))=TRUE,\"\",VLOOKUP(S19,審判員!$A:$C,2,FALSE))","v":"川井　勇介"},{"$f":"IF(ISERROR(VLOOKUP(S19,審判員!$A:$C,3,FALSE))=TRUE,\"\",VLOOKUP(S19,審判員!$A:$C,3,FALSE))","v":3},"級","資格番号",null,"R001255616",null,null,{"$f":"B12","v":"武蔵オークスサッカークラブ"}]
["AR2:",{"$f":"IF(ISERROR(VLOOKUP(G20,審判員!$A:$C,2,FALSE))=TRUE,\"\",VLOOKUP(G20,審判員!$A:$C,2,FALSE))","v":"深堀　祥司"},{"$f":"IF(ISERROR(VLOOKUP(G20,審判員!$A:$C,3,FALSE))=TRUE,\"\",VLOOKUP(G20,審判員!$A:$C,3,FALSE))","v":3},"級","資格番号",null,"R009197691",null,null,{"$f":"V12","v":"ＭＳＳ"},null,null,"AR2:",{"$f":"IF(ISERROR(VLOOKUP(S20,審判員!$A:$C,2,FALSE))=TRUE,\"\",VLOOKUP(S20,審判員!$A:$C,2,FALSE))","v":"藤原　龍司"},{"$f":"IF(ISERROR(VLOOKUP(S20,審判員!$A:$C,3,FALSE))=TRUE,\"\",VLOOKUP(S20,審判員!$A:$C,3,FALSE))","v":3},"級","資格番号",null,"R003421772",null,null,{"$f":"J12","v":"ＦＣアリアーレ"}]
["4th:",{"$f":"IF(ISERROR(VLOOKUP(G21,審判員!$A:$C,2,FALSE))=TRUE,\"\",VLOOKUP(G21,審判員!$A:$C,2,FALSE))","v":"寺次　良生"},{"$f":"IF(ISERROR(VLOOKUP(G21,審判員!$A:$C,3,FALSE))=TRUE,\"\",VLOOKUP(G21,審判員!$A:$C,3,FALSE))","v":3},"級","資格番号",null,"R010120117",null,null,"本部",null,null,"4th:",{"$f":"IF(ISERROR(VLOOKUP(S21,審判員!$A:$C,2,FALSE))=TRUE,\"\",VLOOKUP(S21,審判員!$A:$C,2,FALSE))","v":"川野　剛"},{"$f":"IF(ISERROR(VLOOKUP(S21,審判員!$A:$C,3,FALSE))=TRUE,\"\",VLOOKUP(S21,審判員!$A:$C,3,FALSE))","v":4},"級","資格番号",null,"R010093451",null,null,"本部",null,null,{"$f":"$AC$7","v":"武蔵オークスサッカークラブ"},null,null,null,null,"星取表",null,null,null,null,null,null,{"$f":"IF(AK25=\"\",\"\",IF(AK25>AN25,\"○\",IF(AK25<AN25,\"●\",IF(AK23>AN23,\"△\",IF(AK23<AN23,\"▲\")))))","v":"●"},null,null,null,null,{"$f":"IF(AP25=\"\",\"\",IF(AP25>AS25,\"○\",IF(AP25<AS25,\"●\",IF(AP23>AS23,\"△\",IF(AP23<AS23,\"▲\")))))","v":"●"},null,null,null,null,{"$f":"COUNTIF($AF$21:$AT$22,\"○\")","v":0},null,{"$f":"COUNTIF($AF$21:$AT$22,\"△\")","v":0},null,{"$f":"COUNTIF($AF$21:$AT$22,\"▲\")","v":0},null,{"$f":"COUNTIF($AF$21:$AT$22,\"●\")","v":2},null,{"$f":"SUM($AK$25,$AP$25)","v":1},null,{"$f":"SUM($AN$25,$AS$25)","v":12},null,{"$f":"($AU$21*3)+($AW$21*2)+($AY$21*1)","v":0},null,{"$f":"RANK($BG$21,$BG$21:$BH$38)","v":3},null,{"$f":"$BC$21-$BE$21","v":-11},null,{"$f":"RANK($BK$21,$BK$21:$BL$38)","v":3}]
["警告/退場","氏名","背番号","分","内容",null,"内容","分","背番号","氏名","警告/退場",null,"警告/退場","氏名","背番号","分","内容",null,"内容","分","背番号","氏名","警告/退場"]
[null,{"$f":"IF(ISERROR(VLOOKUP(CONCATENATE($B$12,\"_\",C23),選手名簿!$A:$E,5,FALSE))=TRUE,\"\",VLOOKUP(CONCATENATE($B$12,\"_\",C23),選手名簿!$A:$E,5,FALSE))","v":""},null,null,null,null,null,null,null,{"$f":"IF(ISERROR(VLOOKUP(CONCATENATE($J$12,\"_\",I23),選手名簿!$A:$E,5,FALSE))=TRUE,\"\",VLOOKUP(CONCATENATE($J$12,\"_\",I23),選手名簿!$A:$E,5,FALSE))","v":""},null,null,null,{"$f":"IF(ISERROR(VLOOKUP(CONCATENATE($N$12,\"_\",O23),選手名簿!$A:$E,5,FALSE))=TRUE,\"\",VLOOKUP(CONCATENATE($N$12,\"_\",O23),選手名簿!$A:$E,5,FALSE))","v":""},null,null,null,null,null,null,null,{"$f":"IF(ISERROR(VLOOKUP(CONCATENATE($V$12,\"_\",U23),選手名簿!$A:$E,5,FALSE))=TRUE,\"\",VLOOKUP(CONCATENATE($V$12,\"_\",U23),選手名簿!$A:$E,5,FALSE))","v":""},null,null,null,null,null,null,null,null,null,null,null,null,null,null,{"$f":"IF($E$14=\"\",\"\",$E$14)","v":""},null,"―",{"$f":"IF($G$14=\"\",\"\",$G$14)","v":""},null,{"$f":"IF($G$50=\"\",\"\",$G$50)","v":""},null,"―",{"$f":"IF($E$50=\"\",\"\",$E$50)","v":""}]
[null,{"$f":"IF(ISERROR(VLOOKUP(CONCATENATE($B$12,\"_\",C24),選手名簿!$A:$E,5,FALSE))=TRUE,\"\",VLOOKUP(CONCATENATE($B$12,\"_\",C24),選手名簿!$A:$E,5,FALSE))","v":""},null,null,null,null,null,null,null,{"$f":"IF(ISERROR(VLOOKUP(CONCATENATE($J$12,\"_\",I24),選手名簿!$A:$E,5,FALSE))=TRUE,\"\",VLOOKUP(CONCATENATE($J$12,\"_\",I24),選手名簿!$A:$E,5,FALSE))","v":""},null,null,null,{"$f":"IF(ISERROR(VLOOKUP(CONCATENATE($N$12,\"_\",O24),選手名簿!$A:$E,5,FALSE))=TRUE,\"\",VLOOKUP(CONCATENATE($N$12,\"_\",O24),選手名簿!$A:$E,5,FALSE))","v":""},null,null,null,null,null,null,null,{"$f":"IF(ISERROR(VLOOKUP(CONCATENATE($V$12,\"_\",U24),選手名簿!$A:$E,5,FALSE))=TRUE,\"\",VLOOKUP(CONCATENATE($V$12,\"_\",U24),選手名簿!$A:$E,5,FALSE))","v":""},null,null,null,null,null,null,null,"得失点"]
[null,{"$f":"IF(ISERROR(VLOOKUP(CONCATENATE($B$12,\"_\",C25),選手名簿!$A:$E,5,FALSE))=TRUE,\"\",VLOOKUP(CONCATENATE($B$12,\"_\",C25),選手名簿!$A:$E,5,FALSE))","v":""},null,null,null,null,null,null,null,{"$f":"IF(ISERROR(VLOOKUP(CONCATENATE($J$12,\"_\",I25),選手名簿!$A:$E,5,FALSE))=TRUE,\"\",VLOOKUP(CONCATENATE($J$12,\"_\",I25),選手名簿!$A:$E,5,FALSE))","v":""},null,null,null,{"$f":"IF(ISERROR(VLOOKUP(CONCATENATE($N$12,\"_\",O25),選手名簿!$A:$E,5,FALSE))=TRUE,\"\",VLOOKUP(CONCATENATE($N$12,\"_\",O25),選手名簿!$A:$E,5,FALSE))","v":""},null,null,null,null,null,null,null,{"$f":"IF(ISERROR(VLOOKUP(CONCATENATE($V$12,\"_\",U25),選手名簿!$A:$E,5,FALSE))=TRUE,\"\",VLOOKUP(CONCATENATE($V$12,\"_\",U25),選手名簿!$A:$E,5,FALSE))","v":""},null,null,null,null,null,null,null,null,null,null,null,null,null,null,{"$f":"$C$12","v":0},null,"―",{"$f":"$I$12","v":8},null,{"$f":"$I$48","v":1},null,"―",{"$f":"$C$48","v":4}]
[null,{"$f":"IF(ISERROR(VLOOKUP(CONCATENATE($B$12,\"_\",C26),選手名簿!$A:$E,5,FALSE))=TRUE,\"\",VLOOKUP(CONCATENATE($B$12,\"_\",C26),選手名簿!$A:$E,5,FALSE))","v":""},null,null,null,null,null,null,null,{"$f":"IF(ISERROR(VLOOKUP(CONCATENATE($J$12,\"_\",I26),選手名簿!$A:$E,5,FALSE))=TRUE,\"\",VLOOKUP(CONCATENATE($J$12,\"_\",I26),選手名簿!$A:$E,5,FALSE))","v":""},null,null,null,{"$f":"IF(ISERROR(VLOOKUP(CONCATENATE($N$12,\"_\",O26),選手名簿!$A:$E,5,FALSE))=TRUE,\"\",VLOOKUP(CONCATENATE($N$12,\"_\",O26),選手名簿!$A:$E,5,FALSE))","v":""},null,null,null,null,null,null,null,{"$f":"IF(ISERROR(VLOOKUP(CONCATENATE($V$12,\"_\",U26),選手名簿!$A:$E,5,FALSE))=TRUE,\"\",VLOOKUP(CONCATENATE($V$12,\"_\",U26),選手名簿!$A:$E,5,FALSE))","v":""}]
[null,{"$f":"IF(ISERROR(VLOOKUP(CONCATENATE($B$12,\"_\",C27),選手名簿!$A:$E,5,FALSE))=TRUE,\"\",VLOOKUP(CONCATENATE($B$12,\"_\",C27),選手名簿!$A:$E,5,FALSE))","v":""},null,null,null,null,null,null,null,{"$f":"IF(ISERROR(VLOOKUP(CONCATENATE($J$12,\"_\",I27),選手名簿!$A:$E,5,FALSE))=TRUE,\"\",VLOOKUP(CONCATENATE($J$12,\"_\",I27),選手名簿!$A:$E,5,FALSE))","v":""},null,null,null,{"$f":"IF(ISERROR(VLOOKUP(CONCATENATE($N$12,\"_\",O27),選手名簿!$A:$E,5,FALSE))=TRUE,\"\",VLOOKUP(CONCATENATE($N$12,\"_\",O27),選手名簿!$A:$E,5,FALSE))","v":""},null,null,null,null,null,null,null,{"$f":"IF(ISERROR(VLOOKUP(CONCATENATE($V$12,\"_\",U27),選手名簿!$A:$E,5,FALSE))=TRUE,\"\",VLOOKUP(CONCATENATE($V$12,\"_\",U27),選手名簿!$A:$E,5,FALSE))","v":""},null,null,{"$f":"$AC$8","v":"ＦＣアリアーレ"},null,null,null,null,"星取表",null,{"$f":"IF(AF31=\"\",\"\",IF(AF31>AI31,\"○\",IF(AF31<AI31,\"●\",IF(AF29>AI29,\"△\",IF(AF29<AI29,\"▲\")))))","v":"○"},null,null,null,null,null,null,null,null,null,{"$f":"IF(AP31=\"\",\"\",IF(AP31>AS31,\"○\",IF(AP31<AS31,\"●\",IF(AP29>AS29,\"△\",IF(AP29<AS29,\"▲\")))))","v":"○"},null,null,null,null,{"$f":"COUNTIF($AF$27:$AT$28,\"○\")","v":2},null,{"$f":"COUNTIF($AF$27:$AT$28,\"△\")","v":0},null,{"$f":"COUNTIF($AF$27:$AT$28,\"▲\")","v":0},null,{"$f":"COUNTIF($AF$27:$AT$28,\"●\")","v":0},null,{"$f":"SUM($AF$31,$AP$31)","v":11},null,{"$f":"SUM($AI$31,$AS$31)","v":1},null,{"$f":"($AU$27*3)+($AW$27*2)+($AY$27*1)","v":6},null,{"$f":"RANK($BG$27,$BG$21:$BH$38)","v":1},null,{"$f":"$BC$27-$BE$27","v":10},null,{"$f":"RANK($BK$27,$BK$21:$BL$38)","v":1}]
[]
[null,null,null,null,null,null,null,null,null,null,null,null,null,null,null,null,null,null,null,null,null,null,null,null,null,null,null,null,null,null,null,{"$f":"AN23","v":""},null,"―",{"$f":"AK23","v":""},null,null,null,null,null,null,{"$f":"IF($E$32=\"\",\"\",$E$32)","v":""},null,"―",{"$f":"IF($G$32=\"\",\"\",$G$32)","v":""}]
["③\n12:00～",{"$f":"C8","v":"ＦＣアリアーレ"},{"$f":"IF(E30=\"\",\"\",SUM(E30:E31))","v":3},"（",0,"前半",1,"）",{"$f":"IF(G30=\"\",\"\",SUM(G30:G31))","v":1},{"$f":"C9","v":"桃園サッカースポーツ少年団"},null,null,"④\n13:00～",{"$f":"O8","v":"ＭＳＳ"},{"$f":"IF(Q30=\"\",\"\",SUM(Q30:Q31))","v":0},"（",0,"前半",1,"）",{"$f":"IF(S30=\"\",\"\",SUM(S30:S31))","v":3},{"$f":"O9","v":"太陽スポーツクラブ大分西"},null,null,null,null,null,null,null,"得失点"]
[null,null,null,null,3,"後半",0,null,null,null,null,null,null,null,null,null,0,"後半",2,null,null,null,null,null,null,null,null,null,null,null,null,{"$f":"AN25","v":8},null,"―",{"$f":"AK25","v":0},null,null,null,null,null,null,{"$f":"$C$30","v":3},null,"―",{"$f":"$I$30","v":1}]
[null,null,null,null,null,"PK",null,null,null,null,null,null,null,null,null,null,null,"PK"]
["MC","仲野　昭博",null,null,null,null,"所属協会",null,null,"豊肥地区サッカー協会",null,null,"MC","岡部　司",null,null,null,null,"所属協会",null,null,"(一社)大分県サッカー協会　ジュニア委員会",null,null,{"$f":"$AC$9","v":"桃園サッカースポーツ少年団"},null,null,null,null,"星取表",null,{"$f":"IF(AF37=\"\",\"\",IF(AF37>AI37,\"○\",IF(AF37<AI37,\"●\",IF(AF35>AI35,\"△\",IF(AF35<AI35,\"▲\")))))","v":"○"},null,null,null,null,{"$f":"IF(AK37=\"\",\"\",IF(AK37>AN37,\"○\",IF(AK37<AN37,\"●\",IF(AK35>AN35,\"△\",IF(AK35<AN35,\"▲\")))))","v":"●"},null,null,null,null,null,null,null,null,null,{"$f":"COUNTIF($AF$33:$AT$34,\"○\")","v":1},null,{"$f":"COUNTIF($AF$33:$AT$34,\"△\")","v":0},null,{"$f":"COUNTIF($AF$33:$AT$34,\"▲\")","v":0},null,{"$f":"COUNTIF($AF$33:$AT$34,\"●\")","v":1},null,{"$f":"SUM($AF$37,$AK$37)","v":5},null,{"$f":"SUM($AI$37,$AN$37)","v":4},null,{"$f":"($AU$33*3)+($AW$33*2)+($AY$33*1)","v":3},null,{"$f":"RANK($BG$33,$BG$21:$BH$38)","v":2},null,{"$f":"$BC$33-$BE$33","v":1},null,{"$f":"RANK($BK$33,$BK$21:$BL$38)","v":2}]
["WelfareOfficer","隅田　哲平",null,null,null,null,"所属協会",null,null,"(一社)大分県サッカー協会　ジュニア委員会",null,null,"WelfareOfficer","毛藤　勇三",null,null,null,null,"所属協会",null,null,"(一社)大分県サッカー協会　ジュニア委員会"]
["記録","川野　剛",null,null,null,null,"所属協会",null,null,"豊肥地区サッカー協会",null,null,"記録","徳丸　拓実",null,null,null,null,"所属協会",null,null,"豊肥地区サッカー協会",null,null,null,null,null,null,null,null,null,{"$f":"AS23","v":""},null,"―",{"$f":"AP23","v":""},null,{"$f":"AS29","v":""},null,"―",{"$f":"AP29","v":""}]
["R:",{"$f":"IF(ISERROR(VLOOKUP(G36,審判員!$A:$C,2,FALSE))=TRUE,\"\",VLOOKUP(G36,審判員!$A:$C,2,FALSE))","v":"狭間　照央"},{"$f":"IF(ISERROR(VLOOKUP(G36,審判員!$A:$C,3,FALSE))=TRUE,\"\",VLOOKUP(G36,審判員!$A:$C,3,FALSE))","v":3},"級","資格番号",null,"R010027819",null,null,"本部",null,null,"R:",{"$f":"IF(ISERROR(VLOOKUP(S36,審判員!$A:$C,2,FALSE))=TRUE,\"\",VLOOKUP(S36,審判員!$A:$C,2,FALSE))","v":"矢野　三千生"},{"$f":"IF(ISERROR(VLOOKUP(S36,審判員!$A:$C,3,FALSE))=TRUE,\"\",VLOOKUP(S36,審判員!$A:$C,3,FALSE))","v":3},"級","資格番号",null,"R003972443",null,null,"本部",null,null,null,null,null,null,null,"得失点"]
["AR1:",{"$f":"IF(ISERROR(VLOOKUP(G37,審判員!$A:$C,2,FALSE))=TRUE,\"\",VLOOKUP(G37,審判員!$A:$C,2,FALSE))","v":"深堀　祥司"},{"$f":"IF(ISERROR(VLOOKUP(G37,審判員!$A:$C,3,FALSE))=TRUE,\"\",VLOOKUP(G37,審判員!$A:$C,3,FALSE))","v":3},"級","資格番号",null,"R009197691",null,null,{"$f":"N30","v":"ＭＳＳ"},null,null,"AR1:",{"$f":"IF(ISERROR(VLOOKUP(S37,審判員!$A:$C,2,FALSE))=TRUE,\"\",VLOOKUP(S37,審判員!$A:$C,2,FALSE))","v":"浜崎　陽介"},{"$f":"IF(ISERROR(VLOOKUP(S37,審判員!$A:$C,3,FALSE))=TRUE,\"\",VLOOKUP(S37,審判員!$A:$C,3,FALSE))","v":3},"級","資格番号",null,"R001259588",null,null,{"$f":"B30","v":"ＦＣアリアーレ"},null,null,null,null,null,null,null,null,null,{"$f":"AS25","v":4},null,"―",{"$f":"AP25","v":1},null,{"$f":"AS31","v":1},null,"―",{"$f":"AP31","v":3}]
["AR2:",{"$f":"IF(ISERROR(VLOOKUP(G38,審判員!$A:$C,2,FALSE))=TRUE,\"\",VLOOKUP(G38,審判員!$A:$C,2,FALSE))","v":"長尾　寿郎"},{"$f":"IF(ISERROR(VLOOKUP(G38,審判員!$A:$C,3,FALSE))=TRUE,\"\",VLOOKUP(G38,審判員!$A:$C,3,FALSE))","v":3},"級","資格番号",null,"R001264128",null,null,{"$f":"V30","v":"太陽スポーツクラブ大分西"},null,null,"AR2:",{"$f":"IF(ISERROR(VLOOKUP(S38,審判員!$A:$C,2,FALSE))=TRUE,\"\",VLOOKUP(S38,審判員!$A:$C,2,FALSE))","v":"川井　勇介"},{"$f":"IF(ISERROR(VLOOKUP(S38,審判員!$A:$C,3,FALSE))=TRUE,\"\",VLOOKUP(S38,審判員!$A:$C,3,FALSE))","v":3},"級","資格番号",null,"R001255616",null,null,{"$f":"J30","v":"桃園サッカースポーツ少年団"}]
["4th:",{"$f":"IF(ISERROR(VLOOKUP(G39,審判員!$A:$C,2,FALSE))=TRUE,\"\",VLOOKUP(G39,審判員!$A:$C,2,FALSE))","v":"得丸　拓実"},{"$f":"IF(ISERROR(VLOOKUP(G39,審判員!$A:$C,3,FALSE))=TRUE,\"\",VLOOKUP(G39,審判員!$A:$C,3,FALSE))","v":4},"級","資格番号",null,"R010255154",null,null,"本部",null,null,"4th:",{"$f":"IF(ISERROR(VLOOKUP(S39,審判員!$A:$C,2,FALSE))=TRUE,\"\",VLOOKUP(S39,審判員!$A:$C,2,FALSE))","v":"寺次　良生"},{"$f":"IF(ISERROR(VLOOKUP(S39,審判員!$A:$C,3,FALSE))=TRUE,\"\",VLOOKUP(S39,審判員!$A:$C,3,FALSE))","v":3},"級","資格番号",null,"R010120117",null,null,"本部"]
["警告/退場","氏名","背番号","分","内容",null,"内容","分","背番号","氏名","警告/退場",null,"警告/退場","氏名","背番号","分","内容",null,"内容","分","背番号","氏名","警告/退場",null,"Ⅰ勝点（勝３点　ＰＫ勝２点　ＰＫ負１点　負０点）　Ⅱ当該チームの戦績　Ⅲ得失点差　Ⅳ多得点　Ⅴ抽選の順で順位を決定する。"]
[null,{"$f":"IF(ISERROR(VLOOKUP(CONCATENATE($B$30,\"_\",C41),選手名簿!$A:$E,5,FALSE))=TRUE,\"\",VLOOKUP(CONCATENATE($B$30,\"_\",C41),選手名簿!$A:$E,5,FALSE))","v":""},null,null,null,null,null,null,null,{"$f":"IF(ISERROR(VLOOKUP(CONCATENATE($J$30,\"_\",I41),選手名簿!$A:$E,5,FALSE))=TRUE,\"\",VLOOKUP(CONCATENATE($J$30,\"_\",I41),選手名簿!$A:$E,5,FALSE))","v":""},null,null,null,{"$f":"IF(ISERROR(VLOOKUP(CONCATENATE($N$30,\"_\",O41),選手名簿!$A:$E,5,FALSE))=TRUE,\"\",VLOOKUP(CONCATENATE($N$30,\"_\",O41),選手名簿!$A:$E,5,FALSE))","v":""},null,null,null,null,null,null,null,{"$f":"IF(ISERROR(VLOOKUP(CONCATENATE($V$30,\"_\",U41),選手名簿!$A:$E,5,FALSE))=TRUE,\"\",VLOOKUP(CONCATENATE($V$30,\"_\",U41),選手名簿!$A:$E,5,FALSE))","v":""}]
[null,{"$f":"IF(ISERROR(VLOOKUP(CONCATENATE($B$30,\"_\",C42),選手名簿!$A:$E,5,FALSE))=TRUE,\"\",VLOOKUP(CONCATENATE($B$30,\"_\",C42),選手名簿!$A:$E,5,FALSE))","v":""},null,null,null,null,null,null,null,{"$f":"IF(ISERROR(VLOOKUP(CONCATENATE($J$30,\"_\",I42),選手名簿!$A:$E,5,FALSE))=TRUE,\"\",VLOOKUP(CONCATENATE($J$30,\"_\",I42),選手名簿!$A:$E,5,FALSE))","v":""},null,null,null,{"$f":"IF(ISERROR(VLOOKUP(CONCATENATE($N$30,\"_\",O42),選手名簿!$A:$E,5,FALSE))=TRUE,\"\",VLOOKUP(CONCATENATE($N$30,\"_\",O42),選手名簿!$A:$E,5,FALSE))","v":""},null,null,null,null,null,null,null,{"$f":"IF(ISERROR(VLOOKUP(CONCATENATE($V$30,\"_\",U42),選手名簿!$A:$E,5,FALSE))=TRUE,\"\",VLOOKUP(CONCATENATE($V$30,\"_\",U42),選手名簿!$A:$E,5,FALSE))","v":""},null,null,"勝点表",null,"勝","○",null,"PK\n勝","△",null,"PK\n負","▲",null,"負","●"]
[null,{"$f":"IF(ISERROR(VLOOKUP(CONCATENATE($B$30,\"_\",C43),選手名簿!$A:$E,5,FALSE))=TRUE,\"\",VLOOKUP(CONCATENATE($B$30,\"_\",C43),選手名簿!$A:$E,5,FALSE))","v":""},null,null,null,null,null,null,null,{"$f":"IF(ISERROR(VLOOKUP(CONCATENATE($J$30,\"_\",I43),選手名簿!$A:$E,5,FALSE))=TRUE,\"\",VLOOKUP(CONCATENATE($J$30,\"_\",I43),選手名簿!$A:$E,5,FALSE))","v":""},null,null,null,{"$f":"IF(ISERROR(VLOOKUP(CONCATENATE($N$30,\"_\",O43),選手名簿!$A:$E,5,FALSE))=TRUE,\"\",VLOOKUP(CONCATENATE($N$30,\"_\",O43),選手名簿!$A:$E,5,FALSE))","v":""},null,null,null,null,null,null,null,{"$f":"IF(ISERROR(VLOOKUP(CONCATENATE($V$30,\"_\",U43),選手名簿!$A:$E,5,FALSE))=TRUE,\"\",VLOOKUP(CONCATENATE($V$30,\"_\",U43),選手名簿!$A:$E,5,FALSE))","v":""},null,null,null,null,null,3,null,null,2,null,null,1,null,null,0]
[null,{"$f":"IF(ISERROR(VLOOKUP(CONCATENATE($B$30,\"_\",C44),選手名簿!$A:$E,5,FALSE))=TRUE,\"\",VLOOKUP(CONCATENATE($B$30,\"_\",C44),選手名簿!$A:$E,5,FALSE))","v":""},null,null,null,null,null,null,null,{"$f":"IF(ISERROR(VLOOKUP(CONCATENATE($J$30,\"_\",I44),選手名簿!$A:$E,5,FALSE))=TRUE,\"\",VLOOKUP(CONCATENATE($J$30,\"_\",I44),選手名簿!$A:$E,5,FALSE))","v":""},null,null,null,{"$f":"IF(ISERROR(VLOOKUP(CONCATENATE($N$30,\"_\",O44),選手名簿!$A:$E,5,FALSE))=TRUE,\"\",VLOOKUP(CONCATENATE($N$30,\"_\",O44),選手名簿!$A:$E,5,FALSE))","v":""},null,null,null,null,null,null,null,{"$f":"IF(ISERROR(VLOOKUP(CONCATENATE($V$30,\"_\",U44),選手名簿!$A:$E,5,FALSE))=TRUE,\"\",VLOOKUP(CONCATENATE($V$30,\"_\",U44),選手名簿!$A:$E,5,FALSE))","v":""}]
[null,{"$f":"IF(ISERROR(VLOOKUP(CONCATENATE($B$30,\"_\",C45),選手名簿!$A:$E,5,FALSE))=TRUE,\"\",VLOOKUP(CONCATENATE($B$30,\"_\",C45),選手名簿!$A:$E,5,FALSE))","v":""},null,null,null,null,null,null,null,{"$f":"IF(ISERROR(VLOOKUP(CONCATENATE($J$30,\"_\",I45),選手名簿!$A:$E,5,FALSE))=TRUE,\"\",VLOOKUP(CONCATENATE($J$30,\"_\",I45),選手名簿!$A:$E,5,FALSE))","v":""},null,null,null,{"$f":"IF(ISERROR(VLOOKUP(CONCATENATE($N$30,\"_\",O45),選手名簿!$A:$E,5,FALSE))=TRUE,\"\",VLOOKUP(CONCATENATE($N$30,\"_\",O45),選手名簿!$A:$E,5,FALSE))","v":""},null,null,null,null,null,null,null,{"$f":"IF(ISERROR(VLOOKUP(CONCATENATE($V$30,\"_\",U45),選手名簿!$A:$E,5,FALSE))=TRUE,\"\",VLOOKUP(CONCATENATE($V$30,\"_\",U45),選手名簿!$A:$E,5,FALSE))","v":""}]
[]
[]
["⑤\n14:00～",{"$f":"C9","v":"桃園サッカースポーツ少年団"},{"$f":"IF(E48=\"\",\"\",SUM(E48:E49))","v":4},"（",3,"前半",0,"）",{"$f":"IF(G48=\"\",\"\",SUM(G48:G49))","v":1},{"$f":"C7","v":"武蔵オークスサッカークラブ"},null,null,"⑥\n15:00～",{"$f":"O9","v":"太陽スポーツクラブ大分西"},{"$f":"IF(Q48=\"\",\"\",SUM(Q48:Q49))","v":1},"（",1,"前半",1,"）",{"$f":"IF(S48=\"\",\"\",SUM(S48:S49))","v":1},{"$f":"O7","v":"明治北ＳＳＣ"},null,null,{"$f":"$Y$1","v":"OFA 第 50 回大分県少年サッカー大会　兼　KYFA 九州U-12サッカー大会大分県大会"},null,null,null,null,null,null,null,null,null,null,null,null,null,null,null,null,null,null,null,null,null,null,null,null,null,null,null,null,null,null,null,null,null,null,null,{"$f":"$BI$1","v":"２次リーグ結果　報告用紙"}]
[null,null,null,null,1,"後半",1,null,null,null,null,null,null,null,null,null,0,"後半",0]
[null,null,null,null,null,"PK",null,null,null,null,null,null,null,null,null,null,null,"PK",null,null,null,null,null,null,"＜時間割＞　①10:00～　②11:00～　③12:00～　④13:00～　⑤14:00～　⑥15:00～"]
["MC","仲野　昭博",null,null,null,null,"所属協会",null,null,"豊肥地区サッカー協会",null,null,"MC","岡部　司",null,null,null,null,"所属協会",null,null,"(一社)大分県サッカー協会　ジュニア委員会"]
["WelfareOfficer","岡部　司",null,null,null,null,"所属協会",null,null,"(一社)大分県サッカー協会　ジュニア委員会",null,null,"WelfareOfficer","仲野　昭博",null,null,null,null,"所属協会",null,null,"豊肥地区サッカー協会"]
["記録","寺次　良生",null,null,null,null,"所属協会",null,null,"豊肥地区サッカー協会",null,null,"記録","川野　剛",null,null,null,null,"所属協会",null,null,"豊肥地区サッカー協会"]
["R:",{"$f":"IF(ISERROR(VLOOKUP(G54,審判員!$A:$C,2,FALSE))=TRUE,\"\",VLOOKUP(G54,審判員!$A:$C,2,FALSE))","v":"狭間　照央"},{"$f":"IF(ISERROR(VLOOKUP(G54,審判員!$A:$C,3,FALSE))=TRUE,\"\",VLOOKUP(G54,審判員!$A:$C,3,FALSE))","v":3},"級","資格番号",null,"R010027819",null,null,"本部",null,null,"R:",{"$f":"IF(ISERROR(VLOOKUP(S54,審判員!$A:$C,2,FALSE))=TRUE,\"\",VLOOKUP(S54,審判員!$A:$C,2,FALSE))","v":"隅田　哲平"},{"$f":"IF(ISERROR(VLOOKUP(S54,審判員!$A:$C,3,FALSE))=TRUE,\"\",VLOOKUP(S54,審判員!$A:$C,3,FALSE))","v":3},"級","資格番号",null,"R008798013",null,null,"本部",null,null,"会場",null,null,{"$f":"$N$4","v":"豊肥"},null,null,null,null,null,"⇒",{"$f":"$P$4","v":"ｻﾝ・ｽﾎﾟｰﾂﾗﾝﾄﾞみえ"}]
["AR1:",{"$f":"IF(ISERROR(VLOOKUP(G55,審判員!$A:$C,2,FALSE))=TRUE,\"\",VLOOKUP(G55,審判員!$A:$C,2,FALSE))","v":"池本　岬"},{"$f":"IF(ISERROR(VLOOKUP(G55,審判員!$A:$C,3,FALSE))=TRUE,\"\",VLOOKUP(G55,審判員!$A:$C,3,FALSE))","v":3},"級","資格番号",null,"R010301990",null,null,{"$f":"N48","v":"太陽スポーツクラブ大分西"},null,null,"AR1:",{"$f":"IF(ISERROR(VLOOKUP(S55,審判員!$A:$C,2,FALSE))=TRUE,\"\",VLOOKUP(S55,審判員!$A:$C,2,FALSE))","v":"浜崎　陽介"},{"$f":"IF(ISERROR(VLOOKUP(S55,審判員!$A:$C,3,FALSE))=TRUE,\"\",VLOOKUP(S55,審判員!$A:$C,3,FALSE))","v":3},"級","資格番号",null,"R001259588",null,null,{"$f":"B48","v":"桃園サッカースポーツ少年団"}]
["AR2:",{"$f":"IF(ISERROR(VLOOKUP(G56,審判員!$A:$C,2,FALSE))=TRUE,\"\",VLOOKUP(G56,審判員!$A:$C,2,FALSE))","v":"赤山　千晶"},{"$f":"IF(ISERROR(VLOOKUP(G56,審判員!$A:$C,3,FALSE))=TRUE,\"\",VLOOKUP(G56,審判員!$A:$C,3,FALSE))","v":3},"級","資格番号",null,"R001264881",null,null,{"$f":"V48","v":"明治北ＳＳＣ"},null,null,"AR2:",{"$f":"IF(ISERROR(VLOOKUP(S56,審判員!$A:$C,2,FALSE))=TRUE,\"\",VLOOKUP(S56,審判員!$A:$C,2,FALSE))","v":"藤原　龍司"},{"$f":"IF(ISERROR(VLOOKUP(S56,審判員!$A:$C,3,FALSE))=TRUE,\"\",VLOOKUP(S56,審判員!$A:$C,3,FALSE))","v":3},"級","資格番号",null,"R003421772",null,null,{"$f":"J48","v":"武蔵オークスサッカークラブ"}]
["4th:",{"$f":"IF(ISERROR(VLOOKUP(G57,審判員!$A:$C,2,FALSE))=TRUE,\"\",VLOOKUP(G57,審判員!$A:$C,2,FALSE))","v":"日坂　仁哉"},{"$f":"IF(ISERROR(VLOOKUP(G57,審判員!$A:$C,3,FALSE))=TRUE,\"\",VLOOKUP(G57,審判員!$A:$C,3,FALSE))","v":4},"級","資格番号",null,"R010313751",null,null,"本部",null,null,"4th:",{"$f":"IF(ISERROR(VLOOKUP(S57,審判員!$A:$C,2,FALSE))=TRUE,\"\",VLOOKUP(S57,審判員!$A:$C,2,FALSE))","v":"得丸　拓実"},{"$f":"IF(ISERROR(VLOOKUP(S57,審判員!$A:$C,3,FALSE))=TRUE,\"\",VLOOKUP(S57,審判員!$A:$C,3,FALSE))","v":4},"級","資格番号",null,"R010255154",null,null,"本部"]
["警告/退場","氏名","背番号","分","内容",null,"内容","分","背番号","氏名","警告/退場",null,"警告/退場","氏名","背番号","分","内容",null,"内容","分","背番号","氏名","警告/退場",null,"パート",null,null,{"$f":"$N$6","v":"2次リーグ　Dパート"}]
[null,{"$f":"IF(ISERROR(VLOOKUP(CONCATENATE($B$48,\"_\",C59),選手名簿!$A:$E,5,FALSE))=TRUE,\"\",VLOOKUP(CONCATENATE($B$48,\"_\",C59),選手名簿!$A:$E,5,FALSE))","v":""},null,null,null,null,null,null,null,{"$f":"IF(ISERROR(VLOOKUP(CONCATENATE($J$48,\"_\",I59),選手名簿!$A:$E,5,FALSE))=TRUE,\"\",VLOOKUP(CONCATENATE($J$48,\"_\",I59),選手名簿!$A:$E,5,FALSE))","v":""},null,null,null,{"$f":"IF(ISERROR(VLOOKUP(CONCATENATE($N$48,\"_\",O59),選手名簿!$A:$E,5,FALSE))=TRUE,\"\",VLOOKUP(CONCATENATE($N$48,\"_\",O59),選手名簿!$A:$E,5,FALSE))","v":""},null,null,null,null,null,null,null,{"$f":"IF(ISERROR(VLOOKUP(CONCATENATE($V$48,\"_\",U59),選手名簿!$A:$E,5,FALSE))=TRUE,\"\",VLOOKUP(CONCATENATE($V$48,\"_\",U59),選手名簿!$A:$E,5,FALSE))","v":""}]
[null,{"$f":"IF(ISERROR(VLOOKUP(CONCATENATE($B$48,\"_\",C60),選手名簿!$A:$E,5,FALSE))=TRUE,\"\",VLOOKUP(CONCATENATE($B$48,\"_\",C60),選手名簿!$A:$E,5,FALSE))","v":""},null,null,null,null,null,null,null,{"$f":"IF(ISERROR(VLOOKUP(CONCATENATE($J$48,\"_\",I60),選手名簿!$A:$E,5,FALSE))=TRUE,\"\",VLOOKUP(CONCATENATE($J$48,\"_\",I60),選手名簿!$A:$E,5,FALSE))","v":""},null,null,null,{"$f":"IF(ISERROR(VLOOKUP(CONCATENATE($N$48,\"_\",O60),選手名簿!$A:$E,5,FALSE))=TRUE,\"\",VLOOKUP(CONCATENATE($N$48,\"_\",O60),選手名簿!$A:$E,5,FALSE))","v":""},null,null,null,null,null,null,null,{"$f":"IF(ISERROR(VLOOKUP(CONCATENATE($V$48,\"_\",U60),選手名簿!$A:$E,5,FALSE))=TRUE,\"\",VLOOKUP(CONCATENATE($V$48,\"_\",U60),選手名簿!$A:$E,5,FALSE))","v":""},null,null,null,{"$f":"$N$7","v":"J"},null,null,{"$f":"$O$7","v":"明治北ＳＳＣ"},null,null,null,null,null,null,null,null,null,null,null,null,{"$f":"$V$7","v":"大分"}]
[null,{"$f":"IF(ISERROR(VLOOKUP(CONCATENATE($B$48,\"_\",C61),選手名簿!$A:$E,5,FALSE))=TRUE,\"\",VLOOKUP(CONCATENATE($B$48,\"_\",C61),選手名簿!$A:$E,5,FALSE))","v":""},null,null,null,null,null,null,null,{"$f":"IF(ISERROR(VLOOKUP(CONCATENATE($J$48,\"_\",I61),選手名簿!$A:$E,5,FALSE))=TRUE,\"\",VLOOKUP(CONCATENATE($J$48,\"_\",I61),選手名簿!$A:$E,5,FALSE))","v":""},null,null,null,{"$f":"IF(ISERROR(VLOOKUP(CONCATENATE($N$48,\"_\",O61),選手名簿!$A:$E,5,FALSE))=TRUE,\"\",VLOOKUP(CONCATENATE($N$48,\"_\",O61),選手名簿!$A:$E,5,FALSE))","v":""},null,null,null,null,null,null,null,{"$f":"IF(ISERROR(VLOOKUP(CONCATENATE($V$48,\"_\",U61),選手名簿!$A:$E,5,FALSE))=TRUE,\"\",VLOOKUP(CONCATENATE($V$48,\"_\",U61),選手名簿!$A:$E,5,FALSE))","v":""}]
[null,{"$f":"IF(ISERROR(VLOOKUP(CONCATENATE($B$48,\"_\",C62),選手名簿!$A:$E,5,FALSE))=TRUE,\"\",VLOOKUP(CONCATENATE($B$48,\"_\",C62),選手名簿!$A:$E,5,FALSE))","v":""},null,null,null,null,null,null,null,{"$f":"IF(ISERROR(VLOOKUP(CONCATENATE($J$48,\"_\",I62),選手名簿!$A:$E,5,FALSE))=TRUE,\"\",VLOOKUP(CONCATENATE($J$48,\"_\",I62),選手名簿!$A:$E,5,FALSE))","v":""},null,null,null,{"$f":"IF(ISERROR(VLOOKUP(CONCATENATE($N$48,\"_\",O62),選手名簿!$A:$E,5,FALSE))=TRUE,\"\",VLOOKUP(CONCATENATE($N$48,\"_\",O62),選手名簿!$A:$E,5,FALSE))","v":""},null,null,null,null,null,null,null,{"$f":"IF(ISERROR(VLOOKUP(CONCATENATE($V$48,\"_\",U62),選手名簿!$A:$E,5,FALSE))=TRUE,\"\",VLOOKUP(CONCATENATE($V$48,\"_\",U62),選手名簿!$A:$E,5,FALSE))","v":""},null,null,null,{"$f":"$N$8","v":"K"},null,null,{"$f":"$O$8","v":"ＭＳＳ"},null,null,null,null,null,null,null,null,null,null,null,null,{"$f":"$V$8","v":"大分"}]
[null,{"$f":"IF(ISERROR(VLOOKUP(CONCATENATE($B$48,\"_\",C63),選手名簿!$A:$E,5,FALSE))=TRUE,\"\",VLOOKUP(CONCATENATE($B$48,\"_\",C63),選手名簿!$A:$E,5,FALSE))","v":""},null,null,null,null,null,null,null,{"$f":"IF(ISERROR(VLOOKUP(CONCATENATE($J$48,\"_\",I63),選手名簿!$A:$E,5,FALSE))=TRUE,\"\",VLOOKUP(CONCATENATE($J$48,\"_\",I63),選手名簿!$A:$E,5,FALSE))","v":""},null,null,null,{"$f":"IF(ISERROR(VLOOKUP(CONCATENATE($N$48,\"_\",O63),選手名簿!$A:$E,5,FALSE))=TRUE,\"\",VLOOKUP(CONCATENATE($N$48,\"_\",O63),選手名簿!$A:$E,5,FALSE))","v":""},null,null,null,null,null,null,null,{"$f":"IF(ISERROR(VLOOKUP(CONCATENATE($V$48,\"_\",U63),選手名簿!$A:$E,5,FALSE))=TRUE,\"\",VLOOKUP(CONCATENATE($V$48,\"_\",U63),選手名簿!$A:$E,5,FALSE))","v":""}]
[null,null,null,null,null,null,null,null,null,null,null,null,null,null,null,null,null,null,null,null,null,null,null,null,null,{"$f":"$N$9","v":"L"},null,null,{"$f":"$O$9","v":"太陽スポーツクラブ大分西"},null,null,null,null,null,null,null,null,null,null,null,null,{"$f":"$V$9","v":"日田"}]
[]
[]
[]
[]
[]
[]
[]
[null,null,null,null,null,null,null,null,null,null,null,null,null,null,null,null,null,null,null,null,null,null,null,null,{"$f":"$Y$6","v":"パート"},null,null,null,{"$f":"$AB$58","v":"2次リーグ　Dパート"},null,null,{"$f":"$Y$78","v":"明治北ＳＳＣ"},null,null,null,null,{"$f":"$Y$84","v":"ＭＳＳ"},null,null,null,null,{"$f":"$Y$90","v":"太陽スポーツクラブ大分西"},null,null,null,null,"勝",null,"PK\n勝",null,"PK\n負",null,"負",null,"得点",null,"失点",null,"勝点",null,"勝点\n順位",null,"得失\n点差",null,"得失\n順位",null,"総\n順位"]
[]
[]
[]
[]
[]
[null,null,null,null,null,null,null,null,null,null,null,null,null,null,null,null,null,null,null,null,null,null,null,null,{"$f":"$AC$60","v":"明治北ＳＳＣ"},null,null,null,null,"星取表",null,null,null,null,null,null,{"$f":"IF(AK82=\"\",\"\",IF(AK82>AN82,\"○\",IF(AK82<AN82,\"●\",IF(AK80>AN80,\"△\",IF(AK80<AN80,\"▲\")))))","v":"○"},null,null,null,null,{"$f":"IF(AP82=\"\",\"\",IF(AP82>AS82,\"○\",IF(AP82<AS82,\"●\",IF(AP80>AS80,\"△\",IF(AP80<AS80,\"▲\")))))","v":false},null,null,null,null,{"$f":"COUNTIF($AF$78:$AT$79,\"○\")","v":1},null,{"$f":"COUNTIF($AF$78:$AT$79,\"△\")","v":0},null,{"$f":"COUNTIF($AF$78:$AT$79,\"▲\")","v":0},null,{"$f":"COUNTIF($AF$78:$AT$79,\"●\")","v":0},null,{"$f":"SUM($AK$82,$AP$82)","v":3},null,{"$f":"SUM($AN$82,$AS$82)","v":2},null,{"$f":"($AU$78*3)+($AW$78*2)+($AY$78*1)","v":3},null,{"$f":"RANK($BG$78,$BG$78:$BH$95)","v":1},null,{"$f":"$BC$78-$BE$78","v":1},null,{"$f":"RANK($BK$78,$BK$78:$BL$95)","v":2}]
[]
[null,null,null,null,null,null,null,null,null,null,null,null,null,null,null,null,null,null,null,null,null,null,null,null,null,null,null,null,null,null,null,null,null,null,null,null,{"$f":"IF($Q$14=\"\",\"\",$Q$14)","v":""},null,"―",{"$f":"IF($S$14=\"\",\"\",$S$14)","v":""},null,{"$f":"IF($S$50=\"\",\"\",$S$50)","v":""},null,"―",{"$f":"IF($Q$50=\"\",\"\",$Q$50)","v":""}]
[null,null,null,null,null,null,null,null,null,null,null,null,null,null,null,null,null,null,null,null,null,null,null,null,null,null,null,null,null,"得失点"]
[null,null,null,null,null,null,null,null,null,null,null,null,null,null,null,null,null,null,null,null,null,null,null,null,null,null,null,null,null,null,null,null,null,null,null,null,{"$f":"$O$12","v":2},null,"―",{"$f":"$U$12","v":1},null,{"$f":"$U$48","v":1},null,"―",{"$f":"$O$48","v":1}]
[]
[null,null,null,null,null,null,null,null,null,null,null,null,null,null,null,null,null,null,null,null,null,null,null,null,{"$f":"$AC$62","v":"ＭＳＳ"},null,null,null,null,"星取表",null,{"$f":"IF(AF88=\"\",\"\",IF(AF88>AI88,\"○\",IF(AF88<AI88,\"●\",IF(AF86>AI86,\"△\",IF(AF86<AI86,\"▲\")))))","v":"●"},null,null,null,null,null,null,null,null,null,{"$f":"IF(AP88=\"\",\"\",IF(AP88>AS88,\"○\",IF(AP88<AS88,\"●\",IF(AP86>AS86,\"△\",IF(AP86<AS86,\"▲\")))))","v":"●"},null,null,null,null,{"$f":"COUNTIF($AF$84:$AT$85,\"○\")","v":0},null,{"$f":"COUNTIF($AF$84:$AT$85,\"△\")","v":0},null,{"$f":"COUNTIF($AF$84:$AT$85,\"▲\")","v":0},null,{"$f":"COUNTIF($AF$84:$AT$85,\"●\")","v":2},null,{"$f":"SUM($AF$88,$AP$88)","v":1},null,{"$f":"SUM($AI$88,$AS$88)","v":5},null,{"$f":"($AU$84*3)+($AW$84*2)+($AY$84*1)","v":0},null,{"$f":"RANK($BG$84,$BG$78:$BH$95)","v":3},null,{"$f":"$BC$84-$BE$84","v":-4},null,{"$f":"RANK($BK$84,$BK$78:$BL$95)","v":3}]
[]
[null,null,null,null,null,null,null,null,null,null,null,null,null,null,null,null,null,null,null,null,null,null,null,null,null,null,null,null,null,null,null,{"$f":"AN80","v":""},null,"―",{"$f":"AK80","v":""},null,null,null,null,null,null,{"$f":"IF($Q$32=\"\",\"\",$Q$32)","v":""},null,"―",{"$f":"IF($S$32=\"\",\"\",$S$32)","v":""}]
[null,null,null,null,null,null,null,null,null,null,null,null,null,null,null,null,null,null,null,null,null,null,null,null,null,null,null,null,null,"得失点"]
[null,null,null,null,null,null,null,null,null,null,null,null,null,null,null,null,null,null,null,null,null,null,null,null,null,null,null,null,null,null,null,{"$f":"AN82","v":1},null,"―",{"$f":"AK82","v":2},null,null,null,null,null,null,{"$f":"$O$30","v":0},null,"―",{"$f":"$U$30","v":3}]
[]
[null,null,null,null,null,null,null,null,null,null,null,null,null,null,null,null,null,null,null,null,null,null,null,null,{"$f":"$AC$64","v":"太陽スポーツクラブ大分西"},null,null,null,null,"星取表",null,{"$f":"IF(AF94=\"\",\"\",IF(AF94>AI94,\"○\",IF(AF94<AI94,\"●\",IF(AF92>AI92,\"△\",IF(AF92<AI92,\"▲\")))))","v":false},null,null,null,null,{"$f":"IF(AK94=\"\",\"\",IF(AK94>AN94,\"○\",IF(AK94<AN94,\"●\",IF(AK92>AN92,\"△\",IF(AK92<AN92,\"▲\")))))","v":"○"},null,null,null,null,null,null,null,null,null,{"$f":"COUNTIF($AF$90:$AT$91,\"○\")","v":1},null,{"$f":"COUNTIF($AF$90:$AT$91,\"△\")","v":0},null,{"$f":"COUNTIF($AF$90:$AT$91,\"▲\")","v":0},null,{"$f":"COUNTIF($AF$90:$AT$91,\"●\")","v":0},null,{"$f":"SUM($AF$94,$AK$94)","v":4},null,{"$f":"SUM($AI$94,$AN$94)","v":1},null,{"$f":"($AU$90*3)+($AW$90*2)+($AY$90*1)","v":3},null,{"$f":"RANK($BG$90,$BG$78:$BH$95)","v":1},null,{"$f":"$BC$90-$BE$90","v":3},null,{"$f":"RANK($BK$90,$BK$78:$BL$95)","v":1}]
[]
[null,null,null,null,null,null,null,null,null,null,null,null,null,null,null,null,null,null,null,null,null,null,null,null,null,null,null,null,null,null,null,{"$f":"AS80","v":""},null,"―",{"$f":"AP80","v":""},null,{"$f":"AS86","v":""},null,"―",{"$f":"AP86","v":""}]
[null,null,null,null,null,null,null,null,null,null,null,null,null,null,null,null,null,null,null,null,null,null,null,null,null,null,null,null,null,"得失点"]
[null,null,null,null,null,null,null,null,null,null,null,null,null,null,null,null,null,null,null,null,null,null,null,null,null,null,null,null,null,null,null,{"$f":"AS82","v":1},null,"―",{"$f":"AP82","v":1},null,{"$f":"AS88","v":3},null,"―",{"$f":"AP88","v":0}]
[]
[]
[null,null,null,null,null,null,null,null,null,null,null,null,null,null,null,null,null,null,null,null,null,null,null,null,"Ⅰ勝点（勝３点　ＰＫ勝２点　ＰＫ負１点　負０点）　Ⅱ当該チームの戦績　Ⅲ得失点差　Ⅳ多得点　Ⅴ抽選の順で順位を決定する。"]
[]
[null,null,null,null,null,null,null,null,null,null,null,null,null,null,null,null,null,null,null,null,null,null,null,null,"勝点表",null,"勝","○",null,"PK\n勝","△",null,"PK\n負","▲",null,"負","●"]
[null,null,null,null,null,null,null,null,null,null,null,null,null,null,null,null,null,null,null,null,null,null,null,null,null,null,null,3,null,null,2,null,null,1,null,null,0]

{"sheet":"１次リーグ（速杵国東）","index":13,"n_rows":100,"n_cols":67,"rows_kept":100,"cut":false,"hidden":true,"merged":[[16,13,16,17],[16,18,16,20],[16,21,16,22],[32,1,32,5],[32,6,32,8],[32,9,32,10],[33,1,33,5],[33,6,33,8],[33,9,33,10],[17,4,17,5],[17,6,17,8],[17,9,17,10],[17,16,17,17],[17,18,17,20],[17,21,17,22],[20,21,20,22],[19,4,19,5],[19,6,19,8],[19,9,19,10],[19,16,19,17],[19,18,19,20],[19,21,19,22],[20,4,20,5],[20,6,20,8],[34,1,34,5],[34,6,34,8],[34,9,34,10],[32,13,32,17],[32,18,32,20],[32,21,32,22],[33,13,33,17],[33,18,33,20],[33,21,33,22],[34,13,34,17],[34,18,34,20],[34,21,34,22],[50,13,50,17],[50,18,50,20],[50,21,50,22],[51,13,51,17],[51,18,51,20],[51,21,51,22],[52,13,52,17],[52,18,52,20],[52,21,52,22],[50,1,50,5],[50,6,50,8],[50,9,50,10],[51,1,51,5],[51,6,51,8],[51,9,51,10],[52,1,52,5],[52,6,52,8],[52,9,52,10],[89,36,90,40],[89,64,94,65],[93,36,94,37],[93,38,94,38],[93,39,94,40],[83,64,88,65],[89,58,94,59],[89,66,94,66],[91,31,92,32],[91,33,92,33],[91,34,92,35],[91,36,92,37],[91,38,92,38],[91,39,92,40],[93,31,94,32],[93,33,94,33],[93,34,94,35],[83,66,88,66],[85,31,86,32],[85,33,86,33],[85,34,86,35],[85,41,86,42],[85,43,86,43],[85,44,86,45],[87,31,88,32],[87,33,88,33],[83,46,88,47],[87,41,88,42],[87,43,88,43],[87,44,88,45],[36,39,37,40],[26,48,31,49],[32,62,37,63],[77,36,78,40],[77,41,78,45],[47,60,48,66],[77,50,82,51],[77,52,82,53],[77,54,82,55],[71,46,76,47],[71,48,76,49],[71,50,76,51],[71,52,76,53],[71,54,76,55],[71,60,76,61],[71,62,76,63],[71,64,76,65],[71,66,76,66],[32,66,37,66],[34,31,35,32],[34,33,35,33],[34,34,35,35],[34,36,35,37],[34,38,35,38],[34,39,35,40],[36,31,37,32],[36,33,37,33],[36,34,37,35],[32,54,37,55],[32,56,37,57],[32,60,37,61],[32,64,37,65],[14,58,19,59],[14,60,19,61],[14,62,19,63],[20,48,25,49],[20,50,25,51],[20,52,25,53],[24,41,25,42],[24,43,25,43],[24,44,25,45],[20,54,25,55],[20,56,25,57],[20,58,25,59],[20,60,25,61],[20,62,25,63],[0,60,0,66],[1,0,1,10],[1,12,1,22],[1,24,1,58],[0,9,0,10],[0,21,0,22],[98,35,99,35],[14,64,19,65],[14,66,19,66],[20,36,21,40],[20,41,21,45],[20,64,25,65],[20,66,25,66],[22,36,23,37],[22,38,23,38],[24,36,25,37],[14,36,19,40],[14,41,19,45],[14,46,19,47],[14,48,19,49],[14,50,19,51],[14,52,19,53],[14,54,19,55],[14,56,19,57],[3,3,3,10],[3,15,3,22],[3,24,3,26],[3,27,3,32],[3,34,3,48],[5,24,5,26],[6,41,6,44],[0,0,0,8],[0,12,0,20],[0,24,0,58],[7,2,7,8],[7,9,7,10],[7,14,7,20],[7,21,7,22],[7,25,7,27],[7,28,7,40],[7,41,7,44],[6,2,6,8],[6,9,6,10],[6,14,6,20],[6,21,6,22],[6,25,6,27],[6,28,6,40],[8,2,8,8],[8,9,8,10],[8,14,8,20],[8,21,8,22],[8,25,8,27],[8,28,8,40],[8,41,8,44],[11,0,13,0],[11,1,13,1],[11,2,13,2],[11,3,13,3],[11,7,13,7],[11,8,13,8],[11,9,13,9],[11,12,13,12],[11,13,13,13],[11,14,13,14],[11,15,13,15],[11,19,13,19],[11,20,13,20],[11,21,13,21],[14,24,19,27],[14,28,19,30],[14,31,19,35],[14,1,14,5],[14,6,14,8],[14,9,14,10],[15,1,15,5],[15,6,15,8],[15,9,15,10],[16,1,16,5],[16,6,16,8],[16,9,16,10],[14,13,14,17],[14,18,14,20],[14,21,14,22],[15,13,15,17],[15,18,15,20],[15,21,15,22],[18,4,18,5],[18,6,18,8],[18,9,18,10],[18,16,18,17],[18,18,18,20],[18,21,18,22],[20,9,20,10],[20,16,20,17],[20,18,20,20],[20,24,25,28],[20,29,22,30],[20,31,25,35],[20,46,25,47],[22,39,23,40],[22,41,23,42],[22,43,23,43],[22,44,23,45],[24,38,25,38],[24,39,25,40],[23,29,25,30],[77,64,82,65],[77,66,82,66],[79,36,80,37],[26,24,31,28],[26,29,28,30],[26,36,31,40],[26,46,31,47],[26,31,27,35],[26,41,27,45],[30,34,31,35],[30,41,31,42],[28,44,29,45],[30,31,31,32],[26,50,31,51],[26,52,31,53],[26,54,31,55],[26,56,31,57],[26,58,31,59],[26,60,31,61],[26,62,31,63],[26,64,31,65],[26,66,31,66],[79,43,80,43],[79,44,80,45],[29,13,31,13],[29,15,31,15],[32,58,37,59],[32,24,37,28],[32,29,34,30],[32,41,37,45],[32,46,37,47],[32,50,37,51],[32,52,37,53],[35,29,37,30],[32,48,37,49],[29,29,31,30],[28,31,29,32],[28,33,29,33],[28,34,29,35],[28,41,29,42],[28,43,29,43],[30,33,31,33],[30,43,31,43],[30,44,31,45],[32,31,33,35],[32,36,33,40],[36,36,37,37],[36,38,37,38],[29,12,31,12],[29,14,31,14],[29,19,31,19],[29,20,31,20],[35,18,35,20],[81,39,82,40],[81,41,82,42],[81,43,82,43],[53,9,53,10],[53,16,53,17],[53,18,53,20],[53,21,53,22],[53,33,54,33],[53,34,54,48],[57,24,58,26],[57,27,58,32],[61,25,62,27],[61,28,62,40],[61,41,62,44],[63,25,64,27],[63,28,64,40],[63,41,64,44],[71,41,76,45],[29,21,31,21],[41,29,42,29],[47,24,48,58],[41,35,42,35],[49,24,50,58],[77,56,82,57],[71,56,76,57],[29,0,31,0],[29,1,31,1],[29,2,31,2],[29,3,31,3],[29,7,31,7],[29,8,31,8],[35,21,35,22],[41,32,42,32],[36,9,36,10],[36,16,36,17],[35,4,35,5],[35,6,35,8],[35,9,35,10],[35,16,35,17],[36,18,36,20],[36,21,36,22],[37,4,37,5],[29,9,31,9],[37,6,37,8],[37,9,37,10],[37,16,37,17],[37,18,37,20],[37,21,37,22],[36,4,36,5],[36,6,36,8],[71,58,76,59],[59,25,60,27],[59,28,60,40],[38,4,38,5],[38,6,38,8],[38,9,38,10],[38,16,38,17],[38,18,38,20],[38,21,38,22],[59,41,60,44],[47,9,49,9],[71,24,76,27],[71,28,76,30],[71,31,76,35],[71,36,76,40],[53,4,53,5],[53,6,53,8],[47,0,49,0],[47,1,49,1],[47,2,49,2],[47,3,49,3],[47,7,49,7],[47,8,49,8],[47,21,49,21],[47,12,49,12],[47,13,49,13],[47,14,49,14],[47,15,49,15],[47,19,49,19],[47,20,49,20],[56,4,56,5],[56,6,56,8],[56,9,56,10],[56,16,56,17],[56,18,56,20],[56,21,56,22],[5,27,5,32],[53,24,54,26],[53,27,54,32],[39,24,40,57],[41,24,42,25],[41,26,42,26],[54,4,54,5],[54,6,54,8],[54,9,54,10],[54,16,54,17],[54,18,54,20],[54,21,54,22],[55,4,55,5],[55,6,55,8],[55,9,55,10],[55,16,55,17],[55,18,55,20],[55,21,55,22],[77,24,82,28],[77,29,79,30],[77,31,82,35],[77,46,82,47],[77,48,82,49],[77,58,82,59],[77,60,82,61],[77,62,82,63],[83,58,88,59],[80,29,82,30],[83,24,88,28],[83,29,85,30],[83,36,88,40],[83,31,84,35],[83,41,84,45],[87,34,88,35],[81,36,82,37],[81,38,82,38],[83,62,88,63],[86,29,88,30],[81,44,82,45],[79,38,80,38],[79,39,80,40],[79,41,80,42],[89,24,94,28],[89,29,91,30],[89,41,94,45],[89,46,94,47],[89,62,94,63],[92,29,94,30],[83,48,88,49],[96,24,97,57],[98,24,99,25],[98,26,99,26],[98,29,99,29],[98,32,99,32],[83,60,88,61],[83,50,88,51],[83,52,88,53],[83,54,88,55],[83,56,88,57],[89,60,94,61],[89,50,94,51],[89,52,94,53],[89,54,94,55],[89,56,94,57],[89,48,94,49],[89,31,90,35]]}
[{"$f":"出場チーム!B1","v":"OFA 第 50 回大分県少年サッカー大会　兼　KYFA 九州U-12サッカー大会大分県大会"},null,null,null,null,null,null,null,null,"１次リーグ結果　報告用紙",null,null,{"$f":"出場チーム!B1","v":"OFA 第 50 回大分県少年サッカー大会　兼　KYFA 九州U-12サッカー大会大分県大会"},null,null,null,null,null,null,null,null,"１次リーグ結果　報告用紙",null,null,{"$f":"$A$1","v":"OFA 第 50 回大分県少年サッカー大会　兼　KYFA 九州U-12サッカー大会大分県大会"},null,null,null,null,null,null,null,null,null,null,null,null,null,null,null,null,null,null,null,null,null,null,null,null,null,null,null,null,null,null,null,null,null,null,null,{"$f":"$J$1","v":"１次リーグ結果　報告用紙"}]
["＜時間割＞　①10:00～　②11:00～　③12:00～　④13:00～　⑤14:00～　⑥15:00～",null,null,null,null,null,null,null,null,null,null,null,"＜時間割＞　①10:00～　②11:00～　③12:00～　④13:00～　⑤14:00～　⑥15:00～",null,null,null,null,null,null,null,null,null,null,null,"＜時間割＞　①10:00～　②11:00～　③12:00～　④13:00～　⑤14:00～　⑥15:00～"]
[]
["会場",{"$f":"組み合わせ!D7","v":"速杵国東"},"⇒",{"$f":"VLOOKUP(B4,出場チーム!$B$51:$F$59,2,FALSE)","v":"ﾌｯﾄﾎﾞｰﾙｾﾝﾀｰ大分きつき(杵築市営ｻｯｶｰ場)"},null,null,null,null,null,null,null,null,"会場",{"$f":"組み合わせ!D7","v":"速杵国東"},"⇒",{"$f":"VLOOKUP(N4,出場チーム!$B$51:$F$59,2,FALSE)","v":"ﾌｯﾄﾎﾞｰﾙｾﾝﾀｰ大分きつき(杵築市営ｻｯｶｰ場)"},null,null,null,null,null,null,null,null,"会場",null,null,{"$f":"$B$4","v":"速杵国東"},null,null,null,null,null,"⇒",{"$f":"$D$4","v":"ﾌｯﾄﾎﾞｰﾙｾﾝﾀｰ大分きつき(杵築市営ｻｯｶｰ場)"}]
[]
["パート",{"$f":"VLOOKUP(B4,組み合わせ!$AL$95:$BU$112,13,FALSE)","v":"B"},null,null,null,null,null,null,null,null,null,null,"パート",{"$f":"VLOOKUP(N4,組み合わせ!$AL$95:$BU$112,25,FALSE)","v":"G"},null,null,null,null,null,null,null,null,null,null,"パート",null,null,{"$f":"$B$6","v":"B"}]
[null,{"$f":"CONCATENATE($B$6,1)","v":"B1"},{"$f":"HLOOKUP(B7,組み合わせ!$B$48:$EO$86,2,FALSE)","v":"きつきＦＣ"},null,null,null,null,null,null,{"$f":"HLOOKUP(B7,組み合わせ!$B$48:$EO$86,32,FALSE)","v":"速杵国東"},null,null,null,{"$f":"CONCATENATE($N$6,1)","v":"G1"},{"$f":"HLOOKUP(N7,組み合わせ!$B$48:$EO$86,2,FALSE)","v":"ＯＫＹ山香サッカークラブ"},null,null,null,null,null,null,{"$f":"HLOOKUP(N7,組み合わせ!$B$48:$EO$86,32,FALSE)","v":"速杵国東"},null,null,null,{"$f":"+B7","v":"B1"},null,null,{"$f":"$C$7","v":"きつきＦＣ"},null,null,null,null,null,null,null,null,null,null,null,null,{"$f":"$J$7","v":"速杵国東"}]
[null,{"$f":"CONCATENATE($B$6,2)","v":"B2"},{"$f":"HLOOKUP(B8,組み合わせ!$B$48:$EO$86,2,FALSE)","v":"アトレチコエラン横瀬"},null,null,null,null,null,null,{"$f":"HLOOKUP(B8,組み合わせ!$B$48:$EO$86,32,FALSE)","v":"大分"},null,null,null,{"$f":"CONCATENATE($N$6,2)","v":"G2"},{"$f":"HLOOKUP(N8,組み合わせ!$B$48:$EO$86,2,FALSE)","v":"ブルーウイングフットボールクラブ"},null,null,null,null,null,null,{"$f":"HLOOKUP(N8,組み合わせ!$B$48:$EO$86,32,FALSE)","v":"大分"},null,null,null,{"$f":"+B8","v":"B2"},null,null,{"$f":"$C$8","v":"アトレチコエラン横瀬"},null,null,null,null,null,null,null,null,null,null,null,null,{"$f":"$J$8","v":"大分"}]
[null,{"$f":"CONCATENATE($B$6,3)","v":"B3"},{"$f":"HLOOKUP(B9,組み合わせ!$B$48:$EO$86,2,FALSE)","v":"スマイス　セレソン　スポーツクラブ"},null,null,null,null,null,null,{"$f":"HLOOKUP(B9,組み合わせ!$B$48:$EO$86,32,FALSE)","v":"大分"},null,null,null,{"$f":"CONCATENATE($N$6,3)","v":"G3"},{"$f":"HLOOKUP(N9,組み合わせ!$B$48:$EO$86,2,FALSE)","v":"中津沖代ＪＳＣ"},null,null,null,null,null,null,{"$f":"HLOOKUP(N9,組み合わせ!$B$48:$EO$86,32,FALSE)","v":"中津"},null,null,null,{"$f":"+B9","v":"B3"},null,null,{"$f":"$C$9","v":"スマイス　セレソン　スポーツクラブ"},null,null,null,null,null,null,null,null,null,null,null,null,{"$f":"$J$9","v":"大分"}]
["8：50～ＭＣＭ",null,null,null,null,null,null,null,null,null,null,null,"9：50～ＭＣＭ"]
[]
["①\n10:00～",{"$f":"C7","v":"きつきＦＣ"},{"$f":"IF(E12=\"\",\"\",SUM(E12:E13))","v":1},"（",0,"前半",0,"）",{"$f":"IF(G12=\"\",\"\",SUM(G12:G13))","v":1},{"$f":"C8","v":"アトレチコエラン横瀬"},null,null,"②\n11:00～",{"$f":"O7","v":"ＯＫＹ山香サッカークラブ"},{"$f":"IF(Q12=\"\",\"\",SUM(Q12:Q13))","v":0},"（",0,"前半",3,"）",{"$f":"IF(S12=\"\",\"\",SUM(S12:S13))","v":5},{"$f":"O8","v":"ブルーウイングフットボールクラブ"}]
[null,null,null,null,1,"後半",1,null,null,null,null,null,null,null,null,null,0,"後半",2]
[null,null,null,null,null,"PK",null,null,null,null,null,null,null,null,null,null,null,"PK"]
["MC","中野　観司郎",null,null,null,null,"所属協会",null,null,"速杵国東地区サッカー協会",null,null,"MC","中野　観司郎",null,null,null,null,"所属協会",null,null,"速杵国東地区サッカー協会",null,null,{"$f":"$Y$6","v":"パート"},null,null,null,{"$f":"$AB$6","v":"B"},null,null,{"$f":"$Y$21","v":"きつきＦＣ"},null,null,null,null,{"$f":"$Y$27","v":"アトレチコエラン横瀬"},null,null,null,null,{"$f":"$Y$33","v":"スマイス　セレソン　スポーツクラブ"},null,null,null,null,"勝",null,"PK\n勝",null,"PK\n負",null,"負",null,"得点",null,"失点",null,"勝点",null,"勝点\n順位",null,"得失\n点差",null,"得失\n順位",null,"総\n順位"]
["WelfareOfficer","中野　観司郎",null,null,null,null,"所属協会",null,null,"速杵国東地区サッカー協会",null,null,"WelfareOfficer","中野　観司郎",null,null,null,null,"所属協会",null,null,"速杵国東地区サッカー協会"]
["記録","大本　敏行",null,null,null,null,"所属協会",null,null,"速杵国東地区サッカー協会",null,null,"記録","小田　邦昭",null,null,null,null,"所属協会",null,null,"速杵国東地区サッカー協会"]
["R:",{"$f":"IF(ISERROR(VLOOKUP(G18,審判員!$A:$C,2,FALSE))=TRUE,\"\",VLOOKUP(G18,審判員!$A:$C,2,FALSE))","v":"恵美　圭介"},{"$f":"IF(ISERROR(VLOOKUP(G18,審判員!$A:$C,3,FALSE))=TRUE,\"\",VLOOKUP(G18,審判員!$A:$C,3,FALSE))","v":3},"級","資格番号",null,"R009197619",null,null,"本部",null,null,"R:",{"$f":"IF(ISERROR(VLOOKUP(S18,審判員!$A:$C,2,FALSE))=TRUE,\"\",VLOOKUP(S18,審判員!$A:$C,2,FALSE))","v":"小玉　篤史"},{"$f":"IF(ISERROR(VLOOKUP(S18,審判員!$A:$C,3,FALSE))=TRUE,\"\",VLOOKUP(S18,審判員!$A:$C,3,FALSE))","v":3},"級","資格番号",null,"R009546073",null,null,"本部"]
["AR1:",{"$f":"IF(ISERROR(VLOOKUP(G19,審判員!$A:$C,2,FALSE))=TRUE,\"\",VLOOKUP(G19,審判員!$A:$C,2,FALSE))","v":"唐下　直之"},{"$f":"IF(ISERROR(VLOOKUP(G19,審判員!$A:$C,3,FALSE))=TRUE,\"\",VLOOKUP(G19,審判員!$A:$C,3,FALSE))","v":3},"級","資格番号",null,"R004111340",null,null,{"$f":"N12","v":"ＯＫＹ山香サッカークラブ"},null,null,"AR1:",{"$f":"IF(ISERROR(VLOOKUP(S19,審判員!$A:$C,2,FALSE))=TRUE,\"\",VLOOKUP(S19,審判員!$A:$C,2,FALSE))","v":"久保　雅敬"},{"$f":"IF(ISERROR(VLOOKUP(S19,審判員!$A:$C,3,FALSE))=TRUE,\"\",VLOOKUP(S19,審判員!$A:$C,3,FALSE))","v":3},"級","資格番号",null,"R003677131",null,null,{"$f":"B12","v":"きつきＦＣ"}]
["AR2:",{"$f":"IF(ISERROR(VLOOKUP(G20,審判員!$A:$C,2,FALSE))=TRUE,\"\",VLOOKUP(G20,審判員!$A:$C,2,FALSE))","v":"有田　裕哉"},{"$f":"IF(ISERROR(VLOOKUP(G20,審判員!$A:$C,3,FALSE))=TRUE,\"\",VLOOKUP(G20,審判員!$A:$C,3,FALSE))","v":3},"級","資格番号",null,"R004225713",null,null,{"$f":"V12","v":"ブルーウイングフットボールクラブ"},null,null,"AR2:",{"$f":"IF(ISERROR(VLOOKUP(S20,審判員!$A:$C,2,FALSE))=TRUE,\"\",VLOOKUP(S20,審判員!$A:$C,2,FALSE))","v":"佐藤　誠"},{"$f":"IF(ISERROR(VLOOKUP(S20,審判員!$A:$C,3,FALSE))=TRUE,\"\",VLOOKUP(S20,審判員!$A:$C,3,FALSE))","v":3},"級","資格番号",null,"R007728512",null,null,{"$f":"J12","v":"アトレチコエラン横瀬"}]
["4th:",{"$f":"IF(ISERROR(VLOOKUP(G21,審判員!$A:$C,2,FALSE))=TRUE,\"\",VLOOKUP(G21,審判員!$A:$C,2,FALSE))","v":"大本　敏行"},{"$f":"IF(ISERROR(VLOOKUP(G21,審判員!$A:$C,3,FALSE))=TRUE,\"\",VLOOKUP(G21,審判員!$A:$C,3,FALSE))","v":3},"級","資格番号",null,"R010093494",null,null,"本部",null,null,"4th:",{"$f":"IF(ISERROR(VLOOKUP(S21,審判員!$A:$C,2,FALSE))=TRUE,\"\",VLOOKUP(S21,審判員!$A:$C,2,FALSE))","v":"小田　邦昭"},{"$f":"IF(ISERROR(VLOOKUP(S21,審判員!$A:$C,3,FALSE))=TRUE,\"\",VLOOKUP(S21,審判員!$A:$C,3,FALSE))","v":4},"級","資格番号",null,"R009546064",null,null,"本部",null,null,{"$f":"$AC$7","v":"きつきＦＣ"},null,null,null,null,"星取表",null,null,null,null,null,null,{"$f":"IF(AK25=\"\",\"\",IF(AK25>AN25,\"○\",IF(AK25<AN25,\"●\",IF(AK23>AN23,\"△\",IF(AK23<AN23,\"▲\")))))","v":false},null,null,null,null,{"$f":"IF(AP25=\"\",\"\",IF(AP25>AS25,\"○\",IF(AP25<AS25,\"●\",IF(AP23>AS23,\"△\",IF(AP23<AS23,\"▲\")))))","v":"●"},null,null,null,null,{"$f":"COUNTIF($AF$21:$AT$22,\"○\")","v":0},null,{"$f":"COUNTIF($AF$21:$AT$22,\"△\")","v":0},null,{"$f":"COUNTIF($AF$21:$AT$22,\"▲\")","v":0},null,{"$f":"COUNTIF($AF$21:$AT$22,\"●\")","v":1},null,{"$f":"SUM($AK$25,$AP$25)","v":2},null,{"$f":"SUM($AN$25,$AS$25)","v":3},null,{"$f":"($AU$21*3)+($AW$21*2)+($AY$21*1)","v":0},null,{"$f":"RANK($BG$21,$BG$21:$BH$38)","v":2},null,{"$f":"$BC$21-$BE$21","v":-1},null,{"$f":"RANK($BK$21,$BK$21:$BL$38)","v":2}]
["警告/退場","氏名","背番号","分","内容",null,"内容","分","背番号","氏名","警告/退場",null,"警告/退場","氏名","背番号","分","内容",null,"内容","分","背番号","氏名","警告/退場"]
[null,{"$f":"IF(ISERROR(VLOOKUP(CONCATENATE($B$12,\"_\",C23),選手名簿!$A:$E,5,FALSE))=TRUE,\"\",VLOOKUP(CONCATENATE($B$12,\"_\",C23),選手名簿!$A:$E,5,FALSE))","v":""},null,null,null,null,null,null,null,{"$f":"IF(ISERROR(VLOOKUP(CONCATENATE($J$12,\"_\",I23),選手名簿!$A:$E,5,FALSE))=TRUE,\"\",VLOOKUP(CONCATENATE($J$12,\"_\",I23),選手名簿!$A:$E,5,FALSE))","v":""},null,null,null,{"$f":"IF(ISERROR(VLOOKUP(CONCATENATE($N$12,\"_\",O23),選手名簿!$A:$E,5,FALSE))=TRUE,\"\",VLOOKUP(CONCATENATE($N$12,\"_\",O23),選手名簿!$A:$E,5,FALSE))","v":""},null,null,null,null,null,null,null,{"$f":"IF(ISERROR(VLOOKUP(CONCATENATE($V$12,\"_\",U23),選手名簿!$A:$E,5,FALSE))=TRUE,\"\",VLOOKUP(CONCATENATE($V$12,\"_\",U23),選手名簿!$A:$E,5,FALSE))","v":""},null,null,null,null,null,null,null,null,null,null,null,null,null,null,{"$f":"IF($E$14=\"\",\"\",$E$14)","v":""},null,"―",{"$f":"IF($G$14=\"\",\"\",$G$14)","v":""},null,{"$f":"IF($G$50=\"\",\"\",$G$50)","v":""},null,"―",{"$f":"IF($E$50=\"\",\"\",$E$50)","v":""}]
[null,{"$f":"IF(ISERROR(VLOOKUP(CONCATENATE($B$12,\"_\",C24),選手名簿!$A:$E,5,FALSE))=TRUE,\"\",VLOOKUP(CONCATENATE($B$12,\"_\",C24),選手名簿!$A:$E,5,FALSE))","v":""},null,null,null,null,null,null,null,{"$f":"IF(ISERROR(VLOOKUP(CONCATENATE($J$12,\"_\",I24),選手名簿!$A:$E,5,FALSE))=TRUE,\"\",VLOOKUP(CONCATENATE($J$12,\"_\",I24),選手名簿!$A:$E,5,FALSE))","v":""},null,null,null,{"$f":"IF(ISERROR(VLOOKUP(CONCATENATE($N$12,\"_\",O24),選手名簿!$A:$E,5,FALSE))=TRUE,\"\",VLOOKUP(CONCATENATE($N$12,\"_\",O24),選手名簿!$A:$E,5,FALSE))","v":""},null,null,null,null,null,null,null,{"$f":"IF(ISERROR(VLOOKUP(CONCATENATE($V$12,\"_\",U24),選手名簿!$A:$E,5,FALSE))=TRUE,\"\",VLOOKUP(CONCATENATE($V$12,\"_\",U24),選手名簿!$A:$E,5,FALSE))","v":""},null,null,null,null,null,null,null,"得失点"]
[null,{"$f":"IF(ISERROR(VLOOKUP(CONCATENATE($B$12,\"_\",C25),選手名簿!$A:$E,5,FALSE))=TRUE,\"\",VLOOKUP(CONCATENATE($B$12,\"_\",C25),選手名簿!$A:$E,5,FALSE))","v":""},null,null,null,null,null,null,null,{"$f":"IF(ISERROR(VLOOKUP(CONCATENATE($J$12,\"_\",I25),選手名簿!$A:$E,5,FALSE))=TRUE,\"\",VLOOKUP(CONCATENATE($J$12,\"_\",I25),選手名簿!$A:$E,5,FALSE))","v":""},null,null,null,{"$f":"IF(ISERROR(VLOOKUP(CONCATENATE($N$12,\"_\",O25),選手名簿!$A:$E,5,FALSE))=TRUE,\"\",VLOOKUP(CONCATENATE($N$12,\"_\",O25),選手名簿!$A:$E,5,FALSE))","v":""},null,null,null,null,null,null,null,{"$f":"IF(ISERROR(VLOOKUP(CONCATENATE($V$12,\"_\",U25),選手名簿!$A:$E,5,FALSE))=TRUE,\"\",VLOOKUP(CONCATENATE($V$12,\"_\",U25),選手名簿!$A:$E,5,FALSE))","v":""},null,null,null,null,null,null,null,null,null,null,null,null,null,null,{"$f":"$C$12","v":1},null,"―",{"$f":"$I$12","v":1},null,{"$f":"$I$48","v":1},null,"―",{"$f":"$C$48","v":2}]
[null,{"$f":"IF(ISERROR(VLOOKUP(CONCATENATE($B$12,\"_\",C26),選手名簿!$A:$E,5,FALSE))=TRUE,\"\",VLOOKUP(CONCATENATE($B$12,\"_\",C26),選手名簿!$A:$E,5,FALSE))","v":""},null,null,null,null,null,null,null,{"$f":"IF(ISERROR(VLOOKUP(CONCATENATE($J$12,\"_\",I26),選手名簿!$A:$E,5,FALSE))=TRUE,\"\",VLOOKUP(CONCATENATE($J$12,\"_\",I26),選手名簿!$A:$E,5,FALSE))","v":""},null,null,null,{"$f":"IF(ISERROR(VLOOKUP(CONCATENATE($N$12,\"_\",O26),選手名簿!$A:$E,5,FALSE))=TRUE,\"\",VLOOKUP(CONCATENATE($N$12,\"_\",O26),選手名簿!$A:$E,5,FALSE))","v":""},null,null,null,null,null,null,null,{"$f":"IF(ISERROR(VLOOKUP(CONCATENATE($V$12,\"_\",U26),選手名簿!$A:$E,5,FALSE))=TRUE,\"\",VLOOKUP(CONCATENATE($V$12,\"_\",U26),選手名簿!$A:$E,5,FALSE))","v":""}]
[null,{"$f":"IF(ISERROR(VLOOKUP(CONCATENATE($B$12,\"_\",C27),選手名簿!$A:$E,5,FALSE))=TRUE,\"\",VLOOKUP(CONCATENATE($B$12,\"_\",C27),選手名簿!$A:$E,5,FALSE))","v":""},null,null,null,null,null,null,null,{"$f":"IF(ISERROR(VLOOKUP(CONCATENATE($J$12,\"_\",I27),選手名簿!$A:$E,5,FALSE))=TRUE,\"\",VLOOKUP(CONCATENATE($J$12,\"_\",I27),選手名簿!$A:$E,5,FALSE))","v":""},null,null,null,{"$f":"IF(ISERROR(VLOOKUP(CONCATENATE($N$12,\"_\",O27),選手名簿!$A:$E,5,FALSE))=TRUE,\"\",VLOOKUP(CONCATENATE($N$12,\"_\",O27),選手名簿!$A:$E,5,FALSE))","v":""},null,null,null,null,null,null,null,{"$f":"IF(ISERROR(VLOOKUP(CONCATENATE($V$12,\"_\",U27),選手名簿!$A:$E,5,FALSE))=TRUE,\"\",VLOOKUP(CONCATENATE($V$12,\"_\",U27),選手名簿!$A:$E,5,FALSE))","v":""},null,null,{"$f":"$AC$8","v":"アトレチコエラン横瀬"},null,null,null,null,"星取表",null,{"$f":"IF(AF31=\"\",\"\",IF(AF31>AI31,\"○\",IF(AF31<AI31,\"●\",IF(AF29>AI29,\"△\",IF(AF29<AI29,\"▲\")))))","v":false},null,null,null,null,null,null,null,null,null,{"$f":"IF(AP31=\"\",\"\",IF(AP31>AS31,\"○\",IF(AP31<AS31,\"●\",IF(AP29>AS29,\"△\",IF(AP29<AS29,\"▲\")))))","v":"●"},null,null,null,null,{"$f":"COUNTIF($AF$27:$AT$28,\"○\")","v":0},null,{"$f":"COUNTIF($AF$27:$AT$28,\"△\")","v":0},null,{"$f":"COUNTIF($AF$27:$AT$28,\"▲\")","v":0},null,{"$f":"COUNTIF($AF$27:$AT$28,\"●\")","v":1},null,{"$f":"SUM($AF$31,$AP$31)","v":1},null,{"$f":"SUM($AI$31,$AS$31)","v":2},null,{"$f":"($AU$27*3)+($AW$27*2)+($AY$27*1)","v":0},null,{"$f":"RANK($BG$27,$BG$21:$BH$38)","v":2},null,{"$f":"$BC$27-$BE$27","v":-1},null,{"$f":"RANK($BK$27,$BK$21:$BL$38)","v":2}]
[]
[null,null,null,null,null,null,null,null,null,null,null,null,null,null,null,null,null,null,null,null,null,null,null,null,null,null,null,null,null,null,null,{"$f":"AN23","v":""},null,"―",{"$f":"AK23","v":""},null,null,null,null,null,null,{"$f":"IF($E$32=\"\",\"\",$E$32)","v":""},null,"―",{"$f":"IF($G$32=\"\",\"\",$G$32)","v":""}]
["③\n12:00～",{"$f":"C8","v":"アトレチコエラン横瀬"},{"$f":"IF(E30=\"\",\"\",SUM(E30:E31))","v":0},"（",0,"前半",0,"）",{"$f":"IF(G30=\"\",\"\",SUM(G30:G31))","v":1},{"$f":"C9","v":"スマイス　セレソン　スポーツクラブ"},null,null,"④\n13:00～",{"$f":"O8","v":"ブルーウイングフットボールクラブ"},{"$f":"IF(Q30=\"\",\"\",SUM(Q30:Q31))","v":3},"（",2,"前半",0,"）",{"$f":"IF(S30=\"\",\"\",SUM(S30:S31))","v":2},{"$f":"O9","v":"中津沖代ＪＳＣ"},null,null,null,null,null,null,null,"得失点"]
[null,null,null,null,0,"後半",1,null,null,null,null,null,null,null,null,null,1,"後半",2,null,null,null,null,null,null,null,null,null,null,null,null,{"$f":"AN25","v":1},null,"―",{"$f":"AK25","v":1},null,null,null,null,null,null,{"$f":"$C$30","v":0},null,"―",{"$f":"$I$30","v":1}]
[null,null,null,null,null,"PK",null,null,null,null,null,null,null,null,null,null,null,"PK"]
["MC","中野　観司郎",null,null,null,null,"所属協会",null,null,"速杵国東地区サッカー協会",null,null,"MC","中野　観司郎",null,null,null,null,"所属協会",null,null,"速杵国東地区サッカー協会",null,null,{"$f":"$AC$9","v":"スマイス　セレソン　スポーツクラブ"},null,null,null,null,"星取表",null,{"$f":"IF(AF37=\"\",\"\",IF(AF37>AI37,\"○\",IF(AF37<AI37,\"●\",IF(AF35>AI35,\"△\",IF(AF35<AI35,\"▲\")))))","v":"○"},null,null,null,null,{"$f":"IF(AK37=\"\",\"\",IF(AK37>AN37,\"○\",IF(AK37<AN37,\"●\",IF(AK35>AN35,\"△\",IF(AK35<AN35,\"▲\")))))","v":"○"},null,null,null,null,null,null,null,null,null,{"$f":"COUNTIF($AF$33:$AT$34,\"○\")","v":2},null,{"$f":"COUNTIF($AF$33:$AT$34,\"△\")","v":0},null,{"$f":"COUNTIF($AF$33:$AT$34,\"▲\")","v":0},null,{"$f":"COUNTIF($AF$33:$AT$34,\"●\")","v":0},null,{"$f":"SUM($AF$37,$AK$37)","v":3},null,{"$f":"SUM($AI$37,$AN$37)","v":1},null,{"$f":"($AU$33*3)+($AW$33*2)+($AY$33*1)","v":6},null,{"$f":"RANK($BG$33,$BG$21:$BH$38)","v":1},null,{"$f":"$BC$33-$BE$33","v":2},null,{"$f":"RANK($BK$33,$BK$21:$BL$38)","v":1}]
["WelfareOfficer","中野　観司郎",null,null,null,null,"所属協会",null,null,"速杵国東地区サッカー協会",null,null,"WelfareOfficer","中野　観司郎",null,null,null,null,"所属協会",null,null,"速杵国東地区サッカー協会"]
["記録","箕迫　雄介",null,null,null,null,"所属協会",null,null,"速杵国東地区サッカー協会",null,null,"記録","小田　邦昭",null,null,null,null,"所属協会",null,null,"速杵国東地区サッカー協会",null,null,null,null,null,null,null,null,null,{"$f":"AS23","v":""},null,"―",{"$f":"AP23","v":""},null,{"$f":"AS29","v":""},null,"―",{"$f":"AP29","v":""}]
["R:",{"$f":"IF(ISERROR(VLOOKUP(G36,審判員!$A:$C,2,FALSE))=TRUE,\"\",VLOOKUP(G36,審判員!$A:$C,2,FALSE))","v":"大本　敏行"},{"$f":"IF(ISERROR(VLOOKUP(G36,審判員!$A:$C,3,FALSE))=TRUE,\"\",VLOOKUP(G36,審判員!$A:$C,3,FALSE))","v":3},"級","資格番号",null,"R010093494",null,null,"本部",null,null,"R:",{"$f":"IF(ISERROR(VLOOKUP(S36,審判員!$A:$C,2,FALSE))=TRUE,\"\",VLOOKUP(S36,審判員!$A:$C,2,FALSE))","v":"笠置　忠照"},{"$f":"IF(ISERROR(VLOOKUP(S36,審判員!$A:$C,3,FALSE))=TRUE,\"\",VLOOKUP(S36,審判員!$A:$C,3,FALSE))","v":3},"級","資格番号",null,"R001262829",null,null,"本部",null,null,null,null,null,null,null,"得失点"]
["AR1:",{"$f":"IF(ISERROR(VLOOKUP(G37,審判員!$A:$C,2,FALSE))=TRUE,\"\",VLOOKUP(G37,審判員!$A:$C,2,FALSE))","v":"有田　裕哉"},{"$f":"IF(ISERROR(VLOOKUP(G37,審判員!$A:$C,3,FALSE))=TRUE,\"\",VLOOKUP(G37,審判員!$A:$C,3,FALSE))","v":3},"級","資格番号",null,"R004225713",null,null,{"$f":"N30","v":"ブルーウイングフットボールクラブ"},null,null,"AR1:",{"$f":"IF(ISERROR(VLOOKUP(S37,審判員!$A:$C,2,FALSE))=TRUE,\"\",VLOOKUP(S37,審判員!$A:$C,2,FALSE))","v":"佐藤　誠"},{"$f":"IF(ISERROR(VLOOKUP(S37,審判員!$A:$C,3,FALSE))=TRUE,\"\",VLOOKUP(S37,審判員!$A:$C,3,FALSE))","v":3},"級","資格番号",null,"R007728512",null,null,{"$f":"B30","v":"アトレチコエラン横瀬"},null,null,null,null,null,null,null,null,null,{"$f":"AS25","v":2},null,"―",{"$f":"AP25","v":1},null,{"$f":"AS31","v":1},null,"―",{"$f":"AP31","v":0}]
["AR2:",{"$f":"IF(ISERROR(VLOOKUP(G38,審判員!$A:$C,2,FALSE))=TRUE,\"\",VLOOKUP(G38,審判員!$A:$C,2,FALSE))","v":"石川　慎也"},{"$f":"IF(ISERROR(VLOOKUP(G38,審判員!$A:$C,3,FALSE))=TRUE,\"\",VLOOKUP(G38,審判員!$A:$C,3,FALSE))","v":3},"級","資格番号",null,"R001262379",null,null,{"$f":"V30","v":"中津沖代ＪＳＣ"},null,null,"AR2:",{"$f":"IF(ISERROR(VLOOKUP(S38,審判員!$A:$C,2,FALSE))=TRUE,\"\",VLOOKUP(S38,審判員!$A:$C,2,FALSE))","v":"マガリェンス　リシャルドソン"},{"$f":"IF(ISERROR(VLOOKUP(S38,審判員!$A:$C,3,FALSE))=TRUE,\"\",VLOOKUP(S38,審判員!$A:$C,3,FALSE))","v":3},"級","資格番号",null,"R001260557",null,null,{"$f":"J30","v":"スマイス　セレソン　スポーツクラブ"}]
["4th:",{"$f":"IF(ISERROR(VLOOKUP(G39,審判員!$A:$C,2,FALSE))=TRUE,\"\",VLOOKUP(G39,審判員!$A:$C,2,FALSE))","v":"箕迫　雄介"},{"$f":"IF(ISERROR(VLOOKUP(G39,審判員!$A:$C,3,FALSE))=TRUE,\"\",VLOOKUP(G39,審判員!$A:$C,3,FALSE))","v":3},"級","資格番号",null,"R005405699",null,null,"本部",null,null,"4th:",{"$f":"IF(ISERROR(VLOOKUP(S39,審判員!$A:$C,2,FALSE))=TRUE,\"\",VLOOKUP(S39,審判員!$A:$C,2,FALSE))","v":"小田　邦昭"},{"$f":"IF(ISERROR(VLOOKUP(S39,審判員!$A:$C,3,FALSE))=TRUE,\"\",VLOOKUP(S39,審判員!$A:$C,3,FALSE))","v":4},"級","資格番号",null,"R009546064",null,null,"本部"]
["警告/退場","氏名","背番号","分","内容",null,"内容","分","背番号","氏名","警告/退場",null,"警告/退場","氏名","背番号","分","内容",null,"内容","分","背番号","氏名","警告/退場",null,"Ⅰ勝点（勝３点　ＰＫ勝２点　ＰＫ負１点　負０点）　Ⅱ当該チームの戦績　Ⅲ得失点差　Ⅳ多得点　Ⅴ抽選の順で順位を決定する。"]
[null,{"$f":"IF(ISERROR(VLOOKUP(CONCATENATE($B$30,\"_\",C41),選手名簿!$A:$E,5,FALSE))=TRUE,\"\",VLOOKUP(CONCATENATE($B$30,\"_\",C41),選手名簿!$A:$E,5,FALSE))","v":""},null,null,null,null,null,null,null,{"$f":"IF(ISERROR(VLOOKUP(CONCATENATE($J$30,\"_\",I41),選手名簿!$A:$E,5,FALSE))=TRUE,\"\",VLOOKUP(CONCATENATE($J$30,\"_\",I41),選手名簿!$A:$E,5,FALSE))","v":""},null,null,null,{"$f":"IF(ISERROR(VLOOKUP(CONCATENATE($N$30,\"_\",O41),選手名簿!$A:$E,5,FALSE))=TRUE,\"\",VLOOKUP(CONCATENATE($N$30,\"_\",O41),選手名簿!$A:$E,5,FALSE))","v":""},null,null,null,null,null,null,null,{"$f":"IF(ISERROR(VLOOKUP(CONCATENATE($V$30,\"_\",U41),選手名簿!$A:$E,5,FALSE))=TRUE,\"\",VLOOKUP(CONCATENATE($V$30,\"_\",U41),選手名簿!$A:$E,5,FALSE))","v":""}]
[null,{"$f":"IF(ISERROR(VLOOKUP(CONCATENATE($B$30,\"_\",C42),選手名簿!$A:$E,5,FALSE))=TRUE,\"\",VLOOKUP(CONCATENATE($B$30,\"_\",C42),選手名簿!$A:$E,5,FALSE))","v":""},null,null,null,null,null,null,null,{"$f":"IF(ISERROR(VLOOKUP(CONCATENATE($J$30,\"_\",I42),選手名簿!$A:$E,5,FALSE))=TRUE,\"\",VLOOKUP(CONCATENATE($J$30,\"_\",I42),選手名簿!$A:$E,5,FALSE))","v":""},null,null,null,{"$f":"IF(ISERROR(VLOOKUP(CONCATENATE($N$30,\"_\",O42),選手名簿!$A:$E,5,FALSE))=TRUE,\"\",VLOOKUP(CONCATENATE($N$30,\"_\",O42),選手名簿!$A:$E,5,FALSE))","v":""},null,null,null,null,null,null,null,{"$f":"IF(ISERROR(VLOOKUP(CONCATENATE($V$30,\"_\",U42),選手名簿!$A:$E,5,FALSE))=TRUE,\"\",VLOOKUP(CONCATENATE($V$30,\"_\",U42),選手名簿!$A:$E,5,FALSE))","v":""},null,null,"勝点表",null,"勝","○",null,"PK\n勝","△",null,"PK\n負","▲",null,"負","●"]
[null,{"$f":"IF(ISERROR(VLOOKUP(CONCATENATE($B$30,\"_\",C43),選手名簿!$A:$E,5,FALSE))=TRUE,\"\",VLOOKUP(CONCATENATE($B$30,\"_\",C43),選手名簿!$A:$E,5,FALSE))","v":""},null,null,null,null,null,null,null,{"$f":"IF(ISERROR(VLOOKUP(CONCATENATE($J$30,\"_\",I43),選手名簿!$A:$E,5,FALSE))=TRUE,\"\",VLOOKUP(CONCATENATE($J$30,\"_\",I43),選手名簿!$A:$E,5,FALSE))","v":""},null,null,null,{"$f":"IF(ISERROR(VLOOKUP(CONCATENATE($N$30,\"_\",O43),選手名簿!$A:$E,5,FALSE))=TRUE,\"\",VLOOKUP(CONCATENATE($N$30,\"_\",O43),選手名簿!$A:$E,5,FALSE))","v":""},null,null,null,null,null,null,null,{"$f":"IF(ISERROR(VLOOKUP(CONCATENATE($V$30,\"_\",U43),選手名簿!$A:$E,5,FALSE))=TRUE,\"\",VLOOKUP(CONCATENATE($V$30,\"_\",U43),選手名簿!$A:$E,5,FALSE))","v":""},null,null,null,null,null,3,null,null,2,null,null,1,null,null,0]
[null,{"$f":"IF(ISERROR(VLOOKUP(CONCATENATE($B$30,\"_\",C44),選手名簿!$A:$E,5,FALSE))=TRUE,\"\",VLOOKUP(CONCATENATE($B$30,\"_\",C44),選手名簿!$A:$E,5,FALSE))","v":""},null,null,null,null,null,null,null,{"$f":"IF(ISERROR(VLOOKUP(CONCATENATE($J$30,\"_\",I44),選手名簿!$A:$E,5,FALSE))=TRUE,\"\",VLOOKUP(CONCATENATE($J$30,\"_\",I44),選手名簿!$A:$E,5,FALSE))","v":""},null,null,null,{"$f":"IF(ISERROR(VLOOKUP(CONCATENATE($N$30,\"_\",O44),選手名簿!$A:$E,5,FALSE))=TRUE,\"\",VLOOKUP(CONCATENATE($N$30,\"_\",O44),選手名簿!$A:$E,5,FALSE))","v":""},null,null,null,null,null,null,null,{"$f":"IF(ISERROR(VLOOKUP(CONCATENATE($V$30,\"_\",U44),選手名簿!$A:$E,5,FALSE))=TRUE,\"\",VLOOKUP(CONCATENATE($V$30,\"_\",U44),選手名簿!$A:$E,5,FALSE))","v":""}]
[null,{"$f":"IF(ISERROR(VLOOKUP(CONCATENATE($B$30,\"_\",C45),選手名簿!$A:$E,5,FALSE))=TRUE,\"\",VLOOKUP(CONCATENATE($B$30,\"_\",C45),選手名簿!$A:$E,5,FALSE))","v":""},null,null,null,null,null,null,null,{"$f":"IF(ISERROR(VLOOKUP(CONCATENATE($J$30,\"_\",I45),選手名簿!$A:$E,5,FALSE))=TRUE,\"\",VLOOKUP(CONCATENATE($J$30,\"_\",I45),選手名簿!$A:$E,5,FALSE))","v":""},null,null,null,{"$f":"IF(ISERROR(VLOOKUP(CONCATENATE($N$30,\"_\",O45),選手名簿!$A:$E,5,FALSE))=TRUE,\"\",VLOOKUP(CONCATENATE($N$30,\"_\",O45),選手名簿!$A:$E,5,FALSE))","v":""},null,null,null,null,null,null,null,{"$f":"IF(ISERROR(VLOOKUP(CONCATENATE($V$30,\"_\",U45),選手名簿!$A:$E,5,FALSE))=TRUE,\"\",VLOOKUP(CONCATENATE($V$30,\"_\",U45),選手名簿!$A:$E,5,FALSE))","v":""}]
[]
[]
["⑤\n14:00～",{"$f":"C9","v":"スマイス　セレソン　スポーツクラブ"},{"$f":"IF(E48=\"\",\"\",SUM(E48:E49))","v":2},"（",0,"前半",1,"）",{"$f":"IF(G48=\"\",\"\",SUM(G48:G49))","v":1},{"$f":"C7","v":"きつきＦＣ"},null,null,"⑥\n15:00～",{"$f":"O9","v":"中津沖代ＪＳＣ"},{"$f":"IF(Q48=\"\",\"\",SUM(Q48:Q49))","v":3},"（",2,"前半",0,"）",{"$f":"IF(S48=\"\",\"\",SUM(S48:S49))","v":1},{"$f":"O7","v":"ＯＫＹ山香サッカークラブ"},null,null,{"$f":"$Y$1","v":"OFA 第 50 回大分県少年サッカー大会　兼　KYFA 九州U-12サッカー大会大分県大会"},null,null,null,null,null,null,null,null,null,null,null,null,null,null,null,null,null,null,null,null,null,null,null,null,null,null,null,null,null,null,null,null,null,null,null,{"$f":"$BI$1","v":"１次リーグ結果　報告用紙"}]
[null,null,null,null,2,"後半",0,null,null,null,null,null,null,null,null,null,1,"後半",1]
[null,null,null,null,null,"PK",null,null,null,null,null,null,null,null,null,null,null,"PK",null,null,null,null,null,null,"＜時間割＞　①10:00～　②11:00～　③12:00～　④13:00～　⑤14:00～　⑥15:00～"]
["MC","中野　観司郎",null,null,null,null,"所属協会",null,null,"速杵国東地区サッカー協会",null,null,"MC","中野　観司郎",null,null,null,null,"所属協会",null,null,"速杵国東地区サッカー協会"]
["WelfareOfficer","中野　観司郎",null,null,null,null,"所属協会",null,null,"速杵国東地区サッカー協会",null,null,"WelfareOfficer","中野　観司郎",null,null,null,null,"所属協会",null,null,"速杵国東地区サッカー協会"]
["記録","大本　敏行",null,null,null,null,"所属協会",null,null,"速杵国東地区サッカー協会",null,null,"記録","笠置　忠照",null,null,null,null,"所属協会",null,null,"速杵国東地区サッカー協会"]
["R:",{"$f":"IF(ISERROR(VLOOKUP(G54,審判員!$A:$C,2,FALSE))=TRUE,\"\",VLOOKUP(G54,審判員!$A:$C,2,FALSE))","v":"箕迫　雄介"},{"$f":"IF(ISERROR(VLOOKUP(G54,審判員!$A:$C,3,FALSE))=TRUE,\"\",VLOOKUP(G54,審判員!$A:$C,3,FALSE))","v":3},"級","資格番号",null,"R005405699",null,null,"本部",null,null,"R:",{"$f":"IF(ISERROR(VLOOKUP(S54,審判員!$A:$C,2,FALSE))=TRUE,\"\",VLOOKUP(S54,審判員!$A:$C,2,FALSE))","v":"恵美　圭介"},{"$f":"IF(ISERROR(VLOOKUP(S54,審判員!$A:$C,3,FALSE))=TRUE,\"\",VLOOKUP(S54,審判員!$A:$C,3,FALSE))","v":3},"級","資格番号",null,"R009197619",null,null,"本部",null,null,"会場",null,null,{"$f":"$N$4","v":"速杵国東"},null,null,null,null,null,"⇒",{"$f":"$P$4","v":"ﾌｯﾄﾎﾞｰﾙｾﾝﾀｰ大分きつき(杵築市営ｻｯｶｰ場)"}]
["AR1:",{"$f":"IF(ISERROR(VLOOKUP(G55,審判員!$A:$C,2,FALSE))=TRUE,\"\",VLOOKUP(G55,審判員!$A:$C,2,FALSE))","v":"石川　慎也"},{"$f":"IF(ISERROR(VLOOKUP(G55,審判員!$A:$C,3,FALSE))=TRUE,\"\",VLOOKUP(G55,審判員!$A:$C,3,FALSE))","v":3},"級","資格番号",null,"R001262379",null,null,{"$f":"N48","v":"中津沖代ＪＳＣ"},null,null,"AR1:",{"$f":"IF(ISERROR(VLOOKUP(S55,審判員!$A:$C,2,FALSE))=TRUE,\"\",VLOOKUP(S55,審判員!$A:$C,2,FALSE))","v":"マガリェンス　リシャルドソン"},{"$f":"IF(ISERROR(VLOOKUP(S55,審判員!$A:$C,3,FALSE))=TRUE,\"\",VLOOKUP(S55,審判員!$A:$C,3,FALSE))","v":3},"級","資格番号",null,"R001260557",null,null,{"$f":"B48","v":"スマイス　セレソン　スポーツクラブ"}]
["AR2:",{"$f":"IF(ISERROR(VLOOKUP(G56,審判員!$A:$C,2,FALSE))=TRUE,\"\",VLOOKUP(G56,審判員!$A:$C,2,FALSE))","v":"唐下　直之"},{"$f":"IF(ISERROR(VLOOKUP(G56,審判員!$A:$C,3,FALSE))=TRUE,\"\",VLOOKUP(G56,審判員!$A:$C,3,FALSE))","v":3},"級","資格番号",null,"R004111340",null,null,{"$f":"V48","v":"ＯＫＹ山香サッカークラブ"},null,null,"AR2:",{"$f":"IF(ISERROR(VLOOKUP(S56,審判員!$A:$C,2,FALSE))=TRUE,\"\",VLOOKUP(S56,審判員!$A:$C,2,FALSE))","v":"久保　雅敬"},{"$f":"IF(ISERROR(VLOOKUP(S56,審判員!$A:$C,3,FALSE))=TRUE,\"\",VLOOKUP(S56,審判員!$A:$C,3,FALSE))","v":3},"級","資格番号",null,"R003677131",null,null,{"$f":"J48","v":"きつきＦＣ"}]
["4th:",{"$f":"IF(ISERROR(VLOOKUP(G57,審判員!$A:$C,2,FALSE))=TRUE,\"\",VLOOKUP(G57,審判員!$A:$C,2,FALSE))","v":"大本　敏行"},{"$f":"IF(ISERROR(VLOOKUP(G57,審判員!$A:$C,3,FALSE))=TRUE,\"\",VLOOKUP(G57,審判員!$A:$C,3,FALSE))","v":3},"級","資格番号",null,"R010093494",null,null,"本部",null,null,"4th:",{"$f":"IF(ISERROR(VLOOKUP(S57,審判員!$A:$C,2,FALSE))=TRUE,\"\",VLOOKUP(S57,審判員!$A:$C,2,FALSE))","v":"笠置　忠照"},{"$f":"IF(ISERROR(VLOOKUP(S57,審判員!$A:$C,3,FALSE))=TRUE,\"\",VLOOKUP(S57,審判員!$A:$C,3,FALSE))","v":3},"級","資格番号",null,"R001262829",null,null,"本部"]
["警告/退場","氏名","背番号","分","内容",null,"内容","分","背番号","氏名","警告/退場",null,"警告/退場","氏名","背番号","分","内容",null,"内容","分","背番号","氏名","警告/退場",null,"パート",null,null,{"$f":"$N$6","v":"G"}]
[null,{"$f":"IF(ISERROR(VLOOKUP(CONCATENATE($B$48,\"_\",C59),選手名簿!$A:$E,5,FALSE))=TRUE,\"\",VLOOKUP(CONCATENATE($B$48,\"_\",C59),選手名簿!$A:$E,5,FALSE))","v":""},null,null,null,null,null,null,null,{"$f":"IF(ISERROR(VLOOKUP(CONCATENATE($J$48,\"_\",I59),選手名簿!$A:$E,5,FALSE))=TRUE,\"\",VLOOKUP(CONCATENATE($J$48,\"_\",I59),選手名簿!$A:$E,5,FALSE))","v":""},null,null,null,{"$f":"IF(ISERROR(VLOOKUP(CONCATENATE($N$48,\"_\",O59),選手名簿!$A:$E,5,FALSE))=TRUE,\"\",VLOOKUP(CONCATENATE($N$48,\"_\",O59),選手名簿!$A:$E,5,FALSE))","v":""},null,null,null,null,null,null,null,{"$f":"IF(ISERROR(VLOOKUP(CONCATENATE($V$48,\"_\",U59),選手名簿!$A:$E,5,FALSE))=TRUE,\"\",VLOOKUP(CONCATENATE($V$48,\"_\",U59),選手名簿!$A:$E,5,FALSE))","v":""}]
[null,{"$f":"IF(ISERROR(VLOOKUP(CONCATENATE($B$48,\"_\",C60),選手名簿!$A:$E,5,FALSE))=TRUE,\"\",VLOOKUP(CONCATENATE($B$48,\"_\",C60),選手名簿!$A:$E,5,FALSE))","v":""},null,null,null,null,null,null,null,{"$f":"IF(ISERROR(VLOOKUP(CONCATENATE($J$48,\"_\",I60),選手名簿!$A:$E,5,FALSE))=TRUE,\"\",VLOOKUP(CONCATENATE($J$48,\"_\",I60),選手名簿!$A:$E,5,FALSE))","v":""},null,null,null,{"$f":"IF(ISERROR(VLOOKUP(CONCATENATE($N$48,\"_\",O60),選手名簿!$A:$E,5,FALSE))=TRUE,\"\",VLOOKUP(CONCATENATE($N$48,\"_\",O60),選手名簿!$A:$E,5,FALSE))","v":""},null,null,null,null,null,null,null,{"$f":"IF(ISERROR(VLOOKUP(CONCATENATE($V$48,\"_\",U60),選手名簿!$A:$E,5,FALSE))=TRUE,\"\",VLOOKUP(CONCATENATE($V$48,\"_\",U60),選手名簿!$A:$E,5,FALSE))","v":""},null,null,null,{"$f":"$N$7","v":"G1"},null,null,{"$f":"$O$7","v":"ＯＫＹ山香サッカークラブ"},null,null,null,null,null,null,null,null,null,null,null,null,{"$f":"$V$7","v":"速杵国東"}]
[null,{"$f":"IF(ISERROR(VLOOKUP(CONCATENATE($B$48,\"_\",C61),選手名簿!$A:$E,5,FALSE))=TRUE,\"\",VLOOKUP(CONCATENATE($B$48,\"_\",C61),選手名簿!$A:$E,5,FALSE))","v":""},null,null,null,null,null,null,null,{"$f":"IF(ISERROR(VLOOKUP(CONCATENATE($J$48,\"_\",I61),選手名簿!$A:$E,5,FALSE))=TRUE,\"\",VLOOKUP(CONCATENATE($J$48,\"_\",I61),選手名簿!$A:$E,5,FALSE))","v":""},null,null,null,{"$f":"IF(ISERROR(VLOOKUP(CONCATENATE($N$48,\"_\",O61),選手名簿!$A:$E,5,FALSE))=TRUE,\"\",VLOOKUP(CONCATENATE($N$48,\"_\",O61),選手名簿!$A:$E,5,FALSE))","v":""},null,null,null,null,null,null,null,{"$f":"IF(ISERROR(VLOOKUP(CONCATENATE($V$48,\"_\",U61),選手名簿!$A:$E,5,FALSE))=TRUE,\"\",VLOOKUP(CONCATENATE($V$48,\"_\",U61),選手名簿!$A:$E,5,FALSE))","v":""}]
[null,{"$f":"IF(ISERROR(VLOOKUP(CONCATENATE($B$48,\"_\",C62),選手名簿!$A:$E,5,FALSE))=TRUE,\"\",VLOOKUP(CONCATENATE($B$48,\"_\",C62),選手名簿!$A:$E,5,FALSE))","v":""},null,null,null,null,null,null,null,{"$f":"IF(ISERROR(VLOOKUP(CONCATENATE($J$48,\"_\",I62),選手名簿!$A:$E,5,FALSE))=TRUE,\"\",VLOOKUP(CONCATENATE($J$48,\"_\",I62),選手名簿!$A:$E,5,FALSE))","v":""},null,null,null,{"$f":"IF(ISERROR(VLOOKUP(CONCATENATE($N$48,\"_\",O62),選手名簿!$A:$E,5,FALSE))=TRUE,\"\",VLOOKUP(CONCATENATE($N$48,\"_\",O62),選手名簿!$A:$E,5,FALSE))","v":""},null,null,null,null,null,null,null,{"$f":"IF(ISERROR(VLOOKUP(CONCATENATE($V$48,\"_\",U62),選手名簿!$A:$E,5,FALSE))=TRUE,\"\",VLOOKUP(CONCATENATE($V$48,\"_\",U62),選手名簿!$A:$E,5,FALSE))","v":""},null,null,null,{"$f":"$N$8","v":"G2"},null,null,{"$f":"$O$8","v":"ブルーウイングフットボールクラブ"},null,null,null,null,null,null,null,null,null,null,null,null,{"$f":"$V$8","v":"大分"}]
[null,{"$f":"IF(ISERROR(VLOOKUP(CONCATENATE($B$48,\"_\",C63),選手名簿!$A:$E,5,FALSE))=TRUE,\"\",VLOOKUP(CONCATENATE($B$48,\"_\",C63),選手名簿!$A:$E,5,FALSE))","v":""},null,null,null,null,null,null,null,{"$f":"IF(ISERROR(VLOOKUP(CONCATENATE($J$48,\"_\",I63),選手名簿!$A:$E,5,FALSE))=TRUE,\"\",VLOOKUP(CONCATENATE($J$48,\"_\",I63),選手名簿!$A:$E,5,FALSE))","v":""},null,null,null,{"$f":"IF(ISERROR(VLOOKUP(CONCATENATE($N$48,\"_\",O63),選手名簿!$A:$E,5,FALSE))=TRUE,\"\",VLOOKUP(CONCATENATE($N$48,\"_\",O63),選手名簿!$A:$E,5,FALSE))","v":""},null,null,null,null,null,null,null,{"$f":"IF(ISERROR(VLOOKUP(CONCATENATE($V$48,\"_\",U63),選手名簿!$A:$E,5,FALSE))=TRUE,\"\",VLOOKUP(CONCATENATE($V$48,\"_\",U63),選手名簿!$A:$E,5,FALSE))","v":""}]
[null,null,null,null,null,null,null,null,null,null,null,null,null,null,null,null,null,null,null,null,null,null,null,null,null,{"$f":"$N$9","v":"G3"},null,null,{"$f":"$O$9","v":"中津沖代ＪＳＣ"},null,null,null,null,null,null,null,null,null,null,null,null,{"$f":"$V$9","v":"中津"}]
[]
[]
[]
[]
[]
[]
[]
[null,null,null,null,null,null,null,null,null,null,null,null,null,null,null,null,null,null,null,null,null,null,null,null,{"$f":"$Y$6","v":"パート"},null,null,null,{"$f":"$AB$58","v":"G"},null,null,{"$f":"$Y$78","v":"ＯＫＹ山香サッカークラブ"},null,null,null,null,{"$f":"$Y$84","v":"ブルーウイングフットボールクラブ"},null,null,null,null,{"$f":"$Y$90","v":"中津沖代ＪＳＣ"},null,null,null,null,"勝",null,"PK\n勝",null,"PK\n負",null,"負",null,"得点",null,"失点",null,"勝点",null,"勝点\n順位",null,"得失\n点差",null,"得失\n順位",null,"総\n順位"]
[]
[]
[]
[]
[]
[null,null,null,null,null,null,null,null,null,null,null,null,null,null,null,null,null,null,null,null,null,null,null,null,{"$f":"$AC$60","v":"ＯＫＹ山香サッカークラブ"},null,null,null,null,"星取表",null,null,null,null,null,null,{"$f":"IF(AK82=\"\",\"\",IF(AK82>AN82,\"○\",IF(AK82<AN82,\"●\",IF(AK80>AN80,\"△\",IF(AK80<AN80,\"▲\")))))","v":"●"},null,null,null,null,{"$f":"IF(AP82=\"\",\"\",IF(AP82>AS82,\"○\",IF(AP82<AS82,\"●\",IF(AP80>AS80,\"△\",IF(AP80<AS80,\"▲\")))))","v":"●"},null,null,null,null,{"$f":"COUNTIF($AF$78:$AT$79,\"○\")","v":0},null,{"$f":"COUNTIF($AF$78:$AT$79,\"△\")","v":0},null,{"$f":"COUNTIF($AF$78:$AT$79,\"▲\")","v":0},null,{"$f":"COUNTIF($AF$78:$AT$79,\"●\")","v":2},null,{"$f":"SUM($AK$82,$AP$82)","v":1},null,{"$f":"SUM($AN$82,$AS$82)","v":8},null,{"$f":"($AU$78*3)+($AW$78*2)+($AY$78*1)","v":0},null,{"$f":"RANK($BG$78,$BG$78:$BH$95)","v":3},null,{"$f":"$BC$78-$BE$78","v":-7},null,{"$f":"RANK($BK$78,$BK$78:$BL$95)","v":3}]
[]
[null,null,null,null,null,null,null,null,null,null,null,null,null,null,null,null,null,null,null,null,null,null,null,null,null,null,null,null,null,null,null,null,null,null,null,null,{"$f":"IF($Q$14=\"\",\"\",$Q$14)","v":""},null,"―",{"$f":"IF($S$14=\"\",\"\",$S$14)","v":""},null,{"$f":"IF($S$50=\"\",\"\",$S$50)","v":""},null,"―",{"$f":"IF($Q$50=\"\",\"\",$Q$50)","v":""}]
[null,null,null,null,null,null,null,null,null,null,null,null,null,null,null,null,null,null,null,null,null,null,null,null,null,null,null,null,null,"得失点"]
[null,null,null,null,null,null,null,null,null,null,null,null,null,null,null,null,null,null,null,null,null,null,null,null,null,null,null,null,null,null,null,null,null,null,null,null,{"$f":"$O$12","v":0},null,"―",{"$f":"$U$12","v":5},null,{"$f":"$U$48","v":1},null,"―",{"$f":"$O$48","v":3}]
[]
[null,null,null,null,null,null,null,null,null,null,null,null,null,null,null,null,null,null,null,null,null,null,null,null,{"$f":"$AC$62","v":"ブルーウイングフットボールクラブ"},null,null,null,null,"星取表",null,{"$f":"IF(AF88=\"\",\"\",IF(AF88>AI88,\"○\",IF(AF88<AI88,\"●\",IF(AF86>AI86,\"△\",IF(AF86<AI86,\"▲\")))))","v":"○"},null,null,null,null,null,null,null,null,null,{"$f":"IF(AP88=\"\",\"\",IF(AP88>AS88,\"○\",IF(AP88<AS88,\"●\",IF(AP86>AS86,\"△\",IF(AP86<AS86,\"▲\")))))","v":"○"},null,null,null,null,{"$f":"COUNTIF($AF$84:$AT$85,\"○\")","v":2},null,{"$f":"COUNTIF($AF$84:$AT$85,\"△\")","v":0},null,{"$f":"COUNTIF($AF$84:$AT$85,\"▲\")","v":0},null,{"$f":"COUNTIF($AF$84:$AT$85,\"●\")","v":0},null,{"$f":"SUM($AF$88,$AP$88)","v":8},null,{"$f":"SUM($AI$88,$AS$88)","v":2},null,{"$f":"($AU$84*3)+($AW$84*2)+($AY$84*1)","v":6},null,{"$f":"RANK($BG$84,$BG$78:$BH$95)","v":1},null,{"$f":"$BC$84-$BE$84","v":6},null,{"$f":"RANK($BK$84,$BK$78:$BL$95)","v":1}]
[]
[null,null,null,null,null,null,null,null,null,null,null,null,null,null,null,null,null,null,null,null,null,null,null,null,null,null,null,null,null,null,null,{"$f":"AN80","v":""},null,"―",{"$f":"AK80","v":""},null,null,null,null,null,null,{"$f":"IF($Q$32=\"\",\"\",$Q$32)","v":""},null,"―",{"$f":"IF($S$32=\"\",\"\",$S$32)","v":""}]
[null,null,null,null,null,null,null,null,null,null,null,null,null,null,null,null,null,null,null,null,null,null,null,null,null,null,null,null,null,"得失点"]
[null,null,null,null,null,null,null,null,null,null,null,null,null,null,null,null,null,null,null,null,null,null,null,null,null,null,null,null,null,null,null,{"$f":"AN82","v":5},null,"―",{"$f":"AK82","v":0},null,null,null,null,null,null,{"$f":"$O$30","v":3},null,"―",{"$f":"$U$30","v":2}]
[]
[null,null,null,null,null,null,null,null,null,null,null,null,null,null,null,null,null,null,null,null,null,null,null,null,{"$f":"$AC$64","v":"中津沖代ＪＳＣ"},null,null,null,null,"星取表",null,{"$f":"IF(AF94=\"\",\"\",IF(AF94>AI94,\"○\",IF(AF94<AI94,\"●\",IF(AF92>AI92,\"△\",IF(AF92<AI92,\"▲\")))))","v":"○"},null,null,null,null,{"$f":"IF(AK94=\"\",\"\",IF(AK94>AN94,\"○\",IF(AK94<AN94,\"●\",IF(AK92>AN92,\"△\",IF(AK92<AN92,\"▲\")))))","v":"●"},null,null,null,null,null,null,null,null,null,{"$f":"COUNTIF($AF$90:$AT$91,\"○\")","v":1},null,{"$f":"COUNTIF($AF$90:$AT$91,\"△\")","v":0},null,{"$f":"COUNTIF($AF$90:$AT$91,\"▲\")","v":0},null,{"$f":"COUNTIF($AF$90:$AT$91,\"●\")","v":1},null,{"$f":"SUM($AF$94,$AK$94)","v":5},null,{"$f":"SUM($AI$94,$AN$94)","v":4},null,{"$f":"($AU$90*3)+($AW$90*2)+($AY$90*1)","v":3},null,{"$f":"RANK($BG$90,$BG$78:$BH$95)","v":2},null,{"$f":"$BC$90-$BE$90","v":1},null,{"$f":"RANK($BK$90,$BK$78:$BL$95)","v":2}]
[]
[null,null,null,null,null,null,null,null,null,null,null,null,null,null,null,null,null,null,null,null,null,null,null,null,null,null,null,null,null,null,null,{"$f":"AS80","v":""},null,"―",{"$f":"AP80","v":""},null,{"$f":"AS86","v":""},null,"―",{"$f":"AP86","v":""}]
[null,null,null,null,null,null,null,null,null,null,null,null,null,null,null,null,null,null,null,null,null,null,null,null,null,null,null,null,null,"得失点"]
[null,null,null,null,null,null,null,null,null,null,null,null,null,null,null,null,null,null,null,null,null,null,null,null,null,null,null,null,null,null,null,{"$f":"AS82","v":3},null,"―",{"$f":"AP82","v":1},null,{"$f":"AS88","v":2},null,"―",{"$f":"AP88","v":3}]
[]
[]
[null,null,null,null,null,null,null,null,null,null,null,null,null,null,null,null,null,null,null,null,null,null,null,null,"Ⅰ勝点（勝３点　ＰＫ勝２点　ＰＫ負１点　負０点）　Ⅱ当該チームの戦績　Ⅲ得失点差　Ⅳ多得点　Ⅴ抽選の順で順位を決定する。"]
[]
[null,null,null,null,null,null,null,null,null,null,null,null,null,null,null,null,null,null,null,null,null,null,null,null,"勝点表",null,"勝","○",null,"PK\n勝","△",null,"PK\n負","▲",null,"負","●"]
[null,null,null,null,null,null,null,null,null,null,null,null,null,null,null,null,null,null,null,null,null,null,null,null,null,null,null,3,null,null,2,null,null,1,null,null,0]

{"sheet":"１次リーグ（津久見・臼杵）","index":14,"n_rows":100,"n_cols":67,"rows_kept":100,"cut":false,"hidden":true,"merged":[[16,13,16,17],[16,18,16,20],[16,21,16,22],[32,1,32,5],[32,6,32,8],[32,9,32,10],[33,1,33,5],[33,6,33,8],[33,9,33,10],[17,4,17,5],[17,6,17,8],[17,9,17,10],[17,16,17,17],[17,18,17,20],[17,21,17,22],[20,21,20,22],[19,4,19,5],[19,6,19,8],[19,9,19,10],[19,16,19,17],[19,18,19,20],[19,21,19,22],[20,4,20,5],[20,6,20,8],[34,1,34,5],[34,6,34,8],[34,9,34,10],[32,13,32,17],[32,18,32,20],[32,21,32,22],[33,13,33,17],[33,18,33,20],[33,21,33,22],[34,13,34,17],[34,18,34,20],[34,21,34,22],[50,13,50,17],[50,18,50,20],[50,21,50,22],[51,13,51,17],[51,18,51,20],[51,21,51,22],[52,13,52,17],[52,18,52,20],[52,21,52,22],[50,1,50,5],[50,6,50,8],[50,9,50,10],[51,1,51,5],[51,6,51,8],[51,9,51,10],[52,1,52,5],[52,6,52,8],[52,9,52,10],[89,36,90,40],[89,64,94,65],[93,36,94,37],[93,38,94,38],[93,39,94,40],[83,64,88,65],[89,58,94,59],[89,66,94,66],[91,31,92,32],[91,33,92,33],[91,34,92,35],[91,36,92,37],[91,38,92,38],[91,39,92,40],[93,31,94,32],[93,33,94,33],[93,34,94,35],[83,66,88,66],[85,31,86,32],[85,33,86,33],[85,34,86,35],[85,41,86,42],[85,43,86,43],[85,44,86,45],[87,31,88,32],[87,33,88,33],[83,46,88,47],[87,41,88,42],[87,43,88,43],[87,44,88,45],[36,39,37,40],[26,48,31,49],[32,62,37,63],[77,36,78,40],[77,41,78,45],[47,60,48,66],[77,50,82,51],[77,52,82,53],[77,54,82,55],[71,46,76,47],[71,48,76,49],[71,50,76,51],[71,52,76,53],[71,54,76,55],[71,60,76,61],[71,62,76,63],[71,64,76,65],[71,66,76,66],[32,66,37,66],[34,31,35,32],[34,33,35,33],[34,34,35,35],[34,36,35,37],[34,38,35,38],[34,39,35,40],[36,31,37,32],[36,33,37,33],[36,34,37,35],[32,54,37,55],[32,56,37,57],[32,60,37,61],[32,64,37,65],[14,58,19,59],[14,60,19,61],[14,62,19,63],[20,48,25,49],[20,50,25,51],[20,52,25,53],[24,41,25,42],[24,43,25,43],[24,44,25,45],[20,54,25,55],[20,56,25,57],[20,58,25,59],[20,60,25,61],[20,62,25,63],[0,60,0,66],[1,0,1,10],[1,12,1,22],[1,24,1,58],[0,9,0,10],[0,21,0,22],[98,35,99,35],[14,64,19,65],[14,66,19,66],[20,36,21,40],[20,41,21,45],[20,64,25,65],[20,66,25,66],[22,36,23,37],[22,38,23,38],[24,36,25,37],[14,36,19,40],[14,41,19,45],[14,46,19,47],[14,48,19,49],[14,50,19,51],[14,52,19,53],[14,54,19,55],[14,56,19,57],[3,3,3,10],[3,15,3,22],[3,24,3,26],[3,27,3,32],[3,34,3,48],[5,24,5,26],[6,41,6,44],[0,0,0,8],[0,12,0,20],[0,24,0,58],[7,2,7,8],[7,9,7,10],[7,14,7,20],[7,21,7,22],[7,25,7,27],[7,28,7,40],[7,41,7,44],[6,2,6,8],[6,9,6,10],[6,14,6,20],[6,21,6,22],[6,25,6,27],[6,28,6,40],[8,2,8,8],[8,9,8,10],[8,14,8,20],[8,21,8,22],[8,25,8,27],[8,28,8,40],[8,41,8,44],[11,0,13,0],[11,1,13,1],[11,2,13,2],[11,3,13,3],[11,7,13,7],[11,8,13,8],[11,9,13,9],[11,12,13,12],[11,13,13,13],[11,14,13,14],[11,15,13,15],[11,19,13,19],[11,20,13,20],[11,21,13,21],[14,24,19,27],[14,28,19,30],[14,31,19,35],[14,1,14,5],[14,6,14,8],[14,9,14,10],[15,1,15,5],[15,6,15,8],[15,9,15,10],[16,1,16,5],[16,6,16,8],[16,9,16,10],[14,13,14,17],[14,18,14,20],[14,21,14,22],[15,13,15,17],[15,18,15,20],[15,21,15,22],[18,4,18,5],[18,6,18,8],[18,9,18,10],[18,16,18,17],[18,18,18,20],[18,21,18,22],[20,9,20,10],[20,16,20,17],[20,18,20,20],[20,24,25,28],[20,29,22,30],[20,31,25,35],[20,46,25,47],[22,39,23,40],[22,41,23,42],[22,43,23,43],[22,44,23,45],[24,38,25,38],[24,39,25,40],[23,29,25,30],[77,64,82,65],[77,66,82,66],[79,36,80,37],[26,24,31,28],[26,29,28,30],[26,36,31,40],[26,46,31,47],[26,31,27,35],[26,41,27,45],[30,34,31,35],[30,41,31,42],[28,44,29,45],[30,31,31,32],[26,50,31,51],[26,52,31,53],[26,54,31,55],[26,56,31,57],[26,58,31,59],[26,60,31,61],[26,62,31,63],[26,64,31,65],[26,66,31,66],[79,43,80,43],[79,44,80,45],[29,13,31,13],[29,15,31,15],[32,58,37,59],[32,24,37,28],[32,29,34,30],[32,41,37,45],[32,46,37,47],[32,50,37,51],[32,52,37,53],[35,29,37,30],[32,48,37,49],[29,29,31,30],[28,31,29,32],[28,33,29,33],[28,34,29,35],[28,41,29,42],[28,43,29,43],[30,33,31,33],[30,43,31,43],[30,44,31,45],[32,31,33,35],[32,36,33,40],[36,36,37,37],[36,38,37,38],[29,12,31,12],[29,14,31,14],[29,19,31,19],[29,20,31,20],[35,18,35,20],[81,39,82,40],[81,41,82,42],[81,43,82,43],[53,9,53,10],[53,16,53,17],[53,18,53,20],[53,21,53,22],[53,33,54,33],[53,34,54,48],[57,24,58,26],[57,27,58,32],[61,25,62,27],[61,28,62,40],[61,41,62,44],[63,25,64,27],[63,28,64,40],[63,41,64,44],[71,41,76,45],[29,21,31,21],[41,29,42,29],[47,24,48,58],[41,35,42,35],[49,24,50,58],[77,56,82,57],[71,56,76,57],[29,0,31,0],[29,1,31,1],[29,2,31,2],[29,3,31,3],[29,7,31,7],[29,8,31,8],[35,21,35,22],[41,32,42,32],[36,9,36,10],[36,16,36,17],[35,4,35,5],[35,6,35,8],[35,9,35,10],[35,16,35,17],[36,18,36,20],[36,21,36,22],[37,4,37,5],[29,9,31,9],[37,6,37,8],[37,9,37,10],[37,16,37,17],[37,18,37,20],[37,21,37,22],[36,4,36,5],[36,6,36,8],[71,58,76,59],[59,25,60,27],[59,28,60,40],[38,4,38,5],[38,6,38,8],[38,9,38,10],[38,16,38,17],[38,18,38,20],[38,21,38,22],[59,41,60,44],[47,9,49,9],[71,24,76,27],[71,28,76,30],[71,31,76,35],[71,36,76,40],[53,4,53,5],[53,6,53,8],[47,0,49,0],[47,1,49,1],[47,2,49,2],[47,3,49,3],[47,7,49,7],[47,8,49,8],[47,21,49,21],[47,12,49,12],[47,13,49,13],[47,14,49,14],[47,15,49,15],[47,19,49,19],[47,20,49,20],[56,4,56,5],[56,6,56,8],[56,9,56,10],[56,16,56,17],[56,18,56,20],[56,21,56,22],[5,27,5,32],[53,24,54,26],[53,27,54,32],[39,24,40,57],[41,24,42,25],[41,26,42,26],[54,4,54,5],[54,6,54,8],[54,9,54,10],[54,16,54,17],[54,18,54,20],[54,21,54,22],[55,4,55,5],[55,6,55,8],[55,9,55,10],[55,16,55,17],[55,18,55,20],[55,21,55,22],[77,24,82,28],[77,29,79,30],[77,31,82,35],[77,46,82,47],[77,48,82,49],[77,58,82,59],[77,60,82,61],[77,62,82,63],[83,58,88,59],[80,29,82,30],[83,24,88,28],[83,29,85,30],[83,36,88,40],[83,31,84,35],[83,41,84,45],[87,34,88,35],[81,36,82,37],[81,38,82,38],[83,62,88,63],[86,29,88,30],[81,44,82,45],[79,38,80,38],[79,39,80,40],[79,41,80,42],[89,24,94,28],[89,29,91,30],[89,41,94,45],[89,46,94,47],[89,62,94,63],[92,29,94,30],[83,48,88,49],[96,24,97,57],[98,24,99,25],[98,26,99,26],[98,29,99,29],[98,32,99,32],[83,60,88,61],[83,50,88,51],[83,52,88,53],[83,54,88,55],[83,56,88,57],[89,60,94,61],[89,50,94,51],[89,52,94,53],[89,54,94,55],[89,56,94,57],[89,48,94,49],[89,31,90,35]]}
[{"$f":"出場チーム!B1","v":"OFA 第 50 回大分県少年サッカー大会　兼　KYFA 九州U-12サッカー大会大分県大会"},null,null,null,null,null,null,null,null,"１次リーグ結果　報告用紙",null,null,{"$f":"出場チーム!B1","v":"OFA 第 50 回大分県少年サッカー大会　兼　KYFA 九州U-12サッカー大会大分県大会"},null,null,null,null,null,null,null,null,"１次リーグ結果　報告用紙",null,null,{"$f":"$A$1","v":"OFA 第 50 回大分県少年サッカー大会　兼　KYFA 九州U-12サッカー大会大分県大会"},null,null,null,null,null,null,null,null,null,null,null,null,null,null,null,null,null,null,null,null,null,null,null,null,null,null,null,null,null,null,null,null,null,null,null,{"$f":"$J$1","v":"１次リーグ結果　報告用紙"}]
["＜時間割＞　①10:00～　②11:00～　③12:00～　④13:00～　⑤14:00～　⑥15:00～",null,null,null,null,null,null,null,null,null,null,null,"＜時間割＞　①10:00～　②11:00～　③12:00～　④13:00～　⑤14:00～　⑥15:00～",null,null,null,null,null,null,null,null,null,null,null,"＜時間割＞　①10:00～　②11:00～　③12:00～　④13:00～　⑤14:00～　⑥15:00～"]
[]
["会場",{"$f":"組み合わせ!D8","v":"津久見・臼杵"},"⇒",{"$f":"VLOOKUP(B4,出場チーム!$B$51:$F$59,2,FALSE)","v":"吉四六ﾗﾝﾄﾞ陸上競技場"},null,null,null,null,null,null,null,null,"会場",{"$f":"組み合わせ!D8","v":"津久見・臼杵"},"⇒",{"$f":"VLOOKUP(N4,出場チーム!$B$51:$F$59,2,FALSE)","v":"吉四六ﾗﾝﾄﾞ陸上競技場"},null,null,null,null,null,null,null,null,"会場",null,null,{"$f":"$B$4","v":"津久見・臼杵"},null,null,null,null,null,"⇒",{"$f":"$D$4","v":"吉四六ﾗﾝﾄﾞ陸上競技場"}]
[]
["パート",{"$f":"VLOOKUP(B4,組み合わせ!$AL$95:$BU$112,13,FALSE)","v":"D"},null,null,null,null,null,null,null,null,null,null,"パート",{"$f":"VLOOKUP(N4,組み合わせ!$AL$95:$BU$112,25,FALSE)","v":"I"},null,null,null,null,null,null,null,null,null,null,"パート",null,null,{"$f":"$B$6","v":"D"}]
[null,{"$f":"CONCATENATE($B$6,1)","v":"D1"},{"$f":"HLOOKUP(B7,組み合わせ!$B$48:$EO$86,2,FALSE)","v":"臼杵ＳＳＳ"},null,null,null,null,null,null,{"$f":"HLOOKUP(B7,組み合わせ!$B$48:$EO$86,32,FALSE)","v":"臼杵"},null,null,null,{"$f":"CONCATENATE($N$6,1)","v":"I1"},{"$f":"HLOOKUP(N7,組み合わせ!$B$48:$EO$86,2,FALSE)","v":"千怒サッカースポーツ少年団"},null,null,null,null,null,null,{"$f":"HLOOKUP(N7,組み合わせ!$B$48:$EO$86,32,FALSE)","v":"津久見"},null,null,null,{"$f":"+B7","v":"D1"},null,null,{"$f":"$C$7","v":"臼杵ＳＳＳ"},null,null,null,null,null,null,null,null,null,null,null,null,{"$f":"$J$7","v":"臼杵"}]
[null,{"$f":"CONCATENATE($B$6,2)","v":"D2"},{"$f":"HLOOKUP(B8,組み合わせ!$B$48:$EO$86,2,FALSE)","v":"東陽フットボールクラブ"},null,null,null,null,null,null,{"$f":"HLOOKUP(B8,組み合わせ!$B$48:$EO$86,32,FALSE)","v":"大分"},null,null,null,{"$f":"CONCATENATE($N$6,2)","v":"I2"},{"$f":"HLOOKUP(N8,組み合わせ!$B$48:$EO$86,2,FALSE)","v":"明野東サッカースポーツ少年団"},null,null,null,null,null,null,{"$f":"HLOOKUP(N8,組み合わせ!$B$48:$EO$86,32,FALSE)","v":"大分"},null,null,null,{"$f":"+B8","v":"D2"},null,null,{"$f":"$C$8","v":"東陽フットボールクラブ"},null,null,null,null,null,null,null,null,null,null,null,null,{"$f":"$J$8","v":"大分"}]
[null,{"$f":"CONCATENATE($B$6,3)","v":"D3"},{"$f":"HLOOKUP(B9,組み合わせ!$B$48:$EO$86,2,FALSE)","v":"武蔵オークスサッカークラブ"},null,null,null,null,null,null,{"$f":"HLOOKUP(B9,組み合わせ!$B$48:$EO$86,32,FALSE)","v":"速杵国東"},null,null,null,{"$f":"CONCATENATE($N$6,3)","v":"I3"},{"$f":"HLOOKUP(N9,組み合わせ!$B$48:$EO$86,2,FALSE)","v":"別府フットボールクラブ．ミネルバＵ－１２"},null,null,null,null,null,null,{"$f":"HLOOKUP(N9,組み合わせ!$B$48:$EO$86,32,FALSE)","v":"別府"},null,null,null,{"$f":"+B9","v":"D3"},null,null,{"$f":"$C$9","v":"武蔵オークスサッカークラブ"},null,null,null,null,null,null,null,null,null,null,null,null,{"$f":"$J$9","v":"速杵国東"}]
["8：50～ＭＣＭ",null,null,null,null,null,null,null,null,null,null,null,"9：50～ＭＣＭ"]
[]
["①\n10:00～",{"$f":"C7","v":"臼杵ＳＳＳ"},{"$f":"IF(E12=\"\",\"\",SUM(E12:E13))","v":4},"（",1,"前半",0,"）",{"$f":"IF(G12=\"\",\"\",SUM(G12:G13))","v":0},{"$f":"C8","v":"東陽フットボールクラブ"},null,null,"②\n11:00～",{"$f":"O7","v":"千怒サッカースポーツ少年団"},{"$f":"IF(Q12=\"\",\"\",SUM(Q12:Q13))","v":0},"（",0,"前半",4,"）",{"$f":"IF(S12=\"\",\"\",SUM(S12:S13))","v":9},{"$f":"O8","v":"明野東サッカースポーツ少年団"}]
[null,null,null,null,3,"後半",0,null,null,null,null,null,null,null,null,null,0,"後半",5]
[null,null,null,null,null,"PK",null,null,null,null,null,null,null,null,null,null,null,"PK"]
["MC","松下　省吾",null,null,null,null,"所属協会",null,null,"津久見市サッカー協会",null,null,"MC","吉良　和明",null,null,null,null,"所属協会",null,null,"臼杵市サッカー協会",null,null,{"$f":"$Y$6","v":"パート"},null,null,null,{"$f":"$AB$6","v":"D"},null,null,{"$f":"$Y$21","v":"臼杵ＳＳＳ"},null,null,null,null,{"$f":"$Y$27","v":"東陽フットボールクラブ"},null,null,null,null,{"$f":"$Y$33","v":"武蔵オークスサッカークラブ"},null,null,null,null,"勝",null,"PK\n勝",null,"PK\n負",null,"負",null,"得点",null,"失点",null,"勝点",null,"勝点\n順位",null,"得失\n点差",null,"得失\n順位",null,"総\n順位"]
["WelfareOfficer","吉良　和明",null,null,null,null,"所属協会",null,null,"臼杵市サッカー協会",null,null,"WelfareOfficer","松下　省吾",null,null,null,null,"所属協会",null,null,"津久見市サッカー協会"]
["記録","吉良　和明",null,null,null,null,"所属協会",null,null,"臼杵市サッカー協会",null,null,"記録","松下　省吾",null,null,null,null,"所属協会",null,null,"津久見市サッカー協会"]
["R:",{"$f":"IF(ISERROR(VLOOKUP(G18,審判員!$A:$C,2,FALSE))=TRUE,\"\",VLOOKUP(G18,審判員!$A:$C,2,FALSE))","v":"宇都宮　貴之"},{"$f":"IF(ISERROR(VLOOKUP(G18,審判員!$A:$C,3,FALSE))=TRUE,\"\",VLOOKUP(G18,審判員!$A:$C,3,FALSE))","v":3},"級","資格番号",null,"R005527609",null,null,"本部",null,null,"R:",{"$f":"IF(ISERROR(VLOOKUP(S18,審判員!$A:$C,2,FALSE))=TRUE,\"\",VLOOKUP(S18,審判員!$A:$C,2,FALSE))","v":"染矢　恭明"},{"$f":"IF(ISERROR(VLOOKUP(S18,審判員!$A:$C,3,FALSE))=TRUE,\"\",VLOOKUP(S18,審判員!$A:$C,3,FALSE))","v":3},"級","資格番号",null,"R008798305",null,null,"本部"]
["AR1:",{"$f":"IF(ISERROR(VLOOKUP(G19,審判員!$A:$C,2,FALSE))=TRUE,\"\",VLOOKUP(G19,審判員!$A:$C,2,FALSE))","v":"酒井　清行"},{"$f":"IF(ISERROR(VLOOKUP(G19,審判員!$A:$C,3,FALSE))=TRUE,\"\",VLOOKUP(G19,審判員!$A:$C,3,FALSE))","v":3},"級","資格番号",null,"R001263369",null,null,{"$f":"N12","v":"千怒サッカースポーツ少年団"},null,null,"AR1:",{"$f":"IF(ISERROR(VLOOKUP(S19,審判員!$A:$C,2,FALSE))=TRUE,\"\",VLOOKUP(S19,審判員!$A:$C,2,FALSE))","v":"佐藤　巨規"},{"$f":"IF(ISERROR(VLOOKUP(S19,審判員!$A:$C,3,FALSE))=TRUE,\"\",VLOOKUP(S19,審判員!$A:$C,3,FALSE))","v":3},"級","資格番号",null,"R008634706",null,null,{"$f":"B12","v":"臼杵ＳＳＳ"}]
["AR2:",{"$f":"IF(ISERROR(VLOOKUP(G20,審判員!$A:$C,2,FALSE))=TRUE,\"\",VLOOKUP(G20,審判員!$A:$C,2,FALSE))","v":"中上　聡志"},{"$f":"IF(ISERROR(VLOOKUP(G20,審判員!$A:$C,3,FALSE))=TRUE,\"\",VLOOKUP(G20,審判員!$A:$C,3,FALSE))","v":3},"級","資格番号",null,"R002530046",null,null,{"$f":"V12","v":"明野東サッカースポーツ少年団"},null,null,"AR2:",{"$f":"IF(ISERROR(VLOOKUP(S20,審判員!$A:$C,2,FALSE))=TRUE,\"\",VLOOKUP(S20,審判員!$A:$C,2,FALSE))","v":"東　和弘"},{"$f":"IF(ISERROR(VLOOKUP(S20,審判員!$A:$C,3,FALSE))=TRUE,\"\",VLOOKUP(S20,審判員!$A:$C,3,FALSE))","v":3},"級","資格番号",null,"R001264359",null,null,{"$f":"J12","v":"東陽フットボールクラブ"}]
["4th:",{"$f":"IF(ISERROR(VLOOKUP(G21,審判員!$A:$C,2,FALSE))=TRUE,\"\",VLOOKUP(G21,審判員!$A:$C,2,FALSE))","v":"衛藤　和憲"},{"$f":"IF(ISERROR(VLOOKUP(G21,審判員!$A:$C,3,FALSE))=TRUE,\"\",VLOOKUP(G21,審判員!$A:$C,3,FALSE))","v":4},"級","資格番号",null,"R004653305",null,null,"本部",null,null,"4th:",{"$f":"IF(ISERROR(VLOOKUP(S21,審判員!$A:$C,2,FALSE))=TRUE,\"\",VLOOKUP(S21,審判員!$A:$C,2,FALSE))","v":"城野　清"},{"$f":"IF(ISERROR(VLOOKUP(S21,審判員!$A:$C,3,FALSE))=TRUE,\"\",VLOOKUP(S21,審判員!$A:$C,3,FALSE))","v":4},"級","資格番号",null,"R009198335",null,null,"本部",null,null,{"$f":"$AC$7","v":"臼杵ＳＳＳ"},null,null,null,null,"星取表",null,null,null,null,null,null,{"$f":"IF(AK25=\"\",\"\",IF(AK25>AN25,\"○\",IF(AK25<AN25,\"●\",IF(AK23>AN23,\"△\",IF(AK23<AN23,\"▲\")))))","v":"○"},null,null,null,null,{"$f":"IF(AP25=\"\",\"\",IF(AP25>AS25,\"○\",IF(AP25<AS25,\"●\",IF(AP23>AS23,\"△\",IF(AP23<AS23,\"▲\")))))","v":"●"},null,null,null,null,{"$f":"COUNTIF($AF$21:$AT$22,\"○\")","v":1},null,{"$f":"COUNTIF($AF$21:$AT$22,\"△\")","v":0},null,{"$f":"COUNTIF($AF$21:$AT$22,\"▲\")","v":0},null,{"$f":"COUNTIF($AF$21:$AT$22,\"●\")","v":1},null,{"$f":"SUM($AK$25,$AP$25)","v":5},null,{"$f":"SUM($AN$25,$AS$25)","v":3},null,{"$f":"($AU$21*3)+($AW$21*2)+($AY$21*1)","v":3},null,{"$f":"RANK($BG$21,$BG$21:$BH$38)","v":2},null,{"$f":"$BC$21-$BE$21","v":2},null,{"$f":"RANK($BK$21,$BK$21:$BL$38)","v":2}]
["警告/退場","氏名","背番号","分","内容",null,"内容","分","背番号","氏名","警告/退場",null,"警告/退場","氏名","背番号","分","内容",null,"内容","分","背番号","氏名","警告/退場"]
[null,{"$f":"IF(ISERROR(VLOOKUP(CONCATENATE($B$12,\"_\",C23),選手名簿!$A:$E,5,FALSE))=TRUE,\"\",VLOOKUP(CONCATENATE($B$12,\"_\",C23),選手名簿!$A:$E,5,FALSE))","v":""},null,null,null,null,null,null,null,{"$f":"IF(ISERROR(VLOOKUP(CONCATENATE($J$12,\"_\",I23),選手名簿!$A:$E,5,FALSE))=TRUE,\"\",VLOOKUP(CONCATENATE($J$12,\"_\",I23),選手名簿!$A:$E,5,FALSE))","v":""},null,null,null,{"$f":"IF(ISERROR(VLOOKUP(CONCATENATE($N$12,\"_\",O23),選手名簿!$A:$E,5,FALSE))=TRUE,\"\",VLOOKUP(CONCATENATE($N$12,\"_\",O23),選手名簿!$A:$E,5,FALSE))","v":""},null,null,null,null,null,null,null,{"$f":"IF(ISERROR(VLOOKUP(CONCATENATE($V$12,\"_\",U23),選手名簿!$A:$E,5,FALSE))=TRUE,\"\",VLOOKUP(CONCATENATE($V$12,\"_\",U23),選手名簿!$A:$E,5,FALSE))","v":""},null,null,null,null,null,null,null,null,null,null,null,null,null,null,{"$f":"IF($E$14=\"\",\"\",$E$14)","v":""},null,"―",{"$f":"IF($G$14=\"\",\"\",$G$14)","v":""},null,{"$f":"IF($G$50=\"\",\"\",$G$50)","v":""},null,"―",{"$f":"IF($E$50=\"\",\"\",$E$50)","v":""}]
[null,{"$f":"IF(ISERROR(VLOOKUP(CONCATENATE($B$12,\"_\",C24),選手名簿!$A:$E,5,FALSE))=TRUE,\"\",VLOOKUP(CONCATENATE($B$12,\"_\",C24),選手名簿!$A:$E,5,FALSE))","v":""},null,null,null,null,null,null,null,{"$f":"IF(ISERROR(VLOOKUP(CONCATENATE($J$12,\"_\",I24),選手名簿!$A:$E,5,FALSE))=TRUE,\"\",VLOOKUP(CONCATENATE($J$12,\"_\",I24),選手名簿!$A:$E,5,FALSE))","v":""},null,null,null,{"$f":"IF(ISERROR(VLOOKUP(CONCATENATE($N$12,\"_\",O24),選手名簿!$A:$E,5,FALSE))=TRUE,\"\",VLOOKUP(CONCATENATE($N$12,\"_\",O24),選手名簿!$A:$E,5,FALSE))","v":""},null,null,null,null,null,null,null,{"$f":"IF(ISERROR(VLOOKUP(CONCATENATE($V$12,\"_\",U24),選手名簿!$A:$E,5,FALSE))=TRUE,\"\",VLOOKUP(CONCATENATE($V$12,\"_\",U24),選手名簿!$A:$E,5,FALSE))","v":""},null,null,null,null,null,null,null,"得失点"]
[null,{"$f":"IF(ISERROR(VLOOKUP(CONCATENATE($B$12,\"_\",C25),選手名簿!$A:$E,5,FALSE))=TRUE,\"\",VLOOKUP(CONCATENATE($B$12,\"_\",C25),選手名簿!$A:$E,5,FALSE))","v":""},null,null,null,null,null,null,null,{"$f":"IF(ISERROR(VLOOKUP(CONCATENATE($J$12,\"_\",I25),選手名簿!$A:$E,5,FALSE))=TRUE,\"\",VLOOKUP(CONCATENATE($J$12,\"_\",I25),選手名簿!$A:$E,5,FALSE))","v":""},null,null,null,{"$f":"IF(ISERROR(VLOOKUP(CONCATENATE($N$12,\"_\",O25),選手名簿!$A:$E,5,FALSE))=TRUE,\"\",VLOOKUP(CONCATENATE($N$12,\"_\",O25),選手名簿!$A:$E,5,FALSE))","v":""},null,null,null,null,null,null,null,{"$f":"IF(ISERROR(VLOOKUP(CONCATENATE($V$12,\"_\",U25),選手名簿!$A:$E,5,FALSE))=TRUE,\"\",VLOOKUP(CONCATENATE($V$12,\"_\",U25),選手名簿!$A:$E,5,FALSE))","v":""},null,null,null,null,null,null,null,null,null,null,null,null,null,null,{"$f":"$C$12","v":4},null,"―",{"$f":"$I$12","v":0},null,{"$f":"$I$48","v":1},null,"―",{"$f":"$C$48","v":3}]
[null,{"$f":"IF(ISERROR(VLOOKUP(CONCATENATE($B$12,\"_\",C26),選手名簿!$A:$E,5,FALSE))=TRUE,\"\",VLOOKUP(CONCATENATE($B$12,\"_\",C26),選手名簿!$A:$E,5,FALSE))","v":""},null,null,null,null,null,null,null,{"$f":"IF(ISERROR(VLOOKUP(CONCATENATE($J$12,\"_\",I26),選手名簿!$A:$E,5,FALSE))=TRUE,\"\",VLOOKUP(CONCATENATE($J$12,\"_\",I26),選手名簿!$A:$E,5,FALSE))","v":""},null,null,null,{"$f":"IF(ISERROR(VLOOKUP(CONCATENATE($N$12,\"_\",O26),選手名簿!$A:$E,5,FALSE))=TRUE,\"\",VLOOKUP(CONCATENATE($N$12,\"_\",O26),選手名簿!$A:$E,5,FALSE))","v":""},null,null,null,null,null,null,null,{"$f":"IF(ISERROR(VLOOKUP(CONCATENATE($V$12,\"_\",U26),選手名簿!$A:$E,5,FALSE))=TRUE,\"\",VLOOKUP(CONCATENATE($V$12,\"_\",U26),選手名簿!$A:$E,5,FALSE))","v":""}]
[null,{"$f":"IF(ISERROR(VLOOKUP(CONCATENATE($B$12,\"_\",C27),選手名簿!$A:$E,5,FALSE))=TRUE,\"\",VLOOKUP(CONCATENATE($B$12,\"_\",C27),選手名簿!$A:$E,5,FALSE))","v":""},null,null,null,null,null,null,null,{"$f":"IF(ISERROR(VLOOKUP(CONCATENATE($J$12,\"_\",I27),選手名簿!$A:$E,5,FALSE))=TRUE,\"\",VLOOKUP(CONCATENATE($J$12,\"_\",I27),選手名簿!$A:$E,5,FALSE))","v":""},null,null,null,{"$f":"IF(ISERROR(VLOOKUP(CONCATENATE($N$12,\"_\",O27),選手名簿!$A:$E,5,FALSE))=TRUE,\"\",VLOOKUP(CONCATENATE($N$12,\"_\",O27),選手名簿!$A:$E,5,FALSE))","v":""},null,null,null,null,null,null,null,{"$f":"IF(ISERROR(VLOOKUP(CONCATENATE($V$12,\"_\",U27),選手名簿!$A:$E,5,FALSE))=TRUE,\"\",VLOOKUP(CONCATENATE($V$12,\"_\",U27),選手名簿!$A:$E,5,FALSE))","v":""},null,null,{"$f":"$AC$8","v":"東陽フットボールクラブ"},null,null,null,null,"星取表",null,{"$f":"IF(AF31=\"\",\"\",IF(AF31>AI31,\"○\",IF(AF31<AI31,\"●\",IF(AF29>AI29,\"△\",IF(AF29<AI29,\"▲\")))))","v":"●"},null,null,null,null,null,null,null,null,null,{"$f":"IF(AP31=\"\",\"\",IF(AP31>AS31,\"○\",IF(AP31<AS31,\"●\",IF(AP29>AS29,\"△\",IF(AP29<AS29,\"▲\")))))","v":"●"},null,null,null,null,{"$f":"COUNTIF($AF$27:$AT$28,\"○\")","v":0},null,{"$f":"COUNTIF($AF$27:$AT$28,\"△\")","v":0},null,{"$f":"COUNTIF($AF$27:$AT$28,\"▲\")","v":0},null,{"$f":"COUNTIF($AF$27:$AT$28,\"●\")","v":2},null,{"$f":"SUM($AF$31,$AP$31)","v":2},null,{"$f":"SUM($AI$31,$AS$31)","v":7},null,{"$f":"($AU$27*3)+($AW$27*2)+($AY$27*1)","v":0},null,{"$f":"RANK($BG$27,$BG$21:$BH$38)","v":3},null,{"$f":"$BC$27-$BE$27","v":-5},null,{"$f":"RANK($BK$27,$BK$21:$BL$38)","v":3}]
[]
[null,null,null,null,null,null,null,null,null,null,null,null,null,null,null,null,null,null,null,null,null,null,null,null,null,null,null,null,null,null,null,{"$f":"AN23","v":""},null,"―",{"$f":"AK23","v":""},null,null,null,null,null,null,{"$f":"IF($E$32=\"\",\"\",$E$32)","v":""},null,"―",{"$f":"IF($G$32=\"\",\"\",$G$32)","v":""}]
["③\n12:00～",{"$f":"C8","v":"東陽フットボールクラブ"},{"$f":"IF(E30=\"\",\"\",SUM(E30:E31))","v":2},"（",0,"前半",1,"）",{"$f":"IF(G30=\"\",\"\",SUM(G30:G31))","v":3},{"$f":"C9","v":"武蔵オークスサッカークラブ"},null,null,"④\n13:00～",{"$f":"O8","v":"明野東サッカースポーツ少年団"},{"$f":"IF(Q30=\"\",\"\",SUM(Q30:Q31))","v":0},"（",0,"前半",2,"）",{"$f":"IF(S30=\"\",\"\",SUM(S30:S31))","v":2},{"$f":"O9","v":"別府フットボールクラブ．ミネルバＵ－１２"},null,null,null,null,null,null,null,"得失点"]
[null,null,null,null,2,"後半",2,null,null,null,null,null,null,null,null,null,0,"後半",0,null,null,null,null,null,null,null,null,null,null,null,null,{"$f":"AN25","v":0},null,"―",{"$f":"AK25","v":4},null,null,null,null,null,null,{"$f":"$C$30","v":2},null,"―",{"$f":"$I$30","v":3}]
[null,null,null,null,null,"PK",null,null,null,null,null,null,null,null,null,null,null,"PK"]
["MC","松下　省吾",null,null,null,null,"所属協会",null,null,"津久見市サッカー協会",null,null,"MC","吉良　和明",null,null,null,null,"所属協会",null,null,"臼杵市サッカー協会",null,null,{"$f":"$AC$9","v":"武蔵オークスサッカークラブ"},null,null,null,null,"星取表",null,{"$f":"IF(AF37=\"\",\"\",IF(AF37>AI37,\"○\",IF(AF37<AI37,\"●\",IF(AF35>AI35,\"△\",IF(AF35<AI35,\"▲\")))))","v":"○"},null,null,null,null,{"$f":"IF(AK37=\"\",\"\",IF(AK37>AN37,\"○\",IF(AK37<AN37,\"●\",IF(AK35>AN35,\"△\",IF(AK35<AN35,\"▲\")))))","v":"○"},null,null,null,null,null,null,null,null,null,{"$f":"COUNTIF($AF$33:$AT$34,\"○\")","v":2},null,{"$f":"COUNTIF($AF$33:$AT$34,\"△\")","v":0},null,{"$f":"COUNTIF($AF$33:$AT$34,\"▲\")","v":0},null,{"$f":"COUNTIF($AF$33:$AT$34,\"●\")","v":0},null,{"$f":"SUM($AF$37,$AK$37)","v":6},null,{"$f":"SUM($AI$37,$AN$37)","v":3},null,{"$f":"($AU$33*3)+($AW$33*2)+($AY$33*1)","v":6},null,{"$f":"RANK($BG$33,$BG$21:$BH$38)","v":1},null,{"$f":"$BC$33-$BE$33","v":3},null,{"$f":"RANK($BK$33,$BK$21:$BL$38)","v":1}]
["WelfareOfficer","吉良　和明",null,null,null,null,"所属協会",null,null,"臼杵市サッカー協会",null,null,"WelfareOfficer","松下　省吾",null,null,null,null,"所属協会",null,null,"津久見市サッカー協会"]
["記録","吉良　和明",null,null,null,null,"所属協会",null,null,"臼杵市サッカー協会",null,null,"記録","松下　省吾",null,null,null,null,"所属協会",null,null,"津久見市サッカー協会",null,null,null,null,null,null,null,null,null,{"$f":"AS23","v":""},null,"―",{"$f":"AP23","v":""},null,{"$f":"AS29","v":""},null,"―",{"$f":"AP29","v":""}]
["R:",{"$f":"IF(ISERROR(VLOOKUP(G36,審判員!$A:$C,2,FALSE))=TRUE,\"\",VLOOKUP(G36,審判員!$A:$C,2,FALSE))","v":"板井　龍法"},{"$f":"IF(ISERROR(VLOOKUP(G36,審判員!$A:$C,3,FALSE))=TRUE,\"\",VLOOKUP(G36,審判員!$A:$C,3,FALSE))","v":3},"級","資格番号",null,"R006093835",null,null,"本部",null,null,"R:",{"$f":"IF(ISERROR(VLOOKUP(S36,審判員!$A:$C,2,FALSE))=TRUE,\"\",VLOOKUP(S36,審判員!$A:$C,2,FALSE))","v":"岩崎　浩也"},{"$f":"IF(ISERROR(VLOOKUP(S36,審判員!$A:$C,3,FALSE))=TRUE,\"\",VLOOKUP(S36,審判員!$A:$C,3,FALSE))","v":2},"級","資格番号",null,"R001262546",null,null,"本部",null,null,null,null,null,null,null,"得失点"]
["AR1:",{"$f":"IF(ISERROR(VLOOKUP(G37,審判員!$A:$C,2,FALSE))=TRUE,\"\",VLOOKUP(G37,審判員!$A:$C,2,FALSE))","v":"中上　聡志"},{"$f":"IF(ISERROR(VLOOKUP(G37,審判員!$A:$C,3,FALSE))=TRUE,\"\",VLOOKUP(G37,審判員!$A:$C,3,FALSE))","v":3},"級","資格番号",null,"R002530046",null,null,{"$f":"N30","v":"明野東サッカースポーツ少年団"},null,null,"AR1:",{"$f":"IF(ISERROR(VLOOKUP(S37,審判員!$A:$C,2,FALSE))=TRUE,\"\",VLOOKUP(S37,審判員!$A:$C,2,FALSE))","v":"東　和弘"},{"$f":"IF(ISERROR(VLOOKUP(S37,審判員!$A:$C,3,FALSE))=TRUE,\"\",VLOOKUP(S37,審判員!$A:$C,3,FALSE))","v":3},"級","資格番号",null,"R001264359",null,null,{"$f":"B30","v":"東陽フットボールクラブ"},null,null,null,null,null,null,null,null,null,{"$f":"AS25","v":3},null,"―",{"$f":"AP25","v":1},null,{"$f":"AS31","v":3},null,"―",{"$f":"AP31","v":2}]
["AR2:",{"$f":"IF(ISERROR(VLOOKUP(G38,審判員!$A:$C,2,FALSE))=TRUE,\"\",VLOOKUP(G38,審判員!$A:$C,2,FALSE))","v":"永路　尚道"},{"$f":"IF(ISERROR(VLOOKUP(G38,審判員!$A:$C,3,FALSE))=TRUE,\"\",VLOOKUP(G38,審判員!$A:$C,3,FALSE))","v":3},"級","資格番号",null,"R003421161",null,null,{"$f":"V30","v":"別府フットボールクラブ．ミネルバＵ－１２"},null,null,"AR2:",{"$f":"IF(ISERROR(VLOOKUP(S38,審判員!$A:$C,2,FALSE))=TRUE,\"\",VLOOKUP(S38,審判員!$A:$C,2,FALSE))","v":"藤原　龍司"},{"$f":"IF(ISERROR(VLOOKUP(S38,審判員!$A:$C,3,FALSE))=TRUE,\"\",VLOOKUP(S38,審判員!$A:$C,3,FALSE))","v":3},"級","資格番号",null,"R003421772",null,null,{"$f":"J30","v":"武蔵オークスサッカークラブ"}]
["4th:",{"$f":"IF(ISERROR(VLOOKUP(G39,審判員!$A:$C,2,FALSE))=TRUE,\"\",VLOOKUP(G39,審判員!$A:$C,2,FALSE))","v":"石井　重人"},{"$f":"IF(ISERROR(VLOOKUP(G39,審判員!$A:$C,3,FALSE))=TRUE,\"\",VLOOKUP(G39,審判員!$A:$C,3,FALSE))","v":4},"級","資格番号",null,"R001253681",null,null,"本部",null,null,"4th:",{"$f":"IF(ISERROR(VLOOKUP(S39,審判員!$A:$C,2,FALSE))=TRUE,\"\",VLOOKUP(S39,審判員!$A:$C,2,FALSE))","v":"衛藤　和憲"},{"$f":"IF(ISERROR(VLOOKUP(S39,審判員!$A:$C,3,FALSE))=TRUE,\"\",VLOOKUP(S39,審判員!$A:$C,3,FALSE))","v":4},"級","資格番号",null,"R004653305",null,null,"本部"]
["警告/退場","氏名","背番号","分","内容",null,"内容","分","背番号","氏名","警告/退場",null,"警告/退場","氏名","背番号","分","内容",null,"内容","分","背番号","氏名","警告/退場",null,"Ⅰ勝点（勝３点　ＰＫ勝２点　ＰＫ負１点　負０点）　Ⅱ当該チームの戦績　Ⅲ得失点差　Ⅳ多得点　Ⅴ抽選の順で順位を決定する。"]
[null,{"$f":"IF(ISERROR(VLOOKUP(CONCATENATE($B$30,\"_\",C41),選手名簿!$A:$E,5,FALSE))=TRUE,\"\",VLOOKUP(CONCATENATE($B$30,\"_\",C41),選手名簿!$A:$E,5,FALSE))","v":""},null,null,null,null,null,null,null,{"$f":"IF(ISERROR(VLOOKUP(CONCATENATE($J$30,\"_\",I41),選手名簿!$A:$E,5,FALSE))=TRUE,\"\",VLOOKUP(CONCATENATE($J$30,\"_\",I41),選手名簿!$A:$E,5,FALSE))","v":""},null,null,"警告",{"$f":"IF(ISERROR(VLOOKUP(CONCATENATE($N$30,\"_\",O41),選手名簿!$A:$E,5,FALSE))=TRUE,\"\",VLOOKUP(CONCATENATE($N$30,\"_\",O41),選手名簿!$A:$E,5,FALSE))","v":"園田　凰介"},9,40,"遅延",null,null,null,null,{"$f":"IF(ISERROR(VLOOKUP(CONCATENATE($V$30,\"_\",U41),選手名簿!$A:$E,5,FALSE))=TRUE,\"\",VLOOKUP(CONCATENATE($V$30,\"_\",U41),選手名簿!$A:$E,5,FALSE))","v":""}]
[null,{"$f":"IF(ISERROR(VLOOKUP(CONCATENATE($B$30,\"_\",C42),選手名簿!$A:$E,5,FALSE))=TRUE,\"\",VLOOKUP(CONCATENATE($B$30,\"_\",C42),選手名簿!$A:$E,5,FALSE))","v":""},null,null,null,null,null,null,null,{"$f":"IF(ISERROR(VLOOKUP(CONCATENATE($J$30,\"_\",I42),選手名簿!$A:$E,5,FALSE))=TRUE,\"\",VLOOKUP(CONCATENATE($J$30,\"_\",I42),選手名簿!$A:$E,5,FALSE))","v":""},null,null,null,{"$f":"IF(ISERROR(VLOOKUP(CONCATENATE($N$30,\"_\",O42),選手名簿!$A:$E,5,FALSE))=TRUE,\"\",VLOOKUP(CONCATENATE($N$30,\"_\",O42),選手名簿!$A:$E,5,FALSE))","v":""},null,null,null,null,null,null,null,{"$f":"IF(ISERROR(VLOOKUP(CONCATENATE($V$30,\"_\",U42),選手名簿!$A:$E,5,FALSE))=TRUE,\"\",VLOOKUP(CONCATENATE($V$30,\"_\",U42),選手名簿!$A:$E,5,FALSE))","v":""},null,null,"勝点表",null,"勝","○",null,"PK\n勝","△",null,"PK\n負","▲",null,"負","●"]
[null,{"$f":"IF(ISERROR(VLOOKUP(CONCATENATE($B$30,\"_\",C43),選手名簿!$A:$E,5,FALSE))=TRUE,\"\",VLOOKUP(CONCATENATE($B$30,\"_\",C43),選手名簿!$A:$E,5,FALSE))","v":""},null,null,null,null,null,null,null,{"$f":"IF(ISERROR(VLOOKUP(CONCATENATE($J$30,\"_\",I43),選手名簿!$A:$E,5,FALSE))=TRUE,\"\",VLOOKUP(CONCATENATE($J$30,\"_\",I43),選手名簿!$A:$E,5,FALSE))","v":""},null,null,null,{"$f":"IF(ISERROR(VLOOKUP(CONCATENATE($N$30,\"_\",O43),選手名簿!$A:$E,5,FALSE))=TRUE,\"\",VLOOKUP(CONCATENATE($N$30,\"_\",O43),選手名簿!$A:$E,5,FALSE))","v":""},null,null,null,null,null,null,null,{"$f":"IF(ISERROR(VLOOKUP(CONCATENATE($V$30,\"_\",U43),選手名簿!$A:$E,5,FALSE))=TRUE,\"\",VLOOKUP(CONCATENATE($V$30,\"_\",U43),選手名簿!$A:$E,5,FALSE))","v":""},null,null,null,null,null,3,null,null,2,null,null,1,null,null,0]
[null,{"$f":"IF(ISERROR(VLOOKUP(CONCATENATE($B$30,\"_\",C44),選手名簿!$A:$E,5,FALSE))=TRUE,\"\",VLOOKUP(CONCATENATE($B$30,\"_\",C44),選手名簿!$A:$E,5,FALSE))","v":""},null,null,null,null,null,null,null,{"$f":"IF(ISERROR(VLOOKUP(CONCATENATE($J$30,\"_\",I44),選手名簿!$A:$E,5,FALSE))=TRUE,\"\",VLOOKUP(CONCATENATE($J$30,\"_\",I44),選手名簿!$A:$E,5,FALSE))","v":""},null,null,null,{"$f":"IF(ISERROR(VLOOKUP(CONCATENATE($N$30,\"_\",O44),選手名簿!$A:$E,5,FALSE))=TRUE,\"\",VLOOKUP(CONCATENATE($N$30,\"_\",O44),選手名簿!$A:$E,5,FALSE))","v":""},null,null,null,null,null,null,null,{"$f":"IF(ISERROR(VLOOKUP(CONCATENATE($V$30,\"_\",U44),選手名簿!$A:$E,5,FALSE))=TRUE,\"\",VLOOKUP(CONCATENATE($V$30,\"_\",U44),選手名簿!$A:$E,5,FALSE))","v":""}]
[null,{"$f":"IF(ISERROR(VLOOKUP(CONCATENATE($B$30,\"_\",C45),選手名簿!$A:$E,5,FALSE))=TRUE,\"\",VLOOKUP(CONCATENATE($B$30,\"_\",C45),選手名簿!$A:$E,5,FALSE))","v":""},null,null,null,null,null,null,null,{"$f":"IF(ISERROR(VLOOKUP(CONCATENATE($J$30,\"_\",I45),選手名簿!$A:$E,5,FALSE))=TRUE,\"\",VLOOKUP(CONCATENATE($J$30,\"_\",I45),選手名簿!$A:$E,5,FALSE))","v":""},null,null,null,{"$f":"IF(ISERROR(VLOOKUP(CONCATENATE($N$30,\"_\",O45),選手名簿!$A:$E,5,FALSE))=TRUE,\"\",VLOOKUP(CONCATENATE($N$30,\"_\",O45),選手名簿!$A:$E,5,FALSE))","v":""},null,null,null,null,null,null,null,{"$f":"IF(ISERROR(VLOOKUP(CONCATENATE($V$30,\"_\",U45),選手名簿!$A:$E,5,FALSE))=TRUE,\"\",VLOOKUP(CONCATENATE($V$30,\"_\",U45),選手名簿!$A:$E,5,FALSE))","v":""}]
[]
[]
["⑤\n14:00～",{"$f":"C9","v":"武蔵オークスサッカークラブ"},{"$f":"IF(E48=\"\",\"\",SUM(E48:E49))","v":3},"（",1,"前半",0,"）",{"$f":"IF(G48=\"\",\"\",SUM(G48:G49))","v":1},{"$f":"C7","v":"臼杵ＳＳＳ"},null,null,"⑥\n15:00～",{"$f":"O9","v":"別府フットボールクラブ．ミネルバＵ－１２"},{"$f":"IF(Q48=\"\",\"\",SUM(Q48:Q49))","v":7},"（",3,"前半",0,"）",{"$f":"IF(S48=\"\",\"\",SUM(S48:S49))","v":0},{"$f":"O7","v":"千怒サッカースポーツ少年団"},null,null,{"$f":"$Y$1","v":"OFA 第 50 回大分県少年サッカー大会　兼　KYFA 九州U-12サッカー大会大分県大会"},null,null,null,null,null,null,null,null,null,null,null,null,null,null,null,null,null,null,null,null,null,null,null,null,null,null,null,null,null,null,null,null,null,null,null,{"$f":"$BI$1","v":"１次リーグ結果　報告用紙"}]
[null,null,null,null,2,"後半",1,null,null,null,null,null,null,null,null,null,4,"後半",0]
[null,null,null,null,null,"PK",null,null,null,null,null,null,null,null,null,null,null,"PK",null,null,null,null,null,null,"＜時間割＞　①10:00～　②11:00～　③12:00～　④13:00～　⑤14:00～　⑥15:00～"]
["MC","酒井　清行",null,null,null,null,"所属協会",null,null,"津久見市サッカー協会",null,null,"MC","吉良　和明",null,null,null,null,"所属協会",null,null,"臼杵市サッカー協会"]
["WelfareOfficer","城野　清",null,null,null,null,"所属協会",null,null,"臼杵市サッカー協会",null,null,"WelfareOfficer","安東　信二",null,null,null,null,"所属協会",null,null,"臼杵市サッカー協会"]
["記録","城野　清",null,null,null,null,"所属協会",null,null,"臼杵市サッカー協会",null,null,"記録","安東　信二",null,null,null,null,"所属協会",null,null,"臼杵市サッカー協会"]
["R:",{"$f":"IF(ISERROR(VLOOKUP(G54,審判員!$A:$C,2,FALSE))=TRUE,\"\",VLOOKUP(G54,審判員!$A:$C,2,FALSE))","v":"板井　龍法"},{"$f":"IF(ISERROR(VLOOKUP(G54,審判員!$A:$C,3,FALSE))=TRUE,\"\",VLOOKUP(G54,審判員!$A:$C,3,FALSE))","v":3},"級","資格番号",null,"R006093835",null,null,"本部",null,null,"R:",{"$f":"IF(ISERROR(VLOOKUP(S54,審判員!$A:$C,2,FALSE))=TRUE,\"\",VLOOKUP(S54,審判員!$A:$C,2,FALSE))","v":"岩崎　浩也"},{"$f":"IF(ISERROR(VLOOKUP(S54,審判員!$A:$C,3,FALSE))=TRUE,\"\",VLOOKUP(S54,審判員!$A:$C,3,FALSE))","v":2},"級","資格番号",null,"R001262546",null,null,"本部",null,null,"会場",null,null,{"$f":"$N$4","v":"津久見・臼杵"},null,null,null,null,null,"⇒",{"$f":"$P$4","v":"吉四六ﾗﾝﾄﾞ陸上競技場"}]
["AR1:",{"$f":"IF(ISERROR(VLOOKUP(G55,審判員!$A:$C,2,FALSE))=TRUE,\"\",VLOOKUP(G55,審判員!$A:$C,2,FALSE))","v":"永路　尚道"},{"$f":"IF(ISERROR(VLOOKUP(G55,審判員!$A:$C,3,FALSE))=TRUE,\"\",VLOOKUP(G55,審判員!$A:$C,3,FALSE))","v":3},"級","資格番号",null,"R003421161",null,null,{"$f":"N48","v":"別府フットボールクラブ．ミネルバＵ－１２"},null,null,"AR1:",{"$f":"IF(ISERROR(VLOOKUP(S55,審判員!$A:$C,2,FALSE))=TRUE,\"\",VLOOKUP(S55,審判員!$A:$C,2,FALSE))","v":"藤原　龍司"},{"$f":"IF(ISERROR(VLOOKUP(S55,審判員!$A:$C,3,FALSE))=TRUE,\"\",VLOOKUP(S55,審判員!$A:$C,3,FALSE))","v":3},"級","資格番号",null,"R003421772",null,null,{"$f":"B48","v":"武蔵オークスサッカークラブ"}]
["AR2:",{"$f":"IF(ISERROR(VLOOKUP(G56,審判員!$A:$C,2,FALSE))=TRUE,\"\",VLOOKUP(G56,審判員!$A:$C,2,FALSE))","v":"染矢　恭明"},{"$f":"IF(ISERROR(VLOOKUP(G56,審判員!$A:$C,3,FALSE))=TRUE,\"\",VLOOKUP(G56,審判員!$A:$C,3,FALSE))","v":3},"級","資格番号",null,"R008798305",null,null,{"$f":"V48","v":"千怒サッカースポーツ少年団"},null,null,"AR2:",{"$f":"IF(ISERROR(VLOOKUP(S56,審判員!$A:$C,2,FALSE))=TRUE,\"\",VLOOKUP(S56,審判員!$A:$C,2,FALSE))","v":"佐藤　巨規"},{"$f":"IF(ISERROR(VLOOKUP(S56,審判員!$A:$C,3,FALSE))=TRUE,\"\",VLOOKUP(S56,審判員!$A:$C,3,FALSE))","v":3},"級","資格番号",null,"R008634706",null,null,{"$f":"J48","v":"臼杵ＳＳＳ"}]
["4th:",{"$f":"IF(ISERROR(VLOOKUP(G57,審判員!$A:$C,2,FALSE))=TRUE,\"\",VLOOKUP(G57,審判員!$A:$C,2,FALSE))","v":"石井　重人"},{"$f":"IF(ISERROR(VLOOKUP(G57,審判員!$A:$C,3,FALSE))=TRUE,\"\",VLOOKUP(G57,審判員!$A:$C,3,FALSE))","v":4},"級","資格番号",null,"R001253681",null,null,"本部",null,null,"4th:",{"$f":"IF(ISERROR(VLOOKUP(S57,審判員!$A:$C,2,FALSE))=TRUE,\"\",VLOOKUP(S57,審判員!$A:$C,2,FALSE))","v":"城野　清"},{"$f":"IF(ISERROR(VLOOKUP(S57,審判員!$A:$C,3,FALSE))=TRUE,\"\",VLOOKUP(S57,審判員!$A:$C,3,FALSE))","v":4},"級","資格番号",null,"R009198335",null,null,"本部"]
["警告/退場","氏名","背番号","分","内容",null,"内容","分","背番号","氏名","警告/退場",null,"警告/退場","氏名","背番号","分","内容",null,"内容","分","背番号","氏名","警告/退場",null,"パート",null,null,{"$f":"$N$6","v":"I"}]
[null,{"$f":"IF(ISERROR(VLOOKUP(CONCATENATE($B$48,\"_\",C59),選手名簿!$A:$E,5,FALSE))=TRUE,\"\",VLOOKUP(CONCATENATE($B$48,\"_\",C59),選手名簿!$A:$E,5,FALSE))","v":""},null,null,null,null,null,null,null,{"$f":"IF(ISERROR(VLOOKUP(CONCATENATE($J$48,\"_\",I59),選手名簿!$A:$E,5,FALSE))=TRUE,\"\",VLOOKUP(CONCATENATE($J$48,\"_\",I59),選手名簿!$A:$E,5,FALSE))","v":""},null,null,null,{"$f":"IF(ISERROR(VLOOKUP(CONCATENATE($N$48,\"_\",O59),選手名簿!$A:$E,5,FALSE))=TRUE,\"\",VLOOKUP(CONCATENATE($N$48,\"_\",O59),選手名簿!$A:$E,5,FALSE))","v":""},null,null,null,null,null,null,null,{"$f":"IF(ISERROR(VLOOKUP(CONCATENATE($V$48,\"_\",U59),選手名簿!$A:$E,5,FALSE))=TRUE,\"\",VLOOKUP(CONCATENATE($V$48,\"_\",U59),選手名簿!$A:$E,5,FALSE))","v":""}]
[null,{"$f":"IF(ISERROR(VLOOKUP(CONCATENATE($B$48,\"_\",C60),選手名簿!$A:$E,5,FALSE))=TRUE,\"\",VLOOKUP(CONCATENATE($B$48,\"_\",C60),選手名簿!$A:$E,5,FALSE))","v":""},null,null,null,null,null,null,null,{"$f":"IF(ISERROR(VLOOKUP(CONCATENATE($J$48,\"_\",I60),選手名簿!$A:$E,5,FALSE))=TRUE,\"\",VLOOKUP(CONCATENATE($J$48,\"_\",I60),選手名簿!$A:$E,5,FALSE))","v":""},null,null,null,{"$f":"IF(ISERROR(VLOOKUP(CONCATENATE($N$48,\"_\",O60),選手名簿!$A:$E,5,FALSE))=TRUE,\"\",VLOOKUP(CONCATENATE($N$48,\"_\",O60),選手名簿!$A:$E,5,FALSE))","v":""},null,null,null,null,null,null,null,{"$f":"IF(ISERROR(VLOOKUP(CONCATENATE($V$48,\"_\",U60),選手名簿!$A:$E,5,FALSE))=TRUE,\"\",VLOOKUP(CONCATENATE($V$48,\"_\",U60),選手名簿!$A:$E,5,FALSE))","v":""},null,null,null,{"$f":"$N$7","v":"I1"},null,null,{"$f":"$O$7","v":"千怒サッカースポーツ少年団"},null,null,null,null,null,null,null,null,null,null,null,null,{"$f":"$V$7","v":"津久見"}]
[null,{"$f":"IF(ISERROR(VLOOKUP(CONCATENATE($B$48,\"_\",C61),選手名簿!$A:$E,5,FALSE))=TRUE,\"\",VLOOKUP(CONCATENATE($B$48,\"_\",C61),選手名簿!$A:$E,5,FALSE))","v":""},null,null,null,null,null,null,null,{"$f":"IF(ISERROR(VLOOKUP(CONCATENATE($J$48,\"_\",I61),選手名簿!$A:$E,5,FALSE))=TRUE,\"\",VLOOKUP(CONCATENATE($J$48,\"_\",I61),選手名簿!$A:$E,5,FALSE))","v":""},null,null,null,{"$f":"IF(ISERROR(VLOOKUP(CONCATENATE($N$48,\"_\",O61),選手名簿!$A:$E,5,FALSE))=TRUE,\"\",VLOOKUP(CONCATENATE($N$48,\"_\",O61),選手名簿!$A:$E,5,FALSE))","v":""},null,null,null,null,null,null,null,{"$f":"IF(ISERROR(VLOOKUP(CONCATENATE($V$48,\"_\",U61),選手名簿!$A:$E,5,FALSE))=TRUE,\"\",VLOOKUP(CONCATENATE($V$48,\"_\",U61),選手名簿!$A:$E,5,FALSE))","v":""}]
[null,{"$f":"IF(ISERROR(VLOOKUP(CONCATENATE($B$48,\"_\",C62),選手名簿!$A:$E,5,FALSE))=TRUE,\"\",VLOOKUP(CONCATENATE($B$48,\"_\",C62),選手名簿!$A:$E,5,FALSE))","v":""},null,null,null,null,null,null,null,{"$f":"IF(ISERROR(VLOOKUP(CONCATENATE($J$48,\"_\",I62),選手名簿!$A:$E,5,FALSE))=TRUE,\"\",VLOOKUP(CONCATENATE($J$48,\"_\",I62),選手名簿!$A:$E,5,FALSE))","v":""},null,null,null,{"$f":"IF(ISERROR(VLOOKUP(CONCATENATE($N$48,\"_\",O62),選手名簿!$A:$E,5,FALSE))=TRUE,\"\",VLOOKUP(CONCATENATE($N$48,\"_\",O62),選手名簿!$A:$E,5,FALSE))","v":""},null,null,null,null,null,null,null,{"$f":"IF(ISERROR(VLOOKUP(CONCATENATE($V$48,\"_\",U62),選手名簿!$A:$E,5,FALSE))=TRUE,\"\",VLOOKUP(CONCATENATE($V$48,\"_\",U62),選手名簿!$A:$E,5,FALSE))","v":""},null,null,null,{"$f":"$N$8","v":"I2"},null,null,{"$f":"$O$8","v":"明野東サッカースポーツ少年団"},null,null,null,null,null,null,null,null,null,null,null,null,{"$f":"$V$8","v":"大分"}]
[null,{"$f":"IF(ISERROR(VLOOKUP(CONCATENATE($B$48,\"_\",C63),選手名簿!$A:$E,5,FALSE))=TRUE,\"\",VLOOKUP(CONCATENATE($B$48,\"_\",C63),選手名簿!$A:$E,5,FALSE))","v":""},null,null,null,null,null,null,null,{"$f":"IF(ISERROR(VLOOKUP(CONCATENATE($J$48,\"_\",I63),選手名簿!$A:$E,5,FALSE))=TRUE,\"\",VLOOKUP(CONCATENATE($J$48,\"_\",I63),選手名簿!$A:$E,5,FALSE))","v":""},null,null,null,{"$f":"IF(ISERROR(VLOOKUP(CONCATENATE($N$48,\"_\",O63),選手名簿!$A:$E,5,FALSE))=TRUE,\"\",VLOOKUP(CONCATENATE($N$48,\"_\",O63),選手名簿!$A:$E,5,FALSE))","v":""},null,null,null,null,null,null,null,{"$f":"IF(ISERROR(VLOOKUP(CONCATENATE($V$48,\"_\",U63),選手名簿!$A:$E,5,FALSE))=TRUE,\"\",VLOOKUP(CONCATENATE($V$48,\"_\",U63),選手名簿!$A:$E,5,FALSE))","v":""}]
[null,null,null,null,null,null,null,null,null,null,null,null,null,null,null,null,null,null,null,null,null,null,null,null,null,{"$f":"$N$9","v":"I3"},null,null,{"$f":"$O$9","v":"別府フットボールクラブ．ミネルバＵ－１２"},null,null,null,null,null,null,null,null,null,null,null,null,{"$f":"$V$9","v":"別府"}]
[]
[]
[]
[]
[]
[]
[]
[null,null,null,null,null,null,null,null,null,null,null,null,null,null,null,null,null,null,null,null,null,null,null,null,{"$f":"$Y$6","v":"パート"},null,null,null,{"$f":"$AB$58","v":"I"},null,null,{"$f":"$Y$78","v":"千怒サッカースポーツ少年団"},null,null,null,null,{"$f":"$Y$84","v":"明野東サッカースポーツ少年団"},null,null,null,null,{"$f":"$Y$90","v":"別府フットボールクラブ．ミネルバＵ－１２"},null,null,null,null,"勝",null,"PK\n勝",null,"PK\n負",null,"負",null,"得点",null,"失点",null,"勝点",null,"勝点\n順位",null,"得失\n点差",null,"得失\n順位",null,"総\n順位"]
[]
[]
[]
[]
[]
[null,null,null,null,null,null,null,null,null,null,null,null,null,null,null,null,null,null,null,null,null,null,null,null,{"$f":"$AC$60","v":"千怒サッカースポーツ少年団"},null,null,null,null,"星取表",null,null,null,null,null,null,{"$f":"IF(AK82=\"\",\"\",IF(AK82>AN82,\"○\",IF(AK82<AN82,\"●\",IF(AK80>AN80,\"△\",IF(AK80<AN80,\"▲\")))))","v":"●"},null,null,null,null,{"$f":"IF(AP82=\"\",\"\",IF(AP82>AS82,\"○\",IF(AP82<AS82,\"●\",IF(AP80>AS80,\"△\",IF(AP80<AS80,\"▲\")))))","v":"●"},null,null,null,null,{"$f":"COUNTIF($AF$78:$AT$79,\"○\")","v":0},null,{"$f":"COUNTIF($AF$78:$AT$79,\"△\")","v":0},null,{"$f":"COUNTIF($AF$78:$AT$79,\"▲\")","v":0},null,{"$f":"COUNTIF($AF$78:$AT$79,\"●\")","v":2},null,{"$f":"SUM($AK$82,$AP$82)","v":0},null,{"$f":"SUM($AN$82,$AS$82)","v":16},null,{"$f":"($AU$78*3)+($AW$78*2)+($AY$78*1)","v":0},null,{"$f":"RANK($BG$78,$BG$78:$BH$95)","v":3},null,{"$f":"$BC$78-$BE$78","v":-16},null,{"$f":"RANK($BK$78,$BK$78:$BL$95)","v":3}]
[]
[null,null,null,null,null,null,null,null,null,null,null,null,null,null,null,null,null,null,null,null,null,null,null,null,null,null,null,null,null,null,null,null,null,null,null,null,{"$f":"IF($Q$14=\"\",\"\",$Q$14)","v":""},null,"―",{"$f":"IF($S$14=\"\",\"\",$S$14)","v":""},null,{"$f":"IF($S$50=\"\",\"\",$S$50)","v":""},null,"―",{"$f":"IF($Q$50=\"\",\"\",$Q$50)","v":""}]
[null,null,null,null,null,null,null,null,null,null,null,null,null,null,null,null,null,null,null,null,null,null,null,null,null,null,null,null,null,"得失点"]
[null,null,null,null,null,null,null,null,null,null,null,null,null,null,null,null,null,null,null,null,null,null,null,null,null,null,null,null,null,null,null,null,null,null,null,null,{"$f":"$O$12","v":0},null,"―",{"$f":"$U$12","v":9},null,{"$f":"$U$48","v":0},null,"―",{"$f":"$O$48","v":7}]
[]
[null,null,null,null,null,null,null,null,null,null,null,null,null,null,null,null,null,null,null,null,null,null,null,null,{"$f":"$AC$62","v":"明野東サッカースポーツ少年団"},null,null,null,null,"星取表",null,{"$f":"IF(AF88=\"\",\"\",IF(AF88>AI88,\"○\",IF(AF88<AI88,\"●\",IF(AF86>AI86,\"△\",IF(AF86<AI86,\"▲\")))))","v":"○"},null,null,null,null,null,null,null,null,null,{"$f":"IF(AP88=\"\",\"\",IF(AP88>AS88,\"○\",IF(AP88<AS88,\"●\",IF(AP86>AS86,\"△\",IF(AP86<AS86,\"▲\")))))","v":"●"},null,null,null,null,{"$f":"COUNTIF($AF$84:$AT$85,\"○\")","v":1},null,{"$f":"COUNTIF($AF$84:$AT$85,\"△\")","v":0},null,{"$f":"COUNTIF($AF$84:$AT$85,\"▲\")","v":0},null,{"$f":"COUNTIF($AF$84:$AT$85,\"●\")","v":1},null,{"$f":"SUM($AF$88,$AP$88)","v":9},null,{"$f":"SUM($AI$88,$AS$88)","v":2},null,{"$f":"($AU$84*3)+($AW$84*2)+($AY$84*1)","v":3},null,{"$f":"RANK($BG$84,$BG$78:$BH$95)","v":2},null,{"$f":"$BC$84-$BE$84","v":7},null,{"$f":"RANK($BK$84,$BK$78:$BL$95)","v":2}]
[]
[null,null,null,null,null,null,null,null,null,null,null,null,null,null,null,null,null,null,null,null,null,null,null,null,null,null,null,null,null,null,null,{"$f":"AN80","v":""},null,"―",{"$f":"AK80","v":""},null,null,null,null,null,null,{"$f":"IF($Q$32=\"\",\"\",$Q$32)","v":""},null,"―",{"$f":"IF($S$32=\"\",\"\",$S$32)","v":""}]
[null,null,null,null,null,null,null,null,null,null,null,null,null,null,null,null,null,null,null,null,null,null,null,null,null,null,null,null,null,"得失点"]
[null,null,null,null,null,null,null,null,null,null,null,null,null,null,null,null,null,null,null,null,null,null,null,null,null,null,null,null,null,null,null,{"$f":"AN82","v":9},null,"―",{"$f":"AK82","v":0},null,null,null,null,null,null,{"$f":"$O$30","v":0},null,"―",{"$f":"$U$30","v":2}]
[]
[null,null,null,null,null,null,null,null,null,null,null,null,null,null,null,null,null,null,null,null,null,null,null,null,{"$f":"$AC$64","v":"別府フットボールクラブ．ミネルバＵ－１２"},null,null,null,null,"星取表",null,{"$f":"IF(AF94=\"\",\"\",IF(AF94>AI94,\"○\",IF(AF94<AI94,\"●\",IF(AF92>AI92,\"△\",IF(AF92<AI92,\"▲\")))))","v":"○"},null,null,null,null,{"$f":"IF(AK94=\"\",\"\",IF(AK94>AN94,\"○\",IF(AK94<AN94,\"●\",IF(AK92>AN92,\"△\",IF(AK92<AN92,\"▲\")))))","v":"○"},null,null,null,null,null,null,null,null,null,{"$f":"COUNTIF($AF$90:$AT$91,\"○\")","v":2},null,{"$f":"COUNTIF($AF$90:$AT$91,\"△\")","v":0},null,{"$f":"COUNTIF($AF$90:$AT$91,\"▲\")","v":0},null,{"$f":"COUNTIF($AF$90:$AT$91,\"●\")","v":0},null,{"$f":"SUM($AF$94,$AK$94)","v":9},null,{"$f":"SUM($AI$94,$AN$94)","v":0},null,{"$f":"($AU$90*3)+($AW$90*2)+($AY$90*1)","v":6},null,{"$f":"RANK($BG$90,$BG$78:$BH$95)","v":1},null,{"$f":"$BC$90-$BE$90","v":9},null,{"$f":"RANK($BK$90,$BK$78:$BL$95)","v":1}]
[]
[null,null,null,null,null,null,null,null,null,null,null,null,null,null,null,null,null,null,null,null,null,null,null,null,null,null,null,null,null,null,null,{"$f":"AS80","v":""},null,"―",{"$f":"AP80","v":""},null,{"$f":"AS86","v":""},null,"―",{"$f":"AP86","v":""}]
[null,null,null,null,null,null,null,null,null,null,null,null,null,null,null,null,null,null,null,null,null,null,null,null,null,null,null,null,null,"得失点"]
[null,null,null,null,null,null,null,null,null,null,null,null,null,null,null,null,null,null,null,null,null,null,null,null,null,null,null,null,null,null,null,{"$f":"AS82","v":7},null,"―",{"$f":"AP82","v":0},null,{"$f":"AS88","v":2},null,"―",{"$f":"AP88","v":0}]
[]
[]
[null,null,null,null,null,null,null,null,null,null,null,null,null,null,null,null,null,null,null,null,null,null,null,null,"Ⅰ勝点（勝３点　ＰＫ勝２点　ＰＫ負１点　負０点）　Ⅱ当該チームの戦績　Ⅲ得失点差　Ⅳ多得点　Ⅴ抽選の順で順位を決定する。"]
[]
[null,null,null,null,null,null,null,null,null,null,null,null,null,null,null,null,null,null,null,null,null,null,null,null,"勝点表",null,"勝","○",null,"PK\n勝","△",null,"PK\n負","▲",null,"負","●"]
[null,null,null,null,null,null,null,null,null,null,null,null,null,null,null,null,null,null,null,null,null,null,null,null,null,null,null,3,null,null,2,null,null,1,null,null,0]

{"sheet":"１次リーグ（日田）","index":15,"n_rows":100,"n_cols":67,"rows_kept":100,"cut":false,"hidden":true,"merged":[[16,13,16,17],[16,18,16,20],[16,21,16,22],[32,1,32,5],[32,6,32,8],[32,9,32,10],[33,1,33,5],[33,6,33,8],[33,9,33,10],[17,4,17,5],[17,6,17,8],[17,9,17,10],[17,16,17,17],[17,18,17,20],[17,21,17,22],[20,21,20,22],[19,4,19,5],[19,6,19,8],[19,9,19,10],[19,16,19,17],[19,18,19,20],[19,21,19,22],[20,4,20,5],[20,6,20,8],[34,1,34,5],[34,6,34,8],[34,9,34,10],[32,13,32,17],[32,18,32,20],[32,21,32,22],[33,13,33,17],[33,18,33,20],[33,21,33,22],[34,13,34,17],[34,18,34,20],[34,21,34,22],[50,13,50,17],[50,18,50,20],[50,21,50,22],[51,13,51,17],[51,18,51,20],[51,21,51,22],[52,13,52,17],[52,18,52,20],[52,21,52,22],[50,1,50,5],[50,6,50,8],[50,9,50,10],[51,1,51,5],[51,6,51,8],[51,9,51,10],[52,1,52,5],[52,6,52,8],[52,9,52,10],[89,36,90,40],[89,64,94,65],[93,36,94,37],[93,38,94,38],[93,39,94,40],[83,64,88,65],[89,58,94,59],[89,66,94,66],[91,31,92,32],[91,33,92,33],[91,34,92,35],[91,36,92,37],[91,38,92,38],[91,39,92,40],[93,31,94,32],[93,33,94,33],[93,34,94,35],[83,66,88,66],[85,31,86,32],[85,33,86,33],[85,34,86,35],[85,41,86,42],[85,43,86,43],[85,44,86,45],[87,31,88,32],[87,33,88,33],[83,46,88,47],[87,41,88,42],[87,43,88,43],[87,44,88,45],[36,39,37,40],[26,48,31,49],[32,62,37,63],[77,36,78,40],[77,41,78,45],[47,60,48,66],[77,50,82,51],[77,52,82,53],[77,54,82,55],[71,46,76,47],[71,48,76,49],[71,50,76,51],[71,52,76,53],[71,54,76,55],[71,60,76,61],[71,62,76,63],[71,64,76,65],[71,66,76,66],[32,66,37,66],[34,31,35,32],[34,33,35,33],[34,34,35,35],[34,36,35,37],[34,38,35,38],[34,39,35,40],[36,31,37,32],[36,33,37,33],[36,34,37,35],[32,54,37,55],[32,56,37,57],[32,60,37,61],[32,64,37,65],[14,58,19,59],[14,60,19,61],[14,62,19,63],[20,48,25,49],[20,50,25,51],[20,52,25,53],[24,41,25,42],[24,43,25,43],[24,44,25,45],[20,54,25,55],[20,56,25,57],[20,58,25,59],[20,60,25,61],[20,62,25,63],[0,60,0,66],[1,0,1,10],[1,12,1,22],[1,24,1,58],[0,9,0,10],[0,21,0,22],[98,35,99,35],[14,64,19,65],[14,66,19,66],[20,36,21,40],[20,41,21,45],[20,64,25,65],[20,66,25,66],[22,36,23,37],[22,38,23,38],[24,36,25,37],[14,36,19,40],[14,41,19,45],[14,46,19,47],[14,48,19,49],[14,50,19,51],[14,52,19,53],[14,54,19,55],[14,56,19,57],[3,3,3,10],[3,15,3,22],[3,24,3,26],[3,27,3,32],[3,34,3,48],[5,24,5,26],[6,41,6,44],[0,0,0,8],[0,12,0,20],[0,24,0,58],[7,2,7,8],[7,9,7,10],[7,14,7,20],[7,21,7,22],[7,25,7,27],[7,28,7,40],[7,41,7,44],[6,2,6,8],[6,9,6,10],[6,14,6,20],[6,21,6,22],[6,25,6,27],[6,28,6,40],[8,2,8,8],[8,9,8,10],[8,14,8,20],[8,21,8,22],[8,25,8,27],[8,28,8,40],[8,41,8,44],[11,0,13,0],[11,1,13,1],[11,2,13,2],[11,3,13,3],[11,7,13,7],[11,8,13,8],[11,9,13,9],[11,12,13,12],[11,13,13,13],[11,14,13,14],[11,15,13,15],[11,19,13,19],[11,20,13,20],[11,21,13,21],[14,24,19,27],[14,28,19,30],[14,31,19,35],[14,1,14,5],[14,6,14,8],[14,9,14,10],[15,1,15,5],[15,6,15,8],[15,9,15,10],[16,1,16,5],[16,6,16,8],[16,9,16,10],[14,13,14,17],[14,18,14,20],[14,21,14,22],[15,13,15,17],[15,18,15,20],[15,21,15,22],[18,4,18,5],[18,6,18,8],[18,9,18,10],[18,16,18,17],[18,18,18,20],[18,21,18,22],[20,9,20,10],[20,16,20,17],[20,18,20,20],[20,24,25,28],[20,29,22,30],[20,31,25,35],[20,46,25,47],[22,39,23,40],[22,41,23,42],[22,43,23,43],[22,44,23,45],[24,38,25,38],[24,39,25,40],[23,29,25,30],[77,64,82,65],[77,66,82,66],[79,36,80,37],[26,24,31,28],[26,29,28,30],[26,36,31,40],[26,46,31,47],[26,31,27,35],[26,41,27,45],[30,34,31,35],[30,41,31,42],[28,44,29,45],[30,31,31,32],[26,50,31,51],[26,52,31,53],[26,54,31,55],[26,56,31,57],[26,58,31,59],[26,60,31,61],[26,62,31,63],[26,64,31,65],[26,66,31,66],[79,43,80,43],[79,44,80,45],[29,13,31,13],[29,15,31,15],[32,58,37,59],[32,24,37,28],[32,29,34,30],[32,41,37,45],[32,46,37,47],[32,50,37,51],[32,52,37,53],[35,29,37,30],[32,48,37,49],[29,29,31,30],[28,31,29,32],[28,33,29,33],[28,34,29,35],[28,41,29,42],[28,43,29,43],[30,33,31,33],[30,43,31,43],[30,44,31,45],[32,31,33,35],[32,36,33,40],[36,36,37,37],[36,38,37,38],[29,12,31,12],[29,14,31,14],[29,19,31,19],[29,20,31,20],[35,18,35,20],[81,39,82,40],[81,41,82,42],[81,43,82,43],[53,9,53,10],[53,16,53,17],[53,18,53,20],[53,21,53,22],[53,33,54,33],[53,34,54,48],[57,24,58,26],[57,27,58,32],[61,25,62,27],[61,28,62,40],[61,41,62,44],[63,25,64,27],[63,28,64,40],[63,41,64,44],[71,41,76,45],[29,21,31,21],[41,29,42,29],[47,24,48,58],[41,35,42,35],[49,24,50,58],[77,56,82,57],[71,56,76,57],[29,0,31,0],[29,1,31,1],[29,2,31,2],[29,3,31,3],[29,7,31,7],[29,8,31,8],[35,21,35,22],[41,32,42,32],[36,9,36,10],[36,16,36,17],[35,4,35,5],[35,6,35,8],[35,9,35,10],[35,16,35,17],[36,18,36,20],[36,21,36,22],[37,4,37,5],[29,9,31,9],[37,6,37,8],[37,9,37,10],[37,16,37,17],[37,18,37,20],[37,21,37,22],[36,4,36,5],[36,6,36,8],[71,58,76,59],[59,25,60,27],[59,28,60,40],[38,4,38,5],[38,6,38,8],[38,9,38,10],[38,16,38,17],[38,18,38,20],[38,21,38,22],[59,41,60,44],[47,9,49,9],[71,24,76,27],[71,28,76,30],[71,31,76,35],[71,36,76,40],[53,4,53,5],[53,6,53,8],[47,0,49,0],[47,1,49,1],[47,2,49,2],[47,3,49,3],[47,7,49,7],[47,8,49,8],[47,21,49,21],[47,12,49,12],[47,13,49,13],[47,14,49,14],[47,15,49,15],[47,19,49,19],[47,20,49,20],[56,4,56,5],[56,6,56,8],[56,9,56,10],[56,16,56,17],[56,18,56,20],[56,21,56,22],[5,27,5,32],[53,24,54,26],[53,27,54,32],[39,24,40,57],[41,24,42,25],[41,26,42,26],[54,4,54,5],[54,6,54,8],[54,9,54,10],[54,16,54,17],[54,18,54,20],[54,21,54,22],[55,4,55,5],[55,6,55,8],[55,9,55,10],[55,16,55,17],[55,18,55,20],[55,21,55,22],[77,24,82,28],[77,29,79,30],[77,31,82,35],[77,46,82,47],[77,48,82,49],[77,58,82,59],[77,60,82,61],[77,62,82,63],[83,58,88,59],[80,29,82,30],[83,24,88,28],[83,29,85,30],[83,36,88,40],[83,31,84,35],[83,41,84,45],[87,34,88,35],[81,36,82,37],[81,38,82,38],[83,62,88,63],[86,29,88,30],[81,44,82,45],[79,38,80,38],[79,39,80,40],[79,41,80,42],[89,24,94,28],[89,29,91,30],[89,41,94,45],[89,46,94,47],[89,62,94,63],[92,29,94,30],[83,48,88,49],[96,24,97,57],[98,24,99,25],[98,26,99,26],[98,29,99,29],[98,32,99,32],[83,60,88,61],[83,50,88,51],[83,52,88,53],[83,54,88,55],[83,56,88,57],[89,60,94,61],[89,50,94,51],[89,52,94,53],[89,54,94,55],[89,56,94,57],[89,48,94,49],[89,31,90,35]]}
[{"$f":"出場チーム!B1","v":"OFA 第 50 回大分県少年サッカー大会　兼　KYFA 九州U-12サッカー大会大分県大会"},null,null,null,null,null,null,null,null,"１次リーグ結果　報告用紙",null,null,{"$f":"出場チーム!B1","v":"OFA 第 50 回大分県少年サッカー大会　兼　KYFA 九州U-12サッカー大会大分県大会"},null,null,null,null,null,null,null,null,"１次リーグ結果　報告用紙",null,null,{"$f":"$A$1","v":"OFA 第 50 回大分県少年サッカー大会　兼　KYFA 九州U-12サッカー大会大分県大会"},null,null,null,null,null,null,null,null,null,null,null,null,null,null,null,null,null,null,null,null,null,null,null,null,null,null,null,null,null,null,null,null,null,null,null,{"$f":"$J$1","v":"１次リーグ結果　報告用紙"}]
["＜時間割＞　①10:00～　②11:00～　③12:00～　④13:00～　⑤14:00～　⑥15:00～",null,null,null,null,null,null,null,null,null,null,null,"＜時間割＞　①10:00～　②11:00～　③12:00～　④13:00～　⑤14:00～　⑥15:00～",null,null,null,null,null,null,null,null,null,null,null,"＜時間割＞　①10:00～　②11:00～　③12:00～　④13:00～　⑤14:00～　⑥15:00～"]
[]
["会場",{"$f":"組み合わせ!BF7","v":"日田"},"⇒",{"$f":"VLOOKUP(B4,出場チーム!$B$51:$F$59,2,FALSE)","v":"玖珠町総合運動公園"},null,null,null,null,null,null,null,null,"会場",{"$f":"組み合わせ!BF7","v":"日田"},"⇒",{"$f":"VLOOKUP(N4,出場チーム!$B$51:$F$59,2,FALSE)","v":"玖珠町総合運動公園"},null,null,null,null,null,null,null,null,"会場",null,null,{"$f":"$B$4","v":"日田"},null,null,null,null,null,"⇒",{"$f":"$D$4","v":"玖珠町総合運動公園"}]
[]
["パート",{"$f":"VLOOKUP(B4,組み合わせ!$AL$95:$BU$112,13,FALSE)","v":"E"},null,null,null,null,null,null,null,null,null,null,"パート",{"$f":"VLOOKUP(N4,組み合わせ!$AL$95:$BU$112,25,FALSE)","v":"L"},null,null,null,null,null,null,null,null,null,null,"パート",null,null,{"$f":"$B$6","v":"E"}]
[null,{"$f":"CONCATENATE($B$6,1)","v":"E1"},{"$f":"HLOOKUP(B7,組み合わせ!$B$48:$EO$86,2,FALSE)","v":"ＦＣアリアーレ"},null,null,null,null,null,null,{"$f":"HLOOKUP(B7,組み合わせ!$B$48:$EO$86,32,FALSE)","v":"日田"},null,null,null,{"$f":"CONCATENATE($N$6,1)","v":"L1"},{"$f":"HLOOKUP(N7,組み合わせ!$B$48:$EO$86,2,FALSE)","v":"太陽スポーツクラブ大分西"},null,null,null,null,null,null,{"$f":"HLOOKUP(N7,組み合わせ!$B$48:$EO$86,32,FALSE)","v":"日田"},null,null,null,{"$f":"+B7","v":"E1"},null,null,{"$f":"$C$7","v":"ＦＣアリアーレ"},null,null,null,null,null,null,null,null,null,null,null,null,{"$f":"$J$7","v":"日田"}]
[null,{"$f":"CONCATENATE($B$6,2)","v":"E2"},{"$f":"HLOOKUP(B8,組み合わせ!$B$48:$EO$86,2,FALSE)","v":"明治サッカースポーツ少年団"},null,null,null,null,null,null,{"$f":"HLOOKUP(B8,組み合わせ!$B$48:$EO$86,32,FALSE)","v":"大分"},null,null,null,{"$f":"CONCATENATE($N$6,2)","v":"L2"},{"$f":"HLOOKUP(N8,組み合わせ!$B$48:$EO$86,2,FALSE)","v":"宗方サッカークラブ"},null,null,null,null,null,null,{"$f":"HLOOKUP(N8,組み合わせ!$B$48:$EO$86,32,FALSE)","v":"大分"},null,null,null,{"$f":"+B8","v":"E2"},null,null,{"$f":"$C$8","v":"明治サッカースポーツ少年団"},null,null,null,null,null,null,null,null,null,null,null,null,{"$f":"$J$8","v":"大分"}]
[null,{"$f":"CONCATENATE($B$6,3)","v":"E3"},{"$f":"HLOOKUP(B9,組み合わせ!$B$48:$EO$86,2,FALSE)","v":"ＦＣ大野"},null,null,null,null,null,null,{"$f":"HLOOKUP(B9,組み合わせ!$B$48:$EO$86,32,FALSE)","v":"豊肥"},null,null,null,{"$f":"CONCATENATE($N$6,3)","v":"L3"},{"$f":"HLOOKUP(N9,組み合わせ!$B$48:$EO$86,2,FALSE)","v":"Ｓｈｙｎｔ　ＦＣ"},null,null,null,null,null,null,{"$f":"HLOOKUP(N9,組み合わせ!$B$48:$EO$86,32,FALSE)","v":"中津"},null,null,null,{"$f":"+B9","v":"E3"},null,null,{"$f":"$C$9","v":"ＦＣ大野"},null,null,null,null,null,null,null,null,null,null,null,null,{"$f":"$J$9","v":"豊肥"}]
["8：50～ＭＣＭ",null,null,null,null,null,null,null,null,null,null,null,"9：50～ＭＣＭ"]
[]
["①\n10:00～",{"$f":"C7","v":"ＦＣアリアーレ"},{"$f":"IF(E12=\"\",\"\",SUM(E12:E13))","v":1},"（",0,"前半",0,"）",{"$f":"IF(G12=\"\",\"\",SUM(G12:G13))","v":1},{"$f":"C8","v":"明治サッカースポーツ少年団"},null,null,"②\n11:00～",{"$f":"O7","v":"太陽スポーツクラブ大分西"},{"$f":"IF(Q12=\"\",\"\",SUM(Q12:Q13))","v":2},"（",0,"前半",0,"）",{"$f":"IF(S12=\"\",\"\",SUM(S12:S13))","v":0},{"$f":"O8","v":"宗方サッカークラブ"}]
[null,null,null,null,1,"後半",1,null,null,null,null,null,null,null,null,null,2,"後半",0]
[null,null,null,null,null,"PK",null,null,null,null,null,null,null,null,null,null,null,"PK"]
["MC","松尾　章",null,null,null,null,"所属協会",null,null,"日田市サッカー協会",null,null,"MC","松尾　章",null,null,null,null,"所属協会",null,null,"日田市サッカー協会",null,null,{"$f":"$Y$6","v":"パート"},null,null,null,{"$f":"$AB$6","v":"E"},null,null,{"$f":"$Y$21","v":"ＦＣアリアーレ"},null,null,null,null,{"$f":"$Y$27","v":"明治サッカースポーツ少年団"},null,null,null,null,{"$f":"$Y$33","v":"ＦＣ大野"},null,null,null,null,"勝",null,"PK\n勝",null,"PK\n負",null,"負",null,"得点",null,"失点",null,"勝点",null,"勝点\n順位",null,"得失\n点差",null,"得失\n順位",null,"総\n順位"]
["WelfareOfficer","松尾　章",null,null,null,null,"所属協会",null,null,"日田市サッカー協会",null,null,"WelfareOfficer","松尾　章",null,null,null,null,"所属協会",null,null,"日田市サッカー協会"]
["記録","笠野　わかこ",null,null,null,null,"所属協会",null,null,"日田市サッカー協会",null,null,"記録","榊　謙治",null,null,null,null,"所属協会",null,null,"(一社)大分県サッカー協会　ジュニア委員会"]
["R:",{"$f":"IF(ISERROR(VLOOKUP(G18,審判員!$A:$C,2,FALSE))=TRUE,\"\",VLOOKUP(G18,審判員!$A:$C,2,FALSE))","v":"松原　マヤ"},{"$f":"IF(ISERROR(VLOOKUP(G18,審判員!$A:$C,3,FALSE))=TRUE,\"\",VLOOKUP(G18,審判員!$A:$C,3,FALSE))","v":2},"級","資格番号",null,"R001265552",null,null,"本部",null,null,"R:",{"$f":"IF(ISERROR(VLOOKUP(S18,審判員!$A:$C,2,FALSE))=TRUE,\"\",VLOOKUP(S18,審判員!$A:$C,2,FALSE))","v":"矢羽田　崇"},{"$f":"IF(ISERROR(VLOOKUP(S18,審判員!$A:$C,3,FALSE))=TRUE,\"\",VLOOKUP(S18,審判員!$A:$C,3,FALSE))","v":3},"級","資格番号",null,"R008537139",null,null,"本部"]
["AR1:",{"$f":"IF(ISERROR(VLOOKUP(G19,審判員!$A:$C,2,FALSE))=TRUE,\"\",VLOOKUP(G19,審判員!$A:$C,2,FALSE))","v":"立花　陽一郎"},{"$f":"IF(ISERROR(VLOOKUP(G19,審判員!$A:$C,3,FALSE))=TRUE,\"\",VLOOKUP(G19,審判員!$A:$C,3,FALSE))","v":3},"級","資格番号",null,"R004060170",null,null,{"$f":"N12","v":"太陽スポーツクラブ大分西"},null,null,"AR1:",{"$f":"IF(ISERROR(VLOOKUP(S19,審判員!$A:$C,2,FALSE))=TRUE,\"\",VLOOKUP(S19,審判員!$A:$C,2,FALSE))","v":"川井　勇介"},{"$f":"IF(ISERROR(VLOOKUP(S19,審判員!$A:$C,3,FALSE))=TRUE,\"\",VLOOKUP(S19,審判員!$A:$C,3,FALSE))","v":3},"級","資格番号",null,"R001255616",null,null,{"$f":"B12","v":"ＦＣアリアーレ"}]
["AR2:",{"$f":"IF(ISERROR(VLOOKUP(G20,審判員!$A:$C,2,FALSE))=TRUE,\"\",VLOOKUP(G20,審判員!$A:$C,2,FALSE))","v":"毛藤　勇三"},{"$f":"IF(ISERROR(VLOOKUP(G20,審判員!$A:$C,3,FALSE))=TRUE,\"\",VLOOKUP(G20,審判員!$A:$C,3,FALSE))","v":3},"級","資格番号",null,"R003350854",null,null,{"$f":"V12","v":"宗方サッカークラブ"},null,null,"AR2:",{"$f":"IF(ISERROR(VLOOKUP(S20,審判員!$A:$C,2,FALSE))=TRUE,\"\",VLOOKUP(S20,審判員!$A:$C,2,FALSE))","v":"大塚　良輝"},{"$f":"IF(ISERROR(VLOOKUP(S20,審判員!$A:$C,3,FALSE))=TRUE,\"\",VLOOKUP(S20,審判員!$A:$C,3,FALSE))","v":3},"級","資格番号",null,"R008174019",null,null,{"$f":"J12","v":"明治サッカースポーツ少年団"}]
["4th:",{"$f":"IF(ISERROR(VLOOKUP(G21,審判員!$A:$C,2,FALSE))=TRUE,\"\",VLOOKUP(G21,審判員!$A:$C,2,FALSE))","v":"諌本　秀樹"},{"$f":"IF(ISERROR(VLOOKUP(G21,審判員!$A:$C,3,FALSE))=TRUE,\"\",VLOOKUP(G21,審判員!$A:$C,3,FALSE))","v":2},"級","資格番号",null,"R001262333",null,null,"本部",null,null,"4th:",{"$f":"IF(ISERROR(VLOOKUP(S21,審判員!$A:$C,2,FALSE))=TRUE,\"\",VLOOKUP(S21,審判員!$A:$C,2,FALSE))","v":"笠野　わかこ"},{"$f":"IF(ISERROR(VLOOKUP(S21,審判員!$A:$C,3,FALSE))=TRUE,\"\",VLOOKUP(S21,審判員!$A:$C,3,FALSE))","v":3},"級","資格番号",null,"R003255771",null,null,"本部",null,null,{"$f":"$AC$7","v":"ＦＣアリアーレ"},null,null,null,null,"星取表",null,null,null,null,null,null,{"$f":"IF(AK25=\"\",\"\",IF(AK25>AN25,\"○\",IF(AK25<AN25,\"●\",IF(AK23>AN23,\"△\",IF(AK23<AN23,\"▲\")))))","v":false},null,null,null,null,{"$f":"IF(AP25=\"\",\"\",IF(AP25>AS25,\"○\",IF(AP25<AS25,\"●\",IF(AP23>AS23,\"△\",IF(AP23<AS23,\"▲\")))))","v":"○"},null,null,null,null,{"$f":"COUNTIF($AF$21:$AT$22,\"○\")","v":1},null,{"$f":"COUNTIF($AF$21:$AT$22,\"△\")","v":0},null,{"$f":"COUNTIF($AF$21:$AT$22,\"▲\")","v":0},null,{"$f":"COUNTIF($AF$21:$AT$22,\"●\")","v":0},null,{"$f":"SUM($AK$25,$AP$25)","v":5},null,{"$f":"SUM($AN$25,$AS$25)","v":1},null,{"$f":"($AU$21*3)+($AW$21*2)+($AY$21*1)","v":3},null,{"$f":"RANK($BG$21,$BG$21:$BH$38)","v":1},null,{"$f":"$BC$21-$BE$21","v":4},null,{"$f":"RANK($BK$21,$BK$21:$BL$38)","v":1}]
["警告/退場","氏名","背番号","分","内容",null,"内容","分","背番号","氏名","警告/退場",null,"警告/退場","氏名","背番号","分","内容",null,"内容","分","背番号","氏名","警告/退場"]
[null,{"$f":"IF(ISERROR(VLOOKUP(CONCATENATE($B$12,\"_\",C23),選手名簿!$A:$E,5,FALSE))=TRUE,\"\",VLOOKUP(CONCATENATE($B$12,\"_\",C23),選手名簿!$A:$E,5,FALSE))","v":""},null,null,null,null,null,null,null,{"$f":"IF(ISERROR(VLOOKUP(CONCATENATE($J$12,\"_\",I23),選手名簿!$A:$E,5,FALSE))=TRUE,\"\",VLOOKUP(CONCATENATE($J$12,\"_\",I23),選手名簿!$A:$E,5,FALSE))","v":""},null,null,"退場",{"$f":"IF(ISERROR(VLOOKUP(CONCATENATE($N$12,\"_\",O23),選手名簿!$A:$E,5,FALSE))=TRUE,\"\",VLOOKUP(CONCATENATE($N$12,\"_\",O23),選手名簿!$A:$E,5,FALSE))","v":"長尾　一朗"},17,36,"不正",null,null,null,null,{"$f":"IF(ISERROR(VLOOKUP(CONCATENATE($V$12,\"_\",U23),選手名簿!$A:$E,5,FALSE))=TRUE,\"\",VLOOKUP(CONCATENATE($V$12,\"_\",U23),選手名簿!$A:$E,5,FALSE))","v":""},null,null,null,null,null,null,null,null,null,null,null,null,null,null,{"$f":"IF($E$14=\"\",\"\",$E$14)","v":""},null,"―",{"$f":"IF($G$14=\"\",\"\",$G$14)","v":""},null,{"$f":"IF($G$50=\"\",\"\",$G$50)","v":""},null,"―",{"$f":"IF($E$50=\"\",\"\",$E$50)","v":""}]
[null,{"$f":"IF(ISERROR(VLOOKUP(CONCATENATE($B$12,\"_\",C24),選手名簿!$A:$E,5,FALSE))=TRUE,\"\",VLOOKUP(CONCATENATE($B$12,\"_\",C24),選手名簿!$A:$E,5,FALSE))","v":""},null,null,null,null,null,null,null,{"$f":"IF(ISERROR(VLOOKUP(CONCATENATE($J$12,\"_\",I24),選手名簿!$A:$E,5,FALSE))=TRUE,\"\",VLOOKUP(CONCATENATE($J$12,\"_\",I24),選手名簿!$A:$E,5,FALSE))","v":""},null,null,null,{"$f":"IF(ISERROR(VLOOKUP(CONCATENATE($N$12,\"_\",O24),選手名簿!$A:$E,5,FALSE))=TRUE,\"\",VLOOKUP(CONCATENATE($N$12,\"_\",O24),選手名簿!$A:$E,5,FALSE))","v":""},null,null,null,null,null,null,null,{"$f":"IF(ISERROR(VLOOKUP(CONCATENATE($V$12,\"_\",U24),選手名簿!$A:$E,5,FALSE))=TRUE,\"\",VLOOKUP(CONCATENATE($V$12,\"_\",U24),選手名簿!$A:$E,5,FALSE))","v":""},null,null,null,null,null,null,null,"得失点"]
[null,{"$f":"IF(ISERROR(VLOOKUP(CONCATENATE($B$12,\"_\",C25),選手名簿!$A:$E,5,FALSE))=TRUE,\"\",VLOOKUP(CONCATENATE($B$12,\"_\",C25),選手名簿!$A:$E,5,FALSE))","v":""},null,null,null,null,null,null,null,{"$f":"IF(ISERROR(VLOOKUP(CONCATENATE($J$12,\"_\",I25),選手名簿!$A:$E,5,FALSE))=TRUE,\"\",VLOOKUP(CONCATENATE($J$12,\"_\",I25),選手名簿!$A:$E,5,FALSE))","v":""},null,null,null,{"$f":"IF(ISERROR(VLOOKUP(CONCATENATE($N$12,\"_\",O25),選手名簿!$A:$E,5,FALSE))=TRUE,\"\",VLOOKUP(CONCATENATE($N$12,\"_\",O25),選手名簿!$A:$E,5,FALSE))","v":""},null,null,null,null,null,null,null,{"$f":"IF(ISERROR(VLOOKUP(CONCATENATE($V$12,\"_\",U25),選手名簿!$A:$E,5,FALSE))=TRUE,\"\",VLOOKUP(CONCATENATE($V$12,\"_\",U25),選手名簿!$A:$E,5,FALSE))","v":""},null,null,null,null,null,null,null,null,null,null,null,null,null,null,{"$f":"$C$12","v":1},null,"―",{"$f":"$I$12","v":1},null,{"$f":"$I$48","v":4},null,"―",{"$f":"$C$48","v":0}]
[null,{"$f":"IF(ISERROR(VLOOKUP(CONCATENATE($B$12,\"_\",C26),選手名簿!$A:$E,5,FALSE))=TRUE,\"\",VLOOKUP(CONCATENATE($B$12,\"_\",C26),選手名簿!$A:$E,5,FALSE))","v":""},null,null,null,null,null,null,null,{"$f":"IF(ISERROR(VLOOKUP(CONCATENATE($J$12,\"_\",I26),選手名簿!$A:$E,5,FALSE))=TRUE,\"\",VLOOKUP(CONCATENATE($J$12,\"_\",I26),選手名簿!$A:$E,5,FALSE))","v":""},null,null,null,{"$f":"IF(ISERROR(VLOOKUP(CONCATENATE($N$12,\"_\",O26),選手名簿!$A:$E,5,FALSE))=TRUE,\"\",VLOOKUP(CONCATENATE($N$12,\"_\",O26),選手名簿!$A:$E,5,FALSE))","v":""},null,null,null,null,null,null,null,{"$f":"IF(ISERROR(VLOOKUP(CONCATENATE($V$12,\"_\",U26),選手名簿!$A:$E,5,FALSE))=TRUE,\"\",VLOOKUP(CONCATENATE($V$12,\"_\",U26),選手名簿!$A:$E,5,FALSE))","v":""}]
[null,{"$f":"IF(ISERROR(VLOOKUP(CONCATENATE($B$12,\"_\",C27),選手名簿!$A:$E,5,FALSE))=TRUE,\"\",VLOOKUP(CONCATENATE($B$12,\"_\",C27),選手名簿!$A:$E,5,FALSE))","v":""},null,null,null,null,null,null,null,{"$f":"IF(ISERROR(VLOOKUP(CONCATENATE($J$12,\"_\",I27),選手名簿!$A:$E,5,FALSE))=TRUE,\"\",VLOOKUP(CONCATENATE($J$12,\"_\",I27),選手名簿!$A:$E,5,FALSE))","v":""},null,null,null,{"$f":"IF(ISERROR(VLOOKUP(CONCATENATE($N$12,\"_\",O27),選手名簿!$A:$E,5,FALSE))=TRUE,\"\",VLOOKUP(CONCATENATE($N$12,\"_\",O27),選手名簿!$A:$E,5,FALSE))","v":""},null,null,null,null,null,null,null,{"$f":"IF(ISERROR(VLOOKUP(CONCATENATE($V$12,\"_\",U27),選手名簿!$A:$E,5,FALSE))=TRUE,\"\",VLOOKUP(CONCATENATE($V$12,\"_\",U27),選手名簿!$A:$E,5,FALSE))","v":""},null,null,{"$f":"$AC$8","v":"明治サッカースポーツ少年団"},null,null,null,null,"星取表",null,{"$f":"IF(AF31=\"\",\"\",IF(AF31>AI31,\"○\",IF(AF31<AI31,\"●\",IF(AF29>AI29,\"△\",IF(AF29<AI29,\"▲\")))))","v":false},null,null,null,null,null,null,null,null,null,{"$f":"IF(AP31=\"\",\"\",IF(AP31>AS31,\"○\",IF(AP31<AS31,\"●\",IF(AP29>AS29,\"△\",IF(AP29<AS29,\"▲\")))))","v":false},null,null,null,null,{"$f":"COUNTIF($AF$27:$AT$28,\"○\")","v":0},null,{"$f":"COUNTIF($AF$27:$AT$28,\"△\")","v":0},null,{"$f":"COUNTIF($AF$27:$AT$28,\"▲\")","v":0},null,{"$f":"COUNTIF($AF$27:$AT$28,\"●\")","v":0},null,{"$f":"SUM($AF$31,$AP$31)","v":3},null,{"$f":"SUM($AI$31,$AS$31)","v":3},null,{"$f":"($AU$27*3)+($AW$27*2)+($AY$27*1)","v":0},null,{"$f":"RANK($BG$27,$BG$21:$BH$38)","v":2},null,{"$f":"$BC$27-$BE$27","v":0},null,{"$f":"RANK($BK$27,$BK$21:$BL$38)","v":2}]
[]
[null,null,null,null,null,null,null,null,null,null,null,null,null,null,null,null,null,null,null,null,null,null,null,null,null,null,null,null,null,null,null,{"$f":"AN23","v":""},null,"―",{"$f":"AK23","v":""},null,null,null,null,null,null,{"$f":"IF($E$32=\"\",\"\",$E$32)","v":""},null,"―",{"$f":"IF($G$32=\"\",\"\",$G$32)","v":""}]
["③\n12:00～",{"$f":"C8","v":"明治サッカースポーツ少年団"},{"$f":"IF(E30=\"\",\"\",SUM(E30:E31))","v":2},"（",0,"前半",1,"）",{"$f":"IF(G30=\"\",\"\",SUM(G30:G31))","v":2},{"$f":"C9","v":"ＦＣ大野"},null,null,"④\n13:00～",{"$f":"O8","v":"宗方サッカークラブ"},{"$f":"IF(Q30=\"\",\"\",SUM(Q30:Q31))","v":1},"（",1,"前半",0,"）",{"$f":"IF(S30=\"\",\"\",SUM(S30:S31))","v":2},{"$f":"O9","v":"Ｓｈｙｎｔ　ＦＣ"},null,null,null,null,null,null,null,"得失点"]
[null,null,null,null,2,"後半",1,null,null,null,null,null,null,null,null,null,0,"後半",2,null,null,null,null,null,null,null,null,null,null,null,null,{"$f":"AN25","v":1},null,"―",{"$f":"AK25","v":1},null,null,null,null,null,null,{"$f":"$C$30","v":2},null,"―",{"$f":"$I$30","v":2}]
[null,null,null,null,null,"PK",null,null,null,null,null,null,null,null,null,null,null,"PK"]
["MC","松原　マヤ",null,null,null,null,"所属協会",null,null,"日田市サッカー協会",null,null,"MC","矢羽田　崇",null,null,null,null,"所属協会",null,null,"日田市サッカー協会",null,null,{"$f":"$AC$9","v":"ＦＣ大野"},null,null,null,null,"星取表",null,{"$f":"IF(AF37=\"\",\"\",IF(AF37>AI37,\"○\",IF(AF37<AI37,\"●\",IF(AF35>AI35,\"△\",IF(AF35<AI35,\"▲\")))))","v":"●"},null,null,null,null,{"$f":"IF(AK37=\"\",\"\",IF(AK37>AN37,\"○\",IF(AK37<AN37,\"●\",IF(AK35>AN35,\"△\",IF(AK35<AN35,\"▲\")))))","v":false},null,null,null,null,null,null,null,null,null,{"$f":"COUNTIF($AF$33:$AT$34,\"○\")","v":0},null,{"$f":"COUNTIF($AF$33:$AT$34,\"△\")","v":0},null,{"$f":"COUNTIF($AF$33:$AT$34,\"▲\")","v":0},null,{"$f":"COUNTIF($AF$33:$AT$34,\"●\")","v":1},null,{"$f":"SUM($AF$37,$AK$37)","v":2},null,{"$f":"SUM($AI$37,$AN$37)","v":6},null,{"$f":"($AU$33*3)+($AW$33*2)+($AY$33*1)","v":0},null,{"$f":"RANK($BG$33,$BG$21:$BH$38)","v":2},null,{"$f":"$BC$33-$BE$33","v":-4},null,{"$f":"RANK($BK$33,$BK$21:$BL$38)","v":3}]
["WelfareOfficer","松原　マヤ",null,null,null,null,"所属協会",null,null,"日田市サッカー協会",null,null,"WelfareOfficer","矢羽田　崇",null,null,null,null,"所属協会",null,null,"日田市サッカー協会"]
["記録","笠野　わかこ",null,null,null,null,"所属協会",null,null,"日田市サッカー協会",null,null,"記録","笠野　わかこ",null,null,null,null,"所属協会",null,null,"日田市サッカー協会",null,null,null,null,null,null,null,null,null,{"$f":"AS23","v":""},null,"―",{"$f":"AP23","v":""},null,{"$f":"AS29","v":""},null,"―",{"$f":"AP29","v":""}]
["R:",{"$f":"IF(ISERROR(VLOOKUP(G36,審判員!$A:$C,2,FALSE))=TRUE,\"\",VLOOKUP(G36,審判員!$A:$C,2,FALSE))","v":"長尾　寿郎"},{"$f":"IF(ISERROR(VLOOKUP(G36,審判員!$A:$C,3,FALSE))=TRUE,\"\",VLOOKUP(G36,審判員!$A:$C,3,FALSE))","v":3},"級","資格番号",null,"R001264128",null,null,"本部",null,null,"R:",{"$f":"IF(ISERROR(VLOOKUP(S36,審判員!$A:$C,2,FALSE))=TRUE,\"\",VLOOKUP(S36,審判員!$A:$C,2,FALSE))","v":"川井　勇介"},{"$f":"IF(ISERROR(VLOOKUP(S36,審判員!$A:$C,3,FALSE))=TRUE,\"\",VLOOKUP(S36,審判員!$A:$C,3,FALSE))","v":3},"級","資格番号",null,"R001255616",null,null,"本部",null,null,null,null,null,null,null,"得失点"]
["AR1:",{"$f":"IF(ISERROR(VLOOKUP(G37,審判員!$A:$C,2,FALSE))=TRUE,\"\",VLOOKUP(G37,審判員!$A:$C,2,FALSE))","v":"毛藤　勇三"},{"$f":"IF(ISERROR(VLOOKUP(G37,審判員!$A:$C,3,FALSE))=TRUE,\"\",VLOOKUP(G37,審判員!$A:$C,3,FALSE))","v":3},"級","資格番号",null,"R003350854",null,null,{"$f":"N30","v":"宗方サッカークラブ"},null,null,"AR1:",{"$f":"IF(ISERROR(VLOOKUP(S37,審判員!$A:$C,2,FALSE))=TRUE,\"\",VLOOKUP(S37,審判員!$A:$C,2,FALSE))","v":"大塚　良輝"},{"$f":"IF(ISERROR(VLOOKUP(S37,審判員!$A:$C,3,FALSE))=TRUE,\"\",VLOOKUP(S37,審判員!$A:$C,3,FALSE))","v":3},"級","資格番号",null,"R008174019",null,null,{"$f":"B30","v":"明治サッカースポーツ少年団"},null,null,null,null,null,null,null,null,null,{"$f":"AS25","v":0},null,"―",{"$f":"AP25","v":4},null,{"$f":"AS31","v":2},null,"―",{"$f":"AP31","v":2}]
["AR2:",{"$f":"IF(ISERROR(VLOOKUP(G38,審判員!$A:$C,2,FALSE))=TRUE,\"\",VLOOKUP(G38,審判員!$A:$C,2,FALSE))","v":"柚木　徹也"},{"$f":"IF(ISERROR(VLOOKUP(G38,審判員!$A:$C,3,FALSE))=TRUE,\"\",VLOOKUP(G38,審判員!$A:$C,3,FALSE))","v":3},"級","資格番号",null,"R008515553",null,null,{"$f":"V30","v":"Ｓｈｙｎｔ　ＦＣ"},null,null,"AR2:",{"$f":"IF(ISERROR(VLOOKUP(S38,審判員!$A:$C,2,FALSE))=TRUE,\"\",VLOOKUP(S38,審判員!$A:$C,2,FALSE))","v":"狭間　照央"},{"$f":"IF(ISERROR(VLOOKUP(S38,審判員!$A:$C,3,FALSE))=TRUE,\"\",VLOOKUP(S38,審判員!$A:$C,3,FALSE))","v":3},"級","資格番号",null,"R010027819",null,null,{"$f":"J30","v":"ＦＣ大野"}]
["4th:",{"$f":"IF(ISERROR(VLOOKUP(G39,審判員!$A:$C,2,FALSE))=TRUE,\"\",VLOOKUP(G39,審判員!$A:$C,2,FALSE))","v":"松原　マヤ"},{"$f":"IF(ISERROR(VLOOKUP(G39,審判員!$A:$C,3,FALSE))=TRUE,\"\",VLOOKUP(G39,審判員!$A:$C,3,FALSE))","v":2},"級","資格番号",null,"R001265552",null,null,"本部",null,null,"4th:",{"$f":"IF(ISERROR(VLOOKUP(S39,審判員!$A:$C,2,FALSE))=TRUE,\"\",VLOOKUP(S39,審判員!$A:$C,2,FALSE))","v":"矢羽田　崇"},{"$f":"IF(ISERROR(VLOOKUP(S39,審判員!$A:$C,3,FALSE))=TRUE,\"\",VLOOKUP(S39,審判員!$A:$C,3,FALSE))","v":3},"級","資格番号",null,"R008537139",null,null,"本部"]
["警告/退場","氏名","背番号","分","内容",null,"内容","分","背番号","氏名","警告/退場",null,"警告/退場","氏名","背番号","分","内容",null,"内容","分","背番号","氏名","警告/退場",null,"Ⅰ勝点（勝３点　ＰＫ勝２点　ＰＫ負１点　負０点）　Ⅱ当該チームの戦績　Ⅲ得失点差　Ⅳ多得点　Ⅴ抽選の順で順位を決定する。"]
[null,{"$f":"IF(ISERROR(VLOOKUP(CONCATENATE($B$30,\"_\",C41),選手名簿!$A:$E,5,FALSE))=TRUE,\"\",VLOOKUP(CONCATENATE($B$30,\"_\",C41),選手名簿!$A:$E,5,FALSE))","v":""},null,null,null,null,null,null,null,{"$f":"IF(ISERROR(VLOOKUP(CONCATENATE($J$30,\"_\",I41),選手名簿!$A:$E,5,FALSE))=TRUE,\"\",VLOOKUP(CONCATENATE($J$30,\"_\",I41),選手名簿!$A:$E,5,FALSE))","v":""},null,null,null,{"$f":"IF(ISERROR(VLOOKUP(CONCATENATE($N$30,\"_\",O41),選手名簿!$A:$E,5,FALSE))=TRUE,\"\",VLOOKUP(CONCATENATE($N$30,\"_\",O41),選手名簿!$A:$E,5,FALSE))","v":""},null,null,null,null,null,null,null,{"$f":"IF(ISERROR(VLOOKUP(CONCATENATE($V$30,\"_\",U41),選手名簿!$A:$E,5,FALSE))=TRUE,\"\",VLOOKUP(CONCATENATE($V$30,\"_\",U41),選手名簿!$A:$E,5,FALSE))","v":""}]
[null,{"$f":"IF(ISERROR(VLOOKUP(CONCATENATE($B$30,\"_\",C42),選手名簿!$A:$E,5,FALSE))=TRUE,\"\",VLOOKUP(CONCATENATE($B$30,\"_\",C42),選手名簿!$A:$E,5,FALSE))","v":""},null,null,null,null,null,null,null,{"$f":"IF(ISERROR(VLOOKUP(CONCATENATE($J$30,\"_\",I42),選手名簿!$A:$E,5,FALSE))=TRUE,\"\",VLOOKUP(CONCATENATE($J$30,\"_\",I42),選手名簿!$A:$E,5,FALSE))","v":""},null,null,null,{"$f":"IF(ISERROR(VLOOKUP(CONCATENATE($N$30,\"_\",O42),選手名簿!$A:$E,5,FALSE))=TRUE,\"\",VLOOKUP(CONCATENATE($N$30,\"_\",O42),選手名簿!$A:$E,5,FALSE))","v":""},null,null,null,null,null,null,null,{"$f":"IF(ISERROR(VLOOKUP(CONCATENATE($V$30,\"_\",U42),選手名簿!$A:$E,5,FALSE))=TRUE,\"\",VLOOKUP(CONCATENATE($V$30,\"_\",U42),選手名簿!$A:$E,5,FALSE))","v":""},null,null,"勝点表",null,"勝","○",null,"PK\n勝","△",null,"PK\n負","▲",null,"負","●"]
[null,{"$f":"IF(ISERROR(VLOOKUP(CONCATENATE($B$30,\"_\",C43),選手名簿!$A:$E,5,FALSE))=TRUE,\"\",VLOOKUP(CONCATENATE($B$30,\"_\",C43),選手名簿!$A:$E,5,FALSE))","v":""},null,null,null,null,null,null,null,{"$f":"IF(ISERROR(VLOOKUP(CONCATENATE($J$30,\"_\",I43),選手名簿!$A:$E,5,FALSE))=TRUE,\"\",VLOOKUP(CONCATENATE($J$30,\"_\",I43),選手名簿!$A:$E,5,FALSE))","v":""},null,null,null,{"$f":"IF(ISERROR(VLOOKUP(CONCATENATE($N$30,\"_\",O43),選手名簿!$A:$E,5,FALSE))=TRUE,\"\",VLOOKUP(CONCATENATE($N$30,\"_\",O43),選手名簿!$A:$E,5,FALSE))","v":""},null,null,null,null,null,null,null,{"$f":"IF(ISERROR(VLOOKUP(CONCATENATE($V$30,\"_\",U43),選手名簿!$A:$E,5,FALSE))=TRUE,\"\",VLOOKUP(CONCATENATE($V$30,\"_\",U43),選手名簿!$A:$E,5,FALSE))","v":""},null,null,null,null,null,3,null,null,2,null,null,1,null,null,0]
[null,{"$f":"IF(ISERROR(VLOOKUP(CONCATENATE($B$30,\"_\",C44),選手名簿!$A:$E,5,FALSE))=TRUE,\"\",VLOOKUP(CONCATENATE($B$30,\"_\",C44),選手名簿!$A:$E,5,FALSE))","v":""},null,null,null,null,null,null,null,{"$f":"IF(ISERROR(VLOOKUP(CONCATENATE($J$30,\"_\",I44),選手名簿!$A:$E,5,FALSE))=TRUE,\"\",VLOOKUP(CONCATENATE($J$30,\"_\",I44),選手名簿!$A:$E,5,FALSE))","v":""},null,null,null,{"$f":"IF(ISERROR(VLOOKUP(CONCATENATE($N$30,\"_\",O44),選手名簿!$A:$E,5,FALSE))=TRUE,\"\",VLOOKUP(CONCATENATE($N$30,\"_\",O44),選手名簿!$A:$E,5,FALSE))","v":""},null,null,null,null,null,null,null,{"$f":"IF(ISERROR(VLOOKUP(CONCATENATE($V$30,\"_\",U44),選手名簿!$A:$E,5,FALSE))=TRUE,\"\",VLOOKUP(CONCATENATE($V$30,\"_\",U44),選手名簿!$A:$E,5,FALSE))","v":""}]
[null,{"$f":"IF(ISERROR(VLOOKUP(CONCATENATE($B$30,\"_\",C45),選手名簿!$A:$E,5,FALSE))=TRUE,\"\",VLOOKUP(CONCATENATE($B$30,\"_\",C45),選手名簿!$A:$E,5,FALSE))","v":""},null,null,null,null,null,null,null,{"$f":"IF(ISERROR(VLOOKUP(CONCATENATE($J$30,\"_\",I45),選手名簿!$A:$E,5,FALSE))=TRUE,\"\",VLOOKUP(CONCATENATE($J$30,\"_\",I45),選手名簿!$A:$E,5,FALSE))","v":""},null,null,null,{"$f":"IF(ISERROR(VLOOKUP(CONCATENATE($N$30,\"_\",O45),選手名簿!$A:$E,5,FALSE))=TRUE,\"\",VLOOKUP(CONCATENATE($N$30,\"_\",O45),選手名簿!$A:$E,5,FALSE))","v":""},null,null,null,null,null,null,null,{"$f":"IF(ISERROR(VLOOKUP(CONCATENATE($V$30,\"_\",U45),選手名簿!$A:$E,5,FALSE))=TRUE,\"\",VLOOKUP(CONCATENATE($V$30,\"_\",U45),選手名簿!$A:$E,5,FALSE))","v":""}]
[]
[]
["⑤\n14:00～",{"$f":"C9","v":"ＦＣ大野"},{"$f":"IF(E48=\"\",\"\",SUM(E48:E49))","v":0},"（",0,"前半",4,"）",{"$f":"IF(G48=\"\",\"\",SUM(G48:G49))","v":4},{"$f":"C7","v":"ＦＣアリアーレ"},null,null,"⑥\n15:00～",{"$f":"O9","v":"Ｓｈｙｎｔ　ＦＣ"},{"$f":"IF(Q48=\"\",\"\",SUM(Q48:Q49))","v":2},"（",1,"前半",1,"）",{"$f":"IF(S48=\"\",\"\",SUM(S48:S49))","v":2},{"$f":"O7","v":"太陽スポーツクラブ大分西"},null,null,{"$f":"$Y$1","v":"OFA 第 50 回大分県少年サッカー大会　兼　KYFA 九州U-12サッカー大会大分県大会"},null,null,null,null,null,null,null,null,null,null,null,null,null,null,null,null,null,null,null,null,null,null,null,null,null,null,null,null,null,null,null,null,null,null,null,{"$f":"$BI$1","v":"１次リーグ結果　報告用紙"}]
[null,null,null,null,0,"後半",0,null,null,null,null,null,null,null,null,null,1,"後半",1]
[null,null,null,null,null,"PK",null,null,null,null,null,null,null,null,null,null,null,"PK",null,null,null,null,null,null,"＜時間割＞　①10:00～　②11:00～　③12:00～　④13:00～　⑤14:00～　⑥15:00～"]
["MC","松原　マヤ",null,null,null,null,"所属協会",null,null,"日田市サッカー協会",null,null,"MC","笠野　わかこ",null,null,null,null,"所属協会"]
["WelfareOfficer","松原　マヤ",null,null,null,null,"所属協会",null,null,"日田市サッカー協会",null,null,"WelfareOfficer","笠野　わかこ",null,null,null,null,"所属協会"]
["記録","笠野　わかこ",null,null,null,null,"所属協会",null,null,"日田市サッカー協会",null,null,"記録","榊　謙治",null,null,null,null,"所属協会",null,null,"(一社)大分県サッカー協会　ジュニア委員会"]
["R:",{"$f":"IF(ISERROR(VLOOKUP(G54,審判員!$A:$C,2,FALSE))=TRUE,\"\",VLOOKUP(G54,審判員!$A:$C,2,FALSE))","v":"諌本　秀樹"},{"$f":"IF(ISERROR(VLOOKUP(G54,審判員!$A:$C,3,FALSE))=TRUE,\"\",VLOOKUP(G54,審判員!$A:$C,3,FALSE))","v":2},"級","資格番号",null,"R001262333",null,null,"本部",null,null,"R:",{"$f":"IF(ISERROR(VLOOKUP(S54,審判員!$A:$C,2,FALSE))=TRUE,\"\",VLOOKUP(S54,審判員!$A:$C,2,FALSE))","v":"矢羽田　崇"},{"$f":"IF(ISERROR(VLOOKUP(S54,審判員!$A:$C,3,FALSE))=TRUE,\"\",VLOOKUP(S54,審判員!$A:$C,3,FALSE))","v":3},"級","資格番号",null,"R008537139",null,null,"本部",null,null,"会場",null,null,{"$f":"$N$4","v":"日田"},null,null,null,null,null,"⇒",{"$f":"$P$4","v":"玖珠町総合運動公園"}]
["AR1:",{"$f":"IF(ISERROR(VLOOKUP(G55,審判員!$A:$C,2,FALSE))=TRUE,\"\",VLOOKUP(G55,審判員!$A:$C,2,FALSE))","v":"柚木　徹也"},{"$f":"IF(ISERROR(VLOOKUP(G55,審判員!$A:$C,3,FALSE))=TRUE,\"\",VLOOKUP(G55,審判員!$A:$C,3,FALSE))","v":3},"級","資格番号",null,"R008515553",null,null,{"$f":"N48","v":"Ｓｈｙｎｔ　ＦＣ"},null,null,"AR1:",{"$f":"IF(ISERROR(VLOOKUP(S55,審判員!$A:$C,2,FALSE))=TRUE,\"\",VLOOKUP(S55,審判員!$A:$C,2,FALSE))","v":"松原　マヤ"},{"$f":"IF(ISERROR(VLOOKUP(S55,審判員!$A:$C,3,FALSE))=TRUE,\"\",VLOOKUP(S55,審判員!$A:$C,3,FALSE))","v":2},"級","資格番号",null,"R001265552",null,null,{"$f":"B48","v":"ＦＣ大野"}]
["AR2:",{"$f":"IF(ISERROR(VLOOKUP(G56,審判員!$A:$C,2,FALSE))=TRUE,\"\",VLOOKUP(G56,審判員!$A:$C,2,FALSE))","v":"池本　岬"},{"$f":"IF(ISERROR(VLOOKUP(G56,審判員!$A:$C,3,FALSE))=TRUE,\"\",VLOOKUP(G56,審判員!$A:$C,3,FALSE))","v":3},"級","資格番号",null,"R010301990",null,null,{"$f":"V48","v":"太陽スポーツクラブ大分西"},null,null,"AR2:",{"$f":"IF(ISERROR(VLOOKUP(S56,審判員!$A:$C,2,FALSE))=TRUE,\"\",VLOOKUP(S56,審判員!$A:$C,2,FALSE))","v":"川井　勇介"},{"$f":"IF(ISERROR(VLOOKUP(S56,審判員!$A:$C,3,FALSE))=TRUE,\"\",VLOOKUP(S56,審判員!$A:$C,3,FALSE))","v":3},"級","資格番号",null,"R001255616",null,null,{"$f":"J48","v":"ＦＣアリアーレ"}]
["4th:",{"$f":"IF(ISERROR(VLOOKUP(G57,審判員!$A:$C,2,FALSE))=TRUE,\"\",VLOOKUP(G57,審判員!$A:$C,2,FALSE))","v":"松原　マヤ"},{"$f":"IF(ISERROR(VLOOKUP(G57,審判員!$A:$C,3,FALSE))=TRUE,\"\",VLOOKUP(G57,審判員!$A:$C,3,FALSE))","v":2},"級","資格番号",null,"R001265552",null,null,"本部",null,null,"4th:",{"$f":"IF(ISERROR(VLOOKUP(S57,審判員!$A:$C,2,FALSE))=TRUE,\"\",VLOOKUP(S57,審判員!$A:$C,2,FALSE))","v":"笠野　わかこ"},{"$f":"IF(ISERROR(VLOOKUP(S57,審判員!$A:$C,3,FALSE))=TRUE,\"\",VLOOKUP(S57,審判員!$A:$C,3,FALSE))","v":3},"級","資格番号",null,"R003255771",null,null,"本部"]
["警告/退場","氏名","背番号","分","内容",null,"内容","分","背番号","氏名","警告/退場",null,"警告/退場","氏名","背番号","分","内容",null,"内容","分","背番号","氏名","警告/退場",null,"パート",null,null,{"$f":"$N$6","v":"L"}]
[null,{"$f":"IF(ISERROR(VLOOKUP(CONCATENATE($B$48,\"_\",C59),選手名簿!$A:$E,5,FALSE))=TRUE,\"\",VLOOKUP(CONCATENATE($B$48,\"_\",C59),選手名簿!$A:$E,5,FALSE))","v":""},null,null,null,null,null,null,null,{"$f":"IF(ISERROR(VLOOKUP(CONCATENATE($J$48,\"_\",I59),選手名簿!$A:$E,5,FALSE))=TRUE,\"\",VLOOKUP(CONCATENATE($J$48,\"_\",I59),選手名簿!$A:$E,5,FALSE))","v":""},null,null,null,{"$f":"IF(ISERROR(VLOOKUP(CONCATENATE($N$48,\"_\",O59),選手名簿!$A:$E,5,FALSE))=TRUE,\"\",VLOOKUP(CONCATENATE($N$48,\"_\",O59),選手名簿!$A:$E,5,FALSE))","v":""},null,null,null,null,null,null,null,{"$f":"IF(ISERROR(VLOOKUP(CONCATENATE($V$48,\"_\",U59),選手名簿!$A:$E,5,FALSE))=TRUE,\"\",VLOOKUP(CONCATENATE($V$48,\"_\",U59),選手名簿!$A:$E,5,FALSE))","v":""}]
[null,{"$f":"IF(ISERROR(VLOOKUP(CONCATENATE($B$48,\"_\",C60),選手名簿!$A:$E,5,FALSE))=TRUE,\"\",VLOOKUP(CONCATENATE($B$48,\"_\",C60),選手名簿!$A:$E,5,FALSE))","v":""},null,null,null,null,null,null,null,{"$f":"IF(ISERROR(VLOOKUP(CONCATENATE($J$48,\"_\",I60),選手名簿!$A:$E,5,FALSE))=TRUE,\"\",VLOOKUP(CONCATENATE($J$48,\"_\",I60),選手名簿!$A:$E,5,FALSE))","v":""},null,null,null,{"$f":"IF(ISERROR(VLOOKUP(CONCATENATE($N$48,\"_\",O60),選手名簿!$A:$E,5,FALSE))=TRUE,\"\",VLOOKUP(CONCATENATE($N$48,\"_\",O60),選手名簿!$A:$E,5,FALSE))","v":""},null,null,null,null,null,null,null,{"$f":"IF(ISERROR(VLOOKUP(CONCATENATE($V$48,\"_\",U60),選手名簿!$A:$E,5,FALSE))=TRUE,\"\",VLOOKUP(CONCATENATE($V$48,\"_\",U60),選手名簿!$A:$E,5,FALSE))","v":""},null,null,null,{"$f":"$N$7","v":"L1"},null,null,{"$f":"$O$7","v":"太陽スポーツクラブ大分西"},null,null,null,null,null,null,null,null,null,null,null,null,{"$f":"$V$7","v":"日田"}]
[null,{"$f":"IF(ISERROR(VLOOKUP(CONCATENATE($B$48,\"_\",C61),選手名簿!$A:$E,5,FALSE))=TRUE,\"\",VLOOKUP(CONCATENATE($B$48,\"_\",C61),選手名簿!$A:$E,5,FALSE))","v":""},null,null,null,null,null,null,null,{"$f":"IF(ISERROR(VLOOKUP(CONCATENATE($J$48,\"_\",I61),選手名簿!$A:$E,5,FALSE))=TRUE,\"\",VLOOKUP(CONCATENATE($J$48,\"_\",I61),選手名簿!$A:$E,5,FALSE))","v":""},null,null,null,{"$f":"IF(ISERROR(VLOOKUP(CONCATENATE($N$48,\"_\",O61),選手名簿!$A:$E,5,FALSE))=TRUE,\"\",VLOOKUP(CONCATENATE($N$48,\"_\",O61),選手名簿!$A:$E,5,FALSE))","v":""},null,null,null,null,null,null,null,{"$f":"IF(ISERROR(VLOOKUP(CONCATENATE($V$48,\"_\",U61),選手名簿!$A:$E,5,FALSE))=TRUE,\"\",VLOOKUP(CONCATENATE($V$48,\"_\",U61),選手名簿!$A:$E,5,FALSE))","v":""}]
[null,{"$f":"IF(ISERROR(VLOOKUP(CONCATENATE($B$48,\"_\",C62),選手名簿!$A:$E,5,FALSE))=TRUE,\"\",VLOOKUP(CONCATENATE($B$48,\"_\",C62),選手名簿!$A:$E,5,FALSE))","v":""},null,null,null,null,null,null,null,{"$f":"IF(ISERROR(VLOOKUP(CONCATENATE($J$48,\"_\",I62),選手名簿!$A:$E,5,FALSE))=TRUE,\"\",VLOOKUP(CONCATENATE($J$48,\"_\",I62),選手名簿!$A:$E,5,FALSE))","v":""},null,null,null,{"$f":"IF(ISERROR(VLOOKUP(CONCATENATE($N$48,\"_\",O62),選手名簿!$A:$E,5,FALSE))=TRUE,\"\",VLOOKUP(CONCATENATE($N$48,\"_\",O62),選手名簿!$A:$E,5,FALSE))","v":""},null,null,null,null,null,null,null,{"$f":"IF(ISERROR(VLOOKUP(CONCATENATE($V$48,\"_\",U62),選手名簿!$A:$E,5,FALSE))=TRUE,\"\",VLOOKUP(CONCATENATE($V$48,\"_\",U62),選手名簿!$A:$E,5,FALSE))","v":""},null,null,null,{"$f":"$N$8","v":"L2"},null,null,{"$f":"$O$8","v":"宗方サッカークラブ"},null,null,null,null,null,null,null,null,null,null,null,null,{"$f":"$V$8","v":"大分"}]
[null,{"$f":"IF(ISERROR(VLOOKUP(CONCATENATE($B$48,\"_\",C63),選手名簿!$A:$E,5,FALSE))=TRUE,\"\",VLOOKUP(CONCATENATE($B$48,\"_\",C63),選手名簿!$A:$E,5,FALSE))","v":""},null,null,null,null,null,null,null,{"$f":"IF(ISERROR(VLOOKUP(CONCATENATE($J$48,\"_\",I63),選手名簿!$A:$E,5,FALSE))=TRUE,\"\",VLOOKUP(CONCATENATE($J$48,\"_\",I63),選手名簿!$A:$E,5,FALSE))","v":""},null,null,null,{"$f":"IF(ISERROR(VLOOKUP(CONCATENATE($N$48,\"_\",O63),選手名簿!$A:$E,5,FALSE))=TRUE,\"\",VLOOKUP(CONCATENATE($N$48,\"_\",O63),選手名簿!$A:$E,5,FALSE))","v":""},null,null,null,null,null,null,null,{"$f":"IF(ISERROR(VLOOKUP(CONCATENATE($V$48,\"_\",U63),選手名簿!$A:$E,5,FALSE))=TRUE,\"\",VLOOKUP(CONCATENATE($V$48,\"_\",U63),選手名簿!$A:$E,5,FALSE))","v":""}]
[null,null,null,null,null,null,null,null,null,null,null,null,null,null,null,null,null,null,null,null,null,null,null,null,null,{"$f":"$N$9","v":"L3"},null,null,{"$f":"$O$9","v":"Ｓｈｙｎｔ　ＦＣ"},null,null,null,null,null,null,null,null,null,null,null,null,{"$f":"$V$9","v":"中津"}]
[]
[]
[]
[]
[]
[]
[]
[null,null,null,null,null,null,null,null,null,null,null,null,null,null,null,null,null,null,null,null,null,null,null,null,{"$f":"$Y$6","v":"パート"},null,null,null,{"$f":"$AB$58","v":"L"},null,null,{"$f":"$Y$78","v":"太陽スポーツクラブ大分西"},null,null,null,null,{"$f":"$Y$84","v":"宗方サッカークラブ"},null,null,null,null,{"$f":"$Y$90","v":"Ｓｈｙｎｔ　ＦＣ"},null,null,null,null,"勝",null,"PK\n勝",null,"PK\n負",null,"負",null,"得点",null,"失点",null,"勝点",null,"勝点\n順位",null,"得失\n点差",null,"得失\n順位",null,"総\n順位"]
[]
[]
[]
[]
[]
[null,null,null,null,null,null,null,null,null,null,null,null,null,null,null,null,null,null,null,null,null,null,null,null,{"$f":"$AC$60","v":"太陽スポーツクラブ大分西"},null,null,null,null,"星取表",null,null,null,null,null,null,{"$f":"IF(AK82=\"\",\"\",IF(AK82>AN82,\"○\",IF(AK82<AN82,\"●\",IF(AK80>AN80,\"△\",IF(AK80<AN80,\"▲\")))))","v":"○"},null,null,null,null,{"$f":"IF(AP82=\"\",\"\",IF(AP82>AS82,\"○\",IF(AP82<AS82,\"●\",IF(AP80>AS80,\"△\",IF(AP80<AS80,\"▲\")))))","v":false},null,null,null,null,{"$f":"COUNTIF($AF$78:$AT$79,\"○\")","v":1},null,{"$f":"COUNTIF($AF$78:$AT$79,\"△\")","v":0},null,{"$f":"COUNTIF($AF$78:$AT$79,\"▲\")","v":0},null,{"$f":"COUNTIF($AF$78:$AT$79,\"●\")","v":0},null,{"$f":"SUM($AK$82,$AP$82)","v":4},null,{"$f":"SUM($AN$82,$AS$82)","v":2},null,{"$f":"($AU$78*3)+($AW$78*2)+($AY$78*1)","v":3},null,{"$f":"RANK($BG$78,$BG$78:$BH$95)","v":1},null,{"$f":"$BC$78-$BE$78","v":2},null,{"$f":"RANK($BK$78,$BK$78:$BL$95)","v":1}]
[]
[null,null,null,null,null,null,null,null,null,null,null,null,null,null,null,null,null,null,null,null,null,null,null,null,null,null,null,null,null,null,null,null,null,null,null,null,{"$f":"IF($Q$14=\"\",\"\",$Q$14)","v":""},null,"―",{"$f":"IF($S$14=\"\",\"\",$S$14)","v":""},null,{"$f":"IF($S$50=\"\",\"\",$S$50)","v":""},null,"―",{"$f":"IF($Q$50=\"\",\"\",$Q$50)","v":""}]
[null,null,null,null,null,null,null,null,null,null,null,null,null,null,null,null,null,null,null,null,null,null,null,null,null,null,null,null,null,"得失点"]
[null,null,null,null,null,null,null,null,null,null,null,null,null,null,null,null,null,null,null,null,null,null,null,null,null,null,null,null,null,null,null,null,null,null,null,null,{"$f":"$O$12","v":2},null,"―",{"$f":"$U$12","v":0},null,{"$f":"$U$48","v":2},null,"―",{"$f":"$O$48","v":2}]
[]
[null,null,null,null,null,null,null,null,null,null,null,null,null,null,null,null,null,null,null,null,null,null,null,null,{"$f":"$AC$62","v":"宗方サッカークラブ"},null,null,null,null,"星取表",null,{"$f":"IF(AF88=\"\",\"\",IF(AF88>AI88,\"○\",IF(AF88<AI88,\"●\",IF(AF86>AI86,\"△\",IF(AF86<AI86,\"▲\")))))","v":"●"},null,null,null,null,null,null,null,null,null,{"$f":"IF(AP88=\"\",\"\",IF(AP88>AS88,\"○\",IF(AP88<AS88,\"●\",IF(AP86>AS86,\"△\",IF(AP86<AS86,\"▲\")))))","v":"●"},null,null,null,null,{"$f":"COUNTIF($AF$84:$AT$85,\"○\")","v":0},null,{"$f":"COUNTIF($AF$84:$AT$85,\"△\")","v":0},null,{"$f":"COUNTIF($AF$84:$AT$85,\"▲\")","v":0},null,{"$f":"COUNTIF($AF$84:$AT$85,\"●\")","v":2},null,{"$f":"SUM($AF$88,$AP$88)","v":1},null,{"$f":"SUM($AI$88,$AS$88)","v":4},null,{"$f":"($AU$84*3)+($AW$84*2)+($AY$84*1)","v":0},null,{"$f":"RANK($BG$84,$BG$78:$BH$95)","v":3},null,{"$f":"$BC$84-$BE$84","v":-3},null,{"$f":"RANK($BK$84,$BK$78:$BL$95)","v":3}]
[]
[null,null,null,null,null,null,null,null,null,null,null,null,null,null,null,null,null,null,null,null,null,null,null,null,null,null,null,null,null,null,null,{"$f":"AN80","v":""},null,"―",{"$f":"AK80","v":""},null,null,null,null,null,null,{"$f":"IF($Q$32=\"\",\"\",$Q$32)","v":""},null,"―",{"$f":"IF($S$32=\"\",\"\",$S$32)","v":""}]
[null,null,null,null,null,null,null,null,null,null,null,null,null,null,null,null,null,null,null,null,null,null,null,null,null,null,null,null,null,"得失点"]
[null,null,null,null,null,null,null,null,null,null,null,null,null,null,null,null,null,null,null,null,null,null,null,null,null,null,null,null,null,null,null,{"$f":"AN82","v":0},null,"―",{"$f":"AK82","v":2},null,null,null,null,null,null,{"$f":"$O$30","v":1},null,"―",{"$f":"$U$30","v":2}]
[]
[null,null,null,null,null,null,null,null,null,null,null,null,null,null,null,null,null,null,null,null,null,null,null,null,{"$f":"$AC$64","v":"Ｓｈｙｎｔ　ＦＣ"},null,null,null,null,"星取表",null,{"$f":"IF(AF94=\"\",\"\",IF(AF94>AI94,\"○\",IF(AF94<AI94,\"●\",IF(AF92>AI92,\"△\",IF(AF92<AI92,\"▲\")))))","v":false},null,null,null,null,{"$f":"IF(AK94=\"\",\"\",IF(AK94>AN94,\"○\",IF(AK94<AN94,\"●\",IF(AK92>AN92,\"△\",IF(AK92<AN92,\"▲\")))))","v":"○"},null,null,null,null,null,null,null,null,null,{"$f":"COUNTIF($AF$90:$AT$91,\"○\")","v":1},null,{"$f":"COUNTIF($AF$90:$AT$91,\"△\")","v":0},null,{"$f":"COUNTIF($AF$90:$AT$91,\"▲\")","v":0},null,{"$f":"COUNTIF($AF$90:$AT$91,\"●\")","v":0},null,{"$f":"SUM($AF$94,$AK$94)","v":4},null,{"$f":"SUM($AI$94,$AN$94)","v":3},null,{"$f":"($AU$90*3)+($AW$90*2)+($AY$90*1)","v":3},null,{"$f":"RANK($BG$90,$BG$78:$BH$95)","v":1},null,{"$f":"$BC$90-$BE$90","v":1},null,{"$f":"RANK($BK$90,$BK$78:$BL$95)","v":2}]
[]
[null,null,null,null,null,null,null,null,null,null,null,null,null,null,null,null,null,null,null,null,null,null,null,null,null,null,null,null,null,null,null,{"$f":"AS80","v":""},null,"―",{"$f":"AP80","v":""},null,{"$f":"AS86","v":""},null,"―",{"$f":"AP86","v":""}]
[null,null,null,null,null,null,null,null,null,null,null,null,null,null,null,null,null,null,null,null,null,null,null,null,null,null,null,null,null,"得失点"]
[null,null,null,null,null,null,null,null,null,null,null,null,null,null,null,null,null,null,null,null,null,null,null,null,null,null,null,null,null,null,null,{"$f":"AS82","v":2},null,"―",{"$f":"AP82","v":2},null,{"$f":"AS88","v":2},null,"―",{"$f":"AP88","v":1}]
[]
[]
[null,null,null,null,null,null,null,null,null,null,null,null,null,null,null,null,null,null,null,null,null,null,null,null,"Ⅰ勝点（勝３点　ＰＫ勝２点　ＰＫ負１点　負０点）　Ⅱ当該チームの戦績　Ⅲ得失点差　Ⅳ多得点　Ⅴ抽選の順で順位を決定する。"]
[]
[null,null,null,null,null,null,null,null,null,null,null,null,null,null,null,null,null,null,null,null,null,null,null,null,"勝点表",null,"勝","○",null,"PK\n勝","△",null,"PK\n負","▲",null,"負","●"]
[null,null,null,null,null,null,null,null,null,null,null,null,null,null,null,null,null,null,null,null,null,null,null,null,null,null,null,3,null,null,2,null,null,1,null,null,0]

{"sheet":"１次リーグ（大分）","index":16,"n_rows":100,"n_cols":67,"rows_kept":100,"cut":false,"hidden":true,"merged":[[16,13,16,17],[16,18,16,20],[16,21,16,22],[32,1,32,5],[32,6,32,8],[32,9,32,10],[33,1,33,5],[33,6,33,8],[33,9,33,10],[17,4,17,5],[17,6,17,8],[17,9,17,10],[17,16,17,17],[17,18,17,20],[17,21,17,22],[20,21,20,22],[19,4,19,5],[19,6,19,8],[19,9,19,10],[19,16,19,17],[19,18,19,20],[19,21,19,22],[20,4,20,5],[20,6,20,8],[34,1,34,5],[34,6,34,8],[34,9,34,10],[32,13,32,17],[32,18,32,20],[32,21,32,22],[33,13,33,17],[33,18,33,20],[33,21,33,22],[34,13,34,17],[34,18,34,20],[34,21,34,22],[50,13,50,17],[50,18,50,20],[50,21,50,22],[51,13,51,17],[51,18,51,20],[51,21,51,22],[52,13,52,17],[52,18,52,20],[52,21,52,22],[50,1,50,5],[50,6,50,8],[50,9,50,10],[51,1,51,5],[51,6,51,8],[51,9,51,10],[52,1,52,5],[52,6,52,8],[52,9,52,10],[89,36,90,40],[89,64,94,65],[93,36,94,37],[93,38,94,38],[93,39,94,40],[83,64,88,65],[89,58,94,59],[89,66,94,66],[91,31,92,32],[91,33,92,33],[91,34,92,35],[91,36,92,37],[91,38,92,38],[91,39,92,40],[93,31,94,32],[93,33,94,33],[93,34,94,35],[83,66,88,66],[85,31,86,32],[85,33,86,33],[85,34,86,35],[85,41,86,42],[85,43,86,43],[85,44,86,45],[87,31,88,32],[87,33,88,33],[83,46,88,47],[87,41,88,42],[87,43,88,43],[87,44,88,45],[36,39,37,40],[26,48,31,49],[32,62,37,63],[77,36,78,40],[77,41,78,45],[47,60,48,66],[77,50,82,51],[77,52,82,53],[77,54,82,55],[71,46,76,47],[71,48,76,49],[71,50,76,51],[71,52,76,53],[71,54,76,55],[71,60,76,61],[71,62,76,63],[71,64,76,65],[71,66,76,66],[32,66,37,66],[34,31,35,32],[34,33,35,33],[34,34,35,35],[34,36,35,37],[34,38,35,38],[34,39,35,40],[36,31,37,32],[36,33,37,33],[36,34,37,35],[32,54,37,55],[32,56,37,57],[32,60,37,61],[32,64,37,65],[14,58,19,59],[14,60,19,61],[14,62,19,63],[20,48,25,49],[20,50,25,51],[20,52,25,53],[24,41,25,42],[24,43,25,43],[24,44,25,45],[20,54,25,55],[20,56,25,57],[20,58,25,59],[20,60,25,61],[20,62,25,63],[0,60,0,66],[1,0,1,10],[1,12,1,22],[1,24,1,58],[0,9,0,10],[0,21,0,22],[98,35,99,35],[14,64,19,65],[14,66,19,66],[20,36,21,40],[20,41,21,45],[20,64,25,65],[20,66,25,66],[22,36,23,37],[22,38,23,38],[24,36,25,37],[14,36,19,40],[14,41,19,45],[14,46,19,47],[14,48,19,49],[14,50,19,51],[14,52,19,53],[14,54,19,55],[14,56,19,57],[3,3,3,10],[3,15,3,22],[3,24,3,26],[3,27,3,32],[3,34,3,48],[5,24,5,26],[6,41,6,44],[0,0,0,8],[0,12,0,20],[0,24,0,58],[7,2,7,8],[7,9,7,10],[7,14,7,20],[7,21,7,22],[7,25,7,27],[7,28,7,40],[7,41,7,44],[6,2,6,8],[6,9,6,10],[6,14,6,20],[6,21,6,22],[6,25,6,27],[6,28,6,40],[8,2,8,8],[8,9,8,10],[8,14,8,20],[8,21,8,22],[8,25,8,27],[8,28,8,40],[8,41,8,44],[11,0,13,0],[11,1,13,1],[11,2,13,2],[11,3,13,3],[11,7,13,7],[11,8,13,8],[11,9,13,9],[11,12,13,12],[11,13,13,13],[11,14,13,14],[11,15,13,15],[11,19,13,19],[11,20,13,20],[11,21,13,21],[14,24,19,27],[14,28,19,30],[14,31,19,35],[14,1,14,5],[14,6,14,8],[14,9,14,10],[15,1,15,5],[15,6,15,8],[15,9,15,10],[16,1,16,5],[16,6,16,8],[16,9,16,10],[14,13,14,17],[14,18,14,20],[14,21,14,22],[15,13,15,17],[15,18,15,20],[15,21,15,22],[18,4,18,5],[18,6,18,8],[18,9,18,10],[18,16,18,17],[18,18,18,20],[18,21,18,22],[20,9,20,10],[20,16,20,17],[20,18,20,20],[20,24,25,28],[20,29,22,30],[20,31,25,35],[20,46,25,47],[22,39,23,40],[22,41,23,42],[22,43,23,43],[22,44,23,45],[24,38,25,38],[24,39,25,40],[23,29,25,30],[77,64,82,65],[77,66,82,66],[79,36,80,37],[26,24,31,28],[26,29,28,30],[26,36,31,40],[26,46,31,47],[26,31,27,35],[26,41,27,45],[30,34,31,35],[30,41,31,42],[28,44,29,45],[30,31,31,32],[26,50,31,51],[26,52,31,53],[26,54,31,55],[26,56,31,57],[26,58,31,59],[26,60,31,61],[26,62,31,63],[26,64,31,65],[26,66,31,66],[79,43,80,43],[79,44,80,45],[29,13,31,13],[29,15,31,15],[32,58,37,59],[32,24,37,28],[32,29,34,30],[32,41,37,45],[32,46,37,47],[32,50,37,51],[32,52,37,53],[35,29,37,30],[32,48,37,49],[29,29,31,30],[28,31,29,32],[28,33,29,33],[28,34,29,35],[28,41,29,42],[28,43,29,43],[30,33,31,33],[30,43,31,43],[30,44,31,45],[32,31,33,35],[32,36,33,40],[36,36,37,37],[36,38,37,38],[29,12,31,12],[29,14,31,14],[29,19,31,19],[29,20,31,20],[35,18,35,20],[81,39,82,40],[81,41,82,42],[81,43,82,43],[53,9,53,10],[53,16,53,17],[53,18,53,20],[53,21,53,22],[53,33,54,33],[53,34,54,48],[57,24,58,26],[57,27,58,32],[61,25,62,27],[61,28,62,40],[61,41,62,44],[63,25,64,27],[63,28,64,40],[63,41,64,44],[71,41,76,45],[29,21,31,21],[41,29,42,29],[47,24,48,58],[41,35,42,35],[49,24,50,58],[77,56,82,57],[71,56,76,57],[29,0,31,0],[29,1,31,1],[29,2,31,2],[29,3,31,3],[29,7,31,7],[29,8,31,8],[35,21,35,22],[41,32,42,32],[36,9,36,10],[36,16,36,17],[35,4,35,5],[35,6,35,8],[35,9,35,10],[35,16,35,17],[36,18,36,20],[36,21,36,22],[37,4,37,5],[29,9,31,9],[37,6,37,8],[37,9,37,10],[37,16,37,17],[37,18,37,20],[37,21,37,22],[36,4,36,5],[36,6,36,8],[71,58,76,59],[59,25,60,27],[59,28,60,40],[38,4,38,5],[38,6,38,8],[38,9,38,10],[38,16,38,17],[38,18,38,20],[38,21,38,22],[59,41,60,44],[47,9,49,9],[71,24,76,27],[71,28,76,30],[71,31,76,35],[71,36,76,40],[53,4,53,5],[53,6,53,8],[47,0,49,0],[47,1,49,1],[47,2,49,2],[47,3,49,3],[47,7,49,7],[47,8,49,8],[47,21,49,21],[47,12,49,12],[47,13,49,13],[47,14,49,14],[47,15,49,15],[47,19,49,19],[47,20,49,20],[56,4,56,5],[56,6,56,8],[56,9,56,10],[56,16,56,17],[56,18,56,20],[56,21,56,22],[5,27,5,32],[53,24,54,26],[53,27,54,32],[39,24,40,57],[41,24,42,25],[41,26,42,26],[54,4,54,5],[54,6,54,8],[54,9,54,10],[54,16,54,17],[54,18,54,20],[54,21,54,22],[55,4,55,5],[55,6,55,8],[55,9,55,10],[55,16,55,17],[55,18,55,20],[55,21,55,22],[77,24,82,28],[77,29,79,30],[77,31,82,35],[77,46,82,47],[77,48,82,49],[77,58,82,59],[77,60,82,61],[77,62,82,63],[83,58,88,59],[80,29,82,30],[83,24,88,28],[83,29,85,30],[83,36,88,40],[83,31,84,35],[83,41,84,45],[87,34,88,35],[81,36,82,37],[81,38,82,38],[83,62,88,63],[86,29,88,30],[81,44,82,45],[79,38,80,38],[79,39,80,40],[79,41,80,42],[89,24,94,28],[89,29,91,30],[89,41,94,45],[89,46,94,47],[89,62,94,63],[92,29,94,30],[83,48,88,49],[96,24,97,57],[98,24,99,25],[98,26,99,26],[98,29,99,29],[98,32,99,32],[83,60,88,61],[83,50,88,51],[83,52,88,53],[83,54,88,55],[83,56,88,57],[89,60,94,61],[89,50,94,51],[89,52,94,53],[89,54,94,55],[89,56,94,57],[89,48,94,49],[89,31,90,35]]}
[{"$f":"出場チーム!B1","v":"OFA 第 50 回大分県少年サッカー大会　兼　KYFA 九州U-12サッカー大会大分県大会"},null,null,null,null,null,null,null,null,"１次リーグ結果　報告用紙",null,null,{"$f":"出場チーム!B1","v":"OFA 第 50 回大分県少年サッカー大会　兼　KYFA 九州U-12サッカー大会大分県大会"},null,null,null,null,null,null,null,null,"１次リーグ結果　報告用紙",null,null,{"$f":"$A$1","v":"OFA 第 50 回大分県少年サッカー大会　兼　KYFA 九州U-12サッカー大会大分県大会"},null,null,null,null,null,null,null,null,null,null,null,null,null,null,null,null,null,null,null,null,null,null,null,null,null,null,null,null,null,null,null,null,null,null,null,{"$f":"$J$1","v":"１次リーグ結果　報告用紙"}]
["＜時間割＞　①10:00～　②11:00～　③12:00～　④13:00～　⑤14:00～　⑥15:00～",null,null,null,null,null,null,null,null,null,null,null,"＜時間割＞　①10:00～　②11:00～　③12:00～　④13:00～　⑤14:00～　⑥15:00～",null,null,null,null,null,null,null,null,null,null,null,"＜時間割＞　①10:00～　②11:00～　③12:00～　④13:00～　⑤14:00～　⑥15:00～"]
[]
["会場",{"$f":"組み合わせ!BF8","v":"大分"},"⇒",{"$f":"VLOOKUP(B4,出場チーム!$B$51:$F$59,2,FALSE)","v":"大在東グラウンド"},null,null,null,null,null,null,null,null,"会場",{"$f":"組み合わせ!BF8","v":"大分"},"⇒",{"$f":"VLOOKUP(N4,出場チーム!$B$51:$F$59,2,FALSE)","v":"大在東グラウンド"},null,null,null,null,null,null,null,null,"会場",null,null,{"$f":"$B$4","v":"大分"},null,null,null,null,null,"⇒",{"$f":"$D$4","v":"大在東グラウンド"}]
[]
["パート",{"$f":"VLOOKUP(B4,組み合わせ!$AL$95:$BU$112,13,FALSE)","v":"F"},null,null,null,null,null,null,null,null,null,null,"パート",{"$f":"VLOOKUP(N4,組み合わせ!$AL$95:$BU$112,25,FALSE)","v":"H"},null,null,null,null,null,null,null,null,null,null,"パート",null,null,{"$f":"$B$6","v":"F"}]
[null,{"$f":"CONCATENATE($B$6,1)","v":"F1"},{"$f":"HLOOKUP(B7,組み合わせ!$B$48:$EO$86,2,FALSE)","v":"判田サッカースポーツ少年団"},null,null,null,null,null,null,{"$f":"HLOOKUP(B7,組み合わせ!$B$48:$EO$86,32,FALSE)","v":"大分"},null,null,null,{"$f":"CONCATENATE($N$6,1)","v":"H1"},{"$f":"HLOOKUP(N7,組み合わせ!$B$48:$EO$86,2,FALSE)","v":"カティオーラフットボールクラブ　大在"},null,null,null,null,null,null,{"$f":"HLOOKUP(N7,組み合わせ!$B$48:$EO$86,32,FALSE)","v":"大分"},null,null,null,{"$f":"+B7","v":"F1"},null,null,{"$f":"$C$7","v":"判田サッカースポーツ少年団"},null,null,null,null,null,null,null,null,null,null,null,null,{"$f":"$J$7","v":"大分"}]
[null,{"$f":"CONCATENATE($B$6,2)","v":"F2"},{"$f":"HLOOKUP(B8,組み合わせ!$B$48:$EO$86,2,FALSE)","v":"桃園サッカースポーツ少年団"},null,null,null,null,null,null,{"$f":"HLOOKUP(B8,組み合わせ!$B$48:$EO$86,32,FALSE)","v":"大分"},null,null,null,{"$f":"CONCATENATE($N$6,2)","v":"H2"},{"$f":"HLOOKUP(N8,組み合わせ!$B$48:$EO$86,2,FALSE)","v":"ドリームキッズサッカークラブ"},null,null,null,null,null,null,{"$f":"HLOOKUP(N8,組み合わせ!$B$48:$EO$86,32,FALSE)","v":"大分"},null,null,null,{"$f":"+B8","v":"F2"},null,null,{"$f":"$C$8","v":"桃園サッカースポーツ少年団"},null,null,null,null,null,null,null,null,null,null,null,null,{"$f":"$J$8","v":"大分"}]
[null,{"$f":"CONCATENATE($B$6,3)","v":"F3"},{"$f":"HLOOKUP(B9,組み合わせ!$B$48:$EO$86,2,FALSE)","v":"ＦＣ中津ジュニア"},null,null,null,null,null,null,{"$f":"HLOOKUP(B9,組み合わせ!$B$48:$EO$86,32,FALSE)","v":"中津"},null,null,null,{"$f":"CONCATENATE($N$6,3)","v":"H3"},{"$f":"HLOOKUP(N9,組み合わせ!$B$48:$EO$86,2,FALSE)","v":"若宮サッカースポーツ少年団"},null,null,null,null,null,null,{"$f":"HLOOKUP(N9,組み合わせ!$B$48:$EO$86,32,FALSE)","v":"日田"},null,null,null,{"$f":"+B9","v":"F3"},null,null,{"$f":"$C$9","v":"ＦＣ中津ジュニア"},null,null,null,null,null,null,null,null,null,null,null,null,{"$f":"$J$9","v":"中津"}]
["8：50～ＭＣＭ",null,null,null,null,null,null,null,null,null,null,null,"9：50～ＭＣＭ"]
[]
["①\n10:00～",{"$f":"C7","v":"判田サッカースポーツ少年団"},{"$f":"IF(E12=\"\",\"\",SUM(E12:E13))","v":0},"（",0,"前半",0,"）",{"$f":"IF(G12=\"\",\"\",SUM(G12:G13))","v":0},{"$f":"C8","v":"桃園サッカースポーツ少年団"},null,null,"②\n11:00～",{"$f":"O7","v":"カティオーラフットボールクラブ　大在"},{"$f":"IF(Q12=\"\",\"\",SUM(Q12:Q13))","v":2},"（",0,"前半",0,"）",{"$f":"IF(S12=\"\",\"\",SUM(S12:S13))","v":1},{"$f":"O8","v":"ドリームキッズサッカークラブ"}]
[null,null,null,null,0,"後半",0,null,null,null,null,null,null,null,null,null,2,"後半",1]
[null,null,null,null,null,"PK",null,null,null,null,null,null,null,null,null,null,null,"PK"]
["MC","佐々木　秀樹",null,null,null,null,"所属協会",null,null,"大分市サッカー協会",null,null,"MC","津守　一雄",null,null,null,null,"所属協会",null,null,"大分市サッカー協会",null,null,{"$f":"$Y$6","v":"パート"},null,null,null,{"$f":"$AB$6","v":"F"},null,null,{"$f":"$Y$21","v":"判田サッカースポーツ少年団"},null,null,null,null,{"$f":"$Y$27","v":"桃園サッカースポーツ少年団"},null,null,null,null,{"$f":"$Y$33","v":"ＦＣ中津ジュニア"},null,null,null,null,"勝",null,"PK\n勝",null,"PK\n負",null,"負",null,"得点",null,"失点",null,"勝点",null,"勝点\n順位",null,"得失\n点差",null,"得失\n順位",null,"総\n順位"]
["WelfareOfficer","佐々木　秀樹",null,null,null,null,"所属協会",null,null,"大分市サッカー協会",null,null,"WelfareOfficer","津守　一雄",null,null,null,null,"所属協会",null,null,"大分市サッカー協会"]
["記録","平尾　彰敏",null,null,null,null,"所属協会",null,null,"大分市サッカー協会",null,null,"記録","隅田　哲平",null,null,null,null,"所属協会",null,null,"(一社)大分県サッカー協会　ジュニア委員会"]
["R:",{"$f":"IF(ISERROR(VLOOKUP(G18,審判員!$A:$C,2,FALSE))=TRUE,\"\",VLOOKUP(G18,審判員!$A:$C,2,FALSE))","v":"安倍　和広"},{"$f":"IF(ISERROR(VLOOKUP(G18,審判員!$A:$C,3,FALSE))=TRUE,\"\",VLOOKUP(G18,審判員!$A:$C,3,FALSE))","v":3},"級","資格番号",null,"R006573784",null,null,"本部",null,null,"R:",{"$f":"IF(ISERROR(VLOOKUP(S18,審判員!$A:$C,2,FALSE))=TRUE,\"\",VLOOKUP(S18,審判員!$A:$C,2,FALSE))","v":"山本　篤"},{"$f":"IF(ISERROR(VLOOKUP(S18,審判員!$A:$C,3,FALSE))=TRUE,\"\",VLOOKUP(S18,審判員!$A:$C,3,FALSE))","v":3},"級","資格番号",null,"R005603486",null,null,"本部"]
["AR1:",{"$f":"IF(ISERROR(VLOOKUP(G19,審判員!$A:$C,2,FALSE))=TRUE,\"\",VLOOKUP(G19,審判員!$A:$C,2,FALSE))","v":"篠田　裕也"},{"$f":"IF(ISERROR(VLOOKUP(G19,審判員!$A:$C,3,FALSE))=TRUE,\"\",VLOOKUP(G19,審判員!$A:$C,3,FALSE))","v":3},"級","資格番号",null,"R010073990",null,null,{"$f":"N12","v":"カティオーラフットボールクラブ　大在"},null,null,"AR1:",{"$f":"IF(ISERROR(VLOOKUP(S19,審判員!$A:$C,2,FALSE))=TRUE,\"\",VLOOKUP(S19,審判員!$A:$C,2,FALSE))","v":"甲斐　正三"},{"$f":"IF(ISERROR(VLOOKUP(S19,審判員!$A:$C,3,FALSE))=TRUE,\"\",VLOOKUP(S19,審判員!$A:$C,3,FALSE))","v":3},"級","資格番号",null,"R001265260",null,null,{"$f":"B12","v":"判田サッカースポーツ少年団"}]
["AR2:",{"$f":"IF(ISERROR(VLOOKUP(G20,審判員!$A:$C,2,FALSE))=TRUE,\"\",VLOOKUP(G20,審判員!$A:$C,2,FALSE))","v":"酒井　祐三"},{"$f":"IF(ISERROR(VLOOKUP(G20,審判員!$A:$C,3,FALSE))=TRUE,\"\",VLOOKUP(G20,審判員!$A:$C,3,FALSE))","v":3},"級","資格番号",null,"R001263350",null,null,{"$f":"V12","v":"ドリームキッズサッカークラブ"},null,null,"AR2:",{"$f":"IF(ISERROR(VLOOKUP(S20,審判員!$A:$C,2,FALSE))=TRUE,\"\",VLOOKUP(S20,審判員!$A:$C,2,FALSE))","v":"浜崎　陽介"},{"$f":"IF(ISERROR(VLOOKUP(S20,審判員!$A:$C,3,FALSE))=TRUE,\"\",VLOOKUP(S20,審判員!$A:$C,3,FALSE))","v":3},"級","資格番号",null,"R001259588",null,null,{"$f":"J12","v":"桃園サッカースポーツ少年団"}]
["4th:",{"$f":"IF(ISERROR(VLOOKUP(G21,審判員!$A:$C,2,FALSE))=TRUE,\"\",VLOOKUP(G21,審判員!$A:$C,2,FALSE))","v":"福元　研治"},{"$f":"IF(ISERROR(VLOOKUP(G21,審判員!$A:$C,3,FALSE))=TRUE,\"\",VLOOKUP(G21,審判員!$A:$C,3,FALSE))","v":3},"級","資格番号",null,"R001264447",null,null,"本部",null,null,"4th:",{"$f":"IF(ISERROR(VLOOKUP(S21,審判員!$A:$C,2,FALSE))=TRUE,\"\",VLOOKUP(S21,審判員!$A:$C,2,FALSE))","v":"藤本　勝爾"},{"$f":"IF(ISERROR(VLOOKUP(S21,審判員!$A:$C,3,FALSE))=TRUE,\"\",VLOOKUP(S21,審判員!$A:$C,3,FALSE))","v":3},"級","資格番号",null,"R008798217",null,null,"本部",null,null,{"$f":"$AC$7","v":"判田サッカースポーツ少年団"},null,null,null,null,"星取表",null,null,null,null,null,null,{"$f":"IF(AK25=\"\",\"\",IF(AK25>AN25,\"○\",IF(AK25<AN25,\"●\",IF(AK23>AN23,\"△\",IF(AK23<AN23,\"▲\")))))","v":false},null,null,null,null,{"$f":"IF(AP25=\"\",\"\",IF(AP25>AS25,\"○\",IF(AP25<AS25,\"●\",IF(AP23>AS23,\"△\",IF(AP23<AS23,\"▲\")))))","v":"●"},null,null,null,null,{"$f":"COUNTIF($AF$21:$AT$22,\"○\")","v":0},null,{"$f":"COUNTIF($AF$21:$AT$22,\"△\")","v":0},null,{"$f":"COUNTIF($AF$21:$AT$22,\"▲\")","v":0},null,{"$f":"COUNTIF($AF$21:$AT$22,\"●\")","v":1},null,{"$f":"SUM($AK$25,$AP$25)","v":2},null,{"$f":"SUM($AN$25,$AS$25)","v":4},null,{"$f":"($AU$21*3)+($AW$21*2)+($AY$21*1)","v":0},null,{"$f":"RANK($BG$21,$BG$21:$BH$38)","v":3},null,{"$f":"$BC$21-$BE$21","v":-2},null,{"$f":"RANK($BK$21,$BK$21:$BL$38)","v":3}]
["警告/退場","氏名","背番号","分","内容",null,"内容","分","背番号","氏名","警告/退場",null,"警告/退場","氏名","背番号","分","内容",null,"内容","分","背番号","氏名","警告/退場"]
[null,{"$f":"IF(ISERROR(VLOOKUP(CONCATENATE($B$12,\"_\",C23),選手名簿!$A:$E,5,FALSE))=TRUE,\"\",VLOOKUP(CONCATENATE($B$12,\"_\",C23),選手名簿!$A:$E,5,FALSE))","v":""},null,null,null,null,null,null,null,{"$f":"IF(ISERROR(VLOOKUP(CONCATENATE($J$12,\"_\",I23),選手名簿!$A:$E,5,FALSE))=TRUE,\"\",VLOOKUP(CONCATENATE($J$12,\"_\",I23),選手名簿!$A:$E,5,FALSE))","v":""},null,null,null,{"$f":"IF(ISERROR(VLOOKUP(CONCATENATE($N$12,\"_\",O23),選手名簿!$A:$E,5,FALSE))=TRUE,\"\",VLOOKUP(CONCATENATE($N$12,\"_\",O23),選手名簿!$A:$E,5,FALSE))","v":""},null,null,null,null,null,null,null,{"$f":"IF(ISERROR(VLOOKUP(CONCATENATE($V$12,\"_\",U23),選手名簿!$A:$E,5,FALSE))=TRUE,\"\",VLOOKUP(CONCATENATE($V$12,\"_\",U23),選手名簿!$A:$E,5,FALSE))","v":""},null,null,null,null,null,null,null,null,null,null,null,null,null,null,{"$f":"IF($E$14=\"\",\"\",$E$14)","v":""},null,"―",{"$f":"IF($G$14=\"\",\"\",$G$14)","v":""},null,{"$f":"IF($G$50=\"\",\"\",$G$50)","v":""},null,"―",{"$f":"IF($E$50=\"\",\"\",$E$50)","v":""}]
[null,{"$f":"IF(ISERROR(VLOOKUP(CONCATENATE($B$12,\"_\",C24),選手名簿!$A:$E,5,FALSE))=TRUE,\"\",VLOOKUP(CONCATENATE($B$12,\"_\",C24),選手名簿!$A:$E,5,FALSE))","v":""},null,null,null,null,null,null,null,{"$f":"IF(ISERROR(VLOOKUP(CONCATENATE($J$12,\"_\",I24),選手名簿!$A:$E,5,FALSE))=TRUE,\"\",VLOOKUP(CONCATENATE($J$12,\"_\",I24),選手名簿!$A:$E,5,FALSE))","v":""},null,null,null,{"$f":"IF(ISERROR(VLOOKUP(CONCATENATE($N$12,\"_\",O24),選手名簿!$A:$E,5,FALSE))=TRUE,\"\",VLOOKUP(CONCATENATE($N$12,\"_\",O24),選手名簿!$A:$E,5,FALSE))","v":""},null,null,null,null,null,null,null,{"$f":"IF(ISERROR(VLOOKUP(CONCATENATE($V$12,\"_\",U24),選手名簿!$A:$E,5,FALSE))=TRUE,\"\",VLOOKUP(CONCATENATE($V$12,\"_\",U24),選手名簿!$A:$E,5,FALSE))","v":""},null,null,null,null,null,null,null,"得失点"]
[null,{"$f":"IF(ISERROR(VLOOKUP(CONCATENATE($B$12,\"_\",C25),選手名簿!$A:$E,5,FALSE))=TRUE,\"\",VLOOKUP(CONCATENATE($B$12,\"_\",C25),選手名簿!$A:$E,5,FALSE))","v":""},null,null,null,null,null,null,null,{"$f":"IF(ISERROR(VLOOKUP(CONCATENATE($J$12,\"_\",I25),選手名簿!$A:$E,5,FALSE))=TRUE,\"\",VLOOKUP(CONCATENATE($J$12,\"_\",I25),選手名簿!$A:$E,5,FALSE))","v":""},null,null,null,{"$f":"IF(ISERROR(VLOOKUP(CONCATENATE($N$12,\"_\",O25),選手名簿!$A:$E,5,FALSE))=TRUE,\"\",VLOOKUP(CONCATENATE($N$12,\"_\",O25),選手名簿!$A:$E,5,FALSE))","v":""},null,null,null,null,null,null,null,{"$f":"IF(ISERROR(VLOOKUP(CONCATENATE($V$12,\"_\",U25),選手名簿!$A:$E,5,FALSE))=TRUE,\"\",VLOOKUP(CONCATENATE($V$12,\"_\",U25),選手名簿!$A:$E,5,FALSE))","v":""},null,null,null,null,null,null,null,null,null,null,null,null,null,null,{"$f":"$C$12","v":0},null,"―",{"$f":"$I$12","v":0},null,{"$f":"$I$48","v":2},null,"―",{"$f":"$C$48","v":4}]
[null,{"$f":"IF(ISERROR(VLOOKUP(CONCATENATE($B$12,\"_\",C26),選手名簿!$A:$E,5,FALSE))=TRUE,\"\",VLOOKUP(CONCATENATE($B$12,\"_\",C26),選手名簿!$A:$E,5,FALSE))","v":""},null,null,null,null,null,null,null,{"$f":"IF(ISERROR(VLOOKUP(CONCATENATE($J$12,\"_\",I26),選手名簿!$A:$E,5,FALSE))=TRUE,\"\",VLOOKUP(CONCATENATE($J$12,\"_\",I26),選手名簿!$A:$E,5,FALSE))","v":""},null,null,null,{"$f":"IF(ISERROR(VLOOKUP(CONCATENATE($N$12,\"_\",O26),選手名簿!$A:$E,5,FALSE))=TRUE,\"\",VLOOKUP(CONCATENATE($N$12,\"_\",O26),選手名簿!$A:$E,5,FALSE))","v":""},null,null,null,null,null,null,null,{"$f":"IF(ISERROR(VLOOKUP(CONCATENATE($V$12,\"_\",U26),選手名簿!$A:$E,5,FALSE))=TRUE,\"\",VLOOKUP(CONCATENATE($V$12,\"_\",U26),選手名簿!$A:$E,5,FALSE))","v":""}]
[null,{"$f":"IF(ISERROR(VLOOKUP(CONCATENATE($B$12,\"_\",C27),選手名簿!$A:$E,5,FALSE))=TRUE,\"\",VLOOKUP(CONCATENATE($B$12,\"_\",C27),選手名簿!$A:$E,5,FALSE))","v":""},null,null,null,null,null,null,null,{"$f":"IF(ISERROR(VLOOKUP(CONCATENATE($J$12,\"_\",I27),選手名簿!$A:$E,5,FALSE))=TRUE,\"\",VLOOKUP(CONCATENATE($J$12,\"_\",I27),選手名簿!$A:$E,5,FALSE))","v":""},null,null,null,{"$f":"IF(ISERROR(VLOOKUP(CONCATENATE($N$12,\"_\",O27),選手名簿!$A:$E,5,FALSE))=TRUE,\"\",VLOOKUP(CONCATENATE($N$12,\"_\",O27),選手名簿!$A:$E,5,FALSE))","v":""},null,null,null,null,null,null,null,{"$f":"IF(ISERROR(VLOOKUP(CONCATENATE($V$12,\"_\",U27),選手名簿!$A:$E,5,FALSE))=TRUE,\"\",VLOOKUP(CONCATENATE($V$12,\"_\",U27),選手名簿!$A:$E,5,FALSE))","v":""},null,null,{"$f":"$AC$8","v":"桃園サッカースポーツ少年団"},null,null,null,null,"星取表",null,{"$f":"IF(AF31=\"\",\"\",IF(AF31>AI31,\"○\",IF(AF31<AI31,\"●\",IF(AF29>AI29,\"△\",IF(AF29<AI29,\"▲\")))))","v":false},null,null,null,null,null,null,null,null,null,{"$f":"IF(AP31=\"\",\"\",IF(AP31>AS31,\"○\",IF(AP31<AS31,\"●\",IF(AP29>AS29,\"△\",IF(AP29<AS29,\"▲\")))))","v":"○"},null,null,null,null,{"$f":"COUNTIF($AF$27:$AT$28,\"○\")","v":1},null,{"$f":"COUNTIF($AF$27:$AT$28,\"△\")","v":0},null,{"$f":"COUNTIF($AF$27:$AT$28,\"▲\")","v":0},null,{"$f":"COUNTIF($AF$27:$AT$28,\"●\")","v":0},null,{"$f":"SUM($AF$31,$AP$31)","v":2},null,{"$f":"SUM($AI$31,$AS$31)","v":0},null,{"$f":"($AU$27*3)+($AW$27*2)+($AY$27*1)","v":3},null,{"$f":"RANK($BG$27,$BG$21:$BH$38)","v":1},null,{"$f":"$BC$27-$BE$27","v":2},null,{"$f":"RANK($BK$27,$BK$21:$BL$38)","v":1}]
[]
[null,null,null,null,null,null,null,null,null,null,null,null,null,null,null,null,null,null,null,null,null,null,null,null,null,null,null,null,null,null,null,{"$f":"AN23","v":""},null,"―",{"$f":"AK23","v":""},null,null,null,null,null,null,{"$f":"IF($E$32=\"\",\"\",$E$32)","v":""},null,"―",{"$f":"IF($G$32=\"\",\"\",$G$32)","v":""}]
["③\n12:00～",{"$f":"C8","v":"桃園サッカースポーツ少年団"},{"$f":"IF(E30=\"\",\"\",SUM(E30:E31))","v":2},"（",1,"前半",0,"）",{"$f":"IF(G30=\"\",\"\",SUM(G30:G31))","v":0},{"$f":"C9","v":"ＦＣ中津ジュニア"},null,null,"④\n13:00～",{"$f":"O8","v":"ドリームキッズサッカークラブ"},{"$f":"IF(Q30=\"\",\"\",SUM(Q30:Q31))","v":3},"（",1,"前半",0,"）",{"$f":"IF(S30=\"\",\"\",SUM(S30:S31))","v":0},{"$f":"O9","v":"若宮サッカースポーツ少年団"},null,null,null,null,null,null,null,"得失点"]
[null,null,null,null,1,"後半",0,null,null,null,null,null,null,null,null,null,2,"後半",0,null,null,null,null,null,null,null,null,null,null,null,null,{"$f":"AN25","v":0},null,"―",{"$f":"AK25","v":0},null,null,null,null,null,null,{"$f":"$C$30","v":2},null,"―",{"$f":"$I$30","v":0}]
[null,null,null,null,null,"PK",null,null,null,null,null,null,null,null,null,null,null,"PK"]
["MC","福元　研治",null,null,null,null,"所属協会",null,null,"大分市サッカー協会",null,null,"MC","佐々木　秀樹",null,null,null,null,"所属協会",null,null,"大分市サッカー協会",null,null,{"$f":"$AC$9","v":"ＦＣ中津ジュニア"},null,null,null,null,"星取表",null,{"$f":"IF(AF37=\"\",\"\",IF(AF37>AI37,\"○\",IF(AF37<AI37,\"●\",IF(AF35>AI35,\"△\",IF(AF35<AI35,\"▲\")))))","v":"○"},null,null,null,null,{"$f":"IF(AK37=\"\",\"\",IF(AK37>AN37,\"○\",IF(AK37<AN37,\"●\",IF(AK35>AN35,\"△\",IF(AK35<AN35,\"▲\")))))","v":"●"},null,null,null,null,null,null,null,null,null,{"$f":"COUNTIF($AF$33:$AT$34,\"○\")","v":1},null,{"$f":"COUNTIF($AF$33:$AT$34,\"△\")","v":0},null,{"$f":"COUNTIF($AF$33:$AT$34,\"▲\")","v":0},null,{"$f":"COUNTIF($AF$33:$AT$34,\"●\")","v":1},null,{"$f":"SUM($AF$37,$AK$37)","v":4},null,{"$f":"SUM($AI$37,$AN$37)","v":4},null,{"$f":"($AU$33*3)+($AW$33*2)+($AY$33*1)","v":3},null,{"$f":"RANK($BG$33,$BG$21:$BH$38)","v":1},null,{"$f":"$BC$33-$BE$33","v":0},null,{"$f":"RANK($BK$33,$BK$21:$BL$38)","v":2}]
["WelfareOfficer","福元　研治",null,null,null,null,"所属協会",null,null,"大分市サッカー協会",null,null,"WelfareOfficer","佐々木　秀樹",null,null,null,null,"所属協会",null,null,"大分市サッカー協会"]
["記録","藤本　勝爾",null,null,null,null,"所属協会",null,null,"大分市サッカー協会",null,null,"記録","平尾　彰敏",null,null,null,null,"所属協会",null,null,"大分市サッカー協会",null,null,null,null,null,null,null,null,null,{"$f":"AS23","v":""},null,"―",{"$f":"AP23","v":""},null,{"$f":"AS29","v":""},null,"―",{"$f":"AP29","v":""}]
["R:",{"$f":"IF(ISERROR(VLOOKUP(G36,審判員!$A:$C,2,FALSE))=TRUE,\"\",VLOOKUP(G36,審判員!$A:$C,2,FALSE))","v":"木原　一心"},{"$f":"IF(ISERROR(VLOOKUP(G36,審判員!$A:$C,3,FALSE))=TRUE,\"\",VLOOKUP(G36,審判員!$A:$C,3,FALSE))","v":2},"級","資格番号",null,"R001262999",null,null,"本部",null,null,"R:",{"$f":"IF(ISERROR(VLOOKUP(S36,審判員!$A:$C,2,FALSE))=TRUE,\"\",VLOOKUP(S36,審判員!$A:$C,2,FALSE))","v":"安倍　和広"},{"$f":"IF(ISERROR(VLOOKUP(S36,審判員!$A:$C,3,FALSE))=TRUE,\"\",VLOOKUP(S36,審判員!$A:$C,3,FALSE))","v":3},"級","資格番号",null,"R006573784",null,null,"本部",null,null,null,null,null,null,null,"得失点"]
["AR1:",{"$f":"IF(ISERROR(VLOOKUP(G37,審判員!$A:$C,2,FALSE))=TRUE,\"\",VLOOKUP(G37,審判員!$A:$C,2,FALSE))","v":"酒井　祐三"},{"$f":"IF(ISERROR(VLOOKUP(G37,審判員!$A:$C,3,FALSE))=TRUE,\"\",VLOOKUP(G37,審判員!$A:$C,3,FALSE))","v":3},"級","資格番号",null,"R001263350",null,null,{"$f":"N30","v":"ドリームキッズサッカークラブ"},null,null,"AR1:",{"$f":"IF(ISERROR(VLOOKUP(S37,審判員!$A:$C,2,FALSE))=TRUE,\"\",VLOOKUP(S37,審判員!$A:$C,2,FALSE))","v":"浜崎　陽介"},{"$f":"IF(ISERROR(VLOOKUP(S37,審判員!$A:$C,3,FALSE))=TRUE,\"\",VLOOKUP(S37,審判員!$A:$C,3,FALSE))","v":3},"級","資格番号",null,"R001259588",null,null,{"$f":"B30","v":"桃園サッカースポーツ少年団"},null,null,null,null,null,null,null,null,null,{"$f":"AS25","v":4},null,"―",{"$f":"AP25","v":2},null,{"$f":"AS31","v":0},null,"―",{"$f":"AP31","v":2}]
["AR2:",{"$f":"IF(ISERROR(VLOOKUP(G38,審判員!$A:$C,2,FALSE))=TRUE,\"\",VLOOKUP(G38,審判員!$A:$C,2,FALSE))","v":"金子　翔"},{"$f":"IF(ISERROR(VLOOKUP(G38,審判員!$A:$C,3,FALSE))=TRUE,\"\",VLOOKUP(G38,審判員!$A:$C,3,FALSE))","v":3},"級","資格番号",null,"R010261482",null,null,{"$f":"V30","v":"若宮サッカースポーツ少年団"},null,null,"AR2:",{"$f":"IF(ISERROR(VLOOKUP(S38,審判員!$A:$C,2,FALSE))=TRUE,\"\",VLOOKUP(S38,審判員!$A:$C,2,FALSE))","v":"末吉　裕樹"},{"$f":"IF(ISERROR(VLOOKUP(S38,審判員!$A:$C,3,FALSE))=TRUE,\"\",VLOOKUP(S38,審判員!$A:$C,3,FALSE))","v":3},"級","資格番号",null,"R006664961",null,null,{"$f":"J30","v":"ＦＣ中津ジュニア"}]
["4th:",{"$f":"IF(ISERROR(VLOOKUP(G39,審判員!$A:$C,2,FALSE))=TRUE,\"\",VLOOKUP(G39,審判員!$A:$C,2,FALSE))","v":"佐々木　秀樹"},{"$f":"IF(ISERROR(VLOOKUP(G39,審判員!$A:$C,3,FALSE))=TRUE,\"\",VLOOKUP(G39,審判員!$A:$C,3,FALSE))","v":3},"級","資格番号",null,"R007335136",null,null,"本部",null,null,"4th:",{"$f":"IF(ISERROR(VLOOKUP(S39,審判員!$A:$C,2,FALSE))=TRUE,\"\",VLOOKUP(S39,審判員!$A:$C,2,FALSE))","v":"福元　研治"},{"$f":"IF(ISERROR(VLOOKUP(S39,審判員!$A:$C,3,FALSE))=TRUE,\"\",VLOOKUP(S39,審判員!$A:$C,3,FALSE))","v":3},"級","資格番号",null,"R001264447",null,null,"本部"]
["警告/退場","氏名","背番号","分","内容",null,"内容","分","背番号","氏名","警告/退場",null,"警告/退場","氏名","背番号","分","内容",null,"内容","分","背番号","氏名","警告/退場",null,"Ⅰ勝点（勝３点　ＰＫ勝２点　ＰＫ負１点　負０点）　Ⅱ当該チームの戦績　Ⅲ得失点差　Ⅳ多得点　Ⅴ抽選の順で順位を決定する。"]
["警告",{"$f":"IF(ISERROR(VLOOKUP(CONCATENATE($B$30,\"_\",C41),選手名簿!$A:$E,5,FALSE))=TRUE,\"\",VLOOKUP(CONCATENATE($B$30,\"_\",C41),選手名簿!$A:$E,5,FALSE))","v":"阿部　祐斗"},16,33,"反スポ",null,null,null,null,{"$f":"IF(ISERROR(VLOOKUP(CONCATENATE($J$30,\"_\",I41),選手名簿!$A:$E,5,FALSE))=TRUE,\"\",VLOOKUP(CONCATENATE($J$30,\"_\",I41),選手名簿!$A:$E,5,FALSE))","v":""},null,null,null,{"$f":"IF(ISERROR(VLOOKUP(CONCATENATE($N$30,\"_\",O41),選手名簿!$A:$E,5,FALSE))=TRUE,\"\",VLOOKUP(CONCATENATE($N$30,\"_\",O41),選手名簿!$A:$E,5,FALSE))","v":""},null,null,null,null,null,null,null,{"$f":"IF(ISERROR(VLOOKUP(CONCATENATE($V$30,\"_\",U41),選手名簿!$A:$E,5,FALSE))=TRUE,\"\",VLOOKUP(CONCATENATE($V$30,\"_\",U41),選手名簿!$A:$E,5,FALSE))","v":""}]
[null,{"$f":"IF(ISERROR(VLOOKUP(CONCATENATE($B$30,\"_\",C42),選手名簿!$A:$E,5,FALSE))=TRUE,\"\",VLOOKUP(CONCATENATE($B$30,\"_\",C42),選手名簿!$A:$E,5,FALSE))","v":""},null,null,null,null,null,null,null,{"$f":"IF(ISERROR(VLOOKUP(CONCATENATE($J$30,\"_\",I42),選手名簿!$A:$E,5,FALSE))=TRUE,\"\",VLOOKUP(CONCATENATE($J$30,\"_\",I42),選手名簿!$A:$E,5,FALSE))","v":""},null,null,null,{"$f":"IF(ISERROR(VLOOKUP(CONCATENATE($N$30,\"_\",O42),選手名簿!$A:$E,5,FALSE))=TRUE,\"\",VLOOKUP(CONCATENATE($N$30,\"_\",O42),選手名簿!$A:$E,5,FALSE))","v":""},null,null,null,null,null,null,null,{"$f":"IF(ISERROR(VLOOKUP(CONCATENATE($V$30,\"_\",U42),選手名簿!$A:$E,5,FALSE))=TRUE,\"\",VLOOKUP(CONCATENATE($V$30,\"_\",U42),選手名簿!$A:$E,5,FALSE))","v":""},null,null,"勝点表",null,"勝","○",null,"PK\n勝","△",null,"PK\n負","▲",null,"負","●"]
[null,{"$f":"IF(ISERROR(VLOOKUP(CONCATENATE($B$30,\"_\",C43),選手名簿!$A:$E,5,FALSE))=TRUE,\"\",VLOOKUP(CONCATENATE($B$30,\"_\",C43),選手名簿!$A:$E,5,FALSE))","v":""},null,null,null,null,null,null,null,{"$f":"IF(ISERROR(VLOOKUP(CONCATENATE($J$30,\"_\",I43),選手名簿!$A:$E,5,FALSE))=TRUE,\"\",VLOOKUP(CONCATENATE($J$30,\"_\",I43),選手名簿!$A:$E,5,FALSE))","v":""},null,null,null,{"$f":"IF(ISERROR(VLOOKUP(CONCATENATE($N$30,\"_\",O43),選手名簿!$A:$E,5,FALSE))=TRUE,\"\",VLOOKUP(CONCATENATE($N$30,\"_\",O43),選手名簿!$A:$E,5,FALSE))","v":""},null,null,null,null,null,null,null,{"$f":"IF(ISERROR(VLOOKUP(CONCATENATE($V$30,\"_\",U43),選手名簿!$A:$E,5,FALSE))=TRUE,\"\",VLOOKUP(CONCATENATE($V$30,\"_\",U43),選手名簿!$A:$E,5,FALSE))","v":""},null,null,null,null,null,3,null,null,2,null,null,1,null,null,0]
[null,{"$f":"IF(ISERROR(VLOOKUP(CONCATENATE($B$30,\"_\",C44),選手名簿!$A:$E,5,FALSE))=TRUE,\"\",VLOOKUP(CONCATENATE($B$30,\"_\",C44),選手名簿!$A:$E,5,FALSE))","v":""},null,null,null,null,null,null,null,{"$f":"IF(ISERROR(VLOOKUP(CONCATENATE($J$30,\"_\",I44),選手名簿!$A:$E,5,FALSE))=TRUE,\"\",VLOOKUP(CONCATENATE($J$30,\"_\",I44),選手名簿!$A:$E,5,FALSE))","v":""},null,null,null,{"$f":"IF(ISERROR(VLOOKUP(CONCATENATE($N$30,\"_\",O44),選手名簿!$A:$E,5,FALSE))=TRUE,\"\",VLOOKUP(CONCATENATE($N$30,\"_\",O44),選手名簿!$A:$E,5,FALSE))","v":""},null,null,null,null,null,null,null,{"$f":"IF(ISERROR(VLOOKUP(CONCATENATE($V$30,\"_\",U44),選手名簿!$A:$E,5,FALSE))=TRUE,\"\",VLOOKUP(CONCATENATE($V$30,\"_\",U44),選手名簿!$A:$E,5,FALSE))","v":""}]
[null,{"$f":"IF(ISERROR(VLOOKUP(CONCATENATE($B$30,\"_\",C45),選手名簿!$A:$E,5,FALSE))=TRUE,\"\",VLOOKUP(CONCATENATE($B$30,\"_\",C45),選手名簿!$A:$E,5,FALSE))","v":""},null,null,null,null,null,null,null,{"$f":"IF(ISERROR(VLOOKUP(CONCATENATE($J$30,\"_\",I45),選手名簿!$A:$E,5,FALSE))=TRUE,\"\",VLOOKUP(CONCATENATE($J$30,\"_\",I45),選手名簿!$A:$E,5,FALSE))","v":""},null,null,null,{"$f":"IF(ISERROR(VLOOKUP(CONCATENATE($N$30,\"_\",O45),選手名簿!$A:$E,5,FALSE))=TRUE,\"\",VLOOKUP(CONCATENATE($N$30,\"_\",O45),選手名簿!$A:$E,5,FALSE))","v":""},null,null,null,null,null,null,null,{"$f":"IF(ISERROR(VLOOKUP(CONCATENATE($V$30,\"_\",U45),選手名簿!$A:$E,5,FALSE))=TRUE,\"\",VLOOKUP(CONCATENATE($V$30,\"_\",U45),選手名簿!$A:$E,5,FALSE))","v":""}]
[]
[]
["⑤\n14:00～",{"$f":"C9","v":"ＦＣ中津ジュニア"},{"$f":"IF(E48=\"\",\"\",SUM(E48:E49))","v":4},"（",1,"前半",2,"）",{"$f":"IF(G48=\"\",\"\",SUM(G48:G49))","v":2},{"$f":"C7","v":"判田サッカースポーツ少年団"},null,null,"⑥\n15:00～",{"$f":"O9","v":"若宮サッカースポーツ少年団"},{"$f":"IF(Q48=\"\",\"\",SUM(Q48:Q49))","v":0},"（",0,"前半",0,"）",{"$f":"IF(S48=\"\",\"\",SUM(S48:S49))","v":2},{"$f":"O7","v":"カティオーラフットボールクラブ　大在"},null,null,{"$f":"$Y$1","v":"OFA 第 50 回大分県少年サッカー大会　兼　KYFA 九州U-12サッカー大会大分県大会"},null,null,null,null,null,null,null,null,null,null,null,null,null,null,null,null,null,null,null,null,null,null,null,null,null,null,null,null,null,null,null,null,null,null,null,{"$f":"$BI$1","v":"１次リーグ結果　報告用紙"}]
[null,null,null,null,3,"後半",0,null,null,null,null,null,null,null,null,null,0,"後半",2]
[null,null,null,null,null,"PK",null,null,null,null,null,null,null,null,null,null,null,"PK",null,null,null,null,null,null,"＜時間割＞　①10:00～　②11:00～　③12:00～　④13:00～　⑤14:00～　⑥15:00～"]
["MC","津守　一雄",null,null,null,null,"所属協会",null,null,"大分市サッカー協会",null,null,"MC","福元　研治",null,null,null,null,"所属協会",null,null,"大分市サッカー協会"]
["WelfareOfficer","津守　一雄",null,null,null,null,"所属協会",null,null,"大分市サッカー協会",null,null,"WelfareOfficer","福元　研治",null,null,null,null,"所属協会",null,null,"大分市サッカー協会"]
["記録","隅田　哲平",null,null,null,null,"所属協会",null,null,"(一社)大分県サッカー協会　ジュニア委員会",null,null,"記録","藤本　勝爾",null,null,null,null,"所属協会",null,null,"大分市サッカー協会"]
["R:",{"$f":"IF(ISERROR(VLOOKUP(G54,審判員!$A:$C,2,FALSE))=TRUE,\"\",VLOOKUP(G54,審判員!$A:$C,2,FALSE))","v":"山本　篤"},{"$f":"IF(ISERROR(VLOOKUP(G54,審判員!$A:$C,3,FALSE))=TRUE,\"\",VLOOKUP(G54,審判員!$A:$C,3,FALSE))","v":3},"級","資格番号",null,"R005603486",null,null,"本部",null,null,"R:",{"$f":"IF(ISERROR(VLOOKUP(S54,審判員!$A:$C,2,FALSE))=TRUE,\"\",VLOOKUP(S54,審判員!$A:$C,2,FALSE))","v":"木原　一心"},{"$f":"IF(ISERROR(VLOOKUP(S54,審判員!$A:$C,3,FALSE))=TRUE,\"\",VLOOKUP(S54,審判員!$A:$C,3,FALSE))","v":2},"級","資格番号",null,"R001262999",null,null,"本部",null,null,"会場",null,null,{"$f":"$N$4","v":"大分"},null,null,null,null,null,"⇒",{"$f":"$P$4","v":"大在東グラウンド"}]
["AR1:",{"$f":"IF(ISERROR(VLOOKUP(G55,審判員!$A:$C,2,FALSE))=TRUE,\"\",VLOOKUP(G55,審判員!$A:$C,2,FALSE))","v":"金子　翔"},{"$f":"IF(ISERROR(VLOOKUP(G55,審判員!$A:$C,3,FALSE))=TRUE,\"\",VLOOKUP(G55,審判員!$A:$C,3,FALSE))","v":3},"級","資格番号",null,"R010261482",null,null,{"$f":"N48","v":"若宮サッカースポーツ少年団"},null,null,"AR1:",{"$f":"IF(ISERROR(VLOOKUP(S55,審判員!$A:$C,2,FALSE))=TRUE,\"\",VLOOKUP(S55,審判員!$A:$C,2,FALSE))","v":"末吉　裕樹"},{"$f":"IF(ISERROR(VLOOKUP(S55,審判員!$A:$C,3,FALSE))=TRUE,\"\",VLOOKUP(S55,審判員!$A:$C,3,FALSE))","v":3},"級","資格番号",null,"R006664961",null,null,{"$f":"B48","v":"ＦＣ中津ジュニア"}]
["AR2:",{"$f":"IF(ISERROR(VLOOKUP(G56,審判員!$A:$C,2,FALSE))=TRUE,\"\",VLOOKUP(G56,審判員!$A:$C,2,FALSE))","v":"篠田　裕也"},{"$f":"IF(ISERROR(VLOOKUP(G56,審判員!$A:$C,3,FALSE))=TRUE,\"\",VLOOKUP(G56,審判員!$A:$C,3,FALSE))","v":3},"級","資格番号",null,"R010073990",null,null,{"$f":"V48","v":"カティオーラフットボールクラブ　大在"},null,null,"AR2:",{"$f":"IF(ISERROR(VLOOKUP(S56,審判員!$A:$C,2,FALSE))=TRUE,\"\",VLOOKUP(S56,審判員!$A:$C,2,FALSE))","v":"甲斐　正三"},{"$f":"IF(ISERROR(VLOOKUP(S56,審判員!$A:$C,3,FALSE))=TRUE,\"\",VLOOKUP(S56,審判員!$A:$C,3,FALSE))","v":3},"級","資格番号",null,"R001265260",null,null,{"$f":"J48","v":"判田サッカースポーツ少年団"}]
["4th:",{"$f":"IF(ISERROR(VLOOKUP(G57,審判員!$A:$C,2,FALSE))=TRUE,\"\",VLOOKUP(G57,審判員!$A:$C,2,FALSE))","v":"藤本　勝爾"},{"$f":"IF(ISERROR(VLOOKUP(G57,審判員!$A:$C,3,FALSE))=TRUE,\"\",VLOOKUP(G57,審判員!$A:$C,3,FALSE))","v":3},"級","資格番号",null,"R008798217",null,null,"本部",null,null,"4th:",{"$f":"IF(ISERROR(VLOOKUP(S57,審判員!$A:$C,2,FALSE))=TRUE,\"\",VLOOKUP(S57,審判員!$A:$C,2,FALSE))","v":"佐々木　秀樹"},{"$f":"IF(ISERROR(VLOOKUP(S57,審判員!$A:$C,3,FALSE))=TRUE,\"\",VLOOKUP(S57,審判員!$A:$C,3,FALSE))","v":3},"級","資格番号",null,"R007335136",null,null,"本部"]
["警告/退場","氏名","背番号","分","内容",null,"内容","分","背番号","氏名","警告/退場",null,"警告/退場","氏名","背番号","分","内容",null,"内容","分","背番号","氏名","警告/退場",null,"パート",null,null,{"$f":"$N$6","v":"H"}]
[null,{"$f":"IF(ISERROR(VLOOKUP(CONCATENATE($B$48,\"_\",C59),選手名簿!$A:$E,5,FALSE))=TRUE,\"\",VLOOKUP(CONCATENATE($B$48,\"_\",C59),選手名簿!$A:$E,5,FALSE))","v":""},null,null,null,null,null,null,null,{"$f":"IF(ISERROR(VLOOKUP(CONCATENATE($J$48,\"_\",I59),選手名簿!$A:$E,5,FALSE))=TRUE,\"\",VLOOKUP(CONCATENATE($J$48,\"_\",I59),選手名簿!$A:$E,5,FALSE))","v":""},null,null,null,{"$f":"IF(ISERROR(VLOOKUP(CONCATENATE($N$48,\"_\",O59),選手名簿!$A:$E,5,FALSE))=TRUE,\"\",VLOOKUP(CONCATENATE($N$48,\"_\",O59),選手名簿!$A:$E,5,FALSE))","v":""},null,null,null,null,null,null,null,{"$f":"IF(ISERROR(VLOOKUP(CONCATENATE($V$48,\"_\",U59),選手名簿!$A:$E,5,FALSE))=TRUE,\"\",VLOOKUP(CONCATENATE($V$48,\"_\",U59),選手名簿!$A:$E,5,FALSE))","v":""}]
[null,{"$f":"IF(ISERROR(VLOOKUP(CONCATENATE($B$48,\"_\",C60),選手名簿!$A:$E,5,FALSE))=TRUE,\"\",VLOOKUP(CONCATENATE($B$48,\"_\",C60),選手名簿!$A:$E,5,FALSE))","v":""},null,null,null,null,null,null,null,{"$f":"IF(ISERROR(VLOOKUP(CONCATENATE($J$48,\"_\",I60),選手名簿!$A:$E,5,FALSE))=TRUE,\"\",VLOOKUP(CONCATENATE($J$48,\"_\",I60),選手名簿!$A:$E,5,FALSE))","v":""},null,null,null,{"$f":"IF(ISERROR(VLOOKUP(CONCATENATE($N$48,\"_\",O60),選手名簿!$A:$E,5,FALSE))=TRUE,\"\",VLOOKUP(CONCATENATE($N$48,\"_\",O60),選手名簿!$A:$E,5,FALSE))","v":""},null,null,null,null,null,null,null,{"$f":"IF(ISERROR(VLOOKUP(CONCATENATE($V$48,\"_\",U60),選手名簿!$A:$E,5,FALSE))=TRUE,\"\",VLOOKUP(CONCATENATE($V$48,\"_\",U60),選手名簿!$A:$E,5,FALSE))","v":""},null,null,null,{"$f":"$N$7","v":"H1"},null,null,{"$f":"$O$7","v":"カティオーラフットボールクラブ　大在"},null,null,null,null,null,null,null,null,null,null,null,null,{"$f":"$V$7","v":"大分"}]
[null,{"$f":"IF(ISERROR(VLOOKUP(CONCATENATE($B$48,\"_\",C61),選手名簿!$A:$E,5,FALSE))=TRUE,\"\",VLOOKUP(CONCATENATE($B$48,\"_\",C61),選手名簿!$A:$E,5,FALSE))","v":""},null,null,null,null,null,null,null,{"$f":"IF(ISERROR(VLOOKUP(CONCATENATE($J$48,\"_\",I61),選手名簿!$A:$E,5,FALSE))=TRUE,\"\",VLOOKUP(CONCATENATE($J$48,\"_\",I61),選手名簿!$A:$E,5,FALSE))","v":""},null,null,null,{"$f":"IF(ISERROR(VLOOKUP(CONCATENATE($N$48,\"_\",O61),選手名簿!$A:$E,5,FALSE))=TRUE,\"\",VLOOKUP(CONCATENATE($N$48,\"_\",O61),選手名簿!$A:$E,5,FALSE))","v":""},null,null,null,null,null,null,null,{"$f":"IF(ISERROR(VLOOKUP(CONCATENATE($V$48,\"_\",U61),選手名簿!$A:$E,5,FALSE))=TRUE,\"\",VLOOKUP(CONCATENATE($V$48,\"_\",U61),選手名簿!$A:$E,5,FALSE))","v":""}]
[null,{"$f":"IF(ISERROR(VLOOKUP(CONCATENATE($B$48,\"_\",C62),選手名簿!$A:$E,5,FALSE))=TRUE,\"\",VLOOKUP(CONCATENATE($B$48,\"_\",C62),選手名簿!$A:$E,5,FALSE))","v":""},null,null,null,null,null,null,null,{"$f":"IF(ISERROR(VLOOKUP(CONCATENATE($J$48,\"_\",I62),選手名簿!$A:$E,5,FALSE))=TRUE,\"\",VLOOKUP(CONCATENATE($J$48,\"_\",I62),選手名簿!$A:$E,5,FALSE))","v":""},null,null,null,{"$f":"IF(ISERROR(VLOOKUP(CONCATENATE($N$48,\"_\",O62),選手名簿!$A:$E,5,FALSE))=TRUE,\"\",VLOOKUP(CONCATENATE($N$48,\"_\",O62),選手名簿!$A:$E,5,FALSE))","v":""},null,null,null,null,null,null,null,{"$f":"IF(ISERROR(VLOOKUP(CONCATENATE($V$48,\"_\",U62),選手名簿!$A:$E,5,FALSE))=TRUE,\"\",VLOOKUP(CONCATENATE($V$48,\"_\",U62),選手名簿!$A:$E,5,FALSE))","v":""},null,null,null,{"$f":"$N$8","v":"H2"},null,null,{"$f":"$O$8","v":"ドリームキッズサッカークラブ"},null,null,null,null,null,null,null,null,null,null,null,null,{"$f":"$V$8","v":"大分"}]
[null,{"$f":"IF(ISERROR(VLOOKUP(CONCATENATE($B$48,\"_\",C63),選手名簿!$A:$E,5,FALSE))=TRUE,\"\",VLOOKUP(CONCATENATE($B$48,\"_\",C63),選手名簿!$A:$E,5,FALSE))","v":""},null,null,null,null,null,null,null,{"$f":"IF(ISERROR(VLOOKUP(CONCATENATE($J$48,\"_\",I63),選手名簿!$A:$E,5,FALSE))=TRUE,\"\",VLOOKUP(CONCATENATE($J$48,\"_\",I63),選手名簿!$A:$E,5,FALSE))","v":""},null,null,null,{"$f":"IF(ISERROR(VLOOKUP(CONCATENATE($N$48,\"_\",O63),選手名簿!$A:$E,5,FALSE))=TRUE,\"\",VLOOKUP(CONCATENATE($N$48,\"_\",O63),選手名簿!$A:$E,5,FALSE))","v":""},null,null,null,null,null,null,null,{"$f":"IF(ISERROR(VLOOKUP(CONCATENATE($V$48,\"_\",U63),選手名簿!$A:$E,5,FALSE))=TRUE,\"\",VLOOKUP(CONCATENATE($V$48,\"_\",U63),選手名簿!$A:$E,5,FALSE))","v":""}]
[null,null,null,null,null,null,null,null,null,null,null,null,null,null,null,null,null,null,null,null,null,null,null,null,null,{"$f":"$N$9","v":"H3"},null,null,{"$f":"$O$9","v":"若宮サッカースポーツ少年団"},null,null,null,null,null,null,null,null,null,null,null,null,{"$f":"$V$9","v":"日田"}]
[]
[]
[]
[]
[]
[]
[]
[null,null,null,null,null,null,null,null,null,null,null,null,null,null,null,null,null,null,null,null,null,null,null,null,{"$f":"$Y$6","v":"パート"},null,null,null,{"$f":"$AB$58","v":"H"},null,null,{"$f":"$Y$78","v":"カティオーラフットボールクラブ　大在"},null,null,null,null,{"$f":"$Y$84","v":"ドリームキッズサッカークラブ"},null,null,null,null,{"$f":"$Y$90","v":"若宮サッカースポーツ少年団"},null,null,null,null,"勝",null,"PK\n勝",null,"PK\n負",null,"負",null,"得点",null,"失点",null,"勝点",null,"勝点\n順位",null,"得失\n点差",null,"得失\n順位",null,"総\n順位"]
[]
[]
[]
[]
[]
[null,null,null,null,null,null,null,null,null,null,null,null,null,null,null,null,null,null,null,null,null,null,null,null,{"$f":"$AC$60","v":"カティオーラフットボールクラブ　大在"},null,null,null,null,"星取表",null,null,null,null,null,null,{"$f":"IF(AK82=\"\",\"\",IF(AK82>AN82,\"○\",IF(AK82<AN82,\"●\",IF(AK80>AN80,\"△\",IF(AK80<AN80,\"▲\")))))","v":"○"},null,null,null,null,{"$f":"IF(AP82=\"\",\"\",IF(AP82>AS82,\"○\",IF(AP82<AS82,\"●\",IF(AP80>AS80,\"△\",IF(AP80<AS80,\"▲\")))))","v":"○"},null,null,null,null,{"$f":"COUNTIF($AF$78:$AT$79,\"○\")","v":2},null,{"$f":"COUNTIF($AF$78:$AT$79,\"△\")","v":0},null,{"$f":"COUNTIF($AF$78:$AT$79,\"▲\")","v":0},null,{"$f":"COUNTIF($AF$78:$AT$79,\"●\")","v":0},null,{"$f":"SUM($AK$82,$AP$82)","v":4},null,{"$f":"SUM($AN$82,$AS$82)","v":1},null,{"$f":"($AU$78*3)+($AW$78*2)+($AY$78*1)","v":6},null,{"$f":"RANK($BG$78,$BG$78:$BH$95)","v":1},null,{"$f":"$BC$78-$BE$78","v":3},null,{"$f":"RANK($BK$78,$BK$78:$BL$95)","v":1}]
[]
[null,null,null,null,null,null,null,null,null,null,null,null,null,null,null,null,null,null,null,null,null,null,null,null,null,null,null,null,null,null,null,null,null,null,null,null,{"$f":"IF($Q$14=\"\",\"\",$Q$14)","v":""},null,"―",{"$f":"IF($S$14=\"\",\"\",$S$14)","v":""},null,{"$f":"IF($S$50=\"\",\"\",$S$50)","v":""},null,"―",{"$f":"IF($Q$50=\"\",\"\",$Q$50)","v":""}]
[null,null,null,null,null,null,null,null,null,null,null,null,null,null,null,null,null,null,null,null,null,null,null,null,null,null,null,null,null,"得失点"]
[null,null,null,null,null,null,null,null,null,null,null,null,null,null,null,null,null,null,null,null,null,null,null,null,null,null,null,null,null,null,null,null,null,null,null,null,{"$f":"$O$12","v":2},null,"―",{"$f":"$U$12","v":1},null,{"$f":"$U$48","v":2},null,"―",{"$f":"$O$48","v":0}]
[]
[null,null,null,null,null,null,null,null,null,null,null,null,null,null,null,null,null,null,null,null,null,null,null,null,{"$f":"$AC$62","v":"ドリームキッズサッカークラブ"},null,null,null,null,"星取表",null,{"$f":"IF(AF88=\"\",\"\",IF(AF88>AI88,\"○\",IF(AF88<AI88,\"●\",IF(AF86>AI86,\"△\",IF(AF86<AI86,\"▲\")))))","v":"●"},null,null,null,null,null,null,null,null,null,{"$f":"IF(AP88=\"\",\"\",IF(AP88>AS88,\"○\",IF(AP88<AS88,\"●\",IF(AP86>AS86,\"△\",IF(AP86<AS86,\"▲\")))))","v":"○"},null,null,null,null,{"$f":"COUNTIF($AF$84:$AT$85,\"○\")","v":1},null,{"$f":"COUNTIF($AF$84:$AT$85,\"△\")","v":0},null,{"$f":"COUNTIF($AF$84:$AT$85,\"▲\")","v":0},null,{"$f":"COUNTIF($AF$84:$AT$85,\"●\")","v":1},null,{"$f":"SUM($AF$88,$AP$88)","v":4},null,{"$f":"SUM($AI$88,$AS$88)","v":2},null,{"$f":"($AU$84*3)+($AW$84*2)+($AY$84*1)","v":3},null,{"$f":"RANK($BG$84,$BG$78:$BH$95)","v":2},null,{"$f":"$BC$84-$BE$84","v":2},null,{"$f":"RANK($BK$84,$BK$78:$BL$95)","v":2}]
[]
[null,null,null,null,null,null,null,null,null,null,null,null,null,null,null,null,null,null,null,null,null,null,null,null,null,null,null,null,null,null,null,{"$f":"AN80","v":""},null,"―",{"$f":"AK80","v":""},null,null,null,null,null,null,{"$f":"IF($Q$32=\"\",\"\",$Q$32)","v":""},null,"―",{"$f":"IF($S$32=\"\",\"\",$S$32)","v":""}]
[null,null,null,null,null,null,null,null,null,null,null,null,null,null,null,null,null,null,null,null,null,null,null,null,null,null,null,null,null,"得失点"]
[null,null,null,null,null,null,null,null,null,null,null,null,null,null,null,null,null,null,null,null,null,null,null,null,null,null,null,null,null,null,null,{"$f":"AN82","v":1},null,"―",{"$f":"AK82","v":2},null,null,null,null,null,null,{"$f":"$O$30","v":3},null,"―",{"$f":"$U$30","v":0}]
[]
[null,null,null,null,null,null,null,null,null,null,null,null,null,null,null,null,null,null,null,null,null,null,null,null,{"$f":"$AC$64","v":"若宮サッカースポーツ少年団"},null,null,null,null,"星取表",null,{"$f":"IF(AF94=\"\",\"\",IF(AF94>AI94,\"○\",IF(AF94<AI94,\"●\",IF(AF92>AI92,\"△\",IF(AF92<AI92,\"▲\")))))","v":"●"},null,null,null,null,{"$f":"IF(AK94=\"\",\"\",IF(AK94>AN94,\"○\",IF(AK94<AN94,\"●\",IF(AK92>AN92,\"△\",IF(AK92<AN92,\"▲\")))))","v":"●"},null,null,null,null,null,null,null,null,null,{"$f":"COUNTIF($AF$90:$AT$91,\"○\")","v":0},null,{"$f":"COUNTIF($AF$90:$AT$91,\"△\")","v":0},null,{"$f":"COUNTIF($AF$90:$AT$91,\"▲\")","v":0},null,{"$f":"COUNTIF($AF$90:$AT$91,\"●\")","v":2},null,{"$f":"SUM($AF$94,$AK$94)","v":0},null,{"$f":"SUM($AI$94,$AN$94)","v":5},null,{"$f":"($AU$90*3)+($AW$90*2)+($AY$90*1)","v":0},null,{"$f":"RANK($BG$90,$BG$78:$BH$95)","v":3},null,{"$f":"$BC$90-$BE$90","v":-5},null,{"$f":"RANK($BK$90,$BK$78:$BL$95)","v":3}]
[]
[null,null,null,null,null,null,null,null,null,null,null,null,null,null,null,null,null,null,null,null,null,null,null,null,null,null,null,null,null,null,null,{"$f":"AS80","v":""},null,"―",{"$f":"AP80","v":""},null,{"$f":"AS86","v":""},null,"―",{"$f":"AP86","v":""}]
[null,null,null,null,null,null,null,null,null,null,null,null,null,null,null,null,null,null,null,null,null,null,null,null,null,null,null,null,null,"得失点"]
[null,null,null,null,null,null,null,null,null,null,null,null,null,null,null,null,null,null,null,null,null,null,null,null,null,null,null,null,null,null,null,{"$f":"AS82","v":0},null,"―",{"$f":"AP82","v":2},null,{"$f":"AS88","v":0},null,"―",{"$f":"AP88","v":3}]
[]
[]
[null,null,null,null,null,null,null,null,null,null,null,null,null,null,null,null,null,null,null,null,null,null,null,null,"Ⅰ勝点（勝３点　ＰＫ勝２点　ＰＫ負１点　負０点）　Ⅱ当該チームの戦績　Ⅲ得失点差　Ⅳ多得点　Ⅴ抽選の順で順位を決定する。"]
[]
[null,null,null,null,null,null,null,null,null,null,null,null,null,null,null,null,null,null,null,null,null,null,null,null,"勝点表",null,"勝","○",null,"PK\n勝","△",null,"PK\n負","▲",null,"負","●"]
[null,null,null,null,null,null,null,null,null,null,null,null,null,null,null,null,null,null,null,null,null,null,null,null,null,null,null,3,null,null,2,null,null,1,null,null,0]

{"sheet":"１次リーグ（佐伯）","index":17,"n_rows":100,"n_cols":67,"rows_kept":100,"cut":false,"hidden":true,"merged":[[16,1,16,5],[16,6,16,8],[16,9,16,10],[32,1,32,5],[32,6,32,8],[32,9,32,10],[33,1,33,5],[33,6,33,8],[33,9,33,10],[17,4,17,5],[17,6,17,8],[17,9,17,10],[29,9,31,9],[38,4,38,5],[38,6,38,8],[38,9,38,10],[38,16,38,17],[38,18,38,20],[38,21,38,22],[34,9,34,10],[17,16,17,17],[17,18,17,20],[17,21,17,22],[29,12,31,12],[29,14,31,14],[29,19,31,19],[29,20,31,20],[29,21,31,21],[37,4,37,5],[37,6,37,8],[37,9,37,10],[34,1,34,5],[34,6,34,8],[35,16,35,17],[36,18,36,20],[36,21,36,22],[52,13,52,17],[52,18,52,20],[52,21,52,22],[50,1,50,5],[50,6,50,8],[50,9,50,10],[51,1,51,5],[51,6,51,8],[51,9,51,10],[52,1,52,5],[52,6,52,8],[52,9,52,10],[50,13,50,17],[50,18,50,20],[50,21,50,22],[51,13,51,17],[51,18,51,20],[51,21,51,22],[89,64,94,65],[89,66,94,66],[91,31,92,32],[91,33,92,33],[91,34,92,35],[91,36,92,37],[91,38,92,38],[91,39,92,40],[49,24,50,58],[59,41,60,44],[61,25,62,27],[61,28,62,40],[87,33,88,33],[87,34,88,35],[87,41,88,42],[87,43,88,43],[87,44,88,45],[85,31,86,32],[85,33,86,33],[87,31,88,32],[59,25,60,27],[59,28,60,40],[77,56,82,57],[71,56,76,57],[14,36,19,40],[14,41,19,45],[57,24,58,26],[57,27,58,32],[61,41,62,44],[63,25,64,27],[14,66,19,66],[20,36,21,40],[20,41,21,45],[20,64,25,65],[20,66,25,66],[22,36,23,37],[22,38,23,38],[22,39,23,40],[14,64,19,65],[14,48,19,49],[20,56,25,57],[20,58,25,59],[20,60,25,61],[20,62,25,63],[26,64,31,65],[32,64,37,65],[14,50,19,51],[14,52,19,53],[26,66,31,66],[28,31,29,32],[28,33,29,33],[28,34,29,35],[28,41,29,42],[28,43,29,43],[26,60,31,61],[28,44,29,45],[30,31,31,32],[30,33,31,33],[26,31,27,35],[26,52,31,53],[26,62,31,63],[26,56,31,57],[26,58,31,59],[30,34,31,35],[26,41,27,45],[26,46,31,47],[30,41,31,42],[30,43,31,43],[30,44,31,45],[5,24,5,26],[6,41,6,44],[5,27,5,32],[0,0,0,8],[0,12,0,20],[0,24,0,58],[32,66,37,66],[26,48,31,49],[26,50,31,51],[7,2,7,8],[32,46,37,47],[32,50,37,51],[32,52,37,53],[26,54,31,55],[14,58,19,59],[14,60,19,61],[14,62,19,63],[20,48,25,49],[20,50,25,51],[20,52,25,53],[20,54,25,55],[14,46,19,47],[14,54,19,55],[14,56,19,57],[0,60,0,66],[1,0,1,10],[1,12,1,22],[1,24,1,58],[0,9,0,10],[0,21,0,22],[3,3,3,10],[3,15,3,22],[3,24,3,26],[3,27,3,32],[3,34,3,48],[98,35,99,35],[71,64,76,65],[71,66,76,66],[77,36,78,40],[77,41,78,45],[77,64,82,65],[77,66,82,66],[79,36,80,37],[79,38,80,38],[81,36,82,37],[79,39,80,40],[79,41,80,42],[79,43,80,43],[79,44,80,45],[81,44,82,45],[83,64,88,65],[83,66,88,66],[83,48,88,49],[71,62,76,63],[81,38,82,38],[81,39,82,40],[81,41,82,42],[81,43,82,43],[77,60,82,61],[7,9,7,10],[7,14,7,20],[7,21,7,22],[7,25,7,27],[7,28,7,40],[7,41,7,44],[6,2,6,8],[6,9,6,10],[6,14,6,20],[6,21,6,22],[6,25,6,27],[6,28,6,40],[8,2,8,8],[8,9,8,10],[8,14,8,20],[8,21,8,22],[8,25,8,27],[8,28,8,40],[8,41,8,44],[11,0,13,0],[11,1,13,1],[11,2,13,2],[11,3,13,3],[11,7,13,7],[11,8,13,8],[11,9,13,9],[11,12,13,12],[11,13,13,13],[11,14,13,14],[11,15,13,15],[11,19,13,19],[11,20,13,20],[11,21,13,21],[14,24,19,27],[14,28,19,30],[14,31,19,35],[14,13,14,17],[14,18,14,20],[14,21,14,22],[15,13,15,17],[15,18,15,20],[15,21,15,22],[16,13,16,17],[16,18,16,20],[16,21,16,22],[14,1,14,5],[14,6,14,8],[14,9,14,10],[15,1,15,5],[15,6,15,8],[15,9,15,10],[20,21,20,22],[18,4,18,5],[18,6,18,8],[18,9,18,10],[18,16,18,17],[18,18,18,20],[18,21,18,22],[19,4,19,5],[19,6,19,8],[19,9,19,10],[19,16,19,17],[19,18,19,20],[19,21,19,22],[20,4,20,5],[20,6,20,8],[20,9,20,10],[20,16,20,17],[20,18,20,20],[20,24,25,28],[20,29,22,30],[20,31,25,35],[20,46,25,47],[22,43,23,43],[22,44,23,45],[24,36,25,37],[24,38,25,38],[24,41,25,42],[24,43,25,43],[23,29,25,30],[22,41,23,42],[24,39,25,40],[24,44,25,45],[32,62,37,63],[35,29,37,30],[32,48,37,49],[47,60,48,66],[32,24,37,28],[32,29,34,30],[39,24,40,57],[41,24,42,25],[41,26,42,26],[41,35,42,35],[36,33,37,33],[36,34,37,35],[36,36,37,37],[34,31,35,32],[34,33,35,33],[34,34,35,35],[34,36,35,37],[34,38,35,38],[34,39,35,40],[32,41,37,45],[32,60,37,61],[32,36,33,40],[36,31,37,32],[29,29,31,30],[26,24,31,28],[26,29,28,30],[26,36,31,40],[37,16,37,17],[37,18,37,20],[37,21,37,22],[41,29,42,29],[47,24,48,58],[32,13,32,17],[32,18,32,20],[32,21,32,22],[33,13,33,17],[33,18,33,20],[33,21,33,22],[34,13,34,17],[34,18,34,20],[34,21,34,22],[36,38,37,38],[36,39,37,40],[32,54,37,55],[32,58,37,59],[32,56,37,57],[32,31,33,35],[77,24,82,28],[77,29,79,30],[77,31,82,35],[77,46,82,47],[77,48,82,49],[71,52,76,53],[29,0,31,0],[29,1,31,1],[29,2,31,2],[29,3,31,3],[29,7,31,7],[29,8,31,8],[35,18,35,20],[35,21,35,22],[41,32,42,32],[29,13,31,13],[29,15,31,15],[36,4,36,5],[36,6,36,8],[36,9,36,10],[36,16,36,17],[35,4,35,5],[35,6,35,8],[35,9,35,10],[53,4,53,5],[53,6,53,8],[53,9,53,10],[53,16,53,17],[53,18,53,20],[53,21,53,22],[54,4,54,5],[54,6,54,8],[54,9,54,10],[54,16,54,17],[54,18,54,20],[54,21,54,22],[47,0,49,0],[47,1,49,1],[47,2,49,2],[47,3,49,3],[47,7,49,7],[47,8,49,8],[47,21,49,21],[47,12,49,12],[47,13,49,13],[47,14,49,14],[47,15,49,15],[47,19,49,19],[47,20,49,20],[47,9,49,9],[53,24,54,26],[53,27,54,32],[53,33,54,33],[53,34,54,48],[63,28,64,40],[63,41,64,44],[71,41,76,45],[71,46,76,47],[71,48,76,49],[71,24,76,27],[71,28,76,30],[71,31,76,35],[71,36,76,40],[55,4,55,5],[55,6,55,8],[55,9,55,10],[55,16,55,17],[55,18,55,20],[55,21,55,22],[56,4,56,5],[56,6,56,8],[56,9,56,10],[56,16,56,17],[56,18,56,20],[56,21,56,22],[71,54,76,55],[71,60,76,61],[71,58,76,59],[77,62,82,63],[80,29,82,30],[89,62,94,63],[89,48,94,49],[83,31,84,35],[83,41,84,45],[83,52,88,53],[83,54,88,55],[85,44,86,45],[77,54,82,55],[83,60,88,61],[83,62,88,63],[86,29,88,30],[77,58,82,59],[71,50,76,51],[77,50,82,51],[77,52,82,53],[83,24,88,28],[83,29,85,30],[83,36,88,40],[85,34,86,35],[85,41,86,42],[85,43,86,43],[83,46,88,47],[83,56,88,57],[83,58,88,59],[83,50,88,51],[96,24,97,57],[98,24,99,25],[98,26,99,26],[98,29,99,29],[98,32,99,32],[89,60,94,61],[89,50,94,51],[89,52,94,53],[89,54,94,55],[89,56,94,57],[93,36,94,37],[93,38,94,38],[93,39,94,40],[89,58,94,59],[89,24,94,28],[89,29,91,30],[89,41,94,45],[89,46,94,47],[89,31,90,35],[89,36,90,40],[93,34,94,35],[92,29,94,30],[93,31,94,32],[93,33,94,33]]}
[{"$f":"出場チーム!B1","v":"OFA 第 50 回大分県少年サッカー大会　兼　KYFA 九州U-12サッカー大会大分県大会"},null,null,null,null,null,null,null,null,"１次リーグ結果　報告用紙",null,null,{"$f":"出場チーム!B1","v":"OFA 第 50 回大分県少年サッカー大会　兼　KYFA 九州U-12サッカー大会大分県大会"},null,null,null,null,null,null,null,null,"１次リーグ結果　報告用紙",null,null,{"$f":"$A$1","v":"OFA 第 50 回大分県少年サッカー大会　兼　KYFA 九州U-12サッカー大会大分県大会"},null,null,null,null,null,null,null,null,null,null,null,null,null,null,null,null,null,null,null,null,null,null,null,null,null,null,null,null,null,null,null,null,null,null,null,{"$f":"$J$1","v":"１次リーグ結果　報告用紙"}]
["＜時間割＞　①10:00～　②11:00～　③12:00～　④13:00～　⑤14:00～　⑥15:00～",null,null,null,null,null,null,null,null,null,null,null,"＜時間割＞　①10:00～　②11:00～　③12:00～　④13:00～　⑤14:00～　⑥15:00～",null,null,null,null,null,null,null,null,null,null,null,"＜時間割＞　①10:00～　②11:00～　③12:00～　④13:00～　⑤14:00～　⑥15:00～"]
[]
["会場",{"$f":"組み合わせ!DH7","v":"佐伯"},"⇒",{"$f":"VLOOKUP(B4,出場チーム!$B$51:$F$59,2,FALSE)","v":"佐伯市総合運動公園多目的ｸﾞﾗｳﾝﾄﾞ(人工芝)"},null,null,null,null,null,null,null,null,"会場",{"$f":"組み合わせ!DH7","v":"佐伯"},"⇒",{"$f":"VLOOKUP(N4,出場チーム!$B$51:$F$59,2,FALSE)","v":"佐伯市総合運動公園多目的ｸﾞﾗｳﾝﾄﾞ(人工芝)"},null,null,null,null,null,null,null,null,"会場",null,null,{"$f":"$B$4","v":"佐伯"},null,null,null,null,null,"⇒",{"$f":"$D$4","v":"佐伯市総合運動公園多目的ｸﾞﾗｳﾝﾄﾞ(人工芝)"}]
[]
["パート",{"$f":"VLOOKUP(B4,組み合わせ!$AL$95:$BU$112,13,FALSE)","v":"C"},null,null,null,null,null,null,null,null,null,null,"パート",{"$f":"VLOOKUP(N4,組み合わせ!$AL$95:$BU$112,25,FALSE)","v":"K"},null,null,null,null,null,null,null,null,null,null,"パート",null,null,{"$f":"$B$6","v":"C"}]
[null,{"$f":"CONCATENATE($B$6,1)","v":"C1"},{"$f":"HLOOKUP(B7,組み合わせ!$B$48:$EO$86,2,FALSE)","v":"弥生少年サッカークラブ"},null,null,null,null,null,null,{"$f":"HLOOKUP(B7,組み合わせ!$B$48:$EO$86,32,FALSE)","v":"佐伯"},null,null,null,{"$f":"CONCATENATE($N$6,1)","v":"K1"},{"$f":"HLOOKUP(N7,組み合わせ!$B$48:$EO$86,2,FALSE)","v":"佐伯リベロフットボールクラブ"},null,null,null,null,null,null,{"$f":"HLOOKUP(N7,組み合わせ!$B$48:$EO$86,32,FALSE)","v":"佐伯"},null,null,null,{"$f":"+B7","v":"C1"},null,null,{"$f":"$C$7","v":"弥生少年サッカークラブ"},null,null,null,null,null,null,null,null,null,null,null,null,{"$f":"$J$7","v":"佐伯"}]
[null,{"$f":"CONCATENATE($B$6,2)","v":"C2"},{"$f":"HLOOKUP(B8,組み合わせ!$B$48:$EO$86,2,FALSE)","v":"滝尾下郡サッカースポーツ少年団"},null,null,null,null,null,null,{"$f":"HLOOKUP(B8,組み合わせ!$B$48:$EO$86,32,FALSE)","v":"大分"},null,null,null,{"$f":"CONCATENATE($N$6,2)","v":"K2"},{"$f":"HLOOKUP(N8,組み合わせ!$B$48:$EO$86,2,FALSE)","v":"ＦＣ　ＲＥＧＡＴＥ"},null,null,null,null,null,null,{"$f":"HLOOKUP(N8,組み合わせ!$B$48:$EO$86,32,FALSE)","v":"大分"},null,null,null,{"$f":"+B8","v":"C2"},null,null,{"$f":"$C$8","v":"滝尾下郡サッカースポーツ少年団"},null,null,null,null,null,null,null,null,null,null,null,null,{"$f":"$J$8","v":"大分"}]
[null,{"$f":"CONCATENATE($B$6,3)","v":"C3"},{"$f":"HLOOKUP(B9,組み合わせ!$B$48:$EO$86,2,FALSE)","v":"スマイス・セレソン"},null,null,null,null,null,null,{"$f":"HLOOKUP(B9,組み合わせ!$B$48:$EO$86,32,FALSE)","v":"別府"},null,null,null,{"$f":"CONCATENATE($N$6,3)","v":"K3"},{"$f":"HLOOKUP(N9,組み合わせ!$B$48:$EO$86,2,FALSE)","v":"ＭＳＳ"},null,null,null,null,null,null,{"$f":"HLOOKUP(N9,組み合わせ!$B$48:$EO$86,32,FALSE)","v":"大分"},null,null,null,{"$f":"+B9","v":"C3"},null,null,{"$f":"$C$9","v":"スマイス・セレソン"},null,null,null,null,null,null,null,null,null,null,null,null,{"$f":"$J$9","v":"別府"}]
["8：50～ＭＣＭ",null,null,null,null,null,null,null,null,null,null,null,"9：50～ＭＣＭ"]
[]
["①\n10:00～",{"$f":"C7","v":"弥生少年サッカークラブ"},{"$f":"IF(E12=\"\",\"\",SUM(E12:E13))","v":0},"（",0,"前半",0,"）",{"$f":"IF(G12=\"\",\"\",SUM(G12:G13))","v":2},{"$f":"C8","v":"滝尾下郡サッカースポーツ少年団"},null,null,"②\n11:00～",{"$f":"O7","v":"佐伯リベロフットボールクラブ"},{"$f":"IF(Q12=\"\",\"\",SUM(Q12:Q13))","v":0},"（",0,"前半",0,"）",{"$f":"IF(S12=\"\",\"\",SUM(S12:S13))","v":0},{"$f":"O8","v":"ＦＣ　ＲＥＧＡＴＥ"}]
[null,null,null,null,0,"後半",2,null,null,null,null,null,null,null,null,null,0,"後半",0]
[null,null,null,null,null,"PK",null,null,null,null,null,null,null,null,null,null,null,"PK"]
["MC","広瀬　光雄",null,null,null,null,"所属協会",null,null,"佐伯市サッカー協会",null,null,"MC","平川　孝幸",null,null,null,null,"所属協会",null,null,"佐伯市サッカー協会",null,null,{"$f":"$Y$6","v":"パート"},null,null,null,{"$f":"$AB$6","v":"C"},null,null,{"$f":"$Y$21","v":"弥生少年サッカークラブ"},null,null,null,null,{"$f":"$Y$27","v":"滝尾下郡サッカースポーツ少年団"},null,null,null,null,{"$f":"$Y$33","v":"スマイス・セレソン"},null,null,null,null,"勝",null,"PK\n勝",null,"PK\n負",null,"負",null,"得点",null,"失点",null,"勝点",null,"勝点\n順位",null,"得失\n点差",null,"得失\n順位",null,"総\n順位"]
["WelfareOfficer","広瀬　光雄",null,null,null,null,"所属協会",null,null,"佐伯市サッカー協会",null,null,"WelfareOfficer","平川　孝幸",null,null,null,null,"所属協会",null,null,"佐伯市サッカー協会"]
["記録","管　拓哉",null,null,null,null,"所属協会",null,null,"佐伯市サッカー協会",null,null,"記録","久保田　英樹",null,null,null,null,"所属協会",null,null,"佐伯市サッカー協会"]
["R:",{"$f":"IF(ISERROR(VLOOKUP(G18,審判員!$A:$C,2,FALSE))=TRUE,\"\",VLOOKUP(G18,審判員!$A:$C,2,FALSE))","v":"内山田　光史"},{"$f":"IF(ISERROR(VLOOKUP(G18,審判員!$A:$C,3,FALSE))=TRUE,\"\",VLOOKUP(G18,審判員!$A:$C,3,FALSE))","v":3},"級","資格番号",null,"R010093443",null,null,"本部",null,null,"R:",{"$f":"IF(ISERROR(VLOOKUP(S18,審判員!$A:$C,2,FALSE))=TRUE,\"\",VLOOKUP(S18,審判員!$A:$C,2,FALSE))","v":"安藤　洋樹"},{"$f":"IF(ISERROR(VLOOKUP(S18,審判員!$A:$C,3,FALSE))=TRUE,\"\",VLOOKUP(S18,審判員!$A:$C,3,FALSE))","v":3},"級","資格番号",null,"R001253548",null,null,"本部"]
["AR1:",{"$f":"IF(ISERROR(VLOOKUP(G19,審判員!$A:$C,2,FALSE))=TRUE,\"\",VLOOKUP(G19,審判員!$A:$C,2,FALSE))","v":"清家　大介"},{"$f":"IF(ISERROR(VLOOKUP(G19,審判員!$A:$C,3,FALSE))=TRUE,\"\",VLOOKUP(G19,審判員!$A:$C,3,FALSE))","v":3},"級","資格番号",null,"R010027823",null,null,{"$f":"N12","v":"佐伯リベロフットボールクラブ"},null,null,"AR1:",{"$f":"IF(ISERROR(VLOOKUP(S19,審判員!$A:$C,2,FALSE))=TRUE,\"\",VLOOKUP(S19,審判員!$A:$C,2,FALSE))","v":"五十川　文明"},{"$f":"IF(ISERROR(VLOOKUP(S19,審判員!$A:$C,3,FALSE))=TRUE,\"\",VLOOKUP(S19,審判員!$A:$C,3,FALSE))","v":3},"級","資格番号",null,"R003421338",null,null,{"$f":"B12","v":"弥生少年サッカークラブ"}]
["AR2:",{"$f":"IF(ISERROR(VLOOKUP(G20,審判員!$A:$C,2,FALSE))=TRUE,\"\",VLOOKUP(G20,審判員!$A:$C,2,FALSE))","v":"安藤　暢"},{"$f":"IF(ISERROR(VLOOKUP(G20,審判員!$A:$C,3,FALSE))=TRUE,\"\",VLOOKUP(G20,審判員!$A:$C,3,FALSE))","v":3},"級","資格番号",null,"R010013254",null,null,{"$f":"V12","v":"ＦＣ　ＲＥＧＡＴＥ"},null,null,"AR2:",{"$f":"IF(ISERROR(VLOOKUP(S20,審判員!$A:$C,2,FALSE))=TRUE,\"\",VLOOKUP(S20,審判員!$A:$C,2,FALSE))","v":"宮迫　利範"},{"$f":"IF(ISERROR(VLOOKUP(S20,審判員!$A:$C,3,FALSE))=TRUE,\"\",VLOOKUP(S20,審判員!$A:$C,3,FALSE))","v":3},"級","資格番号",null,"R001264687",null,null,{"$f":"J12","v":"滝尾下郡サッカースポーツ少年団"}]
["4th:",{"$f":"IF(ISERROR(VLOOKUP(G21,審判員!$A:$C,2,FALSE))=TRUE,\"\",VLOOKUP(G21,審判員!$A:$C,2,FALSE))","v":"白江　直樹"},{"$f":"IF(ISERROR(VLOOKUP(G21,審判員!$A:$C,3,FALSE))=TRUE,\"\",VLOOKUP(G21,審判員!$A:$C,3,FALSE))","v":3},"級","資格番号",null,"R009554780",null,null,"本部",null,null,"4th:",{"$f":"IF(ISERROR(VLOOKUP(S21,審判員!$A:$C,2,FALSE))=TRUE,\"\",VLOOKUP(S21,審判員!$A:$C,2,FALSE))","v":"安達　信也"},{"$f":"IF(ISERROR(VLOOKUP(S21,審判員!$A:$C,3,FALSE))=TRUE,\"\",VLOOKUP(S21,審判員!$A:$C,3,FALSE))","v":3},"級","資格番号",null,"R001253557",null,null,"本部",null,null,{"$f":"$AC$7","v":"弥生少年サッカークラブ"},null,null,null,null,"星取表",null,null,null,null,null,null,{"$f":"IF(AK25=\"\",\"\",IF(AK25>AN25,\"○\",IF(AK25<AN25,\"●\",IF(AK23>AN23,\"△\",IF(AK23<AN23,\"▲\")))))","v":"●"},null,null,null,null,{"$f":"IF(AP25=\"\",\"\",IF(AP25>AS25,\"○\",IF(AP25<AS25,\"●\",IF(AP23>AS23,\"△\",IF(AP23<AS23,\"▲\")))))","v":"●"},null,null,null,null,{"$f":"COUNTIF($AF$21:$AT$22,\"○\")","v":0},null,{"$f":"COUNTIF($AF$21:$AT$22,\"△\")","v":0},null,{"$f":"COUNTIF($AF$21:$AT$22,\"▲\")","v":0},null,{"$f":"COUNTIF($AF$21:$AT$22,\"●\")","v":2},null,{"$f":"SUM($AK$25,$AP$25)","v":0},null,{"$f":"SUM($AN$25,$AS$25)","v":12},null,{"$f":"($AU$21*3)+($AW$21*2)+($AY$21*1)","v":0},null,{"$f":"RANK($BG$21,$BG$21:$BH$38)","v":3},null,{"$f":"$BC$21-$BE$21","v":-12},null,{"$f":"RANK($BK$21,$BK$21:$BL$38)","v":3}]
["警告/退場","氏名","背番号","分","内容",null,"内容","分","背番号","氏名","警告/退場",null,"警告/退場","氏名","背番号","分","内容",null,"内容","分","背番号","氏名","警告/退場"]
[null,{"$f":"IF(ISERROR(VLOOKUP(CONCATENATE($B$12,\"_\",C23),選手名簿!$A:$E,5,FALSE))=TRUE,\"\",VLOOKUP(CONCATENATE($B$12,\"_\",C23),選手名簿!$A:$E,5,FALSE))","v":""},null,null,null,null,null,null,null,{"$f":"IF(ISERROR(VLOOKUP(CONCATENATE($J$12,\"_\",I23),選手名簿!$A:$E,5,FALSE))=TRUE,\"\",VLOOKUP(CONCATENATE($J$12,\"_\",I23),選手名簿!$A:$E,5,FALSE))","v":""},null,null,null,{"$f":"IF(ISERROR(VLOOKUP(CONCATENATE($N$12,\"_\",O23),選手名簿!$A:$E,5,FALSE))=TRUE,\"\",VLOOKUP(CONCATENATE($N$12,\"_\",O23),選手名簿!$A:$E,5,FALSE))","v":""},null,null,null,null,"反スポ",32,6,{"$f":"IF(ISERROR(VLOOKUP(CONCATENATE($V$12,\"_\",U23),選手名簿!$A:$E,5,FALSE))=TRUE,\"\",VLOOKUP(CONCATENATE($V$12,\"_\",U23),選手名簿!$A:$E,5,FALSE))","v":"斉藤　快吏"},"警告",null,null,null,null,null,null,null,null,null,null,null,null,null,{"$f":"IF($E$14=\"\",\"\",$E$14)","v":""},null,"―",{"$f":"IF($G$14=\"\",\"\",$G$14)","v":""},null,{"$f":"IF($G$50=\"\",\"\",$G$50)","v":""},null,"―",{"$f":"IF($E$50=\"\",\"\",$E$50)","v":""}]
[null,{"$f":"IF(ISERROR(VLOOKUP(CONCATENATE($B$12,\"_\",C24),選手名簿!$A:$E,5,FALSE))=TRUE,\"\",VLOOKUP(CONCATENATE($B$12,\"_\",C24),選手名簿!$A:$E,5,FALSE))","v":""},null,null,null,null,null,null,null,{"$f":"IF(ISERROR(VLOOKUP(CONCATENATE($J$12,\"_\",I24),選手名簿!$A:$E,5,FALSE))=TRUE,\"\",VLOOKUP(CONCATENATE($J$12,\"_\",I24),選手名簿!$A:$E,5,FALSE))","v":""},null,null,null,{"$f":"IF(ISERROR(VLOOKUP(CONCATENATE($N$12,\"_\",O24),選手名簿!$A:$E,5,FALSE))=TRUE,\"\",VLOOKUP(CONCATENATE($N$12,\"_\",O24),選手名簿!$A:$E,5,FALSE))","v":""},null,null,null,null,null,null,null,{"$f":"IF(ISERROR(VLOOKUP(CONCATENATE($V$12,\"_\",U24),選手名簿!$A:$E,5,FALSE))=TRUE,\"\",VLOOKUP(CONCATENATE($V$12,\"_\",U24),選手名簿!$A:$E,5,FALSE))","v":""},null,null,null,null,null,null,null,"得失点"]
[null,{"$f":"IF(ISERROR(VLOOKUP(CONCATENATE($B$12,\"_\",C25),選手名簿!$A:$E,5,FALSE))=TRUE,\"\",VLOOKUP(CONCATENATE($B$12,\"_\",C25),選手名簿!$A:$E,5,FALSE))","v":""},null,null,null,null,null,null,null,{"$f":"IF(ISERROR(VLOOKUP(CONCATENATE($J$12,\"_\",I25),選手名簿!$A:$E,5,FALSE))=TRUE,\"\",VLOOKUP(CONCATENATE($J$12,\"_\",I25),選手名簿!$A:$E,5,FALSE))","v":""},null,null,null,{"$f":"IF(ISERROR(VLOOKUP(CONCATENATE($N$12,\"_\",O25),選手名簿!$A:$E,5,FALSE))=TRUE,\"\",VLOOKUP(CONCATENATE($N$12,\"_\",O25),選手名簿!$A:$E,5,FALSE))","v":""},null,null,null,null,null,null,null,{"$f":"IF(ISERROR(VLOOKUP(CONCATENATE($V$12,\"_\",U25),選手名簿!$A:$E,5,FALSE))=TRUE,\"\",VLOOKUP(CONCATENATE($V$12,\"_\",U25),選手名簿!$A:$E,5,FALSE))","v":""},null,null,null,null,null,null,null,null,null,null,null,null,null,null,{"$f":"$C$12","v":0},null,"―",{"$f":"$I$12","v":2},null,{"$f":"$I$48","v":0},null,"―",{"$f":"$C$48","v":10}]
[null,{"$f":"IF(ISERROR(VLOOKUP(CONCATENATE($B$12,\"_\",C26),選手名簿!$A:$E,5,FALSE))=TRUE,\"\",VLOOKUP(CONCATENATE($B$12,\"_\",C26),選手名簿!$A:$E,5,FALSE))","v":""},null,null,null,null,null,null,null,{"$f":"IF(ISERROR(VLOOKUP(CONCATENATE($J$12,\"_\",I26),選手名簿!$A:$E,5,FALSE))=TRUE,\"\",VLOOKUP(CONCATENATE($J$12,\"_\",I26),選手名簿!$A:$E,5,FALSE))","v":""},null,null,null,{"$f":"IF(ISERROR(VLOOKUP(CONCATENATE($N$12,\"_\",O26),選手名簿!$A:$E,5,FALSE))=TRUE,\"\",VLOOKUP(CONCATENATE($N$12,\"_\",O26),選手名簿!$A:$E,5,FALSE))","v":""},null,null,null,null,null,null,null,{"$f":"IF(ISERROR(VLOOKUP(CONCATENATE($V$12,\"_\",U26),選手名簿!$A:$E,5,FALSE))=TRUE,\"\",VLOOKUP(CONCATENATE($V$12,\"_\",U26),選手名簿!$A:$E,5,FALSE))","v":""}]
[null,{"$f":"IF(ISERROR(VLOOKUP(CONCATENATE($B$12,\"_\",C27),選手名簿!$A:$E,5,FALSE))=TRUE,\"\",VLOOKUP(CONCATENATE($B$12,\"_\",C27),選手名簿!$A:$E,5,FALSE))","v":""},null,null,null,null,null,null,null,{"$f":"IF(ISERROR(VLOOKUP(CONCATENATE($J$12,\"_\",I27),選手名簿!$A:$E,5,FALSE))=TRUE,\"\",VLOOKUP(CONCATENATE($J$12,\"_\",I27),選手名簿!$A:$E,5,FALSE))","v":""},null,null,null,{"$f":"IF(ISERROR(VLOOKUP(CONCATENATE($N$12,\"_\",O27),選手名簿!$A:$E,5,FALSE))=TRUE,\"\",VLOOKUP(CONCATENATE($N$12,\"_\",O27),選手名簿!$A:$E,5,FALSE))","v":""},null,null,null,null,null,null,null,{"$f":"IF(ISERROR(VLOOKUP(CONCATENATE($V$12,\"_\",U27),選手名簿!$A:$E,5,FALSE))=TRUE,\"\",VLOOKUP(CONCATENATE($V$12,\"_\",U27),選手名簿!$A:$E,5,FALSE))","v":""},null,null,{"$f":"$AC$8","v":"滝尾下郡サッカースポーツ少年団"},null,null,null,null,"星取表",null,{"$f":"IF(AF31=\"\",\"\",IF(AF31>AI31,\"○\",IF(AF31<AI31,\"●\",IF(AF29>AI29,\"△\",IF(AF29<AI29,\"▲\")))))","v":"○"},null,null,null,null,null,null,null,null,null,{"$f":"IF(AP31=\"\",\"\",IF(AP31>AS31,\"○\",IF(AP31<AS31,\"●\",IF(AP29>AS29,\"△\",IF(AP29<AS29,\"▲\")))))","v":false},null,null,null,null,{"$f":"COUNTIF($AF$27:$AT$28,\"○\")","v":1},null,{"$f":"COUNTIF($AF$27:$AT$28,\"△\")","v":0},null,{"$f":"COUNTIF($AF$27:$AT$28,\"▲\")","v":0},null,{"$f":"COUNTIF($AF$27:$AT$28,\"●\")","v":0},null,{"$f":"SUM($AF$31,$AP$31)","v":4},null,{"$f":"SUM($AI$31,$AS$31)","v":2},null,{"$f":"($AU$27*3)+($AW$27*2)+($AY$27*1)","v":3},null,{"$f":"RANK($BG$27,$BG$21:$BH$38)","v":1},null,{"$f":"$BC$27-$BE$27","v":2},null,{"$f":"RANK($BK$27,$BK$21:$BL$38)","v":2}]
[]
[null,null,null,null,null,null,null,null,null,null,null,null,null,null,null,null,null,null,null,null,null,null,null,null,null,null,null,null,null,null,null,{"$f":"AN23","v":""},null,"―",{"$f":"AK23","v":""},null,null,null,null,null,null,{"$f":"IF($E$32=\"\",\"\",$E$32)","v":""},null,"―",{"$f":"IF($G$32=\"\",\"\",$G$32)","v":""}]
["③\n12:00～",{"$f":"C8","v":"滝尾下郡サッカースポーツ少年団"},{"$f":"IF(E30=\"\",\"\",SUM(E30:E31))","v":2},"（",1,"前半",0,"）",{"$f":"IF(G30=\"\",\"\",SUM(G30:G31))","v":2},{"$f":"C9","v":"スマイス・セレソン"},null,null,"④\n13:00～",{"$f":"O8","v":"ＦＣ　ＲＥＧＡＴＥ"},{"$f":"IF(Q30=\"\",\"\",SUM(Q30:Q31))","v":1},"（",0,"前半",2,"）",{"$f":"IF(S30=\"\",\"\",SUM(S30:S31))","v":4},{"$f":"O9","v":"ＭＳＳ"},null,null,null,null,null,null,null,"得失点"]
[null,null,null,null,1,"後半",2,null,null,null,null,null,null,null,null,null,1,"後半",2,null,null,null,null,null,null,null,null,null,null,null,null,{"$f":"AN25","v":2},null,"―",{"$f":"AK25","v":0},null,null,null,null,null,null,{"$f":"$C$30","v":2},null,"―",{"$f":"$I$30","v":2}]
[null,null,null,null,null,"PK",null,null,null,null,null,null,null,null,null,null,null,"PK"]
["MC","広瀬　光雄",null,null,null,null,"所属協会",null,null,"佐伯市サッカー協会",null,null,"MC","平川　孝幸",null,null,null,null,"所属協会",null,null,"佐伯市サッカー協会",null,null,{"$f":"$AC$9","v":"スマイス・セレソン"},null,null,null,null,"星取表",null,{"$f":"IF(AF37=\"\",\"\",IF(AF37>AI37,\"○\",IF(AF37<AI37,\"●\",IF(AF35>AI35,\"△\",IF(AF35<AI35,\"▲\")))))","v":"○"},null,null,null,null,{"$f":"IF(AK37=\"\",\"\",IF(AK37>AN37,\"○\",IF(AK37<AN37,\"●\",IF(AK35>AN35,\"△\",IF(AK35<AN35,\"▲\")))))","v":false},null,null,null,null,null,null,null,null,null,{"$f":"COUNTIF($AF$33:$AT$34,\"○\")","v":1},null,{"$f":"COUNTIF($AF$33:$AT$34,\"△\")","v":0},null,{"$f":"COUNTIF($AF$33:$AT$34,\"▲\")","v":0},null,{"$f":"COUNTIF($AF$33:$AT$34,\"●\")","v":0},null,{"$f":"SUM($AF$37,$AK$37)","v":12},null,{"$f":"SUM($AI$37,$AN$37)","v":2},null,{"$f":"($AU$33*3)+($AW$33*2)+($AY$33*1)","v":3},null,{"$f":"RANK($BG$33,$BG$21:$BH$38)","v":1},null,{"$f":"$BC$33-$BE$33","v":10},null,{"$f":"RANK($BK$33,$BK$21:$BL$38)","v":1}]
["WelfareOfficer","広瀬　光雄",null,null,null,null,"所属協会",null,null,"佐伯市サッカー協会",null,null,"WelfareOfficer","平川　孝幸",null,null,null,null,"所属協会",null,null,"佐伯市サッカー協会"]
["記録","管　拓哉",null,null,null,null,"所属協会",null,null,"佐伯市サッカー協会",null,null,"記録","久保田　英樹",null,null,null,null,"所属協会",null,null,"佐伯市サッカー協会",null,null,null,null,null,null,null,null,null,{"$f":"AS23","v":""},null,"―",{"$f":"AP23","v":""},null,{"$f":"AS29","v":""},null,"―",{"$f":"AP29","v":""}]
["R:",{"$f":"IF(ISERROR(VLOOKUP(G36,審判員!$A:$C,2,FALSE))=TRUE,\"\",VLOOKUP(G36,審判員!$A:$C,2,FALSE))","v":"白江　直樹"},{"$f":"IF(ISERROR(VLOOKUP(G36,審判員!$A:$C,3,FALSE))=TRUE,\"\",VLOOKUP(G36,審判員!$A:$C,3,FALSE))","v":3},"級","資格番号",null,"R009554780",null,null,"本部",null,null,"R:",{"$f":"IF(ISERROR(VLOOKUP(S36,審判員!$A:$C,2,FALSE))=TRUE,\"\",VLOOKUP(S36,審判員!$A:$C,2,FALSE))","v":"安藤　洋樹"},{"$f":"IF(ISERROR(VLOOKUP(S36,審判員!$A:$C,3,FALSE))=TRUE,\"\",VLOOKUP(S36,審判員!$A:$C,3,FALSE))","v":3},"級","資格番号",null,"R001253548",null,null,"本部",null,null,null,null,null,null,null,"得失点"]
["AR1:",{"$f":"IF(ISERROR(VLOOKUP(G37,審判員!$A:$C,2,FALSE))=TRUE,\"\",VLOOKUP(G37,審判員!$A:$C,2,FALSE))","v":"安藤　暢"},{"$f":"IF(ISERROR(VLOOKUP(G37,審判員!$A:$C,3,FALSE))=TRUE,\"\",VLOOKUP(G37,審判員!$A:$C,3,FALSE))","v":3},"級","資格番号",null,"R010013254",null,null,{"$f":"N30","v":"ＦＣ　ＲＥＧＡＴＥ"},null,null,"AR1:",{"$f":"IF(ISERROR(VLOOKUP(S37,審判員!$A:$C,2,FALSE))=TRUE,\"\",VLOOKUP(S37,審判員!$A:$C,2,FALSE))","v":"宮迫　利範"},{"$f":"IF(ISERROR(VLOOKUP(S37,審判員!$A:$C,3,FALSE))=TRUE,\"\",VLOOKUP(S37,審判員!$A:$C,3,FALSE))","v":3},"級","資格番号",null,"R001264687",null,null,{"$f":"B30","v":"滝尾下郡サッカースポーツ少年団"},null,null,null,null,null,null,null,null,null,{"$f":"AS25","v":10},null,"―",{"$f":"AP25","v":0},null,{"$f":"AS31","v":2},null,"―",{"$f":"AP31","v":2}]
["AR2:",{"$f":"IF(ISERROR(VLOOKUP(G38,審判員!$A:$C,2,FALSE))=TRUE,\"\",VLOOKUP(G38,審判員!$A:$C,2,FALSE))","v":"深堀　祥司"},{"$f":"IF(ISERROR(VLOOKUP(G38,審判員!$A:$C,3,FALSE))=TRUE,\"\",VLOOKUP(G38,審判員!$A:$C,3,FALSE))","v":3},"級","資格番号",null,"R009197691",null,null,{"$f":"V30","v":"ＭＳＳ"},null,null,"AR2:",{"$f":"IF(ISERROR(VLOOKUP(S38,審判員!$A:$C,2,FALSE))=TRUE,\"\",VLOOKUP(S38,審判員!$A:$C,2,FALSE))","v":"信田　卓也"},{"$f":"IF(ISERROR(VLOOKUP(S38,審判員!$A:$C,3,FALSE))=TRUE,\"\",VLOOKUP(S38,審判員!$A:$C,3,FALSE))","v":3},"級","資格番号",null,"R004326535",null,null,{"$f":"J30","v":"スマイス・セレソン"}]
["4th:",{"$f":"IF(ISERROR(VLOOKUP(G39,審判員!$A:$C,2,FALSE))=TRUE,\"\",VLOOKUP(G39,審判員!$A:$C,2,FALSE))","v":"内山田　光史"},{"$f":"IF(ISERROR(VLOOKUP(G39,審判員!$A:$C,3,FALSE))=TRUE,\"\",VLOOKUP(G39,審判員!$A:$C,3,FALSE))","v":3},"級","資格番号",null,"R010093443",null,null,"本部",null,null,"4th:",{"$f":"IF(ISERROR(VLOOKUP(S39,審判員!$A:$C,2,FALSE))=TRUE,\"\",VLOOKUP(S39,審判員!$A:$C,2,FALSE))","v":"大谷　伸二"},{"$f":"IF(ISERROR(VLOOKUP(S39,審判員!$A:$C,3,FALSE))=TRUE,\"\",VLOOKUP(S39,審判員!$A:$C,3,FALSE))","v":3},"級","資格番号",null,"R006093738",null,null,"本部"]
["警告/退場","氏名","背番号","分","内容",null,"内容","分","背番号","氏名","警告/退場",null,"警告/退場","氏名","背番号","分","内容",null,"内容","分","背番号","氏名","警告/退場",null,"Ⅰ勝点（勝３点　ＰＫ勝２点　ＰＫ負１点　負０点）　Ⅱ当該チームの戦績　Ⅲ得失点差　Ⅳ多得点　Ⅴ抽選の順で順位を決定する。"]
[null,{"$f":"IF(ISERROR(VLOOKUP(CONCATENATE($B$30,\"_\",C41),選手名簿!$A:$E,5,FALSE))=TRUE,\"\",VLOOKUP(CONCATENATE($B$30,\"_\",C41),選手名簿!$A:$E,5,FALSE))","v":""},null,null,null,null,null,null,null,{"$f":"IF(ISERROR(VLOOKUP(CONCATENATE($J$30,\"_\",I41),選手名簿!$A:$E,5,FALSE))=TRUE,\"\",VLOOKUP(CONCATENATE($J$30,\"_\",I41),選手名簿!$A:$E,5,FALSE))","v":""},null,null,null,{"$f":"IF(ISERROR(VLOOKUP(CONCATENATE($N$30,\"_\",O41),選手名簿!$A:$E,5,FALSE))=TRUE,\"\",VLOOKUP(CONCATENATE($N$30,\"_\",O41),選手名簿!$A:$E,5,FALSE))","v":""},null,null,null,null,null,null,null,{"$f":"IF(ISERROR(VLOOKUP(CONCATENATE($V$30,\"_\",U41),選手名簿!$A:$E,5,FALSE))=TRUE,\"\",VLOOKUP(CONCATENATE($V$30,\"_\",U41),選手名簿!$A:$E,5,FALSE))","v":""}]
[null,{"$f":"IF(ISERROR(VLOOKUP(CONCATENATE($B$30,\"_\",C42),選手名簿!$A:$E,5,FALSE))=TRUE,\"\",VLOOKUP(CONCATENATE($B$30,\"_\",C42),選手名簿!$A:$E,5,FALSE))","v":""},null,null,null,null,null,null,null,{"$f":"IF(ISERROR(VLOOKUP(CONCATENATE($J$30,\"_\",I42),選手名簿!$A:$E,5,FALSE))=TRUE,\"\",VLOOKUP(CONCATENATE($J$30,\"_\",I42),選手名簿!$A:$E,5,FALSE))","v":""},null,null,null,{"$f":"IF(ISERROR(VLOOKUP(CONCATENATE($N$30,\"_\",O42),選手名簿!$A:$E,5,FALSE))=TRUE,\"\",VLOOKUP(CONCATENATE($N$30,\"_\",O42),選手名簿!$A:$E,5,FALSE))","v":""},null,null,null,null,null,null,null,{"$f":"IF(ISERROR(VLOOKUP(CONCATENATE($V$30,\"_\",U42),選手名簿!$A:$E,5,FALSE))=TRUE,\"\",VLOOKUP(CONCATENATE($V$30,\"_\",U42),選手名簿!$A:$E,5,FALSE))","v":""},null,null,"勝点表",null,"勝","○",null,"PK\n勝","△",null,"PK\n負","▲",null,"負","●"]
[null,{"$f":"IF(ISERROR(VLOOKUP(CONCATENATE($B$30,\"_\",C43),選手名簿!$A:$E,5,FALSE))=TRUE,\"\",VLOOKUP(CONCATENATE($B$30,\"_\",C43),選手名簿!$A:$E,5,FALSE))","v":""},null,null,null,null,null,null,null,{"$f":"IF(ISERROR(VLOOKUP(CONCATENATE($J$30,\"_\",I43),選手名簿!$A:$E,5,FALSE))=TRUE,\"\",VLOOKUP(CONCATENATE($J$30,\"_\",I43),選手名簿!$A:$E,5,FALSE))","v":""},null,null,null,{"$f":"IF(ISERROR(VLOOKUP(CONCATENATE($N$30,\"_\",O43),選手名簿!$A:$E,5,FALSE))=TRUE,\"\",VLOOKUP(CONCATENATE($N$30,\"_\",O43),選手名簿!$A:$E,5,FALSE))","v":""},null,null,null,null,null,null,null,{"$f":"IF(ISERROR(VLOOKUP(CONCATENATE($V$30,\"_\",U43),選手名簿!$A:$E,5,FALSE))=TRUE,\"\",VLOOKUP(CONCATENATE($V$30,\"_\",U43),選手名簿!$A:$E,5,FALSE))","v":""},null,null,null,null,null,3,null,null,2,null,null,1,null,null,0]
[null,{"$f":"IF(ISERROR(VLOOKUP(CONCATENATE($B$30,\"_\",C44),選手名簿!$A:$E,5,FALSE))=TRUE,\"\",VLOOKUP(CONCATENATE($B$30,\"_\",C44),選手名簿!$A:$E,5,FALSE))","v":""},null,null,null,null,null,null,null,{"$f":"IF(ISERROR(VLOOKUP(CONCATENATE($J$30,\"_\",I44),選手名簿!$A:$E,5,FALSE))=TRUE,\"\",VLOOKUP(CONCATENATE($J$30,\"_\",I44),選手名簿!$A:$E,5,FALSE))","v":""},null,null,null,{"$f":"IF(ISERROR(VLOOKUP(CONCATENATE($N$30,\"_\",O44),選手名簿!$A:$E,5,FALSE))=TRUE,\"\",VLOOKUP(CONCATENATE($N$30,\"_\",O44),選手名簿!$A:$E,5,FALSE))","v":""},null,null,null,null,null,null,null,{"$f":"IF(ISERROR(VLOOKUP(CONCATENATE($V$30,\"_\",U44),選手名簿!$A:$E,5,FALSE))=TRUE,\"\",VLOOKUP(CONCATENATE($V$30,\"_\",U44),選手名簿!$A:$E,5,FALSE))","v":""}]
[null,{"$f":"IF(ISERROR(VLOOKUP(CONCATENATE($B$30,\"_\",C45),選手名簿!$A:$E,5,FALSE))=TRUE,\"\",VLOOKUP(CONCATENATE($B$30,\"_\",C45),選手名簿!$A:$E,5,FALSE))","v":""},null,null,null,null,null,null,null,{"$f":"IF(ISERROR(VLOOKUP(CONCATENATE($J$30,\"_\",I45),選手名簿!$A:$E,5,FALSE))=TRUE,\"\",VLOOKUP(CONCATENATE($J$30,\"_\",I45),選手名簿!$A:$E,5,FALSE))","v":""},null,null,null,{"$f":"IF(ISERROR(VLOOKUP(CONCATENATE($N$30,\"_\",O45),選手名簿!$A:$E,5,FALSE))=TRUE,\"\",VLOOKUP(CONCATENATE($N$30,\"_\",O45),選手名簿!$A:$E,5,FALSE))","v":""},null,null,null,null,null,null,null,{"$f":"IF(ISERROR(VLOOKUP(CONCATENATE($V$30,\"_\",U45),選手名簿!$A:$E,5,FALSE))=TRUE,\"\",VLOOKUP(CONCATENATE($V$30,\"_\",U45),選手名簿!$A:$E,5,FALSE))","v":""}]
[]
[]
["⑤\n14:00～",{"$f":"C9","v":"スマイス・セレソン"},{"$f":"IF(E48=\"\",\"\",SUM(E48:E49))","v":10},"（",5,"前半",0,"）",{"$f":"IF(G48=\"\",\"\",SUM(G48:G49))","v":0},{"$f":"C7","v":"弥生少年サッカークラブ"},null,null,"⑥\n15:00～",{"$f":"O9","v":"ＭＳＳ"},{"$f":"IF(Q48=\"\",\"\",SUM(Q48:Q49))","v":2},"（",1,"前半",0,"）",{"$f":"IF(S48=\"\",\"\",SUM(S48:S49))","v":2},{"$f":"O7","v":"佐伯リベロフットボールクラブ"},null,null,{"$f":"$Y$1","v":"OFA 第 50 回大分県少年サッカー大会　兼　KYFA 九州U-12サッカー大会大分県大会"},null,null,null,null,null,null,null,null,null,null,null,null,null,null,null,null,null,null,null,null,null,null,null,null,null,null,null,null,null,null,null,null,null,null,null,{"$f":"$BI$1","v":"１次リーグ結果　報告用紙"}]
[null,null,null,null,5,"後半",0,null,null,null,null,null,null,null,null,null,1,"後半",2]
[null,null,null,null,null,"PK",null,null,null,null,null,null,null,null,null,null,null,"PK",null,null,null,null,null,null,"＜時間割＞　①10:00～　②11:00～　③12:00～　④13:00～　⑤14:00～　⑥15:00～"]
["MC","広瀬　光雄",null,null,null,null,"所属協会",null,null,"佐伯市サッカー協会",null,null,"MC","平川　孝幸",null,null,null,null,"所属協会",null,null,"佐伯市サッカー協会"]
["WelfareOfficer","広瀬　光雄",null,null,null,null,"所属協会",null,null,"佐伯市サッカー協会",null,null,"WelfareOfficer","平川　孝幸",null,null,null,null,"所属協会",null,null,"佐伯市サッカー協会"]
["記録","管　拓哉",null,null,null,null,"所属協会",null,null,"佐伯市サッカー協会",null,null,"記録","久保田　英樹",null,null,null,null,"所属協会",null,null,"佐伯市サッカー協会"]
["R:",{"$f":"IF(ISERROR(VLOOKUP(G54,審判員!$A:$C,2,FALSE))=TRUE,\"\",VLOOKUP(G54,審判員!$A:$C,2,FALSE))","v":"内山田　光史"},{"$f":"IF(ISERROR(VLOOKUP(G54,審判員!$A:$C,3,FALSE))=TRUE,\"\",VLOOKUP(G54,審判員!$A:$C,3,FALSE))","v":3},"級","資格番号",null,"R010093443",null,null,"本部",null,null,"R:",{"$f":"IF(ISERROR(VLOOKUP(S54,審判員!$A:$C,2,FALSE))=TRUE,\"\",VLOOKUP(S54,審判員!$A:$C,2,FALSE))","v":"白江　直樹"},{"$f":"IF(ISERROR(VLOOKUP(S54,審判員!$A:$C,3,FALSE))=TRUE,\"\",VLOOKUP(S54,審判員!$A:$C,3,FALSE))","v":3},"級","資格番号",null,"R009554780",null,null,"本部",null,null,"会場",null,null,{"$f":"$N$4","v":"佐伯"},null,null,null,null,null,"⇒",{"$f":"$P$4","v":"佐伯市総合運動公園多目的ｸﾞﾗｳﾝﾄﾞ(人工芝)"}]
["AR1:",{"$f":"IF(ISERROR(VLOOKUP(G55,審判員!$A:$C,2,FALSE))=TRUE,\"\",VLOOKUP(G55,審判員!$A:$C,2,FALSE))","v":"深堀　祥司"},{"$f":"IF(ISERROR(VLOOKUP(G55,審判員!$A:$C,3,FALSE))=TRUE,\"\",VLOOKUP(G55,審判員!$A:$C,3,FALSE))","v":3},"級","資格番号",null,"R009197691",null,null,{"$f":"N48","v":"ＭＳＳ"},null,null,"AR1:",{"$f":"IF(ISERROR(VLOOKUP(S55,審判員!$A:$C,2,FALSE))=TRUE,\"\",VLOOKUP(S55,審判員!$A:$C,2,FALSE))","v":"信田　卓也"},{"$f":"IF(ISERROR(VLOOKUP(S55,審判員!$A:$C,3,FALSE))=TRUE,\"\",VLOOKUP(S55,審判員!$A:$C,3,FALSE))","v":3},"級","資格番号",null,"R004326535",null,null,{"$f":"B48","v":"スマイス・セレソン"}]
["AR2:",{"$f":"IF(ISERROR(VLOOKUP(G56,審判員!$A:$C,2,FALSE))=TRUE,\"\",VLOOKUP(G56,審判員!$A:$C,2,FALSE))","v":"清家　大介"},{"$f":"IF(ISERROR(VLOOKUP(G56,審判員!$A:$C,3,FALSE))=TRUE,\"\",VLOOKUP(G56,審判員!$A:$C,3,FALSE))","v":3},"級","資格番号",null,"R010027823",null,null,{"$f":"V48","v":"佐伯リベロフットボールクラブ"},null,null,"AR2:",{"$f":"IF(ISERROR(VLOOKUP(S56,審判員!$A:$C,2,FALSE))=TRUE,\"\",VLOOKUP(S56,審判員!$A:$C,2,FALSE))","v":"五十川　文明"},{"$f":"IF(ISERROR(VLOOKUP(S56,審判員!$A:$C,3,FALSE))=TRUE,\"\",VLOOKUP(S56,審判員!$A:$C,3,FALSE))","v":3},"級","資格番号",null,"R003421338",null,null,{"$f":"J48","v":"弥生少年サッカークラブ"}]
["4th:",{"$f":"IF(ISERROR(VLOOKUP(G57,審判員!$A:$C,2,FALSE))=TRUE,\"\",VLOOKUP(G57,審判員!$A:$C,2,FALSE))","v":"白江　直樹"},{"$f":"IF(ISERROR(VLOOKUP(G57,審判員!$A:$C,3,FALSE))=TRUE,\"\",VLOOKUP(G57,審判員!$A:$C,3,FALSE))","v":3},"級","資格番号",null,"R009554780",null,null,"本部",null,null,"4th:",{"$f":"IF(ISERROR(VLOOKUP(S57,審判員!$A:$C,2,FALSE))=TRUE,\"\",VLOOKUP(S57,審判員!$A:$C,2,FALSE))","v":"大谷　伸二"},{"$f":"IF(ISERROR(VLOOKUP(S57,審判員!$A:$C,3,FALSE))=TRUE,\"\",VLOOKUP(S57,審判員!$A:$C,3,FALSE))","v":3},"級","資格番号",null,"R006093738",null,null,"本部"]
["警告/退場","氏名","背番号","分","内容",null,"内容","分","背番号","氏名","警告/退場",null,"警告/退場","氏名","背番号","分","内容",null,"内容","分","背番号","氏名","警告/退場",null,"パート",null,null,{"$f":"$N$6","v":"K"}]
[null,{"$f":"IF(ISERROR(VLOOKUP(CONCATENATE($B$48,\"_\",C59),選手名簿!$A:$E,5,FALSE))=TRUE,\"\",VLOOKUP(CONCATENATE($B$48,\"_\",C59),選手名簿!$A:$E,5,FALSE))","v":""},null,null,null,null,null,null,null,{"$f":"IF(ISERROR(VLOOKUP(CONCATENATE($J$48,\"_\",I59),選手名簿!$A:$E,5,FALSE))=TRUE,\"\",VLOOKUP(CONCATENATE($J$48,\"_\",I59),選手名簿!$A:$E,5,FALSE))","v":""},null,null,"警告",{"$f":"IF(ISERROR(VLOOKUP(CONCATENATE($N$48,\"_\",O59),選手名簿!$A:$E,5,FALSE))=TRUE,\"\",VLOOKUP(CONCATENATE($N$48,\"_\",O59),選手名簿!$A:$E,5,FALSE))","v":"藤内　勇一朗"},2,37,"遅延",null,null,null,null,{"$f":"IF(ISERROR(VLOOKUP(CONCATENATE($V$48,\"_\",U59),選手名簿!$A:$E,5,FALSE))=TRUE,\"\",VLOOKUP(CONCATENATE($V$48,\"_\",U59),選手名簿!$A:$E,5,FALSE))","v":""}]
[null,{"$f":"IF(ISERROR(VLOOKUP(CONCATENATE($B$48,\"_\",C60),選手名簿!$A:$E,5,FALSE))=TRUE,\"\",VLOOKUP(CONCATENATE($B$48,\"_\",C60),選手名簿!$A:$E,5,FALSE))","v":""},null,null,null,null,null,null,null,{"$f":"IF(ISERROR(VLOOKUP(CONCATENATE($J$48,\"_\",I60),選手名簿!$A:$E,5,FALSE))=TRUE,\"\",VLOOKUP(CONCATENATE($J$48,\"_\",I60),選手名簿!$A:$E,5,FALSE))","v":""},null,null,null,{"$f":"IF(ISERROR(VLOOKUP(CONCATENATE($N$48,\"_\",O60),選手名簿!$A:$E,5,FALSE))=TRUE,\"\",VLOOKUP(CONCATENATE($N$48,\"_\",O60),選手名簿!$A:$E,5,FALSE))","v":""},null,null,null,null,null,null,null,{"$f":"IF(ISERROR(VLOOKUP(CONCATENATE($V$48,\"_\",U60),選手名簿!$A:$E,5,FALSE))=TRUE,\"\",VLOOKUP(CONCATENATE($V$48,\"_\",U60),選手名簿!$A:$E,5,FALSE))","v":""},null,null,null,{"$f":"$N$7","v":"K1"},null,null,{"$f":"$O$7","v":"佐伯リベロフットボールクラブ"},null,null,null,null,null,null,null,null,null,null,null,null,{"$f":"$V$7","v":"佐伯"}]
[null,{"$f":"IF(ISERROR(VLOOKUP(CONCATENATE($B$48,\"_\",C61),選手名簿!$A:$E,5,FALSE))=TRUE,\"\",VLOOKUP(CONCATENATE($B$48,\"_\",C61),選手名簿!$A:$E,5,FALSE))","v":""},null,null,null,null,null,null,null,{"$f":"IF(ISERROR(VLOOKUP(CONCATENATE($J$48,\"_\",I61),選手名簿!$A:$E,5,FALSE))=TRUE,\"\",VLOOKUP(CONCATENATE($J$48,\"_\",I61),選手名簿!$A:$E,5,FALSE))","v":""},null,null,null,{"$f":"IF(ISERROR(VLOOKUP(CONCATENATE($N$48,\"_\",O61),選手名簿!$A:$E,5,FALSE))=TRUE,\"\",VLOOKUP(CONCATENATE($N$48,\"_\",O61),選手名簿!$A:$E,5,FALSE))","v":""},null,null,null,null,null,null,null,{"$f":"IF(ISERROR(VLOOKUP(CONCATENATE($V$48,\"_\",U61),選手名簿!$A:$E,5,FALSE))=TRUE,\"\",VLOOKUP(CONCATENATE($V$48,\"_\",U61),選手名簿!$A:$E,5,FALSE))","v":""}]
[null,{"$f":"IF(ISERROR(VLOOKUP(CONCATENATE($B$48,\"_\",C62),選手名簿!$A:$E,5,FALSE))=TRUE,\"\",VLOOKUP(CONCATENATE($B$48,\"_\",C62),選手名簿!$A:$E,5,FALSE))","v":""},null,null,null,null,null,null,null,{"$f":"IF(ISERROR(VLOOKUP(CONCATENATE($J$48,\"_\",I62),選手名簿!$A:$E,5,FALSE))=TRUE,\"\",VLOOKUP(CONCATENATE($J$48,\"_\",I62),選手名簿!$A:$E,5,FALSE))","v":""},null,null,null,{"$f":"IF(ISERROR(VLOOKUP(CONCATENATE($N$48,\"_\",O62),選手名簿!$A:$E,5,FALSE))=TRUE,\"\",VLOOKUP(CONCATENATE($N$48,\"_\",O62),選手名簿!$A:$E,5,FALSE))","v":""},null,null,null,null,null,null,null,{"$f":"IF(ISERROR(VLOOKUP(CONCATENATE($V$48,\"_\",U62),選手名簿!$A:$E,5,FALSE))=TRUE,\"\",VLOOKUP(CONCATENATE($V$48,\"_\",U62),選手名簿!$A:$E,5,FALSE))","v":""},null,null,null,{"$f":"$N$8","v":"K2"},null,null,{"$f":"$O$8","v":"ＦＣ　ＲＥＧＡＴＥ"},null,null,null,null,null,null,null,null,null,null,null,null,{"$f":"$V$8","v":"大分"}]
[null,{"$f":"IF(ISERROR(VLOOKUP(CONCATENATE($B$48,\"_\",C63),選手名簿!$A:$E,5,FALSE))=TRUE,\"\",VLOOKUP(CONCATENATE($B$48,\"_\",C63),選手名簿!$A:$E,5,FALSE))","v":""},null,null,null,null,null,null,null,{"$f":"IF(ISERROR(VLOOKUP(CONCATENATE($J$48,\"_\",I63),選手名簿!$A:$E,5,FALSE))=TRUE,\"\",VLOOKUP(CONCATENATE($J$48,\"_\",I63),選手名簿!$A:$E,5,FALSE))","v":""},null,null,null,{"$f":"IF(ISERROR(VLOOKUP(CONCATENATE($N$48,\"_\",O63),選手名簿!$A:$E,5,FALSE))=TRUE,\"\",VLOOKUP(CONCATENATE($N$48,\"_\",O63),選手名簿!$A:$E,5,FALSE))","v":""},null,null,null,null,null,null,null,{"$f":"IF(ISERROR(VLOOKUP(CONCATENATE($V$48,\"_\",U63),選手名簿!$A:$E,5,FALSE))=TRUE,\"\",VLOOKUP(CONCATENATE($V$48,\"_\",U63),選手名簿!$A:$E,5,FALSE))","v":""}]
[null,null,null,null,null,null,null,null,null,null,null,null,null,null,null,null,null,null,null,null,null,null,null,null,null,{"$f":"$N$9","v":"K3"},null,null,{"$f":"$O$9","v":"ＭＳＳ"},null,null,null,null,null,null,null,null,null,null,null,null,{"$f":"$V$9","v":"大分"}]
[]
[]
[]
[]
[]
[]
[]
[null,null,null,null,null,null,null,null,null,null,null,null,null,null,null,null,null,null,null,null,null,null,null,null,{"$f":"$Y$6","v":"パート"},null,null,null,{"$f":"$AB$58","v":"K"},null,null,{"$f":"$Y$78","v":"佐伯リベロフットボールクラブ"},null,null,null,null,{"$f":"$Y$84","v":"ＦＣ　ＲＥＧＡＴＥ"},null,null,null,null,{"$f":"$Y$90","v":"ＭＳＳ"},null,null,null,null,"勝",null,"PK\n勝",null,"PK\n負",null,"負",null,"得点",null,"失点",null,"勝点",null,"勝点\n順位",null,"得失\n点差",null,"得失\n順位",null,"総\n順位"]
[]
[]
[]
[]
[]
[null,null,null,null,null,null,null,null,null,null,null,null,null,null,null,null,null,null,null,null,null,null,null,null,{"$f":"$AC$60","v":"佐伯リベロフットボールクラブ"},null,null,null,null,"星取表",null,null,null,null,null,null,{"$f":"IF(AK82=\"\",\"\",IF(AK82>AN82,\"○\",IF(AK82<AN82,\"●\",IF(AK80>AN80,\"△\",IF(AK80<AN80,\"▲\")))))","v":false},null,null,null,null,{"$f":"IF(AP82=\"\",\"\",IF(AP82>AS82,\"○\",IF(AP82<AS82,\"●\",IF(AP80>AS80,\"△\",IF(AP80<AS80,\"▲\")))))","v":false},null,null,null,null,{"$f":"COUNTIF($AF$78:$AT$79,\"○\")","v":0},null,{"$f":"COUNTIF($AF$78:$AT$79,\"△\")","v":0},null,{"$f":"COUNTIF($AF$78:$AT$79,\"▲\")","v":0},null,{"$f":"COUNTIF($AF$78:$AT$79,\"●\")","v":0},null,{"$f":"SUM($AK$82,$AP$82)","v":2},null,{"$f":"SUM($AN$82,$AS$82)","v":2},null,{"$f":"($AU$78*3)+($AW$78*2)+($AY$78*1)","v":0},null,{"$f":"RANK($BG$78,$BG$78:$BH$95)","v":2},null,{"$f":"$BC$78-$BE$78","v":0},null,{"$f":"RANK($BK$78,$BK$78:$BL$95)","v":2}]
[]
[null,null,null,null,null,null,null,null,null,null,null,null,null,null,null,null,null,null,null,null,null,null,null,null,null,null,null,null,null,null,null,null,null,null,null,null,{"$f":"IF($Q$14=\"\",\"\",$Q$14)","v":""},null,"―",{"$f":"IF($S$14=\"\",\"\",$S$14)","v":""},null,{"$f":"IF($S$50=\"\",\"\",$S$50)","v":""},null,"―",{"$f":"IF($Q$50=\"\",\"\",$Q$50)","v":""}]
[null,null,null,null,null,null,null,null,null,null,null,null,null,null,null,null,null,null,null,null,null,null,null,null,null,null,null,null,null,"得失点"]
[null,null,null,null,null,null,null,null,null,null,null,null,null,null,null,null,null,null,null,null,null,null,null,null,null,null,null,null,null,null,null,null,null,null,null,null,{"$f":"$O$12","v":0},null,"―",{"$f":"$U$12","v":0},null,{"$f":"$U$48","v":2},null,"―",{"$f":"$O$48","v":2}]
[]
[null,null,null,null,null,null,null,null,null,null,null,null,null,null,null,null,null,null,null,null,null,null,null,null,{"$f":"$AC$62","v":"ＦＣ　ＲＥＧＡＴＥ"},null,null,null,null,"星取表",null,{"$f":"IF(AF88=\"\",\"\",IF(AF88>AI88,\"○\",IF(AF88<AI88,\"●\",IF(AF86>AI86,\"△\",IF(AF86<AI86,\"▲\")))))","v":false},null,null,null,null,null,null,null,null,null,{"$f":"IF(AP88=\"\",\"\",IF(AP88>AS88,\"○\",IF(AP88<AS88,\"●\",IF(AP86>AS86,\"△\",IF(AP86<AS86,\"▲\")))))","v":"●"},null,null,null,null,{"$f":"COUNTIF($AF$84:$AT$85,\"○\")","v":0},null,{"$f":"COUNTIF($AF$84:$AT$85,\"△\")","v":0},null,{"$f":"COUNTIF($AF$84:$AT$85,\"▲\")","v":0},null,{"$f":"COUNTIF($AF$84:$AT$85,\"●\")","v":1},null,{"$f":"SUM($AF$88,$AP$88)","v":1},null,{"$f":"SUM($AI$88,$AS$88)","v":4},null,{"$f":"($AU$84*3)+($AW$84*2)+($AY$84*1)","v":0},null,{"$f":"RANK($BG$84,$BG$78:$BH$95)","v":2},null,{"$f":"$BC$84-$BE$84","v":-3},null,{"$f":"RANK($BK$84,$BK$78:$BL$95)","v":3}]
[]
[null,null,null,null,null,null,null,null,null,null,null,null,null,null,null,null,null,null,null,null,null,null,null,null,null,null,null,null,null,null,null,{"$f":"AN80","v":""},null,"―",{"$f":"AK80","v":""},null,null,null,null,null,null,{"$f":"IF($Q$32=\"\",\"\",$Q$32)","v":""},null,"―",{"$f":"IF($S$32=\"\",\"\",$S$32)","v":""}]
[null,null,null,null,null,null,null,null,null,null,null,null,null,null,null,null,null,null,null,null,null,null,null,null,null,null,null,null,null,"得失点"]
[null,null,null,null,null,null,null,null,null,null,null,null,null,null,null,null,null,null,null,null,null,null,null,null,null,null,null,null,null,null,null,{"$f":"AN82","v":0},null,"―",{"$f":"AK82","v":0},null,null,null,null,null,null,{"$f":"$O$30","v":1},null,"―",{"$f":"$U$30","v":4}]
[]
[null,null,null,null,null,null,null,null,null,null,null,null,null,null,null,null,null,null,null,null,null,null,null,null,{"$f":"$AC$64","v":"ＭＳＳ"},null,null,null,null,"星取表",null,{"$f":"IF(AF94=\"\",\"\",IF(AF94>AI94,\"○\",IF(AF94<AI94,\"●\",IF(AF92>AI92,\"△\",IF(AF92<AI92,\"▲\")))))","v":false},null,null,null,null,{"$f":"IF(AK94=\"\",\"\",IF(AK94>AN94,\"○\",IF(AK94<AN94,\"●\",IF(AK92>AN92,\"△\",IF(AK92<AN92,\"▲\")))))","v":"○"},null,null,null,null,null,null,null,null,null,{"$f":"COUNTIF($AF$90:$AT$91,\"○\")","v":1},null,{"$f":"COUNTIF($AF$90:$AT$91,\"△\")","v":0},null,{"$f":"COUNTIF($AF$90:$AT$91,\"▲\")","v":0},null,{"$f":"COUNTIF($AF$90:$AT$91,\"●\")","v":0},null,{"$f":"SUM($AF$94,$AK$94)","v":6},null,{"$f":"SUM($AI$94,$AN$94)","v":3},null,{"$f":"($AU$90*3)+($AW$90*2)+($AY$90*1)","v":3},null,{"$f":"RANK($BG$90,$BG$78:$BH$95)","v":1},null,{"$f":"$BC$90-$BE$90","v":3},null,{"$f":"RANK($BK$90,$BK$78:$BL$95)","v":1}]
[]
[null,null,null,null,null,null,null,null,null,null,null,null,null,null,null,null,null,null,null,null,null,null,null,null,null,null,null,null,null,null,null,{"$f":"AS80","v":""},null,"―",{"$f":"AP80","v":""},null,{"$f":"AS86","v":""},null,"―",{"$f":"AP86","v":""}]
[null,null,null,null,null,null,null,null,null,null,null,null,null,null,null,null,null,null,null,null,null,null,null,null,null,null,null,null,null,"得失点"]
[null,null,null,null,null,null,null,null,null,null,null,null,null,null,null,null,null,null,null,null,null,null,null,null,null,null,null,null,null,null,null,{"$f":"AS82","v":2},null,"―",{"$f":"AP82","v":2},null,{"$f":"AS88","v":4},null,"―",{"$f":"AP88","v":1}]
[]
[]
[null,null,null,null,null,null,null,null,null,null,null,null,null,null,null,null,null,null,null,null,null,null,null,null,"Ⅰ勝点（勝３点　ＰＫ勝２点　ＰＫ負１点　負０点）　Ⅱ当該チームの戦績　Ⅲ得失点差　Ⅳ多得点　Ⅴ抽選の順で順位を決定する。"]
[]
[null,null,null,null,null,null,null,null,null,null,null,null,null,null,null,null,null,null,null,null,null,null,null,null,"勝点表",null,"勝","○",null,"PK\n勝","△",null,"PK\n負","▲",null,"負","●"]
[null,null,null,null,null,null,null,null,null,null,null,null,null,null,null,null,null,null,null,null,null,null,null,null,null,null,null,3,null,null,2,null,null,1,null,null,0]

{"sheet":"１次リーグ（宇佐高田）","index":18,"n_rows":100,"n_cols":67,"rows_kept":100,"cut":false,"hidden":true,"merged":[[33,13,33,17],[33,18,33,20],[33,21,33,22],[34,13,34,17],[34,18,34,20],[34,21,34,22],[32,1,32,5],[32,6,32,8],[32,9,32,10],[33,1,33,5],[33,6,33,8],[33,9,33,10],[34,1,34,5],[34,6,34,8],[34,9,34,10],[85,43,86,43],[85,44,86,45],[71,58,76,59],[28,41,29,42],[91,36,92,37],[91,38,92,38],[91,39,92,40],[93,31,94,32],[93,33,94,33],[93,34,94,35],[93,36,94,37],[93,38,94,38],[93,39,94,40],[77,36,78,40],[77,41,78,45],[79,36,80,37],[79,38,80,38],[79,39,80,40],[79,41,80,42],[79,43,80,43],[79,44,80,45],[81,36,82,37],[81,38,82,38],[81,39,82,40],[89,64,94,65],[71,66,76,66],[77,66,82,66],[83,66,88,66],[89,66,94,66],[14,66,19,66],[20,66,25,66],[26,66,31,66],[32,66,37,66],[14,64,19,65],[71,64,76,65],[77,64,82,65],[83,64,88,65],[20,64,25,65],[26,64,31,65],[32,64,37,65],[0,60,0,66],[1,0,1,10],[1,12,1,22],[1,24,1,58],[0,9,0,10],[0,21,0,22],[41,35,42,35],[98,35,99,35],[20,36,21,40],[22,38,23,38],[24,38,25,38],[22,36,23,37],[22,39,23,40],[24,36,25,37],[24,39,25,40],[26,31,27,35],[85,34,86,35],[96,24,97,57],[98,24,99,25],[98,26,99,26],[98,29,99,29],[98,32,99,32],[28,43,29,43],[28,44,29,45],[3,3,3,10],[3,15,3,22],[3,24,3,26],[3,27,3,32],[3,34,3,48],[5,24,5,26],[6,41,6,44],[5,27,5,32],[0,0,0,8],[0,12,0,20],[0,24,0,58],[7,2,7,8],[7,9,7,10],[7,14,7,20],[7,21,7,22],[7,25,7,27],[7,28,7,40],[7,41,7,44],[6,2,6,8],[6,9,6,10],[6,14,6,20],[6,21,6,22],[6,25,6,27],[6,28,6,40],[8,2,8,8],[8,9,8,10],[8,14,8,20],[8,21,8,22],[8,25,8,27],[8,28,8,40],[8,41,8,44],[11,0,13,0],[11,1,13,1],[11,2,13,2],[11,3,13,3],[11,7,13,7],[11,8,13,8],[11,9,13,9],[11,12,13,12],[11,13,13,13],[11,14,13,14],[11,15,13,15],[11,19,13,19],[11,20,13,20],[11,21,13,21],[14,62,19,63],[18,4,18,5],[18,6,18,8],[18,9,18,10],[18,16,18,17],[18,18,18,20],[18,21,18,22],[19,4,19,5],[14,46,19,47],[14,1,14,5],[14,6,14,8],[14,9,14,10],[15,1,15,5],[15,6,15,8],[15,9,15,10],[16,1,16,5],[16,6,16,8],[16,9,16,10],[14,13,14,17],[14,18,14,20],[14,21,14,22],[15,13,15,17],[15,18,15,20],[15,21,15,22],[20,4,20,5],[20,6,20,8],[20,9,20,10],[20,16,20,17],[20,18,20,20],[14,58,19,59],[14,48,19,49],[14,50,19,51],[14,52,19,53],[14,54,19,55],[17,4,17,5],[17,6,17,8],[17,9,17,10],[17,16,17,17],[17,18,17,20],[16,13,16,17],[16,18,16,20],[16,21,16,22],[20,24,25,28],[20,29,22,30],[20,31,25,35],[19,6,19,8],[19,9,19,10],[19,16,19,17],[19,18,19,20],[19,21,19,22],[26,24,31,28],[30,41,31,42],[26,48,31,49],[26,50,31,51],[37,18,37,20],[37,21,37,22],[14,60,19,61],[14,56,19,57],[17,21,17,22],[14,24,19,27],[14,28,19,30],[14,31,19,35],[14,36,19,40],[14,41,19,45],[20,21,20,22],[26,52,31,53],[26,54,31,55],[26,56,31,57],[26,58,31,59],[26,60,31,61],[32,56,37,57],[32,58,37,59],[20,62,25,63],[23,29,25,30],[22,43,23,43],[22,44,23,45],[24,41,25,42],[20,48,25,49],[20,50,25,51],[20,52,25,53],[20,54,25,55],[20,56,25,57],[20,58,25,59],[20,46,25,47],[20,41,21,45],[22,41,23,42],[24,43,25,43],[24,44,25,45],[20,60,25,61],[26,62,31,63],[29,29,31,30],[26,29,28,30],[26,36,31,40],[26,46,31,47],[30,31,31,32],[30,33,31,33],[30,34,31,35],[28,31,29,32],[28,33,29,33],[28,34,29,35],[26,41,27,45],[30,43,31,43],[30,44,31,45],[41,29,42,29],[32,41,37,45],[32,46,37,47],[32,50,37,51],[32,52,37,53],[32,31,33,35],[34,31,35,32],[34,33,35,33],[34,34,35,35],[32,36,33,40],[34,36,35,37],[36,34,37,35],[36,36,37,37],[36,38,37,38],[36,39,37,40],[34,38,35,38],[34,39,35,40],[36,31,37,32],[36,33,37,33],[32,60,37,61],[32,62,37,63],[35,29,37,30],[32,48,37,49],[53,21,53,22],[32,24,37,28],[32,29,34,30],[83,31,84,35],[83,41,84,45],[47,60,48,66],[49,24,50,58],[59,41,60,44],[59,25,60,27],[59,28,60,40],[53,24,54,26],[53,27,54,32],[53,33,54,33],[53,34,54,48],[57,24,58,26],[57,27,58,32],[39,24,40,57],[41,24,42,25],[41,26,42,26],[61,25,62,27],[29,0,31,0],[29,1,31,1],[29,2,31,2],[29,3,31,3],[29,7,31,7],[29,8,31,8],[35,18,35,20],[35,21,35,22],[41,32,42,32],[29,13,31,13],[29,15,31,15],[36,18,36,20],[36,21,36,22],[38,18,38,20],[38,21,38,22],[29,12,31,12],[29,14,31,14],[29,19,31,19],[29,20,31,20],[29,21,31,21],[29,9,31,9],[32,13,32,17],[32,18,32,20],[32,21,32,22],[35,4,35,5],[35,6,35,8],[35,9,35,10],[35,16,35,17],[37,4,37,5],[38,4,38,5],[38,6,38,8],[38,9,38,10],[38,16,38,17],[37,6,37,8],[37,9,37,10],[37,16,37,17],[77,50,82,51],[77,52,82,53],[77,54,82,55],[47,12,49,12],[47,13,49,13],[36,4,36,5],[36,6,36,8],[36,9,36,10],[36,16,36,17],[47,9,49,9],[32,54,37,55],[77,24,82,28],[50,1,50,5],[50,6,50,8],[50,9,50,10],[51,1,51,5],[51,6,51,8],[51,9,51,10],[52,1,52,5],[52,6,52,8],[52,9,52,10],[50,13,50,17],[50,18,50,20],[50,21,50,22],[71,56,76,57],[47,20,49,20],[53,4,53,5],[53,6,53,8],[53,9,53,10],[53,16,53,17],[53,18,53,20],[54,4,54,5],[54,6,54,8],[54,9,54,10],[54,16,54,17],[47,24,48,58],[71,50,76,51],[71,52,76,53],[71,54,76,55],[51,13,51,17],[51,18,51,20],[51,21,51,22],[52,13,52,17],[52,18,52,20],[52,21,52,22],[63,41,64,44],[71,41,76,45],[71,46,76,47],[71,48,76,49],[47,0,49,0],[47,1,49,1],[47,2,49,2],[47,3,49,3],[47,7,49,7],[47,8,49,8],[47,14,49,14],[47,15,49,15],[47,19,49,19],[47,21,49,21],[71,24,76,27],[71,28,76,30],[71,31,76,35],[71,36,76,40],[83,62,88,63],[86,29,88,30],[85,41,86,42],[77,62,82,63],[71,60,76,61],[71,62,76,63],[54,18,54,20],[54,21,54,22],[55,4,55,5],[55,6,55,8],[55,9,55,10],[55,16,55,17],[55,18,55,20],[55,21,55,22],[56,4,56,5],[56,6,56,8],[56,9,56,10],[56,16,56,17],[56,18,56,20],[56,21,56,22],[61,28,62,40],[61,41,62,44],[63,25,64,27],[63,28,64,40],[77,29,79,30],[77,31,82,35],[77,46,82,47],[77,48,82,49],[77,58,82,59],[77,60,82,61],[83,50,88,51],[83,52,88,53],[83,54,88,55],[83,56,88,57],[80,29,82,30],[87,31,88,32],[87,33,88,33],[87,34,88,35],[87,41,88,42],[87,43,88,43],[87,44,88,45],[81,41,82,42],[81,43,82,43],[81,44,82,45],[85,33,86,33],[83,58,88,59],[83,60,88,61],[77,56,82,57],[89,58,94,59],[89,62,94,63],[89,48,94,49],[83,46,88,47],[83,48,88,49],[89,24,94,28],[89,29,91,30],[89,41,94,45],[89,46,94,47],[89,31,90,35],[89,36,90,40],[91,31,92,32],[92,29,94,30],[91,33,92,33],[91,34,92,35],[89,60,94,61],[89,50,94,51],[89,52,94,53],[89,54,94,55],[89,56,94,57],[83,24,88,28],[83,29,85,30],[83,36,88,40],[85,31,86,32]]}
[{"$f":"出場チーム!B1","v":"OFA 第 50 回大分県少年サッカー大会　兼　KYFA 九州U-12サッカー大会大分県大会"},null,null,null,null,null,null,null,null,"１次リーグ結果　報告用紙",null,null,{"$f":"出場チーム!B1","v":"OFA 第 50 回大分県少年サッカー大会　兼　KYFA 九州U-12サッカー大会大分県大会"},null,null,null,null,null,null,null,null,"１次リーグ結果　報告用紙",null,null,{"$f":"$A$1","v":"OFA 第 50 回大分県少年サッカー大会　兼　KYFA 九州U-12サッカー大会大分県大会"},null,null,null,null,null,null,null,null,null,null,null,null,null,null,null,null,null,null,null,null,null,null,null,null,null,null,null,null,null,null,null,null,null,null,null,{"$f":"$J$1","v":"１次リーグ結果　報告用紙"}]
["＜時間割＞　①10:00～　②11:00～　③12:00～　④13:00～　⑤14:00～　⑥15:00～",null,null,null,null,null,null,null,null,null,null,null,"＜時間割＞　①10:00～　②11:00～　③12:00～　④13:00～　⑤14:00～　⑥15:00～",null,null,null,null,null,null,null,null,null,null,null,"＜時間割＞　①10:00～　②11:00～　③12:00～　④13:00～　⑤14:00～　⑥15:00～"]
[]
["会場",{"$f":"組み合わせ!DH8","v":"宇佐高田"},"⇒",{"$f":"VLOOKUP(B4,出場チーム!$B$51:$F$59,2,FALSE)","v":"宇佐市平成の森公園"},null,null,null,null,null,null,null,null,"会場",{"$f":"組み合わせ!DH8","v":"宇佐高田"},"⇒",{"$f":"VLOOKUP(N4,出場チーム!$B$51:$F$59,2,FALSE)","v":"宇佐市平成の森公園"},null,null,null,null,null,null,null,null,"会場",null,null,{"$f":"$B$4","v":"宇佐高田"},null,null,null,null,null,"⇒",{"$f":"$D$4","v":"宇佐市平成の森公園"}]
[]
["パート",{"$f":"VLOOKUP(B4,組み合わせ!$AL$95:$BU$112,13,FALSE)","v":"A"},null,null,null,null,null,null,null,null,null,null,"パート",{"$f":"VLOOKUP(N4,組み合わせ!$AL$95:$BU$112,25,FALSE)","v":"J"},null,null,null,null,null,null,null,null,null,null,"パート",null,null,{"$f":"$B$6","v":"A"}]
[null,{"$f":"CONCATENATE($B$6,1)","v":"A1"},{"$f":"HLOOKUP(B7,組み合わせ!$B$48:$EO$86,2,FALSE)","v":"ＦＣ　ＵＮＩＴＥ"},null,null,null,null,null,null,{"$f":"HLOOKUP(B7,組み合わせ!$B$48:$EO$86,32,FALSE)","v":"宇佐高田"},null,null,null,{"$f":"CONCATENATE($N$6,1)","v":"J1"},{"$f":"HLOOKUP(N7,組み合わせ!$B$48:$EO$86,2,FALSE)","v":"豊後高田ＦＣ　Ｂｏｒｄｅｒ　Ｊｒ"},null,null,null,null,null,null,{"$f":"HLOOKUP(N7,組み合わせ!$B$48:$EO$86,32,FALSE)","v":"宇佐高田"},null,null,null,{"$f":"+B7","v":"A1"},null,null,{"$f":"$C$7","v":"ＦＣ　ＵＮＩＴＥ"},null,null,null,null,null,null,null,null,null,null,null,null,{"$f":"$J$7","v":"宇佐高田"}]
[null,{"$f":"CONCATENATE($B$6,2)","v":"A2"},{"$f":"HLOOKUP(B8,組み合わせ!$B$48:$EO$86,2,FALSE)","v":"大分トリニータＵ－１２"},null,null,null,null,null,null,{"$f":"HLOOKUP(B8,組み合わせ!$B$48:$EO$86,32,FALSE)","v":"大分"},null,null,null,{"$f":"CONCATENATE($N$6,2)","v":"J2"},{"$f":"HLOOKUP(N8,組み合わせ!$B$48:$EO$86,2,FALSE)","v":"大道サッカースポーツ少年団"},null,null,null,null,null,null,{"$f":"HLOOKUP(N8,組み合わせ!$B$48:$EO$86,32,FALSE)","v":"大分"},null,null,null,{"$f":"+B8","v":"A2"},null,null,{"$f":"$C$8","v":"大分トリニータＵ－１２"},null,null,null,null,null,null,null,null,null,null,null,null,{"$f":"$J$8","v":"大分"}]
[null,{"$f":"CONCATENATE($B$6,3)","v":"A3"},{"$f":"HLOOKUP(B9,組み合わせ!$B$48:$EO$86,2,FALSE)","v":"鶴居ＳＳＳ"},null,null,null,null,null,null,{"$f":"HLOOKUP(B9,組み合わせ!$B$48:$EO$86,32,FALSE)","v":"中津"},null,null,null,{"$f":"CONCATENATE($N$6,3)","v":"J3"},{"$f":"HLOOKUP(N9,組み合わせ!$B$48:$EO$86,2,FALSE)","v":"明治北ＳＳＣ"},null,null,null,null,null,null,{"$f":"HLOOKUP(N9,組み合わせ!$B$48:$EO$86,32,FALSE)","v":"大分"},null,null,null,{"$f":"+B9","v":"A3"},null,null,{"$f":"$C$9","v":"鶴居ＳＳＳ"},null,null,null,null,null,null,null,null,null,null,null,null,{"$f":"$J$9","v":"中津"}]
["8：50～ＭＣＭ",null,null,null,null,null,null,null,null,null,null,null,"9：50～ＭＣＭ"]
[]
["①\n10:00～",{"$f":"C7","v":"ＦＣ　ＵＮＩＴＥ"},{"$f":"IF(E12=\"\",\"\",SUM(E12:E13))","v":4},"（",2,"前半",1,"）",{"$f":"IF(G12=\"\",\"\",SUM(G12:G13))","v":3},{"$f":"C8","v":"大分トリニータＵ－１２"},null,null,"②\n11:00～",{"$f":"O7","v":"豊後高田ＦＣ　Ｂｏｒｄｅｒ　Ｊｒ"},{"$f":"IF(Q12=\"\",\"\",SUM(Q12:Q13))","v":1},"（",1,"前半",0,"）",{"$f":"IF(S12=\"\",\"\",SUM(S12:S13))","v":4},{"$f":"O8","v":"大道サッカースポーツ少年団"}]
[null,null,null,null,2,"後半",2,null,null,null,null,null,null,null,null,null,0,"後半",4]
[null,null,null,null,null,"PK",null,null,null,null,null,null,null,null,null,null,null,"PK"]
["MC","安東　幹雄",null,null,null,null,"所属協会",null,null,"(一社)大分県サッカー協会　ジュニア委員会",null,null,"MC","中原　圭介",null,null,null,null,"所属協会",null,null,"(一社)大分県サッカー協会　ジュニア委員会",null,null,{"$f":"$Y$6","v":"パート"},null,null,null,{"$f":"$AB$6","v":"A"},null,null,{"$f":"$Y$21","v":"ＦＣ　ＵＮＩＴＥ"},null,null,null,null,{"$f":"$Y$27","v":"大分トリニータＵ－１２"},null,null,null,null,{"$f":"$Y$33","v":"鶴居ＳＳＳ"},null,null,null,null,"勝",null,"PK\n勝",null,"PK\n負",null,"負",null,"得点",null,"失点",null,"勝点",null,"勝点\n順位",null,"得失\n点差",null,"得失\n順位",null,"総\n順位"]
["WelfareOfficer","中原　圭介",null,null,null,null,"所属協会",null,null,"(一社)大分県サッカー協会　ジュニア委員会",null,null,"WelfareOfficer","安東　幹雄",null,null,null,null,"所属協会",null,null,"(一社)大分県サッカー協会　ジュニア委員会"]
["記録","奥田　和彦",null,null,null,null,"所属協会",null,null,"宇佐高田地区サッカー協会",null,null,"記録","中原　圭介",null,null,null,null,"所属協会",null,null,"(一社)大分県サッカー協会　ジュニア委員会"]
["R:",{"$f":"IF(ISERROR(VLOOKUP(G18,審判員!$A:$C,2,FALSE))=TRUE,\"\",VLOOKUP(G18,審判員!$A:$C,2,FALSE))","v":"中園　健太郎"},{"$f":"IF(ISERROR(VLOOKUP(G18,審判員!$A:$C,3,FALSE))=TRUE,\"\",VLOOKUP(G18,審判員!$A:$C,3,FALSE))","v":2},"級","資格番号",null,"R003317390",null,null,"本部",null,null,"R:",{"$f":"IF(ISERROR(VLOOKUP(S18,審判員!$A:$C,2,FALSE))=TRUE,\"\",VLOOKUP(S18,審判員!$A:$C,2,FALSE))","v":"穴井　裕大"},{"$f":"IF(ISERROR(VLOOKUP(S18,審判員!$A:$C,3,FALSE))=TRUE,\"\",VLOOKUP(S18,審判員!$A:$C,3,FALSE))","v":3},"級","資格番号",null,"R010044664",null,null,"本部"]
["AR1:",{"$f":"IF(ISERROR(VLOOKUP(G19,審判員!$A:$C,2,FALSE))=TRUE,\"\",VLOOKUP(G19,審判員!$A:$C,2,FALSE))","v":"柳本　剛"},{"$f":"IF(ISERROR(VLOOKUP(G19,審判員!$A:$C,3,FALSE))=TRUE,\"\",VLOOKUP(G19,審判員!$A:$C,3,FALSE))","v":3},"級","資格番号",null,"R001261477",null,null,{"$f":"N12","v":"豊後高田ＦＣ　Ｂｏｒｄｅｒ　Ｊｒ"},null,null,"AR1:",{"$f":"IF(ISERROR(VLOOKUP(S19,審判員!$A:$C,2,FALSE))=TRUE,\"\",VLOOKUP(S19,審判員!$A:$C,2,FALSE))","v":"相良　章成"},{"$f":"IF(ISERROR(VLOOKUP(S19,審判員!$A:$C,3,FALSE))=TRUE,\"\",VLOOKUP(S19,審判員!$A:$C,3,FALSE))","v":3},"級","資格番号",null,"R006664864",null,null,{"$f":"B12","v":"ＦＣ　ＵＮＩＴＥ"}]
["AR2:",{"$f":"IF(ISERROR(VLOOKUP(G20,審判員!$A:$C,2,FALSE))=TRUE,\"\",VLOOKUP(G20,審判員!$A:$C,2,FALSE))","v":"高島　秀樹"},{"$f":"IF(ISERROR(VLOOKUP(G20,審判員!$A:$C,3,FALSE))=TRUE,\"\",VLOOKUP(G20,審判員!$A:$C,3,FALSE))","v":3},"級","資格番号",null,"R006203593",null,null,{"$f":"V12","v":"大道サッカースポーツ少年団"},null,null,"AR2:",{"$f":"IF(ISERROR(VLOOKUP(S20,審判員!$A:$C,2,FALSE))=TRUE,\"\",VLOOKUP(S20,審判員!$A:$C,2,FALSE))","v":"小川　翔太"},{"$f":"IF(ISERROR(VLOOKUP(S20,審判員!$A:$C,3,FALSE))=TRUE,\"\",VLOOKUP(S20,審判員!$A:$C,3,FALSE))","v":3},"級","資格番号",null,"R007075261",null,null,{"$f":"J12","v":"大分トリニータＵ－１２"}]
["4th:",{"$f":"IF(ISERROR(VLOOKUP(G21,審判員!$A:$C,2,FALSE))=TRUE,\"\",VLOOKUP(G21,審判員!$A:$C,2,FALSE))","v":"大久保　稔生"},{"$f":"IF(ISERROR(VLOOKUP(G21,審判員!$A:$C,3,FALSE))=TRUE,\"\",VLOOKUP(G21,審判員!$A:$C,3,FALSE))","v":3},"級","資格番号",null,"R008377616",null,null,"本部",null,null,"4th:",{"$f":"IF(ISERROR(VLOOKUP(S21,審判員!$A:$C,2,FALSE))=TRUE,\"\",VLOOKUP(S21,審判員!$A:$C,2,FALSE))","v":"大久保　稔生"},{"$f":"IF(ISERROR(VLOOKUP(S21,審判員!$A:$C,3,FALSE))=TRUE,\"\",VLOOKUP(S21,審判員!$A:$C,3,FALSE))","v":3},"級","資格番号",null,"R008377616",null,null,"本部",null,null,{"$f":"$AC$7","v":"ＦＣ　ＵＮＩＴＥ"},null,null,null,null,"星取表",null,null,null,null,null,null,{"$f":"IF(AK25=\"\",\"\",IF(AK25>AN25,\"○\",IF(AK25<AN25,\"●\",IF(AK23>AN23,\"△\",IF(AK23<AN23,\"▲\")))))","v":"○"},null,null,null,null,{"$f":"IF(AP25=\"\",\"\",IF(AP25>AS25,\"○\",IF(AP25<AS25,\"●\",IF(AP23>AS23,\"△\",IF(AP23<AS23,\"▲\")))))","v":"○"},null,null,null,null,{"$f":"COUNTIF($AF$21:$AT$22,\"○\")","v":2},null,{"$f":"COUNTIF($AF$21:$AT$22,\"△\")","v":0},null,{"$f":"COUNTIF($AF$21:$AT$22,\"▲\")","v":0},null,{"$f":"COUNTIF($AF$21:$AT$22,\"●\")","v":0},null,{"$f":"SUM($AK$25,$AP$25)","v":8},null,{"$f":"SUM($AN$25,$AS$25)","v":5},null,{"$f":"($AU$21*3)+($AW$21*2)+($AY$21*1)","v":6},null,{"$f":"RANK($BG$21,$BG$21:$BH$38)","v":1},null,{"$f":"$BC$21-$BE$21","v":3},null,{"$f":"RANK($BK$21,$BK$21:$BL$38)","v":1}]
["警告/退場","氏名","背番号","分","内容",null,"内容","分","背番号","氏名","警告/退場",null,"警告/退場","氏名","背番号","分","内容",null,"内容","分","背番号","氏名","警告/退場"]
[null,{"$f":"IF(ISERROR(VLOOKUP(CONCATENATE($B$12,\"_\",C23),選手名簿!$A:$E,5,FALSE))=TRUE,\"\",VLOOKUP(CONCATENATE($B$12,\"_\",C23),選手名簿!$A:$E,5,FALSE))","v":""},null,null,null,null,null,null,null,{"$f":"IF(ISERROR(VLOOKUP(CONCATENATE($J$12,\"_\",I23),選手名簿!$A:$E,5,FALSE))=TRUE,\"\",VLOOKUP(CONCATENATE($J$12,\"_\",I23),選手名簿!$A:$E,5,FALSE))","v":""},null,null,null,{"$f":"IF(ISERROR(VLOOKUP(CONCATENATE($N$12,\"_\",O23),選手名簿!$A:$E,5,FALSE))=TRUE,\"\",VLOOKUP(CONCATENATE($N$12,\"_\",O23),選手名簿!$A:$E,5,FALSE))","v":""},null,null,null,null,null,null,null,{"$f":"IF(ISERROR(VLOOKUP(CONCATENATE($V$12,\"_\",U23),選手名簿!$A:$E,5,FALSE))=TRUE,\"\",VLOOKUP(CONCATENATE($V$12,\"_\",U23),選手名簿!$A:$E,5,FALSE))","v":""},null,null,null,null,null,null,null,null,null,null,null,null,null,null,{"$f":"IF($E$14=\"\",\"\",$E$14)","v":""},null,"―",{"$f":"IF($G$14=\"\",\"\",$G$14)","v":""},null,{"$f":"IF($G$50=\"\",\"\",$G$50)","v":""},null,"―",{"$f":"IF($E$50=\"\",\"\",$E$50)","v":""}]
[null,{"$f":"IF(ISERROR(VLOOKUP(CONCATENATE($B$12,\"_\",C24),選手名簿!$A:$E,5,FALSE))=TRUE,\"\",VLOOKUP(CONCATENATE($B$12,\"_\",C24),選手名簿!$A:$E,5,FALSE))","v":""},null,null,null,null,null,null,null,{"$f":"IF(ISERROR(VLOOKUP(CONCATENATE($J$12,\"_\",I24),選手名簿!$A:$E,5,FALSE))=TRUE,\"\",VLOOKUP(CONCATENATE($J$12,\"_\",I24),選手名簿!$A:$E,5,FALSE))","v":""},null,null,null,{"$f":"IF(ISERROR(VLOOKUP(CONCATENATE($N$12,\"_\",O24),選手名簿!$A:$E,5,FALSE))=TRUE,\"\",VLOOKUP(CONCATENATE($N$12,\"_\",O24),選手名簿!$A:$E,5,FALSE))","v":""},null,null,null,null,null,null,null,{"$f":"IF(ISERROR(VLOOKUP(CONCATENATE($V$12,\"_\",U24),選手名簿!$A:$E,5,FALSE))=TRUE,\"\",VLOOKUP(CONCATENATE($V$12,\"_\",U24),選手名簿!$A:$E,5,FALSE))","v":""},null,null,null,null,null,null,null,"得失点"]
[null,{"$f":"IF(ISERROR(VLOOKUP(CONCATENATE($B$12,\"_\",C25),選手名簿!$A:$E,5,FALSE))=TRUE,\"\",VLOOKUP(CONCATENATE($B$12,\"_\",C25),選手名簿!$A:$E,5,FALSE))","v":""},null,null,null,null,null,null,null,{"$f":"IF(ISERROR(VLOOKUP(CONCATENATE($J$12,\"_\",I25),選手名簿!$A:$E,5,FALSE))=TRUE,\"\",VLOOKUP(CONCATENATE($J$12,\"_\",I25),選手名簿!$A:$E,5,FALSE))","v":""},null,null,null,{"$f":"IF(ISERROR(VLOOKUP(CONCATENATE($N$12,\"_\",O25),選手名簿!$A:$E,5,FALSE))=TRUE,\"\",VLOOKUP(CONCATENATE($N$12,\"_\",O25),選手名簿!$A:$E,5,FALSE))","v":""},null,null,null,null,null,null,null,{"$f":"IF(ISERROR(VLOOKUP(CONCATENATE($V$12,\"_\",U25),選手名簿!$A:$E,5,FALSE))=TRUE,\"\",VLOOKUP(CONCATENATE($V$12,\"_\",U25),選手名簿!$A:$E,5,FALSE))","v":""},null,null,null,null,null,null,null,null,null,null,null,null,null,null,{"$f":"$C$12","v":4},null,"―",{"$f":"$I$12","v":3},null,{"$f":"$I$48","v":4},null,"―",{"$f":"$C$48","v":2}]
[null,{"$f":"IF(ISERROR(VLOOKUP(CONCATENATE($B$12,\"_\",C26),選手名簿!$A:$E,5,FALSE))=TRUE,\"\",VLOOKUP(CONCATENATE($B$12,\"_\",C26),選手名簿!$A:$E,5,FALSE))","v":""},null,null,null,null,null,null,null,{"$f":"IF(ISERROR(VLOOKUP(CONCATENATE($J$12,\"_\",I26),選手名簿!$A:$E,5,FALSE))=TRUE,\"\",VLOOKUP(CONCATENATE($J$12,\"_\",I26),選手名簿!$A:$E,5,FALSE))","v":""},null,null,null,{"$f":"IF(ISERROR(VLOOKUP(CONCATENATE($N$12,\"_\",O26),選手名簿!$A:$E,5,FALSE))=TRUE,\"\",VLOOKUP(CONCATENATE($N$12,\"_\",O26),選手名簿!$A:$E,5,FALSE))","v":""},null,null,null,null,null,null,null,{"$f":"IF(ISERROR(VLOOKUP(CONCATENATE($V$12,\"_\",U26),選手名簿!$A:$E,5,FALSE))=TRUE,\"\",VLOOKUP(CONCATENATE($V$12,\"_\",U26),選手名簿!$A:$E,5,FALSE))","v":""}]
[null,{"$f":"IF(ISERROR(VLOOKUP(CONCATENATE($B$12,\"_\",C27),選手名簿!$A:$E,5,FALSE))=TRUE,\"\",VLOOKUP(CONCATENATE($B$12,\"_\",C27),選手名簿!$A:$E,5,FALSE))","v":""},null,null,null,null,null,null,null,{"$f":"IF(ISERROR(VLOOKUP(CONCATENATE($J$12,\"_\",I27),選手名簿!$A:$E,5,FALSE))=TRUE,\"\",VLOOKUP(CONCATENATE($J$12,\"_\",I27),選手名簿!$A:$E,5,FALSE))","v":""},null,null,null,{"$f":"IF(ISERROR(VLOOKUP(CONCATENATE($N$12,\"_\",O27),選手名簿!$A:$E,5,FALSE))=TRUE,\"\",VLOOKUP(CONCATENATE($N$12,\"_\",O27),選手名簿!$A:$E,5,FALSE))","v":""},null,null,null,null,null,null,null,{"$f":"IF(ISERROR(VLOOKUP(CONCATENATE($V$12,\"_\",U27),選手名簿!$A:$E,5,FALSE))=TRUE,\"\",VLOOKUP(CONCATENATE($V$12,\"_\",U27),選手名簿!$A:$E,5,FALSE))","v":""},null,null,{"$f":"$AC$8","v":"大分トリニータＵ－１２"},null,null,null,null,"星取表",null,{"$f":"IF(AF31=\"\",\"\",IF(AF31>AI31,\"○\",IF(AF31<AI31,\"●\",IF(AF29>AI29,\"△\",IF(AF29<AI29,\"▲\")))))","v":"●"},null,null,null,null,null,null,null,null,null,{"$f":"IF(AP31=\"\",\"\",IF(AP31>AS31,\"○\",IF(AP31<AS31,\"●\",IF(AP29>AS29,\"△\",IF(AP29<AS29,\"▲\")))))","v":"○"},null,null,null,null,{"$f":"COUNTIF($AF$27:$AT$28,\"○\")","v":1},null,{"$f":"COUNTIF($AF$27:$AT$28,\"△\")","v":0},null,{"$f":"COUNTIF($AF$27:$AT$28,\"▲\")","v":0},null,{"$f":"COUNTIF($AF$27:$AT$28,\"●\")","v":1},null,{"$f":"SUM($AF$31,$AP$31)","v":5},null,{"$f":"SUM($AI$31,$AS$31)","v":4},null,{"$f":"($AU$27*3)+($AW$27*2)+($AY$27*1)","v":3},null,{"$f":"RANK($BG$27,$BG$21:$BH$38)","v":2},null,{"$f":"$BC$27-$BE$27","v":1},null,{"$f":"RANK($BK$27,$BK$21:$BL$38)","v":2}]
[]
[null,null,null,null,null,null,null,null,null,null,null,null,null,null,null,null,null,null,null,null,null,null,null,null,null,null,null,null,null,null,null,{"$f":"AN23","v":""},null,"―",{"$f":"AK23","v":""},null,null,null,null,null,null,{"$f":"IF($E$32=\"\",\"\",$E$32)","v":""},null,"―",{"$f":"IF($G$32=\"\",\"\",$G$32)","v":""}]
["③\n12:00～",{"$f":"C8","v":"大分トリニータＵ－１２"},{"$f":"IF(E30=\"\",\"\",SUM(E30:E31))","v":2},"（",0,"前半",0,"）",{"$f":"IF(G30=\"\",\"\",SUM(G30:G31))","v":0},{"$f":"C9","v":"鶴居ＳＳＳ"},null,null,"④\n13:00～",{"$f":"O8","v":"大道サッカースポーツ少年団"},{"$f":"IF(Q30=\"\",\"\",SUM(Q30:Q31))","v":0},"（",0,"前半",1,"）",{"$f":"IF(S30=\"\",\"\",SUM(S30:S31))","v":2},{"$f":"O9","v":"明治北ＳＳＣ"},null,null,null,null,null,null,null,"得失点"]
[null,null,null,null,2,"後半",0,null,null,null,null,null,null,null,null,null,0,"後半",1,null,null,null,null,null,null,null,null,null,null,null,null,{"$f":"AN25","v":3},null,"―",{"$f":"AK25","v":4},null,null,null,null,null,null,{"$f":"$C$30","v":2},null,"―",{"$f":"$I$30","v":0}]
[null,null,null,null,null,"PK",null,null,null,null,null,null,null,null,null,null,null,"PK"]
["MC","安東　幹雄",null,null,null,null,"所属協会",null,null,"(一社)大分県サッカー協会　ジュニア委員会",null,null,"MC","中原　圭介",null,null,null,null,"所属協会",null,null,"(一社)大分県サッカー協会　ジュニア委員会",null,null,{"$f":"$AC$9","v":"鶴居ＳＳＳ"},null,null,null,null,"星取表",null,{"$f":"IF(AF37=\"\",\"\",IF(AF37>AI37,\"○\",IF(AF37<AI37,\"●\",IF(AF35>AI35,\"△\",IF(AF35<AI35,\"▲\")))))","v":"●"},null,null,null,null,{"$f":"IF(AK37=\"\",\"\",IF(AK37>AN37,\"○\",IF(AK37<AN37,\"●\",IF(AK35>AN35,\"△\",IF(AK35<AN35,\"▲\")))))","v":"●"},null,null,null,null,null,null,null,null,null,{"$f":"COUNTIF($AF$33:$AT$34,\"○\")","v":0},null,{"$f":"COUNTIF($AF$33:$AT$34,\"△\")","v":0},null,{"$f":"COUNTIF($AF$33:$AT$34,\"▲\")","v":0},null,{"$f":"COUNTIF($AF$33:$AT$34,\"●\")","v":2},null,{"$f":"SUM($AF$37,$AK$37)","v":2},null,{"$f":"SUM($AI$37,$AN$37)","v":6},null,{"$f":"($AU$33*3)+($AW$33*2)+($AY$33*1)","v":0},null,{"$f":"RANK($BG$33,$BG$21:$BH$38)","v":3},null,{"$f":"$BC$33-$BE$33","v":-4},null,{"$f":"RANK($BK$33,$BK$21:$BL$38)","v":3}]
["WelfareOfficer","中原　圭介",null,null,null,null,"所属協会",null,null,"(一社)大分県サッカー協会　ジュニア委員会",null,null,"WelfareOfficer","安東　幹雄",null,null,null,null,"所属協会",null,null,"(一社)大分県サッカー協会　ジュニア委員会"]
["記録","奥田　和彦",null,null,null,null,"所属協会",null,null,"宇佐高田地区サッカー協会",null,null,"記録","中原　圭介",null,null,null,null,"所属協会",null,null,"(一社)大分県サッカー協会　ジュニア委員会",null,null,null,null,null,null,null,null,null,{"$f":"AS23","v":""},null,"―",{"$f":"AP23","v":""},null,{"$f":"AS29","v":""},null,"―",{"$f":"AP29","v":""}]
["R:",{"$f":"IF(ISERROR(VLOOKUP(G36,審判員!$A:$C,2,FALSE))=TRUE,\"\",VLOOKUP(G36,審判員!$A:$C,2,FALSE))","v":"中園　健太郎"},{"$f":"IF(ISERROR(VLOOKUP(G36,審判員!$A:$C,3,FALSE))=TRUE,\"\",VLOOKUP(G36,審判員!$A:$C,3,FALSE))","v":2},"級","資格番号",null,"R003317390",null,null,"本部",null,null,"R:",{"$f":"IF(ISERROR(VLOOKUP(S36,審判員!$A:$C,2,FALSE))=TRUE,\"\",VLOOKUP(S36,審判員!$A:$C,2,FALSE))","v":"穴井　裕大"},{"$f":"IF(ISERROR(VLOOKUP(S36,審判員!$A:$C,3,FALSE))=TRUE,\"\",VLOOKUP(S36,審判員!$A:$C,3,FALSE))","v":3},"級","資格番号",null,"R010044664",null,null,"本部",null,null,null,null,null,null,null,"得失点"]
["AR1:",{"$f":"IF(ISERROR(VLOOKUP(G37,審判員!$A:$C,2,FALSE))=TRUE,\"\",VLOOKUP(G37,審判員!$A:$C,2,FALSE))","v":"高島　秀樹"},{"$f":"IF(ISERROR(VLOOKUP(G37,審判員!$A:$C,3,FALSE))=TRUE,\"\",VLOOKUP(G37,審判員!$A:$C,3,FALSE))","v":3},"級","資格番号",null,"R006203593",null,null,{"$f":"N30","v":"大道サッカースポーツ少年団"},null,null,"AR1:",{"$f":"IF(ISERROR(VLOOKUP(S37,審判員!$A:$C,2,FALSE))=TRUE,\"\",VLOOKUP(S37,審判員!$A:$C,2,FALSE))","v":"小川　翔太"},{"$f":"IF(ISERROR(VLOOKUP(S37,審判員!$A:$C,3,FALSE))=TRUE,\"\",VLOOKUP(S37,審判員!$A:$C,3,FALSE))","v":3},"級","資格番号",null,"R007075261",null,null,{"$f":"B30","v":"大分トリニータＵ－１２"},null,null,null,null,null,null,null,null,null,{"$f":"AS25","v":2},null,"―",{"$f":"AP25","v":4},null,{"$f":"AS31","v":0},null,"―",{"$f":"AP31","v":2}]
["AR2:",{"$f":"IF(ISERROR(VLOOKUP(G38,審判員!$A:$C,2,FALSE))=TRUE,\"\",VLOOKUP(G38,審判員!$A:$C,2,FALSE))","v":"廣戸　誠一"},{"$f":"IF(ISERROR(VLOOKUP(G38,審判員!$A:$C,3,FALSE))=TRUE,\"\",VLOOKUP(G38,審判員!$A:$C,3,FALSE))","v":3},"級","資格番号",null,"R001260070",null,null,{"$f":"V30","v":"明治北ＳＳＣ"},null,null,"AR2:",{"$f":"IF(ISERROR(VLOOKUP(S38,審判員!$A:$C,2,FALSE))=TRUE,\"\",VLOOKUP(S38,審判員!$A:$C,2,FALSE))","v":"宮崎　隆史"},{"$f":"IF(ISERROR(VLOOKUP(S38,審判員!$A:$C,3,FALSE))=TRUE,\"\",VLOOKUP(S38,審判員!$A:$C,3,FALSE))","v":3},"級","資格番号",null,"R004385495",null,null,{"$f":"J30","v":"鶴居ＳＳＳ"}]
["4th:",{"$f":"IF(ISERROR(VLOOKUP(G39,審判員!$A:$C,2,FALSE))=TRUE,\"\",VLOOKUP(G39,審判員!$A:$C,2,FALSE))","v":"奥田　和彦"},{"$f":"IF(ISERROR(VLOOKUP(G39,審判員!$A:$C,3,FALSE))=TRUE,\"\",VLOOKUP(G39,審判員!$A:$C,3,FALSE))","v":3},"級","資格番号",null,"R009460515",null,null,"本部",null,null,"4th:",{"$f":"IF(ISERROR(VLOOKUP(S39,審判員!$A:$C,2,FALSE))=TRUE,\"\",VLOOKUP(S39,審判員!$A:$C,2,FALSE))","v":"乙部　哲也"},{"$f":"IF(ISERROR(VLOOKUP(S39,審判員!$A:$C,3,FALSE))=TRUE,\"\",VLOOKUP(S39,審判員!$A:$C,3,FALSE))","v":3},"級","資格番号",null,"R002996695",null,null,"本部"]
["警告/退場","氏名","背番号","分","内容",null,"内容","分","背番号","氏名","警告/退場",null,"警告/退場","氏名","背番号","分","内容",null,"内容","分","背番号","氏名","警告/退場",null,"Ⅰ勝点（勝３点　ＰＫ勝２点　ＰＫ負１点　負０点）　Ⅱ当該チームの戦績　Ⅲ得失点差　Ⅳ多得点　Ⅴ抽選の順で順位を決定する。"]
[null,{"$f":"IF(ISERROR(VLOOKUP(CONCATENATE($B$30,\"_\",C41),選手名簿!$A:$E,5,FALSE))=TRUE,\"\",VLOOKUP(CONCATENATE($B$30,\"_\",C41),選手名簿!$A:$E,5,FALSE))","v":""},null,null,null,null,null,null,null,{"$f":"IF(ISERROR(VLOOKUP(CONCATENATE($J$30,\"_\",I41),選手名簿!$A:$E,5,FALSE))=TRUE,\"\",VLOOKUP(CONCATENATE($J$30,\"_\",I41),選手名簿!$A:$E,5,FALSE))","v":""},null,null,null,{"$f":"IF(ISERROR(VLOOKUP(CONCATENATE($N$30,\"_\",O41),選手名簿!$A:$E,5,FALSE))=TRUE,\"\",VLOOKUP(CONCATENATE($N$30,\"_\",O41),選手名簿!$A:$E,5,FALSE))","v":""},null,null,null,null,null,null,null,{"$f":"IF(ISERROR(VLOOKUP(CONCATENATE($V$30,\"_\",U41),選手名簿!$A:$E,5,FALSE))=TRUE,\"\",VLOOKUP(CONCATENATE($V$30,\"_\",U41),選手名簿!$A:$E,5,FALSE))","v":""}]
[null,{"$f":"IF(ISERROR(VLOOKUP(CONCATENATE($B$30,\"_\",C42),選手名簿!$A:$E,5,FALSE))=TRUE,\"\",VLOOKUP(CONCATENATE($B$30,\"_\",C42),選手名簿!$A:$E,5,FALSE))","v":""},null,null,null,null,null,null,null,{"$f":"IF(ISERROR(VLOOKUP(CONCATENATE($J$30,\"_\",I42),選手名簿!$A:$E,5,FALSE))=TRUE,\"\",VLOOKUP(CONCATENATE($J$30,\"_\",I42),選手名簿!$A:$E,5,FALSE))","v":""},null,null,null,{"$f":"IF(ISERROR(VLOOKUP(CONCATENATE($N$30,\"_\",O42),選手名簿!$A:$E,5,FALSE))=TRUE,\"\",VLOOKUP(CONCATENATE($N$30,\"_\",O42),選手名簿!$A:$E,5,FALSE))","v":""},null,null,null,null,null,null,null,{"$f":"IF(ISERROR(VLOOKUP(CONCATENATE($V$30,\"_\",U42),選手名簿!$A:$E,5,FALSE))=TRUE,\"\",VLOOKUP(CONCATENATE($V$30,\"_\",U42),選手名簿!$A:$E,5,FALSE))","v":""},null,null,"勝点表",null,"勝","○",null,"PK\n勝","△",null,"PK\n負","▲",null,"負","●"]
[null,{"$f":"IF(ISERROR(VLOOKUP(CONCATENATE($B$30,\"_\",C43),選手名簿!$A:$E,5,FALSE))=TRUE,\"\",VLOOKUP(CONCATENATE($B$30,\"_\",C43),選手名簿!$A:$E,5,FALSE))","v":""},null,null,null,null,null,null,null,{"$f":"IF(ISERROR(VLOOKUP(CONCATENATE($J$30,\"_\",I43),選手名簿!$A:$E,5,FALSE))=TRUE,\"\",VLOOKUP(CONCATENATE($J$30,\"_\",I43),選手名簿!$A:$E,5,FALSE))","v":""},null,null,null,{"$f":"IF(ISERROR(VLOOKUP(CONCATENATE($N$30,\"_\",O43),選手名簿!$A:$E,5,FALSE))=TRUE,\"\",VLOOKUP(CONCATENATE($N$30,\"_\",O43),選手名簿!$A:$E,5,FALSE))","v":""},null,null,null,null,null,null,null,{"$f":"IF(ISERROR(VLOOKUP(CONCATENATE($V$30,\"_\",U43),選手名簿!$A:$E,5,FALSE))=TRUE,\"\",VLOOKUP(CONCATENATE($V$30,\"_\",U43),選手名簿!$A:$E,5,FALSE))","v":""},null,null,null,null,null,3,null,null,2,null,null,1,null,null,0]
[null,{"$f":"IF(ISERROR(VLOOKUP(CONCATENATE($B$30,\"_\",C44),選手名簿!$A:$E,5,FALSE))=TRUE,\"\",VLOOKUP(CONCATENATE($B$30,\"_\",C44),選手名簿!$A:$E,5,FALSE))","v":""},null,null,null,null,null,null,null,{"$f":"IF(ISERROR(VLOOKUP(CONCATENATE($J$30,\"_\",I44),選手名簿!$A:$E,5,FALSE))=TRUE,\"\",VLOOKUP(CONCATENATE($J$30,\"_\",I44),選手名簿!$A:$E,5,FALSE))","v":""},null,null,null,{"$f":"IF(ISERROR(VLOOKUP(CONCATENATE($N$30,\"_\",O44),選手名簿!$A:$E,5,FALSE))=TRUE,\"\",VLOOKUP(CONCATENATE($N$30,\"_\",O44),選手名簿!$A:$E,5,FALSE))","v":""},null,null,null,null,null,null,null,{"$f":"IF(ISERROR(VLOOKUP(CONCATENATE($V$30,\"_\",U44),選手名簿!$A:$E,5,FALSE))=TRUE,\"\",VLOOKUP(CONCATENATE($V$30,\"_\",U44),選手名簿!$A:$E,5,FALSE))","v":""}]
[null,{"$f":"IF(ISERROR(VLOOKUP(CONCATENATE($B$30,\"_\",C45),選手名簿!$A:$E,5,FALSE))=TRUE,\"\",VLOOKUP(CONCATENATE($B$30,\"_\",C45),選手名簿!$A:$E,5,FALSE))","v":""},null,null,null,null,null,null,null,{"$f":"IF(ISERROR(VLOOKUP(CONCATENATE($J$30,\"_\",I45),選手名簿!$A:$E,5,FALSE))=TRUE,\"\",VLOOKUP(CONCATENATE($J$30,\"_\",I45),選手名簿!$A:$E,5,FALSE))","v":""},null,null,null,{"$f":"IF(ISERROR(VLOOKUP(CONCATENATE($N$30,\"_\",O45),選手名簿!$A:$E,5,FALSE))=TRUE,\"\",VLOOKUP(CONCATENATE($N$30,\"_\",O45),選手名簿!$A:$E,5,FALSE))","v":""},null,null,null,null,null,null,null,{"$f":"IF(ISERROR(VLOOKUP(CONCATENATE($V$30,\"_\",U45),選手名簿!$A:$E,5,FALSE))=TRUE,\"\",VLOOKUP(CONCATENATE($V$30,\"_\",U45),選手名簿!$A:$E,5,FALSE))","v":""}]
[]
[]
["⑤\n14:00～",{"$f":"C9","v":"鶴居ＳＳＳ"},{"$f":"IF(E48=\"\",\"\",SUM(E48:E49))","v":2},"（",1,"前半",1,"）",{"$f":"IF(G48=\"\",\"\",SUM(G48:G49))","v":4},{"$f":"C7","v":"ＦＣ　ＵＮＩＴＥ"},null,null,"⑥\n15:00～",{"$f":"O9","v":"明治北ＳＳＣ"},{"$f":"IF(Q48=\"\",\"\",SUM(Q48:Q49))","v":4},"（",3,"前半",0,"）",{"$f":"IF(S48=\"\",\"\",SUM(S48:S49))","v":0},{"$f":"O7","v":"豊後高田ＦＣ　Ｂｏｒｄｅｒ　Ｊｒ"},null,null,{"$f":"$Y$1","v":"OFA 第 50 回大分県少年サッカー大会　兼　KYFA 九州U-12サッカー大会大分県大会"},null,null,null,null,null,null,null,null,null,null,null,null,null,null,null,null,null,null,null,null,null,null,null,null,null,null,null,null,null,null,null,null,null,null,null,{"$f":"$BI$1","v":"１次リーグ結果　報告用紙"}]
[null,null,null,null,1,"後半",3,null,null,null,null,null,null,null,null,null,1,"後半",0]
[null,null,null,null,null,"PK",null,null,null,null,null,null,null,null,null,null,null,"PK",null,null,null,null,null,null,"＜時間割＞　①10:00～　②11:00～　③12:00～　④13:00～　⑤14:00～　⑥15:00～"]
["MC","安東　幹雄",null,null,null,null,"所属協会",null,null,"(一社)大分県サッカー協会　ジュニア委員会",null,null,"MC","中原　圭介",null,null,null,null,"所属協会",null,null,"(一社)大分県サッカー協会　ジュニア委員会"]
["WelfareOfficer","中原　圭介",null,null,null,null,"所属協会",null,null,"(一社)大分県サッカー協会　ジュニア委員会",null,null,"WelfareOfficer","安東　幹雄",null,null,null,null,"所属協会",null,null,"(一社)大分県サッカー協会　ジュニア委員会"]
["記録","木下　秀紀",null,null,null,null,"所属協会",null,null,"宇佐高田地区サッカー協会",null,null,"記録","中原　圭介",null,null,null,null,"所属協会",null,null,"(一社)大分県サッカー協会　ジュニア委員会"]
["R:",{"$f":"IF(ISERROR(VLOOKUP(G54,審判員!$A:$C,2,FALSE))=TRUE,\"\",VLOOKUP(G54,審判員!$A:$C,2,FALSE))","v":"穴井　裕大"},{"$f":"IF(ISERROR(VLOOKUP(G54,審判員!$A:$C,3,FALSE))=TRUE,\"\",VLOOKUP(G54,審判員!$A:$C,3,FALSE))","v":3},"級","資格番号",null,"R010044664",null,null,"本部",null,null,"R:",{"$f":"IF(ISERROR(VLOOKUP(S54,審判員!$A:$C,2,FALSE))=TRUE,\"\",VLOOKUP(S54,審判員!$A:$C,2,FALSE))","v":"中園　健太郎"},{"$f":"IF(ISERROR(VLOOKUP(S54,審判員!$A:$C,3,FALSE))=TRUE,\"\",VLOOKUP(S54,審判員!$A:$C,3,FALSE))","v":2},"級","資格番号",null,"R003317390",null,null,"本部",null,null,"会場",null,null,{"$f":"$N$4","v":"宇佐高田"},null,null,null,null,null,"⇒",{"$f":"$P$4","v":"宇佐市平成の森公園"}]
["AR1:",{"$f":"IF(ISERROR(VLOOKUP(G55,審判員!$A:$C,2,FALSE))=TRUE,\"\",VLOOKUP(G55,審判員!$A:$C,2,FALSE))","v":"廣戸　誠一"},{"$f":"IF(ISERROR(VLOOKUP(G55,審判員!$A:$C,3,FALSE))=TRUE,\"\",VLOOKUP(G55,審判員!$A:$C,3,FALSE))","v":3},"級","資格番号",null,"R001260070",null,null,{"$f":"N48","v":"明治北ＳＳＣ"},null,null,"AR1:",{"$f":"IF(ISERROR(VLOOKUP(S55,審判員!$A:$C,2,FALSE))=TRUE,\"\",VLOOKUP(S55,審判員!$A:$C,2,FALSE))","v":"宮崎　隆史"},{"$f":"IF(ISERROR(VLOOKUP(S55,審判員!$A:$C,3,FALSE))=TRUE,\"\",VLOOKUP(S55,審判員!$A:$C,3,FALSE))","v":3},"級","資格番号",null,"R004385495",null,null,{"$f":"B48","v":"鶴居ＳＳＳ"}]
["AR2:",{"$f":"IF(ISERROR(VLOOKUP(G56,審判員!$A:$C,2,FALSE))=TRUE,\"\",VLOOKUP(G56,審判員!$A:$C,2,FALSE))","v":"柳本　剛"},{"$f":"IF(ISERROR(VLOOKUP(G56,審判員!$A:$C,3,FALSE))=TRUE,\"\",VLOOKUP(G56,審判員!$A:$C,3,FALSE))","v":3},"級","資格番号",null,"R001261477",null,null,{"$f":"V48","v":"豊後高田ＦＣ　Ｂｏｒｄｅｒ　Ｊｒ"},null,null,"AR2:",{"$f":"IF(ISERROR(VLOOKUP(S56,審判員!$A:$C,2,FALSE))=TRUE,\"\",VLOOKUP(S56,審判員!$A:$C,2,FALSE))","v":"相良　章成"},{"$f":"IF(ISERROR(VLOOKUP(S56,審判員!$A:$C,3,FALSE))=TRUE,\"\",VLOOKUP(S56,審判員!$A:$C,3,FALSE))","v":3},"級","資格番号",null,"R006664864",null,null,{"$f":"J48","v":"ＦＣ　ＵＮＩＴＥ"}]
["4th:",{"$f":"IF(ISERROR(VLOOKUP(G57,審判員!$A:$C,2,FALSE))=TRUE,\"\",VLOOKUP(G57,審判員!$A:$C,2,FALSE))","v":"木下　秀紀"},{"$f":"IF(ISERROR(VLOOKUP(G57,審判員!$A:$C,3,FALSE))=TRUE,\"\",VLOOKUP(G57,審判員!$A:$C,3,FALSE))","v":4},"級","資格番号",null,"R008798138",null,null,"本部",null,null,"4th:",{"$f":"IF(ISERROR(VLOOKUP(S57,審判員!$A:$C,2,FALSE))=TRUE,\"\",VLOOKUP(S57,審判員!$A:$C,2,FALSE))","v":"奥田　和彦"},{"$f":"IF(ISERROR(VLOOKUP(S57,審判員!$A:$C,3,FALSE))=TRUE,\"\",VLOOKUP(S57,審判員!$A:$C,3,FALSE))","v":3},"級","資格番号",null,"R009460515",null,null,"本部"]
["警告/退場","氏名","背番号","分","内容",null,"内容","分","背番号","氏名","警告/退場",null,"警告/退場","氏名","背番号","分","内容",null,"内容","分","背番号","氏名","警告/退場",null,"パート",null,null,{"$f":"$N$6","v":"J"}]
[null,{"$f":"IF(ISERROR(VLOOKUP(CONCATENATE($B$48,\"_\",C59),選手名簿!$A:$E,5,FALSE))=TRUE,\"\",VLOOKUP(CONCATENATE($B$48,\"_\",C59),選手名簿!$A:$E,5,FALSE))","v":""},null,null,null,null,null,null,null,{"$f":"IF(ISERROR(VLOOKUP(CONCATENATE($J$48,\"_\",I59),選手名簿!$A:$E,5,FALSE))=TRUE,\"\",VLOOKUP(CONCATENATE($J$48,\"_\",I59),選手名簿!$A:$E,5,FALSE))","v":""},null,null,null,{"$f":"IF(ISERROR(VLOOKUP(CONCATENATE($N$48,\"_\",O59),選手名簿!$A:$E,5,FALSE))=TRUE,\"\",VLOOKUP(CONCATENATE($N$48,\"_\",O59),選手名簿!$A:$E,5,FALSE))","v":""},null,null,null,null,null,null,null,{"$f":"IF(ISERROR(VLOOKUP(CONCATENATE($V$48,\"_\",U59),選手名簿!$A:$E,5,FALSE))=TRUE,\"\",VLOOKUP(CONCATENATE($V$48,\"_\",U59),選手名簿!$A:$E,5,FALSE))","v":""}]
[null,{"$f":"IF(ISERROR(VLOOKUP(CONCATENATE($B$48,\"_\",C60),選手名簿!$A:$E,5,FALSE))=TRUE,\"\",VLOOKUP(CONCATENATE($B$48,\"_\",C60),選手名簿!$A:$E,5,FALSE))","v":""},null,null,null,null,null,null,null,{"$f":"IF(ISERROR(VLOOKUP(CONCATENATE($J$48,\"_\",I60),選手名簿!$A:$E,5,FALSE))=TRUE,\"\",VLOOKUP(CONCATENATE($J$48,\"_\",I60),選手名簿!$A:$E,5,FALSE))","v":""},null,null,null,{"$f":"IF(ISERROR(VLOOKUP(CONCATENATE($N$48,\"_\",O60),選手名簿!$A:$E,5,FALSE))=TRUE,\"\",VLOOKUP(CONCATENATE($N$48,\"_\",O60),選手名簿!$A:$E,5,FALSE))","v":""},null,null,null,null,null,null,null,{"$f":"IF(ISERROR(VLOOKUP(CONCATENATE($V$48,\"_\",U60),選手名簿!$A:$E,5,FALSE))=TRUE,\"\",VLOOKUP(CONCATENATE($V$48,\"_\",U60),選手名簿!$A:$E,5,FALSE))","v":""},null,null,null,{"$f":"$N$7","v":"J1"},null,null,{"$f":"$O$7","v":"豊後高田ＦＣ　Ｂｏｒｄｅｒ　Ｊｒ"},null,null,null,null,null,null,null,null,null,null,null,null,{"$f":"$V$7","v":"宇佐高田"}]
[null,{"$f":"IF(ISERROR(VLOOKUP(CONCATENATE($B$48,\"_\",C61),選手名簿!$A:$E,5,FALSE))=TRUE,\"\",VLOOKUP(CONCATENATE($B$48,\"_\",C61),選手名簿!$A:$E,5,FALSE))","v":""},null,null,null,null,null,null,null,{"$f":"IF(ISERROR(VLOOKUP(CONCATENATE($J$48,\"_\",I61),選手名簿!$A:$E,5,FALSE))=TRUE,\"\",VLOOKUP(CONCATENATE($J$48,\"_\",I61),選手名簿!$A:$E,5,FALSE))","v":""},null,null,null,{"$f":"IF(ISERROR(VLOOKUP(CONCATENATE($N$48,\"_\",O61),選手名簿!$A:$E,5,FALSE))=TRUE,\"\",VLOOKUP(CONCATENATE($N$48,\"_\",O61),選手名簿!$A:$E,5,FALSE))","v":""},null,null,null,null,null,null,null,{"$f":"IF(ISERROR(VLOOKUP(CONCATENATE($V$48,\"_\",U61),選手名簿!$A:$E,5,FALSE))=TRUE,\"\",VLOOKUP(CONCATENATE($V$48,\"_\",U61),選手名簿!$A:$E,5,FALSE))","v":""}]
[null,{"$f":"IF(ISERROR(VLOOKUP(CONCATENATE($B$48,\"_\",C62),選手名簿!$A:$E,5,FALSE))=TRUE,\"\",VLOOKUP(CONCATENATE($B$48,\"_\",C62),選手名簿!$A:$E,5,FALSE))","v":""},null,null,null,null,null,null,null,{"$f":"IF(ISERROR(VLOOKUP(CONCATENATE($J$48,\"_\",I62),選手名簿!$A:$E,5,FALSE))=TRUE,\"\",VLOOKUP(CONCATENATE($J$48,\"_\",I62),選手名簿!$A:$E,5,FALSE))","v":""},null,null,null,{"$f":"IF(ISERROR(VLOOKUP(CONCATENATE($N$48,\"_\",O62),選手名簿!$A:$E,5,FALSE))=TRUE,\"\",VLOOKUP(CONCATENATE($N$48,\"_\",O62),選手名簿!$A:$E,5,FALSE))","v":""},null,null,null,null,null,null,null,{"$f":"IF(ISERROR(VLOOKUP(CONCATENATE($V$48,\"_\",U62),選手名簿!$A:$E,5,FALSE))=TRUE,\"\",VLOOKUP(CONCATENATE($V$48,\"_\",U62),選手名簿!$A:$E,5,FALSE))","v":""},null,null,null,{"$f":"$N$8","v":"J2"},null,null,{"$f":"$O$8","v":"大道サッカースポーツ少年団"},null,null,null,null,null,null,null,null,null,null,null,null,{"$f":"$V$8","v":"大分"}]
[null,{"$f":"IF(ISERROR(VLOOKUP(CONCATENATE($B$48,\"_\",C63),選手名簿!$A:$E,5,FALSE))=TRUE,\"\",VLOOKUP(CONCATENATE($B$48,\"_\",C63),選手名簿!$A:$E,5,FALSE))","v":""},null,null,null,null,null,null,null,{"$f":"IF(ISERROR(VLOOKUP(CONCATENATE($J$48,\"_\",I63),選手名簿!$A:$E,5,FALSE))=TRUE,\"\",VLOOKUP(CONCATENATE($J$48,\"_\",I63),選手名簿!$A:$E,5,FALSE))","v":""},null,null,null,{"$f":"IF(ISERROR(VLOOKUP(CONCATENATE($N$48,\"_\",O63),選手名簿!$A:$E,5,FALSE))=TRUE,\"\",VLOOKUP(CONCATENATE($N$48,\"_\",O63),選手名簿!$A:$E,5,FALSE))","v":""},null,null,null,null,null,null,null,{"$f":"IF(ISERROR(VLOOKUP(CONCATENATE($V$48,\"_\",U63),選手名簿!$A:$E,5,FALSE))=TRUE,\"\",VLOOKUP(CONCATENATE($V$48,\"_\",U63),選手名簿!$A:$E,5,FALSE))","v":""}]
[null,null,null,null,null,null,null,null,null,null,null,null,null,null,null,null,null,null,null,null,null,null,null,null,null,{"$f":"$N$9","v":"J3"},null,null,{"$f":"$O$9","v":"明治北ＳＳＣ"},null,null,null,null,null,null,null,null,null,null,null,null,{"$f":"$V$9","v":"大分"}]
[]
[]
[]
[]
[]
[]
[]
[null,null,null,null,null,null,null,null,null,null,null,null,null,null,null,null,null,null,null,null,null,null,null,null,{"$f":"$Y$6","v":"パート"},null,null,null,{"$f":"$AB$58","v":"J"},null,null,{"$f":"$Y$78","v":"豊後高田ＦＣ　Ｂｏｒｄｅｒ　Ｊｒ"},null,null,null,null,{"$f":"$Y$84","v":"大道サッカースポーツ少年団"},null,null,null,null,{"$f":"$Y$90","v":"明治北ＳＳＣ"},null,null,null,null,"勝",null,"PK\n勝",null,"PK\n負",null,"負",null,"得点",null,"失点",null,"勝点",null,"勝点\n順位",null,"得失\n点差",null,"得失\n順位",null,"総\n順位"]
[]
[]
[]
[]
[]
[null,null,null,null,null,null,null,null,null,null,null,null,null,null,null,null,null,null,null,null,null,null,null,null,{"$f":"$AC$60","v":"豊後高田ＦＣ　Ｂｏｒｄｅｒ　Ｊｒ"},null,null,null,null,"星取表",null,null,null,null,null,null,{"$f":"IF(AK82=\"\",\"\",IF(AK82>AN82,\"○\",IF(AK82<AN82,\"●\",IF(AK80>AN80,\"△\",IF(AK80<AN80,\"▲\")))))","v":"●"},null,null,null,null,{"$f":"IF(AP82=\"\",\"\",IF(AP82>AS82,\"○\",IF(AP82<AS82,\"●\",IF(AP80>AS80,\"△\",IF(AP80<AS80,\"▲\")))))","v":"●"},null,null,null,null,{"$f":"COUNTIF($AF$78:$AT$79,\"○\")","v":0},null,{"$f":"COUNTIF($AF$78:$AT$79,\"△\")","v":0},null,{"$f":"COUNTIF($AF$78:$AT$79,\"▲\")","v":0},null,{"$f":"COUNTIF($AF$78:$AT$79,\"●\")","v":2},null,{"$f":"SUM($AK$82,$AP$82)","v":1},null,{"$f":"SUM($AN$82,$AS$82)","v":8},null,{"$f":"($AU$78*3)+($AW$78*2)+($AY$78*1)","v":0},null,{"$f":"RANK($BG$78,$BG$78:$BH$95)","v":3},null,{"$f":"$BC$78-$BE$78","v":-7},null,{"$f":"RANK($BK$78,$BK$78:$BL$95)","v":3}]
[]
[null,null,null,null,null,null,null,null,null,null,null,null,null,null,null,null,null,null,null,null,null,null,null,null,null,null,null,null,null,null,null,null,null,null,null,null,{"$f":"IF($Q$14=\"\",\"\",$Q$14)","v":""},null,"―",{"$f":"IF($S$14=\"\",\"\",$S$14)","v":""},null,{"$f":"IF($S$50=\"\",\"\",$S$50)","v":""},null,"―",{"$f":"IF($Q$50=\"\",\"\",$Q$50)","v":""}]
[null,null,null,null,null,null,null,null,null,null,null,null,null,null,null,null,null,null,null,null,null,null,null,null,null,null,null,null,null,"得失点"]
[null,null,null,null,null,null,null,null,null,null,null,null,null,null,null,null,null,null,null,null,null,null,null,null,null,null,null,null,null,null,null,null,null,null,null,null,{"$f":"$O$12","v":1},null,"―",{"$f":"$U$12","v":4},null,{"$f":"$U$48","v":0},null,"―",{"$f":"$O$48","v":4}]
[]
[null,null,null,null,null,null,null,null,null,null,null,null,null,null,null,null,null,null,null,null,null,null,null,null,{"$f":"$AC$62","v":"大道サッカースポーツ少年団"},null,null,null,null,"星取表",null,{"$f":"IF(AF88=\"\",\"\",IF(AF88>AI88,\"○\",IF(AF88<AI88,\"●\",IF(AF86>AI86,\"△\",IF(AF86<AI86,\"▲\")))))","v":"○"},null,null,null,null,null,null,null,null,null,{"$f":"IF(AP88=\"\",\"\",IF(AP88>AS88,\"○\",IF(AP88<AS88,\"●\",IF(AP86>AS86,\"△\",IF(AP86<AS86,\"▲\")))))","v":"●"},null,null,null,null,{"$f":"COUNTIF($AF$84:$AT$85,\"○\")","v":1},null,{"$f":"COUNTIF($AF$84:$AT$85,\"△\")","v":0},null,{"$f":"COUNTIF($AF$84:$AT$85,\"▲\")","v":0},null,{"$f":"COUNTIF($AF$84:$AT$85,\"●\")","v":1},null,{"$f":"SUM($AF$88,$AP$88)","v":4},null,{"$f":"SUM($AI$88,$AS$88)","v":3},null,{"$f":"($AU$84*3)+($AW$84*2)+($AY$84*1)","v":3},null,{"$f":"RANK($BG$84,$BG$78:$BH$95)","v":2},null,{"$f":"$BC$84-$BE$84","v":1},null,{"$f":"RANK($BK$84,$BK$78:$BL$95)","v":2}]
[]
[null,null,null,null,null,null,null,null,null,null,null,null,null,null,null,null,null,null,null,null,null,null,null,null,null,null,null,null,null,null,null,{"$f":"AN80","v":""},null,"―",{"$f":"AK80","v":""},null,null,null,null,null,null,{"$f":"IF($Q$32=\"\",\"\",$Q$32)","v":""},null,"―",{"$f":"IF($S$32=\"\",\"\",$S$32)","v":""}]
[null,null,null,null,null,null,null,null,null,null,null,null,null,null,null,null,null,null,null,null,null,null,null,null,null,null,null,null,null,"得失点"]
[null,null,null,null,null,null,null,null,null,null,null,null,null,null,null,null,null,null,null,null,null,null,null,null,null,null,null,null,null,null,null,{"$f":"AN82","v":4},null,"―",{"$f":"AK82","v":1},null,null,null,null,null,null,{"$f":"$O$30","v":0},null,"―",{"$f":"$U$30","v":2}]
[]
[null,null,null,null,null,null,null,null,null,null,null,null,null,null,null,null,null,null,null,null,null,null,null,null,{"$f":"$AC$64","v":"明治北ＳＳＣ"},null,null,null,null,"星取表",null,{"$f":"IF(AF94=\"\",\"\",IF(AF94>AI94,\"○\",IF(AF94<AI94,\"●\",IF(AF92>AI92,\"△\",IF(AF92<AI92,\"▲\")))))","v":"○"},null,null,null,null,{"$f":"IF(AK94=\"\",\"\",IF(AK94>AN94,\"○\",IF(AK94<AN94,\"●\",IF(AK92>AN92,\"△\",IF(AK92<AN92,\"▲\")))))","v":"○"},null,null,null,null,null,null,null,null,null,{"$f":"COUNTIF($AF$90:$AT$91,\"○\")","v":2},null,{"$f":"COUNTIF($AF$90:$AT$91,\"△\")","v":0},null,{"$f":"COUNTIF($AF$90:$AT$91,\"▲\")","v":0},null,{"$f":"COUNTIF($AF$90:$AT$91,\"●\")","v":0},null,{"$f":"SUM($AF$94,$AK$94)","v":6},null,{"$f":"SUM($AI$94,$AN$94)","v":0},null,{"$f":"($AU$90*3)+($AW$90*2)+($AY$90*1)","v":6},null,{"$f":"RANK($BG$90,$BG$78:$BH$95)","v":1},null,{"$f":"$BC$90-$BE$90","v":6},null,{"$f":"RANK($BK$90,$BK$78:$BL$95)","v":1}]
[]
[null,null,null,null,null,null,null,null,null,null,null,null,null,null,null,null,null,null,null,null,null,null,null,null,null,null,null,null,null,null,null,{"$f":"AS80","v":""},null,"―",{"$f":"AP80","v":""},null,{"$f":"AS86","v":""},null,"―",{"$f":"AP86","v":""}]
[null,null,null,null,null,null,null,null,null,null,null,null,null,null,null,null,null,null,null,null,null,null,null,null,null,null,null,null,null,"得失点"]
[null,null,null,null,null,null,null,null,null,null,null,null,null,null,null,null,null,null,null,null,null,null,null,null,null,null,null,null,null,null,null,{"$f":"AS82","v":4},null,"―",{"$f":"AP82","v":0},null,{"$f":"AS88","v":2},null,"―",{"$f":"AP88","v":0}]
[]
[]
[null,null,null,null,null,null,null,null,null,null,null,null,null,null,null,null,null,null,null,null,null,null,null,null,"Ⅰ勝点（勝３点　ＰＫ勝２点　ＰＫ負１点　負０点）　Ⅱ当該チームの戦績　Ⅲ得失点差　Ⅳ多得点　Ⅴ抽選の順で順位を決定する。"]
[]
[null,null,null,null,null,null,null,null,null,null,null,null,null,null,null,null,null,null,null,null,null,null,null,null,"勝点表",null,"勝","○",null,"PK\n勝","△",null,"PK\n負","▲",null,"負","●"]
[null,null,null,null,null,null,null,null,null,null,null,null,null,null,null,null,null,null,null,null,null,null,null,null,null,null,null,3,null,null,2,null,null,1,null,null,0]

{"sheet":"選手名簿","index":19,"n_rows":579,"n_cols":8,"rows_kept":579,"cut":false,"hidden":true,"merged":[]}
[{"$f":"CONCATENATE(B1,\"_\",C1)","v":"大会参加チーム名_背番号"},"大会参加チーム名","背番号","ポジション","選手名漢字","選手名カナ","学年","男女区分"]
[{"$f":"CONCATENATE(B2,\"_\",C2)","v":"若宮サッカースポーツ少年団_1"},"若宮サッカースポーツ少年団",{"$f":"(\"1\")","v":"1"},"GK","中島　珀太朗","ナカシマ　ハクタロウ",6,"男子"]
[{"$f":"CONCATENATE(B3,\"_\",C3)","v":"若宮サッカースポーツ少年団_2"},"若宮サッカースポーツ少年団",{"$f":"(\"2\")","v":"2"},"DF","渡邉　櫂","ワタナベ　カイ",6,"男子"]
["若宮サッカースポーツ少年団_4","若宮サッカースポーツ少年団",{"$f":"(\"4\")","v":"4"},"DF","上城　敦嗣","カミジョウ　アツシ",6,"男子"]
["若宮サッカースポーツ少年団_5","若宮サッカースポーツ少年団",{"$f":"(\"5\")","v":"5"},"DF","三笘　みなみ","ミトマ　ミナミ",6,"女子小学生"]
["若宮サッカースポーツ少年団_7","若宮サッカースポーツ少年団",{"$f":"(\"7\")","v":"7"},"MF","加藤　奨瑛","カトウ　ショウエイ",6,"男子"]
["若宮サッカースポーツ少年団_8","若宮サッカースポーツ少年団",{"$f":"(\"8\")","v":"8"},"MF","黒木　力斗","クロキ　リキト",6,"男子"]
["若宮サッカースポーツ少年団_10","若宮サッカースポーツ少年団",{"$f":"(\"10\")","v":"10"},"FW","中園　俊介","ナカゾノ　シュンスケ",6,"男子"]
["若宮サッカースポーツ少年団_13","若宮サッカースポーツ少年団",{"$f":"(\"13\")","v":"13"},"FW","黒木　晴仁","クロキ　ハルヒト",4,"男子"]
["若宮サッカースポーツ少年団_14","若宮サッカースポーツ少年団",{"$f":"(\"14\")","v":"14"},"MF","吉谷　琉斗","ヨシタニ　リュウト",3,"男子"]
["若宮サッカースポーツ少年団_15","若宮サッカースポーツ少年団",{"$f":"(\"15\")","v":"15"},"MF","内野　翼","ウチノ　ツバサ",2,"男子"]
["ＦＣアリアーレ_1","ＦＣアリアーレ",{"$f":"(\"1\")","v":"1"},"GK","野村　枝暉","ノムラ　シキ",6,"男子"]
["ＦＣアリアーレ_2","ＦＣアリアーレ",{"$f":"(\"2\")","v":"2"},"MF","伊藤　瑠","イトウ　ルイ",5,"男子"]
["ＦＣアリアーレ_3","ＦＣアリアーレ",{"$f":"(\"3\")","v":"3"},"FW","吉弘　瑠唯","ヨシヒロ　ルイ",5,"男子"]
["ＦＣアリアーレ_4","ＦＣアリアーレ",{"$f":"(\"4\")","v":"4"},"DF","矢野　想翔","ヤノ　ソウハ",6,"男子"]
["ＦＣアリアーレ_5","ＦＣアリアーレ",{"$f":"(\"5\")","v":"5"},"DF","吉弘　怜大","ヨシヒロ　レオ",6,"男子"]
["ＦＣアリアーレ_6","ＦＣアリアーレ",{"$f":"(\"6\")","v":"6"},"MF","児玉　一穂","コダマ　イチホ",6,"女子小学生"]
["ＦＣアリアーレ_7","ＦＣアリアーレ",{"$f":"(\"7\")","v":"7"},"MF","泉　颯飛","イズミ　ソウト",6,"男子"]
["ＦＣアリアーレ_8","ＦＣアリアーレ",{"$f":"(\"8\")","v":"8"},"MF","後藤　瑠力","ゴトウ　ルチカ",6,"男子"]
["ＦＣアリアーレ_9","ＦＣアリアーレ",{"$f":"(\"9\")","v":"9"},"FW","森下　柊飛","モリシタ　シュウト",6,"男子"]
["ＦＣアリアーレ_10","ＦＣアリアーレ",{"$f":"(\"10\")","v":"10"},"MF","松坂　童夢","マツザカ　ドウム",6,"男子"]
["ＦＣアリアーレ_11","ＦＣアリアーレ",{"$f":"(\"11\")","v":"11"},"MF","金丸　響","カナマル　ヒビキ",6,"男子"]
["ＦＣアリアーレ_12","ＦＣアリアーレ",{"$f":"(\"12\")","v":"12"},"DF","新原　遥翔","シンバル　ハルト",5,"男子"]
["ＦＣアリアーレ_13","ＦＣアリアーレ",{"$f":"(\"13\")","v":"13"},"MF","河津　悠星","カワズ　ユウヤ",5,"男子"]
["ＦＣアリアーレ_14","ＦＣアリアーレ",{"$f":"(\"14\")","v":"14"},"MF","武久　文弥","タケヒサ　フミヤ",6,"男子"]
["ＦＣアリアーレ_15","ＦＣアリアーレ",{"$f":"(\"15\")","v":"15"},"MF","櫻木　海晴","サクラギ　カイセイ",5,"男子"]
["ＦＣアリアーレ_16","ＦＣアリアーレ",{"$f":"(\"16\")","v":"16"},"GK","古賀　貫太郎","コガ　カンタロウ",5,"男子"]
["きつきＦＣ_1","きつきＦＣ",{"$f":"(\"1\")","v":"1"},"GK","神田　謙二郎","カンダ　ケンジロウ",6,"男子"]
["きつきＦＣ_2","きつきＦＣ",{"$f":"(\"2\")","v":"2"},"DF","岩田　和海","イワタ　ノドカ",6,"女子小学生"]
["きつきＦＣ_3","きつきＦＣ",{"$f":"(\"3\")","v":"3"},"DF","木元　大和","キモト　ヤマト",5,"男子"]
["きつきＦＣ_4","きつきＦＣ",{"$f":"(\"4\")","v":"4"},"DF","林　悠真","ハヤシ　ユウマ",5,"男子"]
["きつきＦＣ_5","きつきＦＣ",{"$f":"(\"5\")","v":"5"},"MF","岩田　璃空","イワタ　リク",4,"男子"]
["きつきＦＣ_6","きつきＦＣ",{"$f":"(\"6\")","v":"6"},"MF","立脇　蒼惟","タテワキ　アオイ",5,"男子"]
["きつきＦＣ_7","きつきＦＣ",{"$f":"(\"7\")","v":"7"},"MF","伊東　克弥","イトウ　カツミ",5,"男子"]
["きつきＦＣ_8","きつきＦＣ",{"$f":"(\"8\")","v":"8"},"DF","山本　海璃","ヤマモト　カイリ",6,"男子"]
["きつきＦＣ_9","きつきＦＣ",{"$f":"(\"9\")","v":"9"},"DF","伊藤　天俊","イトウ　タカトシ",6,"男子"]
["きつきＦＣ_10","きつきＦＣ",{"$f":"(\"10\")","v":"10"},"MF","徳丸　亜色夢","トクマル　アイム",6,"男子"]
["きつきＦＣ_11","きつきＦＣ",{"$f":"(\"11\")","v":"11"},"FW","髙橋　陣","タカハシ　ジン",6,"男子"]
["きつきＦＣ_12","きつきＦＣ",{"$f":"(\"12\")","v":"12"},"DF","工藤　光向太","クドウ　ヒナタ",4,"男子"]
["きつきＦＣ_13","きつきＦＣ",{"$f":"(\"13\")","v":"13"},"MF","清水　優輔","シミズ　ユウスケ",4,"男子"]
["きつきＦＣ_14","きつきＦＣ",{"$f":"(\"14\")","v":"14"},"MF","廣瀬　帆斗","ヒロセ　ハント",3,"男子"]
["きつきＦＣ_15","きつきＦＣ",{"$f":"(\"15\")","v":"15"},"FW","木元　大芽","キモト　タイガ",3,"男子"]
["きつきＦＣ_16","きつきＦＣ",{"$f":"(\"16\")","v":"16"},"GK","清水　翔一郎","シミズ　ショウイチロウ",6,"男子"]
["武蔵オークスサッカークラブ_1","武蔵オークスサッカークラブ",{"$f":"(\"1\")","v":"1"},"GK","大橋　凪","オオハシ　ナギ",5,"男子"]
["武蔵オークスサッカークラブ_2","武蔵オークスサッカークラブ",{"$f":"(\"2\")","v":"2"},"MF","松原　樹","マツバラ　イツキ",5,"男子"]
["武蔵オークスサッカークラブ_3","武蔵オークスサッカークラブ",{"$f":"(\"3\")","v":"3"},"FW","遠藤　稜也","エンドウ　リョウヤ",6,"男子"]
["武蔵オークスサッカークラブ_4","武蔵オークスサッカークラブ",{"$f":"(\"4\")","v":"4"},"MF","田中　大智","タナカ　ダイチ",6,"男子"]
["武蔵オークスサッカークラブ_5","武蔵オークスサッカークラブ",{"$f":"(\"5\")","v":"5"},"DF","難波　優輝","ナンバ　ユウキ",5,"男子"]
["武蔵オークスサッカークラブ_6","武蔵オークスサッカークラブ",{"$f":"(\"6\")","v":"6"},"MF","西村　悠吾","ニシムラ　ユウゴ",6,"男子"]
["武蔵オークスサッカークラブ_7","武蔵オークスサッカークラブ",{"$f":"(\"7\")","v":"7"},"DF","高井　颯太","タカイ　ソウタ",6,"男子"]
["武蔵オークスサッカークラブ_8","武蔵オークスサッカークラブ",{"$f":"(\"8\")","v":"8"},"MF","福元　陸駆","フクモト　リク",6,"男子"]
["武蔵オークスサッカークラブ_9","武蔵オークスサッカークラブ",{"$f":"(\"9\")","v":"9"},"MF","赤嶺　友馬","アカミネ　ユウマ",6,"男子"]
["武蔵オークスサッカークラブ_10","武蔵オークスサッカークラブ",{"$f":"(\"10\")","v":"10"},"FW","佐藤　佑樹","サトウ　ユウキ",5,"男子"]
["武蔵オークスサッカークラブ_11","武蔵オークスサッカークラブ",{"$f":"(\"11\")","v":"11"},"DF","佐藤　健悠","サトウ　ケンユウ",6,"男子"]
["武蔵オークスサッカークラブ_12","武蔵オークスサッカークラブ",{"$f":"(\"12\")","v":"12"},"MF","清末　智暉","キヨスエ　トモキ",5,"男子"]
["武蔵オークスサッカークラブ_13","武蔵オークスサッカークラブ",{"$f":"(\"13\")","v":"13"},"FW","末綱　倖成","スエツナ　ユキナリ",5,"男子"]
["武蔵オークスサッカークラブ_14","武蔵オークスサッカークラブ",{"$f":"(\"14\")","v":"14"},"MF","有村　連空瑠","アリムラ　レアル",5,"男子"]
["武蔵オークスサッカークラブ_16","武蔵オークスサッカークラブ",{"$f":"(\"16\")","v":"16"},"GK","江本　寿希也","エモト　ジュキヤ",6,"男子"]
["鶴居ＳＳＳ_1","鶴居ＳＳＳ",{"$f":"(\"1\")","v":"1"},"GK","柾木　悠佑","マサキ　ユウスケ",6,"男子"]
["鶴居ＳＳＳ_2","鶴居ＳＳＳ",{"$f":"(\"2\")","v":"2"},"DF","井上　裕伍","イノウエ　ユウゴ",6,"男子"]
["鶴居ＳＳＳ_3","鶴居ＳＳＳ",{"$f":"(\"3\")","v":"3"},"DF","横尾　拓也","ヨコオ　タクヤ",6,"男子"]
["鶴居ＳＳＳ_4","鶴居ＳＳＳ",{"$f":"(\"4\")","v":"4"},"MF","松尾　颯大","マツオ　ソウタ",6,"男子"]
["鶴居ＳＳＳ_5","鶴居ＳＳＳ",{"$f":"(\"5\")","v":"5"},"FW","松浪　仁","マツナミ　ジン",6,"男子"]
["鶴居ＳＳＳ_6","鶴居ＳＳＳ",{"$f":"(\"6\")","v":"6"},"DF","野田　拓飛","ノダ　タクト",6,"男子"]
["鶴居ＳＳＳ_7","鶴居ＳＳＳ",{"$f":"(\"7\")","v":"7"},"MF","神田　知希","カンダ　トモキ",6,"男子"]
["鶴居ＳＳＳ_8","鶴居ＳＳＳ",{"$f":"(\"8\")","v":"8"},"DF","合嶋　空","ゴウジマ　ソラ",6,"男子"]
[{"$f":"CONCATENATE(B67,\"_\",C67)","v":"鶴居ＳＳＳ_9"},"鶴居ＳＳＳ",{"$f":"(\"9\")","v":"9"},"DF","田口　晴十","タグチ　ハルト",6,"男子"]
["鶴居ＳＳＳ_10","鶴居ＳＳＳ",{"$f":"(\"10\")","v":"10"},"FW","永松　大河","ナガマツ　タイガ",6,"男子"]
["鶴居ＳＳＳ_11","鶴居ＳＳＳ",{"$f":"(\"11\")","v":"11"},"FW","村上　礼弥","ムラカミ　ライヤ",6,"男子"]
["鶴居ＳＳＳ_12","鶴居ＳＳＳ",{"$f":"(\"12\")","v":"12"},"GK","新家　邑大","シンヤ　ユウダイ",6,"男子"]
["鶴居ＳＳＳ_13","鶴居ＳＳＳ",{"$f":"(\"13\")","v":"13"},"DF","大下　悠斗","オオシタ　ユウト",6,"男子"]
["鶴居ＳＳＳ_14","鶴居ＳＳＳ",{"$f":"(\"14\")","v":"14"},"MF","大江　真佐仁","オオエ　マサヒト",5,"男子"]
["鶴居ＳＳＳ_15","鶴居ＳＳＳ",{"$f":"(\"15\")","v":"15"},"MF","井上　翔伍","イノウエ　ショウゴ",5,"男子"]
["鶴居ＳＳＳ_16","鶴居ＳＳＳ",{"$f":"(\"16\")","v":"16"},"DF","畑中　陽介","ハタナカ　ヨウスケ",5,"男子"]
["鶴居ＳＳＳ_17","鶴居ＳＳＳ",{"$f":"(\"17\")","v":"17"},"DF","穐吉　胤杜","アキヨシ　カツト",4,"男子"]
["鶴居ＳＳＳ_18","鶴居ＳＳＳ",{"$f":"(\"18\")","v":"18"},"FW","永松　銀河","ナガマツ　ギンガ",3,"男子"]
["ＦＣ大野_1","ＦＣ大野",{"$f":"(\"1\")","v":"1"},"GK","縄田　遊乃亮","ナワタ　ユウノスケ",6,"男子"]
["ＦＣ大野_2","ＦＣ大野",{"$f":"(\"2\")","v":"2"},"DF","深田　豪","フカタ　ゴウ",5,"男子"]
["ＦＣ大野_3","ＦＣ大野",{"$f":"(\"3\")","v":"3"},"FW","仲野　雅貴","ナカノ　マサキ",5,"男子"]
["ＦＣ大野_4","ＦＣ大野",{"$f":"(\"4\")","v":"4"},"MF","佐藤　圭悠","サトウ　ヨシハル",4,"男子"]
["ＦＣ大野_5","ＦＣ大野",{"$f":"(\"5\")","v":"5"},"FW","山添　央晴","ヤマゾエ　オウセイ",5,"男子"]
["ＦＣ大野_6","ＦＣ大野",{"$f":"(\"6\")","v":"6"},"DF","藤並　優月","フジナミ　ユヅキ",6,"男子"]
["ＦＣ大野_7","ＦＣ大野",{"$f":"(\"7\")","v":"7"},"MF","小深田　大晟","コブカタ　タイセイ",6,"男子"]
["ＦＣ大野_8","ＦＣ大野",{"$f":"(\"8\")","v":"8"},"FW","麻生　魁斗","アソウ　カイト",6,"男子"]
["ＦＣ大野_9","ＦＣ大野",{"$f":"(\"9\")","v":"9"},"MF","川野　陣","カワノ　ジン",6,"男子"]
["ＦＣ大野_10","ＦＣ大野",{"$f":"(\"10\")","v":"10"},"MF","狭間　優人","ハザマ　ユウト",6,"男子"]
["ＦＣ大野_11","ＦＣ大野",{"$f":"(\"11\")","v":"11"},"FW","青松　琉","アオマツ　ルイ",6,"男子"]
["ＦＣ大野_12","ＦＣ大野",{"$f":"(\"12\")","v":"12"},"FW","日坂　祐翔","ヒサカ　ヒロト",3,"男子"]
["ＦＣ大野_13","ＦＣ大野",{"$f":"(\"13\")","v":"13"},"FW","麻生　庵","アソウ　イオリ",4,"男子"]
["ＦＣ大野_14","ＦＣ大野",{"$f":"(\"14\")","v":"14"},"FW","小野　涼成","オノ　リョウセイ",3,"男子"]
["ＦＣ大野_15","ＦＣ大野",{"$f":"(\"15\")","v":"15"},"MF","日坂　春翔","ヒサカ　ハルト",5,"男子"]
["ＦＣ大野_16","ＦＣ大野",{"$f":"(\"16\")","v":"16"},"GK","後藤　瑠衣","ゴトウ　ルイ",4,"男子"]
["ＦＣ大野_18","ＦＣ大野",{"$f":"(\"18\")","v":"18"},"DF","河野　太陽","カワノ　タイヨウ",6,"男子"]
["ＦＣ大野_20","ＦＣ大野",{"$f":"(\"20\")","v":"20"},"MF","首藤　涼太","シュトウ　リョウタ",3,"男子"]
["Ｓｈｙｎｔ　ＦＣ_1","Ｓｈｙｎｔ　ＦＣ",{"$f":"(\"1\")","v":"1"},"GK","河野　巧磨","コウノ　タクマ",6,"男子"]
["Ｓｈｙｎｔ　ＦＣ_2","Ｓｈｙｎｔ　ＦＣ",{"$f":"(\"2\")","v":"2"},"MF","前田　朔良","マエダ　サクラ",6,"男子"]
["Ｓｈｙｎｔ　ＦＣ_3","Ｓｈｙｎｔ　ＦＣ",{"$f":"(\"3\")","v":"3"},"DF","赤木　陽斗","アカギ　ハルト",6,"男子"]
["Ｓｈｙｎｔ　ＦＣ_4","Ｓｈｙｎｔ　ＦＣ",{"$f":"(\"4\")","v":"4"},"MF","井石　凜太朗","イセキ　リンタロウ",6,"男子"]
["Ｓｈｙｎｔ　ＦＣ_5","Ｓｈｙｎｔ　ＦＣ",{"$f":"(\"5\")","v":"5"},"MF","楠木　楽","クスノキ　ラク",6,"男子"]
["Ｓｈｙｎｔ　ＦＣ_6","Ｓｈｙｎｔ　ＦＣ",{"$f":"(\"6\")","v":"6"},"DF","有田　優希翔","アリタ　ユキト",6,"男子"]
["Ｓｈｙｎｔ　ＦＣ_7","Ｓｈｙｎｔ　ＦＣ",{"$f":"(\"7\")","v":"7"},"FW","伊藤　光琉","イトウ　ヒカル",6,"男子"]
["Ｓｈｙｎｔ　ＦＣ_8","Ｓｈｙｎｔ　ＦＣ",{"$f":"(\"8\")","v":"8"},"FW","亀井　智次","カメイ　トモツグ",6,"男子"]
["Ｓｈｙｎｔ　ＦＣ_9","Ｓｈｙｎｔ　ＦＣ",{"$f":"(\"9\")","v":"9"},"MF","宮房　秀知","ミヤフサ　ヒデトモ",6,"男子"]
["Ｓｈｙｎｔ　ＦＣ_10","Ｓｈｙｎｔ　ＦＣ",{"$f":"(\"10\")","v":"10"},"MF","十時　夢叶","トトキ　ユウト",6,"男子"]
["Ｓｈｙｎｔ　ＦＣ_11","Ｓｈｙｎｔ　ＦＣ",{"$f":"(\"11\")","v":"11"},"MF","村上　一誓","ムラカミ　イッセイ",6,"男子"]
["Ｓｈｙｎｔ　ＦＣ_12","Ｓｈｙｎｔ　ＦＣ",{"$f":"(\"12\")","v":"12"},"DF","山崎　雅慶","ヤマサキ　マサヨシ",6,"男子"]
["Ｓｈｙｎｔ　ＦＣ_13","Ｓｈｙｎｔ　ＦＣ",{"$f":"(\"13\")","v":"13"},"DF","堀田　憲利","ホリタ　ケント",6,"男子"]
["Ｓｈｙｎｔ　ＦＣ_14","Ｓｈｙｎｔ　ＦＣ",{"$f":"(\"14\")","v":"14"},"FW","田中　琉","タナカ　リュウ",6,"男子"]
["Ｓｈｙｎｔ　ＦＣ_17","Ｓｈｙｎｔ　ＦＣ",{"$f":"(\"17\")","v":"17"},"GK","川嶋　晴怜","カワシマ　セイラ",6,"男子"]
["中津沖代ＪＳＣ_1","中津沖代ＪＳＣ",{"$f":"(\"1\")","v":"1"},"GK","大森　宗樹","オオモリ　ソウジュ",5,"男子"]
["中津沖代ＪＳＣ_2","中津沖代ＪＳＣ",{"$f":"(\"2\")","v":"2"},"MF","田中　琉輝","タナカ　リュウキ",5,"男子"]
["中津沖代ＪＳＣ_3","中津沖代ＪＳＣ",{"$f":"(\"3\")","v":"3"},"FW","古梶　颯大","コカジ　ソウタ",5,"男子"]
["中津沖代ＪＳＣ_4","中津沖代ＪＳＣ",{"$f":"(\"4\")","v":"4"},"DF","高木　悠成","タカキ　ユウセイ",5,"男子"]
["中津沖代ＪＳＣ_6","中津沖代ＪＳＣ",{"$f":"(\"6\")","v":"6"},"FW","大久保　律輝","オオクボ　リツキ",5,"男子"]
["中津沖代ＪＳＣ_7","中津沖代ＪＳＣ",{"$f":"(\"7\")","v":"7"},"MF","平原　俊介","ヒラバル　シュンスケ",6,"男子"]
["中津沖代ＪＳＣ_8","中津沖代ＪＳＣ",{"$f":"(\"8\")","v":"8"},"FW","野依　桜介","ノヨリ　オウスケ",6,"男子"]
["中津沖代ＪＳＣ_9","中津沖代ＪＳＣ",{"$f":"(\"9\")","v":"9"},"MF","白石　悠人","シライシ　ユウト",6,"男子"]
["中津沖代ＪＳＣ_10","中津沖代ＪＳＣ",{"$f":"(\"10\")","v":"10"},"DF","外園　優心","ホカゾノ　ユウト",6,"男子"]
["中津沖代ＪＳＣ_11","中津沖代ＪＳＣ",{"$f":"(\"11\")","v":"11"},"DF","松崎　匠音","マツサキ　タクト",6,"男子"]
["中津沖代ＪＳＣ_12","中津沖代ＪＳＣ",{"$f":"(\"12\")","v":"12"},"MF","小野　悠真","オノ　ユウシン",5,"男子"]
["中津沖代ＪＳＣ_13","中津沖代ＪＳＣ",{"$f":"(\"13\")","v":"13"},"FW","長岡　巧磨","ナガオカ　タクマ",6,"男子"]
["中津沖代ＪＳＣ_14","中津沖代ＪＳＣ",{"$f":"(\"14\")","v":"14"},"FW","佐々木　陽音","ササキ　ハルト",5,"男子"]
["中津沖代ＪＳＣ_15","中津沖代ＪＳＣ",{"$f":"(\"15\")","v":"15"},"MF","井上　大和","イノウエ　ヤマト",5,"男子"]
["中津沖代ＪＳＣ_16","中津沖代ＪＳＣ",{"$f":"(\"16\")","v":"16"},"FW","長岡　観太","ナガオカ　カンタ",5,"男子"]
["中津沖代ＪＳＣ_17","中津沖代ＪＳＣ",{"$f":"(\"17\")","v":"17"},"FW","久家　侑奈","クゲ　ユウナ",4,"女子小学生"]
["中津沖代ＪＳＣ_18","中津沖代ＪＳＣ",{"$f":"(\"18\")","v":"18"},"GK","外園　湊心","ホカゾノ　ソウタ",4,"男子"]
["中津沖代ＪＳＣ_19","中津沖代ＪＳＣ",{"$f":"(\"19\")","v":"19"},"DF","小野　煌人","オノ　コウト",4,"男子"]
["千怒サッカースポーツ少年団_2","千怒サッカースポーツ少年団",{"$f":"(\"2\")","v":"2"},"MF","有永　夏基","アリナガ　ナツキ",3,"男子"]
["千怒サッカースポーツ少年団_3","千怒サッカースポーツ少年団",{"$f":"(\"3\")","v":"3"},"FW","堀口　滉太","ホリグチ　コウタ",3,"男子"]
["千怒サッカースポーツ少年団_4","千怒サッカースポーツ少年団",{"$f":"(\"4\")","v":"4"},"FW","石谷　悠次郎","イシタニ　ユウジロウ",3,"男子"]
[{"$f":"CONCATENATE(B131,\"_\",C131)","v":"千怒サッカースポーツ少年団_5"},"千怒サッカースポーツ少年団",{"$f":"(\"5\")","v":"5"},"DF","松下　琴春","マツシタ　コハル",5,"女子小学生"]
["千怒サッカースポーツ少年団_6","千怒サッカースポーツ少年団",{"$f":"(\"6\")","v":"6"},"MF","小松　由奈","コマツ　ユナ",5,"女子小学生"]
["千怒サッカースポーツ少年団_7","千怒サッカースポーツ少年団",{"$f":"(\"7\")","v":"7"},"DF","松下　昊稀","マツシタ　コウキ",6,"男子"]
["千怒サッカースポーツ少年団_8","千怒サッカースポーツ少年団",{"$f":"(\"8\")","v":"8"},"MF","石井　綾汰","イシイ　リョウタ",6,"男子"]
["千怒サッカースポーツ少年団_9","千怒サッカースポーツ少年団",{"$f":"(\"9\")","v":"9"},"FW","大塚　柊仁","オオツカ　シュウジ",6,"男子"]
["千怒サッカースポーツ少年団_10","千怒サッカースポーツ少年団",{"$f":"(\"10\")","v":"10"},"MF","小手川　蓮","コテガワ　レン",6,"男子"]
["千怒サッカースポーツ少年団_11","千怒サッカースポーツ少年団",{"$f":"(\"11\")","v":"11"},"FW","小手川　耀","コテガワ　ヨウ",2,"男子"]
["千怒サッカースポーツ少年団_12","千怒サッカースポーツ少年団",{"$f":"(\"12\")","v":"12"},"GK","仲　凌生","ナカ　リョウセイ",2,"男子"]
["千怒サッカースポーツ少年団_13","千怒サッカースポーツ少年団",{"$f":"(\"13\")","v":"13"},"FW","坂本　凪","サカモト　ナギ",2,"男子"]
[{"$f":"CONCATENATE(B140,\"_\",C140)","v":"千怒サッカースポーツ少年団_14"},"千怒サッカースポーツ少年団",{"$f":"(\"14\")","v":"14"},"GK","軸丸　大輝","ジクマル　ダイキ",5,"男子"]
["千怒サッカースポーツ少年団_15","千怒サッカースポーツ少年団",{"$f":"(\"15\")","v":"15"},"MF","高瀬　菱太郎","タカセ　リョウタロウ",3,"男子"]
["千怒サッカースポーツ少年団_16","千怒サッカースポーツ少年団",{"$f":"(\"16\")","v":"16"},"FW","上田　彗斗","ウエダ　ケイト",2,"男子"]
["千怒サッカースポーツ少年団_17","千怒サッカースポーツ少年団",{"$f":"(\"17\")","v":"17"},"FW","西村　鴻志","ニシムラ　コウシ",2,"男子"]
["千怒サッカースポーツ少年団_18","千怒サッカースポーツ少年団",{"$f":"(\"18\")","v":"18"},"FW","高野　璃來","タカノ　リク",2,"男子"]
["弥生少年サッカークラブ_1","弥生少年サッカークラブ",{"$f":"(\"1\")","v":"1"},"GK","中岡　駿","ナカオカ　シュン",6,"男子"]
["弥生少年サッカークラブ_2","弥生少年サッカークラブ",{"$f":"(\"2\")","v":"2"},"DF","藤原　駿介","フジワラ　シュンスケ",5,"男子"]
["弥生少年サッカークラブ_3","弥生少年サッカークラブ",{"$f":"(\"3\")","v":"3"},"DF","前田　光史郎","マエダ　コウシロウ",5,"男子"]
["弥生少年サッカークラブ_4","弥生少年サッカークラブ",{"$f":"(\"4\")","v":"4"},"FW","木下　昊","キノシタ　コウ",5,"男子"]
["弥生少年サッカークラブ_5","弥生少年サッカークラブ",{"$f":"(\"5\")","v":"5"},"MF","藤原　風","フジワラ　カジ",5,"男子"]
["弥生少年サッカークラブ_6","弥生少年サッカークラブ",{"$f":"(\"6\")","v":"6"},"MF","藤原　時哉","フジワラ　トキヤ",5,"男子"]
["弥生少年サッカークラブ_7","弥生少年サッカークラブ",{"$f":"(\"7\")","v":"7"},"MF","菅田　雄斗","スガタ　ユウト",5,"男子"]
["弥生少年サッカークラブ_8","弥生少年サッカークラブ",{"$f":"(\"8\")","v":"8"},"DF","河野　泰良","コウノ　タイラ",4,"男子"]
["弥生少年サッカークラブ_9","弥生少年サッカークラブ",{"$f":"(\"9\")","v":"9"},"MF","小野　陽平","オノ　ヨウヘイ",5,"男子"]
["弥生少年サッカークラブ_10","弥生少年サッカークラブ",{"$f":"(\"10\")","v":"10"},"MF","芦刈　悠人","アシカリ　ユウト",6,"男子"]
["弥生少年サッカークラブ_11","弥生少年サッカークラブ",{"$f":"(\"11\")","v":"11"},"FW","竹嶋　優","タケシマ　ユウ",4,"男子"]
["弥生少年サッカークラブ_12","弥生少年サッカークラブ",{"$f":"(\"12\")","v":"12"},"DF","田中　志門","タナカ　シモン",5,"男子"]
["弥生少年サッカークラブ_13","弥生少年サッカークラブ",{"$f":"(\"13\")","v":"13"},"FW","染矢　優心","ソメヤ　ユウシン",4,"男子"]
["弥生少年サッカークラブ_14","弥生少年サッカークラブ",{"$f":"(\"14\")","v":"14"},"MF","伊東　将星","イトウ　ショウセイ",4,"男子"]
["弥生少年サッカークラブ_15","弥生少年サッカークラブ",{"$f":"(\"15\")","v":"15"},"DF","岡本　颯真","オカモト　ソウマ",4,"男子"]
["弥生少年サッカークラブ_16","弥生少年サッカークラブ",{"$f":"(\"16\")","v":"16"},"DF","竹嶋　凌平","タケシマ　リョウヘイ",5,"男子"]
["佐伯リベロフットボールクラブ_1","佐伯リベロフットボールクラブ",{"$f":"(\"1\")","v":"1"},"GK","片岡　将弥","カタオカ　ショウヤ",6,"男子"]
["佐伯リベロフットボールクラブ_2","佐伯リベロフットボールクラブ",{"$f":"(\"2\")","v":"2"},"DF","山野　流星心","ヤマノ　スバル",5,"男子"]
["佐伯リベロフットボールクラブ_3","佐伯リベロフットボールクラブ",{"$f":"(\"3\")","v":"3"},"DF","佐藤　翼","サトウ　ツバサ",6,"男子"]
["佐伯リベロフットボールクラブ_4","佐伯リベロフットボールクラブ",{"$f":"(\"4\")","v":"4"},"FW","児玉　周哉","コダマ　シュウヤ",5,"男子"]
["佐伯リベロフットボールクラブ_5","佐伯リベロフットボールクラブ",{"$f":"(\"5\")","v":"5"},"FW","百田　翔貴","モモタ　トキ",3,"男子"]
["佐伯リベロフットボールクラブ_6","佐伯リベロフットボールクラブ",{"$f":"(\"6\")","v":"6"},"DF","上杉　康真","ウエスギ　コウマ",5,"男子"]
["佐伯リベロフットボールクラブ_7","佐伯リベロフットボールクラブ",{"$f":"(\"7\")","v":"7"},"MF","沢田　奏太","サワダ　ソウタ",6,"男子"]
["佐伯リベロフットボールクラブ_8","佐伯リベロフットボールクラブ",{"$f":"(\"8\")","v":"8"},"FW","肥川　藍之介","ヒカワ　アイノスケ",5,"男子"]
["佐伯リベロフットボールクラブ_9","佐伯リベロフットボールクラブ",{"$f":"(\"9\")","v":"9"},"FW","奈須野　友登","ナスノ　ユウト",5,"男子"]
["佐伯リベロフットボールクラブ_10","佐伯リベロフットボールクラブ",{"$f":"(\"10\")","v":"10"},"MF","百田　凌基","モモタ　リョウキ",6,"男子"]
["佐伯リベロフットボールクラブ_11","佐伯リベロフットボールクラブ",{"$f":"(\"11\")","v":"11"},"DF","庭瀬　元希","ニワセ　ゲンキ",6,"男子"]
["佐伯リベロフットボールクラブ_12","佐伯リベロフットボールクラブ",{"$f":"(\"12\")","v":"12"},"DF","山村　千代花","ヤマムラ　チヨカ",5,"女子小学生"]
["佐伯リベロフットボールクラブ_13","佐伯リベロフットボールクラブ",{"$f":"(\"13\")","v":"13"},"FW","伊東　叶希","イトウ　カナキ",5,"男子"]
["佐伯リベロフットボールクラブ_14","佐伯リベロフットボールクラブ",{"$f":"(\"14\")","v":"14"},"FW","菊池　大翔","キクチ　ヒロト",4,"男子"]
["佐伯リベロフットボールクラブ_15","佐伯リベロフットボールクラブ",{"$f":"(\"15\")","v":"15"},"DF","岩丸　陽斗","イワマル　ハルト",4,"男子"]
["佐伯リベロフットボールクラブ_16","佐伯リベロフットボールクラブ",{"$f":"(\"16\")","v":"16"},"DF","上村　叶多","カミムラ　カナタ",4,"男子"]
["佐伯リベロフットボールクラブ_17","佐伯リベロフットボールクラブ",{"$f":"(\"17\")","v":"17"},"MF","井上　有夢","イノウエ　アルム",4,"女子小学生"]
["佐伯リベロフットボールクラブ_18","佐伯リベロフットボールクラブ",{"$f":"(\"18\")","v":"18"},"FW","岩丸　優真","イワマル　ユウマ",3,"男子"]
["別府フットボールクラブ．ミネルバＵ－１２_1","別府フットボールクラブ．ミネルバＵ－１２",{"$f":"(\"1\")","v":"1"},"GK","大野　弥生","オオノ　ヒロキ",5,"男子"]
["別府フットボールクラブ．ミネルバＵ－１２_2","別府フットボールクラブ．ミネルバＵ－１２",{"$f":"(\"2\")","v":"2"},"DF","大森　未来","オオモリ　ミライ",6,"男子"]
["別府フットボールクラブ．ミネルバＵ－１２_3","別府フットボールクラブ．ミネルバＵ－１２",{"$f":"(\"3\")","v":"3"},"DF","高橋　遼","タカハシ　リョウ",5,"男子"]
["別府フットボールクラブ．ミネルバＵ－１２_4","別府フットボールクラブ．ミネルバＵ－１２",{"$f":"(\"4\")","v":"4"},"DF","天辰　歩睦","アマタツ　アユム",6,"男子"]
["別府フットボールクラブ．ミネルバＵ－１２_5","別府フットボールクラブ．ミネルバＵ－１２",{"$f":"(\"5\")","v":"5"},"MF","横井　希星","ヨコイ　キラ",5,"男子"]
["別府フットボールクラブ．ミネルバＵ－１２_6","別府フットボールクラブ．ミネルバＵ－１２",{"$f":"(\"6\")","v":"6"},"MF","後藤　路我","ゴトウ　ロア",6,"男子"]
["別府フットボールクラブ．ミネルバＵ－１２_7","別府フットボールクラブ．ミネルバＵ－１２",{"$f":"(\"7\")","v":"7"},"FW","小野　誠竜","オノ　セイリュウ",6,"男子"]
["別府フットボールクラブ．ミネルバＵ－１２_8","別府フットボールクラブ．ミネルバＵ－１２",{"$f":"(\"8\")","v":"8"},"MF","藤原　隆仁","フジワラ　タカヒト",5,"男子"]
["別府フットボールクラブ．ミネルバＵ－１２_9","別府フットボールクラブ．ミネルバＵ－１２",{"$f":"(\"9\")","v":"9"},"FW","永路　拓実","エイロ　タクミ",5,"男子"]
["別府フットボールクラブ．ミネルバＵ－１２_10","別府フットボールクラブ．ミネルバＵ－１２",{"$f":"(\"10\")","v":"10"},"MF","久保山　昊","クボヤマ　コウ",6,"男子"]
["別府フットボールクラブ．ミネルバＵ－１２_11","別府フットボールクラブ．ミネルバＵ－１２",{"$f":"(\"11\")","v":"11"},"FW","網中　碧","アミナカ　アオイ",5,"男子"]
["別府フットボールクラブ．ミネルバＵ－１２_12","別府フットボールクラブ．ミネルバＵ－１２",{"$f":"(\"12\")","v":"12"},"DF","堀　竜仁","ホリ　リュウト",5,"男子"]
["別府フットボールクラブ．ミネルバＵ－１２_13","別府フットボールクラブ．ミネルバＵ－１２",{"$f":"(\"13\")","v":"13"},"MF","久保　紘心郎","クボ　コウジロウ",5,"男子"]
["別府フットボールクラブ．ミネルバＵ－１２_14","別府フットボールクラブ．ミネルバＵ－１２",{"$f":"(\"14\")","v":"14"},"FW","合田　理美","ゴウダ　リミ",5,"女子小学生"]
["別府フットボールクラブ．ミネルバＵ－１２_15","別府フットボールクラブ．ミネルバＵ－１２",{"$f":"(\"15\")","v":"15"},"GK","福屋　裕士","フクヤ　ヒロシ",4,"男子"]
["別府フットボールクラブ．ミネルバＵ－１２_16","別府フットボールクラブ．ミネルバＵ－１２",{"$f":"(\"16\")","v":"16"},"DF","有永　咲","アリナガ　サキ",4,"男子"]
["大分トリニータＵ－１２_1","大分トリニータＵ－１２",{"$f":"(\"1\")","v":"1"},"GK","浜崎　元輝","ハマサキ　ゲンキ",6,"男子"]
[{"$f":"CONCATENATE(B196,\"_\",C196)","v":"大分トリニータＵ－１２_2"},"大分トリニータＵ－１２",{"$f":"(\"2\")","v":"2"},"MF","仲村　陽太","ナカムラ　ヒナタ",5,"男子"]
["大分トリニータＵ－１２_3","大分トリニータＵ－１２",{"$f":"(\"3\")","v":"3"},"MF","染矢　宏輝","ソメヤ　コウキ",5,"男子"]
["大分トリニータＵ－１２_4","大分トリニータＵ－１２",{"$f":"(\"4\")","v":"4"},"DF","鈴木　慎平","スズキ　シンペイ",6,"男子"]
["大分トリニータＵ－１２_5","大分トリニータＵ－１２",{"$f":"(\"5\")","v":"5"},"DF","橋本　侑樹","ハシモト　ユウキ",6,"男子"]
["大分トリニータＵ－１２_6","大分トリニータＵ－１２",{"$f":"(\"6\")","v":"6"},"FW","岸　周咲","キシ　シュウサク",6,"男子"]
["大分トリニータＵ－１２_7","大分トリニータＵ－１２",{"$f":"(\"7\")","v":"7"},"DF","有田　陽翔","アリタ　ハルト",6,"男子"]
["大分トリニータＵ－１２_8","大分トリニータＵ－１２",{"$f":"(\"8\")","v":"8"},"FW","中村　奏太","ナカムラ　ソウタ",6,"男子"]
["大分トリニータＵ－１２_9","大分トリニータＵ－１２",{"$f":"(\"9\")","v":"9"},"MF","矢野　虎乃介","ヤノ　トラノスケ",6,"男子"]
["大分トリニータＵ－１２_10","大分トリニータＵ－１２",{"$f":"(\"10\")","v":"10"},"FW","吉坂　飛勇悟","ヨシサカ　ヒュウゴ",6,"男子"]
["大分トリニータＵ－１２_11","大分トリニータＵ－１２",{"$f":"(\"11\")","v":"11"},"MF","後藤　雅人","ゴトウ　マサト",6,"男子"]
["大分トリニータＵ－１２_12","大分トリニータＵ－１２",{"$f":"(\"12\")","v":"12"},"GK","加藤　航","カトウ　ワタル",5,"男子"]
["大分トリニータＵ－１２_13","大分トリニータＵ－１２",{"$f":"(\"13\")","v":"13"},"DF","原田　高虎","ハラダ　タカトラ",5,"男子"]
["大分トリニータＵ－１２_14","大分トリニータＵ－１２",{"$f":"(\"14\")","v":"14"},"FW","木許　央雅","キモト　オウガ",5,"男子"]
["大分トリニータＵ－１２_15","大分トリニータＵ－１２",{"$f":"(\"15\")","v":"15"},"MF","大堀　翼颯","オオホリ　ツバサ",5,"男子"]
["大分トリニータＵ－１２_16","大分トリニータＵ－１２",{"$f":"(\"16\")","v":"16"},"GK","桑原　颯太","クワバラ　ソウタ",5,"男子"]
["大分トリニータＵ－１２_17","大分トリニータＵ－１２",{"$f":"(\"17\")","v":"17"},"MF","柴田　峻徳","シバタ　シュントク",5,"男子"]
["大分トリニータＵ－１２_18","大分トリニータＵ－１２",{"$f":"(\"18\")","v":"18"},"FW","河野　歩夢","カワノ　アユム",5,"男子"]
["アトレチコエラン横瀬_1","アトレチコエラン横瀬",{"$f":"(\"1\")","v":"1"},"GK","岩谷　駿大朗","イワヤ　シュンタロウ",6,"男子"]
["アトレチコエラン横瀬_2","アトレチコエラン横瀬",{"$f":"(\"2\")","v":"2"},"MF","伊藤　大翔","イトウ　ヒロト",6,"男子"]
["アトレチコエラン横瀬_3","アトレチコエラン横瀬",{"$f":"(\"3\")","v":"3"},"MF","佐藤　陽","サトウ　ハル",6,"男子"]
["アトレチコエラン横瀬_4","アトレチコエラン横瀬",{"$f":"(\"4\")","v":"4"},"DF","松下　響","マツシタ　ヒビキ",6,"男子"]
["アトレチコエラン横瀬_5","アトレチコエラン横瀬",{"$f":"(\"5\")","v":"5"},"MF","吉村　由人","ヨシムラ　ヨシト",6,"男子"]
["アトレチコエラン横瀬_6","アトレチコエラン横瀬",{"$f":"(\"6\")","v":"6"},"MF","藤瀬　睦生","フジセ　ムツキ",6,"男子"]
["アトレチコエラン横瀬_7","アトレチコエラン横瀬",{"$f":"(\"7\")","v":"7"},"MF","池辺　聡介","イケベ　ソウスケ",6,"男子"]
["アトレチコエラン横瀬_8","アトレチコエラン横瀬",{"$f":"(\"8\")","v":"8"},"DF","畑　央斗","ハタ　ヒロト",6,"男子"]
["アトレチコエラン横瀬_10","アトレチコエラン横瀬",{"$f":"(\"10\")","v":"10"},"MF","波多野　眞斗","ハタノ　マサト",6,"男子"]
["アトレチコエラン横瀬_11","アトレチコエラン横瀬",{"$f":"(\"11\")","v":"11"},"FW","仁部屋　透晃","ニブヤ　トウキ",6,"男子"]
["アトレチコエラン横瀬_12","アトレチコエラン横瀬",{"$f":"(\"12\")","v":"12"},"DF","後藤　正剛","ゴトウ　セイゴウ",6,"男子"]
["アトレチコエラン横瀬_13","アトレチコエラン横瀬",{"$f":"(\"13\")","v":"13"},"DF","足立　瑳久也","アダチ　サクヤ",6,"男子"]
["アトレチコエラン横瀬_14","アトレチコエラン横瀬",{"$f":"(\"14\")","v":"14"},"FW","日野　開智","ヒノ　カイチ",6,"男子"]
["アトレチコエラン横瀬_15","アトレチコエラン横瀬",{"$f":"(\"15\")","v":"15"},"FW","前野　天慈","マエノ　テンジ",6,"男子"]
["アトレチコエラン横瀬_17","アトレチコエラン横瀬",{"$f":"(\"17\")","v":"17"},"MF","稲吉　京介","イナヨシ　キョウスケ",6,"男子"]
["アトレチコエラン横瀬_18","アトレチコエラン横瀬",{"$f":"(\"18\")","v":"18"},"MF","白肌　海翔","シラハダ　カイト",6,"男子"]
["明治北ＳＳＣ_1","明治北ＳＳＣ",{"$f":"(\"1\")","v":"1"},"GK","柳本　龍成","ヤナモト　リュウセイ",6,"男子"]
["明治北ＳＳＣ_2","明治北ＳＳＣ",{"$f":"(\"2\")","v":"2"},"DF","周藤　彼方","シュウトウ　カナタ",6,"男子"]
["明治北ＳＳＣ_3","明治北ＳＳＣ",{"$f":"(\"3\")","v":"3"},"FW","河野　祐希","カワノ　ユウキ",6,"男子"]
["明治北ＳＳＣ_4","明治北ＳＳＣ",{"$f":"(\"4\")","v":"4"},"MF","石田　悠太","イシダ　ユウタ",6,"男子"]
["明治北ＳＳＣ_5","明治北ＳＳＣ",{"$f":"(\"5\")","v":"5"},"MF","楢崎　嵩斗","ナラサキ　シュウト",6,"男子"]
["明治北ＳＳＣ_6","明治北ＳＳＣ",{"$f":"(\"6\")","v":"6"},"MF","岡部　遥","オカベ　ハル",6,"男子"]
["明治北ＳＳＣ_7","明治北ＳＳＣ",{"$f":"(\"7\")","v":"7"},"DF","石本　頼杜","イシモト　ライト",6,"男子"]
["明治北ＳＳＣ_8","明治北ＳＳＣ",{"$f":"(\"8\")","v":"8"},"MF","増永　琥士朗","マスナガ　コジロウ",6,"男子"]
["明治北ＳＳＣ_9","明治北ＳＳＣ",{"$f":"(\"9\")","v":"9"},"FW","荻本　玲也","オギモト　レイヤ",5,"男子"]
["明治北ＳＳＣ_10","明治北ＳＳＣ",{"$f":"(\"10\")","v":"10"},"DF","猪原　蒼空","イハラ　ソラ",5,"男子"]
["明治北ＳＳＣ_11","明治北ＳＳＣ",{"$f":"(\"11\")","v":"11"},"MF","奥　祐翔","オク　ユウト",5,"男子"]
["明治北ＳＳＣ_13","明治北ＳＳＣ",{"$f":"(\"13\")","v":"13"},"MF","山室　優貴","ヤマムロ　ユウキ",4,"男子"]
["明治北ＳＳＣ_14","明治北ＳＳＣ",{"$f":"(\"14\")","v":"14"},"MF","徳丸　貴士","トクマル　タカト",4,"男子"]
["明治北ＳＳＣ_15","明治北ＳＳＣ",{"$f":"(\"15\")","v":"15"},"MF","周藤　光輝","シュウトウ　ミツキ",4,"男子"]
["明治北ＳＳＣ_16","明治北ＳＳＣ",{"$f":"(\"16\")","v":"16"},"MF","木許　瑠輝也","キモト　ルキヤ",4,"男子"]
["明治北ＳＳＣ_17","明治北ＳＳＣ",{"$f":"(\"17\")","v":"17"},"MF","髙橋　佑樹","タカハシ　ユウキ",3,"男子"]
["明治北ＳＳＣ_18","明治北ＳＳＣ",{"$f":"(\"18\")","v":"18"},"MF","清原　昇馬","キヨハラ　ショウマ",3,"男子"]
["明治北ＳＳＣ_19","明治北ＳＳＣ",{"$f":"(\"19\")","v":"19"},"MF","首藤　惺南","シュトウ　セナ",3,"男子"]
["明野東サッカースポーツ少年団_1","明野東サッカースポーツ少年団",{"$f":"(\"1\")","v":"1"},"GK","山田　蒼太","ヤマダ　ソウタ",6,"男子"]
["明野東サッカースポーツ少年団_2","明野東サッカースポーツ少年団",{"$f":"(\"2\")","v":"2"},"DF","平井　駿也","ヒライ　シュンヤ",6,"男子"]
["明野東サッカースポーツ少年団_3","明野東サッカースポーツ少年団",{"$f":"(\"3\")","v":"3"},"MF","杉本　恒大","スギモト　コウダイ",6,"男子"]
["明野東サッカースポーツ少年団_4","明野東サッカースポーツ少年団",{"$f":"(\"4\")","v":"4"},"DF","高畠　陽奈","タカハタ　ヒナ",6,"女子小学生"]
["明野東サッカースポーツ少年団_5","明野東サッカースポーツ少年団",{"$f":"(\"5\")","v":"5"},"MF","長野　新","ナガノ　アラタ",5,"男子"]
["明野東サッカースポーツ少年団_7","明野東サッカースポーツ少年団",{"$f":"(\"7\")","v":"7"},"MF","廣瀬　拓也","ヒロセ　タクヤ",6,"男子"]
["明野東サッカースポーツ少年団_8","明野東サッカースポーツ少年団",{"$f":"(\"8\")","v":"8"},"DF","小野　奏","オノ　カナメ",6,"男子"]
["明野東サッカースポーツ少年団_9","明野東サッカースポーツ少年団",{"$f":"(\"9\")","v":"9"},"DF","園田　凰介","ソノダ　オウスケ",6,"男子"]
["明野東サッカースポーツ少年団_10","明野東サッカースポーツ少年団",{"$f":"(\"10\")","v":"10"},"FW","道久　絵理","ミチヒサ　エリ",6,"女子小学生"]
["明野東サッカースポーツ少年団_11","明野東サッカースポーツ少年団",{"$f":"(\"11\")","v":"11"},"MF","上野　隼典","ウエノ　シュンスケ",6,"男子"]
["明野東サッカースポーツ少年団_13","明野東サッカースポーツ少年団",{"$f":"(\"13\")","v":"13"},"FW","佐藤　航輝","サトウ　コウキ",6,"男子"]
["明野東サッカースポーツ少年団_14","明野東サッカースポーツ少年団",{"$f":"(\"14\")","v":"14"},"MF","志賀　杏陸","シガ　アンリ",6,"男子"]
["明野東サッカースポーツ少年団_15","明野東サッカースポーツ少年団",{"$f":"(\"15\")","v":"15"},"MF","志賀　快音","シガ　カイト",5,"男子"]
[{"$f":"CONCATENATE(B260,\"_\",C260)","v":"明野東サッカースポーツ少年団_18"},"明野東サッカースポーツ少年団",{"$f":"(\"18\")","v":"18"},"MF","長井　瑠之介","ナガイ　リュウノスケ",5,"男子"]
["大道サッカースポーツ少年団_1","大道サッカースポーツ少年団",{"$f":"(\"1\")","v":"1"},"GK","足立　陸矩","アダチ　リク",6,"男子"]
["大道サッカースポーツ少年団_2","大道サッカースポーツ少年団",{"$f":"(\"2\")","v":"2"},"MF","佐藤　天音","サトウ　タカナリ",6,"男子"]
["大道サッカースポーツ少年団_3","大道サッカースポーツ少年団",{"$f":"(\"3\")","v":"3"},"DF","武藤　匠海","ムトウ　タクミ",5,"男子"]
["大道サッカースポーツ少年団_4","大道サッカースポーツ少年団",{"$f":"(\"4\")","v":"4"},"MF","山西　真衣","ヤマニシ　マイ",6,"女子小学生"]
["大道サッカースポーツ少年団_5","大道サッカースポーツ少年団",{"$f":"(\"5\")","v":"5"},"FW","佐藤　将夢","サトウ　マサム",6,"男子"]
["大道サッカースポーツ少年団_6","大道サッカースポーツ少年団",{"$f":"(\"6\")","v":"6"},"MF","森　弦世","モリ　ゲンセイ",5,"男子"]
["大道サッカースポーツ少年団_7","大道サッカースポーツ少年団",{"$f":"(\"7\")","v":"7"},"FW","小川　凌央","オガワ　リョウ",6,"男子"]
["大道サッカースポーツ少年団_8","大道サッカースポーツ少年団",{"$f":"(\"8\")","v":"8"},"FW","森永　悠太","モリナガ　ユウタ",5,"男子"]
["大道サッカースポーツ少年団_9","大道サッカースポーツ少年団",{"$f":"(\"9\")","v":"9"},"DF","河野　優人","カワノ　ユウト",5,"男子"]
["大道サッカースポーツ少年団_10","大道サッカースポーツ少年団",{"$f":"(\"10\")","v":"10"},"FW","木村　太陽","キムラ　タイヨウ",4,"男子"]
["大道サッカースポーツ少年団_11","大道サッカースポーツ少年団",{"$f":"(\"11\")","v":"11"},"MF","首藤　教輔","シュトウ　キョウスケ",4,"男子"]
["大道サッカースポーツ少年団_12","大道サッカースポーツ少年団",{"$f":"(\"12\")","v":"12"},"GK","足立　暖和","アダチ　ハルト",4,"男子"]
["大道サッカースポーツ少年団_13","大道サッカースポーツ少年団",{"$f":"(\"13\")","v":"13"},"MF","田原　健史朗","タハラ　ケンシロウ",4,"男子"]
["大道サッカースポーツ少年団_14","大道サッカースポーツ少年団",{"$f":"(\"14\")","v":"14"},"DF","上森　海司","ウエモリ　カイジ",4,"男子"]
["大道サッカースポーツ少年団_15","大道サッカースポーツ少年団",{"$f":"(\"15\")","v":"15"},"FW","山中　翔太郎","ヤマナカ　ショウタロウ",5,"男子"]
["大道サッカースポーツ少年団_16","大道サッカースポーツ少年団",{"$f":"(\"16\")","v":"16"},"FW","麻生　なるみ","アソウ　ナルミ",4,"女子小学生"]
["大道サッカースポーツ少年団_17","大道サッカースポーツ少年団",{"$f":"(\"17\")","v":"17"},"FW","利光　航琉","トシミツ　ワタル",4,"男子"]
["滝尾下郡サッカースポーツ少年団_1","滝尾下郡サッカースポーツ少年団",{"$f":"(\"1\")","v":"1"},"MF","三浦　由雅","ミウラ　ユウガ",6,"男子"]
["滝尾下郡サッカースポーツ少年団_2","滝尾下郡サッカースポーツ少年団",{"$f":"(\"2\")","v":"2"},"MF","笠置　杏哩","カサギ　アンリ",6,"男子"]
["滝尾下郡サッカースポーツ少年団_3","滝尾下郡サッカースポーツ少年団",{"$f":"(\"3\")","v":"3"},"DF","二宮　璃緒","ニノミヤ　リオ",5,"男子"]
["滝尾下郡サッカースポーツ少年団_4","滝尾下郡サッカースポーツ少年団",{"$f":"(\"4\")","v":"4"},"DF","井　健太","イイ　ケンタ",5,"男子"]
["滝尾下郡サッカースポーツ少年団_5","滝尾下郡サッカースポーツ少年団",{"$f":"(\"5\")","v":"5"},"MF","萩野　亮太","ハギノ　リョウタ",5,"男子"]
["滝尾下郡サッカースポーツ少年団_6","滝尾下郡サッカースポーツ少年団",{"$f":"(\"6\")","v":"6"},"DF","浜田　一樹","ハマダ　カズキ",6,"男子"]
["滝尾下郡サッカースポーツ少年団_7","滝尾下郡サッカースポーツ少年団",{"$f":"(\"7\")","v":"7"},"FW","高橋　優仁","タカハシ　ユウジン",5,"男子"]
["滝尾下郡サッカースポーツ少年団_8","滝尾下郡サッカースポーツ少年団",{"$f":"(\"8\")","v":"8"},"MF","三浦　脩雅","ミウラ　シュウガ",5,"男子"]
["滝尾下郡サッカースポーツ少年団_9","滝尾下郡サッカースポーツ少年団",{"$f":"(\"9\")","v":"9"},"FW","柴田　佳彦","シバタ　ヨシヒコ",6,"男子"]
["滝尾下郡サッカースポーツ少年団_10","滝尾下郡サッカースポーツ少年団",{"$f":"(\"10\")","v":"10"},"FW","渡辺　大志","ワタナベ　タイシ",6,"男子"]
["滝尾下郡サッカースポーツ少年団_11","滝尾下郡サッカースポーツ少年団",{"$f":"(\"11\")","v":"11"},"DF","中川　怜","ナカガワ　レン",5,"男子"]
["滝尾下郡サッカースポーツ少年団_12","滝尾下郡サッカースポーツ少年団",{"$f":"(\"12\")","v":"12"},"DF","江越　翔悟","エゴシ　ショウゴ",5,"男子"]
["滝尾下郡サッカースポーツ少年団_13","滝尾下郡サッカースポーツ少年団",{"$f":"(\"13\")","v":"13"},"MF","江崎　快","エザキ　カイ",5,"男子"]
["滝尾下郡サッカースポーツ少年団_30","滝尾下郡サッカースポーツ少年団",{"$f":"(\"30\")","v":"30"},"GK","原嶋　海翔","ハラシマ　カイト",5,"男子"]
["宗方サッカークラブ_1","宗方サッカークラブ",{"$f":"(\"1\")","v":"1"},"GK","後藤　彰臣","ゴトウ　アキオミ",6,"男子"]
["宗方サッカークラブ_2","宗方サッカークラブ",{"$f":"(\"2\")","v":"2"},"DF","有田　祥太朗","アリタ　ショウタロウ",5,"男子"]
["宗方サッカークラブ_3","宗方サッカークラブ",{"$f":"(\"3\")","v":"3"},"MF","山本　恵太郎","ヤマモト　ケイタロウ",5,"男子"]
["宗方サッカークラブ_4","宗方サッカークラブ",{"$f":"(\"4\")","v":"4"},"MF","山下　玲和","ヤマシタ　レイオ",5,"男子"]
["宗方サッカークラブ_5","宗方サッカークラブ",{"$f":"(\"5\")","v":"5"},"DF","大下　周也","オオシタ　シュウヤ",6,"男子"]
["宗方サッカークラブ_6","宗方サッカークラブ",{"$f":"(\"6\")","v":"6"},"DF","秋月　来望","アキヅキ　クルミ",6,"女子小学生"]
["宗方サッカークラブ_7","宗方サッカークラブ",{"$f":"(\"7\")","v":"7"},"DF","冨米野　祐輔","フメノ　ユウスケ",6,"男子"]
["宗方サッカークラブ_8","宗方サッカークラブ",{"$f":"(\"8\")","v":"8"},"FW","早木　悠登","ハヤキ　ユウト",5,"男子"]
["宗方サッカークラブ_9","宗方サッカークラブ",{"$f":"(\"9\")","v":"9"},"MF","日野　将希","ヒノ　マサキ",6,"男子"]
["宗方サッカークラブ_10","宗方サッカークラブ",{"$f":"(\"10\")","v":"10"},"DF","早木　弘翔","ハヤキ　ヒロト",6,"男子"]
["宗方サッカークラブ_11","宗方サッカークラブ",{"$f":"(\"11\")","v":"11"},"MF","矢野　寛大","ヤノ　カンタ",5,"男子"]
["宗方サッカークラブ_12","宗方サッカークラブ",{"$f":"(\"12\")","v":"12"},"FW","佐藤　幹太","サトウ　カンタ",6,"男子"]
["宗方サッカークラブ_13","宗方サッカークラブ",{"$f":"(\"13\")","v":"13"},"FW","安東　明慧","アンドウ　アサト",5,"男子"]
["宗方サッカークラブ_14","宗方サッカークラブ",{"$f":"(\"14\")","v":"14"},"FW","木戸　航大","キド　コウダイ",5,"男子"]
["宗方サッカークラブ_15","宗方サッカークラブ",{"$f":"(\"15\")","v":"15"},"DF","安東　恭佑","アンドウ　キョウスケ",5,"男子"]
["宗方サッカークラブ_16","宗方サッカークラブ",{"$f":"(\"16\")","v":"16"},"MF","小原　世楠","オハラ　セナ",5,"男子"]
["宗方サッカークラブ_17","宗方サッカークラブ",{"$f":"(\"17\")","v":"17"},"DF","岩田　匡弘","イワタ　マサヒロ",4,"男子"]
["宗方サッカークラブ_21","宗方サッカークラブ",{"$f":"(\"21\")","v":"21"},"GK","久保　颯香","クボ　フウガ",5,"男子"]
["明治サッカースポーツ少年団_1","明治サッカースポーツ少年団",{"$f":"(\"1\")","v":"1"},"GK","田島　海叶","タシマ　カイト",6,"男子"]
["明治サッカースポーツ少年団_2","明治サッカースポーツ少年団",{"$f":"(\"2\")","v":"2"},"FW","河合　咲太","カワイ　ショウタ",6,"男子"]
["明治サッカースポーツ少年団_3","明治サッカースポーツ少年団",{"$f":"(\"3\")","v":"3"},"MF","如法寺　遥","ニョホウジ　ハルキ",5,"男子"]
["明治サッカースポーツ少年団_4","明治サッカースポーツ少年団",{"$f":"(\"4\")","v":"4"},"FW","松野　悠大","マツノ　ヒサヒロ",5,"男子"]
["明治サッカースポーツ少年団_5","明治サッカースポーツ少年団",{"$f":"(\"5\")","v":"5"},"FW","新村　陸","シンムラ　リク",5,"男子"]
["明治サッカースポーツ少年団_6","明治サッカースポーツ少年団",{"$f":"(\"6\")","v":"6"},"FW","葛城　一平","カツラギ　イッペイ",5,"男子"]
["明治サッカースポーツ少年団_7","明治サッカースポーツ少年団",{"$f":"(\"7\")","v":"7"},"DF","岩本　将也","イワモト　マサヤ",6,"男子"]
["明治サッカースポーツ少年団_8","明治サッカースポーツ少年団",{"$f":"(\"8\")","v":"8"},"FW","立山　空","タテヤマ　ソラ",6,"男子"]
["明治サッカースポーツ少年団_9","明治サッカースポーツ少年団",{"$f":"(\"9\")","v":"9"},"DF","曽我　芯ノ介","ソガ　シンノスケ",6,"男子"]
["明治サッカースポーツ少年団_10","明治サッカースポーツ少年団",{"$f":"(\"10\")","v":"10"},"FW","吉川　豹生","ヨシカワ　ヒョウム",5,"男子"]
["明治サッカースポーツ少年団_11","明治サッカースポーツ少年団",{"$f":"(\"11\")","v":"11"},"FW","那賀　吏輝斗","ナカ　リキト",5,"男子"]
["明治サッカースポーツ少年団_12","明治サッカースポーツ少年団",{"$f":"(\"12\")","v":"12"},"FW","如法寺　楓","ニョホウジ　カエデ",4,"男子"]
["明治サッカースポーツ少年団_13","明治サッカースポーツ少年団",{"$f":"(\"13\")","v":"13"},"MF","大橋　颯","オオハシ　ハヤテ",4,"男子"]
["明治サッカースポーツ少年団_14","明治サッカースポーツ少年団",{"$f":"(\"14\")","v":"14"},"FW","椎原　吟峨","シイハラ　ギンガ",4,"男子"]
[{"$f":"CONCATENATE(B324,\"_\",C324)","v":"明治サッカースポーツ少年団_16"},"明治サッカースポーツ少年団",{"$f":"(\"16\")","v":"16"},"GK","大平　聖也","オオヒラ　マサヤ",5,"男子"]
["判田サッカースポーツ少年団_1","判田サッカースポーツ少年団",{"$f":"(\"1\")","v":"1"},"GK","宮成　暖","ミヤナリ　ダン",4,"男子"]
["判田サッカースポーツ少年団_2","判田サッカースポーツ少年団",{"$f":"(\"2\")","v":"2"},"DF","中川　陽斗","ナカガワ　ハルト",6,"男子"]
["判田サッカースポーツ少年団_3","判田サッカースポーツ少年団",{"$f":"(\"3\")","v":"3"},"DF","田中　悠陽","タナカ　ユウヒ",5,"男子"]
["判田サッカースポーツ少年団_5","判田サッカースポーツ少年団",{"$f":"(\"5\")","v":"5"},"FW","吉良　匠生","キラ　タクミ",4,"男子"]
["判田サッカースポーツ少年団_6","判田サッカースポーツ少年団",{"$f":"(\"6\")","v":"6"},"FW","吉松　祐翔","ヨシマツ　ユウト",5,"男子"]
["判田サッカースポーツ少年団_7","判田サッカースポーツ少年団",{"$f":"(\"7\")","v":"7"},"FW","佐藤　亨志郎","サトウ　キョウシロウ",6,"男子"]
["判田サッカースポーツ少年団_8","判田サッカースポーツ少年団",{"$f":"(\"8\")","v":"8"},"MF","後藤　英斗","ゴトウ　エイト",6,"男子"]
["判田サッカースポーツ少年団_9","判田サッカースポーツ少年団",{"$f":"(\"9\")","v":"9"},"DF","松坂　悠太","マツサカ　ユウタ",6,"男子"]
["判田サッカースポーツ少年団_10","判田サッカースポーツ少年団",{"$f":"(\"10\")","v":"10"},"MF","梅本　琉成","ウメモト　リュウセイ",6,"男子"]
["判田サッカースポーツ少年団_11","判田サッカースポーツ少年団",{"$f":"(\"11\")","v":"11"},"DF","川野　迅翔","カワノ　ハヤト",6,"男子"]
["判田サッカースポーツ少年団_12","判田サッカースポーツ少年団",{"$f":"(\"12\")","v":"12"},"MF","山之上　陽菜","ヤマノウエ　ヒナ",6,"女子小学生"]
["判田サッカースポーツ少年団_13","判田サッカースポーツ少年団",{"$f":"(\"13\")","v":"13"},"MF","中川　翔天","ナカガワ　トア",4,"男子"]
["判田サッカースポーツ少年団_14","判田サッカースポーツ少年団",{"$f":"(\"14\")","v":"14"},"DF","今村　咲羽","イマムラ　サワ",6,"女子小学生"]
["判田サッカースポーツ少年団_15","判田サッカースポーツ少年団",{"$f":"(\"15\")","v":"15"},"DF","首藤　栄暁","シュトウ　トモアキ",4,"男子"]
["判田サッカースポーツ少年団_16","判田サッカースポーツ少年団",{"$f":"(\"16\")","v":"16"},"DF","小室　篤志","コムロ　アツシ",6,"男子"]
["判田サッカースポーツ少年団_17","判田サッカースポーツ少年団",{"$f":"(\"17\")","v":"17"},"GK","湯浅　諒","ユアサ　リョウ",6,"男子"]
["桃園サッカースポーツ少年団_1","桃園サッカースポーツ少年団",{"$f":"(\"1\")","v":"1"},"GK","三辻　康太","ミツジ　コウタ",6,"男子"]
["桃園サッカースポーツ少年団_2","桃園サッカースポーツ少年団",{"$f":"(\"2\")","v":"2"},"FW","石﨑　陽樹","イシザキ　ハルキ",6,"男子"]
["桃園サッカースポーツ少年団_3","桃園サッカースポーツ少年団",{"$f":"(\"3\")","v":"3"},"MF","喜讀　優音","キドク　ユウト",6,"男子"]
["桃園サッカースポーツ少年団_4","桃園サッカースポーツ少年団",{"$f":"(\"4\")","v":"4"},"DF","宮野　悠太郎","ミヤノ　ユウタロウ",6,"男子"]
["桃園サッカースポーツ少年団_5","桃園サッカースポーツ少年団",{"$f":"(\"5\")","v":"5"},"DF","野口　我太生","ノグチ　ワタル",6,"男子"]
["桃園サッカースポーツ少年団_6","桃園サッカースポーツ少年団",{"$f":"(\"6\")","v":"6"},"MF","中崎　鴻","ナカザキ　ゴウ",6,"男子"]
["桃園サッカースポーツ少年団_7","桃園サッカースポーツ少年団",{"$f":"(\"7\")","v":"7"},"MF","出田　竣","イデタ　シュン",6,"男子"]
["桃園サッカースポーツ少年団_8","桃園サッカースポーツ少年団",{"$f":"(\"8\")","v":"8"},"MF","牧　耕成","マキ　コウセイ",6,"男子"]
["桃園サッカースポーツ少年団_9","桃園サッカースポーツ少年団",{"$f":"(\"9\")","v":"9"},"MF","牧　俊成","マキ　シュンセイ",6,"男子"]
["桃園サッカースポーツ少年団_10","桃園サッカースポーツ少年団",{"$f":"(\"10\")","v":"10"},"MF","菅原　悠貴","スガハラ　ユウキ",6,"男子"]
["桃園サッカースポーツ少年団_11","桃園サッカースポーツ少年団",{"$f":"(\"11\")","v":"11"},"MF","宮崎　琥悠","ミヤザキ　コハル",6,"男子"]
["桃園サッカースポーツ少年団_12","桃園サッカースポーツ少年団",{"$f":"(\"12\")","v":"12"},"GK","武市　帆平汰","タケイチ　ハンペイタ",6,"男子"]
["桃園サッカースポーツ少年団_13","桃園サッカースポーツ少年団",{"$f":"(\"13\")","v":"13"},"FW","三浦　永遠","ミウラ　トワ",6,"男子"]
["桃園サッカースポーツ少年団_14","桃園サッカースポーツ少年団",{"$f":"(\"14\")","v":"14"},"FW","後藤　凛太朗","ゴトウ　リンタロウ",5,"男子"]
["桃園サッカースポーツ少年団_16","桃園サッカースポーツ少年団",{"$f":"(\"16\")","v":"16"},"FW","阿部　祐斗","アベ　ユウト",4,"男子"]
["豊後高田ＦＣ　Ｂｏｒｄｅｒ　Ｊｒ_1","豊後高田ＦＣ　Ｂｏｒｄｅｒ　Ｊｒ",{"$f":"(\"1\")","v":"1"},"GK","山田　敢大","ヤマダ　カンタ",6,"男子"]
["豊後高田ＦＣ　Ｂｏｒｄｅｒ　Ｊｒ_2","豊後高田ＦＣ　Ｂｏｒｄｅｒ　Ｊｒ",{"$f":"(\"2\")","v":"2"},"DF","蓮田　功武","ハスダ　イサム",5,"男子"]
["豊後高田ＦＣ　Ｂｏｒｄｅｒ　Ｊｒ_4","豊後高田ＦＣ　Ｂｏｒｄｅｒ　Ｊｒ",{"$f":"(\"4\")","v":"4"},"DF","河野　楓","カワノ　カエデ",6,"女子小学生"]
["豊後高田ＦＣ　Ｂｏｒｄｅｒ　Ｊｒ_5","豊後高田ＦＣ　Ｂｏｒｄｅｒ　Ｊｒ",{"$f":"(\"5\")","v":"5"},"DF","瀬口　真矢","セグチ　マサヤ",6,"男子"]
["豊後高田ＦＣ　Ｂｏｒｄｅｒ　Ｊｒ_6","豊後高田ＦＣ　Ｂｏｒｄｅｒ　Ｊｒ",{"$f":"(\"6\")","v":"6"},"MF","河野　祏大","コウノ　ユウダイ",5,"男子"]
["豊後高田ＦＣ　Ｂｏｒｄｅｒ　Ｊｒ_7","豊後高田ＦＣ　Ｂｏｒｄｅｒ　Ｊｒ",{"$f":"(\"7\")","v":"7"},"MF","新田　莉生","ニッタ　リオ",6,"男子"]
["豊後高田ＦＣ　Ｂｏｒｄｅｒ　Ｊｒ_8","豊後高田ＦＣ　Ｂｏｒｄｅｒ　Ｊｒ",{"$f":"(\"8\")","v":"8"},"FW","遠藤　朋輝","エンドウ　トモキ",6,"男子"]
["豊後高田ＦＣ　Ｂｏｒｄｅｒ　Ｊｒ_9","豊後高田ＦＣ　Ｂｏｒｄｅｒ　Ｊｒ",{"$f":"(\"9\")","v":"9"},"FW","岩男　風我","イワオ　フウガ",5,"男子"]
["豊後高田ＦＣ　Ｂｏｒｄｅｒ　Ｊｒ_10","豊後高田ＦＣ　Ｂｏｒｄｅｒ　Ｊｒ",{"$f":"(\"10\")","v":"10"},"MF","銅野　聖波","ドウノ　セナ",6,"男子"]
["豊後高田ＦＣ　Ｂｏｒｄｅｒ　Ｊｒ_11","豊後高田ＦＣ　Ｂｏｒｄｅｒ　Ｊｒ",{"$f":"(\"11\")","v":"11"},"FW","安長　彪","ヤスナガ　タイガ",5,"男子"]
["豊後高田ＦＣ　Ｂｏｒｄｅｒ　Ｊｒ_12","豊後高田ＦＣ　Ｂｏｒｄｅｒ　Ｊｒ",{"$f":"(\"12\")","v":"12"},"MF","藤井　喜一","フジイ　キイチ",5,"男子"]
["豊後高田ＦＣ　Ｂｏｒｄｅｒ　Ｊｒ_13","豊後高田ＦＣ　Ｂｏｒｄｅｒ　Ｊｒ",{"$f":"(\"13\")","v":"13"},"MF","北原　陸仁","キタハラ　リクト",5,"男子"]
["豊後高田ＦＣ　Ｂｏｒｄｅｒ　Ｊｒ_14","豊後高田ＦＣ　Ｂｏｒｄｅｒ　Ｊｒ",{"$f":"(\"14\")","v":"14"},"MF","甲斐　廉将","カイ　レンマ",5,"男子"]
["豊後高田ＦＣ　Ｂｏｒｄｅｒ　Ｊｒ_15","豊後高田ＦＣ　Ｂｏｒｄｅｒ　Ｊｒ",{"$f":"(\"15\")","v":"15"},"MF","安藤　智彰","アンドウ　トモアキ",5,"男子"]
["ドリームキッズサッカークラブ_1","ドリームキッズサッカークラブ",{"$f":"(\"1\")","v":"1"},"GK","鱒村　昂一","マスムラ　コウイチ",6,"男子"]
["ドリームキッズサッカークラブ_2","ドリームキッズサッカークラブ",{"$f":"(\"2\")","v":"2"},"DF","藤由　陵司","フジヨシ　リョウジ",6,"男子"]
["ドリームキッズサッカークラブ_3","ドリームキッズサッカークラブ",{"$f":"(\"3\")","v":"3"},"DF","安藤　尊司","アンドウ　タカジ",6,"男子"]
["ドリームキッズサッカークラブ_4","ドリームキッズサッカークラブ",{"$f":"(\"4\")","v":"4"},"DF","森崎　和翼","モリサキ　ナツ",5,"男子"]
["ドリームキッズサッカークラブ_5","ドリームキッズサッカークラブ",{"$f":"(\"5\")","v":"5"},"FW","山下　紫凰","ヤマシタ　シオウ",4,"男子"]
["ドリームキッズサッカークラブ_6","ドリームキッズサッカークラブ",{"$f":"(\"6\")","v":"6"},"DF","宮部　大翔","ミヤベ　ヒロト",5,"男子"]
["ドリームキッズサッカークラブ_7","ドリームキッズサッカークラブ",{"$f":"(\"7\")","v":"7"},"MF","須川　愛琉","スガワ　アイル",5,"男子"]
["ドリームキッズサッカークラブ_8","ドリームキッズサッカークラブ",{"$f":"(\"8\")","v":"8"},"DF","長田　昂大","ナガタ　コウダイ",5,"男子"]
["ドリームキッズサッカークラブ_9","ドリームキッズサッカークラブ",{"$f":"(\"9\")","v":"9"},"MF","吉村　心冴","ヨシムラ　シンゴ",5,"男子"]
["ドリームキッズサッカークラブ_10","ドリームキッズサッカークラブ",{"$f":"(\"10\")","v":"10"},"MF","佐藤　彰人","サトウ　アキト",5,"男子"]
["ドリームキッズサッカークラブ_11","ドリームキッズサッカークラブ",{"$f":"(\"11\")","v":"11"},"FW","河野　真剣","カワノ　シンケン",4,"男子"]
["ドリームキッズサッカークラブ_12","ドリームキッズサッカークラブ",{"$f":"(\"12\")","v":"12"},"DF","子守　悠真","コモリ　ユウマ",4,"男子"]
["ドリームキッズサッカークラブ_13","ドリームキッズサッカークラブ",{"$f":"(\"13\")","v":"13"},"DF","江藤　大智","エトウ　ダイチ",6,"男子"]
["ドリームキッズサッカークラブ_14","ドリームキッズサッカークラブ",{"$f":"(\"14\")","v":"14"},"DF","小野　悠太郎","オノ　ユウタロウ",6,"男子"]
["ドリームキッズサッカークラブ_15","ドリームキッズサッカークラブ",{"$f":"(\"15\")","v":"15"},"DF","谷川　滉樹","タニガワ　コウキ",6,"男子"]
["ドリームキッズサッカークラブ_16","ドリームキッズサッカークラブ",{"$f":"(\"16\")","v":"16"},"GK","岩本　凌真","イワモト　リョウマ",4,"男子"]
["ドリームキッズサッカークラブ_17","ドリームキッズサッカークラブ",{"$f":"(\"17\")","v":"17"},"MF","大谷　悟史","オオタニ　サトシ",4,"男子"]
["ドリームキッズサッカークラブ_18","ドリームキッズサッカークラブ",{"$f":"(\"18\")","v":"18"},"DF","鱒村　侑士","マスムラ　ユウト",4,"男子"]
[{"$f":"CONCATENATE(B388,\"_\",C388)","v":"東陽フットボールクラブ_1"},"東陽フットボールクラブ",{"$f":"(\"1\")","v":"1"},"GK","岩田　晃輝","イワタ　ミツキ",6,"男子"]
["東陽フットボールクラブ_2","東陽フットボールクラブ",{"$f":"(\"2\")","v":"2"},"DF","松尾　歩","マツオ　アユム",6,"男子"]
["東陽フットボールクラブ_3","東陽フットボールクラブ",{"$f":"(\"3\")","v":"3"},"DF","筒井　大貴","ツツイ　ダイキ",6,"男子"]
["東陽フットボールクラブ_4","東陽フットボールクラブ",{"$f":"(\"4\")","v":"4"},"DF","田崎　逸正","タサキ　イッセイ",6,"男子"]
["東陽フットボールクラブ_5","東陽フットボールクラブ",{"$f":"(\"5\")","v":"5"},"MF","田尻　依大","タジリ　イオ",5,"男子"]
["東陽フットボールクラブ_6","東陽フットボールクラブ",{"$f":"(\"6\")","v":"6"},"DF","中村　海晴","ナカムラ　カイセイ",4,"男子"]
["東陽フットボールクラブ_7","東陽フットボールクラブ",{"$f":"(\"7\")","v":"7"},"FW","桑原　力飛","クワバラ　リキト",4,"男子"]
["東陽フットボールクラブ_8","東陽フットボールクラブ",{"$f":"(\"8\")","v":"8"},"MF","有馬　綾音","アリマ　アヤネ",5,"女子小学生"]
["東陽フットボールクラブ_9","東陽フットボールクラブ",{"$f":"(\"9\")","v":"9"},"FW","工藤　凌成","クドウ　リョウセイ",5,"男子"]
["東陽フットボールクラブ_10","東陽フットボールクラブ",{"$f":"(\"10\")","v":"10"},"MF","首藤　唯斗","シュトウ　ユイト",6,"男子"]
["東陽フットボールクラブ_11","東陽フットボールクラブ",{"$f":"(\"11\")","v":"11"},"MF","大城　悠史","オオキ　ユウシ",4,"男子"]
["東陽フットボールクラブ_12","東陽フットボールクラブ",{"$f":"(\"12\")","v":"12"},"FW","岡田　凛空","オカダ　リク",4,"男子"]
["東陽フットボールクラブ_13","東陽フットボールクラブ",{"$f":"(\"13\")","v":"13"},"DF","釘宮　結愛","クギミヤ　ユア",4,"女子小学生"]
["東陽フットボールクラブ_14","東陽フットボールクラブ",{"$f":"(\"14\")","v":"14"},"MF","筒井　大翔","ツツイ　ハルト",4,"男子"]
["東陽フットボールクラブ_15","東陽フットボールクラブ",{"$f":"(\"15\")","v":"15"},"GK","溝辺　陸馬","ミゾベ　リクマ",4,"男子"]
["東陽フットボールクラブ_16","東陽フットボールクラブ",{"$f":"(\"16\")","v":"16"},"DF","鶴原　聖季","ツルハラ　イブキ",4,"男子"]
["ＯＫＹ山香サッカークラブ_1","ＯＫＹ山香サッカークラブ",{"$f":"(\"1\")","v":"1"},"GK","小林　神月","コバヤシ　カヅキ",6,"男子"]
["ＯＫＹ山香サッカークラブ_2","ＯＫＹ山香サッカークラブ",{"$f":"(\"2\")","v":"2"},"FW","不死原　潤","フシハラ　ジュン",5,"男子"]
["ＯＫＹ山香サッカークラブ_3","ＯＫＹ山香サッカークラブ",{"$f":"(\"3\")","v":"3"},"MF","平川　寛士","ヒラカワ　カンジ",5,"男子"]
["ＯＫＹ山香サッカークラブ_4","ＯＫＹ山香サッカークラブ",{"$f":"(\"4\")","v":"4"},"MF","伊藤　聖菜","イトウ　セナ",6,"女子小学生"]
["ＯＫＹ山香サッカークラブ_5","ＯＫＹ山香サッカークラブ",{"$f":"(\"5\")","v":"5"},"DF","大久保　匠","オオクボ　タクミ",6,"男子"]
["ＯＫＹ山香サッカークラブ_6","ＯＫＹ山香サッカークラブ",{"$f":"(\"6\")","v":"6"},"FW","通正　純之介","ツウショウ　ジュンノスケ",5,"男子"]
["ＯＫＹ山香サッカークラブ_7","ＯＫＹ山香サッカークラブ",{"$f":"(\"7\")","v":"7"},"DF","阿部　正尊","アベ　マサタカ",5,"男子"]
["ＯＫＹ山香サッカークラブ_8","ＯＫＹ山香サッカークラブ",{"$f":"(\"8\")","v":"8"},"MF","中村　怜音","ナカムラ　レオン",6,"男子"]
["ＯＫＹ山香サッカークラブ_9","ＯＫＹ山香サッカークラブ",{"$f":"(\"9\")","v":"9"},"FW","池部　愛和","イケベ　マナト",6,"男子"]
["ＯＫＹ山香サッカークラブ_10","ＯＫＹ山香サッカークラブ",{"$f":"(\"10\")","v":"10"},"MF","阿部　那紀","アベ　トモキ",6,"男子"]
["ＯＫＹ山香サッカークラブ_11","ＯＫＹ山香サッカークラブ",{"$f":"(\"11\")","v":"11"},"DF","岩尾　匠朗","イワオ　タクロウ",6,"男子"]
["ＯＫＹ山香サッカークラブ_13","ＯＫＹ山香サッカークラブ",{"$f":"(\"13\")","v":"13"},"MF","何松　瞭","ナニマツ　リョウ",5,"男子"]
["ＯＫＹ山香サッカークラブ_14","ＯＫＹ山香サッカークラブ",{"$f":"(\"14\")","v":"14"},"FW","飯干　亜季","イイボシ　アキ",5,"女子小学生"]
["ＯＫＹ山香サッカークラブ_16","ＯＫＹ山香サッカークラブ",{"$f":"(\"16\")","v":"16"},"GK","和田　翔海","ワダ　ヒロミ",5,"男子"]
["臼杵ＳＳＳ_1","臼杵ＳＳＳ",{"$f":"(\"1\")","v":"1"},"GK","谷口　洸斗","タニグチ　コウト",4,"男子"]
["臼杵ＳＳＳ_2","臼杵ＳＳＳ",{"$f":"(\"2\")","v":"2"},"MF","足立　彩空","アダチ　サク",6,"男子"]
["臼杵ＳＳＳ_3","臼杵ＳＳＳ",{"$f":"(\"3\")","v":"3"},"DF","川辺　湊太","カワベ　ソウタ",6,"男子"]
["臼杵ＳＳＳ_4","臼杵ＳＳＳ",{"$f":"(\"4\")","v":"4"},"MF","佐藤　志伝","サトウ　シデン",6,"男子"]
["臼杵ＳＳＳ_5","臼杵ＳＳＳ",{"$f":"(\"5\")","v":"5"},"FW","平松　虎汰郎","ヒラマツ　コタロウ",6,"男子"]
["臼杵ＳＳＳ_6","臼杵ＳＳＳ",{"$f":"(\"6\")","v":"6"},"DF","甲斐　颯汰","カイ　ソウタ",6,"男子"]
["臼杵ＳＳＳ_7","臼杵ＳＳＳ",{"$f":"(\"7\")","v":"7"},"MF","上田　蒼大","ウエダ　ソウタ",4,"男子"]
["臼杵ＳＳＳ_8","臼杵ＳＳＳ",{"$f":"(\"8\")","v":"8"},"DF","河野　将弥","カワノ　ショウヤ",6,"男子"]
["臼杵ＳＳＳ_9","臼杵ＳＳＳ",{"$f":"(\"9\")","v":"9"},"FW","安藤　律來","アンドウ　リク",4,"男子"]
["臼杵ＳＳＳ_10","臼杵ＳＳＳ",{"$f":"(\"10\")","v":"10"},"MF","渡辺　龍信","ワタナベ　リュウシン",6,"男子"]
["臼杵ＳＳＳ_11","臼杵ＳＳＳ",{"$f":"(\"11\")","v":"11"},"DF","足立　桜太郎","アダチ　オウタロウ",6,"男子"]
["臼杵ＳＳＳ_13","臼杵ＳＳＳ",{"$f":"(\"13\")","v":"13"},"MF","伊藤　和航","イトウ　ワタル",4,"男子"]
["臼杵ＳＳＳ_14","臼杵ＳＳＳ",{"$f":"(\"14\")","v":"14"},"DF","阿南　統胡","アナン　トウゴ",4,"男子"]
["臼杵ＳＳＳ_15","臼杵ＳＳＳ",{"$f":"(\"15\")","v":"15"},"MF","衛藤　遥也","エトウ　ハルヤ",4,"男子"]
["臼杵ＳＳＳ_16","臼杵ＳＳＳ",{"$f":"(\"16\")","v":"16"},"FW","桑原　颯志","クワバラ　ソウシ",4,"男子"]
["スマイス・セレソン_1","スマイス・セレソン",{"$f":"(\"1\")","v":"1"},"GK","谷　遥斗","タニ　ハルト",6,"男子"]
["スマイス・セレソン_2","スマイス・セレソン",{"$f":"(\"2\")","v":"2"},"DF","赤嶺　瞭","アカミネ　リョウ",6,"男子"]
["スマイス・セレソン_3","スマイス・セレソン",{"$f":"(\"3\")","v":"3"},"DF","木山　壮太朗","キヤマ　ソウタロウ",6,"男子"]
["スマイス・セレソン_4","スマイス・セレソン",{"$f":"(\"4\")","v":"4"},"DF","原田　惺斗","ハラダ　セイト",6,"男子"]
["スマイス・セレソン_5","スマイス・セレソン",{"$f":"(\"5\")","v":"5"},"MF","荒金　侑成","アラカネ　ユウセイ",6,"男子"]
["スマイス・セレソン_6","スマイス・セレソン",{"$f":"(\"6\")","v":"6"},"MF","花田　憐","ハナダ　レン",6,"男子"]
["スマイス・セレソン_7","スマイス・セレソン",{"$f":"(\"7\")","v":"7"},"FW","市野　圭吾","イチノ　ケイゴ",6,"男子"]
["スマイス・セレソン_8","スマイス・セレソン",{"$f":"(\"8\")","v":"8"},"MF","釘宮　大和","クギミヤ　ヤマト",6,"男子"]
["スマイス・セレソン_9","スマイス・セレソン",{"$f":"(\"9\")","v":"9"},"DF","後藤　光輝","ゴトウ　ミツキ",6,"男子"]
["スマイス・セレソン_10","スマイス・セレソン",{"$f":"(\"10\")","v":"10"},"MF","松尾　蒼友太","マツオ　アユタ",6,"男子"]
["スマイス・セレソン_11","スマイス・セレソン",{"$f":"(\"11\")","v":"11"},"FW","大室　響","オオムロ　ヒビキ",5,"男子"]
["スマイス・セレソン_12","スマイス・セレソン",{"$f":"(\"12\")","v":"12"},"MF","河野　慧大","コウノ　ケイタ",6,"男子"]
["スマイス・セレソン_13","スマイス・セレソン",{"$f":"(\"13\")","v":"13"},"FW","原田　隼大","ハラダ　シュンタ",6,"男子"]
["スマイス・セレソン_14","スマイス・セレソン",{"$f":"(\"14\")","v":"14"},"MF","小野　陽士","オノ　アキト",5,"男子"]
["スマイス・セレソン_15","スマイス・セレソン",{"$f":"(\"15\")","v":"15"},"FW","猪尾　泰晴","イノオ　タイセイ",6,"男子"]
["スマイス・セレソン_16","スマイス・セレソン",{"$f":"(\"16\")","v":"16"},"GK","阿部　巧翔","アベ　タクト",5,"男子"]
["カティオーラフットボールクラブ　大在_1","カティオーラフットボールクラブ　大在",{"$f":"(\"1\")","v":"1"},"GK","西角　陽佑","ニシカド　ヨウスケ",6,"男子"]
["カティオーラフットボールクラブ　大在_2","カティオーラフットボールクラブ　大在",{"$f":"(\"2\")","v":"2"},"DF","新地　一平","シンチ　イッペイ",6,"男子"]
["カティオーラフットボールクラブ　大在_3","カティオーラフットボールクラブ　大在",{"$f":"(\"3\")","v":"3"},"FW","立川　大和","タツカワ　ヤマト",6,"男子"]
[{"$f":"CONCATENATE(B452,\"_\",C452)","v":"カティオーラフットボールクラブ　大在_4"},"カティオーラフットボールクラブ　大在",{"$f":"(\"4\")","v":"4"},"MF","羽田野　天翔","ハダノ　タカト",6,"男子"]
["カティオーラフットボールクラブ　大在_7","カティオーラフットボールクラブ　大在",{"$f":"(\"7\")","v":"7"},"MF","高野　凱","タカノ　カイ",6,"男子"]
[{"$f":"CONCATENATE(B454,\"_\",C454)","v":"カティオーラフットボールクラブ　大在_8"},"カティオーラフットボールクラブ　大在",{"$f":"(\"8\")","v":"8"},"DF","佐藤　直輝","サトウ　ナオキ",6,"男子"]
["カティオーラフットボールクラブ　大在_9","カティオーラフットボールクラブ　大在",{"$f":"(\"9\")","v":"9"},"MF","菅原　颯太","スガハラ　ハヤタ",6,"男子"]
["カティオーラフットボールクラブ　大在_10","カティオーラフットボールクラブ　大在",{"$f":"(\"10\")","v":"10"},"DF","伊藤　雅仁","イトウ　マサト",6,"男子"]
["カティオーラフットボールクラブ　大在_11","カティオーラフットボールクラブ　大在",{"$f":"(\"11\")","v":"11"},"FW","御手洗　慶吾","ミタライ　ケイゴ",6,"男子"]
["カティオーラフットボールクラブ　大在_12","カティオーラフットボールクラブ　大在",{"$f":"(\"12\")","v":"12"},"GK","江藤　凪生","エトウ　ナオ",6,"男子"]
["カティオーラフットボールクラブ　大在_14","カティオーラフットボールクラブ　大在",{"$f":"(\"14\")","v":"14"},"FW","渕野　椋斗","フチノ　リョウト",6,"男子"]
["カティオーラフットボールクラブ　大在_15","カティオーラフットボールクラブ　大在",{"$f":"(\"15\")","v":"15"},"MF","三浦　大雅","ミウラ　タイガ",6,"男子"]
["カティオーラフットボールクラブ　大在_16","カティオーラフットボールクラブ　大在",{"$f":"(\"16\")","v":"16"},"FW","後藤　勇飛","ゴトウ　ユウヒ",6,"男子"]
["ブルーウイングフットボールクラブ_1","ブルーウイングフットボールクラブ",{"$f":"(\"1\")","v":"1"},"GK","麻生　珀珠","アソウ　ハクジュ",6,"男子"]
["ブルーウイングフットボールクラブ_2","ブルーウイングフットボールクラブ",{"$f":"(\"2\")","v":"2"},"MF","大野　花道","オオノ　ハナミチ",6,"男子"]
["ブルーウイングフットボールクラブ_3","ブルーウイングフットボールクラブ",{"$f":"(\"3\")","v":"3"},"FW","瀬戸口　晴紀","セトグチ　ハルキ",6,"男子"]
[{"$f":"CONCATENATE(B465,\"_\",C465)","v":"ブルーウイングフットボールクラブ_4"},"ブルーウイングフットボールクラブ",{"$f":"(\"4\")","v":"4"},"DF","小野　佑馬","オノ　ユウマ",6,"男子"]
[{"$f":"CONCATENATE(B466,\"_\",C466)","v":"ブルーウイングフットボールクラブ_5"},"ブルーウイングフットボールクラブ",{"$f":"(\"5\")","v":"5"},"DF","藤川　碧冬","フジカワ　アオト",6,"男子"]
["ブルーウイングフットボールクラブ_6","ブルーウイングフットボールクラブ",{"$f":"(\"6\")","v":"6"},"FW","三浦　舜平","ミウラ　シュンペイ",6,"男子"]
["ブルーウイングフットボールクラブ_7","ブルーウイングフットボールクラブ",{"$f":"(\"7\")","v":"7"},"MF","佐藤　秀哉","サトウ　シュウヤ",6,"男子"]
["ブルーウイングフットボールクラブ_8","ブルーウイングフットボールクラブ",{"$f":"(\"8\")","v":"8"},"MF","秦　碧空","ハタ　アオイ",6,"男子"]
["ブルーウイングフットボールクラブ_9","ブルーウイングフットボールクラブ",{"$f":"(\"9\")","v":"9"},"MF","宿利　友輝","シュクリ　ユウキ",6,"男子"]
["ブルーウイングフットボールクラブ_10","ブルーウイングフットボールクラブ",{"$f":"(\"10\")","v":"10"},"FW","南　創太","ミナミ　ソウタ",6,"男子"]
["ブルーウイングフットボールクラブ_11","ブルーウイングフットボールクラブ",{"$f":"(\"11\")","v":"11"},"DF","三浦　隼","ミウラ　ハヤト",6,"男子"]
["ブルーウイングフットボールクラブ_12","ブルーウイングフットボールクラブ",{"$f":"(\"12\")","v":"12"},"GK","安藤　亮太","アンドウ　リョウタ",5,"男子"]
["ブルーウイングフットボールクラブ_13","ブルーウイングフットボールクラブ",{"$f":"(\"13\")","v":"13"},"FW","河内　竜樹","カワウチ　タツキ",6,"男子"]
["ブルーウイングフットボールクラブ_14","ブルーウイングフットボールクラブ",{"$f":"(\"14\")","v":"14"},"DF","嶋田　祐也","シマダ　ユウヤ",6,"男子"]
["ブルーウイングフットボールクラブ_15","ブルーウイングフットボールクラブ",{"$f":"(\"15\")","v":"15"},"FW","奈良　三志朗","ナラ　サンシロウ",5,"男子"]
["ブルーウイングフットボールクラブ_16","ブルーウイングフットボールクラブ",{"$f":"(\"16\")","v":"16"},"DF","諸永　徠斗","モロナガ　ライト",5,"男子"]
["ブルーウイングフットボールクラブ_17","ブルーウイングフットボールクラブ",{"$f":"(\"17\")","v":"17"},"DF","山下　純弥","ヤマシタ　ジュンヤ",6,"男子"]
["ブルーウイングフットボールクラブ_18","ブルーウイングフットボールクラブ",{"$f":"(\"18\")","v":"18"},"FW","高部　紫音","タカベ　シオン",6,"男子"]
["ＦＣ　ＲＥＧＡＴＥ_1","ＦＣ　ＲＥＧＡＴＥ",{"$f":"(\"1\")","v":"1"},"GK","村上　葵","ムラカミ　アオイ",5,"男子"]
["ＦＣ　ＲＥＧＡＴＥ_2","ＦＣ　ＲＥＧＡＴＥ",{"$f":"(\"2\")","v":"2"},"DF","楠田　優","クスダ　ユウ",6,"男子"]
["ＦＣ　ＲＥＧＡＴＥ_3","ＦＣ　ＲＥＧＡＴＥ",{"$f":"(\"3\")","v":"3"},"DF","下見　遥音","シタミ　ハルト",6,"男子"]
["ＦＣ　ＲＥＧＡＴＥ_4","ＦＣ　ＲＥＧＡＴＥ",{"$f":"(\"4\")","v":"4"},"DF","佐藤　璃空","サトウ　リク",6,"男子"]
["ＦＣ　ＲＥＧＡＴＥ_5","ＦＣ　ＲＥＧＡＴＥ",{"$f":"(\"5\")","v":"5"},"DF","秦　龍也","シン　タツヤ",6,"男子"]
["ＦＣ　ＲＥＧＡＴＥ_6","ＦＣ　ＲＥＧＡＴＥ",{"$f":"(\"6\")","v":"6"},"DF","斉藤　快吏","サイトウ　カイリ",6,"男子"]
["ＦＣ　ＲＥＧＡＴＥ_7","ＦＣ　ＲＥＧＡＴＥ",{"$f":"(\"7\")","v":"7"},"MF","前田　大翔","マエダ　ヒロト",6,"男子"]
["ＦＣ　ＲＥＧＡＴＥ_8","ＦＣ　ＲＥＧＡＴＥ",{"$f":"(\"8\")","v":"8"},"MF","嵜野　晴翔","サキノ　ハルト",5,"男子"]
["ＦＣ　ＲＥＧＡＴＥ_9","ＦＣ　ＲＥＧＡＴＥ",{"$f":"(\"9\")","v":"9"},"FW","秦　翼早","シン　ツバサ",6,"男子"]
["ＦＣ　ＲＥＧＡＴＥ_10","ＦＣ　ＲＥＧＡＴＥ",{"$f":"(\"10\")","v":"10"},"FW","清水　和","シミズ　カズ",6,"男子"]
["ＦＣ　ＲＥＧＡＴＥ_11","ＦＣ　ＲＥＧＡＴＥ",{"$f":"(\"11\")","v":"11"},"MF","穴見　倫太郎","アナミ　リンタロウ",6,"男子"]
["ＦＣ　ＲＥＧＡＴＥ_12","ＦＣ　ＲＥＧＡＴＥ",{"$f":"(\"12\")","v":"12"},"FW","三浦　颯仁","ミウラ　ハヤト",6,"男子"]
["ＦＣ　ＲＥＧＡＴＥ_13","ＦＣ　ＲＥＧＡＴＥ",{"$f":"(\"13\")","v":"13"},"DF","三ヶ尻　匠吾","ミカジリ　ショウゴ",6,"男子"]
["ＦＣ　ＲＥＧＡＴＥ_14","ＦＣ　ＲＥＧＡＴＥ",{"$f":"(\"14\")","v":"14"},"FW","後藤　碧斗","ゴトウ　アオト",5,"男子"]
["ＦＣ　ＲＥＧＡＴＥ_15","ＦＣ　ＲＥＧＡＴＥ",{"$f":"(\"15\")","v":"15"},"DF","市川　大馳","イチカワ　ダイチ",6,"男子"]
["ＦＣ　ＲＥＧＡＴＥ_16","ＦＣ　ＲＥＧＡＴＥ",{"$f":"(\"16\")","v":"16"},"DF","塚本　迅平","ツカモト　ジンペイ",5,"男子"]
["ＦＣ　ＲＥＧＡＴＥ_17","ＦＣ　ＲＥＧＡＴＥ",{"$f":"(\"17\")","v":"17"},"MF","鶴原　仁人","ツルハラ　ヨシト",5,"男子"]
["ＦＣ　ＲＥＧＡＴＥ_20","ＦＣ　ＲＥＧＡＴＥ",{"$f":"(\"20\")","v":"20"},"GK","矢野　晃也","ヤノ　アキヤ",4,"男子"]
["ＦＣ　ＵＮＩＴＥ_1","ＦＣ　ＵＮＩＴＥ",{"$f":"(\"1\")","v":"1"},"GK","酒井　洸太","サカイ　コウタ",6,"男子"]
[{"$f":"CONCATENATE(B499,\"_\",C499)","v":"ＦＣ　ＵＮＩＴＥ_2"},"ＦＣ　ＵＮＩＴＥ",{"$f":"(\"2\")","v":"2"},"FW","江口　郁弥","エグチ　フミヤ",4,"男子"]
["ＦＣ　ＵＮＩＴＥ_3","ＦＣ　ＵＮＩＴＥ",{"$f":"(\"3\")","v":"3"},"FW","大石　崚瑛","オオイシ　リョウエイ",5,"男子"]
["ＦＣ　ＵＮＩＴＥ_5","ＦＣ　ＵＮＩＴＥ",{"$f":"(\"5\")","v":"5"},"DF","犬塚　惺哉","イヌツカ　セイヤ",5,"男子"]
["ＦＣ　ＵＮＩＴＥ_6","ＦＣ　ＵＮＩＴＥ",{"$f":"(\"6\")","v":"6"},"FW","倉田　煌大","クラタ　コウダイ",5,"男子"]
["ＦＣ　ＵＮＩＴＥ_7","ＦＣ　ＵＮＩＴＥ",{"$f":"(\"7\")","v":"7"},"DF","栗井　蓮","クリイ　レン",6,"男子"]
["ＦＣ　ＵＮＩＴＥ_8","ＦＣ　ＵＮＩＴＥ",{"$f":"(\"8\")","v":"8"},"DF","松高　蓮","マツタカ　レン",6,"男子"]
["ＦＣ　ＵＮＩＴＥ_9","ＦＣ　ＵＮＩＴＥ",{"$f":"(\"9\")","v":"9"},"MF","安部　響","アベ　ヒビキ",6,"男子"]
["ＦＣ　ＵＮＩＴＥ_10","ＦＣ　ＵＮＩＴＥ",{"$f":"(\"10\")","v":"10"},"MF","近藤　陽稀","コンドウ　ハルキ",6,"男子"]
["ＦＣ　ＵＮＩＴＥ_11","ＦＣ　ＵＮＩＴＥ",{"$f":"(\"11\")","v":"11"},"MF","田畑　天雅","タバタ　テンガ",6,"男子"]
["ＦＣ　ＵＮＩＴＥ_12","ＦＣ　ＵＮＩＴＥ",{"$f":"(\"12\")","v":"12"},"FW","末弘　智亮","スエヒロ　トモアキ",5,"男子"]
["ＦＣ　ＵＮＩＴＥ_13","ＦＣ　ＵＮＩＴＥ",{"$f":"(\"13\")","v":"13"},"FW","関　大夢","セキ　ヒロム",4,"男子"]
["ＦＣ　ＵＮＩＴＥ_14","ＦＣ　ＵＮＩＴＥ",{"$f":"(\"14\")","v":"14"},"MF","橋本　颯士","ハシモト　ソウシ",4,"男子"]
["ＦＣ　ＵＮＩＴＥ_15","ＦＣ　ＵＮＩＴＥ",{"$f":"(\"15\")","v":"15"},"MF","岩田　琉生","イワタ　ルオ",4,"男子"]
["太陽スポーツクラブ大分西_1","太陽スポーツクラブ大分西",{"$f":"(\"1\")","v":"1"},"GK","坂本　帆駿","サカモト　ホタカ",5,"男子"]
["太陽スポーツクラブ大分西_2","太陽スポーツクラブ大分西",{"$f":"(\"2\")","v":"2"},"MF","江藤　朝陽","エトウ　アサヒ",6,"男子"]
["太陽スポーツクラブ大分西_3","太陽スポーツクラブ大分西",{"$f":"(\"3\")","v":"3"},"DF","東　侑平","ヒガシ　ユウヘイ",5,"男子"]
["太陽スポーツクラブ大分西_4","太陽スポーツクラブ大分西",{"$f":"(\"4\")","v":"4"},"DF","山岡　湧斗","ヤマオカ　ユウト",5,"男子"]
["太陽スポーツクラブ大分西_5","太陽スポーツクラブ大分西",{"$f":"(\"5\")","v":"5"},"DF","髙村　彰人","タカムラ　アキヒト",6,"男子"]
["太陽スポーツクラブ大分西_6","太陽スポーツクラブ大分西",{"$f":"(\"6\")","v":"6"},"FW","嶋津　裕心","シマヅ　ユウシン",6,"男子"]
["太陽スポーツクラブ大分西_7","太陽スポーツクラブ大分西",{"$f":"(\"7\")","v":"7"},"DF","江藤　聖悟","エトウ　セイゴ",6,"男子"]
["太陽スポーツクラブ大分西_8","太陽スポーツクラブ大分西",{"$f":"(\"8\")","v":"8"},"MF","伊東　幹太","イトウ　カンタ",6,"男子"]
[{"$f":"CONCATENATE(B520,\"_\",C520)","v":"太陽スポーツクラブ大分西_9"},"太陽スポーツクラブ大分西",{"$f":"(\"9\")","v":"9"},"FW","櫻木　煌河","サクラギ　コウガ",6,"男子"]
["太陽スポーツクラブ大分西_10","太陽スポーツクラブ大分西",{"$f":"(\"10\")","v":"10"},"FW","立花　佑悟","タチバナ　ユウゴ",6,"男子"]
["太陽スポーツクラブ大分西_11","太陽スポーツクラブ大分西",{"$f":"(\"11\")","v":"11"},"MF","進藤　晃太","シンドウ　コウタ",5,"男子"]
["太陽スポーツクラブ大分西_12","太陽スポーツクラブ大分西",{"$f":"(\"12\")","v":"12"},"FW","諌山　浩志","イサヤマ　ヒロシ",6,"男子"]
["太陽スポーツクラブ大分西_13","太陽スポーツクラブ大分西",{"$f":"(\"13\")","v":"13"},"FW","森山　大貴","モリヤマ　ダイキ",6,"男子"]
["太陽スポーツクラブ大分西_14","太陽スポーツクラブ大分西",{"$f":"(\"14\")","v":"14"},"MF","中野　未萊","ナカノ　ミライ",6,"男子"]
["太陽スポーツクラブ大分西_15","太陽スポーツクラブ大分西",{"$f":"(\"15\")","v":"15"},"DF","横尾　陸翔","ヨコオ　リクト",6,"男子"]
["太陽スポーツクラブ大分西_16","太陽スポーツクラブ大分西",{"$f":"(\"16\")","v":"16"},"GK","中島　歩夢","ナカシマ　アユム",4,"男子"]
["太陽スポーツクラブ大分西_17","太陽スポーツクラブ大分西",{"$f":"(\"17\")","v":"17"},"DF","長尾　一朗","ナガオ　イチロウ",6,"男子"]
["太陽スポーツクラブ大分西_19","太陽スポーツクラブ大分西",{"$f":"(\"19\")","v":"19"},"MF","岩澤　春弥","イワサワ　ハルヤ",5,"男子"]
["ＭＳＳ_1","ＭＳＳ",{"$f":"(\"1\")","v":"1"},"GK","二宮　拓篤","ニノミヤ　タクマ",5,"男子"]
["ＭＳＳ_2","ＭＳＳ",{"$f":"(\"2\")","v":"2"},"DF","藤内　勇一朗","トウナイ　ユウイチロウ",6,"男子"]
["ＭＳＳ_4","ＭＳＳ",{"$f":"(\"4\")","v":"4"},"DF","南里　仁士","ナンリ　ヒロト",5,"男子"]
["ＭＳＳ_5","ＭＳＳ",{"$f":"(\"5\")","v":"5"},"FW","赤峰　功己","アカミネ　イサミ",5,"男子"]
["ＭＳＳ_6","ＭＳＳ",{"$f":"(\"6\")","v":"6"},"FW","片島　啓太","カタシマ　ケイタ",5,"男子"]
["ＭＳＳ_7","ＭＳＳ",{"$f":"(\"7\")","v":"7"},"MF","渡邊　丈輝","ワタナベ　トモキ",5,"男子"]
["ＭＳＳ_8","ＭＳＳ",{"$f":"(\"8\")","v":"8"},"FW","久保　創平","クボ　ソウヘイ",6,"男子"]
["ＭＳＳ_9","ＭＳＳ",{"$f":"(\"9\")","v":"9"},"FW","山野　裕斗","ヤマノ　ユウト",6,"男子"]
["ＭＳＳ_10","ＭＳＳ",{"$f":"(\"10\")","v":"10"},"MF","中川　天蒼","ナカガワ　ソラ",5,"男子"]
["ＭＳＳ_11","ＭＳＳ",{"$f":"(\"11\")","v":"11"},"MF","山本　一晟","ヤマモト　イッセイ",5,"男子"]
["ＭＳＳ_12","ＭＳＳ",{"$f":"(\"12\")","v":"12"},"MF","中西　俊喜","ナカニシ　トシキ",5,"男子"]
["ＭＳＳ_13","ＭＳＳ",{"$f":"(\"13\")","v":"13"},"MF","吉田　光","ヨシダ　ヒカル",5,"男子"]
["ＭＳＳ_14","ＭＳＳ",{"$f":"(\"14\")","v":"14"},"DF","高野　将大","タカノ　マサヒロ",5,"男子"]
["ＭＳＳ_15","ＭＳＳ",{"$f":"(\"15\")","v":"15"},"MF","後藤　塁","ゴトウ　ルイ",4,"男子"]
["ＭＳＳ_17","ＭＳＳ",{"$f":"(\"17\")","v":"17"},"MF","高濱　蒼太","タカハマ　ソウタ",5,"男子"]
["ＭＳＳ_18","ＭＳＳ",{"$f":"(\"18\")","v":"18"},"MF","石川　遥大","イシカワ　ヨウタ",4,"男子"]
["スマイス　セレソン　スポーツクラブ_1","スマイス　セレソン　スポーツクラブ",{"$f":"(\"1\")","v":"1"},"GK","原田　琉唯","ハラダ　ルイ",6,"男子"]
["スマイス　セレソン　スポーツクラブ_2","スマイス　セレソン　スポーツクラブ",{"$f":"(\"2\")","v":"2"},"DF","重光　淳乃介","シゲミツ　ジュンノスケ",5,"男子"]
["スマイス　セレソン　スポーツクラブ_3","スマイス　セレソン　スポーツクラブ",{"$f":"(\"3\")","v":"3"},"DF","飯田　規介","イイダ　キスケ",5,"男子"]
["スマイス　セレソン　スポーツクラブ_4","スマイス　セレソン　スポーツクラブ",{"$f":"(\"4\")","v":"4"},"DF","田嶋　勇征","タシマ　ユウセイ",5,"男子"]
["スマイス　セレソン　スポーツクラブ_5","スマイス　セレソン　スポーツクラブ",{"$f":"(\"5\")","v":"5"},"DF","阿部　開世","アベ　カイセイ",6,"男子"]
["スマイス　セレソン　スポーツクラブ_6","スマイス　セレソン　スポーツクラブ",{"$f":"(\"6\")","v":"6"},"DF","由利　倖大","ユリ　コウダイ",5,"男子"]
["スマイス　セレソン　スポーツクラブ_7","スマイス　セレソン　スポーツクラブ",{"$f":"(\"7\")","v":"7"},"FW","高橋　昊","タカハシ　ソラ",6,"女子小学生"]
["スマイス　セレソン　スポーツクラブ_8","スマイス　セレソン　スポーツクラブ",{"$f":"(\"8\")","v":"8"},"MF","稲葉　巧真","イナバ　タクマ",5,"男子"]
["スマイス　セレソン　スポーツクラブ_9","スマイス　セレソン　スポーツクラブ",{"$f":"(\"9\")","v":"9"},"FW","福島　瞳也","フクシマ　トウヤ",5,"男子"]
["スマイス　セレソン　スポーツクラブ_10","スマイス　セレソン　スポーツクラブ",{"$f":"(\"10\")","v":"10"},"MF","衛藤　亮佑","エトウ　リョウスケ",6,"男子"]
["スマイス　セレソン　スポーツクラブ_11","スマイス　セレソン　スポーツクラブ",{"$f":"(\"11\")","v":"11"},"MF","河野　倫樹","カワノ　トモキ",5,"男子"]
["スマイス　セレソン　スポーツクラブ_12","スマイス　セレソン　スポーツクラブ",{"$f":"(\"12\")","v":"12"},"GK","日下部　悠大","クサカベ　ユウタ",4,"男子"]
["スマイス　セレソン　スポーツクラブ_13","スマイス　セレソン　スポーツクラブ",{"$f":"(\"13\")","v":"13"},"MF","小林　奏翔","コバヤシ　カナト",5,"男子"]
["スマイス　セレソン　スポーツクラブ_14","スマイス　セレソン　スポーツクラブ",{"$f":"(\"14\")","v":"14"},"FW","亀井　颯真","カメイ　ソウマ",6,"男子"]
["スマイス　セレソン　スポーツクラブ_15","スマイス　セレソン　スポーツクラブ",{"$f":"(\"15\")","v":"15"},"FW","倉富　壮大","クラトミ　ソウタ",6,"男子"]
["スマイス　セレソン　スポーツクラブ_16","スマイス　セレソン　スポーツクラブ",{"$f":"(\"16\")","v":"16"},"GK","寺田　健太郎","テラダ　ケンタロウ",5,"男子"]
["スマイス　セレソン　スポーツクラブ_17","スマイス　セレソン　スポーツクラブ",{"$f":"(\"17\")","v":"17"},"FW","中井　薫","ナカイ　カオル",4,"男子"]
["スマイス　セレソン　スポーツクラブ_18","スマイス　セレソン　スポーツクラブ",{"$f":"(\"18\")","v":"18"},"MF","豊福　泰生","トヨフク　タイキ",4,"男子"]
["ＦＣ中津ジュニア_1","ＦＣ中津ジュニア",{"$f":"(\"1\")","v":"1"},"GK","工藤　龍輝","クドウ　リュウキ",6,"男子"]
["ＦＣ中津ジュニア_2","ＦＣ中津ジュニア",{"$f":"(\"2\")","v":"2"},"MF","高松　芹羽","タカマツ　セリハ",6,"女子小学生"]
["ＦＣ中津ジュニア_3","ＦＣ中津ジュニア",{"$f":"(\"3\")","v":"3"},"MF","副島　旺太郎","ソエジマ　オウタロウ",6,"男子"]
["ＦＣ中津ジュニア_4","ＦＣ中津ジュニア",{"$f":"(\"4\")","v":"4"},"MF","多田羅　朔","タタラ　サク",6,"男子"]
["ＦＣ中津ジュニア_5","ＦＣ中津ジュニア",{"$f":"(\"5\")","v":"5"},"MF","園　ひなの","ソノ　ヒナノ",6,"女子小学生"]
["ＦＣ中津ジュニア_6","ＦＣ中津ジュニア",{"$f":"(\"6\")","v":"6"},"MF","橋本　力斗","ハシモト　リキト",5,"男子"]
["ＦＣ中津ジュニア_7","ＦＣ中津ジュニア",{"$f":"(\"7\")","v":"7"},"MF","壇　直助","ダン　ナオスケ",5,"男子"]
["ＦＣ中津ジュニア_8","ＦＣ中津ジュニア",{"$f":"(\"8\")","v":"8"},"MF","園　大翔","ソノ　ヒロト",6,"男子"]
["ＦＣ中津ジュニア_9","ＦＣ中津ジュニア",{"$f":"(\"9\")","v":"9"},"FW","梅津　爽蒼","ウメヅ　ソラ",5,"男子"]
["ＦＣ中津ジュニア_10","ＦＣ中津ジュニア",{"$f":"(\"10\")","v":"10"},"FW","梶原　壱盛","カジワラ　イッセイ",6,"男子"]
["ＦＣ中津ジュニア_11","ＦＣ中津ジュニア",{"$f":"(\"11\")","v":"11"},"MF","吉良　純晟","キラ　ジュンセイ",6,"男子"]
["ＦＣ中津ジュニア_12","ＦＣ中津ジュニア",{"$f":"(\"12\")","v":"12"},"DF","大石　悠輝","オオイシ　ユウキ",5,"男子"]
["ＦＣ中津ジュニア_13","ＦＣ中津ジュニア",{"$f":"(\"13\")","v":"13"},"DF","原田　将叶","ハラダ　マサト",5,"男子"]
["ＦＣ中津ジュニア_14","ＦＣ中津ジュニア",{"$f":"(\"14\")","v":"14"},"MF","東　拓海","ヒガシ　タクミ",5,"男子"]
["ＦＣ中津ジュニア_16","ＦＣ中津ジュニア",{"$f":"(\"16\")","v":"16"},"MF","植村　銀","ウエムラ　ギン",4,"男子"]
["ＦＣ中津ジュニア_17","ＦＣ中津ジュニア",{"$f":"(\"17\")","v":"17"},"MF","藤冨　琥士馬","フジトミ　トオマ",5,"男子"]

{"sheet":"審判員","index":20,"n_rows":2743,"n_cols":9,"rows_kept":2743,"cut":false,"hidden":true,"merged":[]}
["審判登録番号","氏名","資格","所属協会","第二登録協会",null,"選択肢より",null,"＜警告選択肢＞"]
["R010209402","三浦　龍一",4,"福岡県","大分県",null,"警告",null,"反スポ"]
["R010315949","溝口　介",4,"福岡県","大分県",null,"退場",null,"ラフ"]
["R010297995","宮本　遼一",4,"福岡県","大分県",null,null,null,"異議"]
["R010247516","草場　帆斗",3,"長崎県","大分県",null,null,null,"繰り返し"]
["R001262704","緒方　孝浩",1,"大分県",null,null,null,null,"遅延"]
["R001251601","佐々木　慎哉",1,"大分県",null,null,null,null,"距離"]
["R003147861","緒方　実央","女子1","大分県",null,null,null,null,"無断入"]
["R001265145","秋元　昭一",2,"大分県",null,null,null,null,"無断去"]
["R000879756","足達　実生",2,"大分県",null,null,null,null,"＜退場選択肢＞"]
["R001253502","安藤　博幸",2,"大分県",null,null,null,null,"不正"]
["R006221377","池添　将大",2,"大分県",null,null,null,null,"乱暴"]
["R001262333","諌本　秀樹",2,"大分県",null,null,null,null,"つば"]
["R001254060","井上　大知",2,"大分県",null,null,null,null,"阻止(手)"]
["R001265172","岩尾　雅広",2,"大分県",null,null,null,null,"阻止(他)"]
["R001262546","岩崎　浩也",2,"大分県",null,null,null,null,"暴言"]
["R001265190","宇野　耕二",2,"大分県",null,null,null,null,"警告2"]
["R001265224","大塚　浩司",2,"大分県"]
["R001265233","大野　髙洋",2,"大分県"]
["R001265242","小埜　勝也",2,"大分県"]
["R009212325","戒田　直樹",2,"大分県"]
["R004281658","兼瀬　健志",2,"大分県"]
["R001265303","河野　紘祐",2,"大分県"]
["R001262971","木下　富喜",2,"大分県"]
["R001262999","木原　一心",2,"大分県"]
["R005528255","黒田　大貴",2,"大分県"]
["R001265330","桑名　隆",2,"大分県"]
["R001265349","小出　康博",2,"大分県"]
["R001265376","後藤　樹明",2,"大分県"]
["R000876616","後藤　晋平",2,"大分県"]
["R001265367","後藤　啓之",2,"大分県"]
["R001256943","笹原　年浩",2,"大分県"]
["R003255841","塩月　勇輝",2,"大分県"]
["R001265385","須藤　健二",2,"大分県"]
["R001257818","関　太啓",2,"大分県"]
["R006221465","曽我　拓実",2,"大分県"]
["R010052667","高木　翔",2,"大分県"]
["R001257924","高木　哲也",2,"大分県"]
["R000892429","田中　博",2,"大分県"]
["R001265428","坪井　和幸",2,"大分県"]
["R001265437","寺林　豊",2,"大分県"]
["R008254236","時髙　美紅",2,"大分県","山口県"]
["R001265455","中井　賢太郎",2,"大分県"]
["R006151032","中尾　優志",2,"大分県"]
["R003317390","中園　健太郎",2,"大分県"]
["R004162335","中原　元希",2,"大分県"]
["R001265464","仲摩　則孝",2,"大分県"]
["R001265297","中村　圭一郎",2,"大分県"]
["R001265358","西田　亜矢",2,"大分県"]
["R001265473","引地　弘幸",2,"大分県"]
["R001260140","福田　人志",2,"大分県"]
["R001265516","藤田　昭彦",2,"大分県"]
["R001265534","前山　精治",2,"大分県"]
["R001260593","増永　伸也",2,"大分県"]
["R001265552","松原　マヤ",2,"大分県"]
["R002331010","丸小野　聡暢",2,"大分県"]
["R004793649","水江　真太郎",2,"大分県"]
["R001264632","湊　弘智",2,"大分県"]
["R006093817","幸　壮一郎",2,"大分県"]
["R001265622","渡邉　昇",2,"大分県"]
["R001262023","和田　敬生",2,"大分県"]
["R007728956","秋鹿　栄",3,"大分県"]
["R009072286","合澤　早紀",3,"大分県"]
["R010093434","赤嶺　将太",3,"大分県"]
["R001264881","赤山　千晶",3,"大分県"]
["R001253007","秋元　貴生",3,"大分県"]
["R001253025","秋吉　明",3,"大分県"]
["R007960093","浅井　佑太",3,"大分県"]
["R007728424","浅田　雄太",3,"大分県"]
["R003972391","朝比奈　義行",3,"大分県"]
["R003317336","朝吹　崇宏",3,"大分県"]
["R006933694","東　紘造",3,"大分県"]
["R009072152","麻生　葵",3,"大分県"]
["R001253159","麻生　勝稔",3,"大分県"]
["R001265154","足立　英二",3,"大分県"]
["R001253557","安達　信也",3,"大分県"]
["R001253195","足立　淳",3,"大分県"]
["R010069871","足立　卓也",3,"大分県"]
["R009198423","足立　光",3,"大分県"]
["R010189040","阿地　孝",3,"大分県"]
["R010044664","穴井　裕大",3,"大分県"]
["R001262184","安部　一徳",3,"大分県"]
["R006573784","安倍　和広",3,"大分県"]
["R009460436","安部　隆行",3,"大分県"]
["R010189323","安部　孝之",3,"大分県"]
["R007959103","安倍　達也",3,"大分県"]
["R001262209","阿部　浩之",3,"大分県"]
["R010281814","安部　正信",3,"大分県"]
["R010027828","阿部　涼",3,"大分県"]
["R005336098","荒木　宗明",3,"大分県"]
["R004225713","有田　裕哉",3,"大分県"]
["R001251036","有村　季幸",3,"大分県"]
["R001262236","有吉　剛",3,"大分県"]
["R008634229","安藤　昭徳",3,"大分県"]
["R007003033","安藤　和洋",3,"大分県"]
["R001253496","安東　信二",3,"大分県"]
["R010013254","安藤　暢",3,"大分県"]
["R010064829","安藤　英明",3,"大分県"]
["R001253548","安藤　洋樹",3,"大分県"]
["R001262254","安東　幹雄",3,"大分県"]
["R009547124","安藤　洋一",3,"大分県"]
["R007960084","安部　武志",3,"大分県"]
["R001262290","池江　浩一郎",3,"大分県"]
["R010306442","池田　達哉",3,"大分県"]
["R002384216","池田　浩",3,"大分県"]
["R001262324","池辺　俊明",3,"大分県"]
["R010301990","池本　岬",3,"大分県"]
["R009408904","石井　洋平",3,"大分県"]
["R001262360","石川　幸二",3,"大分県"]
["R001262379","石川　慎也",3,"大分県"]
["R010027832","石川　裕明",3,"大分県"]
["R004060329","石松　卓哉",3,"大分県"]
["R001262397","石丸　泰幸",3,"大分県"]
["R007753129","石本　直也",3,"大分県"]
["R001262403","石山　慎史",3,"大分県"]
["R003421338","五十川　文明",3,"大分県"]
["R005467918","磯村　信一",3,"大分県"]
["R008536972","板井　晋一",3,"大分県"]
["R006093835","板井　龍法",3,"大分県"]
["R006151041","板倉　瑛希",3,"大分県"]
["R007686234","市田　翔太",3,"大分県"]
["R002384191","居塚　繁",3,"大分県"]
["R002531522","伊藤　宏充",3,"大分県"]
["R001262458","伊東　雅弘",3,"大分県"]
["R008634478","伊藤　勇士",3,"大分県"]
["R006173919","井上　健次郎",3,"大分県"]
["R004653262","井上　誠一",3,"大分県"]
["R010281875","井上　颯太",3,"大分県"]
["R001254051","井上　直樹",3,"大分県"]
["R001869093","井上　秀文",3,"大分県"]
["R006574172","猪下　侑恭",3,"大分県"]
["R001262485","猪原　勝彦",3,"大分県"]
["R001262494","井堀　貴康",3,"大分県"]
["R001262500","今井　克人",3,"大分県"]
["R003677104","今宮　俊一",3,"大分県"]
["R010090347","岩男　行祐",3,"大分県"]
["R005603820","岩尾　潤一郎",3,"大分県"]
["R010096810","岩尾　瑞貴",3,"大分県"]
["R006664758","岩男　雄一郎",3,"大分県"]
["R001254176","岩坂　康範",3,"大分県"]
["R004778507","岩崎　彰範",3,"大分県"]
["R005405510","岩崎　皓太郎",3,"大分県"]
["R005405529","岩崎　裕太郎",3,"大分県"]
["R010100667","岩波　豊治",3,"大分県"]
["R002384605","岩野　雄二",3,"大分県"]
["R007335297","岩丸　海斗",3,"大分県"]
["R008634830","岩村　真斗",3,"大分県"]
["R001262573","上尾　泰裕",3,"大分県"]
["R004055390","植木　邦彦",3,"大分県"]
["R001254282","上田　大吾",3,"大分県"]
["R001262582","上田　輝彦",3,"大分県"]
["R010169040","上本　慎一郎",3,"大分県"]
["R009408773","植山　功喜",3,"大分県"]
["R010189280","魚住　健人",3,"大分県"]
["R010172862","牛島　寛明",3,"大分県"]
["R007003431","宇髙　篤史",3,"大分県"]
["R003421231","内丸　貴裕",3,"大分県"]
["R010264274","内村　天翔",3,"大分県"]
["R010093443","内山田　光史",3,"大分県"]
["R001262874","宇都宮　潤也",3,"大分県"]
["R005527609","宇都宮　貴之",3,"大分県"]
["R010189311","梅徳　里一",3,"大分県"]
["R003421161","永路　尚道",3,"大分県"]
["R010076621","江上　和希",3,"大分県"]
["R005603361","江口　晃平",3,"大分県"]
["R010281880","江口　大介",3,"大分県"]
["R002530064","江崎　康平",3,"大分県"]
["R001254538","江藤　修",3,"大分県"]
["R005603866","衛藤　圭典",3,"大分県"]
["R001254510","衛藤　兼一",3,"大分県"]
["R001262607","衛藤　俊明",3,"大分県"]
["R001254477","江藤　雅章",3,"大分県"]
["R009197619","恵美　圭介",3,"大分県"]
["R002384580","江良　信司",3,"大分県"]
["R001262625","大久保　邦彦",3,"大分県"]
["R008377616","大久保　稔生",3,"大分県"]
["R006093738","大谷　伸二",3,"大分県"]
["R001254714","大塚　浩介",3,"大分県"]
["R005528121","大塚　勇司",3,"大分県"]
["R008174019","大塚　良輝",3,"大分県"]
["R003351109","大津留　健太",3,"大分県"]
["R003317080","大津留　聖太",3,"大分県"]
["R001262670","大渡　年春",3,"大分県"]
["R007686261","大友　拓郎",3,"大分県"]
["R003421222","大野　盛通",3,"大分県"]
["R008523330","大場　剛",3,"大分県"]
["R010093494","大本　敏行",3,"大分県"]
["R007660573","岡　智史",3,"大分県"]
["R006901613","岡部　明男",3,"大分県"]
["R001254875","岡部　司",3,"大分県"]
["R007959088","岡本　遼",3,"大分県"]
["R001262698","緒方　崇",3,"大分県"]
["R007075261","小川　翔太",3,"大分県"]
["R006573979","小川　雅和",3,"大分県"]
["R009460515","奥田　和彦",3,"大分県"]
["R003972355","小倉　正広",3,"大分県"]
["R001262731","長田　敏明",3,"大分県"]
["R010189320","尾崎　勇",3,"大分県"]
["R007960109","小田　将大",3,"大分県"]
["R010311884","越智　龍平",3,"大分県"]
["R002996695","乙部　哲也",3,"大分県"]
["R007959954","オトメ　仁孝",3,"大分県"]
["R002917661","小野　晃央",3,"大分県"]
["R001262768","小野　和生",3,"大分県"]
["R001255184","小野　聡",3,"大分県"]
["R005603608","小野　智史",3,"大分県"]
["R001255193","小野　修太郎",3,"大分県"]
["R001262759","小野　俊二郎",3,"大分県"]
["R001255139","小野　慎一",3,"大分県"]
["R001262740","小野　辰弘",3,"大分県"]
["R005604005","小野　裕二",3,"大分県"]
["R010027814","小野　優也",3,"大分県"]
["R001262786","小野　幸登",3,"大分県"]
["R001262777","小野　亮一",3,"大分県"]
["R002996659","小畑　郁夫",3,"大分県"]
["R005164303","小幡　栄治",3,"大分県"]
["R000466941","小畑　克則",3,"大分県"]
["R002530125","小畑　広大",3,"大分県"]
["R008173700","甲斐　剛樹",3,"大分県"]
["R001265260","甲斐　正三",3,"大分県"]
["R003258501","甲斐　真号",3,"大分県"]
["R000892818","甲斐　睦記",3,"大分県"]
["R004794055","笠置　貴路",3,"大分県"]
["R001262829","笠置　忠照",3,"大分県"]
["R003255771","笠野　わかこ",3,"大分県"]
["R004793542","梶川　和志",3,"大分県"]
["R006574154","梶原　公",3,"大分県"]
["R004055585","梶原　賢士",3,"大分県"]
["R009198511","梶原　幸平",3,"大分県"]
["R001262838","梶原　誠司",3,"大分県"]
["R010099455","糟谷　浩志",3,"大分県"]
["R004714642","加藤　敦士",3,"大分県"]
["R007959608","加藤　恭介",3,"大分県"]
["R009197929","加藤　泰広",3,"大分県"]
["R010261482","金子　翔",3,"大分県"]
["R001262883","神川　基",3,"大分県"]
["R002996668","上西　亮次",3,"大分県"]
["R001255616","川井　勇介",3,"大分県"]
["R007959963","川内　智弘",3,"大分県"]
["R010070659","川浦　光晨",3,"大分県"]
["R006220952","川﨑　浩司",3,"大分県"]
["R002917430","河津　裕徳",3,"大分県"]
["R005103418","河野　貴裕",3,"大分県"]
["R001255740","川野　剛",3,"大分県"]
["R001255713","河野　英樹",3,"大分県"]
["R001262935","河野　裕明",3,"大分県"]
["R010281800","河野　光喜",3,"大分県"]
["R006094001","河野　祐司",3,"大分県"]
["R001255722","河野　隆次",3,"大分県"]
["R010214623","川畑　拓人",3,"大分県"]
["R010093459","川辺　祐介",3,"大分県"]
["R003351145","川村　啓一郎",3,"大分県"]
["R001255935","川村　正樹",3,"大分県"]
["R004112020","川元　翔",3,"大分県"]
["R003256053","菊地　謙一",3,"大分県"]
["R007890271","菊地　玄",3,"大分県"]
["R010255152","菊池　芳郎",3,"大分県"]
["R007959583","吉川　一馬",3,"大分県"]
["R010074021","木津　洋孝",3,"大分県"]
["R010099444","木本　将一",3,"大分県"]
["R007003468","木本　翔平",3,"大分県"]
["R001256129","木本　信之",3,"大分県"]
["R001256138","木本　将斗",3,"大分県"]
["R001251504","清原　雄太",3,"大分県"]
["R007003486","清松　隆浩",3,"大分県"]
["R001263022","吉良　和明",3,"大分県"]
["R001263031","吉良　信輝",3,"大分県"]
["R001263040","吉良　光峰",3,"大分県"]
["R001263068","切封　智和",3,"大分県"]
["R001263077","草野　学",3,"大分県"]
["R001263129","工藤　慎一",3,"大分県"]
["R003258413","工藤　隆貴",3,"大分県"]
["R001265312","工藤　高信",3,"大分県"]
["R010189301","工藤　拓海",3,"大分県"]
["R001263086","工藤　信弘",3,"大分県"]
["R003351251","工藤　暢裕",3,"大分県"]
["R007002982","工藤　政野",3,"大分県"]
["R001263110","工藤　康博",3,"大分県"]
["R008798262","工藤　龍成",3,"大分県"]
["R003677131","久保　雅敬",3,"大分県"]
["R001256305","久保田　英樹",3,"大分県"]
["R010259420","窪田　雅一",3,"大分県"]
["R001256314","久保山　守",3,"大分県"]
["R010120185","熊谷　薫",3,"大分県"]
["R001263165","熊谷　浩之",3,"大分県"]
["R007334890","熊谷　勇哉",3,"大分県"]
["R010193706","倉光　勇弥",3,"大分県"]
["R010074028","栗井　勝",3,"大分県"]
["R002037275","栗牧　翔一",3,"大分県"]
["R008634496","桑嶋　利彦",3,"大分県"]
["R001263183","桑原　栄二郎",3,"大分県"]
["R008634487","桑原　将吾",3,"大分県"]
["R001256402","小石川　悟",3,"大分県"]
["R001263192","小出　和明",3,"大分県"]
["R004794000","河野　永吉",3,"大分県"]
["R007003228","河野　晋也",3,"大分県"]
["R006220387","河野　翼",3,"大分県"]
["R010016623","古賀　貴大",3,"大分県"]
["R001263217","古賀　隆史",3,"大分県"]
["R001263235","小嶋　亮",3,"大分県"]
["R009546073","小玉　篤史",3,"大分県"]
["R009198502","児玉　祥吾",3,"大分県"]
["R005405255","小手川　朋輝",3,"大分県"]
["R007728673","小林　亮介",3,"大分県"]
["R005987209","小堀　良祐",3,"大分県"]
["R001263314","近藤　健二",3,"大分県"]
["R006591364","近藤　裕之",3,"大分県"]
["R001263305","近藤　靖彦",3,"大分県"]
["R009408852","後藤　憲治",3,"大分県"]
["R004793667","後藤　悟",3,"大分県"]
["R001263299","後藤　伸太郎",3,"大分県"]
["R008798226","後藤　貴志",3,"大分県"]
["R001251540","後藤　毅",3,"大分県"]
["R001256624","後藤　文生",3,"大分県"]
["R010067947","後藤　美宇",3,"大分県"]
["R001263271","後藤　稔",3,"大分県"]
["R007960215","後藤　裕也",3,"大分県"]
["R005987005","後藤　好将",3,"大分県"]
["R005619584","権藤　究",3,"大分県"]
["R001263332","斎藤　克己",3,"大分県"]
["R010240556","齋藤　秀彦",3,"大分県"]
["R001263369","酒井　清行",3,"大分県"]
["R003972416","酒井　啓太",3,"大分県"]
["R010336319","酒井　駿",3,"大分県"]
["R001263350","酒井　祐三",3,"大分県"]
["R004714688","坂本　克也",3,"大分県"]
["R003350863","坂本　圭",3,"大分県"]
["R009072268","坂本　載瑛",3,"大分県"]
["R001263402","坂本　淳吾",3,"大分県"]
["R006849191","坂本　大典",3,"大分県"]
["R006574400","酒盛　政晴",3,"大分県"]
["R006664864","相良　章成",3,"大分県"]
["R002917500","迫　裕作",3,"大分県"]
["R004282046","佐々木　栄一",3,"大分県"]
["R010214635","佐々木　晃司",3,"大分県"]
["R007335136","佐々木　秀樹",3,"大分県"]
["R001263411","佐々木　正志",3,"大分県"]
["R010264275","佐多　和紀",3,"大分県"]
["R003677052","佐田　敬介",3,"大分県"]
["R001263420","佐田　秀信",3,"大分県"]
["R001263448","佐藤　昭生",3,"大分県"]
["R001263484","佐藤　一好",3,"大分県"]
["R005603981","佐藤　健",3,"大分県"]
["R010261478","佐藤　賢太",3,"大分県"]
["R009460551","佐藤　慎二",3,"大分県"]
["R005164394","佐藤　嵩隼",3,"大分県"]
["R008634706","佐藤　巨規",3,"大分県"]
["R002384599","佐藤　洋",3,"大分県"]
["R007728512","佐藤　誠",3,"大分県"]
["R002530161","佐藤　光義",3,"大分県"]
["R007959811","佐藤　康之",3,"大分県"]
["R007003291","佐藤　優介",3,"大分県"]
["R001263475","佐藤　隆太",3,"大分県"]
["R009552560","佐藤　亮",3,"大分県"]
["R001257252","三宮　仁",3,"大分県"]
["R007959936","塩田　誠",3,"大分県"]
["R010167723","敷島　孝太",3,"大分県"]
["R009546781","四嶋　遼大",3,"大分県"]
["R001257322","師藤　一也",3,"大分県"]
["R001257340","篠田　公成",3,"大分県"]
["R004326535","信田　卓也",3,"大分県"]
["R010073990","篠田　裕也",3,"大分県"]
["R010189333","芝崎　駿",3,"大分県"]
["R008634715","柴田　健一",3,"大分県"]
["R010214543","柴田　峻佑",3,"大分県"]
["R002938017","柴田　徹",3,"大分県"]
["R001263536","渋谷　崇",3,"大分県"]
["R001263545","島　邦彦",3,"大分県"]
["R003317114","島津　広光",3,"大分県"]
["R007686216","清水　圭二",3,"大分県"]
["R001558364","下野　智洋",3,"大分県"]
["R006910259","下原　優一",3,"大分県"]
["R006849182","志谷　進",3,"大分県"]
["R001263590","首藤　圭介",3,"大分県"]
["R001263581","首藤　賢一",3,"大分県"]
["R001934616","首藤　貴弘",3,"大分県"]
["R001263624","白石　正",3,"大分県"]
["R009554780","白江　直樹",3,"大分県"]
["R006849128","城全　晃孝",3,"大分県"]
["R001263606","城全　孝成",3,"大分県"]
["R001263651","秦　啓一郎",3,"大分県"]
["R001257641","秦　達郎",3,"大分県"]
["R001263633","秦　雅暢",3,"大分県"]
["R001257650","新貝　学",3,"大分県"]
["R004793834","末松　敬雅",3,"大分県"]
["R006097345","末松　由貴",3,"大分県"]
["R006664961","末吉　裕樹",3,"大分県"]
["R008515571","菅川　智",3,"大分県"]
["R007003024","杉崎　恭介",3,"大分県"]
["R010074299","杉本　大実",3,"大分県"]
["R002530860","鈴木　史朗",3,"大分県"]
["R008798369","鈴木　優希",3,"大分県"]
["R008798013","隅田　哲平",3,"大分県"]
["R010027823","清家　大介",3,"大分県"]
["R001263679","関　憲二",3,"大分県"]
["R000896665","関　文雄",3,"大分県"]
["R008798174","関屋　俊侑",3,"大分県"]
["R001263688","瀬口　篤",3,"大分県"]
["R007606238","相馬　大典",3,"大分県"]
["R001263697","曽我　大一郎",3,"大分県"]
["R001263721","園　貴司",3,"大分県"]
["R005987032","園　秀利",3,"大分県"]
["R008798305","染矢　恭明",3,"大分県"]
["R001263749","高尾　次郎",3,"大分県"]
["R006203593","高島　秀樹",3,"大分県"]
["R001263767","高田　友裕",3,"大分県"]
["R001258048","高橋　修一",3,"大分県"]
["R001263794","高橋　豊信",3,"大分県"]
["R001263819","高橋　雅浩",3,"大分県"]
["R001263828","髙橋　享誠",3,"大分県"]
["R001263785","高橋　芳洋",3,"大分県"]
["R005987120","高橋　涼太",3,"大分県"]
["R001263846","高畑　徳治郎",3,"大分県"]
["R001263837","高畑　智秀",3,"大分県"]
["R002996738","高原　英司",3,"大分県"]
["R001258154","高山　義正",3,"大分県"]
["R003258477","田上　和広",3,"大分県"]
["R001262272","瀧山　理恵",3,"大分県"]
["R001263882","竹内　進",3,"大分県"]
["R005527317","竹尾　和哉",3,"大分県"]
["R003972489","竹嶋　仁",3,"大分県"]
["R006220484","武智　正敏",3,"大分県"]
["R007754243","竹中　勇人",3,"大分県"]
["R006030599","竹村　研一郎",3,"大分県"]
["R007335075","田坂　将和",3,"大分県"]
["R010120124","田尻　貴志",3,"大分県"]
["R004060170","立花　陽一郎",3,"大分県"]
["R008626770","立川　大記",3,"大分県"]
["R009430578","立川　千紗",3,"大分県"]
["R008627043","立川　充",3,"大分県"]
["R004683874","田中　貴大",3,"大分県"]
["R001258394","田邉　義晶",3,"大分県"]
["R010214544","谷口　寛汰",3,"大分県"]
["R005164677","田村　孝弘",3,"大分県"]
["R010190756","垰　真樹",3,"大分県"]
["R010190755","伊達　俊介",3,"大分県"]
["R004793579","團塚　晋之祐",3,"大分県"]
["R001263961","津崎　雅彦",3,"大分県"]
["R005430057","辻　一陽",3,"大分県"]
["R010281819","辻井　拓夢",3,"大分県"]
["R001265419","津田　憲生",3,"大分県"]
["R001263998","堤　祐慈",3,"大分県"]
["R006312943","坪井　亮磨",3,"大分県"]
["R002996677","坪根　晃",3,"大分県"]
["R001264003","津守　一雄",3,"大分県"]
["R001264012","津守　正博",3,"大分県"]
["R009408782","手島　冠",3,"大分県"]
["R001264058","寺岡　富夫",3,"大分県"]
["R001264049","寺岡　義彦",3,"大分県"]
["R010120117","寺次　良生",3,"大分県"]
["R001264067","寺林　直人",3,"大分県"]
["R004226749","寺本　義高",3,"大分県"]
["R004111340","唐下　直之",3,"大分県"]
["R009072277","唐下　眞沙妃",3,"大分県"]
["R010167725","東藤　正幸",3,"大分県"]
["R001264076","藤内　伸悟",3,"大分県"]
["R001264085","塔元　繁喜",3,"大分県"]
["R004385653","徳永　尚也",3,"大分県"]
["R002848671","徳永　浩幸",3,"大分県"]
["R010172853","徳永　凌",3,"大分県"]
["R010189300","徳光　将太",3,"大分県"]
["R001258701","都甲　昌亨",3,"大分県"]
["R006220961","歳納　真人",3,"大分県"]
["R003972230","戸田　清",3,"大分県"]
["R001258738","戸髙　博秋",3,"大分県"]
["R010074292","戸高　裕登",3,"大分県"]
["R003317354","戸伏　重治",3,"大分県"]
["R008797759","冨永　憲司",3,"大分県"]
["R010038307","友田　寛太",3,"大分県"]
["R002935472","友成　義朗",3,"大分県"]
["R010214602","内藤　翔悟",3,"大分県"]
["R010261477","仲　慎太郎",3,"大分県"]
["R010250271","中尾　亜夢",3,"大分県"]
["R002917722","中尾　倫彰",3,"大分県"]
["R002530046","中上　聡志",3,"大分県"]
["R010248585","中坂　大",3,"大分県"]
["R003317071","中島　圭太",3,"大分県"]
["R008634681","中島　康平",3,"大分県"]
["R010190757","中島　佑介",3,"大分県"]
["R010007829","中島　亮太",3,"大分県"]
["R002996686","中園　真栄",3,"大分県"]
["R001258969","中田　邦明",3,"大分県"]
["R001264164","仲野　昭博",3,"大分県"]
["R005429893","中野　佐和三",3,"大分県"]
["R003421310","中野　雄斗",3,"大分県"]
["R001264182","中原　圭介",3,"大分県"]
["R010099448","中原　丈聖",3,"大分県"]
["R007729104","中間　悠介",3,"大分県"]
["R010279448","中村　俊太",3,"大分県"]
["R007959990","中村　髙峰",3,"大分県"]
["R010027902","中村　友海",3,"大分県"]
["R010073993","仲村　陽一郎",3,"大分県"]
["R010189259","中山　修一",3,"大分県"]
["R005987528","中山　昌樹",3,"大分県"]
["R004111580","永井　勇司",3,"大分県"]
["R001258871","長尾　信宏",3,"大分県"]
["R001264128","長尾　寿郎",3,"大分県"]
["R001265084","長岡　俊之",3,"大分県"]
["R001264137","永木　桂",3,"大分県"]
["R001258978","長田　義弘",3,"大分県"]
["R008798129","長野　佳太",3,"大分県"]
["R001259092","長野　省三",3,"大分県"]
["R005164941","永松　真朗",3,"大分県"]
["R006889108","永松　真樹",3,"大分県"]
["R010073992","永松　賢俊",3,"大分県"]
["R010306440","永芳　卓磨",3,"大分県"]
["R010093429","名嶋　翔平",3,"大分県"]
["R005986954","成原　政治",3,"大分県"]
["R002908335","南里　秀樹",3,"大分県","福岡県"]
["R004055372","西岡　泰一",3,"大分県"]
["R010027839","西川　侑希",3,"大分県"]
["R001251975","西田　淳一",3,"大分県"]
["R005987102","西村　和久",3,"大分県"]
["R001264234","西村　誠",3,"大分県"]
["R009670176","西村　竜司",3,"大分県"]
["R006573997","新田　直哉",3,"大分県"]
["R001259287","新田　祐一郎",3,"大分県"]
["R001264252","二ノ谷　徹",3,"大分県"]
["R010095349","二宮　慎太郎",3,"大分県"]
["R001264289","野田　洋平",3,"大分県"]
["R007757994","野村　康佳",3,"大分県"]
["R009546055","吐合　直樹",3,"大分県"]
["R010027819","狭間　照央",3,"大分県"]
["R001252017","橋本　伸太郎",3,"大分県"]
["R008797962","橋本　葉音",3,"大分県"]
["R010080634","畑中　賢三",3,"大分県"]
["R010214541","羽田野　順一",3,"大分県"]
["R001264304","羽田野　亘",3,"大分県"]
["R008450238","浜崎　憲",3,"大分県"]
["R001259588","浜崎　陽介",3,"大分県"]
["R006221094","浜町　拓也",3,"大分県"]
["R002384225","濱本　真治",3,"大分県"]
["R001259667","原　宏一",3,"大分県"]
["R005603802","原　俊輔",3,"大分県"]
["R010167733","原　大貴",3,"大分県"]
["R001264340","原田　浩司",3,"大分県"]
["R007003413","原田　雅也",3,"大分県"]
["R007211182","原田　龍太郎",3,"大分県"]
["R010067952","半谷　風花",3,"大分県"]
["R002384465","東　一騎",3,"大分県"]
["R001264359","東　和弘",3,"大分県"]
["R001265482","久野　慎吾",3,"大分県"]
["R006147048","姫野　一陽",3,"大分県"]
["R005528307","姫野　恵一",3,"大分県"]
["R010027843","姫野　孝太",3,"大分県"]
["R001251151","姫野　隆英",3,"大分県"]
["R001259870","平岡　正広",3,"大分県"]
["R007002724","平原　裕己",3,"大分県"]
["R007003501","廣瀬　惣一朗",3,"大分県"]
["R001264401","廣瀬　文明",3,"大分県"]
["R004386120","廣瀬　賢明",3,"大分県"]
["R001264410","廣田　寧孝",3,"大分県"]
["R001260070","廣戸　誠一",3,"大分県"]
["R010069903","深田　知秀",3,"大分県"]
["R009197691","深堀　祥司",3,"大分県"]
["R010027861","福井　康平",3,"大分県"]
["R001260113","福川　寿一",3,"大分県"]
["R010178915","福島　瑞季",3,"大分県"]
["R001264447","福元　研治",3,"大分県"]
["R008798183","藤田　和也",3,"大分県"]
["R008798217","藤本　勝爾",3,"大分県"]
["R007753819","藤本　洋",3,"大分県"]
["R001264474","藤原　達郎",3,"大分県"]
["R007335288","藤原　大輔",3,"大分県"]
["R010027860","藤原　佑史朗",3,"大分県"]
["R003421772","藤原　龍司",3,"大分県"]
["R001264483","渕　辰雄",3,"大分県"]
["R004060189","古川　高",3,"大分県"]
["R001600205","古戸　雅崇",3,"大分県"]
["R001264508","古畑　葵",3,"大分県"]
["R001264492","古畑　翼",3,"大分県"]
["R005336104","古元　準一郎",3,"大分県"]
["R010214558","分藤　真央",3,"大分県"]
["R005987050","星野　敦",3,"大分県"]
["R003351288","保月　寿智",3,"大分県"]
["R006112343","堀内　信敏",3,"大分県"]
["R010074297","堀口　隆志",3,"大分県"]
["R006574066","本田　和也",3,"大分県"]
["R002530310","本多　裕介",3,"大分県"]
["R010127606","本戸　峰",3,"大分県"]
["R010264273","前田　賢四朗",3,"大分県"]
["R007003422","前田　篤史",3,"大分県"]
["R001260557","マガリェンス　リシャルドソン",3,"大分県"]
["R001264544","牧　和志",3,"大分県"]
["R007002733","柾木　洋平",3,"大分県"]
["R009547115","桝永　龍己",3,"大分県"]
["R003421736","松浦　将志",3,"大分県"]
["R010093436","松尾　達也",3,"大分県"]
["R005987555","松崎　智則",3,"大分県"]
["R004793816","松下　明史",3,"大分県"]
["R004055479","松下　昌史",3,"大分県"]
["R007335303","松田　稜",3,"大分県"]
["R005987564","松野　祐太",3,"大分県"]
["R009408737","松原　亜衣",3,"大分県"]
["R006220916","松原　慎也",3,"大分県"]
["R001264562","松本　光将",3,"大分県"]
["R004060259","松本　祐輔",3,"大分県"]
["R007173606","松本　哲彦",3,"大分県"]
["R008481113","松山　和寛",3,"大分県"]
["R006011372","松山　大二郎",3,"大分県"]
["R001264580","真鍋　裕一",3,"大分県"]
["R010264267","馬原　直人",3,"大分県"]
["R008515535","丸尾　諭志",3,"大分県"]
["R005405699","箕迫　雄介",3,"大分県"]
["R007003307","水口　裕太",3,"大分県"]
["R008174046","溝辺　宏輝",3,"大分県"]
["R002917263","溝邊　祐幸",3,"大分県"]
["R001264605","御手洗　毅",3,"大分県"]
["R001264614","御手洗　正敏",3,"大分県"]
["R004793658","光根　明徳",3,"大分県"]
["R001264669","美濃　誠",3,"大分県"]
["R004793764","三原　隼人",3,"大分県"]
["R004112057","都　学志",3,"大分県"]
["R001264687","宮迫　利範",3,"大分県"]
["R004385495","宮崎　隆史",3,"大分県"]
["R010099454","宮田　繁輝",3,"大分県"]
["R001264696","宮部　修次",3,"大分県"]
["R001252196","三好　美輝",3,"大分県"]
["R001264702","向　直樹",3,"大分県"]
["R010001968","宗岡　弦徳",3,"大分県"]
["R001264711","村上　一幸",3,"大分県"]
["R001265118","村上　貴志",3,"大分県"]
["R003350854","毛藤　勇三",3,"大分県"]
["R001252220","毛利　明博",3,"大分県"]
["R007705326","用松　修平",3,"大分県"]
["R008173861","本末　総治朗",3,"大分県"]
["R002530851","本杉　拓也",3,"大分県"]
["R010264271","本村　大樹",3,"大分県"]
["R010172863","本村　優太",3,"大分県"]
["R010189258","森　健太",3,"大分県"]
["R007002779","森下　洋一",3,"大分県"]
["R008634636","森山　幸介",3,"大分県"]
["R001261398","森山　信浩",3,"大分県"]
["R008798457","薬師寺　翔",3,"大分県"]
["R008798314","薬師寺　亮太",3,"大分県"]
["R010190754","八坂　柊",3,"大分県"]
["R001264766","矢﨑　年勝",3,"大分県"]
["R001264775","屋敷　伴幸",3,"大分県"]
["R001264784","安枝　良二",3,"大分県"]
["R006093987","保田　薫",3,"大分県"]
["R005527308","柳井　孝則",3,"大分県"]
["R010093477","柳井　瑞樹",3,"大分県"]
["R004793825","柳川　知也",3,"大分県"]
["R001261477","柳本　剛",3,"大分県"]
["R009197594","柳元　哲哉",3,"大分県"]
["R003972443","矢野　三千生",3,"大分県"]
["R008537139","矢羽田　崇",3,"大分県"]
["R004747206","山　大祐",3,"大分県"]
["R001965713","山崎　和也",3,"大分県"]
["R010240533","山﨑　典保",3,"大分県"]
["R006147145","山下　省二",3,"大分県"]
["R001261617","山下　智徳",3,"大分県"]
["R007753606","山下　直一",3,"大分県"]
["R010189260","山下　泰明",3,"大分県"]
["R008523376","山末　翔太",3,"大分県"]
["R001261653","山田　真二",3,"大分県"]
["R004112011","山田　裕一",3,"大分県"]
["R001252293","山中　早一郎",3,"大分県"]
["R001264809","山野内　哲朗",3,"大分県"]
["R005164358","山宮　俊寛",3,"大分県"]
["R005603486","山本　篤",3,"大分県"]
["R010189296","山本　和真",3,"大分県"]
["R001252336","山本　貴志",3,"大分県"]
["R003351093","山本　哲司",3,"大分県"]
["R004111562","山本　悠司",3,"大分県"]
["R001264836","幸　靖博",3,"大分県"]
["R001261778","湯田　浩士",3,"大分県"]
["R008515553","柚木　徹也",3,"大分県"]
["R003421374","横山　解史",3,"大分県"]
["R001261802","吉賀　智彦",3,"大分県"]
["R001264854","吉田　栄治",3,"大分県"]
["R010120115","吉田　和雅",3,"大分県"]
["R008377625","吉田　敬一",3,"大分県"]
["R008173728","吉田　享宏",3,"大分県"]
["R003972665","吉田　大助",3,"大分県"]
["R007090686","吉元　健太朗",3,"大分県"]
["R010240571","吉元　剛",3,"大分県"]
["R001261954","四辻　隆道",3,"大分県"]
["R003421541","四元　厚次",3,"大分県"]
["R003351154","脇　東洋",3,"大分県"]
["R001264872","脇　雄洋",3,"大分県"]
["R006220378","和喜田　拓",3,"大分県"]
["R004386218","和才　幸司",3,"大分県"]
["R007757657","渡辺　敬亮",3,"大分県"]
["R010007794","渡邉　卓人",3,"大分県"]
["R001264915","渡辺　博文",3,"大分県"]
["R001264906","渡辺　稔",3,"大分県"]
["R001262111","渡辺　陽一郎",3,"大分県"]
["R001252390","渡里　賢人",3,"大分県"]
["R007729070","和田　健一郎",3,"大分県"]
["R001264890","和田　健二",3,"大分県"]
["R001869127","和田　浩",3,"大分県"]
["R010093470","合澤　慎太郎",4,"大分県"]
["R010352964","相澤　星空",4,"大分県"]
["R010159163","相澤　拓也",4,"大分県"]
["R010069876","相田　優弥",4,"大分県"]
["R010303870","相原　良哉",4,"大分県"]
["R010083876","相部　直輝",4,"大分県"]
["R010262588","青松　来樹",4,"大分県"]
["R010351386","青山　京志郎",4,"大分県"]
["R010120118","青山　義男",4,"大分県"]
["R010248582","赤尾　隼",4,"大分県"]
["R010189294","赤木　修二",4,"大分県"]
["R010281823","明石　みき",4,"大分県"]
["R001252947","赤星　勝",4,"大分県"]
["R010277118","赤松　玲隆",4,"大分県"]
["R008174028","赤嶺　一宇",4,"大分県"]
["R010093427","赤峯　慎太郎",4,"大分県"]
["R010354823","赤嶺　蓮",4,"大分県"]
["R005603884","秋月　将吾",4,"大分県"]
["R010248577","秋吉　晃行",4,"大分県"]
["R010141833","秋吉　祐宜",4,"大分県"]
["R010218306","芥川　遥人",4,"大分県"]
["R010071977","朝井　誉",4,"大分県"]
["R010261590","朝来野　叶汰",4,"大分県"]
["R010169055","朝来野　勇志",4,"大分県"]
["R007959802","浅野　憲",4,"大分県"]
["R010075941","浅野　渉",4,"大分県"]
["R010287219","浅山　慧",4,"大分県"]
["R001254990","朝山　睦夫",4,"大分県"]
["R010159154","芦刈　慶彦",4,"大分県"]
["R010159172","麻生　大雅",4,"大分県"]
["R010189281","麻生　佑",4,"大分県"]
["R010167801","麻生　智也",4,"大分県"]
["R010001949","麻生　凜太郎",4,"大分県"]
["R008798068","足達　亜沙美",4,"大分県"]
["R010261613","足立　憲星",4,"大分県"]
["R010093502","足立　聡",4,"大分県"]
["R010347383","安達　隼平",4,"大分県"]
["R002384100","足立　望",4,"大分県"]
["R010159151","足達　悠人",4,"大分県"]
["R008798208","安達　正信",4,"大分県"]
["R008626673","足立　龍星",4,"大分県"]
["R010281845","穴井　己登",4,"大分県"]
["R010313745","穴井　大地",4,"大分県"]
["R010347381","穴井　翼",4,"大分県"]
["R010347378","穴井　拓翔",4,"大分県"]
["R010038298","穴井　愛都",4,"大分県"]
["R010262586","阿南　弘毅",4,"大分県"]
["R010262589","阿南　琢磨",4,"大分県"]
["R010281862","阿南　理奈",4,"大分県"]
["R010261599","阿南　楓彩",4,"大分県"]
["R010189298","阿南　幸翔",4,"大分県"]
["R010352942","姉川　光一朗",4,"大分県"]
["R010354792","阿部　吾幌",4,"大分県"]
["R010351367","阿部　伊織",4,"大分県"]
["R010093439","阿部　和明",4,"大分県"]
["R010056099","安部　杏介",4,"大分県"]
["R010167792","安部　航生",4,"大分県"]
["R010351383","阿部　晄大",4,"大分県"]
["R010262590","阿部　咲人",4,"大分県"]
["R001253344","阿部　哲士",4,"大分県"]
["R010163010","阿部　慈央",4,"大分県"]
["R010262591","安部　秀飛",4,"大分県"]
["R010120144","阿部　祥大",4,"大分県"]
["R010277129","阿部　寿紀",4,"大分県"]
["R008797731","阿部　誠一",4,"大分県"]
["R010261601","安部　大空",4,"大分県"]
["R010027824","安部　太貴",4,"大分県"]
["R001253326","阿部　孝之",4,"大分県"]
["R010178907","安倍　翼",4,"大分県"]
["R010240559","安部　哲平",4,"大分県"]
["R010262592","阿部　翔空",4,"大分県"]
["R010167738","安倍　俊之",4,"大分県"]
["R010167799","安倍　虎ノ介",4,"大分県"]
["R010163003","阿部　真尋",4,"大分県"]
["R010314829","安部　湧紀",4,"大分県"]
["R010169057","阿部　優也",4,"大分県"]
["R010259438","安部　陸翔",4,"大分県"]
["R004385811","新井　康彦",4,"大分県"]
["R010350226","荒川　幸大",4,"大分県"]
["R001253423","荒巻　成志",4,"大分県"]
["R008798165","荒巻　恭貴",4,"大分県"]
["R010298871","新本　空",4,"大分県"]
["R007002715","有門　寿",4,"大分県"]
["R010071984","有川　陸",4,"大分県"]
["R010189315","有須田　和宏",4,"大分県"]
["R010261611","有田　啓吾",4,"大分県"]
["R010123024","有田　利広",4,"大分県"]
["R010354666","有田　直樹",4,"大分県"]
["R010262622","有田　悠真",4,"大分県"]
["R010159755","有馬　寧音",4,"大分県"]
["R010189314","有村　惇志",4,"大分県"]
["R006125763","有村　光史",4,"大分県"]
["R010189282","安達　羽海",4,"大分県"]
["R010214574","安達　巧馬",4,"大分県"]
["R010156528","安東　海渡",4,"大分県"]
["R010243643","安道　健斗",4,"大分県"]
["R007959158","安東　弘貴",4,"大分県"]
["R010047303","安東　湖楠",4,"大分県"]
["R010243657","安藤　大河",4,"大分県"]
["R010352986","安東　泰士",4,"大分県"]
["R010178899","安東　拓夢",4,"大分県"]
["R010120176","安藤　卓也",4,"大分県"]
["R010189293","安東　正樹",4,"大分県"]
["R010352995","安東　恭範",4,"大分県"]
["R010069893","安藤　悠",4,"大分県"]
["R010161902","安藤　幸歩",4,"大分県"]
["R002530383","阿武　志郎",4,"大分県"]
["R010281851","安部　達郎",4,"大分県"]
["R001253584","飯倉　洋介",4,"大分県"]
["R010281883","飯干　遼飛",4,"大分県"]
["R010313779","飯干　亮成",4,"大分県"]
["R010159180","家長　亨成",4,"大分県"]
["R010352961","五十川　大雅",4,"大分県"]
["R010189286","伊賀　隆博",4,"大分県"]
["R010347366","池上　剛司",4,"大分県"]
["R010355070","池園　大輔",4,"大分県"]
["R010255157","池田　康二郎",4,"大分県"]
["R010261588","池田　剛",4,"大分県"]
["R006848873","池田　敏明",4,"大分県"]
["R010214532","池田　尚文",4,"大分県"]
["R005603662","池田　雅俊",4,"大分県"]
["R008649124","池田　愛都",4,"大分県"]
["R010347369","池田　未來都",4,"大分県"]
["R003021785","池田　保平",4,"大分県"]
["R010240572","池田　璃久",4,"大分県"]
["R009460612","池田　亮太郎",4,"大分県"]
["R006937229","池田　航",4,"大分県"]
["R010007792","池永　拓矢",4,"大分県"]
["R010093456","池邉　賢一",4,"大分県"]
["R010189318","池邉　晋",4,"大分県"]
["R010356113","池辺　青那",4,"大分県"]
["R010314807","池部　亨哉",4,"大分県"]
["R010281879","池辺　雅也",4,"大分県"]
["R010281878","池邉　涼太",4,"大分県"]
["R010167775","池本　翔輝",4,"大分県"]
["R010263778","伊﨑　陸人",4,"大分県"]
["R010347367","諫山　鮎斗",4,"大分県"]
["R010069887","石井　敬治",4,"大分県"]
["R010189277","石井　幸心",4,"大分県"]
["R001253681","石井　重人",4,"大分県"]
["R004714697","石井　靖彦",4,"大分県"]
["R009554629","石井　悠太郎",4,"大分県"]
["R010243666","石井　優斗",4,"大分県"]
["R010167774","石川　旺歩",4,"大分県"]
["R009198399","石川　誠司",4,"大分県"]
["R010352993","石川　高光",4,"大分県"]
["R010167772","石川　丈陽",4,"大分県"]
["R010128064","石川　由覇",4,"大分県"]
["R010248588","石川　嶺瑠",4,"大分県"]
["R010354809","石谷　誠流",4,"大分県"]
["R010354799","石田　愛莉紗",4,"大分県"]
["R010281833","石原　壮琉",4,"大分県"]
["R010120192","石橋　知士",4,"大分県"]
["R010287214","石橋　朋樹",4,"大分県"]
["R001253751","石松　大輔",4,"大分県"]
["R009484870","石丸　聖也",4,"大分県"]
["R009484861","石丸　大喜",4,"大分県"]
["R010047304","石元　瑛大",4,"大分県"]
["R010281873","石本　和廣",4,"大分県"]
["R006573827","石本　宜之",4,"大分県"]
["R010189276","石本　侑己",4,"大分県"]
["R009546037","石本　琉士",4,"大分県"]
["R010128075","石元　涼太",4,"大分県"]
["R010214555","石本　渉",4,"大分県"]
["R004714712","和泉　宜幸",4,"大分県"]
["R010281863","泉　伶飛",4,"大分県"]
["R010162986","磯崎　翔希",4,"大分県"]
["R009072125","磯部　栞里",4,"大分県"]
["R010354808","磯村　奏太",4,"大分県"]
["R009548284","板井　一雄",4,"大分県"]
["R010120130","板井　俊介",4,"大分県"]
["R010169065","板井　成磨",4,"大分県"]
["R010281826","板井　崇晃",4,"大分県"]
["R010007837","板井　裕樹",4,"大分県"]
["R010120139","板井　遥平",4,"大分県"]
["R010159138","一ノ宮　杜環",4,"大分県"]
["R010255165","市原　佳典",4,"大分県"]
["R010069878","市原　颯",4,"大分県"]
["R001253876","市原　宗久",4,"大分県"]
["R010069883","市原　璃久",4,"大分県"]
["R010189278","一丸　顕範",4,"大分県"]
["R008634803","一万田　尚志",4,"大分県"]
["R010016111","一万田　陸",4,"大分県"]
["R007090808","一法師　直喜",4,"大分県"]
["R010261617","井手　智貴",4,"大分県"]
["R010193711","井手　悠生",4,"大分県"]
["R008797926","出田　武",4,"大分県"]
["R010281846","伊藤　魁",4,"大分県"]
["R010201134","伊東　海星",4,"大分県"]
["R010247792","伊藤　夏鈴",4,"大分県"]
["R010259419","伊東　健一",4,"大分県"]
["R010214557","伊東　健太郎",4,"大分県"]
["R010281832","伊藤　浩介",4,"大分県"]
["R010159179","伊藤　想",4,"大分県"]
["R007959699","伊東　昇太郎",4,"大分県"]
["R010243640","伊東　蒼馬",4,"大分県"]
["R008173922","伊藤　鷹応",4,"大分県"]
["R010073984","伊東　紀生",4,"大分県"]
["R010262623","伊東　颯音",4,"大分県"]
["R009408898","伊藤　秀征",4,"大分県"]
["R010001953","伊東　龍之介",4,"大分県"]
["R010128066","伊藤　凜星",4,"大分県"]
["R010281816","糸永　泰樹",4,"大分県"]
["R010156500","犬丸　祥太朗",4,"大分県"]
["R008523312","井上　海",4,"大分県"]
["R010067951","井上　彩",4,"大分県"]
["R010303896","井上　竣平",4,"大分県"]
["R001254015","井上　順子",4,"大分県"]
["R010347361","井上　太凱",4,"大分県"]
["R010243651","井上　拓哉",4,"大分県"]
["R010141818","井上　直之",4,"大分県"]
["R010056107","井上　義喜",4,"大分県"]
["R010354790","猪原　康弘",4,"大分県"]
["R010264741","射場　琉聖",4,"大分県"]
["R010264745","今井　翔太",4,"大分県"]
["R010099449","今川　亮平",4,"大分県"]
["R003421356","今村　武広",4,"大分県"]
["R010264740","今村　拓斗",4,"大分県"]
["R010141834","今村　蓮",4,"大分県"]
["R006220624","今本　展也",4,"大分県"]
["R010354819","井元　禅",4,"大分県"]
["R010128057","岩男　朋哉",4,"大分県"]
["R010352951","岩尾　誠",4,"大分県"]
["R010056098","岩尾　勇吾",4,"大分県"]
["R010073987","岩上　純生",4,"大分県"]
["R010248578","岩城　慶樹",4,"大分県"]
["R010120198","岩佐　紘沖",4,"大分県"]
["R010100663","岩崎　晋也",4,"大分県"]
["R001254185","岩崎　利勝",4,"大分県"]
["R010281861","岩﨑　大翔",4,"大分県"]
["R010056103","岩﨑　嘉人",4,"大分県"]
["R008523084","岩崎　竜士",4,"大分県"]
["R007959176","岩田　進",4,"大分県"]
["R010306436","岩田　優佑",4,"大分県"]
["R010354796","岩谷　悠ノ介",4,"大分県"]
["R010007818","岩戸　敦史",4,"大分県"]
["R010189261","岩永　和馬",4,"大分県"]
["R010240579","岩永　優大",4,"大分県"]
["R010248575","岩波　大夢",4,"大分県"]
["R008174286","岩野　貴文",4,"大分県"]
["R010248570","岩丸　英治",4,"大分県"]
["R006314464","岩丸　博季",4,"大分県"]
["R010255186","岩本　柊詩",4,"大分県"]
["R004111410","上尾　雅彰",4,"大分県"]
["R008480956","植垣　秀人",4,"大分県"]
["R010159752","植木　莉香",4,"大分県"]
["R010264734","植木　稜大",4,"大分県"]
["R010193720","上栗　一将",4,"大分県"]
["R008797944","上田　晃",4,"大分県"]
["R010243654","上田　健介",4,"大分県"]
["R010248034","上田　翔聖",4,"大分県"]
["R010240529","上田　斗真",4,"大分県"]
["R010314811","上田　橙也",4,"大分県"]
["R010069879","上田　陽生",4,"大分県"]
["R010262649","上野　瑛太",4,"大分県"]
["R010083862","上野　翔真",4,"大分県"]
["R001251133","上野　貴士",4,"大分県"]
["R010093424","植野　亨",4,"大分県"]
["R010334505","上野　仁胡",4,"大分県"]
["R010298867","上野　滉登",4,"大分県"]
["R010313761","上野　亮司",4,"大分県"]
["R010083856","上原　隆綺",4,"大分県"]
["R010354664","上村　俊介",4,"大分県"]
["R008634724","上村　大樹",4,"大分県"]
["R007959617","上屋　守",4,"大分県"]
["R008616931","宇髙　蓮葵",4,"大分県"]
["R007728549","内田　公夫",4,"大分県"]
["R010107172","内田　圭人",4,"大分県"]
["R010214554","内田　喜久",4,"大分県"]
["R010159157","内田　瑛琉",4,"大分県"]
["R010320700","うちだ　まなつ",4,"大分県"]
["R010189257","内間　安希",4,"大分県"]
["R008643281","宇野　伍大",4,"大分県"]
["R010214550","梅木　圭一郎",4,"大分県"]
["R010354822","梅木　経成",4,"大分県"]
["R010313767","梅木　裕斗",4,"大分県"]
["R010214530","梅木　悠也",4,"大分県"]
["R010193702","梅田　高志",4,"大分県"]
["R010120178","梅田　竜一",4,"大分県"]
["R010277125","梅津　諒汰",4,"大分県"]
["R010128054","梅津　瑠暉",4,"大分県"]
["R010261609","梅本　琉衣",4,"大分県"]
["R006093729","浦部　信哉",4,"大分県"]
["R009546815","浦部　拓",4,"大分県"]
["R010100691","浦本　雅志",4,"大分県"]
["R010352945","瓜生　一裕",4,"大分県"]
["R010354657","漆間　将吾",4,"大分県"]
["R001254431","漆間　大士",4,"大分県"]
["R010255169","江頭　徳也",4,"大分県"]
["R010120137","江上　智啓",4,"大分県"]
["R010083868","江川　孝志郎",4,"大分県"]
["R010240560","江川　豊輝",4,"大分県"]
["R010027815","江口　雅隆",4,"大分県"]
["R010002119","江隈　健斗",4,"大分県"]
["R010027903","江島　修一",4,"大分県"]
["R010169060","江島　礼奈斗",4,"大分県"]
["R010354821","江玉　優河",4,"大分県"]
["R010002131","江藤　和志",4,"大分県"]
["R004653305","衛藤　和憲",4,"大分県"]
["R008634274","江藤　恭平",4,"大分県"]
["R010262640","江藤　健士朗",4,"大分県"]
["R005405228","江藤　潤",4,"大分県"]
["R010007805","衞藤　竜彦",4,"大分県"]
["R010352979","衛藤　太作",4,"大分県"]
["R010027887","衛藤　利祥",4,"大分県"]
["R007959796","衛藤　智成",4,"大分県"]
["R007728983","衛藤　秀高",4,"大分県"]
["R010263779","江藤　悠太郎",4,"大分県"]
["R010093472","衛藤　竜史",4,"大分県"]
["R010214452","榎園　峻介",4,"大分県"]
["R010259436","江本　悠里",4,"大分県"]
["R010314831","江利角　海斗",4,"大分県"]
["R010354795","遠藤　翔大",4,"大分県"]
["R010209290","遠藤　翔人",4,"大分県"]
["R003350881","遠藤　朝春",4,"大分県"]
["R010352962","遠藤　優翔",4,"大分県"]
["R010354650","尾家　幸汰",4,"大分県"]
["R001254583","大芦　佳宏",4,"大分県"]
["R010277123","大井　魁斗",4,"大分県"]
["R010189313","大石　周弥",4,"大分県"]
["R010313748","大石　純也",4,"大分県"]
["R010313760","大石　琢斗",4,"大分県"]
["R010027883","大石　拓也",4,"大分県"]
["R001254608","大石　直和",4,"大分県"]
["R010027821","大石　正雄",4,"大分県"]
["R010354818","大川　万葉",4,"大分県"]
["R010303894","大河内　一希",4,"大分県"]
["R010214579","大神　敦士",4,"大分県"]
["R010248574","大木本　大輝",4,"大分県"]
["R010128073","大木　壱",4,"大分県"]
["R010167722","大久保　孝太",4,"大分県"]
["R010354656","大久保　宙",4,"大分県"]
["R005430163","大久保　広紀",4,"大分県"]
["R003421912","大久保　正明",4,"大分県"]
["R010351382","大久保　優心",4,"大分県"]
["R010351356","大崎　蒼生",4,"大分県"]
["R010189324","大嶋　伊織",4,"大分県"]
["R005467893","大島　敬右",4,"大分県"]
["R010262593","太田　翔陽",4,"大分県"]
["R010248567","太田　祐希",4,"大分県"]
["R010306438","太田　悠斗",4,"大分県"]
["R010352976","太田　悠斗",4,"大分県"]
["R010159132","大谷　幸希",4,"大分県"]
["R010214536","大津　俊一",4,"大分県"]
["R010162997","大津　響輝",4,"大分県"]
["R010209388","大塚　勝洋",4,"大分県"]
["R010189297","大塚　健斗",4,"大分県"]
["R010001951","大塚　彦輝",4,"大分県"]
["R010128049","大塚　昇吾",4,"大分県"]
["R010167737","大塚　誠也",4,"大分県"]
["R005528130","大塚　丈司",4,"大分県"]
["R010277112","大塚　陽生",4,"大分県"]
["R010281805","大塚　雅基",4,"大分県"]
["R010167736","大塚　由妃",4,"大分県"]
["R010313752","大塚　涼司",4,"大分県"]
["R010159757","大津留　康代",4,"大分県"]
["R010281884","大戸　聡平",4,"大分県"]
["R010243638","大友　開晴",4,"大分県"]
["R010214633","大友　純",4,"大分県"]
["R010314820","大友　尋平",4,"大分県"]
["R010120181","大野　楓河",4,"大分県"]
["R010056096","大原　壮貴",4,"大分県"]
["R010287215","大峯　翼",4,"大分県"]
["R010056100","大森　惇史",4,"大分県"]
["R010214576","大屋　楓真",4,"大分県"]
["R010303883","大山　尚一",4,"大分県"]
["R010214611","岡　正一郎",4,"大分県"]
["R010067944","岡　光璃",4,"大分県"]
["R010313747","岡崎　俊介",4,"大分県"]
["R010352973","岡田　海叶",4,"大分県"]
["R010255182","岡田　一輝",4,"大分県"]
["R010083849","岡田　幸太郎",4,"大分県"]
["R010027909","岡田　崇",4,"大分県"]
["R005987412","岡田　隆行",4,"大分県"]
["R010352974","岡田　侑栞",4,"大分県"]
["R005603200","岡田　涼平",4,"大分県"]
["R010047291","岡野　侑真",4,"大分県"]
["R010141835","岡部　倖介",4,"大分県"]
["R010248029","岡部　純大",4,"大分県"]
["R010248028","岡部　敏寛",4,"大分県"]
["R010214449","岡本　陸",4,"大分県"]
["R010171060","岡本　龍馬",4,"大分県"]
["R010172861","小川　京祐",4,"大分県"]
["R009197628","小川　清秀",4,"大分県"]
["R006901570","小川　健二",4,"大分県"]
["R010255177","小川　航平",4,"大分県"]
["R010167759","荻本　響",4,"大分県"]
["R010350240","荻本　麻矢",4,"大分県"]
["R010214466","荻本　里那",4,"大分県"]
["R010248589","於久　蒼馬",4,"大分県"]
["R002530286","於久　雅和",4,"大分県"]
["R010355072","奥　遼太朗",4,"大分県"]
["R010314808","於久　流絆晟",4,"大分県"]
["R010351378","奥田　翔太",4,"大分県"]
["R001254972","奥野　真一郎",4,"大分県"]
["R010027899","奥林　大輔",4,"大分県"]
["R010214577","奥藤　誠",4,"大分県"]
["R010100676","奥村　浩勝",4,"大分県"]
["R001254981","奥村　光範",4,"大分県"]
["R010277127","奥村　裕馬",4,"大分県"]
["R010189347","尾倉　知弥",4,"大分県"]
["R010189264","小栗　貴成",4,"大分県"]
["R010350237","尾崎　羽菜",4,"大分県"]
["R007003538","尾崎　英夫",4,"大分県"]
["R010169046","小澤　颯太",4,"大分県"]
["R010099447","小澤　剛史",4,"大分県"]
["R010243658","鴛田　丈虎",4,"大分県"]
["R010099453","小関　啓太郎",4,"大分県"]
["R010167739","小田　義也",4,"大分県"]
["R009546064","小田　邦昭",4,"大分県"]
["R010167750","小田　晴日",4,"大分県"]
["R010167798","小田　羅依",4,"大分県"]
["R010306434","小田巻　裕二",4,"大分県"]
["R006901589","小田原　蓮",4,"大分県"]
["R010178913","鬼塚　楓太",4,"大分県"]
["R010255179","小野　幹太",4,"大分県"]
["R010240565","小野　恭汰",4,"大分県"]
["R004385936","小野　耕一",4,"大分県"]
["R010351379","小野　光河",4,"大分県"]
["R010214597","小野　煌平",4,"大分県"]
["R010281854","小野　翔希",4,"大分県"]
["R010281828","小野　将司",4,"大分県"]
["R010156511","小野　翔平",4,"大分県"]
["R010083851","小野　颯真",4,"大分県"]
["R005527618","小埜　貴之",4,"大分県"]
["R010171064","小野　巧雅",4,"大分県"]
["R010243649","小野　徹",4,"大分県"]
["R010248584","小野　天海",4,"大分県"]
["R010189316","小野　敦哉",4,"大分県"]
["R010255178","小野　智弘",4,"大分県"]
["R010313764","小野　仁志",4,"大分県"]
["R010120112","小野　広道",4,"大分県"]
["R001256970","小野　寛也",4,"大分県"]
["R010325182","小野　将人",4,"大分県"]
["R010093504","小野　裕希",4,"大分県"]
["R010100673","小野　裕司",4,"大分県"]
["R010120149","小野　雄翔",4,"大分県"]
["R010080886","小野　友美子",4,"大分県"]
["R010354804","小野　龍ノ介",4,"大分県"]
["R010255158","小野　凌世",4,"大分県"]
["R010313777","小野　伶莉",4,"大分県"]
["R010169044","小野　礼旺真",4,"大分県"]
["R010167812","小原　優斗",4,"大分県"]
["R010263775","小畑　圭史",4,"大分県"]
["R010189299","小畑　智竜",4,"大分県"]
["R010240545","尾畑　将恭",4,"大分県"]
["R006574048","尾林　秀章",4,"大分県"]
["R010243655","小袋　敦矢",4,"大分県"]
["R010352968","尾本　想太",4,"大分県"]
["R010240576","折尾　敏輝",4,"大分県"]
["R010240566","恩塚　真太郎",4,"大分県"]
["R005164446","甲斐　一翠",4,"大分県"]
["R005164613","甲斐　英治",4,"大分県"]
["R010167724","甲斐　大騎",4,"大分県"]
["R010281867","甲斐　茅花紗",4,"大分県"]
["R010351353","甲斐　鉄士",4,"大分県"]
["R010156527","甲斐　智也",4,"大分県"]
["R005987388","甲斐　直樹",4,"大分県"]
["R010027906","甲斐　将虎",4,"大分県"]
["R010214625","甲斐　美前",4,"大分県"]
["R010354665","甲斐　裕真",4,"大分県"]
["R006314455","甲斐　竜二",4,"大分県"]
["R010069896","甲斐　琉椰",4,"大分県"]
["R010334499","甲斐　涼子",4,"大分県"]
["R001255281","甲斐　亮介",4,"大分県"]
["R010069904","甲斐　涼晴",4,"大分県"]
["R010214529","加賀　寿一",4,"大分県"]
["R010262594","香川　航汰",4,"大分県"]
["R010189343","香川　真弓",4,"大分県"]
["R005987397","香川　豊",4,"大分県"]
["R010069877","垣内　太陽",4,"大分県"]
["R010093464","柿内　友希",4,"大分県"]
["R010281844","柿原　康生",4,"大分県"]
["R010347377","鹿毛　雅人",4,"大分県"]
["R006093923","笠野　泰良",4,"大分県"]
["R007753581","笠野　大瑚",4,"大分県"]
["R009545913","笠村　大",4,"大分県"]
["R010214467","笠村　凜",4,"大分県"]
["R010007813","加治　周也",4,"大分県"]
["R001255342","梶川　正和",4,"大分県"]
["R010281841","梶原　明空",4,"大分県"]
["R010303892","梶原　啓史",4,"大分県"]
["R010007838","梶原　孝平",4,"大分県"]
["R010287222","梶原　天裕",4,"大分県"]
["R010120174","梶原　規史",4,"大分県"]
["R010313766","片山　達郎",4,"大分県"]
["R008634593","片山　雄一",4,"大分県"]
["R010214621","加田　真",4,"大分県"]
["R010156504","勝木　翔也",4,"大分県"]
["R010167782","葛城　征吾",4,"大分県"]
["R010178902","葛城　千速",4,"大分県"]
["R010167784","加藤　碧空",4,"大分県"]
["R010189041","加藤　治",4,"大分県"]
["R009546903","加藤　海来",4,"大分県"]
["R010351381","加藤　心絆",4,"大分県"]
["R010167785","加藤　浩二",4,"大分県"]
["R010189342","加藤　拓己",4,"大分県"]
["R008797865","加藤　弘明",4,"大分県"]
["R010178903","加藤　凌",4,"大分県"]
["R010214546","加藤　良一",4,"大分県"]
["R010314813","金丸　尚輝",4,"大分県"]
["R010156522","金森　海樹",4,"大分県"]
["R010313774","金山　翔",4,"大分県"]
["R010255162","金山　斗和",4,"大分県"]
["R010281840","金田　啓三",4,"大分県"]
["R010178914","金當　真樹",4,"大分県"]
["R010167744","鎌田　大夢",4,"大分県"]
["R010277126","釜土　皓輔",4,"大分県"]
["R010347386","神川　翔平",4,"大分県"]
["R010027818","紙谷　昌弥",4,"大分県"]
["R010347382","上西　相輝",4,"大分県"]
["R010214559","神山　寿苑",4,"大分県"]
["R010259416","亀井　元功",4,"大分県"]
["R005603282","亀山　万生",4,"大分県"]
["R010256872","鴨川　奨",4,"大分県"]
["R010120143","萱嶌　修平",4,"大分県"]
["R010262650","萱島　飛瑠",4,"大分県"]
["R010352950","萱島　良太",4,"大分県"]
["R005603811","苅野　雄一",4,"大分県"]
["R002917476","河井　寛次郎",4,"大分県"]
["R010214549","河内　勇翔",4,"大分県"]
["R010159166","川上　大河",4,"大分県"]
["R010128077","川口　将騎",4,"大分県"]
["R010248572","川口　航平",4,"大分県"]
["R010314824","川口　俊輔",4,"大分県"]
["R010159177","川口　蒼空",4,"大分県"]
["R010093471","川口　尚文",4,"大分県"]
["R010120186","川口　武道",4,"大分県"]
["R010352965","川口　翼",4,"大分県"]
["R010141831","川口　楓樹",4,"大分県"]
["R010248569","川口　勇騎",4,"大分県"]
["R010277124","川口　蓮太",4,"大分県"]
["R010281803","川嶋　佳菜",4,"大分県"]
["R010347373","河津　柊志",4,"大分県"]
["R010069885","川田　直人",4,"大分県"]
["R010141832","河津　隼也",4,"大分県"]
["R010261604","川津　楓京",4,"大分県"]
["R005405282","川浪　健司",4,"大分県"]
["R010159751","川浪　実歩",4,"大分県"]
["R010201133","河野　碧人",4,"大分県"]
["R010189268","河野　功寛",4,"大分県"]
["R010354654","河野　孝誠",4,"大分県"]
["R010093451","川野　剛",4,"大分県"]
["R006220606","河野　成利",4,"大分県"]
["R001255759","河野　隆司",4,"大分県"]
["R010354667","河野　拓真",4,"大分県"]
["R010189263","河野　徹郎",4,"大分県"]
["R010027894","河野　斗馬",4,"大分県"]
["R010159139","川野　愛琉",4,"大分県"]
["R010214586","河野　真裟斗",4,"大分県"]
["R007959060","河野　真大",4,"大分県"]
["R010214566","河野　大和",4,"大分県"]
["R010214628","川野　裕貴",4,"大分県"]
["R010281865","河野　優斗",4,"大分県"]
["R010303912","河野　陸",4,"大分県"]
["R010262595","川野　竜聖",4,"大分県"]
["R010093475","河野　亮治",4,"大分県"]
["R010047305","河野　蓮弥",4,"大分県"]
["R010189309","川原　賢太郎",4,"大分県"]
["R010007826","川原　倫経",4,"大分県"]
["R010243635","川端　輝",4,"大分県"]
["R010167732","川邊　信司",4,"大分県"]
["R009198487","川邉　太一朗",4,"大分県"]
["R010352999","川邉　裕也",4,"大分県"]
["R005405264","河村　航大",4,"大分県"]
["R006220129","河村　哲二",4,"大分県"]
["R001255908","河村　信善",4,"大分県"]
["R010248035","河村　拓飛",4,"大分県"]
["R005164686","河村　三博",4,"大分県"]
["R001251434","川村　祐一",4,"大分県"]
["R010352994","河村　陽平",4,"大分県"]
["R010201130","河村　蓮",4,"大分県"]
["R010161901","河面　瑠治",4,"大分県"]
["R010033126","管　拓哉",4,"大分県"]
["R010159144","神崎　一途",4,"大分県"]
["R010255161","神崎　竜之介",4,"大分県"]
["R010298855","神崎　波留",4,"大分県"]
["R010169064","神田　尭樹",4,"大分県"]
["R008798101","神田　毅",4,"大分県"]
["R010243659","神田　北斗",4,"大分県"]
["R010303874","神田　陸",4,"大分県"]
["R009554610","神田　陸翔",4,"大分県"]
["R010096807","蒲池　慈恩",4,"大分県"]
["R001255953","菊田　興太郎",4,"大分県"]
["R010047298","菊田　凌雅",4,"大分県"]
["R010007806","菊地　慎之輔",4,"大分県"]
["R003972586","菊地　誠",4,"大分県"]
["R010354793","菊池　陸斗",4,"大分県"]
["R010214551","菊地　隆之輔",4,"大分県"]
["R007960172","岸田　裕太",4,"大分県"]
["R010264276","岸根　脩太",4,"大分県"]
["R010167770","岸野　颯太",4,"大分県"]
["R001255980","木嶋　高行",4,"大分県"]
["R008515580","木城　俊輔",4,"大分県"]
["R010313776","北河　祐一",4,"大分県"]
["R010128053","北崎　翔麻",4,"大分県"]
["R010240548","北島　加偉鯉",4,"大分県"]
["R008798147","木谷　大希",4,"大分県"]
["R010099459","北原　隆広",4,"大分県"]
["R010261591","北山　匠悟",4,"大分県"]
["R010071971","喜田　潤一",4,"大分県"]
["R010281848","喜田　智也",4,"大分県"]
["R010027816","木付　祐介",4,"大分県"]
["R010214583","木津　浩太",4,"大分県"]
["R010214584","木津　春歌",4,"大分県"]
["R001256004","岐津　宏史",4,"大分県"]
["R009369678","木戸　雄登",4,"大分県"]
["R001256031","木下　和夫",4,"大分県"]
["R010262654","木下　遥己",4,"大分県"]
["R008798138","木下　秀紀",4,"大分県"]
["R010248032","木部　瑛翔",4,"大分県"]
["R001256068","岐部　裕二",4,"大分県"]
["R010243648","木部　椋介",4,"大分県"]
["R010248580","木村　一平",4,"大分県"]
["R007959219","木村　五郎",4,"大分県"]
["R010073998","木村　真太郎",4,"大分県"]
["R001251498","木村　竜吉",4,"大分県"]
["R010351369","木村　大介",4,"大分県"]
["R010281806","木村　凌",4,"大分県"]
["R010159181","木村　玲音",4,"大分県"]
["R010243650","木本　蒼翔",4,"大分県"]
["R010298865","木本　創太",4,"大分県"]
["R008634645","木本　隆之",4,"大分県"]
["R010281877","木許　水月",4,"大分県"]
["R010351364","木元　琉惺",4,"大分県"]
["R009460649","休坂　昂志郎",4,"大分県"]
["R010069880","清田　翔馬",4,"大分県"]
["R010347362","清竹　波月",4,"大分県"]
["R010351390","清原　拓馬",4,"大分県"]
["R010281797","清原　勇二",4,"大分県"]
["R010255164","清松　創史",4,"大分県"]
["R010159173","吉良　翔",4,"大分県"]
["R010156508","吉良　慶一郎",4,"大分県"]
["R010261615","吉良　匡弘",4,"大分県"]
["R010120170","吉良　宗和",4,"大分県"]
["R010159169","吉良　唯人",4,"大分県"]
["R001256183","吉良　陽平",4,"大分県"]
["R010069873","吉良　領哉",4,"大分県"]
["R010334507","行部　心彩",4,"大分県"]
["R010303911","釘宮　潤",4,"大分県"]
["R010156515","釘宮　潤也",4,"大分県"]
["R010201136","釘宮　早風",4,"大分県"]
["R010189291","釘宮　孝史",4,"大分県"]
["R010248041","釘宮　翼",4,"大分県"]
["R010071957","釘宮　包青",4,"大分県"]
["R010262596","釘宮　零士",4,"大分県"]
["R010262620","久家　瑞樹",4,"大分県"]
["R010354661","日下　拓人",4,"大分県"]
["R010214630","草野　勝氣",4,"大分県"]
["R010093495","草野　大輝",4,"大分県"]
["R010313754","櫛野　理弘",4,"大分県"]
["R010128058","楠田　桜大",4,"大分県"]
["R010334503","楠　明日香",4,"大分県"]
["R010351368","楠元　和馬",4,"大分県"]
["R010247785","楠本　未沙都",4,"大分県"]
["R010240555","楠本　祥彦",4,"大分県"]
["R010214578","工藤　歩",4,"大分県"]
["R003421903","工藤　清正",4,"大分県"]
["R010047308","工藤　宗大",4,"大分県"]
["R010193710","工藤　大雅",4,"大分県"]
["R010261616","工藤　大昌",4,"大分県"]
["R009546116","工藤　忠弘",4,"大分県"]
["R010298861","工藤　辰哉",4,"大分県"]
["R010077259","工藤　晴瑠",4,"大分県"]
["R001256253","工藤　洋",4,"大分県"]
["R007686252","工藤　史哲",4,"大分県"]
["R001256244","工藤　光範",4,"大分県"]
["R010083877","工藤　大和",4,"大分県"]
["R010159156","工藤　優翔",4,"大分県"]
["R010027858","国武　留意",4,"大分県"]
["R010162988","国広　雄陽",4,"大分県"]
["R010214468","久保　花暖",4,"大分県"]
["R009197938","久保　紘太朗",4,"大分県"]
["R008793249","久保　茂樹",4,"大分県"]
["R010262587","久保　千雅",4,"大分県"]
["R009197947","久保　大翼",4,"大分県"]
["R010240561","久保　駿斗",4,"大分県"]
["R007753624","久保　湧雅",4,"大分県"]
["R010281860","久保田　恭平",4,"大分県"]
["R010303880","久保田　航大",4,"大分県"]
["R010352939","久保田　智史",4,"大分県"]
["R010156529","久保田　匠珠",4,"大分県"]
["R010347360","窪田　結記",4,"大分県"]
["R010128069","窪田　龍",4,"大分県"]
["R010027820","久保山　崇",4,"大分県"]
["R004794310","熊谷　圭太",4,"大分県"]
["R010351366","熊谷　幸翔",4,"大分県"]
["R010083864","熊谷　遼",4,"大分県"]
["R010303891","熊谷　誠起",4,"大分県"]
["R010255191","倉原　侑也",4,"大分県"]
["R010248043","倉見　颯",4,"大分県"]
["R009533431","倉本　翔太",4,"大分県"]
["R010277120","栗　悠眞",4,"大分県"]
["R010214624","栗林　純",4,"大分県"]
["R010313770","黒木　幹太",4,"大分県"]
["R010281807","黒木　一輝",4,"大分県"]
["R010303866","黒木　俊希",4,"大分県"]
["R010314818","桑嶋　栞汰",4,"大分県"]
["R010248040","桑原　誓良",4,"大分県"]
["R001256387","桑原　剛志",4,"大分県"]
["R010027910","桑原　正行",4,"大分県"]
["R010214595","小泉　斗眞",4,"大分県"]
["R010255153","小岩　晴久",4,"大分県"]
["R010189321","神志那　公市",4,"大分県"]
["R010281843","江田　秀斗",4,"大分県"]
["R010167776","河内山　湧斗",4,"大分県"]
["R010313771","河野　歩",4,"大分県"]
["R010355074","幸野　壮一郎",4,"大分県"]
["R010167748","河野　尚矢",4,"大分県"]
["R010163005","河野　匠",4,"大分県"]
["R001255670","河野　千恵子",4,"大分県"]
["R010334502","河野　萌夏",4,"大分県"]
["R010189273","高麗　勇輝",4,"大分県"]
["R009546028","古賀　尭人",4,"大分県"]
["R010281849","古賀　渓太郎",4,"大分県"]
["R010347375","古賀　奏太郎",4,"大分県"]
["R002530277","古賀　博喜",4,"大分県"]
["R006574206","古賀　雅則",4,"大分県"]
["R010162996","小越　憲太郎",4,"大分県"]
["R010243646","小坂　駿介",4,"大分県"]
["R010214636","小島　千宙",4,"大分県"]
["R009408816","児玉　淳",4,"大分県"]
["R010313775","児玉　伸",4,"大分県"]
["R010259431","兒玉　颯斗",4,"大分県"]
["R010159131","児玉　勇翔",4,"大分県"]
["R006573863","児玉　洋明",4,"大分県"]
["R010303868","児玉　港都",4,"大分県"]
["R010169042","児玉　悠介",4,"大分県"]
["R010255183","児玉　勇人",4,"大分県"]
["R010351354","児玉　理緒",4,"大分県"]
["R010067948","小坪　花楓",4,"大分県"]
["R010298858","小手川　博俊",4,"大分県"]
["R010264269","小手川　豊",4,"大分県"]
["R005528060","小手川　洋介",4,"大分県"]
["R010262598","小手川　陽祐",4,"大分県"]
["R004796080","古藤田　和好",4,"大分県"]
["R001256679","小名川　茂樹",4,"大分県"]
["R010080887","古西　譲司",4,"大分県"]
["R010350228","小西　真夕",4,"大分県"]
["R010214561","小浜　耀人",4,"大分県"]
["R004226712","小林　覚",4,"大分県"]
["R010255174","小林　亮太",4,"大分県"]
["R010047310","小深田　隼士",4,"大分県"]
["R010248591","小松　隼人",4,"大分県"]
["R010261600","小米良　啓太",4,"大分県"]
["R010261603","古屋　友晟",4,"大分県"]
["R009460579","古谷　悠汰",4,"大分県"]
["R006125587","小屋　良樹",4,"大分県"]
["R010347385","小山　大輝",4,"大分県"]
["R010214460","是永　陽翔",4,"大分県"]
["R006664855","近藤　孝司",4,"大分県"]
["R010162984","近藤　秀翔",4,"大分県"]
["R010303873","近藤　祥真",4,"大分県"]
["R009198414","近藤　太智",4,"大分県"]
["R006574163","近藤　桐五",4,"大分県"]
["R009546091","五所　睦雄",4,"大分県"]
["R010264754","後藤　海晴",4,"大分県"]
["R010163001","後藤　快斗",4,"大分県"]
["R010099452","後藤　一利",4,"大分県"]
["R010277122","呉藤　壱頼",4,"大分県"]
["R001256572","後藤　儀一郎",4,"大分県"]
["R010067950","後藤　恵子",4,"大分県"]
["R010354802","後藤　圭梧",4,"大分県"]
["R005987519","後藤　慶太郎",4,"大分県"]
["R010156513","後藤　光輝",4,"大分県"]
["R001256590","後藤　幸治",4,"大分県"]
["R010350229","後藤　紗希",4,"大分県"]
["R009373750","後藤　重徳",4,"大分県"]
["R003421426","後藤　茂好",4,"大分県"]
["R010263773","後藤　修蔵",4,"大分県"]
["R003256044","後藤　真一",4,"大分県"]
["R001256606","後藤　信也",4,"大分県"]
["R010255175","後藤　颯太",4,"大分県"]
["R010214575","後藤　貴弘",4,"大分県"]
["R008537111","後藤　拓磨",4,"大分県"]
["R010193704","後藤　健文",4,"大分県"]
["R005603671","後藤　達也",4,"大分県"]
["R010120141","後藤　大翔",4,"大分県"]
["R010093457","後藤　力",4,"大分県"]
["R010306452","後藤　知仁",4,"大分県"]
["R010263777","後藤　颯天",4,"大分県"]
["R001256554","後藤　寿",4,"大分県"]
["R010243641","後藤　響",4,"大分県"]
["R007090978","後藤　洋彰",4,"大分県"]
["R007959130","後藤　宏之",4,"大分県"]
["R010303884","後藤　文太",4,"大分県"]
["R010262599","後藤　萌俊",4,"大分県"]
["R010243667","後藤　大和",4,"大分県"]
["R010354663","後藤　大和",4,"大分県"]
["R006664934","後藤　祐紀",4,"大分県"]
["R010262600","後藤　勇輝",4,"大分県"]
["R010163012","後藤　雄平",4,"大分県"]
["R010093453","後藤　幸之介",4,"大分県"]
["R010120116","後藤　芳健",4,"大分県"]
["R010303902","後藤　由伸",4,"大分県"]
["R008173791","後藤　龍之介",4,"大分県"]
["R010248030","後藤　亮",4,"大分県"]
["R010001964","後藤　亮一",4,"大分県"]
["R010214572","後藤　伶緒",4,"大分県"]
["R010167761","佐伯　航汰",4,"大分県"]
["R010078987","税所　茉奈",4,"大分県"]
["R010083866","齋藤　貫太",4,"大分県"]
["R010354659","齋藤　速人",4,"大分県"]
["R003421189","斉藤　治好",4,"大分県"]
["R010262607","斉藤　北斗",4,"大分県"]
["R010120158","齊藤　真史",4,"大分県"]
["R010067960","斉藤　結",4,"大分県"]
["R010167810","斉藤　祐輔",4,"大分県"]
["R008174790","齊藤　祐哉",4,"大分県"]
["R008173685","斎藤　亮真",4,"大分県"]
["R010027865","斉藤　玲大",4,"大分県"]
["R010118538","佐伯　鷹哉",4,"大分県"]
["R010334501","堺　彩葉",4,"大分県"]
["R010255192","界　脩二朗",4,"大分県"]
["R010261598","堺　大桜",4,"大分県"]
["R001251577","酒井　隆宏",4,"大分県"]
["R006932525","酒井　泰峰",4,"大分県"]
["R010281825","酒井　祐樹",4,"大分県"]
["R010262621","坂口　慧",4,"大分県"]
["R010240554","坂下　海斗",4,"大分県"]
["R010189326","坂田　大樹",4,"大分県"]
["R010159756","坂本　朱理",4,"大分県"]
["R010347380","坂本　海士朗",4,"大分県"]
["R010347379","坂本　颯士朗",4,"大分県"]
["R010240567","坂本　尚幸",4,"大分県"]
["R005430048","坂本　正実",4,"大分県"]
["R010261592","坂本　勇良",4,"大分県"]
["R010071981","坂本　璃王",4,"大分県"]
["R010283833","坂本　莉音",4,"大分県"]
["R010214446","相良　采和",4,"大分県"]
["R008173746","相良　宣雄",4,"大分県"]
["R009369456","相良　陸",4,"大分県"]
["R010248566","相良　遼河",4,"大分県"]
["R010259427","櫻井　貴寛",4,"大分県"]
["R010281869","迫　宗次郎",4,"大分県"]
["R010156512","迫　央翔",4,"大分県"]
["R010167768","佐々木　碧央",4,"大分県"]
["R010159175","佐々木　寛太",4,"大分県"]
["R010189287","佐々木　智彦",4,"大分県"]
["R010351370","指原　蒼",4,"大分県"]
["R010281874","指原　健太郎",4,"大分県"]
["R010120160","指原　啓志",4,"大分県"]
["R010214626","指原　徹志",4,"大分県"]
["R010169059","佐志原　悠",4,"大分県"]
["R010214615","佐田　龍治",4,"大分県"]
["R010277128","定松　快",4,"大分県"]
["R010189039","目　匡弘",4,"大分県"]
["R010240550","里　昂大",4,"大分県"]
["R010259437","佐藤　愛莉",4,"大分県"]
["R001257076","佐藤　明",4,"大分県"]
["R010281887","佐藤　飛鳥",4,"大分県"]
["R010162987","佐藤　歩夢",4,"大分県"]
["R010355075","佐藤　快",4,"大分県"]
["R010303890","佐藤　和彦",4,"大分県"]
["R010352947","佐藤　圭太",4,"大分県"]
["R001976153","佐藤　公亮",4,"大分県"]
["R010281835","佐藤　康介",4,"大分県"]
["R010163000","佐藤　浩太",4,"大分県"]
["R010281798","佐藤　茂",4,"大分県"]
["R010248027","佐藤　駿",4,"大分県"]
["R010264744","佐藤　晟勢",4,"大分県"]
["R004386306","佐藤　慎也",4,"大分県"]
["R010214594","佐藤　隼",4,"大分県"]
["R010262644","佐藤　颯",4,"大分県"]
["R010171065","佐藤　壮馬",4,"大分県"]
["R010169049","佐藤　大誠",4,"大分県"]
["R010156517","佐藤　太尊",4,"大分県"]
["R010001952","佐藤　武弘",4,"大分県"]
["R001257085","佐藤　武吉",4,"大分県"]
["R010261605","佐藤　大樹",4,"大分県"]
["R008616995","佐藤　翼",4,"大分県"]
["R010261606","佐藤　翼",4,"大分県"]
["R006901668","佐藤　直弥",4,"大分県"]
["R010189325","佐藤　遥哉",4,"大分県"]
["R010281827","佐藤　秀昭",4,"大分県"]
["R001257137","佐藤　秀勝",4,"大分県"]
["R010189269","佐藤　寛季",4,"大分県"]
["R010354658","佐藤　史典",4,"大分県"]
["R010027907","佐藤　正明",4,"大分県"]
["R010141829","佐藤　愛大",4,"大分県"]
["R005603389","佐藤　光雄",4,"大分県"]
["R010093488","佐藤　元気",4,"大分県"]
["R010243660","佐藤　勇仁",4,"大分県"]
["R010262601","佐藤　優馬",4,"大分県"]
["R010069874","佐藤　佑哉",4,"大分県"]
["R010263772","佐藤　友哉",4,"大分県"]
["R010352970","佐藤　巧基",4,"大分県"]
["R010314823","佐藤　善成",4,"大分県"]
["R007729210","佐藤　教春",4,"大分県"]
["R010189336","佐藤　陸歩",4,"大分県"]
["R010069894","佐藤　諒",4,"大分県"]
["R010193714","佐藤　亮太",4,"大分県"]
["R010351373","佐藤　凜也",4,"大分県"]
["R010159142","佐藤　琉稀",4,"大分県"]
["R010067954","佐西　琴乃",4,"大分県"]
["R010303869","佐野　圭音",4,"大分県"]
["R010354816","佐野　翔梧",4,"大分県"]
["R010156521","鮫島　亜々斗",4,"大分県"]
["R010214533","鮫島　裕貴",4,"大分県"]
["R010096806","猿渡　崇史",4,"大分県"]
["R010354807","澤井　優翔",4,"大分県"]
["R010277114","澤村　高典",4,"大分県"]
["R010240558","澤村　幸宜",4,"大分県"]
["R010100659","財前　友担",4,"大分県"]
["R010214569","財津　妃菜",4,"大分県"]
["R008536981","財津　亮介",4,"大分県"]
["R010156514","財津　涼哉",4,"大分県"]
["R005603291","椎原　健夫",4,"大分県"]
["R010159176","椎原　丈人",4,"大分県"]
["R010255188","椎原　彪叶",4,"大分県"]
["R010167760","椎葉　颯貴",4,"大分県"]
["R010303855","椎葉　涼太",4,"大分県"]
["R010189288","塩治　晴士",4,"大分県"]
["R007002496","塩月　昭範",4,"大分県"]
["R010156505","塩月　蒼大",4,"大分県"]
["R010189312","塩月　又幸",4,"大分県"]
["R010167788","塩月　航",4,"大分県"]
["R010281801","志賀　泰二",4,"大分県"]
["R010352944","式村　威吹",4,"大分県"]
["R010303893","重　遥大",4,"大分県"]
["R001257304","重藤　光",4,"大分県"]
["R010214448","重松　凜星",4,"大分県"]
["R010027855","重見　柾斗",4,"大分県"]
["R010167780","四嶋　誠南",4,"大分県"]
["R010355071","志太波　直葵",4,"大分県"]
["R010352955","篠田　星凪",4,"大分県"]
["R010277131","篠原　史哉",4,"大分県"]
["R001257377","芝関　功",4,"大分県"]
["R010281852","柴田　叡昇",4,"大分県"]
["R010156503","芝田　壮一郎",4,"大分県"]
["R010069875","柴田　真幸",4,"大分県"]
["R010201140","柴田　裕太",4,"大分県"]
["R010167757","嶋岡　烈士",4,"大分県"]
["R007959592","島崎　雄大",4,"大分県"]
["R001257447","島谷　真司",4,"大分県"]
["R010313749","嶋田　尚祐",4,"大分県"]
["R010306437","島田　亮平",4,"大分県"]
["R010350236","清水　彩花",4,"大分県"]
["R010351365","清水　楓",4,"大分県"]
["R010071963","清水　嵩眺",4,"大分県"]
["R005986981","清水　聖徳",4,"大分県"]
["R010069898","清水　樹生",4,"大分県"]
["R010189304","清水　哲也",4,"大分県"]
["R010264742","清水　拍亜",4,"大分県"]
["R010264743","清水　晃",4,"大分県"]
["R010255172","清水　寛人",4,"大分県"]
["R010298859","清水　楓河",4,"大分県"]
["R006221678","清水　雄介",4,"大分県"]
["R010069890","清水　優人",4,"大分県"]
["R010281820","清水　雄高",4,"大分県"]
["R010303857","清水　羅偉",4,"大分県"]
["R010093497","七五三　正寿",4,"大分県"]
["R010163004","〆野　泰亮",4,"大分県"]
["R010240544","下薗　大空",4,"大分県"]
["R010159143","下田　耀仁",4,"大分県"]
["R010298869","下田　剛士",4,"大分県"]
["R010167781","下野　恵澄",4,"大分県"]
["R010262624","下山　凌河",4,"大分県"]
["R010352987","首藤　和希",4,"大分県"]
["R010120145","首藤　健太",4,"大分県"]
["R010189349","首藤　大雅",4,"大分県"]
["R010352940","首藤　保",4,"大分県"]
["R008643838","首藤　翼",4,"大分県"]
["R007002645","首藤　晴美",4,"大分県"]
["R010354788","首藤　弘樹",4,"大分県"]
["R010214469","首藤　梨花",4,"大分県"]
["R010162994","首藤　光翼",4,"大分県"]
["R003420029","庄　秀喜",4,"大分県"]
["R005527362","庄司　誠",4,"大分県"]
["R010240530","東海林　佑飛",4,"大分県"]
["R009460533","庄部　正人",4,"大分県"]
["R010277130","庄部　雄登",4,"大分県"]
["R010240563","白井　悠汰",4,"大分県"]
["R010352971","白石　琥太郎",4,"大分県"]
["R010261607","白石　悠馬",4,"大分県"]
["R010259417","白岩　孝啓",4,"大分県"]
["R010141826","城山　颯汰",4,"大分県"]
["R010354662","秦　琥太郎",4,"大分県"]
["R010350238","秦　鼓乃実",4,"大分県"]
["R010306453","秦　翔平",4,"大分県"]
["R010191302","進藤　基矢",4,"大分県"]
["R010240532","新塘　統志也",4,"大分県"]
["R010168007","進野　柚舞",4,"大分県"]
["R010347368","新原　優翔",4,"大分県"]
["R006123774","軸丸　耕平",4,"大分県"]
["R010313772","軸丸　翔矢",4,"大分県"]
["R009533468","軸丸　大翔",4,"大分県"]
["R010167773","實崎　日向",4,"大分県"]
["R010120159","実本　悠太",4,"大分県"]
["R010303859","字室　航平",4,"大分県"]
["R010314825","積明　温斗",4,"大分県"]
["R010163007","城尾　皐介",4,"大分県"]
["R009198335","城野　清",4,"大分県"]
["R010347371","城野　雅翔",4,"大分県"]
["R010167804","水田　直樹",4,"大分県"]
["R007959167","須浦　清隆",4,"大分県"]
["R001257696","須浦　伸一",4,"大分県"]
["R010277119","末神　陸",4,"大分県"]
["R010189331","末崎　智也",4,"大分県"]
["R004055424","末綱　海人",4,"大分県"]
["R001257711","末綱　航大",4,"大分県"]
["R006148463","末綱　太舟",4,"大分県"]
["R010262602","末永　京士朗",4,"大分県"]
["R009545995","末永　成久",4,"大分県"]
["R010264737","末永　孟久",4,"大分県"]
["R010262603","末平　陽祐",4,"大分県"]
["R010038305","末廣　愛佳",4,"大分県"]
["R001257720","末宗　光晴",4,"大分県"]
["R010159129","菅　右京",4,"大分県"]
["R007959820","菅　博幸",4,"大分県"]
["R010314815","菅川　青空",4,"大分県"]
["R008798004","杉崎　誠",4,"大分県"]
["R005528103","杉野　岳士",4,"大分県"]
["R010194699","杉野　裕貴",4,"大分県"]
["R006220369","杉本　哲太",4,"大分県"]
["R010027837","鈴江　慧士",4,"大分県"]
["R010281838","鈴江　真士",4,"大分県"]
["R010281839","鈴江　涼生",4,"大分県"]
["R010214548","鈴木　公大",4,"大分県"]
["R010069892","鈴木　規久",4,"大分県"]
["R010243634","簾　冬聖",4,"大分県"]
["R010171059","須藤　稜晟",4,"大分県"]
["R010067965","須藤　夏羽",4,"大分県"]
["R010247793","須藤　美羽",4,"大分県"]
["R007959185","巣野　哲平",4,"大分県"]
["R010128078","角　颯之介",4,"大分県"]
["R010214540","隅田　渚斗",4,"大分県"]
["R010303863","住田　翔",4,"大分県"]
["R008797838","図師　歌歩乃",4,"大分県"]
["R010162998","圖師　好至朗",4,"大分県"]
["R010159141","清家　航太",4,"大分県"]
["R010303887","瀬川　礼野",4,"大分県"]
["R003258422","関　一昭",4,"大分県"]
["R001257809","関　正二",4,"大分県"]
["R010352992","関　翼",4,"大分県"]
["R010189267","関　雅人",4,"大分県"]
["R007959750","関谷　僚人",4,"大分県"]
["R010167795","瀬口　拓歩",4,"大分県"]
["R009533653","瀬田　英明",4,"大分県"]
["R010354812","瀬戸　天我",4,"大分県"]
["R010167767","瀬戸口　智哉",4,"大分県"]
["R010281872","千歳丸　忠",4,"大分県"]
["R010167813","副田　大貴",4,"大分県"]
["R010167769","副田　愛斗",4,"大分県"]
["R010247795","曽我　彩夏",4,"大分県"]
["R010141825","曽我　寛人",4,"大分県"]
["R010120162","曽根　文武",4,"大分県"]
["R010120127","曽根崎　忠",4,"大分県"]
["R001257854","曽根崎　照紀",4,"大分県"]
["R010159145","曽根田　最",4,"大分県"]
["R005987458","曽根田　康寿",4,"大分県"]
["R010262639","園　文来",4,"大分県"]
["R010189348","園田　航也",4,"大分県"]
["R010306443","園田　純直",4,"大分県"]
["R010303871","園田　悠",4,"大分県"]
["R001257872","園田　雄二",4,"大分県"]
["R010069895","染矢　季琉",4,"大分県"]
["R010255156","染矢　陸",4,"大分県"]
["R010193717","空田　碧波",4,"大分県"]
["R005987430","平　和隆",4,"大分県"]
["R010189295","高榎　健太郎",4,"大分県"]
["R008174037","高榎　祐太郎",4,"大分県"]
["R010347372","高尾　佳汰",4,"大分県"]
["R010071982","高尾　伶",4,"大分県"]
["R010351362","高岡　海堵",4,"大分県"]
["R010303881","髙岡　堅吾",4,"大分県"]
["R006664615","高柿　康平",4,"大分県"]
["R010259428","高木　伸",4,"大分県"]
["R010167745","高木　桐馬",4,"大分県"]
["R001257942","高倉　一城",4,"大分県"]
["R010314802","高倉　左京",4,"大分県"]
["R010071976","高倉　凛",4,"大分県"]
["R010016117","高崎　真汰",4,"大分県"]
["R010056095","高崎　弘輝",4,"大分県"]
["R009659553","高島　章裕",4,"大分県"]
["R010069872","高司　龍之介",4,"大分県"]
["R010027898","髙瀬　瑛里",4,"大分県"]
["R010038292","高瀬　翔矢",4,"大分県"]
["R010073413","高瀬　心",4,"大分県"]
["R008616232","髙田　大晟",4,"大分県"]
["R010163008","高田　優磨",4,"大分県"]
["R001257997","高田　義友",4,"大分県"]
["R010352982","髙野　悦成",4,"大分県"]
["R010214607","高野　修",4,"大分県"]
["R010027825","髙野　翔大",4,"大分県"]
["R003578487","髙野　大輔",4,"大分県"]
["R010303907","髙橋　碧衣",4,"大分県"]
["R010264735","高橋　英汰",4,"大分県"]
["R010351355","高橋　海翔",4,"大分県"]
["R008798077","高橋　紀嘉",4,"大分県"]
["R010314827","高橋　巧希",4,"大分県"]
["R008798156","高橋　洸介",4,"大分県"]
["R010354798","高橋　劫多",4,"大分県"]
["R010093479","高橋　晃平",4,"大分県"]
["R001258066","髙橋　信二",4,"大分県"]
["R010248042","高橋　星那",4,"大分県"]
["R010351359","高橋　颯太",4,"大分県"]
["R010168013","高橋　蒼真",4,"大分県"]
["R010243645","高橋　典誠",4,"大分県"]
["R010189346","高橋　敏也",4,"大分県"]
["R010354794","高橋　那由多",4,"大分県"]
["R007334924","高橋　央明",4,"大分県"]
["R007767432","高橋　瑞紀",4,"大分県"]
["R003256062","高橋　由資",4,"大分県"]
["R010016088","髙橋　宥成",4,"大分県"]
["R006220697","高橋　勇也",4,"大分県"]
["R005987546","高橋　佳宏",4,"大分県"]
["R010262604","高橋　陸",4,"大分県"]
["R010069900","高橋　亮",4,"大分県"]
["R010352959","髙橋　涼介",4,"大分県"]
["R010056101","高橋　蓮",4,"大分県"]
["R008523233","高畑　奎汰",4,"大分県"]
["R010167803","高畠　健志",4,"大分県"]
["R010214462","高畑　俊太",4,"大分県"]
["R001258136","高原　啓司",4,"大分県"]
["R010159140","高原　成都",4,"大分県"]
["R010240538","高原　悠太",4,"大分県"]
["R010351389","高見　啓太",4,"大分県"]
["R010351375","高見　陵太",4,"大分県"]
["R010277132","高村　亮貴",4,"大分県"]
["R010350232","高本　澪奈",4,"大分県"]
["R010255176","高森　宗治",4,"大分県"]
["R010298863","高柳　星那",4,"大分県"]
["R010189302","高山　勇一",4,"大分県"]
["R009533440","田上　龍真",4,"大分県"]
["R010259435","田川　乃々香",4,"大分県"]
["R010281815","瀧田　好浩",4,"大分県"]
["R010259424","瀧水　蓮太郎",4,"大分県"]
["R010128072","田口　晴基",4,"大分県"]
["R010120190","武石　智彰",4,"大分県"]
["R010255180","武石　優作",4,"大分県"]
["R010281858","武内　一准",4,"大分県"]
["R010248038","竹内　暖",4,"大分県"]
["R010262605","竹島　琉",4,"大分県"]
["R009198283","武田　顕一",4,"大分県"]
["R008616162","竹田　豪",4,"大分県"]
["R010255159","竹田　天馬",4,"大分県"]
["R003972498","武田　憲和",4,"大分県"]
["R007335127","竹中　啓司",4,"大分県"]
["R006612816","竹之内　亮",4,"大分県"]
["R010120175","武信　郁暁",4,"大分県"]
["R010347363","武原　匠吾",4,"大分県"]
["R010189265","竹本　悠人",4,"大分県"]
["R010262657","竹山　柊吾",4,"大分県"]
["R010243664","田崎　斗翔",4,"大分県"]
["R010303882","田﨑　琉唯",4,"大分県"]
["R003677502","田島　徳雄",4,"大分県"]
["R010306446","多嶋田　尚平",4,"大分県"]
["R004371818","田代　修三",4,"大分県"]
["R010303886","田代　翔太郎",4,"大分県"]
["R010069881","橘木　慎之介",4,"大分県"]
["R010281886","立川　拓未",4,"大分県"]
["R010303872","立岩　玄輝",4,"大分県"]
["R010162985","帯刀　悠",4,"大分県"]
["R010352983","田中　滉人",4,"大分県"]
["R010243656","田中　滉大",4,"大分県"]
["R010083857","田中　脩翔",4,"大分県"]
["R010156530","田中　峻輔",4,"大分県"]
["R010214560","田中　俊丞",4,"大分県"]
["R007753749","田中　大成",4,"大分県"]
["R009460542","田中　友浩",4,"大分県"]
["R010303862","田中　真輝",4,"大分県"]
["R010056104","田中　雄大",4,"大分県"]
["R010351376","田中　陸翔",4,"大分県"]
["R007728503","田邊　政治",4,"大分県"]
["R010306441","谷川　勝利",4,"大分県"]
["R008798484","谷川　潤弥",4,"大分県"]
["R010352981","谷口　直也",4,"大分県"]
["R010077250","谷口　莉子",4,"大分県"]
["R010281834","谷崎　舞",4,"大分県"]
["R010073989","谷崎　涼",4,"大分県"]
["R009198539","谷崎　玲治",4,"大分県"]
["R010255173","谷脇　陸",4,"大分県"]
["R010159155","谷脇　蓮",4,"大分県"]
["R010214471","田野　愛華",4,"大分県"]
["R010167790","田野　翔大",4,"大分県"]
["R008523215","田原　龍之介",4,"大分県"]
["R010113540","田部　匠",4,"大分県"]
["R010016098","玉井　文翔",4,"大分県"]
["R009533510","田村　奎人",4,"大分県"]
["R008797704","田村　健二",4,"大分県"]
["R010169043","田村　駿伍",4,"大分県"]
["R010281809","田村　拓也",4,"大分県"]
["R006111195","伊達　秀憲",4,"大分県"]
["R001251753","伊達　洋介",4,"大分県"]
["R010100668","近砂　覚志",4,"大分県"]
["R010168005","千歳　航大",4,"大分県"]
["R010162990","千原　海吏",4,"大分県"]
["R001258455","千原　秀介",4,"大分県"]
["R010264738","千原　隼輔",4,"大分県"]
["R010277117","地原　陽斗",4,"大分県"]
["R010071980","千原　瑠偉",4,"大分県"]
["R010240562","千葉　宗汰",4,"大分県"]
["R010303898","張　錦梁",4,"大分県"]
["R010354820","長木　環和",4,"大分県"]
["R010067943","通正　こころ",4,"大分県"]
["R010067949","通正　隆寿",4,"大分県"]
["R010261597","通正　隆之介",4,"大分県"]
["R010262606","塚崎　凛音",4,"大分県"]
["R010350239","月元　栞",4,"大分県"]
["R010214610","津崎　祐二",4,"大分県"]
["R001258516","津下　一孝",4,"大分県"]
["R001258491","辻　道弘",4,"大分県"]
["R010093455","津田　敬太",4,"大分県"]
["R010189345","筒井　愛",4,"大分県"]
["R010120146","筒井　映介",4,"大分県"]
["R010171062","堤　爽",4,"大分県"]
["R008360148","堤　哲郎",4,"大分県"]
["R010214478","堤　晴菜",4,"大分県"]
["R008651794","都竹　創",4,"大分県"]
["R005429884","恒成　壮",4,"大分県"]
["R005405723","恒松　和也",4,"大分県"]
["R009198256","常行　隼史",4,"大分県"]
["R001258543","常行　宣孝",4,"大分県"]
["R010303858","角田　海斗",4,"大分県"]
["R006937089","津守　翔太",4,"大分県"]
["R010303879","津谷　海登",4,"大分県"]
["R010162989","都留　蒼太",4,"大分県"]
["R007728859","靏　尚基",4,"大分県"]
["R010306444","鶴田　翔一",4,"大分県"]
["R010214528","手嶋　章博",4,"大分県"]
["R010261594","寺井　一",4,"大分県"]
["R009369492","寺下　翼",4,"大分県"]
["R001258613","出口　功",4,"大分県"]
["R010214470","藤内　なぎさ",4,"大分県"]
["R010243644","遠山　隼都",4,"大分県"]
["R010074011","徳田　正信",4,"大分県"]
["R010074007","徳田　隆聖",4,"大分県"]
["R008377591","徳永　雄大",4,"大分県"]
["R010093499","徳丸　淳治",4,"大分県"]
["R010255154","得丸　拓実",4,"大分県"]
["R010243652","徳丸　白空",4,"大分県"]
["R001258695","徳丸　英明",4,"大分県"]
["R001258686","得丸　政徳",4,"大分県"]
["R010016089","徳丸　陵雅",4,"大分県"]
["R010167753","都甲　明聖",4,"大分県"]
["R010214587","利根　悠理",4,"大分県"]
["R009533583","利光　貴翔",4,"大分県"]
["R010261602","利光　陽成",4,"大分県"]
["R010159150","戸田　汐音",4,"大分県"]
["R010255155","戸田　星空",4,"大分県"]
["R010159136","戸髙　滉基",4,"大分県"]
["R010350234","戸髙　花菜",4,"大分県"]
["R010046512","十時　優介",4,"大分県"]
["R010120204","冨田　脩平",4,"大分県"]
["R010161732","冨田　翔希",4,"大分県"]
["R010027867","富田　靖夫",4,"大分県"]
["R007728974","冨田　保之",4,"大分県"]
["R010027830","富永　渉太",4,"大分県"]
["R001258765","富永　佳幸",4,"大分県"]
["R010259418","冨久　剛",4,"大分県"]
["R010351388","富松　慎之介",4,"大分県"]
["R005405608","冨吉　弘一",4,"大分県"]
["R010214600","冨吉　智元",4,"大分県"]
["R010069889","留野　莉旺",4,"大分県"]
["R010281868","友田　裕斗",4,"大分県"]
["R010128059","友成　拓夢",4,"大分県"]
["R010128070","友松　健太",4,"大分県"]
["R010100678","友松　誠二",4,"大分県"]
["R010277115","友松　悠太",4,"大分県"]
["R010163009","豊島　海斗",4,"大分県"]
["R010313755","豊島　勇樹",4,"大分県"]
["R010281829","豊田　周",4,"大分県"]
["R010214570","豊田　馨",4,"大分県"]
["R010281818","豊　田",4,"大分県"]
["R003421170","豊田　裕司",4,"大分県"]
["R009369641","豊永　拓弥",4,"大分県"]
["R010264270","鳥越　光",4,"大分県"]
["R010262618","土居　航士",4,"大分県"]
["R010248573","堂本　和馬",4,"大分県"]
["R010214632","土肥　英治",4,"大分県"]
["R010168000","仲　恭平",4,"大分県"]
["R010354813","中井　琉惺",4,"大分県"]
["R010007815","中尾　圭介",4,"大分県"]
["R003677043","中尾　啓太",4,"大分県"]
["R010107162","中尾　剛",4,"大分県"]
["R010156518","中尾　斗海",4,"大分県"]
["R010120161","中尾　雅俊",4,"大分県"]
["R010255166","中岡　昇",4,"大分県"]
["R004793931","中川　勝裕",4,"大分県"]
["R001258880","中川　俊哉",4,"大分県"]
["R010263774","中川　蓮太",4,"大分県"]
["R002530329","中島　大成",4,"大分県"]
["R010162981","中島　柊",4,"大分県"]
["R010167786","中島　湧友",4,"大分県"]
["R010071983","中島　凛大",4,"大分県"]
["R010352956","中島　拓磨",4,"大分県"]
["R010214567","中嶋　完",4,"大分県"]
["R001258914","中嶋　結孝",4,"大分県"]
["R010351360","中城　駿太",4,"大分県"]
["R009533662","中瀬　雄一郎",4,"大分県"]
["R010281836","仲宗根　玄昌",4,"大分県"]
["R010162979","中園　和希",4,"大分県"]
["R010214461","中園　太陽",4,"大分県"]
["R010281808","中園　貴志",4,"大分県"]
["R010240546","中面　成斗",4,"大分県"]
["R010083855","中津留　海翔",4,"大分県"]
["R006125602","中津留　正三",4,"大分県"]
["R010334500","中津留　菜桜",4,"大分県"]
["R010263776","中津留　悠平",4,"大分県"]
["R007334942","中津留　治将",4,"大分県"]
["R010016101","中西　巧哉",4,"大分県"]
["R002917412","中西　智彦",4,"大分県"]
["R010189275","中根　孝史",4,"大分県"]
["R001259038","中根　幹雄",4,"大分県"]
["R010056094","中根　武蔵",4,"大分県"]
["R007728804","中根　龍馬",4,"大分県"]
["R010281799","中野　明",4,"大分県"]
["R010083847","中野　皓太",4,"大分県"]
["R010281812","中野　沙和未",4,"大分県"]
["R010248583","中野　翔梧",4,"大分県"]
["R010298856","中野　翔太",4,"大分県"]
["R010281824","仲野　翔真",4,"大分県"]
["R010255160","仲野　穣",4,"大分県"]
["R010169053","中野　創太",4,"大分県"]
["R010262636","中野　颯馬",4,"大分県"]
["R001259056","中野　俊宏",4,"大分県"]
["R010093448","中野　智博",4,"大分県"]
["R010078598","中野　浩志",4,"大分県"]
["R010214472","中野　茉奈",4,"大分県"]
["R010281853","中野　竜太",4,"大分県"]
["R010141824","中野　遼",4,"大分県"]
["R006574394","中畑　光宏",4,"大分県"]
["R010240570","中原　幹太",4,"大分県"]
["R010120136","中原　陽向",4,"大分県"]
["R010261596","中平　康士朗",4,"大分県"]
["R001251896","中間　敏彦",4,"大分県"]
["R010169056","仲町　貴将",4,"大分県"]
["R010354814","中溝　遥",4,"大分県"]
["R010354801","中道　裕斗",4,"大分県"]
["R010016109","仲村　晃和",4,"大分県"]
["R010303901","中村　晃大",4,"大分県"]
["R010159153","中村　朝光",4,"大分県"]
["R010303900","中村　亨太",4,"大分県"]
["R003316948","中村　冴里",4,"大分県"]
["R010262608","中村　真太朗",4,"大分県"]
["R010240543","中村　拓久",4,"大分県"]
["R009197585","中村　智美",4,"大分県"]
["R010262609","中村　夏綺",4,"大分県"]
["R010281888","仲村　晃瑠",4,"大分県"]
["R001251911","中村　真彦",4,"大分県"]
["R009198274","中村　洋太",4,"大分県"]
["R010351377","中山　遥",4,"大分県"]
["R010264268","中山　雄太",4,"大分県"]
["R010167747","永井　啓太朗",4,"大分県"]
["R010354806","長井　滉希",4,"大分県"]
["R010352943","永井　秀",4,"大分県"]
["R010262635","長井　舜佑",4,"大分県"]
["R010240580","永井　智大",4,"大分県"]
["R010214609","長尾　浩希",4,"大分県"]
["R010281817","永尾　透",4,"大分県"]
["R006664882","永岡　才拓",4,"大分県"]
["R010120189","長澤　直樹",4,"大分県"]
["R001258950","長瀬　良理",4,"大分県"]
["R010313765","永田　蓮二",4,"大分県"]
["R010074018","長門　崚太",4,"大分県"]
["R010214622","永冨　真依",4,"大分県"]
["R010261475","永沼　咲",4,"大分県"]
["R010083859","永野　慎之助",4,"大分県"]
["R010281847","長野　翔空",4,"大分県"]
["R010298864","永野　悠大",4,"大分県"]
["R010303910","永野　優歩",4,"大分県"]
["R010277121","長野　陽太",4,"大分県"]
["R010044683","永畑　海飛",4,"大分県"]
["R010259414","永松　和寿",4,"大分県"]
["R010355073","永松　周",4,"大分県"]
["R005528264","永松　裕史",4,"大分県"]
["R010303861","永松　涼介",4,"大分県"]
["R010159167","長光　飛輝",4,"大分県"]
["R010069905","長光　響",4,"大分県"]
["R005527353","永山　正樹",4,"大分県"]
["R010193705","長山　祐介",4,"大分県"]
["R005987403","流川　新",4,"大分県"]
["R010287224","南向　拓也",4,"大分県"]
["R010214537","奈須　哲平",4,"大分県"]
["R010027829","奈須　大和",4,"大分県"]
["R010351387","那須　龍之介",4,"大分県"]
["R009072295","奈須野　安侑里",4,"大分県"]
["R010189322","奈須野　隼",4,"大分県"]
["R010159754","七蔵司　真琴",4,"大分県"]
["R007769786","成重　佑輔",4,"大分県"]
["R010262625","成重　柊哉",4,"大分県"]
["R010141836","鳴海　桂大",4,"大分県"]
["R010255168","新納　亮太",4,"大分県"]
["R010313756","新原　一希",4,"大分県"]
["R010306439","西　将輝",4,"大分県"]
["R010303853","西　瑞希",4,"大分県"]
["R010352989","西　桃之輔",4,"大分県"]
["R010287216","西　勇哉",4,"大分県"]
["R010314809","西尾　圭翔",4,"大分県"]
["R004386023","西尾　拓之",4,"大分県"]
["R010128071","西尾　悠吾",4,"大分県"]
["R010262610","西尾　理久",4,"大分県"]
["R010303856","西尾　陸",4,"大分県"]
["R001251957","西岡　京一郎",4,"大分県"]
["R010262641","西川　凜",4,"大分県"]
["R009533538","西田　克海",4,"大分県"]
["R009547036","西田　健人",4,"大分県"]
["R004793375","西田　真也",4,"大分県"]
["R010162982","西田　凌雅",4,"大分県"]
["R010189338","西野　隆司",4,"大分県"]
["R010354815","西野　凜太朗",4,"大分県"]
["R010159760","西原　舞七",4,"大分県"]
["R010281850","西村　陽佑",4,"大分県"]
["R010306449","西村　嘉朗",4,"大分県"]
["R010159135","ニ田　理央",4,"大分県"]
["R010261589","二宮　慶太",4,"大分県"]
["R010303909","二宮　洸希",4,"大分県"]
["R008798280","荷宮　忠",4,"大分県"]
["R010281837","二宮　大己",4,"大分県"]
["R010096809","二宮　大作",4,"大分県"]
["R004055664","二宮　康彰",4,"大分県"]
["R010120164","二宮　悠樹",4,"大分県"]
["R010306454","入田　裕治",4,"大分県"]
["R010281856","如法寺　雅俊",4,"大分県"]
["R010240583","塗矢　泰生",4,"大分県"]
["R010027878","野口　一輝",4,"大分県"]
["R010313744","野口　健太郎",4,"大分県"]
["R002917333","野口　康二郎",4,"大分県"]
["R010313782","野口　正一郎",4,"大分県"]
["R010027885","野口　智隆",4,"大分県"]
["R010262637","野崎　央",4,"大分県"]
["R010167740","野崎　来",4,"大分県"]
["R005527830","野尻　崇",4,"大分県"]
["R010214571","野添　良太",4,"大分県"]
["R010306450","ノダ　啓佑",4,"大分県"]
["R010214592","野田　航平",4,"大分県"]
["R010259434","野田　泰紀",4,"大分県"]
["R010080607","野田　晶生",4,"大分県"]
["R010096811","野田　佳希",4,"大分県"]
["R010128060","野中　充登",4,"大分県"]
["R010214556","野中　裕介",4,"大分県"]
["R010298866","野々下　朝陽",4,"大分県"]
["R010354660","野村　慶太",4,"大分県"]
["R001259436","野村　辰寿",4,"大分県"]
["R006125736","野村　哲也",4,"大分県"]
["R010354811","野村　春希",4,"大分県"]
["R010303877","野村　凌",4,"大分県"]
["R006544278","則次　祐介",4,"大分県"]
["R004714721","袴田　真吾",4,"大分県"]
["R001259472","間　俊雄",4,"大分県"]
["R007003273","間　博紀",4,"大分県"]
["R010352972","間　勇翔",4,"大分県"]
["R010314814","橋口　一斗",4,"大分県"]
["R010298868","橋口　大諒",4,"大分県"]
["R008634609","橋本　翔",4,"大分県"]
["R010027904","橋本　紘汰",4,"大分県"]
["R010303908","橋本　豪",4,"大分県"]
["R006221012","橋本　敏邦",4,"大分県"]
["R007959440","橋本　伸忠",4,"大分県"]
["R010027905","橋本　陸",4,"大分県"]
["R010334504","橋本　凜",4,"大分県"]
["R010240540","橋本　玲央",4,"大分県"]
["R010240553","蓮池　寛斗",4,"大分県"]
["R007729098","長谷　明治",4,"大分県"]
["R010259429","畑　修一",4,"大分県"]
["R010262643","秦　龍生",4,"大分県"]
["R010298873","畑　凜太郎",4,"大分県"]
["R010248571","畑中　恒輝",4,"大分県"]
["R010100679","畑中　祝勝",4,"大分県"]
["R010314826","畑中　大和",4,"大分県"]
["R010352984","畑野　新司",4,"大分県"]
["R010281859","羽田野　凪",4,"大分県"]
["R010007845","波多野　政美",4,"大分県"]
["R010347358","畑辺　康年",4,"大分県"]
["R010259439","羽田野　徹",4,"大分県"]
["R010169052","羽田野　将斗",4,"大分県"]
["R010262647","服部　昌拓",4,"大分県"]
["R003421116","波津久　雄平",4,"大分県"]
["R010240564","濱　凜太朗",4,"大分県"]
["R001259579","濱崎　賢一",4,"大分県"]
["R009460658","浜崎　拓海",4,"大分県"]
["R010352977","濱砂　樹",4,"大分県"]
["R010093435","濱田　尚希",4,"大分県"]
["R006221100","浜町　隆蒔",4,"大分県"]
["R010156506","林　修太",4,"大分県"]
["R010141828","早田　竜麻",4,"大分県"]
["R010350231","原　愛由那",4,"大分県"]
["R008626965","原　海斗",4,"大分県"]
["R009528800","原　和将",4,"大分県"]
["R010161733","原　貫二",4,"大分県"]
["R010141822","原　冴空",4,"大分県"]
["R008174365","原　貴宏",4,"大分県"]
["R006937113","原　大恭",4,"大分県"]
["R006220095","原　正佳",4,"大分県"]
["R010128063","原　由緋",4,"大分県"]
["R006220934","原井　健太郎",4,"大分県"]
["R010243653","原田　圭",4,"大分県"]
["R010259430","原田　光清",4,"大分県"]
["R010281813","原田　幸之介",4,"大分県"]
["R010100690","原田　拓弥",4,"大分県"]
["R010313781","原田　琢也",4,"大分県"]
["R001259685","原田　健士",4,"大分県"]
["R010047289","原田　悠人",4,"大分県"]
["R010240542","原田　郁弥",4,"大分県"]
["R004747215","原田　宗法",4,"大分県"]
["R010352941","原田　泰幸",4,"大分県"]
["R010189330","原田　裕規",4,"大分県"]
["R004111605","馬場　睦紀",4,"大分県"]
["R010027888","馬場　勇之介",4,"大分県"]
["R010262619","氷川　拓斗",4,"大分県"]
["R009459014","東　優汰",4,"大分県"]
["R010303895","匹田　晟哉",4,"大分県"]
["R010159758","匹田　雛凪",4,"大分県"]
["R010303875","樋口　拓哉",4,"大分県"]
["R010313751","日坂　仁哉",4,"大分県"]
["R003350890","久田　祥孝",4,"大分県"]
["R010281866","久富　善一",4,"大分県"]
["R007090701","久野　章吾",4,"大分県"]
["R010303864","泥谷　佳佑",4,"大分県"]
["R009533422","日高　世那",4,"大分県"]
["R008523163","日高　智也",4,"大分県"]
["R010303860","日高　優作",4,"大分県"]
["R010243639","日高　雄登",4,"大分県"]
["R010159133","日野　文翔",4,"大分県"]
["R010255184","日野　颯太",4,"大分県"]
["R004111368","日野　崇",4,"大分県"]
["R010262611","日野　雄太",4,"大分県"]
["R010352937","日野　陽平",4,"大分県"]
["R010298857","日野　涼介",4,"大分県"]
["R010350230","姫野　杏妃",4,"大分県"]
["R010189332","姫野　賢吾",4,"大分県"]
["R006220183","姫野　航平",4,"大分県"]
["R010168008","姫野　倖平",4,"大分県"]
["R010156501","姫野　晃竜",4,"大分県"]
["R010351361","姫野　聖太",4,"大分県"]
["R010352969","姫野　聖也",4,"大分県"]
["R010243665","姫野　青空",4,"大分県"]
["R010255170","姫野　天翔",4,"大分県"]
["R007959194","姫野　貴裕",4,"大分県"]
["R010027875","姫野　太輔",4,"大分県"]
["R010214596","姫野　晴人",4,"大分県"]
["R009430435","姫野　真智代",4,"大分県"]
["R010189272","姫野　佑太郎",4,"大分県"]
["R010313780","姫野　祐太朗",4,"大分県"]
["R010262645","姫野　隆太",4,"大分県"]
["R010074020","姫野　涼",4,"大分県"]
["R001259852","冷川　智章",4,"大分県"]
["R010262638","平井　楓",4,"大分県"]
["R010311845","平井　慧佑",4,"大分県"]
["R010352963","平井　彩斗",4,"大分県"]
["R010128055","平池　悠馬",4,"大分県"]
["R010169063","平岩　琉三",4,"大分県"]
["R010047300","平川　絢大",4,"大分県"]
["R010259426","平川　功ニ",4,"大分県"]
["R003972513","平川　伸吾",4,"大分県"]
["R007753846","平川　大雅",4,"大分県"]
["R001259898","平川　孝幸",4,"大分県"]
["R010262626","平迫　諒斗",4,"大分県"]
["R010303899","平嶋　僚太",4,"大分県"]
["R009554586","平野　順也",4,"大分県"]
["R008626716","平野　空",4,"大分県"]
["R010313750","平野　信彦",4,"大分県"]
["R001259986","平野　雅也",4,"大分県"]
["R010120147","平野　眞丸",4,"大分県"]
["R008174064","平野　道弘",4,"大分県"]
["R010248581","平野　靖成",4,"大分県"]
["R010067955","平野　よう",4,"大分県"]
["R004386193","平畠　数大",4,"大分県"]
["R010214604","平林　昭二",4,"大分県"]
["R010352938","平林　拓朗",4,"大分県"]
["R001260016","平原　晃",4,"大分県"]
["R008797953","平原　悟",4,"大分県"]
["R002384049","平原　修人",4,"大分県"]
["R010351358","平松　寛大",4,"大分県"]
["R010159158","平松　孝汰朗",4,"大分県"]
["R005603370","平松　大輔",4,"大分県"]
["R010281802","平山　誠",4,"大分県"]
["R009197901","廣井　隼人",4,"大分県"]
["R010243642","廣岡　将",4,"大分県"]
["R010354789","廣川　陽介",4,"大分県"]
["R010262652","廣瀬　長治",4,"大分県"]
["R010069886","廣瀬　直軌",4,"大分県"]
["R008798253","廣瀬　尚人",4,"大分県"]
["R010167787","広瀬　颯人",4,"大分県"]
["R006872296","廣瀬　光雄",4,"大分県"]
["R010351380","廣瀬　有気",4,"大分県"]
["R010162978","廣瀬　雄太郎",4,"大分県"]
["R010287221","廣瀬　亮太",4,"大分県"]
["R010240551","広瀬　椋平",4,"大分県"]
["R010178912","尾藤　啓太",4,"大分県"]
["R010069897","深田　涼雅",4,"大分県"]
["R004055503","深堀　俊一",4,"大分県"]
["R010093449","深見　精二",4,"大分県"]
["R010314804","深水　晶斗",4,"大分県"]
["R009484825","福井　魁斗",4,"大分県"]
["R009369562","福井　健斗",4,"大分県"]
["R010306447","福島　達也",4,"大分県"]
["R010248037","福島　直矢",4,"大分県"]
["R010038297","福島　結香",4,"大分県"]
["R010214474","福島　莉聖",4,"大分県"]
["R010314822","福谷　洸明",4,"大分県"]
["R010281885","福田　和輝",4,"大分県"]
["R010128065","福田　喬志郎",4,"大分県"]
["R010281831","福田　紫月",4,"大分県"]
["R010128062","福永　有基",4,"大分県"]
["R010099458","福原　元希",4,"大分県"]
["R010262627","福原　聖矢",4,"大分県"]
["R010262628","福原　礼矢",4,"大分県"]
["R010214568","藤井　俊輔",4,"大分県"]
["R009408825","藤井　康之",4,"大分県"]
["R010277113","藤岡　親也",4,"大分県"]
["R010352952","藤岡　典之",4,"大分県"]
["R010287217","藤崎　慎太郎",4,"大分県"]
["R010351372","藤澤　昂大",4,"大分県"]
["R010313762","藤澤　康秀",4,"大分県"]
["R010313773","藤島　虹太",4,"大分県"]
["R008173667","藤末　学",4,"大分県"]
["R010261608","藤末　琉生",4,"大分県"]
["R010287220","藤瀬　友斗",4,"大分県"]
["R010352946","藤田　翔",4,"大分県"]
["R010262648","藤田　健志",4,"大分県"]
["R010352948","藤田　倖輝",4,"大分県"]
["R006125675","藤田　翔太郎",4,"大分県"]
["R010313758","藤田　匠平",4,"大分県"]
["R010189284","藤田　紳太郎",4,"大分県"]
["R010167754","藤田　誠治",4,"大分県"]
["R010178904","藤田　泰成",4,"大分県"]
["R002530888","藤田　光弘",4,"大分県"]
["R010281821","藤田　莉央",4,"大分県"]
["R010069884","藤田　凌羽",4,"大分県"]
["R006220837","藤高　豊彦",4,"大分県"]
["R010169062","藤塚　吾朗",4,"大分県"]
["R008481089","藤冨　裕也",4,"大分県"]
["R006123862","藤並　敬大",4,"大分県"]
["R007090941","藤野　誠",4,"大分県"]
["R003351233","藤松　竜也",4,"大分県"]
["R010214617","藤本　宏平",4,"大分県"]
["R010047296","藤本　淳也",4,"大分県"]
["R010303865","藤本　諒哉",4,"大分県"]
["R010167796","藤由　歩武",4,"大分県"]
["R010261612","藤原　樂",4,"大分県"]
["R010277116","藤原　敬達",4,"大分県"]
["R005467945","藤原　妙子",4,"大分県"]
["R010262612","藤原　輝",4,"大分県"]
["R010352967","藤原　遥斗",4,"大分県"]
["R010159165","藤原　秀俊",4,"大分県"]
["R007959547","藤原　宏",4,"大分県"]
["R010255167","藤原　悠吾",4,"大分県"]
["R010076623","藤原　友大",4,"大分県"]
["R010287223","船岳　雷太",4,"大分県"]
["R010169058","船杉　祐斗",4,"大分県"]
["R010243661","古川　大翔",4,"大分県"]
["R010240549","古川　力",4,"大分県"]
["R010067963","古野　美月",4,"大分県"]
["R010214608","古野　龍",4,"大分県"]
["R001260405","古畑　親治",4,"大分県"]
["R010259415","戸次　敦",4,"大分県"]
["R002678009","保明　栄治",4,"大分県"]
["R010214547","帆足　大",4,"大分県"]
["R010314803","帆足　優莉",4,"大分県"]
["R010347384","宝珠　史洋",4,"大分県"]
["R010056105","星野　杏",4,"大分県"]
["R009484728","星野　嵐",4,"大分県"]
["R010354805","堀　宏斗",4,"大分県"]
["R010262629","堀江　晴輝",4,"大分県"]
["R010193707","堀川　雅矢",4,"大分県"]
["R010354651","本城　瑛翔",4,"大分県"]
["R010351374","本住　蓮",4,"大分県"]
["R010352975","本田　裟久哉",4,"大分県"]
["R001258899","本田　淳仁",4,"大分県"]
["R010120173","本多　太郎",4,"大分県"]
["R010168011","本田　陸",4,"大分県"]
["R010056102","本間　塁",4,"大分県"]
["R007757958","前　稔文",4,"大分県"]
["R010314830","前園　健晴",4,"大分県"]
["R010189283","前園　陽人",4,"大分県"]
["R010159171","前田　耕輔",4,"大分県"]
["R010167793","前田　峻希",4,"大分県"]
["R006220192","前田　貴浩",4,"大分県"]
["R010162991","前田　把槻",4,"大分県"]
["R010240574","前田　優希",4,"大分県"]
["R010264736","前田　悠希",4,"大分県"]
["R010243663","前橋　咲太",4,"大分県"]
["R010248031","牧　青空",4,"大分県"]
["R010303906","牧　渉太",4,"大分県"]
["R010093496","牧　大佑",4,"大分県"]
["R008793276","牧野　翔",4,"大分県"]
["R010287218","眞崎　一成",4,"大分県"]
["R010163011","増田　海斗",4,"大分県"]
["R010314832","桝田　憲人",4,"大分県"]
["R010128067","桝田　弘人",4,"大分県"]
["R010262614","増田　真聡",4,"大分県"]
["R010320699","桝永　真斗",4,"大分県"]
["R010214601","増野　凌雅",4,"大分県"]
["R010303852","増村　潮",4,"大分県"]
["R004386111","松井　孝仁",4,"大分県"]
["R010218308","松尾　一生",4,"大分県"]
["R009546949","松尾　一平",4,"大分県"]
["R009546930","松尾　歩輝",4,"大分県"]
["R007753660","松尾　和文",4,"大分県"]
["R005528097","松尾　国洋",4,"大分県"]
["R007334951","松尾　賢一",4,"大分県"]
["R010262634","松尾　琢磨",4,"大分県"]
["R010262615","松尾　陽向太",4,"大分県"]
["R010007816","松尾　勇",4,"大分県"]
["R010303854","松尾　勇斗",4,"大分県"]
["R010078990","松尾　莉子",4,"大分県"]
["R010038296","松尾　蓮",4,"大分県"]
["R010083874","松川　虎太郎",4,"大分県"]
["R010281876","松川　貴大",4,"大分県"]
["R010351363","松木　明翔",4,"大分県"]
["R010314812","松下　衣舞希",4,"大分県"]
["R007959723","松下　立夫",4,"大分県"]
["R009546806","松下　稜河",4,"大分県"]
["R010240539","松下　蓮矢",4,"大分県"]
["R010156525","松田　昂大",4,"大分県"]
["R010141838","松田　拓己",4,"大分県"]
["R010303897","松田　尚之",4,"大分県"]
["R010311808","松田　信行",4,"大分県"]
["R010100662","松田　幸雄",4,"大分県"]
["R010298854","松田　良太",4,"大分県"]
["R010214585","松胴　敦",4,"大分県"]
["R010261481","松永　一輝",4,"大分県"]
["R009369474","松永　龍弥",4,"大分県"]
["R009502644","松永　大輝",4,"大分県"]
["R010128074","松永　涼輝",4,"大分県"]
["R007002991","松原　広幸",4,"大分県"]
["R004714970","松原　政司",4,"大分県"]
["R010347359","松原　唯衣",4,"大分県"]
["R010007830","松村　征治",4,"大分県"]
["R010354652","松村　晟直",4,"大分県"]
["R010281857","松本　明広",4,"大分県"]
["R009533486","松本　圭太",4,"大分県"]
["R010027881","松本　元希",4,"大分県"]
["R010214475","松本　ひなの",4,"大分県"]
["R010248579","松本　洋一",4,"大分県"]
["R010071978","松本　聖輝",4,"大分県"]
["R010350224","松本　芽依",4,"大分県"]
["R008634520","松元　勇",4,"大分県"]
["R010093445","松本　侑樹",4,"大分県"]
["R004793940","松本　祐輔",4,"大分県"]
["R010167778","松本　龍亮",4,"大分県"]
["R010298870","松山　奨吾",4,"大分県"]
["R010093476","松山　隼士",4,"大分県"]
["R010007817","松吉　宏剛",4,"大分県"]
["R010334506","馬見塚　心",4,"大分県"]
["R010350241","馬見塚　永遠",4,"大分県"]
["R010313757","馬見塚　守",4,"大分県"]
["R010263771","丸石　蒼太",4,"大分県"]
["R010163006","丸山　幸晟",4,"大分県"]
["R005603583","三浦　和美",4,"大分県"]
["R008634283","三浦　憲太郎",4,"大分県"]
["R010281804","三浦　建人",4,"大分県"]
["R010120131","三浦　哲郎",4,"大分県"]
["R010169041","三浦　温人",4,"大分県"]
["R010262656","三浦　優人",4,"大分県"]
["R006932437","三浦　雄大",4,"大分県"]
["R010189327","三重野　敬斗",4,"大分県"]
["R010259422","三重野　幸樹",4,"大分県"]
["R010162999","三重野　秀人",4,"大分県"]
["R010351385","三重野　颯太",4,"大分県"]
["R006125772","三重野　英人",4,"大分県"]
["R010161734","三重野　好智",4,"大分県"]
["R010178905","三木　空",4,"大分県"]
["R008523181","三木　慎博",4,"大分県"]
["R010073983","三木　誉歩斗",4,"大分県"]
["R010240577","三木　雄斗",4,"大分県"]
["R010350235","三砂　帆月",4,"大分県"]
["R010044665","三島　智也",4,"大分県"]
["R010255190","三島　大空",4,"大分県"]
["R005987582","三代　義彦",4,"大分県"]
["R010262642","水澤　楓陽",4,"大分県"]
["R004060374","水島　義規",4,"大分県"]
["R010083858","水島　澪生",4,"大分県"]
["R010156519","水取　幹太",4,"大分県"]
["R010303885","水本　翔悠春",4,"大分県"]
["R010214618","水本　大登",4,"大分県"]
["R008797892","溝口　一陽",4,"大分県"]
["R010162993","溝口　飛和",4,"大分県"]
["R010281810","御手洗　一男",4,"大分県"]
["R010255189","御手洗　響友",4,"大分県"]
["R004794073","御手洗　佑太",4,"大分県"]
["R010214591","三橋　諒",4,"大分県"]
["R010264739","三ツ股　郁海",4,"大分県"]
["R002917494","三笘　晋也",4,"大分県"]
["R001261060","三苫　靖",4,"大分県"]
["R010350225","南　佳織",4,"大分県"]
["R010128056","南　豪哉",4,"大分県"]
["R010248586","南　周哉",4,"大分県"]
["R010352957","南　岳嗣",4,"大分県"]
["R006574011","南　裕",4,"大分県"]
["R008634371","南　椋斗",4,"大分県"]
["R010298860","嶺　翔貴",4,"大分県"]
["R010214563","峰尾　勝",4,"大分県"]
["R008480947","峯本　仁貴",4,"大分県"]
["R010214545","三原　浩司",4,"大分県"]
["R003677432","三原　将弥",4,"大分県"]
["R010159137","宮内　廉斗",4,"大分県"]
["R010306451","宮川　大志",4,"大分県"]
["R010071975","宮崎　太陽",4,"大分県"]
["R010352991","宮崎　大輔",4,"大分県"]
["R004793852","宮崎　友雅",4,"大分県"]
["R010027911","宮田　侑揮",4,"大分県"]
["R010261593","宮成　啓介",4,"大分県"]
["R010351384","宮野　拓也",4,"大分県"]
["R007003060","宮原　雄一",4,"大分県"]
["R010261610","宮部　俊輝",4,"大分県"]
["R010352966","宮本　健介",4,"大分県"]
["R010262630","宮本　航志郎",4,"大分県"]
["R010287213","宮本　昂汰",4,"大分県"]
["R010141821","宮本　倖平",4,"大分県"]
["R010354797","宮本　陽紀",4,"大分県"]
["R010243668","宮本　幸亜",4,"大分県"]
["R010007801","三好　斗真",4,"大分県"]
["R010347376","三善　李空",4,"大分県"]
["R010314817","向井　翔夢",4,"大分県"]
["R010162995","向山　明希",4,"大分県"]
["R010240541","鞭馬　大輝",4,"大分県"]
["R010247786","宗岡　胡桃",4,"大分県"]
["R004793755","宗岡　亮次",4,"大分県"]
["R010354655","村岡　拓海",4,"大分県"]
["R010162980","村上　一颯",4,"大分県"]
["R010214582","村上　叶恋",4,"大分県"]
["R010314806","村上　煌誠",4,"大分県"]
["R010313763","村上　瑳彩",4,"大分県"]
["R010347370","村上　紫叶",4,"大分県"]
["R010314805","村上　太惺",4,"大分県"]
["R009484986","村上　直士",4,"大分県"]
["R010159753","村上　菜月",4,"大分県"]
["R001261237","村上　康哉",4,"大分県"]
["R010027901","村上　裕祐",4,"大分県"]
["R010128051","村上　悠晟",4,"大分県"]
["R001737174","村上　洋平",4,"大分県"]
["R001252211","村瀬　勇",4,"大分県"]
["R010303878","村松　凌",4,"大分県"]
["R010162976","村本　輝",4,"大分県"]
["R008797908","村谷　祐一",4,"大分県"]
["R010214562","村山　武志",4,"大分県"]
["R010314810","用松　聖登",4,"大分県"]
["R010189285","元井　達貴",4,"大分県"]
["R010159162","元井　陽太",4,"大分県"]
["R010303903","元兼　海地",4,"大分県"]
["R010306448","元木　勇太",4,"大分県"]
["R010193718","本永　一成",4,"大分県"]
["R010351357","元永　和真",4,"大分県"]
["R003421684","本野　秀貴",4,"大分県"]
["R010303904","本山　蓮",4,"大分県"]
["R010243647","森　愛斗",4,"大分県"]
["R010255181","森　海翔",4,"大分県"]
["R010214605","森　恭子",4,"大分県"]
["R010354653","森　桜大朗",4,"大分県"]
["R010120183","森　春樹",4,"大分県"]
["R009547045","森　勇斗",4,"大分県"]
["R010214606","森　凛人",4,"大分県"]
["R010027876","森　隆嗣",4,"大分県"]
["R010281811","森崎　敬三",4,"大分県"]
["R010113566","森﨑　龍之介",4,"大分県"]
["R010214631","森崎　瑠菜",4,"大分県"]
["R010261595","森迫　遥希",4,"大分県"]
["R010159147","森迫　聖",4,"大分県"]
["R010069888","森下　晴悟",4,"大分県"]
["R010128061","森下　悠",4,"大分県"]
["R009533574","森下　令士",4,"大分県"]
["R009547081","森田　章吾",4,"大分県"]
["R010167802","森田　廉也",4,"大分県"]
["R010259432","森永　和彦",4,"大分県"]
["R006221191","森本　拓",4,"大分県"]
["R007753679","森本　響",4,"大分県"]
["R010350233","森山　久美",4,"大分県"]
["R008797722","森山　敏之",4,"大分県"]
["R010171061","矢方　優大",4,"大分県"]
["R010354803","薬師寺　和波",4,"大分県"]
["R010352985","薬師寺　章伊",4,"大分県"]
["R010262653","薬師寺　凌矢",4,"大分県"]
["R010189271","薬師寺　月海",4,"大分県"]
["R009554735","八坂　直輝",4,"大分県"]
["R009460472","八坂　秀青",4,"大分県"]
["R010016104","八坂　龍之介",4,"大分県"]
["R010162983","屋敷　優成",4,"大分県"]
["R008523419","安坂　将",4,"大分県"]
["R007757602","保田　拓海",4,"大分県"]
["R010214593","安田　晴翔",4,"大分県"]
["R001261413","安永　正宏",4,"大分県"]
["R010093501","安波　俊英",4,"大分県"]
["R010214590","安波　大和",4,"大分県"]
["R010281842","安野　利来",4,"大分県"]
["R010100689","保本　忠広",4,"大分県"]
["R010100685","矢頭　蓮",4,"大分県"]
["R010314816","矢田　彩都",4,"大分県"]
["R010350227","矢田　景子",4,"大分県"]
["R010016094","矢田　理宇心",4,"大分県"]
["R010027880","柳井　颯太",4,"大分県"]
["R010255185","矢永　壱星",4,"大分県"]
["R010303889","柳　侑吾",4,"大分県"]
["R010156516","矢野　翔太郎",4,"大分県"]
["R010159148","矢野　創士",4,"大分県"]
["R009369544","矢野　太一",4,"大分県"]
["R010281882","矢野　巽也",4,"大分県"]
["R010255171","矢野　十央南",4,"大分県"]
["R010078599","矢野　祐樹",4,"大分県"]
["R010047302","矢野　佑粋",4,"大分県"]
["R010281830","矢野　譲",4,"大分県"]
["R010347365","矢羽田　翔音",4,"大分県"]
["R010352990","矢部　泰史",4,"大分県"]
["R010201141","山内　雄斗",4,"大分県"]
["R010159134","山岡　航大",4,"大分県"]
["R010167777","山岡　立奨",4,"大分県"]
["R010303905","山木　亜門",4,"大分県"]
["R004385820","山北　治雄",4,"大分県"]
["R010354810","山岸　琥生",4,"大分県"]
["R010214476","山岸　琉佳",4,"大分県"]
["R010100675","山口　彰",4,"大分県"]
["R010306445","山口　健一郎",4,"大分県"]
["R010240537","山口　晃平",4,"大分県"]
["R009198265","山口　卓己",4,"大分県"]
["R010247789","山口　環",4,"大分県"]
["R001965722","山口　大介",4,"大分県"]
["R010169051","山口　氷河",4,"大分県"]
["R010093489","山口　優輝",4,"大分県"]
["R010093483","山口　雄真",4,"大分県"]
["R010193708","山崎　銀次郎",4,"大分県"]
["R010303867","山崎　健治",4,"大分県"]
["R010214603","山崎　隼樹",4,"大分県"]
["R008174338","山﨑　爽暉",4,"大分県"]
["R006220873","山崎　武志",4,"大分県"]
["R010027826","山崎　友樹",4,"大分県"]
["R010248590","山崎　大和",4,"大分県"]
["R008615844","山下　航史",4,"大分県"]
["R010248576","山下　瞬亮",4,"大分県"]
["R007090792","山下　寛明",4,"大分県"]
["R010169050","山下　蓮",4,"大分県"]
["R006093747","山添　康之",4,"大分県"]
["R010100681","山田　清文",4,"大分県"]
["R010167742","山田　俊輔",4,"大分県"]
["R010214542","山田　宏和",4,"大分県"]
["R010178916","山地　哲太",4,"大分県"]
["R010214599","山西　蒼",4,"大分県"]
["R010303876","山西　翼",4,"大分県"]
["R006872311","山西　昇",4,"大分県"]
["R006220101","山根　雄治",4,"大分県"]
["R010189328","山野　聡士",4,"大分県"]
["R010189350","山野　雄士",4,"大分県"]
["R010243662","山本　海",4,"大分県"]
["R006872612","山本　一夫",4,"大分県"]
["R006125639","山本　一広",4,"大分県"]
["R005603228","山本　康平",4,"大分県"]
["R010303888","山本　祥二",4,"大分県"]
["R008626886","山本　真乃介",4,"大分県"]
["R010189317","山本　純平",4,"大分県"]
["R010281871","山本　青",4,"大分県"]
["R010313746","山本　崇史",4,"大分県"]
["R009533608","山本　達之介",4,"大分県"]
["R010169047","山本　政之介",4,"大分県"]
["R010240547","山本　雅也",4,"大分県"]
["R010169048","山本　祐人",4,"大分県"]
["R010262631","山本　祐翔",4,"大分県"]
["R010007812","山本　吉純",4,"大分県"]
["R010214619","山矢　修冬",4,"大分県"]
["R010281864","鎗光　瑠波",4,"大分県"]
["R007728497","矢幡　莞紀",4,"大分県"]
["R010077260","矢幡　芽生",4,"大分県"]
["R005164312","矢幡　裕一",4,"大分県"]
["R010169045","湯浅　翼",4,"大分県"]
["R010347364","湯浅　悠希",4,"大分県"]
["R006872339","湯浅　陽介",4,"大分県"]
["R008634247","幸　淳彦",4,"大分県"]
["R010167806","幸　歩睦",4,"大分県"]
["R010214589","幸　偉風",4,"大分県"]
["R010171067","幸　皇太",4,"大分県"]
["R010156526","幸　優成",4,"大分県"]
["R010214620","雪野　知花",4,"大分県"]
["R010352958","油野　陣大",4,"大分県"]
["R010261479","柚木　貴博",4,"大分県"]
["R010047306","弓場　将輝",4,"大分県"]
["R010298872","横井　俊斗",4,"大分県"]
["R010354800","横岩　颯",4,"大分県"]
["R010083854","横江　徹昇",4,"大分県"]
["R010214553","横尾　茂",4,"大分県"]
["R010354817","横尾　夏希",4,"大分県"]
["R010262633","横田　翔也",4,"大分県"]
["R010313769","横野　リクト",4,"大分県"]
["R010261614","横山　翔祗",4,"大分県"]
["R010120138","横山　直樹",4,"大分県"]
["R004794204","吉岡　祐一",4,"大分県"]
["R001261811","吉川　和仁",4,"大分県"]
["R010281855","吉川　哲平",4,"大分県"]
["R010352978","吉川　徳彦",4,"大分県"]
["R010352988","吉川　大貴",4,"大分県"]
["R009430268","吉川　美里",4,"大分県"]
["R010214588","吉川　獅子心",4,"大分県"]
["R010354791","由川　凛大郞",4,"大分県"]
["R010099457","吉賀　洸貴",4,"大分県"]
["R010214580","吉賀　信幸",4,"大分県"]
["R010352949","吉武　海都",4,"大分県"]
["R003421480","吉武　毅",4,"大分県"]
["R010193724","吉田　旭輝",4,"大分県"]
["R010056093","吉田　圭佑",4,"大分県"]
["R010255187","吉田　大晃",4,"大分県"]
["R008798509","吉田　正男",4,"大分県"]
["R010093454","吉田　廉",4,"大分県"]
["R009369711","吉永　信昭",4,"大分県"]
["R010281881","吉野　惇志",4,"大分県"]
["R005603875","吉野　公司",4,"大分県"]
["R010347374","吉野　浩輔",4,"大分県"]
["R010071979","吉野　遥紀",4,"大分県"]
["R010313768","吉野　遥菜",4,"大分県"]
["R008798466","吉原　喬樹",4,"大分県"]
["R010156524","吉弘　成秀",4,"大分県"]
["R010120134","吉廣　年男",4,"大分県"]
["R001261918","吉松　健",4,"大分県"]
["R006147057","吉村　一生",4,"大分県"]
["R007728716","吉村　純二",4,"大分県"]
["R010314819","吉村　翼",4,"大分県"]
["R010189303","吉村　一",4,"大分県"]
["R010264272","吉村　悠希",4,"大分県"]
["R001261936","佳元　省三",4,"大分県"]
["R010352954","吉本　隼磨",4,"大分県"]
["R010167789","吉元　優哉",4,"大分県"]
["R010248568","四井　吏響",4,"大分県"]
["R010314821","四井　琉偉",4,"大分県"]
["R009533644","米倉　孝一",4,"大分県"]
["R001261972","米田　尚司",4,"大分県"]
["R010313759","米田　拓",4,"大分県"]
["R010156523","米田　大起",4,"大分県"]
["R008798271","米田　寛",4,"大分県"]
["R010120171","鹿出　和希",4,"大分県"]
["R010120172","鹿出　洋祐",4,"大分県"]
["R010162992","若林　歩夢",4,"大分県"]
["R010281870","若林　大暉",4,"大分県"]
["R010159174","若林　亮秀",4,"大分県"]
["R010156510","若松　莉駒",4,"大分県"]
["R010007832","若宮　聡一郎",4,"大分県"]
["R010298862","渡邊　葵",4,"大分県"]
["R008797971","渡辺　晃子",4,"大分県"]
["R010314828","渡邉　偉央",4,"大分県"]
["R010262616","渡邊　一星",4,"大分県"]
["R009554896","渡辺　海斗",4,"大分県"]
["R010313778","渡邉　我聞",4,"大分県"]
["R010262658","渡邉　敬太",4,"大分県"]
["R010243636","渡辺　嵩也",4,"大分県"]
["R010259425","渡邊　舜",4,"大分県"]
["R010093440","渡辺　慎一郎",4,"大分県"]
["R004385945","渡辺　清一",4,"大分県"]
["R010262617","渡辺　創己",4,"大分県"]
["R010159130","渡邉　泰人",4,"大分県"]
["R010113537","渡邉　鷹也",4,"大分県"]
["R010255163","渡辺　剛大",4,"大分県"]
["R010007796","渡辺　達也",4,"大分県"]
["R010069899","渡邉　大千",4,"大分県"]
["R010083873","渡辺　大翔",4,"大分県"]
["R009369650","渡邊　直於",4,"大分県"]
["R010259433","渡邉　直耶",4,"大分県"]
["R008797698","渡辺　秀喜",4,"大分県"]
["R010083870","渡邊　響",4,"大分県"]
["R001262096","渡辺　寛幸",4,"大分県"]
["R010189289","渡邉　優憲",4,"大分県"]
["R009659544","渡邉　友輔",4,"大分県"]
["R010351371","和田　啓太",4,"大分県"]
["R010306435","和田　優作",4,"大分県"]
["R010243637","和間　翔",4,"大分県"]